Workbook

Sheet DATAS SOURCE
A1: date | B1: type | C1: X | D1: Y | E1: Z | F1: P
A2: 01-janv | B2: poire_FR_FTtrain_7D_AC | C2: 161 | D2: 41 | E2: =VLOOKUP(B2,'DATAS EXTERNES'!A1:F73,INDEX(A$2,'DATAS EXTERNES'!C1:F73,1,3),4) -> #REF! | F2: =IFERROR(VLOOKUP(B2,'DATAS EXTERNES'!D1:G73,4,FALSE),0) -> 0
A3: 01-janv | B3: poire_FR_FTtrain_7D_ANV | C3: 98 | D3: 16 | E3: =VLOOKUP(B3,'DATAS EXTERNES'!A2:F74,INDEX(A$2,'DATAS EXTERNES'!C2:F74,1,3),4) -> #REF! | F3: =IFERROR(VLOOKUP(B3,'DATAS EXTERNES'!D2:G74,4,FALSE),0) -> 0
A4: 01-janv | B4: poire_FR_FTtrain_7D+_AC | C4: 113 | D4: 17 | E4: =VLOOKUP(B4,'DATAS EXTERNES'!A3:F75,INDEX(A$2,'DATAS EXTERNES'!C3:F75,1,3),4) -> #REF! | F4: =IFERROR(VLOOKUP(B4,'DATAS EXTERNES'!D3:G75,4,FALSE),0) -> 0
A5: 01-janv | B5: poire_FR_train_30D | C5: 123 | D5: 11 | E5: =VLOOKUP(B5,'DATAS EXTERNES'!A4:F76,INDEX(A$2,'DATAS EXTERNES'!C4:F76,1,3),4) -> #REF! | F5: =IFERROR(VLOOKUP(B5,'DATAS EXTERNES'!D4:G76,4,FALSE),0) -> 0
A6: 01-janv | B6: poire_FR_train_30D+ | C6: 134 | D6: 19 | E6: =VLOOKUP(B6,'DATAS EXTERNES'!A5:F77,INDEX(A$2,'DATAS EXTERNES'!C5:F77,1,3),4) -> #REF! | F6: =IFERROR(VLOOKUP(B6,'DATAS EXTERNES'!D5:G77,4,FALSE),0) -> 0
A7: 01-janv | B7: pomme_FR_FTtrain_7D_AC | C7: 131 | D7: 27 | E7: =VLOOKUP(B7,'DATAS EXTERNES'!A6:F78,INDEX(A$2,'DATAS EXTERNES'!C6:F78,1,3),4) -> #REF! | F7: =IFERROR(VLOOKUP(B7,'DATAS EXTERNES'!D6:G78,4,FALSE),0) -> 0
A8: 01-janv | B8: pomme_FR_FTtrain_7D_ANV | C8: 100 | D8: 17 | E8: =VLOOKUP(B8,'DATAS EXTERNES'!A7:F79,INDEX(A$2,'DATAS EXTERNES'!C7:F79,1,3),4) -> #REF! | F8: =IFERROR(VLOOKUP(B8,'DATAS EXTERNES'!D7:G79,4,FALSE),0) -> 0
A9: 01-janv | B9: pomme_FR_FTtrain_7D+_AC | C9: 105 | D9: 13 | E9: =VLOOKUP(B9,'DATAS EXTERNES'!A8:F80,INDEX(A$2,'DATAS EXTERNES'!C8:F80,1,3),4) -> #REF! | F9: =IFERROR(VLOOKUP(B9,'DATAS EXTERNES'!D8:G80,4,FALSE),0) -> 0
A10: 01-janv | B10: pomme_FR_FTtrain_7D+_AC(copy) | C10: 106 | D10: 19 | E10: =VLOOKUP(B10,'DATAS EXTERNES'!A9:F81,INDEX(A$2,'DATAS EXTERNES'!C9:F81,1,3),4) -> #REF! | F10: =IFERROR(VLOOKUP(B10,'DATAS EXTERNES'!D9:G81,4,FALSE),0) -> 0
A11: 01-janv | B11: pomme_FR_train_30D+ | C11: 116 | D11: 14 | E11: =VLOOKUP(B11,'DATAS EXTERNES'!A10:F82,INDEX(A$2,'DATAS EXTERNES'!C10:F82,1,3),4) -> #REF! | F11: =IFERROR(VLOOKUP(B11,'DATAS EXTERNES'!D10:G82,4,FALSE),0) -> 0
A12: 02-janv | B12: poire_FR_FTtrain_7D_AC | C12: 124 | D12: 31 | E12: =VLOOKUP(B12,'DATAS EXTERNES'!A11:F83,INDEX(A$2,'DATAS EXTERNES'!C11:F83,1,3),4) -> #REF! | F12: =IFERROR(VLOOKUP(B12,'DATAS EXTERNES'!D11:G83,4,FALSE),0) -> 0
A13: 02-janv | B13: poire_FR_FTtrain_7D_ANV | C13: 138 | D13: 28 | E13: =VLOOKUP(B13,'DATAS EXTERNES'!A12:F84,INDEX(A$2,'DATAS EXTERNES'!C12:F84,1,3),4) -> #REF! | F13: =IFERROR(VLOOKUP(B13,'DATAS EXTERNES'!D12:G84,4,FALSE),0) -> 0
... A41: 05-janv | B41: pomme_FR_FTtrain_7D_AC | C41: 136 | D41: 50 | E41: =VLOOKUP(B41,'DATAS EXTERNES'!A40:F112,INDEX(A$2,'DATAS EXTERNES'!C40:F112,1,3),4) -> #REF! | F41: =IFERROR(VLOOKUP(B41,'DATAS EXTERNES'!D40:G112,4,FALSE),0) -> 0
A42: 05-janv | B42: pomme_FR_FTtrain_7D_ANV | C42: 104 | E42: =VLOOKUP(B42,'DATAS EXTERNES'!A41:F113,INDEX(A$2,'DATAS EXTERNES'!C41:F113,1,3),4) -> #REF! | F42: =IFERROR(VLOOKUP(B42,'DATAS EXTERNES'!D41:G113,4,FALSE),0) -> 0
A43: 05-janv | B43: pomme_FR_FTtrain_7D+_AC | C43: 74 | D43: 2 | E43: =VLOOKUP(B43,'DATAS EXTERNES'!A42:F114,INDEX(A$2,'DATAS EXTERNES'!C42:F114,1,3),4) -> #REF! | F43: =IFERROR(VLOOKUP(B43,'DATAS EXTERNES'!D42:G114,4,FALSE),0) -> 0
A44: 05-janv | B44: pomme_FR_train_30D+ | C44: 105 | E44: =VLOOKUP(B44,'DATAS EXTERNES'!A43:F115,INDEX(A$2,'DATAS EXTERNES'!C43:F115,1,3),4) -> #REF! | F44: =IFERROR(VLOOKUP(B44,'DATAS EXTERNES'!D43:G115,4,FALSE),0) -> 0
A45: 06-janv | B45: poire_FR_FTtrain_7D_AC | C45: 103 | D45: 3 | E45: =VLOOKUP(B45,'DATAS EXTERNES'!A44:F116,INDEX(A$2,'DATAS EXTERNES'!C44:F116,1,3),4) -> #REF! | F45: =IFERROR(VLOOKUP(B45,'DATAS EXTERNES'!D44:G116,4,FALSE),0) -> 0

Sheet DATAS EXTERNES
A1: Timestamp | B1: DATE | C1: DATE DEF | D1: TYPE | E1: Z | F1: P
A2: 2019-01-01T00:00:00.000Z | B2: =LEFT(A2,LEN(A2)-14) -> 2019-01-01 | C2: 43466 | D2: pomme_FR_train_30D+_(Obsolete) | E2: 0 | F2: 0
A3: 2019-01-01T00:00:00.000Z | B3: =LEFT(A3,LEN(A3)-14) -> 2019-01-01 | C3: 43466 | D3: poire_FR_train_30D+(obsolete) | E3: 0 | F3: 0
A4: 2019-01-01T00:00:00.000Z | B4: =LEFT(A4,LEN(A4)-14) -> 2019-01-01 | C4: 43466 | D4: poire_FR_train_30D+_(Obsolete) | E4: 0 | F4: 0
A5: 2019-01-01T00:00:00.000Z | B5: =LEFT(A5,LEN(A5)-14) -> 2019-01-01 | C5: 43466 | D5: pomme_FR_FTtrain_7D_AC | E5: 21802 | F5: 6
A6: 2019-01-01T00:00:00.000Z | B6: =LEFT(A6,LEN(A6)-14) -> 2019-01-01 | C6: 43466 | D6: pomme_FR_train_30D+ | E6: 24877 | F6: 273
A7: 2019-01-01T00:00:00.000Z | B7: =LEFT(A7,LEN(A7)-14) -> 2019-01-01 | C7: 2019-01-01 | D7: pomme_FR_FTtrain_7D_ANV | E7: 68186
A8: 2019-01-01T00:00:00.000Z | B8: =LEFT(A8,LEN(A8)-14) -> 2019-01-01 | C8: 2019-01-01 | D8: pomme_FR_FTtrain_7D+_AC | E8: 26476 | F8: 265
A9: 2019-01-01T00:00:00.000Z | B9: =LEFT(A9,LEN(A9)-14) -> 2019-01-01 | C9: 2019-01-01 | D9: poire_FR_FTtrain_7D_AC | E9: 1002 | F9: 6
A10: 2019-01-01T00:00:00.000Z | B10: =LEFT(A10,LEN(A10)-14) -> 2019-01-01 | C10: 2019-01-01 | D10: poire_FR_train_30D+ | E10: 22684 | F10: 2
A11: 2019-01-01T00:00:00.000Z | B11: =LEFT(A11,LEN(A11)-14) -> 2019-01-01 | C11: 2019-01-01 | D11: poire_FR_FTtrain_7D_ANV | E11: 68605 | F11: 603
A12: 2019-01-01T00:00:00.000Z | B12: =LEFT(A12,LEN(A12)-14) -> 2019-01-01 | C12: 2019-01-01 | D12: poire_FR_FTtrain_7D+_AC | E12: 7122
A13: 2019-01-02T00:00:00.000Z | B13: =LEFT(A13,LEN(A13)-14) -> 2019-01-02 | C13: 2019-01-02 | D13: pomme_FR_train_30D+_(Obsolete) | E13: 0 | F13: 0
A14: 2019-01-02T00:00:00.000Z | B14: =LEFT(A14,LEN(A14)-14) -> 2019-01-02 | C14: 2019-01-02 | D14: poire_FR_train_30D+(obsolete) | E14: 0 | F14: 0
A15: 2019-01-02T00:00:00.000Z | B15: =LEFT(A15,LEN(A15)-14) -> 2019-01-02 | C15: 2019-01-02 | D15: poire_FR_train_30D+_(Obsolete) | E15: 0 | F15: 0
A16: 2019-01-02T00:00:00.000Z | B16: =LEFT(A16,LEN(A16)-14) -> 2019-01-02 | C16: 2019-01-02 | D16: pomme_FR_FTtrain_7D_AC | E16: 22286 | F16: 22
A17: 2019-01-02T00:00:00.000Z | B17: =LEFT(A17,LEN(A17)-14) -> 2019-01-02 | C17: 2019-01-02 | D17: pomme_FR_train_30D+ | E17: 62464 | F17: 302
A18: 2019-01-02T00:00:00.000Z | B18: =LEFT(A18,LEN(A18)-14) -> 2019-01-02 | C18: 2019-01-02 | D18: pomme_FR_FTtrain_7D_ANV | E18: 44110 | F18: 85
A19: 2019-01-02T00:00:00.000Z | B19: =LEFT(A19,LEN(A19)-14) -> 2019-01-02 | C19: 2019-01-02 | D19: pomme_FR_FTtrain_7D+_AC | E19: 22617 | F19: 238
A20: 2019-01-02T00:00:00.000Z | B20: =LEFT(A20,LEN(A20)-14) -> 2019-01-02 | C20: 2019-01-02 | D20: poire_FR_FTtrain_7D_AC | E20: 1706
A21: 2019-01-02T00:00:00.000Z | B21: =LEFT(A21,LEN(A21)-14) -> 2019-01-02 | C21: 2019-01-02 | D21: poire_FR_train_30D+ | E21: 24827 | F21: 5
A22: 2019-01-02T00:00:00.000Z | B22: =LEFT(A22,LEN(A22)-14) -> 2019-01-02 | C22: 2019-01-02 | D22: poire_FR_FTtrain_7D_ANV | E22: 46516 | F22: 560
A23: 2019-01-02T00:00:00.000Z | B23: =LEFT(A23,LEN(A23)-14) -> 2019-01-02 | C23: 2019-01-02 | D23: poire_FR_FTtrain_7D+_AC | E23: 20567 | F23: 7
A24: 2019-01-03T00:00:00.000Z | B24: =LEFT(A24,LEN(A24)-14) -> 2019-01-03 | C24: 2019-01-03 | D24: pomme_FR_train_30D+_(Obsolete) | E24: 0 | F24: 0
A25: 2019-01-03T00:00:00.000Z | B25: =LEFT(A25,LEN(A25)-14) -> 2019-01-03 | C25: 2019-01-03 | D25: poire_FR_train_30D+(obsolete) | E25: 0 | F25: 0
A26: 2019-01-03T00:00:00.000Z | B26: =LEFT(A26,LEN(A26)-14) -> 2019-01-03 | C26: 2019-01-03 | D26: poire_FR_FTtrain_7D_ANV(obsolete) | E26: 0 | F26: 0
A27: 2019-01-03T00:00:00.000Z | B27: =LEFT(A27,LEN(A27)-14) -> 2019-01-03 | C27: 2019-01-03 | D27: poire_FR_train_30D+_(Obsolete) | E27: 0 | F27: 0
A28: 2019-01-03T00:00:00.000Z | B28: =LEFT(A28,LEN(A28)-14) -> 2019-01-03 | C28: 2019-01-03 | D28: poire_FR_FTtrain_7D+_AC_(Obsolete) | E28: 0 | F28: 0
A29: 2019-01-03T00:00:00.000Z | B29: =LEFT(A29,LEN(A29)-14) -> 2019-01-03 | C29: 2019-01-03 | D29: pomme_FR_FTtrain_7D_AC | E29: 21685 | F29: 200
A30: 2019-01-03T00:00:00.000Z | B30: =LEFT(A30,LEN(A30)-14) -> 2019-01-03 | C30: 2019-01-03 | D30: pomme_FR_train_30D+ | E30: 27861 | F30: 27
A31: 2019-01-03T00:00:00.000Z | B31: =LEFT(A31,LEN(A31)-14) -> 2019-01-03 | C31: 2019-01-03 | D31: pomme_FR_FTtrain_7D_ANV | E31: 42625 | F31: 23
A32: 2019-01-03T00:00:00.000Z | B32: =LEFT(A32,LEN(A32)-14) -> 2019-01-03 | C32: 2019-01-03 | D32: pomme_FR_FTtrain_7D+_AC | E32: 20651 | F32: 258
A33: 2019-01-03T00:00:00.000Z | B33: =LEFT(A33,LEN(A33)-14) -> 2019-01-03 | C33: 2019-01-03 | D33: poire_FR_FTtrain_7D_AC | E33: 1867
A34: 2019-01-03T00:00:00.000Z | B34: =LEFT(A34,LEN(A34)-14) -> 2019-01-03 | C34: 2019-01-03 | D34: poire_FR_train_30D+ | E34: 26685 | F34: 2
A35: 2019-01-03T00:00:00.000Z | B35: =LEFT(A35,LEN(A35)-14) -> 2019-01-03 | C35: 2019-01-03 | D35: poire_FR_FTtrain_7D_ANV | E35: 44662 | F35: 64
A36: 2019-01-03T00:00:00.000Z | B36: =LEFT(A36,LEN(A36)-14) -> 2019-01-03 | C36: 2019-01-03 | D36: poire_FR_FTtrain_7D+_AC | E36: 1288 | F36: 47
A37: 2019-01-04T00:00:00.000Z | B37: =LEFT(A37,LEN(A37)-14) -> 2019-01-04 | C37: 2019-01-04 | D37: pomme_FR_train_30D+_(Obsolete) | E37: 0 | F37: 0
A38: 2019-01-04T00:00:00.000Z | B38: =LEFT(A38,LEN(A38)-14) -> 2019-01-04 | C38: 2019-01-04 | D38: poire_FR_train_30D+(obsolete) | E38: 0 | F38: 0
A39: 2019-01-04T00:00:00.000Z | B39: =LEFT(A39,LEN(A39)-14) -> 2019-01-04 | C39: 2019-01-04 | D39: poire_FR_train_30D+_(Obsolete) | E39: 0 | F39: 0
A40: 2019-01-04T00:00:00.000Z | B40: =LEFT(A40,LEN(A40)-14) -> 2019-01-04 | C40: 2019-01-04 | D40: pomme_FR_FTtrain_7D_AC | E40: 27424 | F40: 5
A41: 2019-01-04T00:00:00.000Z | B41: =LEFT(A41,LEN(A41)-14) -> 2019-01-04 | C41: 2019-01-04 | D41: pomme_FR_train_30D+ | E41: 22678 | F41: 286
A42: 2019-01-04T00:00:00.000Z | B42: =LEFT(A42,LEN(A42)-14) -> 2019-01-04 | C42: 2019-01-04 | D42: pomme_FR_FTtrain_7D_ANV | E42: 66685 | F42: 62
A43: 2019-01-04T00:00:00.000Z | B43: =LEFT(A43,LEN(A43)-14) -> 2019-01-04 | C43: 2019-01-04 | D43: pomme_FR_FTtrain_7D+_AC | E43: 21861 | F43: 253
A44: 2019-01-04T00:00:00.000Z | B44: =LEFT(A44,LEN(A44)-14) -> 2019-01-04 | C44: 2019-01-04 | D44: poire_FR_FTtrain_7D_AC | E44: 8254 | F44: 4
A45: 2019-01-04T00:00:00.000Z | B45: =LEFT(A45,LEN(A45)-14) -> 2019-01-04 | C45: 2019-01-04 | D45: poire_FR_train_30D+ | E45: 22224 | F45: 200
... A73: 2019-01-06T00:00:00.000Z | B73: =LEFT(A73,LEN(A73)-14) -> 2019-01-06 | C73: 2019-01-06 | D73: poire_FR_FTtrain_7D+_AC | E73: 8645 | F73: 67
