Workbook

Sheet datas internes
A1: Date | B1: Network | C1: Campaign | D1: event 1 | E1: event 2 | F1: event 3
A2: 43527 | B2: twitter | C2: ExpiredAttributions
A3: 43527 | B3: facebook | C3: ExpiredAttributions
A4: 43527 | B4: facebook | C4: CP_acquisition_Android_Nice_2018_promosNovembre
A5: 43527 | B5: facebook | C5: CP_acquisition_Android_Nice_2018_promosJanvier
A6: 43527 | B6: facebook | C6: CP_acquisition_Android_Nice_2018_promosJanvier
A7: 43527 | B7: facebook | C7: acquisition_Android_Nice_2019 | D7: 1 | E7: 1 | F7: 2
A8: 43527 | B8: facebook | C8: acquisition_Android_Nice_2019 | D8: 3 | E8: 3 | F8: 4
A9: 43527 | B9: facebook | C9: acquisition_Android_Nice_2019 | D9: 1 | E9: 1 | F9: 2
A10: 43527 | B10: facebook | C10: acquisition_Android_Nice_2019 | D10: 1 | E10: 1 | F10: 2
A11: 43527 | B11: facebook | C11: acquisition_Android_Nice_2019
A12: 43527 | B12: facebook | C12: acquisition_Android_Nice_2019 | D12: 3 | E12: 2 | F12: 4
A13: 43527 | B13: facebook | C13: acquisition_Android_Bordeaux_2019 | D13: 1 | E13: 1 | F13: 2
A14: 43527 | B14: instagram | C14: ExpiredAttributions
A15: 43527 | B15: instagram | C15: acquisition_Android_Bordeaux_2019 | D15: 1 | E15: 1 | F15: 2
A16: 43527 | B16: instagram | C16: acquisition_Android_Bordeaux_2019 | D16: 1 | E16: 1 | F16: 2
A17: 43527 | B17: twitter | C17: ExpiredAttributions
A18: 43527 | B18: instagram | C18: ExpiredAttributions
A19: 43527 | B19: instagram | C19: acquisition_IOS_Nice_2019
A20: 43527 | B20: instagram | C20: acquisition_IOS_Nice_2019
A21: 43527 | B21: instagram | C21: CP_acquisition_IOS_Nice_2018_promosDINERetMINISTRE
A22: 43527 | B22: instagram | C22: CP_acquisition_IOS_Nice_2018_promosNovembre
A23: 43527 | B23: instagram | C23: CP_acquisition_IOS_Nice_2018_promosNovembre
A24: 43527 | B24: facebook | C24: ExpiredAttributions | F24: 1
A25: 43527 | B25: facebook | C25: acquisition_IOS_Bordeaux_2019 | D25: 4 | E25: 4 | F25: 4
A26: 43527 | B26: facebook | C26: CP_AcquisitionPush_PartenariatBurgerKing/CP_IOS
A27: 43527 | B27: facebook | C27: acquisition_IOS_Nice_2019 | D27: 2 | E27: 2 | F27: 2
A28: 43527 | B28: facebook | C28: CP_acquisition_IOS_Nice_2018_promosNovembre
A29: 43527 | B29: facebook | C29: CP_Reengagement_Dec2018_IOS
A30: 43527 | B30: facebook | C30: CP_acquisition_IOS_Nice_2018_promosJanvier
A31: 43527 | B31: facebook | C31: ExpiredAttributions
A32: 43527 | B32: snapchat | C32: App_Installs_METRO | E32: 1 | F32: 1
A33: 43527 | B33: snapchat | C33: App_Installs_METRO
A34: 43526 | B34: twitter | C34: ExpiredAttributions
A35: 43526 | B35: facebook | C35: ExpiredAttributions
A36: 43526 | B36: facebook | C36: CP_acquisition_Android_Nice_2018_promosNovembre
A37: 43526 | B37: facebook | C37: CP_Reengagement_Dec2018_Android_V2
A38: 43526 | B38: facebook | C38: CP_acquisition_Android_Nice_2018_promosJanvier
A39: 43526 | B39: facebook | C39: CP_acquisition_Android_Nice_2018_promosJanvier
A40: 43526 | B40: facebook | C40: acquisition_Android_Nice_2019
A41: 43526 | B41: facebook | C41: acquisition_Android_Nice_2019 | D41: 2 | E41: 1 | F41: 2
A42: 43526 | B42: facebook | C42: acquisition_Android_Nice_2019 | D42: 1
A43: 43526 | B43: facebook | C43: CP_Reengagement_Dec2018_Android
A44: 43526 | B44: instagram | C44: ExpiredAttributions
A45: 43526 | B45: instagram | C45: acquisition_Android_Nice_2019
A46: 43526 | B46: twitter | C46: ExpiredAttributions
A47: 43526 | B47: instagram | C47: ExpiredAttributions | E47: 1 | F47: 1
A48: 43526 | B48: instagram | C48: acquisition_IOS_Nice_2019 | D48: 1 | E48: 1 | F48: 1
A49: 43526 | B49: instagram | C49: CP_acquisition_IOS_Nice_2018_promosDINERetMINISTRE
A50: 43526 | B50: instagram | C50: CP_acquisition_IOS_Nice_2018_promosNovembre
A51: 43526 | B51: instagram | C51: CP_acquisition_IOS_Nice_2018_promosNovembre
A52: 43526 | B52: facebook | C52: ExpiredAttributions | E52: 1 | F52: 1
A53: 43526 | B53: facebook | C53: acquisition_IOS_Bordeaux_2019 | D53: 1
A54: 43526 | B54: facebook | C54: CP_AcquisitionPush_PartenariatBurgerKing/CP_IOS
A55: 43526 | B55: facebook | C55: acquisition_IOS_Nice_2019 | D55: 3 | E55: 3 | F55: 3
A56: 43526 | B56: facebook | C56: acquisition_IOS_Nice_2019 | D56: 1 | E56: 1 | F56: 1
A57: 43526 | B57: facebook | C57: acquisition_IOS_Nice_2019 | D57: 1 | E57: 1 | F57: 1
A58: 43526 | B58: facebook | C58: acquisition_IOS_Nice_2019 | D58: 2 | E58: 2 | F58: 2
A59: 43526 | B59: facebook | C59: CP_acquisition_IOS_Nice_2018_promosNovembre
A60: 43526 | B60: facebook | C60: CP_acquisition_IOS_Nice_2018_promosNovembre
A61: 43526 | B61: facebook | C61: CP_Reengagement_Dec2018_IOS
A62: 43526 | B62: facebook | C62: CP_acquisition_IOS_Nice_2018_promosJanvier
A63: 43526 | B63: snapchat | C63: App_Installs_METRO | E63: 4 | F63: 3

Sheet datas externes
A1: Jour | B1: date | C1: Nomdelacampagne | D1: Plateforme | E1: PAP | F1: CL | G1: Event 1 | H1: Event 2 | I1: Event 3
A2: 2019-03-03 | B2: =DATE(YEAR(LEFT(A2,LEN(A2))),MONTH(LEFT(A2,LEN(A2))),DAY(LEFT(A2,LEN(A2)))) -> 43527 | C2: acquisition_Android_Nice_2019 | D2: messenger | E2: 1713 | F2: 5 | G2: =SUMIFS('datas internes'!D:D,'datas internes'!$A:$A,'datas externes'!$B2,'datas internes'!$C:$C,'datas externes'!$C2,'datas internes'!$B:$B,'datas externes'!$D2) -> 0 | H2: =SUMIFS('datas internes'!E:E,'datas internes'!$A:$A,'datas externes'!$B2,'datas internes'!$C:$C,'datas externes'!$C2,'datas internes'!$B:$B,'datas externes'!$D2) -> 0 | I2: =SUMIFS('datas internes'!F:F,'datas internes'!$A:$A,'datas externes'!$B2,'datas internes'!$C:$C,'datas externes'!$C2,'datas internes'!$B:$B,'datas externes'!$D2) -> 0
A3: 2019-03-03 | B3: =DATE(YEAR(LEFT(A3,LEN(A3))),MONTH(LEFT(A3,LEN(A3))),DAY(LEFT(A3,LEN(A3)))) -> 43527 | C3: acquisition_IOS_Bordeaux_2019 | D3: facebook | E3: 3662 | F3: 19 | G3: =SUMIFS('datas internes'!D:D,'datas internes'!$A:$A,'datas externes'!$B3,'datas internes'!$C:$C,'datas externes'!$C3,'datas internes'!$B:$B,'datas externes'!$D3) -> 4 | H3: =SUMIFS('datas internes'!E:E,'datas internes'!$A:$A,'datas externes'!$B3,'datas internes'!$C:$C,'datas externes'!$C3,'datas internes'!$B:$B,'datas externes'!$D3) -> 4 | I3: =SUMIFS('datas internes'!F:F,'datas internes'!$A:$A,'datas externes'!$B3,'datas internes'!$C:$C,'datas externes'!$C3,'datas internes'!$B:$B,'datas externes'!$D3) -> 4
A4: 2019-03-03 | B4: =DATE(YEAR(LEFT(A4,LEN(A4))),MONTH(LEFT(A4,LEN(A4))),DAY(LEFT(A4,LEN(A4)))) -> 43527 | C4: acquisition_Android_Nice_2019 | D4: facebook | E4: 5195 | F4: 39 | G4: =SUMIFS('datas internes'!D:D,'datas internes'!$A:$A,'datas externes'!$B4,'datas internes'!$C:$C,'datas externes'!$C4,'datas internes'!$B:$B,'datas externes'!$D4) -> 9 | H4: =SUMIFS('datas internes'!E:E,'datas internes'!$A:$A,'datas externes'!$B4,'datas internes'!$C:$C,'datas externes'!$C4,'datas internes'!$B:$B,'datas externes'!$D4) -> 8 | I4: =SUMIFS('datas internes'!F:F,'datas internes'!$A:$A,'datas externes'!$B4,'datas internes'!$C:$C,'datas externes'!$C4,'datas internes'!$B:$B,'datas externes'!$D4) -> 14
A5: 2019-03-03 | B5: =DATE(YEAR(LEFT(A5,LEN(A5))),MONTH(LEFT(A5,LEN(A5))),DAY(LEFT(A5,LEN(A5)))) -> 43527 | C5: acquisition_Android_Nice_2019 | D5: instagram | E5: 1001 | F5: 3 | G5: =SUMIFS('datas internes'!D:D,'datas internes'!$A:$A,'datas externes'!$B5,'datas internes'!$C:$C,'datas externes'!$C5,'datas internes'!$B:$B,'datas externes'!$D5) -> 0 | H5: =SUMIFS('datas internes'!E:E,'datas internes'!$A:$A,'datas externes'!$B5,'datas internes'!$C:$C,'datas externes'!$C5,'datas internes'!$B:$B,'datas externes'!$D5) -> 0 | I5: =SUMIFS('datas internes'!F:F,'datas internes'!$A:$A,'datas externes'!$B5,'datas internes'!$C:$C,'datas externes'!$C5,'datas internes'!$B:$B,'datas externes'!$D5) -> 0
A6: 2019-03-03 | B6: =DATE(YEAR(LEFT(A6,LEN(A6))),MONTH(LEFT(A6,LEN(A6))),DAY(LEFT(A6,LEN(A6)))) -> 43527 | C6: acquisition_Android_Bordeaux_2019 | D6: instagram | E6: 1142 | F6: 1 | G6: =SUMIFS('datas internes'!D:D,'datas internes'!$A:$A,'datas externes'!$B6,'datas internes'!$C:$C,'datas externes'!$C6,'datas internes'!$B:$B,'datas externes'!$D6) -> 2 | H6: =SUMIFS('datas internes'!E:E,'datas internes'!$A:$A,'datas externes'!$B6,'datas internes'!$C:$C,'datas externes'!$C6,'datas internes'!$B:$B,'datas externes'!$D6) -> 2 | I6: =SUMIFS('datas internes'!F:F,'datas internes'!$A:$A,'datas externes'!$B6,'datas internes'!$C:$C,'datas externes'!$C6,'datas internes'!$B:$B,'datas externes'!$D6) -> 4
A7: 2019-03-03 | B7: =DATE(YEAR(LEFT(A7,LEN(A7))),MONTH(LEFT(A7,LEN(A7))),DAY(LEFT(A7,LEN(A7)))) -> 43527 | C7: acquisition_Android_Bordeaux_2019 | D7: facebook | E7: 2664 | F7: 14 | G7: =SUMIFS('datas internes'!D:D,'datas internes'!$A:$A,'datas externes'!$B7,'datas internes'!$C:$C,'datas externes'!$C7,'datas internes'!$B:$B,'datas externes'!$D7) -> 1 | H7: =SUMIFS('datas internes'!E:E,'datas internes'!$A:$A,'datas externes'!$B7,'datas internes'!$C:$C,'datas externes'!$C7,'datas internes'!$B:$B,'datas externes'!$D7) -> 1 | I7: =SUMIFS('datas internes'!F:F,'datas internes'!$A:$A,'datas externes'!$B7,'datas internes'!$C:$C,'datas externes'!$C7,'datas internes'!$B:$B,'datas externes'!$D7) -> 2
A8: 2019-03-03 | B8: =DATE(YEAR(LEFT(A8,LEN(A8))),MONTH(LEFT(A8,LEN(A8))),DAY(LEFT(A8,LEN(A8)))) -> 43527 | C8: acquisition_IOS_Bordeaux_2019 | D8: instagram | E8: 1116 | F8: 1 | G8: =SUMIFS('datas internes'!D:D,'datas internes'!$A:$A,'datas externes'!$B8,'datas internes'!$C:$C,'datas externes'!$C8,'datas internes'!$B:$B,'datas externes'!$D8) -> 0 | H8: =SUMIFS('datas internes'!E:E,'datas internes'!$A:$A,'datas externes'!$B8,'datas internes'!$C:$C,'datas externes'!$C8,'datas internes'!$B:$B,'datas externes'!$D8) -> 0 | I8: =SUMIFS('datas internes'!F:F,'datas internes'!$A:$A,'datas externes'!$B8,'datas internes'!$C:$C,'datas externes'!$C8,'datas internes'!$B:$B,'datas externes'!$D8) -> 0
A9: 2019-03-03 | B9: =DATE(YEAR(LEFT(A9,LEN(A9))),MONTH(LEFT(A9,LEN(A9))),DAY(LEFT(A9,LEN(A9)))) -> 43527 | C9: acquisition_IOS_Nice_2019 | D9: instagram | E9: 3444 | F9: 1 | G9: =SUMIFS('datas internes'!D:D,'datas internes'!$A:$A,'datas externes'!$B9,'datas internes'!$C:$C,'datas externes'!$C9,'datas internes'!$B:$B,'datas externes'!$D9) -> 0 | H9: =SUMIFS('datas internes'!E:E,'datas internes'!$A:$A,'datas externes'!$B9,'datas internes'!$C:$C,'datas externes'!$C9,'datas internes'!$B:$B,'datas externes'!$D9) -> 0 | I9: =SUMIFS('datas internes'!F:F,'datas internes'!$A:$A,'datas externes'!$B9,'datas internes'!$C:$C,'datas externes'!$C9,'datas internes'!$B:$B,'datas externes'!$D9) -> 0
A10: 2019-03-03 | B10: =DATE(YEAR(LEFT(A10,LEN(A10))),MONTH(LEFT(A10,LEN(A10))),DAY(LEFT(A10,LEN(A10)))) -> 43527 | C10: acquisition_IOS_Nice_2019 | D10: facebook | E10: 8279 | F10: 31 | G10: =SUMIFS('datas internes'!D:D,'datas internes'!$A:$A,'datas externes'!$B10,'datas internes'!$C:$C,'datas externes'!$C10,'datas internes'!$B:$B,'datas externes'!$D10) -> 2 | H10: =SUMIFS('datas internes'!E:E,'datas internes'!$A:$A,'datas externes'!$B10,'datas internes'!$C:$C,'datas externes'!$C10,'datas internes'!$B:$B,'datas externes'!$D10) -> 2 | I10: =SUMIFS('datas internes'!F:F,'datas internes'!$A:$A,'datas externes'!$B10,'datas internes'!$C:$C,'datas externes'!$C10,'datas internes'!$B:$B,'datas externes'!$D10) -> 2
A11: 2019-03-02 | B11: =DATE(YEAR(LEFT(A11,LEN(A11))),MONTH(LEFT(A11,LEN(A11))),DAY(LEFT(A11,LEN(A11)))) -> 43526 | C11: acquisition_Android_Bordeaux_2019 | D11: facebook | E11: 2088 | F11: 8 | G11: =SUMIFS('datas internes'!D:D,'datas internes'!$A:$A,'datas externes'!$B11,'datas internes'!$C:$C,'datas externes'!$C11,'datas internes'!$B:$B,'datas externes'!$D11) -> 0 | H11: =SUMIFS('datas internes'!E:E,'datas internes'!$A:$A,'datas externes'!$B11,'datas internes'!$C:$C,'datas externes'!$C11,'datas internes'!$B:$B,'datas externes'!$D11) -> 0 | I11: =SUMIFS('datas internes'!F:F,'datas internes'!$A:$A,'datas externes'!$B11,'datas internes'!$C:$C,'datas externes'!$C11,'datas internes'!$B:$B,'datas externes'!$D11) -> 0
A12: 2019-03-02 | B12: =DATE(YEAR(LEFT(A12,LEN(A12))),MONTH(LEFT(A12,LEN(A12))),DAY(LEFT(A12,LEN(A12)))) -> 43526 | C12: acquisition_Android_Bordeaux_2019 | D12: instagram | E12: 322 | G12: =SUMIFS('datas internes'!D:D,'datas internes'!$A:$A,'datas externes'!$B12,'datas internes'!$C:$C,'datas externes'!$C12,'datas internes'!$B:$B,'datas externes'!$D12) -> 0 | H12: =SUMIFS('datas internes'!E:E,'datas internes'!$A:$A,'datas externes'!$B12,'datas internes'!$C:$C,'datas externes'!$C12,'datas internes'!$B:$B,'datas externes'!$D12) -> 0 | I12: =SUMIFS('datas internes'!F:F,'datas internes'!$A:$A,'datas externes'!$B12,'datas internes'!$C:$C,'datas externes'!$C12,'datas internes'!$B:$B,'datas externes'!$D12) -> 0
A13: 2019-03-02 | B13: =DATE(YEAR(LEFT(A13,LEN(A13))),MONTH(LEFT(A13,LEN(A13))),DAY(LEFT(A13,LEN(A13)))) -> 43526 | C13: acquisition_IOS_Bordeaux_2019 | D13: instagram | E13: 395 | F13: 1 | G13: =SUMIFS('datas internes'!D:D,'datas internes'!$A:$A,'datas externes'!$B13,'datas internes'!$C:$C,'datas externes'!$C13,'datas internes'!$B:$B,'datas externes'!$D13) -> 0 | H13: =SUMIFS('datas internes'!E:E,'datas internes'!$A:$A,'datas externes'!$B13,'datas internes'!$C:$C,'datas externes'!$C13,'datas internes'!$B:$B,'datas externes'!$D13) -> 0 | I13: =SUMIFS('datas internes'!F:F,'datas internes'!$A:$A,'datas externes'!$B13,'datas internes'!$C:$C,'datas externes'!$C13,'datas internes'!$B:$B,'datas externes'!$D13) -> 0
A14: 2019-03-02 | B14: =DATE(YEAR(LEFT(A14,LEN(A14))),MONTH(LEFT(A14,LEN(A14))),DAY(LEFT(A14,LEN(A14)))) -> 43526 | C14: acquisition_IOS_Bordeaux_2019 | D14: facebook | E14: 2768 | F14: 11 | G14: =SUMIFS('datas internes'!D:D,'datas internes'!$A:$A,'datas externes'!$B14,'datas internes'!$C:$C,'datas externes'!$C14,'datas internes'!$B:$B,'datas externes'!$D14) -> 1 | H14: =SUMIFS('datas internes'!E:E,'datas internes'!$A:$A,'datas externes'!$B14,'datas internes'!$C:$C,'datas externes'!$C14,'datas internes'!$B:$B,'datas externes'!$D14) -> 0 | I14: =SUMIFS('datas internes'!F:F,'datas internes'!$A:$A,'datas externes'!$B14,'datas internes'!$C:$C,'datas externes'!$C14,'datas internes'!$B:$B,'datas externes'!$D14) -> 0
A15: 2019-03-02 | B15: =DATE(YEAR(LEFT(A15,LEN(A15))),MONTH(LEFT(A15,LEN(A15))),DAY(LEFT(A15,LEN(A15)))) -> 43526 | C15: acquisition_IOS_Nice_2019 | D15: instagram | E15: 1028 | F15: 1 | G15: =SUMIFS('datas internes'!D:D,'datas internes'!$A:$A,'datas externes'!$B15,'datas internes'!$C:$C,'datas externes'!$C15,'datas internes'!$B:$B,'datas externes'!$D15) -> 1 | H15: =SUMIFS('datas internes'!E:E,'datas internes'!$A:$A,'datas externes'!$B15,'datas internes'!$C:$C,'datas externes'!$C15,'datas internes'!$B:$B,'datas externes'!$D15) -> 1 | I15: =SUMIFS('datas internes'!F:F,'datas internes'!$A:$A,'datas externes'!$B15,'datas internes'!$C:$C,'datas externes'!$C15,'datas internes'!$B:$B,'datas externes'!$D15) -> 1
A16: 2019-03-02 | B16: =DATE(YEAR(LEFT(A16,LEN(A16))),MONTH(LEFT(A16,LEN(A16))),DAY(LEFT(A16,LEN(A16)))) -> 43526 | C16: acquisition_IOS_Nice_2019 | D16: facebook | E16: 6902 | F16: 27 | G16: =SUMIFS('datas internes'!D:D,'datas internes'!$A:$A,'datas externes'!$B16,'datas internes'!$C:$C,'datas externes'!$C16,'datas internes'!$B:$B,'datas externes'!$D16) -> 7 | H16: =SUMIFS('datas internes'!E:E,'datas internes'!$A:$A,'datas externes'!$B16,'datas internes'!$C:$C,'datas externes'!$C16,'datas internes'!$B:$B,'datas externes'!$D16) -> 7 | I16: =SUMIFS('datas internes'!F:F,'datas internes'!$A:$A,'datas externes'!$B16,'datas internes'!$C:$C,'datas externes'!$C16,'datas internes'!$B:$B,'datas externes'!$D16) -> 7
A17: 2019-03-02 | B17: =DATE(YEAR(LEFT(A17,LEN(A17))),MONTH(LEFT(A17,LEN(A17))),DAY(LEFT(A17,LEN(A17)))) -> 43526 | C17: acquisition_Android_Nice_2019 | D17: instagram | E17: 266 | G17: =SUMIFS('datas internes'!D:D,'datas internes'!$A:$A,'datas externes'!$B17,'datas internes'!$C:$C,'datas externes'!$C17,'datas internes'!$B:$B,'datas externes'!$D17) -> 0 | H17: =SUMIFS('datas internes'!E:E,'datas internes'!$A:$A,'datas externes'!$B17,'datas internes'!$C:$C,'datas externes'!$C17,'datas internes'!$B:$B,'datas externes'!$D17) -> 0 | I17: =SUMIFS('datas internes'!F:F,'datas internes'!$A:$A,'datas externes'!$B17,'datas internes'!$C:$C,'datas externes'!$C17,'datas internes'!$B:$B,'datas externes'!$D17) -> 0
A18: 2019-03-02 | B18: =DATE(YEAR(LEFT(A18,LEN(A18))),MONTH(LEFT(A18,LEN(A18))),DAY(LEFT(A18,LEN(A18)))) -> 43526 | C18: acquisition_Android_Nice_2019 | D18: messenger | E18: 1842 | F18: 8 | G18: =SUMIFS('datas internes'!D:D,'datas internes'!$A:$A,'datas externes'!$B18,'datas internes'!$C:$C,'datas externes'!$C18,'datas internes'!$B:$B,'datas externes'!$D18) -> 0 | H18: =SUMIFS('datas internes'!E:E,'datas internes'!$A:$A,'datas externes'!$B18,'datas internes'!$C:$C,'datas externes'!$C18,'datas internes'!$B:$B,'datas externes'!$D18) -> 0 | I18: =SUMIFS('datas internes'!F:F,'datas internes'!$A:$A,'datas externes'!$B18,'datas internes'!$C:$C,'datas externes'!$C18,'datas internes'!$B:$B,'datas externes'!$D18) -> 0
A19: 2019-03-02 | B19: =DATE(YEAR(LEFT(A19,LEN(A19))),MONTH(LEFT(A19,LEN(A19))),DAY(LEFT(A19,LEN(A19)))) -> 43526 | C19: acquisition_Android_Nice_2019 | D19: facebook | E19: 3083 | F19: 25 | G19: =SUMIFS('datas internes'!D:D,'datas internes'!$A:$A,'datas externes'!$B19,'datas internes'!$C:$C,'datas externes'!$C19,'datas internes'!$B:$B,'datas externes'!$D19) -> 3 | H19: =SUMIFS('datas internes'!E:E,'datas internes'!$A:$A,'datas externes'!$B19,'datas internes'!$C:$C,'datas externes'!$C19,'datas internes'!$B:$B,'datas externes'!$D19) -> 1 | I19: =SUMIFS('datas internes'!F:F,'datas internes'!$A:$A,'datas externes'!$B19,'datas internes'!$C:$C,'datas externes'!$C19,'datas internes'!$B:$B,'datas externes'!$D19) -> 2
