Workbook
Name Articles: #REF!
Name Mouvement: #REF!

Sheet FEUIL1
A1: NECESSAIRE CLIENT - 4 | D1: 43466 | E1: 43467 | F1: 43468 | G1: 43469 | H1: 43470 | I1: 43471 | J1: 43472 | K1: 43473 | L1: 43474
A2: Materiel | B2: QUANTITE | C2: PHOTO
A3: 1 - Bornes de recharge USB | B3: 2 | D3: =$B3-(SUMPRODUCT((FEUIL2!$D$11:$D$229)*(FEUIL2!$B$11:$B$229=FEUIL1!$A3)*(FEUIL2!$A$11:$A$229<=FEUIL1!D$1)*(FEUIL2!$F$11:$F$229>=FEUIL1!D$1))) -> 2 | E3: =$B3-(SUMPRODUCT((FEUIL2!$D$11:$D$229)*(FEUIL2!$B$11:$B$229=FEUIL1!$A3)*(FEUIL2!$A$11:$A$229<=FEUIL1!E$1)*(FEUIL2!$F$11:$F$229>=FEUIL1!E$1))) -> 1 | F3: =$B3-(SUMPRODUCT((FEUIL2!$D$11:$D$229)*(FEUIL2!$B$11:$B$229=FEUIL1!$A3)*(FEUIL2!$A$11:$A$229<=FEUIL1!F$1)*(FEUIL2!$F$11:$F$229>=FEUIL1!F$1))) -> -2 | G3: =$B3-(SUMPRODUCT((FEUIL2!$D$11:$D$229)*(FEUIL2!$B$11:$B$229=FEUIL1!$A3)*(FEUIL2!$A$11:$A$229<=FEUIL1!G$1)*(FEUIL2!$F$11:$F$229>=FEUIL1!G$1))) -> -2 | H3: =$B3-(SUMPRODUCT((FEUIL2!$D$11:$D$229)*(FEUIL2!$B$11:$B$229=FEUIL1!$A3)*(FEUIL2!$A$11:$A$229<=FEUIL1!H$1)*(FEUIL2!$F$11:$F$229>=FEUIL1!H$1))) -> -1 | I3: =$B3-(SUMPRODUCT((FEUIL2!$D$11:$D$229)*(FEUIL2!$B$11:$B$229=FEUIL1!$A3)*(FEUIL2!$A$11:$A$229<=FEUIL1!I$1)*(FEUIL2!$F$11:$F$229>=FEUIL1!I$1))) -> 2 | J3: =$B3-(SUMPRODUCT((FEUIL2!$D$11:$D$229)*(FEUIL2!$B$11:$B$229=FEUIL1!$A3)*(FEUIL2!$A$11:$A$229<=FEUIL1!J$1)*(FEUIL2!$F$11:$F$229>=FEUIL1!J$1))) -> 2 | K3: =$B3-(SUMPRODUCT((FEUIL2!$D$11:$D$229)*(FEUIL2!$B$11:$B$229=FEUIL1!$A3)*(FEUIL2!$A$11:$A$229<=FEUIL1!K$1)*(FEUIL2!$F$11:$F$229>=FEUIL1!K$1))) -> 2 | L3: =$B3-(SUMPRODUCT((FEUIL2!$D$11:$D$229)*(FEUIL2!$B$11:$B$229=FEUIL1!$A3)*(FEUIL2!$A$11:$A$229<=FEUIL1!L$1)*(FEUIL2!$F$11:$F$229>=FEUIL1!L$1))) -> 2
A4: 1 - Imprimante | B4: 3 | D4: =$B4-(SUMPRODUCT((FEUIL2!$D$11:$D$229)*(FEUIL2!$B$11:$B$229=FEUIL1!$A4)*(FEUIL2!$A$11:$A$229<=FEUIL1!D$1)*(FEUIL2!$F$11:$F$229>=FEUIL1!D$1))) -> 3 | E4: =$B4-(SUMPRODUCT((FEUIL2!$D$11:$D$229)*(FEUIL2!$B$11:$B$229=FEUIL1!$A4)*(FEUIL2!$A$11:$A$229<=FEUIL1!E$1)*(FEUIL2!$F$11:$F$229>=FEUIL1!E$1))) -> 3 | F4: =$B4-(SUMPRODUCT((FEUIL2!$D$11:$D$229)*(FEUIL2!$B$11:$B$229=FEUIL1!$A4)*(FEUIL2!$A$11:$A$229<=FEUIL1!F$1)*(FEUIL2!$F$11:$F$229>=FEUIL1!F$1))) -> 3 | G4: =$B4-(SUMPRODUCT((FEUIL2!$D$11:$D$229)*(FEUIL2!$B$11:$B$229=FEUIL1!$A4)*(FEUIL2!$A$11:$A$229<=FEUIL1!G$1)*(FEUIL2!$F$11:$F$229>=FEUIL1!G$1))) -> 3 | H4: =$B4-(SUMPRODUCT((FEUIL2!$D$11:$D$229)*(FEUIL2!$B$11:$B$229=FEUIL1!$A4)*(FEUIL2!$A$11:$A$229<=FEUIL1!H$1)*(FEUIL2!$F$11:$F$229>=FEUIL1!H$1))) -> 3 | I4: =$B4-(SUMPRODUCT((FEUIL2!$D$11:$D$229)*(FEUIL2!$B$11:$B$229=FEUIL1!$A4)*(FEUIL2!$A$11:$A$229<=FEUIL1!I$1)*(FEUIL2!$F$11:$F$229>=FEUIL1!I$1))) -> 3 | J4: =$B4-(SUMPRODUCT((FEUIL2!$D$11:$D$229)*(FEUIL2!$B$11:$B$229=FEUIL1!$A4)*(FEUIL2!$A$11:$A$229<=FEUIL1!J$1)*(FEUIL2!$F$11:$F$229>=FEUIL1!J$1))) -> 3 | K4: =$B4-(SUMPRODUCT((FEUIL2!$D$11:$D$229)*(FEUIL2!$B$11:$B$229=FEUIL1!$A4)*(FEUIL2!$A$11:$A$229<=FEUIL1!K$1)*(FEUIL2!$F$11:$F$229>=FEUIL1!K$1))) -> 3 | L4: =$B4-(SUMPRODUCT((FEUIL2!$D$11:$D$229)*(FEUIL2!$B$11:$B$229=FEUIL1!$A4)*(FEUIL2!$A$11:$A$229<=FEUIL1!L$1)*(FEUIL2!$F$11:$F$229>=FEUIL1!L$1))) -> 3
A5: 1 - Ordinateur OPC 014 | B5: 1 | D5: =$B5-(SUMPRODUCT((FEUIL2!$D$11:$D$229)*(FEUIL2!$B$11:$B$229=FEUIL1!$A5)*(FEUIL2!$A$11:$A$229<=FEUIL1!D$1)*(FEUIL2!$F$11:$F$229>=FEUIL1!D$1))) -> 1 | E5: =$B5-(SUMPRODUCT((FEUIL2!$D$11:$D$229)*(FEUIL2!$B$11:$B$229=FEUIL1!$A5)*(FEUIL2!$A$11:$A$229<=FEUIL1!E$1)*(FEUIL2!$F$11:$F$229>=FEUIL1!E$1))) -> 1 | F5: =$B5-(SUMPRODUCT((FEUIL2!$D$11:$D$229)*(FEUIL2!$B$11:$B$229=FEUIL1!$A5)*(FEUIL2!$A$11:$A$229<=FEUIL1!F$1)*(FEUIL2!$F$11:$F$229>=FEUIL1!F$1))) -> 1 | G5: =$B5-(SUMPRODUCT((FEUIL2!$D$11:$D$229)*(FEUIL2!$B$11:$B$229=FEUIL1!$A5)*(FEUIL2!$A$11:$A$229<=FEUIL1!G$1)*(FEUIL2!$F$11:$F$229>=FEUIL1!G$1))) -> 1 | H5: =$B5-(SUMPRODUCT((FEUIL2!$D$11:$D$229)*(FEUIL2!$B$11:$B$229=FEUIL1!$A5)*(FEUIL2!$A$11:$A$229<=FEUIL1!H$1)*(FEUIL2!$F$11:$F$229>=FEUIL1!H$1))) -> 1 | I5: =$B5-(SUMPRODUCT((FEUIL2!$D$11:$D$229)*(FEUIL2!$B$11:$B$229=FEUIL1!$A5)*(FEUIL2!$A$11:$A$229<=FEUIL1!I$1)*(FEUIL2!$F$11:$F$229>=FEUIL1!I$1))) -> 1 | J5: =$B5-(SUMPRODUCT((FEUIL2!$D$11:$D$229)*(FEUIL2!$B$11:$B$229=FEUIL1!$A5)*(FEUIL2!$A$11:$A$229<=FEUIL1!J$1)*(FEUIL2!$F$11:$F$229>=FEUIL1!J$1))) -> 1 | K5: =$B5-(SUMPRODUCT((FEUIL2!$D$11:$D$229)*(FEUIL2!$B$11:$B$229=FEUIL1!$A5)*(FEUIL2!$A$11:$A$229<=FEUIL1!K$1)*(FEUIL2!$F$11:$F$229>=FEUIL1!K$1))) -> 1 | L5: =$B5-(SUMPRODUCT((FEUIL2!$D$11:$D$229)*(FEUIL2!$B$11:$B$229=FEUIL1!$A5)*(FEUIL2!$A$11:$A$229<=FEUIL1!L$1)*(FEUIL2!$F$11:$F$229>=FEUIL1!L$1))) -> 1

Sheet FEUIL2
B1: INFORMATIQUE | C1: SECTION "1"
B2: NECESSAIRE EMPLOYES | C2: SECTION "2"
B3: DECORATION | C3: SECTION "3"
B4: NECESSAIRE CLIENT | C4: SECTION "4"
A10: DATE DE SORTIE FORMAT AAAA/MM/JJ | B10: ARTICLES | C10: MOUVEMENTS | D10: QUANTITE | E10: SOLDE | F10: DATE RETOUR FORMAT AAAA/MM/JJ | G10: EVENEMENT
A11: 43467 | B11: 1 - Bornes de recharge USB | C11: =IF(Tableau5[[#This Row],[ARTICLES]]<>"","SORTIE","") -> SORTIE | D11: 1 | F11: 43469 | G11: TEST | I11: Dans le cas ou vous avez plusieurs articles à entrer dans le tableau, pour copier la date: CTRL + clique sur la case de date et faire glisser vers le bas.
A12: 43468 | B12: 1 - Bornes de recharge USB | C12: =IF(Tableau5[[#This Row],[ARTICLES]]<>"","SORTIE","") -> SORTIE | D12: 3 | F12: 43470
C13: =IF(Tableau5[[#This Row],[ARTICLES]]<>"","SORTIE","") | D13: 0
C14: =IF(Tableau5[[#This Row],[ARTICLES]]<>"","SORTIE","") | D14: 0
C15: =IF(Tableau5[[#This Row],[ARTICLES]]<>"","SORTIE","") | D15: 0
C16: =IF(Tableau5[[#This Row],[ARTICLES]]<>"","SORTIE","") | D16: 0
C17: =IF(Tableau5[[#This Row],[ARTICLES]]<>"","SORTIE","") | D17: 0
C18: =IF(Tableau5[[#This Row],[ARTICLES]]<>"","SORTIE","") | D18: 0
C19: =IF(Tableau5[[#This Row],[ARTICLES]]<>"","SORTIE","") | D19: 0
C20: =IF(Tableau5[[#This Row],[ARTICLES]]<>"","SORTIE","") | D20: 0
C21: =IF(Tableau5[[#This Row],[ARTICLES]]<>"","SORTIE","") | D21: 0
C22: =IF(Tableau5[[#This Row],[ARTICLES]]<>"","SORTIE","") | D22: 0
C23: =IF(Tableau5[[#This Row],[ARTICLES]]<>"","SORTIE","") | D23: 0 | E23: =IFERROR(VLOOKUP(Tableau5[ARTICLES],#REF!,2)-SUMIFS(D$11:D229,B$11:B229,Tableau5[ARTICLES],C$11:C229,"Sortie")+SUMIFS(D$11:D214,B$11:B214,Tableau5[ARTICLES],C$11:C214,"Retour"),"")
A24: =IF(Tableau5[[#This Row],[MOUVEMENTS]]="Sortie",#REF!,IF(Tableau5[[#This Row],[MOUVEMENTS]]="Retour",#REF!,"")) | C24: =IF(Tableau5[[#This Row],[ARTICLES]]<>"","SORTIE","") | D24: 0 | E24: =IFERROR(VLOOKUP(Tableau5[ARTICLES],#REF!,2)-SUMIFS(D$11:D24,B$11:B24,Tableau5[ARTICLES],C$11:C24,"Sortie")+SUMIFS(D$11:D215,B$11:B215,Tableau5[ARTICLES],C$11:C215,"Retour"),"")
A25: =IF(Tableau5[[#This Row],[MOUVEMENTS]]="Sortie",#REF!,IF(Tableau5[[#This Row],[MOUVEMENTS]]="Retour",#REF!,"")) | C25: =IF(Tableau5[[#This Row],[ARTICLES]]<>"","SORTIE","") | D25: 0 | E25: =IFERROR(VLOOKUP(Tableau5[ARTICLES],#REF!,2)-SUMIFS(D$11:D25,B$11:B25,Tableau5[ARTICLES],C$11:C25,"Sortie")+SUMIFS(D$11:D216,B$11:B216,Tableau5[ARTICLES],C$11:C216,"Retour"),"")
A26: =IF(Tableau5[[#This Row],[MOUVEMENTS]]="Sortie",#REF!,IF(Tableau5[[#This Row],[MOUVEMENTS]]="Retour",#REF!,"")) | C26: =IF(Tableau5[[#This Row],[ARTICLES]]<>"","SORTIE","") | D26: 0 | E26: =IFERROR(VLOOKUP(Tableau5[ARTICLES],#REF!,2)-SUMIFS(D$11:D26,B$11:B26,Tableau5[ARTICLES],C$11:C26,"Sortie")+SUMIFS(D$11:D217,B$11:B217,Tableau5[ARTICLES],C$11:C217,"Retour"),"")
A27: =IF(Tableau5[[#This Row],[MOUVEMENTS]]="Sortie",#REF!,IF(Tableau5[[#This Row],[MOUVEMENTS]]="Retour",#REF!,"")) | C27: =IF(Tableau5[[#This Row],[ARTICLES]]<>"","SORTIE","") | D27: 0 | E27: =IFERROR(VLOOKUP(Tableau5[ARTICLES],#REF!,2)-SUMIFS(D$11:D27,B$11:B27,Tableau5[ARTICLES],C$11:C27,"Sortie")+SUMIFS(D$11:D218,B$11:B218,Tableau5[ARTICLES],C$11:C218,"Retour"),"")
A28: =IF(Tableau5[[#This Row],[MOUVEMENTS]]="Sortie",#REF!,IF(Tableau5[[#This Row],[MOUVEMENTS]]="Retour",#REF!,"")) | C28: =IF(Tableau5[[#This Row],[ARTICLES]]<>"","SORTIE","") | D28: 0 | E28: =IFERROR(VLOOKUP(Tableau5[ARTICLES],#REF!,2)-SUMIFS(D$11:D28,B$11:B28,Tableau5[ARTICLES],C$11:C28,"Sortie")+SUMIFS(D$11:D219,B$11:B219,Tableau5[ARTICLES],C$11:C219,"Retour"),"")
A29: =IF(Tableau5[[#This Row],[MOUVEMENTS]]="Sortie",#REF!,IF(Tableau5[[#This Row],[MOUVEMENTS]]="Retour",#REF!,"")) | C29: =IF(Tableau5[[#This Row],[ARTICLES]]<>"","SORTIE","") | D29: 0 | E29: =IFERROR(VLOOKUP(Tableau5[ARTICLES],#REF!,2)-SUMIFS(D$11:D29,B$11:B29,Tableau5[ARTICLES],C$11:C29,"Sortie")+SUMIFS(D$11:D220,B$11:B220,Tableau5[ARTICLES],C$11:C220,"Retour"),"")
A30: =IF(Tableau5[[#This Row],[MOUVEMENTS]]="Sortie",#REF!,IF(Tableau5[[#This Row],[MOUVEMENTS]]="Retour",#REF!,"")) | C30: =IF(Tableau5[[#This Row],[ARTICLES]]<>"","SORTIE","") | D30: 0 | E30: =IFERROR(VLOOKUP(Tableau5[ARTICLES],#REF!,2)-SUMIFS(D$11:D30,B$11:B30,Tableau5[ARTICLES],C$11:C30,"Sortie")+SUMIFS(D$11:D221,B$11:B221,Tableau5[ARTICLES],C$11:C221,"Retour"),"")
A31: =IF(Tableau5[[#This Row],[MOUVEMENTS]]="Sortie",#REF!,IF(Tableau5[[#This Row],[MOUVEMENTS]]="Retour",#REF!,"")) | C31: =IF(Tableau5[[#This Row],[ARTICLES]]<>"","SORTIE","") | D31: 0 | E31: =IFERROR(VLOOKUP(Tableau5[ARTICLES],#REF!,2)-SUMIFS(D$11:D31,B$11:B31,Tableau5[ARTICLES],C$11:C31,"Sortie")+SUMIFS(D$11:D222,B$11:B222,Tableau5[ARTICLES],C$11:C222,"Retour"),"")
A32: =IF(Tableau5[[#This Row],[MOUVEMENTS]]="Sortie",#REF!,IF(Tableau5[[#This Row],[MOUVEMENTS]]="Retour",#REF!,"")) | C32: =IF(Tableau5[[#This Row],[ARTICLES]]<>"","SORTIE","") | D32: 0 | E32: =IFERROR(VLOOKUP(Tableau5[ARTICLES],#REF!,2)-SUMIFS(D$11:D32,B$11:B32,Tableau5[ARTICLES],C$11:C32,"Sortie")+SUMIFS(D$11:D223,B$11:B223,Tableau5[ARTICLES],C$11:C223,"Retour"),"")
A33: =IF(Tableau5[[#This Row],[MOUVEMENTS]]="Sortie",#REF!,IF(Tableau5[[#This Row],[MOUVEMENTS]]="Retour",#REF!,"")) | C33: =IF(Tableau5[[#This Row],[ARTICLES]]<>"","SORTIE","") | D33: 0 | E33: =IFERROR(VLOOKUP(Tableau5[ARTICLES],#REF!,2)-SUMIFS(D$11:D33,B$11:B33,Tableau5[ARTICLES],C$11:C33,"Sortie")+SUMIFS(D$11:D224,B$11:B224,Tableau5[ARTICLES],C$11:C224,"Retour"),"")
A34: =IF(Tableau5[[#This Row],[MOUVEMENTS]]="Sortie",#REF!,IF(Tableau5[[#This Row],[MOUVEMENTS]]="Retour",#REF!,"")) | C34: =IF(Tableau5[[#This Row],[ARTICLES]]<>"","SORTIE","") | D34: 0 | E34: =IFERROR(VLOOKUP(Tableau5[ARTICLES],#REF!,2)-SUMIFS(D$11:D34,B$11:B34,Tableau5[ARTICLES],C$11:C34,"Sortie")+SUMIFS(D$11:D225,B$11:B225,Tableau5[ARTICLES],C$11:C225,"Retour"),"")
A35: =IF(Tableau5[[#This Row],[MOUVEMENTS]]="Sortie",#REF!,IF(Tableau5[[#This Row],[MOUVEMENTS]]="Retour",#REF!,"")) | C35: =IF(Tableau5[[#This Row],[ARTICLES]]<>"","SORTIE","") | D35: 0 | E35: =IFERROR(VLOOKUP(Tableau5[ARTICLES],#REF!,2)-SUMIFS(D$11:D35,B$11:B35,Tableau5[ARTICLES],C$11:C35,"Sortie")+SUMIFS(D$11:D226,B$11:B226,Tableau5[ARTICLES],C$11:C226,"Retour"),"")
... A41: =IF(Tableau5[[#This Row],[MOUVEMENTS]]="Sortie",#REF!,IF(Tableau5[[#This Row],[MOUVEMENTS]]="Retour",#REF!,"")) | C41: =IF(Tableau5[[#This Row],[ARTICLES]]<>"","SORTIE","") | D41: 0 | E41: =IFERROR(VLOOKUP(Tableau5[ARTICLES],#REF!,2)-SUMIFS(D$11:D41,B$11:B41,Tableau5[ARTICLES],C$11:C41,"Sortie")+SUMIFS(D$11:D232,B$11:B232,Tableau5[ARTICLES],C$11:C232,"Retour"),"")
A42: =IF(Tableau5[[#This Row],[MOUVEMENTS]]="Sortie",#REF!,IF(Tableau5[[#This Row],[MOUVEMENTS]]="Retour",#REF!,"")) | C42: =IF(Tableau5[[#This Row],[ARTICLES]]<>"","SORTIE","") | D42: 0 | E42: =IFERROR(VLOOKUP(Tableau5[ARTICLES],#REF!,2)-SUMIFS(D$11:D229,B$11:B229,Tableau5[ARTICLES],C$11:C229,"Sortie")+SUMIFS(D$11:D233,B$11:B233,Tableau5[ARTICLES],C$11:C233,"Retour"),"")
A43: =IF(Tableau5[[#This Row],[MOUVEMENTS]]="Sortie",#REF!,IF(Tableau5[[#This Row],[MOUVEMENTS]]="Retour",#REF!,"")) | C43: =IF(Tableau5[[#This Row],[ARTICLES]]<>"","SORTIE","") | D43: 0 | E43: =IFERROR(VLOOKUP(Tableau5[ARTICLES],#REF!,2)-SUMIFS(D$11:D43,B$11:B43,Tableau5[ARTICLES],C$11:C43,"Sortie")+SUMIFS(D$11:D234,B$11:B234,Tableau5[ARTICLES],C$11:C234,"Retour"),"")
A44: =IF(Tableau5[[#This Row],[MOUVEMENTS]]="Sortie",#REF!,IF(Tableau5[[#This Row],[MOUVEMENTS]]="Retour",#REF!,"")) | C44: =IF(Tableau5[[#This Row],[ARTICLES]]<>"","SORTIE","") | D44: 0 | E44: =IFERROR(VLOOKUP(Tableau5[ARTICLES],#REF!,2)-SUMIFS(D$11:D44,B$11:B44,Tableau5[ARTICLES],C$11:C44,"Sortie")+SUMIFS(D$11:D235,B$11:B235,Tableau5[ARTICLES],C$11:C235,"Retour"),"")
A45: =IF(Tableau5[[#This Row],[MOUVEMENTS]]="Sortie",#REF!,IF(Tableau5[[#This Row],[MOUVEMENTS]]="Retour",#REF!,"")) | C45: =IF(Tableau5[[#This Row],[ARTICLES]]<>"","SORTIE","") | D45: 0 | E45: =IFERROR(VLOOKUP(Tableau5[ARTICLES],#REF!,2)-SUMIFS(D$11:D45,B$11:B45,Tableau5[ARTICLES],C$11:C45,"Sortie")+SUMIFS(D$11:D236,B$11:B236,Tableau5[ARTICLES],C$11:C236,"Retour"),"")
A46: =IF(Tableau5[[#This Row],[MOUVEMENTS]]="Sortie",#REF!,IF(Tableau5[[#This Row],[MOUVEMENTS]]="Retour",#REF!,"")) | C46: =IF(Tableau5[[#This Row],[ARTICLES]]<>"","SORTIE","") | D46: 0 | E46: =IFERROR(VLOOKUP(Tableau5[ARTICLES],#REF!,2)-SUMIFS(D$11:D46,B$11:B46,Tableau5[ARTICLES],C$11:C46,"Sortie")+SUMIFS(D$11:D237,B$11:B237,Tableau5[ARTICLES],C$11:C237,"Retour"),"")
A47: =IF(Tableau5[[#This Row],[MOUVEMENTS]]="Sortie",#REF!,IF(Tableau5[[#This Row],[MOUVEMENTS]]="Retour",#REF!,"")) | C47: =IF(Tableau5[[#This Row],[ARTICLES]]<>"","SORTIE","") | D47: 0 | E47: =IFERROR(VLOOKUP(Tableau5[ARTICLES],#REF!,2)-SUMIFS(D$11:D47,B$11:B47,Tableau5[ARTICLES],C$11:C47,"Sortie")+SUMIFS(D$11:D238,B$11:B238,Tableau5[ARTICLES],C$11:C238,"Retour"),"")
A48: =IF(Tableau5[[#This Row],[MOUVEMENTS]]="Sortie",#REF!,IF(Tableau5[[#This Row],[MOUVEMENTS]]="Retour",#REF!,"")) | C48: =IF(Tableau5[[#This Row],[ARTICLES]]<>"","SORTIE","") | D48: 0 | E48: =IFERROR(VLOOKUP(Tableau5[ARTICLES],#REF!,2)-SUMIFS(D$11:D48,B$11:B48,Tableau5[ARTICLES],C$11:C48,"Sortie")+SUMIFS(D$11:D239,B$11:B239,Tableau5[ARTICLES],C$11:C239,"Retour"),"")
A49: =IF(Tableau5[[#This Row],[MOUVEMENTS]]="Sortie",#REF!,IF(Tableau5[[#This Row],[MOUVEMENTS]]="Retour",#REF!,"")) | C49: =IF(Tableau5[[#This Row],[ARTICLES]]<>"","SORTIE","") | D49: 0 | E49: =IFERROR(VLOOKUP(Tableau5[ARTICLES],#REF!,2)-SUMIFS(D$11:D49,B$11:B49,Tableau5[ARTICLES],C$11:C49,"Sortie")+SUMIFS(D$11:D240,B$11:B240,Tableau5[ARTICLES],C$11:C240,"Retour"),"")
A50: =IF(Tableau5[[#This Row],[MOUVEMENTS]]="Sortie",#REF!,IF(Tableau5[[#This Row],[MOUVEMENTS]]="Retour",#REF!,"")) | C50: =IF(Tableau5[[#This Row],[ARTICLES]]<>"","SORTIE","") | D50: 0 | E50: =IFERROR(VLOOKUP(Tableau5[ARTICLES],#REF!,2)-SUMIFS(D$11:D50,B$11:B50,Tableau5[ARTICLES],C$11:C50,"Sortie")+SUMIFS(D$11:D241,B$11:B241,Tableau5[ARTICLES],C$11:C241,"Retour"),"")
...
