Workbook
Name Articles: FEUIL1!$A$13:$A$73
Name Mouvement: #REF!

Sheet FEUIL1
A2: INFORMATIQUE - 1 | B2: CATEGORIES
A3: NECESSAIRE CHARGE PROJET - 2 | B3: Retour
A4: DECORATION - 3 | B4: Sortie
A5: DECORATION ART - 3 A
A6: DECORATION BOUGIE - BOUGEOIRE - 3 B
A7: DECORATION VASES - 3V
A9: NECESSAIRE CLIENT - 4 | D9: 43466 | E9: 43467 | F9: 43468 | G9: 43469 | H9: 43470 | I9: 43471 | J9: 43472 | K9: 43473 | L9: 43474 | M9: 43475 | N9: 43476 | O9: 43477 | P9: 43478 | Q9: 43479 | R9: 43480 | S9: 43481 | T9: 43482 | U9: 43483 | V9: 43484 | W9: 43485 | X9: 43486 | Y9: 43487 | Z9: 43488 | AA9: 43489 | AB9: 43490 | AC9: 43491 | AD9: 43492 | AE9: 43493 | AF9: 43494 | AG9: 43495 | AH9: 43496 | AI9: 43497 | AJ9: 43498 | AK9: 43499 | AL9: 43500 | AM9: 43501 | AN9: 43502 | AO9: 43503 | AP9: 43504 | AQ9: 43505 | AR9: 43506 | AS9: 43507 | AT9: 43508 | AU9: 43509 | AV9: 43510 | AW9: 43511 | AX9: 43512 | AY9: 43513 | AZ9: 43514 | BA9: 43515 | BB9: 43516 | BC9: 43517 | BD9: 43518 | BE9: 43519 | BF9: 43520 | BG9: 43521 | BH9: 43522 | BI9: 43523 | BJ9: 43524 | BK9: 43525 | BL9: 43526 | BM9: 43527 | BN9: 43528 | BO9: 43529 | BP9: 43530 | BQ9: 43531 | BR9: 43532 | BS9: 43533 | BT9: 43534 | BU9: 43535 | BV9: 43536 | BW9: 43537 | BX9: 43538 | BY9: 43539 | BZ9: 43540 | CA9: 43541 | CB9: 43542 | CC9: 43543 | CD9: 43544 | CE9: 43545 | CF9: 43546 | CG9: 43547 | CH9: 43548 | CI9: 43549 | CJ9: 43550 | CK9: 43551 | CL9: 43552 | CM9: 43553 | CN9: 43554 | CO9: 43555 | CP9: 43556 | CQ9: 43557 | CR9: 43558 | CS9: 43559 | CT9: 43560 | CU9: 43561 | CV9: 43562 | CW9: 43563 | CX9: 43564 | CY9: 43565 | CZ9: 43566 | DA9: 43567 | DB9: 43568 | DC9: 43569 | DD9: 43570 | DE9: 43571 | DF9: 43572 | DG9: 43573 | DH9: 43574 | DI9: 43575 | DJ9: 43576 | DK9: 43577 | DL9: 43578 | DM9: 43579 | DN9: 43580 | DO9: 43581 | DP9: 43582 | DQ9: 43583 | DR9: 43584 | DS9: 43585 | DT9: 43586 | DU9: 43587 | DV9: 43588 | DW9: 43589 | DX9: 43590 | DY9: 43591 | DZ9: 43592 | EA9: 43593 | EB9: 43594 | EC9: 43595 | ED9: 43596 | EE9: 43597 | EF9: 43598 | EG9: 43599 | EH9: 43600 | EI9: 43601 | EJ9: 43602 | EK9: 43603 | EL9: 43604 | EM9: 43605 | EN9: 43606 | EO9: 43607 | EP9: 43608 | EQ9: 43609 | ER9: 43610 | ES9: 43611 | ET9: 43612 | EU9: 43613 | EV9: 43614 | EW9: 43615 | EX9: 43616 | EY9: 43617 | EZ9: 43618 | FA9: 43619 | FB9: 43620 | FC9: 43621 | FD9: 43622 | FE9: 43623 | FF9: 43624 | FG9: 43625 | FH9: 43626 | FI9: 43627 | FJ9: 43628 | FK9: 43629 | FL9: 43630 | FM9: 43631 | FN9: 43632 | FO9: 43633 | FP9: 43634 | FQ9: 43635 | FR9: 43636 | FS9: 43637 | FT9: 43638 | FU9: 43639 | FV9: 43640 | FW9: 43641 | FX9: 43642 | FY9: 43643 | FZ9: 43644 | GA9: 43645 | GB9: 43646 | GC9: 43647 | GD9: 43648 | GE9: 43649 | GF9: 43650 | GG9: 43651 | GH9: 43652 | GI9: 43653 | GJ9: 43654 | GK9: 43655 | GL9: 43656 | GM9: 43657 | GN9: 43658 | GO9: 43659 | GP9: 43660 | GQ9: 43661 | GR9: 43662 | GS9: 43663 | GT9: 43664 | GU9: 43665 | GV9: 43666 | GW9: 43667 | GX9: 43668 | GY9: 43669 | GZ9: 43670 | HA9: 43671 | HB9: 43672 | HC9: 43673 | HD9: 43674 | HE9: 43675 | HF9: 43676 | HG9: 43677 | HH9: 43678 | HI9: 43679 | HJ9: 43680 | HK9: 43681 | HL9: 43682 | HM9: 43683 | HN9: 43684 | HO9: 43685 | HP9: 43686 | HQ9: 43687 | HR9: 43688 | HS9: 43689 | HT9: 43690 | HU9: 43691 | HV9: 43692 | HW9: 43693 | HX9: 43694 | HY9: 43695 | HZ9: 43696 | IA9: 43697 | IB9: 43698 | IC9: 43699 | ID9: 43700 | IE9: 43701 | IF9: 43702 | IG9: 43703 | IH9: 43704 | II9: 43705 | IJ9: 43706 | IK9: 43707 | IL9: 43708 | IM9: 43709 | IN9: 43710 | IO9: 43711 | IP9: 43712 | IQ9: 43713 | IR9: 43714 | IS9: 43715 | IT9: 43716 | IU9: 43717 | IV9: 43718 | IW9: 43719 | IX9: 43720 | IY9: 43721 | IZ9: 43722 | JA9: 43723 | JB9: 43724 | JC9: 43725 | JD9: 43726 | JE9: 43727 | JF9: 43728 | JG9: 43729 | JH9: 43730 | JI9: 43731 | JJ9: 43732 | JK9: 43733 | JL9: 43734 | JM9: 43735 | JN9: 43736 | JO9: 43737 | JP9: 43738 | JQ9: 43739 | JR9: 43740 | JS9: 43741 | JT9: 43742 | JU9: 43743 | JV9: 43744 | JW9: 43745 | JX9: 43746 | JY9: 43747 | JZ9: 43748 | KA9: 43749 | KB9: 43750 | KC9: 43751 | KD9: 43752 | KE9: 43753 | KF9: 43754 | KG9: 43755 | KH9: 43756 | KI9: 43757 | KJ9: 43758 | KK9: 43759 | KL9: 43760 | KM9: 43761 | KN9: 43762 | KO9: 43763 | KP9: 43764 | KQ9: 43765 | KR9: 43766 | KS9: 43767 | KT9: 43768 | KU9: 43769 | KV9: 43770 | KW9: 43771 | KX9: 43772 | KY9: 43773 | KZ9: 43774 | LA9: 43775 | LB9: 43776 | LC9: 43777 | LD9: 43778 | LE9: 43779 | LF9: 43780 | LG9: 43781 | LH9: 43782 | LI9: 43783 | LJ9: 43784 | LK9: 43785 | LL9: 43786 | LM9: 43787 | LN9: 43788 | LO9: 43789 | LP9: 43790 | LQ9: 43791 | LR9: 43792 | LS9: 43793 | LT9: 43794 | LU9: 43795 | LV9: 43796 | LW9: 43797 | LX9: 43798 | LY9: 43799 | LZ9: 43800 | MA9: 43801 | MB9: 43802 | MC9: 43803 | MD9: 43804 | ME9: 43805 | MF9: 43806 | MG9: 43807 | MH9: 43808 | MI9: 43809 | MJ9: 43810 | MK9: 43811 | ML9: 43812 | MM9: 43813 | MN9: 43814 | MO9: 43815 | MP9: 43816 | MQ9: 43817 | MR9: 43818 | MS9: 43819 | MT9: 43820 | MU9: 43821 | MV9: 43822 | MW9: 43823 | MX9: 43824 | MY9: 43825 | MZ9: 43826 | NA9: 43827 | NB9: 43828 | NC9: 43829 | ND9: 43830
A10: Materiel | B10: QUANTITE CHEZ OPC | C10: PHOTO | D10: =IFERROR(SUMIFS(FEUIL2!$E:$E,FEUIL2!$B:$B,FEUIL1!$A10,FEUIL1!$A:$A,"<=" & FEUIL1!D$9,FEUIL2!$F:$F,">=" & FEUIL1!D$9),"ERREUR") -> 0 | E10: =IFERROR(SUMIFS(FEUIL2!$E:$E,FEUIL2!$B:$B,FEUIL1!$A10,FEUIL1!$A:$A,"<=" & FEUIL1!E$9,FEUIL2!$F:$F,">=" & FEUIL1!E$9),"ERREUR") -> 0 | F10: =IFERROR(SUMIFS(FEUIL2!$E:$E,FEUIL2!$B:$B,FEUIL1!$A10,FEUIL1!$A:$A,"<=" & FEUIL1!F$9,FEUIL2!$F:$F,">=" & FEUIL1!F$9),"ERREUR") -> 0 | G10: =IFERROR(SUMIFS(FEUIL2!$E:$E,FEUIL2!$B:$B,FEUIL1!$A10,FEUIL1!$A:$A,"<=" & FEUIL1!G$9,FEUIL2!$F:$F,">=" & FEUIL1!G$9),"ERREUR") -> 0 | H10: =IFERROR(SUMIFS(FEUIL2!$E:$E,FEUIL2!$B:$B,FEUIL1!$A10,FEUIL1!$A:$A,"<=" & FEUIL1!H$9,FEUIL2!$F:$F,">=" & FEUIL1!H$9),"ERREUR") -> 0
A11: 1 - Bornes de recharge USB | B11: 2 | D11: =IFERROR(SUMIFS(FEUIL2!$D:$D,FEUIL2!$B:$B,FEUIL1!$A11,FEUIL1!$A:$A,"<=" & FEUIL1!D$9,FEUIL2!$F:$F,">=" & FEUIL1!D$9),"ERREUR") -> 0 | E11: =IFERROR(SUMIFS(FEUIL2!$D:$D,FEUIL2!$B:$B,FEUIL1!$A11,FEUIL1!$A:$A,"<=" & FEUIL1!E$9,FEUIL2!$F:$F,">=" & FEUIL1!E$9),"ERREUR") -> 0 | F11: =IFERROR(SUMIFS(FEUIL2!$D:$D,FEUIL2!$B:$B,FEUIL1!$A11,FEUIL1!$A:$A,"<=" & FEUIL1!F$9,FEUIL2!$F:$F,">=" & FEUIL1!F$9),"ERREUR") -> 0 | G11: =IFERROR(SUMIFS(FEUIL2!$D:$D,FEUIL2!$B:$B,FEUIL1!$A11,FEUIL1!$A:$A,"<=" & FEUIL1!G$9,FEUIL2!$F:$F,">=" & FEUIL1!G$9),"ERREUR") -> 0 | H11: =IFERROR(SUMIFS(FEUIL2!$D:$D,FEUIL2!$B:$B,FEUIL1!$A11,FEUIL1!$A:$A,"<=" & FEUIL1!H$9,FEUIL2!$F:$F,">=" & FEUIL1!H$9),"ERREUR") -> 0 | I11: =IFERROR(SUMIFS(FEUIL2!$D:$D,FEUIL2!$B:$B,FEUIL1!$A11,FEUIL1!$A:$A,"<=" & FEUIL1!I$9,FEUIL2!$F:$F,">=" & FEUIL1!I$9),"ERREUR") -> 0 | J11: =IFERROR(SUMIFS(FEUIL2!$D:$D,FEUIL2!$B:$B,FEUIL1!$A11,FEUIL1!$A:$A,"<=" & FEUIL1!J$9,FEUIL2!$F:$F,">=" & FEUIL1!J$9),"ERREUR") -> 0 | K11: =IFERROR(SUMIFS(FEUIL2!$D:$D,FEUIL2!$B:$B,FEUIL1!$A11,FEUIL1!$A:$A,"<=" & FEUIL1!K$9,FEUIL2!$F:$F,">=" & FEUIL1!K$9),"ERREUR") -> 0 | ... M11: =IFERROR(SUMIFS(FEUIL2!$D:$D,FEUIL2!$B:$B,FEUIL1!$A11,FEUIL1!$A:$A,"<=" & FEUIL1!M$9,FEUIL2!$F:$F,">=" & FEUIL1!M$9),"ERREUR") -> 0
A12: 1 - Imprimante | B12: 3 | D12: =IFERROR(SUMIFS(FEUIL2!$D:$D,FEUIL2!$B:$B,FEUIL1!$A12,FEUIL1!$A:$A,"<=" & FEUIL1!D$9,FEUIL2!$F:$F,">=" & FEUIL1!D$9),"ERREUR") -> 0 | E12: =IFERROR(SUMIFS(FEUIL2!$E:$E,FEUIL2!$B:$B,FEUIL1!$A12,FEUIL1!$A:$A,"<=" & FEUIL1!E$9,FEUIL2!$F:$F,">=" & FEUIL1!E$9),"ERREUR") -> 0 | F12: =IFERROR(SUMIFS(FEUIL2!$E:$E,FEUIL2!$B:$B,FEUIL1!$A12,FEUIL1!$A:$A,"<=" & FEUIL1!F$9,FEUIL2!$F:$F,">=" & FEUIL1!F$9),"ERREUR") -> 0 | G12: =IFERROR(SUMIFS(FEUIL2!$E:$E,FEUIL2!$B:$B,FEUIL1!$A12,FEUIL1!$A:$A,"<=" & FEUIL1!G$9,FEUIL2!$F:$F,">=" & FEUIL1!G$9),"ERREUR") -> 0 | H12: =IFERROR(SUMIFS(FEUIL2!$E:$E,FEUIL2!$B:$B,FEUIL1!$A12,FEUIL1!$A:$A,"<=" & FEUIL1!H$9,FEUIL2!$F:$F,">=" & FEUIL1!H$9),"ERREUR") -> 0 | I12: =SUMIFS(FEUIL2!$D:$D,FEUIL2!$B:$B,FEUIL1!$A12,FEUIL1!$A:$A,"<=" & FEUIL1!I$9,FEUIL2!$F:$F,">=" & FEUIL1!I$9) -> 0 | J12: =SUMIFS(FEUIL2!$D:$D,FEUIL2!$B:$B,FEUIL1!$A12,FEUIL1!$A:$A,"<=" & FEUIL1!J$9,FEUIL2!$F:$F,">=" & FEUIL1!J$9) -> 0 | K12: =SUMIFS(FEUIL2!$D:$D,FEUIL2!$B:$B,FEUIL1!$A12,FEUIL1!$A:$A,"<=" & FEUIL1!K$9,FEUIL2!$F:$F,">=" & FEUIL1!K$9) -> 0 | L12: =SUMIFS(FEUIL2!$D:$D,FEUIL2!$B:$B,FEUIL1!$A12,FEUIL1!$A:$A,"<=" & FEUIL1!L$9,FEUIL2!$F:$F,">=" & FEUIL1!L$9) -> 0
A13: 1 - Ordinateur 014 | B13: 1 | D13: =IFERROR(SUMIFS(FEUIL2!$E:$E,FEUIL2!$B:$B,FEUIL1!$A13,FEUIL1!$A:$A,"<=" & FEUIL1!D$9,FEUIL2!$F:$F,">=" & FEUIL1!D$9),"ERREUR") -> 0 | E13: =IFERROR(SUMIFS(FEUIL2!$E:$E,FEUIL2!$B:$B,FEUIL1!$A13,FEUIL1!$A:$A,"<=" & FEUIL1!E$9,FEUIL2!$F:$F,">=" & FEUIL1!E$9),"ERREUR") -> 0 | F13: =IFERROR(SUMIFS(FEUIL2!$E:$E,FEUIL2!$B:$B,FEUIL1!$A13,FEUIL1!$A:$A,"<=" & FEUIL1!F$9,FEUIL2!$F:$F,">=" & FEUIL1!F$9),"ERREUR") -> 0 | G13: =IFERROR(SUMIFS(FEUIL2!$E:$E,FEUIL2!$B:$B,FEUIL1!$A13,FEUIL1!$A:$A,"<=" & FEUIL1!G$9,FEUIL2!$F:$F,">=" & FEUIL1!G$9),"ERREUR") -> 0 | H13: =IFERROR(SUMIFS(FEUIL2!$E:$E,FEUIL2!$B:$B,FEUIL1!$A13,FEUIL1!$A:$A,"<=" & FEUIL1!H$9,FEUIL2!$F:$F,">=" & FEUIL1!H$9),"ERREUR") -> 0
A14: 1 - Ordinateur 015 | B14: 1 | D14: =IFERROR(SUMIFS(FEUIL2!$E:$E,FEUIL2!$B:$B,FEUIL1!$A14,FEUIL1!$A:$A,"<=" & FEUIL1!D$9,FEUIL2!$F:$F,">=" & FEUIL1!D$9),"ERREUR") -> 0 | E14: =IFERROR(SUMIFS(FEUIL2!$E:$E,FEUIL2!$B:$B,FEUIL1!$A14,FEUIL1!$A:$A,"<=" & FEUIL1!E$9,FEUIL2!$F:$F,">=" & FEUIL1!E$9),"ERREUR") -> 0 | F14: =IFERROR(SUMIFS(FEUIL2!$E:$E,FEUIL2!$B:$B,FEUIL1!$A14,FEUIL1!$A:$A,"<=" & FEUIL1!F$9,FEUIL2!$F:$F,">=" & FEUIL1!F$9),"ERREUR") -> 0 | G14: =IFERROR(SUMIFS(FEUIL2!$E:$E,FEUIL2!$B:$B,FEUIL1!$A14,FEUIL1!$A:$A,"<=" & FEUIL1!G$9,FEUIL2!$F:$F,">=" & FEUIL1!G$9),"ERREUR") -> 0 | H14: =IFERROR(SUMIFS(FEUIL2!$E:$E,FEUIL2!$B:$B,FEUIL1!$A14,FEUIL1!$A:$A,"<=" & FEUIL1!H$9,FEUIL2!$F:$F,">=" & FEUIL1!H$9),"ERREUR") -> 0
A15: 1 - Rallonge électrique 6 pieds | B15: 3 | D15: =IFERROR(SUMIFS(FEUIL2!$E:$E,FEUIL2!$B:$B,FEUIL1!$A15,FEUIL1!$A:$A,"<=" & FEUIL1!D$9,FEUIL2!$F:$F,">=" & FEUIL1!D$9),"ERREUR") -> 0 | E15: =IFERROR(SUMIFS(FEUIL2!$E:$E,FEUIL2!$B:$B,FEUIL1!$A15,FEUIL1!$A:$A,"<=" & FEUIL1!E$9,FEUIL2!$F:$F,">=" & FEUIL1!E$9),"ERREUR") -> 0 | F15: =IFERROR(SUMIFS(FEUIL2!$E:$E,FEUIL2!$B:$B,FEUIL1!$A15,FEUIL1!$A:$A,"<=" & FEUIL1!F$9,FEUIL2!$F:$F,">=" & FEUIL1!F$9),"ERREUR") -> 0 | G15: =IFERROR(SUMIFS(FEUIL2!$E:$E,FEUIL2!$B:$B,FEUIL1!$A15,FEUIL1!$A:$A,"<=" & FEUIL1!G$9,FEUIL2!$F:$F,">=" & FEUIL1!G$9),"ERREUR") -> 0 | H15: =IFERROR(SUMIFS(FEUIL2!$E:$E,FEUIL2!$B:$B,FEUIL1!$A15,FEUIL1!$A:$A,"<=" & FEUIL1!H$9,FEUIL2!$F:$F,">=" & FEUIL1!H$9),"ERREUR") -> 0 | I15: =IFERROR(SUMIFS(FEUIL2!$E:$E,FEUIL2!$B:$B,FEUIL1!$A15,FEUIL1!$A:$A,"<=" & FEUIL1!I$9,FEUIL2!$F:$F,">=" & FEUIL1!I$9),"ERREUR") -> 0 | J15: =IFERROR(SUMIFS(FEUIL2!$E:$E,FEUIL2!$B:$B,FEUIL1!$A15,FEUIL1!$A:$A,"<=" & FEUIL1!J$9,FEUIL2!$F:$F,">=" & FEUIL1!J$9),"ERREUR") -> 0 | K15: =IFERROR(SUMIFS(FEUIL2!$E:$E,FEUIL2!$B:$B,FEUIL1!$A15,FEUIL1!$A:$A,"<=" & FEUIL1!K$9,FEUIL2!$F:$F,">=" & FEUIL1!K$9),"ERREUR") -> 0 | L15: =IFERROR(SUMIFS(FEUIL2!$D:$D,FEUIL2!$B:$B,FEUIL1!$A15,FEUIL1!$A:$A,"<=" & FEUIL1!L$9,FEUIL2!$F:$F,">=" & FEUIL1!L$9),"ERREUR") -> 0 | M15: =IFERROR(SUMIFS(FEUIL2!$D:$D,FEUIL2!$B:$B,FEUIL1!$A15,FEUIL1!$A:$A,"<=" & FEUIL1!M$9,FEUIL2!$F:$F,">=" & FEUIL1!M$9),"ERREUR") -> 0 | N15: =IFERROR(SUMIFS(FEUIL2!$D:$D,FEUIL2!$B:$B,FEUIL1!$A15,FEUIL1!$A:$A,"<=" & FEUIL1!N$9,FEUIL2!$F:$F,">=" & FEUIL1!N$9),"ERREUR") -> 0 | O15: =IFERROR(SUMIFS(FEUIL2!$D:$D,FEUIL2!$B:$B,FEUIL1!$A15,FEUIL1!$A:$A,"<=" & FEUIL1!O$9,FEUIL2!$F:$F,">=" & FEUIL1!O$9),"ERREUR") -> 0
A16: 1 - Retroprojecteur | B16: 1 | D16: =SUMIFS(FEUIL2!$D:$D,FEUIL2!$B:$B,FEUIL1!$A8,FEUIL2!$A:$A,"<=" & FEUIL1!D$1,FEUIL2!$F:$F,">=" & FEUIL1!D$1) -> 0
A17: 1 - Tablette 2 | B17: 1 | D17: =SUMIFS(FEUIL2!$D:$D,FEUIL2!$B:$B,FEUIL1!$A9,FEUIL2!$A:$A,"<=" & FEUIL1!D$1,FEUIL2!$F:$F,">=" & FEUIL1!D$1) -> 0
A18: 1- Tablette 1 | B18: 1 | D18: =SUMIFS(FEUIL2!$D:$D,FEUIL2!$B:$B,FEUIL1!$A10,FEUIL2!$A:$A,"<=" & FEUIL1!D$1,FEUIL2!$F:$F,">=" & FEUIL1!D$1) -> 0
A19: 2 - Caisse transport | B19: 8 | D19: =SUMIFS(FEUIL2!$D:$D,FEUIL2!$B:$B,FEUIL1!$A12,FEUIL2!$A:$A,"<=" & FEUIL1!D$1,FEUIL2!$F:$F,">=" & FEUIL1!D$1) -> 0
A20: 2 - supports pour écrire | D20: =SUMIFS(FEUIL2!$D:$D,FEUIL2!$B:$B,FEUIL1!$A15,FEUIL2!$A:$A,"<=" & FEUIL1!D$1,FEUIL2!$F:$F,">=" & FEUIL1!D$1) -> 0
A21: 3 - A alphabet bois (lot) | B21: 1 | D21: =SUMIFS(FEUIL2!$D:$D,FEUIL2!$B:$B,FEUIL1!$A17,FEUIL2!$A:$A,"<=" & FEUIL1!D$1,FEUIL2!$F:$F,">=" & FEUIL1!D$1) -> 0
A22: 3 - A batonnet d'artisanat | B22: 4 | D22: =SUMIFS(FEUIL2!$D:$D,FEUIL2!$B:$B,FEUIL1!$A18,FEUIL2!$A:$A,"<=" & FEUIL1!D$1,FEUIL2!$F:$F,">=" & FEUIL1!D$1) -> 0
A23: 3 - A Craie | B23: 100 | D23: =SUMIFS(FEUIL2!$D:$D,FEUIL2!$B:$B,FEUIL1!#REF!,FEUIL2!$A:$A,"<=" & FEUIL1!D$1,FEUIL2!$F:$F,">=" & FEUIL1!D$1) -> 0
A24: 3 - A Crayon de couleur (boite) | B24: 5 | D24: =SUMIFS(FEUIL2!$D:$D,FEUIL2!$B:$B,FEUIL1!$A19,FEUIL2!$A:$A,"<=" & FEUIL1!D$1,FEUIL2!$F:$F,">=" & FEUIL1!D$1) -> 0
A25: 3 - A Crayon de couleur cire | B25: 10000 | D25: =SUMIFS(FEUIL2!$D:$D,FEUIL2!$B:$B,FEUIL1!#REF!,FEUIL2!$A:$A,"<=" & FEUIL1!D$1,FEUIL2!$F:$F,">=" & FEUIL1!D$1) -> 0
A26: 3 - A Kit déco paillettes | B26: 1 | D26: =SUMIFS(FEUIL2!$D:$D,FEUIL2!$B:$B,FEUIL1!#REF!,FEUIL2!$A:$A,"<=" & FEUIL1!D$1,FEUIL2!$F:$F,">=" & FEUIL1!D$1) -> 0
A27: 3 - A markers colorés (boite *100) | B27: 2 | D27: =SUMIFS(FEUIL2!$D:$D,FEUIL2!$B:$B,FEUIL1!$A20,FEUIL2!$A:$A,"<=" & FEUIL1!D$1,FEUIL2!$F:$F,">=" & FEUIL1!D$1) -> 0
A28: 3 - A supports en bois pour tableaux (chevalet) | B28: 6 | D28: =SUMIFS(FEUIL2!$D:$D,FEUIL2!$B:$B,FEUIL1!#REF!,FEUIL2!$A:$A,"<=" & FEUIL1!D$1,FEUIL2!$F:$F,">=" & FEUIL1!D$1) -> 0
A29: 3 - A toile petit tableaux | B29: 6 | D29: =SUMIFS(FEUIL2!$D:$D,FEUIL2!$B:$B,FEUIL1!$A21,FEUIL2!$A:$A,"<=" & FEUIL1!D$1,FEUIL2!$F:$F,">=" & FEUIL1!D$1) -> 0
A30: 3 - B Bougeoire Chapeau | B30: 9 | D30: =SUMIFS(FEUIL2!$D:$D,FEUIL2!$B:$B,FEUIL1!$A22,FEUIL2!$A:$A,"<=" & FEUIL1!D$1,FEUIL2!$F:$F,">=" & FEUIL1!D$1) -> 0
A31: 3 - B Bougeoire mini droit | B31: 42 | D31: =SUMIFS(FEUIL2!$D:$D,FEUIL2!$B:$B,FEUIL1!$A23,FEUIL2!$A:$A,"<=" & FEUIL1!D$1,FEUIL2!$F:$F,">=" & FEUIL1!D$1) -> 0
A32: 3 - B Bougeoire mini en cone | B32: 12 | D32: =SUMIFS(FEUIL2!$D:$D,FEUIL2!$B:$B,FEUIL1!$A24,FEUIL2!$A:$A,"<=" & FEUIL1!D$1,FEUIL2!$F:$F,">=" & FEUIL1!D$1) -> 0
A33: 3 - B Bougeoire pot couvercle metal | B33: 7 | D33: =SUMIFS(FEUIL2!$D:$D,FEUIL2!$B:$B,FEUIL1!$A25,FEUIL2!$A:$A,"<=" & FEUIL1!D$1,FEUIL2!$F:$F,">=" & FEUIL1!D$1) -> 0
A34: 3 - B Bougeoire rond | B34: 23 | D34: =SUMIFS(FEUIL2!$D:$D,FEUIL2!$B:$B,FEUIL1!$A26,FEUIL2!$A:$A,"<=" & FEUIL1!D$1,FEUIL2!$F:$F,">=" & FEUIL1!D$1) -> 0
A35: 3 - B Bougie blanche fine | B35: 8
A36: 3 - B Bougie blanche large | B36: 10
A37: 3 - B bougie décorative | B37: 5 | D37: =SUMIFS(FEUIL2!$D:$D,FEUIL2!$B:$B,FEUIL1!$A27,FEUIL2!$A:$A,"<=" & FEUIL1!D$1,FEUIL2!$F:$F,">=" & FEUIL1!D$1) -> 0
A38: 3 - B Bougie électrique grande | B38: 31
A39: 3 - B Bougie électrique petite | B39: 40 | D39: =SUMIFS(FEUIL2!$D:$D,FEUIL2!$B:$B,FEUIL1!$A28,FEUIL2!$A:$A,"<=" & FEUIL1!D$1,FEUIL2!$F:$F,">=" & FEUIL1!D$1) -> 0
A40: 3 - boite blanche liserai métal | B40: 23 | D40: =SUMIFS(FEUIL2!$D:$D,FEUIL2!$B:$B,FEUIL1!$A29,FEUIL2!$A:$A,"<=" & FEUIL1!D$1,FEUIL2!$F:$F,">=" & FEUIL1!D$1) -> 0
A41: 3 - Boite rangement bois | B41: 3
A42: 3 - Bols rouges carré | B42: 3
A43: 3 - Bols rouges fleur | B43: 4
A44: 3 - Bougeoire pot masson | B44: 9
A45: 3 - Brassard bénévole | B45: 38
A46: 3 - Feuille Arbre plastique | B46: 12
A47: 3 - guirlande LED | B47: 2
A48: 3 - Jeux de cartes | B48: 3 | D48: =SUMIFS(FEUIL2!$D:$D,FEUIL2!$B:$B,FEUIL1!$A30,FEUIL2!$A:$A,"<=" & FEUIL1!D$1,FEUIL2!$F:$F,">=" & FEUIL1!D$1) -> 0
A49: 3 - Kit necessaire tableau blanc | B49: 1 | D49: =SUMIFS(FEUIL2!$D:$D,FEUIL2!$B:$B,FEUIL1!$A31,FEUIL2!$A:$A,"<=" & FEUIL1!D$1,FEUIL2!$F:$F,">=" & FEUIL1!D$1) -> 0
A50: 3 - Miroirs Carrés
A51: 3 - Monofilament | B51: 1
A52: 3 - Papier de soie (paquet) | B52: 3 | D52: =SUMIFS(FEUIL2!$D:$D,FEUIL2!$B:$B,FEUIL1!$A32,FEUIL2!$A:$A,"<=" & FEUIL1!D$1,FEUIL2!$F:$F,">=" & FEUIL1!D$1) -> 0
A53: 3 - pelles à glace | B53: 4 | D53: =SUMIFS(FEUIL2!$D:$D,FEUIL2!$B:$B,FEUIL1!$A33,FEUIL2!$A:$A,"<=" & FEUIL1!D$1,FEUIL2!$F:$F,">=" & FEUIL1!D$1) -> 0
A54: 3 - Petit Tableau noir | B54: 7 | D54: =SUMIFS(FEUIL2!$D:$D,FEUIL2!$B:$B,FEUIL1!$A34,FEUIL2!$A:$A,"<=" & FEUIL1!D$1,FEUIL2!$F:$F,">=" & FEUIL1!D$1) -> 0
A55: 3 - Pinces plastique | B55: 3 | D55: =SUMIFS(FEUIL2!$D:$D,FEUIL2!$B:$B,FEUIL1!$A37,FEUIL2!$A:$A,"<=" & FEUIL1!D$1,FEUIL2!$F:$F,">=" & FEUIL1!D$1) -> 0
A56: 3 - planches découpe tissus | B56: 7 | D56: =SUMIFS(FEUIL2!$D:$D,FEUIL2!$B:$B,FEUIL1!$A39,FEUIL2!$A:$A,"<=" & FEUIL1!D$1,FEUIL2!$F:$F,">=" & FEUIL1!D$1) -> 0
A57: 3 - Pompe à ballons | B57: 5 | D57: =SUMIFS(FEUIL2!$D:$D,FEUIL2!$B:$B,FEUIL1!$A40,FEUIL2!$A:$A,"<=" & FEUIL1!D$1,FEUIL2!$F:$F,">=" & FEUIL1!D$1) -> 0
A58: 3 - Pot métal | B58: 22 | D58: =SUMIFS(FEUIL2!$D:$D,FEUIL2!$B:$B,FEUIL1!$A48,FEUIL2!$A:$A,"<=" & FEUIL1!D$1,FEUIL2!$F:$F,">=" & FEUIL1!D$1) -> 0
A59: 3 - V bol bleu | B59: 1 | D59: =SUMIFS(FEUIL2!$D:$D,FEUIL2!$B:$B,FEUIL1!$A49,FEUIL2!$A:$A,"<=" & FEUIL1!D$1,FEUIL2!$F:$F,">=" & FEUIL1!D$1) -> 0
A60: 3 - V vase rectangle haut | B60: 2 | D60: =SUMIFS(FEUIL2!$D:$D,FEUIL2!$B:$B,FEUIL1!$A52,FEUIL2!$A:$A,"<=" & FEUIL1!D$1,FEUIL2!$F:$F,">=" & FEUIL1!D$1) -> 0
A61: 3 - V Vases | B61: 6 | D61: =SUMIFS(FEUIL2!$D:$D,FEUIL2!$B:$B,FEUIL1!$A53,FEUIL2!$A:$A,"<=" & FEUIL1!D$1,FEUIL2!$F:$F,">=" & FEUIL1!D$1) -> 0
A62: 3 - V Vases bocal poisson | B62: 4 | D62: =SUMIFS(FEUIL2!$D:$D,FEUIL2!$B:$B,FEUIL1!$A54,FEUIL2!$A:$A,"<=" & FEUIL1!D$1,FEUIL2!$F:$F,">=" & FEUIL1!D$1) -> 0
A63: 3 - V vases rond haut | B63: 1 | D63: =SUMIFS(FEUIL2!$D:$D,FEUIL2!$B:$B,FEUIL1!$A55,FEUIL2!$A:$A,"<=" & FEUIL1!D$1,FEUIL2!$F:$F,">=" & FEUIL1!D$1) -> 0
A64: 3 - V vases rond plat | B64: 1 | D64: =SUMIFS(FEUIL2!$D:$D,FEUIL2!$B:$B,FEUIL1!$A56,FEUIL2!$A:$A,"<=" & FEUIL1!D$1,FEUIL2!$F:$F,">=" & FEUIL1!D$1) -> 0
A65: 4 - Cordon avec mousqueton | B65: 22 | D65: =SUMIFS(FEUIL2!$D:$D,FEUIL2!$B:$B,FEUIL1!$A57,FEUIL2!$A:$A,"<=" & FEUIL1!D$1,FEUIL2!$F:$F,">=" & FEUIL1!D$1) -> 0
A66: 4 - Cordon avec pince | B66: 84 | D66: =SUMIFS(FEUIL2!$D:$D,FEUIL2!$B:$B,FEUIL1!$A58,FEUIL2!$A:$A,"<=" & FEUIL1!D$1,FEUIL2!$F:$F,">=" & FEUIL1!D$1) -> 0
A67: 4 - Cordons bleus | B67: 59 | D67: =SUMIFS(FEUIL2!$D:$D,FEUIL2!$B:$B,FEUIL1!$A59,FEUIL2!$A:$A,"<=" & FEUIL1!D$1,FEUIL2!$F:$F,">=" & FEUIL1!D$1) -> 0
A68: 4 - Porte carte signalétique métal | B68: 24 | D68: =SUMIFS(FEUIL2!$D:$D,FEUIL2!$B:$B,FEUIL1!$A60,FEUIL2!$A:$A,"<=" & FEUIL1!D$1,FEUIL2!$F:$F,">=" & FEUIL1!D$1) -> 0
A69: 4 - Porte documents transparents | B69: 2 | D69: =SUMIFS(FEUIL2!$D:$D,FEUIL2!$B:$B,FEUIL1!$A61,FEUIL2!$A:$A,"<=" & FEUIL1!D$1,FEUIL2!$F:$F,">=" & FEUIL1!D$1) -> 0
D70: =SUMIFS(FEUIL2!$D:$D,FEUIL2!$B:$B,FEUIL1!$A62,FEUIL2!$A:$A,"<=" & FEUIL1!D$1,FEUIL2!$F:$F,">=" & FEUIL1!D$1) -> 0
D71: =SUMIFS(FEUIL2!$D:$D,FEUIL2!$B:$B,FEUIL1!$A63,FEUIL2!$A:$A,"<=" & FEUIL1!D$1,FEUIL2!$F:$F,">=" & FEUIL1!D$1) -> 0
D72: =SUMIFS(FEUIL2!$D:$D,FEUIL2!$B:$B,FEUIL1!$A64,FEUIL2!$A:$A,"<=" & FEUIL1!D$1,FEUIL2!$F:$F,">=" & FEUIL1!D$1) -> 0
D73: =SUMIFS(FEUIL2!$D:$D,FEUIL2!$B:$B,FEUIL1!$A65,FEUIL2!$A:$A,"<=" & FEUIL1!D$1,FEUIL2!$F:$F,">=" & FEUIL1!D$1) -> 0
D74: =SUMIFS(FEUIL2!$D:$D,FEUIL2!$B:$B,FEUIL1!$A66,FEUIL2!$A:$A,"<=" & FEUIL1!D$1,FEUIL2!$F:$F,">=" & FEUIL1!D$1) -> 0
D75: =SUMIFS(FEUIL2!$D:$D,FEUIL2!$B:$B,FEUIL1!$A67,FEUIL2!$A:$A,"<=" & FEUIL1!D$1,FEUIL2!$F:$F,">=" & FEUIL1!D$1) -> 0
D76: =SUMIFS(FEUIL2!$D:$D,FEUIL2!$B:$B,FEUIL1!$A68,FEUIL2!$A:$A,"<=" & FEUIL1!D$1,FEUIL2!$F:$F,">=" & FEUIL1!D$1) -> 0
D77: =SUMIFS(FEUIL2!$D:$D,FEUIL2!$B:$B,FEUIL1!$A69,FEUIL2!$A:$A,"<=" & FEUIL1!D$1,FEUIL2!$F:$F,">=" & FEUIL1!D$1) -> 0
D78: =SUMIFS(FEUIL2!$D:$D,FEUIL2!$B:$B,FEUIL1!$A70,FEUIL2!$A:$A,"<=" & FEUIL1!D$1,FEUIL2!$F:$F,">=" & FEUIL1!D$1) -> 0
D79: =SUMIFS(FEUIL2!$D:$D,FEUIL2!$B:$B,FEUIL1!$A71,FEUIL2!$A:$A,"<=" & FEUIL1!D$1,FEUIL2!$F:$F,">=" & FEUIL1!D$1) -> 0
D80: =SUMIFS(FEUIL2!$D:$D,FEUIL2!$B:$B,FEUIL1!$A72,FEUIL2!$A:$A,"<=" & FEUIL1!D$1,FEUIL2!$F:$F,">=" & FEUIL1!D$1) -> 0
D81: =SUMIFS(FEUIL2!$D:$D,FEUIL2!$B:$B,FEUIL1!$A73,FEUIL2!$A:$A,"<=" & FEUIL1!D$1,FEUIL2!$F:$F,">=" & FEUIL1!D$1) -> 0
... D100: =SUMIFS(FEUIL2!$D:$D,FEUIL2!$B:$B,FEUIL1!$A92,FEUIL2!$A:$A,"<=" & FEUIL1!D$1,FEUIL2!$F:$F,">=" & FEUIL1!D$1) -> 0

Sheet FEUIL2
B1: INFORMATIQUE | C1: SECTION "1"
B2: NECESSAIRE OPC | C2: SECTION "2"
B3: DECORATION | C3: SECTION "3"
B4: NECESSAIRE CLIENT | C4: SECTION "4"
A10: DATE | B10: ARTICLES | C10: MOUVEMENTS | D10: QUANTITE | E10: SOLDE | F10: DATE RETOUR | G10: EVENEMENT 1 | H10: DATE PRISE ARTICLE
A11: =IF(Tableau5[[#This Row],[MOUVEMENTS]]="Sortie",$H$11,IF(Tableau5[[#This Row],[MOUVEMENTS]]="Retour",$H$15,"")) -> 43466 | B11: 1 - Bornes de recharge USB | C11: Sortie | D11: 1 | E11: =IFERROR(VLOOKUP(Tableau5[ARTICLES],TListeArticles[],2)-SUMIFS(D$11:D11,B$11:B11,Tableau5[ARTICLES],C$11:C11,"Sortie")+SUMIFS(D$11:D31,B$11:B31,Tableau5[ARTICLES],C$11:C31,"Retour"),"") -> 1 | F11: =IF(Tableau5[DATE]=$H$11,$H$15,"") -> 43469 | G11: BLABLA | H11: 43466
A12: =IF(Tableau5[[#This Row],[MOUVEMENTS]]="Sortie",$H$11,IF(Tableau5[[#This Row],[MOUVEMENTS]]="Retour",$H$15,"")) -> 43466 | B12: 1 - Imprimante | C12: Sortie | D12: 1 | E12: =IFERROR(VLOOKUP(Tableau5[ARTICLES],TListeArticles[],2)-SUMIFS(D$11:D12,B$11:B12,Tableau5[ARTICLES],C$11:C12,"Sortie")+SUMIFS(D$11:D32,B$11:B32,Tableau5[ARTICLES],C$11:C32,"Retour"),"") -> 2 | F12: =IF(Tableau5[DATE]=$H$11,$H$15,"") -> 43469
A13: =IF(Tableau5[[#This Row],[MOUVEMENTS]]="Sortie",$H$11,IF(Tableau5[[#This Row],[MOUVEMENTS]]="Retour",$H$15,"")) | C13: =IF($B13<>0,"Sortie","") | E13: =IFERROR(VLOOKUP(Tableau5[ARTICLES],TListeArticles[],2)-SUMIFS(D$11:D33,B$11:B33,Tableau5[ARTICLES],C$11:C33,"Sortie")+SUMIFS(D$11:D33,B$11:B33,Tableau5[ARTICLES],C$11:C33,"Retour"),"") | F13: =IF(Tableau5[DATE]=$H$11,$H$15,"")
A14: =IF(Tableau5[[#This Row],[MOUVEMENTS]]="Sortie",$H$11,IF(Tableau5[[#This Row],[MOUVEMENTS]]="Retour",$H$15,"")) | E14: =IFERROR(VLOOKUP(Tableau5[ARTICLES],TListeArticles[],2)-SUMIFS(D$11:D14,B$11:B14,Tableau5[ARTICLES],C$11:C14,"Sortie")+SUMIFS(D$11:D22,B$11:B22,Tableau5[ARTICLES],C$11:C22,"Retour"),"") | F14: =IF(Tableau5[DATE]=$H$11,$H$15,"") | H14: DATE RETOUR ARTICLE
A15: =IF(Tableau5[[#This Row],[MOUVEMENTS]]="Sortie",$H$11,IF(Tableau5[[#This Row],[MOUVEMENTS]]="Retour",$H$15,"")) | E15: =IFERROR(VLOOKUP(Tableau5[ARTICLES],TListeArticles[],2)-SUMIFS(D$11:D15,B$11:B15,Tableau5[ARTICLES],C$11:C15,"Sortie")+SUMIFS(D$11:D35,B$11:B35,Tableau5[ARTICLES],C$11:C35,"Retour"),"") | F15: =IF(Tableau5[DATE]=$H$11,$H$15,"") | H15: 43469
A16: =IF(Tableau5[[#This Row],[MOUVEMENTS]]="Sortie",$H$11,IF(Tableau5[[#This Row],[MOUVEMENTS]]="Retour",$H$15,"")) | C16: =IF($B16<>0,"Sortie","") | E16: =IFERROR(VLOOKUP(Tableau5[ARTICLES],TListeArticles[],2)-SUMIFS(D$11:D16,B$11:B16,Tableau5[ARTICLES],C$11:C16,"Sortie")+SUMIFS(D$11:D35,B$11:B35,Tableau5[ARTICLES],C$11:C35,"Retour"),"") | F16: =IF(Tableau5[DATE]=$H$11,$H$15,"")
A17: =IF(Tableau5[[#This Row],[MOUVEMENTS]]="Sortie",$H$11,IF(Tableau5[[#This Row],[MOUVEMENTS]]="Retour",$H$15,"")) | C17: =IF($B17<>0,"Sortie","") | E17: =IFERROR(VLOOKUP(Tableau5[ARTICLES],TListeArticles[],2)-SUMIFS(D$11:D17,B$11:B17,Tableau5[ARTICLES],C$11:C17,"Sortie")+SUMIFS(D$11:D35,B$11:B35,Tableau5[ARTICLES],C$11:C35,"Retour"),"") | F17: =IF(Tableau5[DATE]=$H$11,$H$15,"")
A18: =IF(Tableau5[[#This Row],[MOUVEMENTS]]="Sortie",$H$11,IF(Tableau5[[#This Row],[MOUVEMENTS]]="Retour",$H$15,"")) | C18: =IF($B18<>0,"Sortie","") | E18: =IFERROR(VLOOKUP(Tableau5[ARTICLES],TListeArticles[],2)-SUMIFS(D$11:D18,B$11:B18,Tableau5[ARTICLES],C$11:C18,"Sortie")+SUMIFS(D$11:D35,B$11:B35,Tableau5[ARTICLES],C$11:C35,"Retour"),"") | F18: =IF(Tableau5[DATE]=$H$11,$H$15,"") | H18: nombre jour
A19: =IF(Tableau5[[#This Row],[MOUVEMENTS]]="Sortie",$H$11,IF(Tableau5[[#This Row],[MOUVEMENTS]]="Retour",$H$15,"")) | C19: =IF($B19<>0,"Sortie","") | E19: =IFERROR(VLOOKUP(Tableau5[ARTICLES],TListeArticles[],2)-SUMIFS(D$11:D19,B$11:B19,Tableau5[ARTICLES],C$11:C19,"Sortie")+SUMIFS(D$11:D35,B$11:B35,Tableau5[ARTICLES],C$11:C35,"Retour"),"") | F19: =IF(Tableau5[DATE]=$H$11,$H$15,"") | H19: =H15-H11 -> 3
A20: =IF(Tableau5[[#This Row],[MOUVEMENTS]]="Sortie",$H$11,IF(Tableau5[[#This Row],[MOUVEMENTS]]="Retour",$H$15,"")) | C20: =IF($B20<>0,"Sortie","") | E20: =IFERROR(VLOOKUP(Tableau5[ARTICLES],TListeArticles[],2)-SUMIFS(D$11:D20,B$11:B20,Tableau5[ARTICLES],C$11:C20,"Sortie")+SUMIFS(D$11:D35,B$11:B35,Tableau5[ARTICLES],C$11:C35,"Retour"),"") | F20: =IF(Tableau5[DATE]=$H$11,$H$15,"")
A21: =IF(Tableau5[[#This Row],[MOUVEMENTS]]="Sortie",$H$11,IF(Tableau5[[#This Row],[MOUVEMENTS]]="Retour",$H$15,"")) | C21: =IF($B21<>0,"Sortie","") | E21: =IFERROR(VLOOKUP(Tableau5[ARTICLES],TListeArticles[],2)-SUMIFS(D$11:D21,B$11:B21,Tableau5[ARTICLES],C$11:C21,"Sortie")+SUMIFS(D$11:D35,B$11:B35,Tableau5[ARTICLES],C$11:C35,"Retour"),"") | F21: =IF(Tableau5[DATE]=$H$11,$H$15,"")
A22: =IF(Tableau5[[#This Row],[MOUVEMENTS]]="Sortie",$H$11,IF(Tableau5[[#This Row],[MOUVEMENTS]]="Retour",$H$15,"")) | C22: =IF($B22<>0,"Sortie","") | E22: =IFERROR(VLOOKUP(Tableau5[ARTICLES],TListeArticles[],2)-SUMIFS(D$11:D22,B$11:B22,Tableau5[ARTICLES],C$11:C22,"Sortie")+SUMIFS(D$11:D35,B$11:B35,Tableau5[ARTICLES],C$11:C35,"Retour"),"") | F22: =IF(Tableau5[DATE]=$H$11,$H$15,"")
B23: 1- Tablette OPC1 | C23: =IF($B23<>0,"Sortie","") -> Sortie | E23: =IFERROR(VLOOKUP(Tableau5[ARTICLES],TListeArticles[],2)-SUMIFS(D$11:D23,B$11:B23,Tableau5[ARTICLES],C$11:C23,"Sortie")+SUMIFS(D$11:D35,B$11:B35,Tableau5[ARTICLES],C$11:C35,"Retour"),"") | F23: =IF(#REF!=$H$11,$H$15,"") -> #REF! | G23: EVENEMENT2 | H23: DATE PRISE ARTICLE
A24: DATE | B24: ARTICLES | C24: MOUVEMENTS | D24: QUANTITE | E24: SOLDE | F24: DATE RETOUR
A25: =IF(Tableau7[[#This Row],[MOUVEMENTS]]="Sortie",$H$25,IF(Tableau7[[#This Row],[MOUVEMENTS]]="Retour",$H$29,"")) | E25: =IFERROR(VLOOKUP(Tableau7[ARTICLES],TListeArticles[],2)-SUMIFS(D$11:D25,B$11:B25,Tableau7[ARTICLES],C$11:C25,"Sortie")+SUMIFS(D$11:D35,B$11:B35,B25:B37,C$11:C35,"Retour"),"") | F25: =IF(Tableau7[[#This Row],[DATE]]=$H$25,$H$29,"") -> 0
A26: =IF(Tableau7[[#This Row],[MOUVEMENTS]]="Sortie",$H$25,IF(Tableau7[[#This Row],[MOUVEMENTS]]="Retour",$H$29,"")) | E26: =IFERROR(VLOOKUP(Tableau5[ARTICLES],TListeArticles[],2)-SUMIFS(D$11:D26,B$11:B26,Tableau5[ARTICLES],C$11:C26,"Sortie")+SUMIFS(D$11:D35,B$11:B35,Tableau5[ARTICLES],C$11:C35,"Retour"),"") | F26: =IF(Tableau7[[#This Row],[DATE]]=$H$25,$H$29,"") -> 0
A27: =IF(Tableau7[[#This Row],[MOUVEMENTS]]="Sortie",$H$25,IF(Tableau7[[#This Row],[MOUVEMENTS]]="Retour",$H$29,"")) | E27: =IFERROR(VLOOKUP(Tableau5[ARTICLES],TListeArticles[],2)-SUMIFS(D$11:D27,B$11:B27,Tableau5[ARTICLES],C$11:C27,"Sortie")+SUMIFS(D$11:D35,B$11:B35,Tableau5[ARTICLES],C$11:C35,"Retour"),"") | F27: =IF(Tableau7[[#This Row],[DATE]]=$H$25,$H$29,"") -> 0
A28: =IF(Tableau7[[#This Row],[MOUVEMENTS]]="Sortie",$H$25,IF(Tableau7[[#This Row],[MOUVEMENTS]]="Retour",$H$29,"")) | C28: =IF($B28<>0,"Sortie","") | E28: =IFERROR(VLOOKUP(Tableau5[ARTICLES],TListeArticles[],2)-SUMIFS(D$11:D28,B$11:B28,Tableau5[ARTICLES],C$11:C28,"Sortie")+SUMIFS(D$11:D35,B$11:B35,Tableau5[ARTICLES],C$11:C35,"Retour"),"") | F28: =IF(Tableau7[[#This Row],[DATE]]=$H$25,$H$29,"") -> 0 | H28: DATE RETOUR ARTICLE
A29: =IF(Tableau7[[#This Row],[MOUVEMENTS]]="Sortie",$H$25,IF(Tableau7[[#This Row],[MOUVEMENTS]]="Retour",$H$29,"")) | C29: =IF($B29<>0,"Sortie","") | E29: =IFERROR(VLOOKUP(Tableau5[ARTICLES],TListeArticles[],2)-SUMIFS(D$11:D29,B$11:B29,Tableau5[ARTICLES],C$11:C29,"Sortie")+SUMIFS(D$11:D35,B$11:B35,Tableau5[ARTICLES],C$11:C35,"Retour"),"") | F29: =IF(Tableau7[[#This Row],[DATE]]=$H$25,$H$29,"") -> 0
A30: =IF(Tableau7[[#This Row],[MOUVEMENTS]]="Sortie",$H$25,IF(Tableau7[[#This Row],[MOUVEMENTS]]="Retour",$H$29,"")) | C30: =IF($B30<>0,"Sortie","") | E30: =IFERROR(VLOOKUP(Tableau5[ARTICLES],TListeArticles[],2)-SUMIFS(D$11:D30,B$11:B30,Tableau5[ARTICLES],C$11:C30,"Sortie")+SUMIFS(D$11:D35,B$11:B35,Tableau5[ARTICLES],C$11:C35,"Retour"),"") | F30: =IF(Tableau7[[#This Row],[DATE]]=$H$25,$H$29,"") -> 0
A31: =IF(Tableau7[[#This Row],[MOUVEMENTS]]="Sortie",$H$25,IF(Tableau7[[#This Row],[MOUVEMENTS]]="Retour",$H$29,"")) | C31: =IF($B31<>0,"Sortie","") | E31: =IFERROR(VLOOKUP(Tableau5[ARTICLES],TListeArticles[],2)-SUMIFS(D$11:D31,B$11:B31,Tableau5[ARTICLES],C$11:C31,"Sortie")+SUMIFS(D$11:D35,B$11:B35,Tableau5[ARTICLES],C$11:C35,"Retour"),"") | F31: =IF(Tableau7[[#This Row],[DATE]]=$H$25,$H$29,"") -> 0
A32: =IF(Tableau7[[#This Row],[MOUVEMENTS]]="Sortie",$H$25,IF(Tableau7[[#This Row],[MOUVEMENTS]]="Retour",$H$29,"")) | C32: =IF($B32<>0,"Sortie","") | E32: =IFERROR(VLOOKUP(Tableau5[ARTICLES],TListeArticles[],2)-SUMIFS(D$11:D32,B$11:B32,Tableau5[ARTICLES],C$11:C32,"Sortie")+SUMIFS(D$11:D35,B$11:B35,Tableau5[ARTICLES],C$11:C35,"Retour"),"") | F32: =IF(Tableau7[[#This Row],[DATE]]=$H$25,$H$29,"") -> 0 | H32: nombre jour
A33: =IF(Tableau7[[#This Row],[MOUVEMENTS]]="Sortie",$H$25,IF(Tableau7[[#This Row],[MOUVEMENTS]]="Retour",$H$29,"")) | C33: =IF($B33<>0,"Sortie","") | E33: =IFERROR(VLOOKUP(Tableau5[ARTICLES],TListeArticles[],2)-SUMIFS(D$11:D33,B$11:B33,Tableau5[ARTICLES],C$11:C33,"Sortie")+SUMIFS(D$11:D35,B$11:B35,Tableau5[ARTICLES],C$11:C35,"Retour"),"") | F33: =IF(Tableau7[[#This Row],[DATE]]=$H$25,$H$29,"") -> 0 | H33: =H29-H25 -> 0
A34: =IF(Tableau7[[#This Row],[MOUVEMENTS]]="Sortie",$H$25,IF(Tableau7[[#This Row],[MOUVEMENTS]]="Retour",$H$29,"")) | C34: =IF($B34<>0,"Sortie","") | E34: =IFERROR(VLOOKUP(Tableau5[ARTICLES],TListeArticles[],2)-SUMIFS(D$11:D22,B$11:B22,Tableau5[ARTICLES],C$11:C22,"Sortie")+SUMIFS(D$11:D36,B$11:B36,Tableau5[ARTICLES],C$11:C36,"Retour"),"") | F34: =IF(Tableau7[[#This Row],[DATE]]=$H$25,$H$29,"") -> 0
A35: =IF(Tableau7[[#This Row],[MOUVEMENTS]]="Sortie",$H$25,IF(Tableau7[[#This Row],[MOUVEMENTS]]="Retour",$H$29,""))
A36: =IF(Tableau7[[#This Row],[MOUVEMENTS]]="Sortie",$H$25,IF(Tableau7[[#This Row],[MOUVEMENTS]]="Retour",$H$29,""))
