Workbook

Sheet Statistiques
B2: Synthèse effectifs | F2: Synthèse effectifs "Statuts validés" | J2: Synthèse effectifs "Abs" | N2: Synthèse effectifs "Liste attente"
B3: Groupes d'invités | C3: Invités | D3: Accompagnants | F3: Groupes d'invités | G3: Invités | H3: Accompagnants | J3: Groupes d'invités | K3: Invités | L3: Accompagnants | N3: Groupes d'invités | O3: Invités | P3: Accompagnants
B4: =('Partenaires-Mécènes'!C2) -> → Partenaires Mécènes | C4: =('Partenaires-Mécènes'!$B$4) -> 10 | D4: =('Partenaires-Mécènes'!$F$4) -> 9 | F4: =('Partenaires-Mécènes'!C2) -> → Partenaires Mécènes | G4: =SUMIF('Partenaires-Mécènes'!A196:A474,"Validés",'Partenaires-Mécènes'!F6:F468) -> 0 | H4: =SUMIF('Partenaires-Mécènes'!A196:A474,Validé,'Partenaires-Mécènes'!F6:F468) -> 0 | J4: =('Partenaires-Mécènes'!C2) -> → Partenaires Mécènes | K4: =('Partenaires-Mécènes'!L4) -> 0 | L4: =('Partenaires-Mécènes'!P4) -> 0 | N4: =('Partenaires-Mécènes'!C2) -> → Partenaires Mécènes | O4: =('Partenaires-Mécènes'!P4) -> 0 | P4: =('Partenaires-Mécènes'!T4) -> 0
B5: =('Elus Ville Bdx'!C2) -> → Elus | C5: =('Elus Ville Bdx'!$B$4) -> 5 | D5: =('Elus Ville Bdx'!$F$4) -> 0 | F5: =('Elus Ville Bdx'!C2) -> → Elus | G5: =('Elus Ville Bdx'!F4) -> 0 | H5: =('Elus Ville Bdx'!L4) -> 0 | J5: =('Elus Ville Bdx'!C2) -> → Elus | K5: =('Elus Ville Bdx'!L4) -> 0 | L5: =('Elus Ville Bdx'!P4) -> 0 | N5: =('Elus Ville Bdx'!C2) -> → Elus | O5: =('Elus Ville Bdx'!P4) -> 0 | P5: =('Elus Ville Bdx'!T4) -> 0
B6: =('Administration Ville Bdx'!C2) -> → Administration Ville de Bordeaux | C6: =('Administration Ville Bdx'!$B$4) -> 16 | D6: =('Administration Ville Bdx'!$F$4) -> 0 | F6: =('Administration Ville Bdx'!C2) -> → Administration Ville de Bordeaux | G6: =('Administration Ville Bdx'!F4) -> 0 | H6: =('Administration Ville Bdx'!L4) -> 0 | J6: =('Administration Ville Bdx'!C2) -> → Administration Ville de Bordeaux | K6: =('Administration Ville Bdx'!L4) -> 0 | L6: =('Administration Ville Bdx'!P4) -> 0 | N6: =('Administration Ville Bdx'!C2) -> → Administration Ville de Bordeaux | O6: =('Administration Ville Bdx'!P4) -> 0 | P6: =('Administration Ville Bdx'!T4) -> 0
B7: =('C.A'!C2) -> → C.A | C7: =('C.A'!$B$4) -> 9 | D7: =('C.A'!$F$4) -> 0 | F7: =('C.A'!C2) -> → C.A | G7: =('C.A'!F4) -> 0 | H7: =('C.A'!L4) -> 0 | J7: =('C.A'!C2) -> → C.A | K7: =('C.A'!L4) -> 0 | L7: =('C.A'!P4) -> 0 | N7: =('C.A'!C2) -> → C.A | O7: =('C.A'!P4) -> 0 | P7: =('C.A'!T4) -> 0
B8: =('Bénévoles-Dirigeants-Professeur'!C2) -> → Bénévoles - Dirigeants | C8: =('Bénévoles-Dirigeants-Professeur'!$B$4) -> 26 | D8: =('Bénévoles-Dirigeants-Professeur'!$F$4) -> 0 | F8: =('Bénévoles-Dirigeants-Professeur'!C2) -> → Bénévoles - Dirigeants | G8: =('Bénévoles-Dirigeants-Professeur'!F4) -> 0 | H8: =('Bénévoles-Dirigeants-Professeur'!L4) -> 0 | J8: =('Bénévoles-Dirigeants-Professeur'!C2) -> → Bénévoles - Dirigeants | K8: =('Bénévoles-Dirigeants-Professeur'!L4) -> 0 | L8: =('Bénévoles-Dirigeants-Professeur'!P4) -> 0 | N8: =('Bénévoles-Dirigeants-Professeur'!C2) -> → Bénévoles - Dirigeants | O8: =('Bénévoles-Dirigeants-Professeur'!P4) -> 0 | P8: =('Bénévoles-Dirigeants-Professeur'!T4) -> 0
B9: =(Salariés!C2) -> → Salariés | C9: =(Salariés!$B$4) -> 15 | D9: =(Salariés!$F$4) -> 5 | F9: =(Salariés!C2) -> → Salariés | G9: =(Salariés!F4) -> 5 | H9: =(Salariés!L4) -> 0 | J9: =(Salariés!C2) -> → Salariés | K9: =(Salariés!L4) -> 0 | L9: =(Salariés!P4) -> 0 | N9: =(Salariés!C2) -> → Salariés | O9: =(Salariés!P4) -> 0 | P9: =(Salariés!T4) -> 0
B10: =('Anciens Salariés'!C2) -> → Anciens Salariés | C10: =('Anciens Salariés'!$B$4) -> 1 | D10: =('Anciens Salariés'!$F$4) -> 1 | F10: =('Anciens Salariés'!C2) -> → Anciens Salariés | G10: =('Anciens Salariés'!F4) -> 1 | H10: =('Anciens Salariés'!L4) -> 0 | J10: =('Anciens Salariés'!C2) -> → Anciens Salariés | K10: =('Anciens Salariés'!L4) -> 0 | L10: =('Anciens Salariés'!P4) -> 0 | N10: =('Anciens Salariés'!C2) -> → Anciens Salariés | O10: =('Anciens Salariés'!P4) -> 0 | P10: =('Anciens Salariés'!T4) -> 0
B11: =('Anciens-Amis de l''USC'!C2) -> → Anciens-Amis de l'USC | C11: =('Anciens-Amis de l''USC'!$B$4) -> 1 | D11: =('Anciens-Amis de l''USC'!$F$4) -> 0 | F11: =('Anciens-Amis de l''USC'!C2) -> → Anciens-Amis de l'USC | G11: =('Anciens-Amis de l''USC'!F4) -> 0 | H11: =('Anciens-Amis de l''USC'!L4) -> 0 | J11: =('Anciens-Amis de l''USC'!C2) -> → Anciens-Amis de l'USC | K11: =('Anciens-Amis de l''USC'!L4) -> 0 | L11: =('Anciens-Amis de l''USC'!P4) -> 0 | N11: =('Anciens-Amis de l''USC'!C2) -> → Anciens-Amis de l'USC | O11: =('Anciens-Amis de l''USC'!P4) -> 0 | P11: =('Anciens-Amis de l''USC'!T4) -> 0
B12: =('Partenaires Associatifs'!C2) -> → Partenaires Associatifs | C12: =('Partenaires Associatifs'!$B$4) -> 21 | D12: =('Partenaires Associatifs'!$F$4) -> 5 | F12: =('Partenaires Associatifs'!C2) -> → Partenaires Associatifs | G12: =('Partenaires Associatifs'!F4) -> 5 | H12: =('Partenaires Associatifs'!L4) -> 0 | J12: =('Partenaires Associatifs'!C2) -> → Partenaires Associatifs | K12: =('Partenaires Associatifs'!L4) -> 0 | L12: =('Partenaires Associatifs'!P4) -> 0 | N12: =('Partenaires Associatifs'!C2) -> → Partenaires Associatifs | O12: =('Partenaires Associatifs'!P4) -> 0 | P12: =('Partenaires Associatifs'!T4) -> 0
B13: TOTAL | C13: =SUM(C4:C12) -> 104 | D13: =SUM(D4:D12) -> 20 | F13: TOTAL | G13: =SUM(G4:G12) -> 11 | H13: =SUM(H4:H12) -> 0 | J13: TOTAL | K13: =SUM(K4:K12) -> 0 | L13: =SUM(L4:L12) -> 0 | N13: TOTAL | O13: =SUM(O4:O12) -> 0 | P13: =SUM(P4:P12) -> 0
B14: TOTAL | C14: =SUM(C13:D13) -> 124 | F14: TOTAL | G14: =SUM(G13:H13) -> 11 | J14: TOTAL | K14: =SUM(K13:L13) -> 0 | N14: TOTAL | O14: =SUM(O13:P13) -> 0

Sheet Index
A2: Validé
A3: Abs
A4: Liste attente

Sheet Partenaires-Mécènes
B1: INAUGURATION
B2: INVITATIONS | C2: → Partenaires Mécènes
B3: Effectifs ↓ | F3: Effectifs ↓
B4: =(SUBTOTAL(3,B6:B360)) -> 10 | F4: =(SUBTOTAL(9,F6:F360)) -> 9
A5: Statut | B5: NOMS | C5: Prénoms | D5: Mail | E5: Téléphone | F5: Accompagné : Nb | G5: N° de téléphone | H5: Adresse Postale | I5: Information
A6: Validé | B6: L | F6: 1
A7: Abs | B7: C | C7: Laurent | F7: 0
A8: Liste attente | B8: V | C8: Audrey | F8: 0
B9: CR | C9: Sébastien | F9: 0
B10: FU | C10: Pierre | F10: 0
B11: MU | C11: Moses | F11: 3
B12: VI | F12: 1
B13: BE | F13: 1
B14: ATH | F14: 2
B15: MAN | C15: Alain | F15: 1

Sheet Elus Ville Bdx
B1: INAUGURATION
B2: INVITATIONS | C2: → Elus
B3: Effectifs ↓ | F3: Effectifs ↓
B4: =(SUBTOTAL(3,B6:B360)) -> 5 | F4: =(SUBTOTAL(9,F6:F360)) -> 0
A5: Statut | B5: NOMS | C5: Prénoms | D5: Mail | E5: Téléphone | F5: Accompagné : Nb | G5: N° de téléphone | H5: Adresse Postale | I5: Information
A6: Liste attente | B6: HA | C6: Mathieu
B7: SC | C7: Sylvie
B8: MA | C8: Vincent
B9: BL | C9: Bernard
B10: SEY | C10: Véronique

Sheet Administration Ville Bdx
B1: INAUGURATION
B2: INVITATIONS | C2: → Administration Ville de Bordeaux
B3: Effectifs ↓ | F3: Effectifs ↓
B4: =(SUBTOTAL(3,B6:B360)) -> 16 | F4: =(SUBTOTAL(9,F6:F360)) -> 0
A5: Statut | B5: NOMS | C5: Prénoms | D5: Mail | E5: Téléphone | F5: Accompagné : Nb | G5: N° de téléphone | H5: Adresse Postale | I5: Information
B6: DON | C6: Constance | I6: Direction générale éducation, sports et société
B7: BI | C7: Jérôme | I7: Direction de l'Éducation
B8: DE | C8: Vincent | I8: Direction des Sports
B9: DEV | C9: Cynthia | I9: Direction de la vie associative et de l'enfance
B10: YAC | C10: Grégoire | I10: Service des sports
B11: MAR | C11: Nathalie | I11: Service des sports
B12: BR | C12: Christophe | I12: Service des sports
B13: HAU | C13: Michel | I13: Service des sports
B14: BAR | C14: Mathilde | I14: Conseiller Enfance
B15: DUB | C15: Mathilde | I15: Conseiller Enfance
B16: DES | C16: Amélie | I16: Conseiller Enfance
B17: DE B | C17: Herve | I17: Conseiller Enfance
... B21: LEF | C21: Pierre Thomas | I21: Responsable adjoint service Enfance

Sheet C.A
B1: INAUGURATION
B2: INVITATIONS | C2: → C.A
B3: Effectifs ↓ | F3: Effectifs ↓
B4: =(SUBTOTAL(3,B6:B360)) -> 9 | F4: =(SUBTOTAL(9,F6:F360)) -> 0
A5: Statut | B5: NOMS | C5: Prénoms | D5: Mail | E5: Téléphone | F5: Accompagné : Nb | G5: N° de téléphone | H5: Adresse Postale | I5: Information
B6: SAR | C6: Olivier
B7: PRO | C7: Florence
B8: IGL | C8: Javier
B9: MAR | C9: Sylvie
B10: HEN | C10: Raoul
B11: SEG | C11: Bernard
B12: BUR | C12: Jérôme
B13: GRAT | C13: Françoise
B14: MERZ | C14: Fatima

Sheet Bénévoles-Dirigeants-Professeur
B1: INAUGURATION
B2: INVITATIONS | C2: → Bénévoles - Dirigeants
B3: Effectifs ↓ | F3: Effectifs ↓
B4: =(SUBTOTAL(3,B6:B360)) -> 26 | F4: =(SUBTOTAL(9,F6:F360)) -> 0
A5: Statut | B5: NOMS | C5: Prénoms | D5: Mail | E5: Téléphone | F5: Accompagné : Nb | G5: N° de téléphone | H5: Adresse Postale | I5: Information
B6: BAT | C6: Nadine
B7: BOUYSSOU | C7: Florence
B8: BUR | C8: Thierry
B9: CAZ | C9: Cédric
B10: CERQUEIRA | C10: José
B11: CHE | C11: Nadia
B12: COQ | C12: Hava
B13: DAR | C13: Sylvain
B14: DELOYE | C14: Sebastien
B15: DORI | C15: Denis
B16: DUC | C16: Pascal
B17: DUF | C17: Cyril
... B31: VER | C31: Mathieu

Sheet Salariés
B1: INAUGURATION
B2: INVITATIONS | C2: → Salariés
B3: Effectifs ↓ | F3: Effectifs ↓
B4: =(SUBTOTAL(3,B6:B360)) -> 15 | F4: =(SUBTOTAL(9,F6:F360)) -> 5
A5: Statut | B5: NOMS | C5: Prénoms | D5: Mail | E5: Téléphone | F5: Accompagné : Nb | G5: N° de téléphone | H5: Adresse Postale | I5: Information
B6: AB | C6: AM Alfaghara | D6: achta.abakar@hotmail.fr | E6: 609026588 | F6: 2
B7: AD | C7: Jessica | D7: jessica.adriano03@outlook.fr | E7: 668117952
B8: AL | C8: Kahina | D8: kahinaaliche33@gmail.com | E8: 656872036
B9: ALI | C9: Marc | D9: alisemarc@hotmail.com | E9: 623960123 | F9: 1
B10: AR | C10: Andoni | D10: savaryarnaiz@gmail.com | E10: 605364149
B11: ASS | C11: Aslam | D11: aslamassani424@gmail.com | E11: 658956488
B12: AZ | C12: Gaëlle | D12: gaelleazoulay@hotmail.fr | E12: 603756816 | F12: 1
B13: BAK | C13: Dorkan | D13: bakayokodorkan13@gmail.com | E13: 617839304
B14: BALG | C14: Charlotte | D14: cha.balguerie@hotmail.fr | E14: 630453716
B15: BAL | C15: Khadija | D15: baltakhadija@yahoo.fr | E15: 659889668
B16: BART | C16: Cora | D16: bartaire.cora@gmail.com | E16: 779714190
B17: BAU | C17: Nathan | D17: nathan.baudon@hotmail.fr | E17: 648058908
B18: BEN | C18: Julien | D18: benhaimjulien@yahoo.fr | E18: 621094645 | F18: 1
B19: BEZ | C19: Kathia | D19: alisonstl@outlook.fr | E19: 667379763
B20: BIL | C20: Alexis | D20: billy.alexis99@gmail.com | E20: 646258501

Sheet Anciens-Amis de l'USC
B1: INAUGURATION
B2: INVITATIONS | C2: → Anciens-Amis de l'USC
B3: Effectifs ↓ | F3: Effectifs ↓
B4: =(SUBTOTAL(3,B6:B360)) -> 1 | F4: =(SUBTOTAL(9,F6:F360)) -> 0
A5: Statut | B5: NOMS | C5: Prénoms | D5: Mail | E5: Téléphone | F5: Accompagné : Nb | G5: N° de téléphone | H5: Adresse Postale | I5: Information
B6: COT | C6: Eric | F6: 0

Sheet Anciens Salariés
B1: INAUGURATION
B2: INVITATIONS | C2: → Anciens Salariés
B3: Effectifs ↓ | F3: Effectifs ↓
B4: =(SUBTOTAL(3,B6:B360)) -> 1 | F4: =(SUBTOTAL(9,F6:F360)) -> 1
A5: Statut | B5: NOMS | C5: Prénoms | D5: Mail | E5: Téléphone | F5: Accompagné : Nb | G5: N° de téléphone | H5: Adresse Postale | I5: Information
B6: LEGL | C6: Annick | F6: 1

Sheet Partenaires Associatifs
B1: INAUGURATION
B2: INVITATIONS | C2: → Partenaires Associatifs
B3: Effectifs ↓ | F3: Effectifs ↓
B4: =(SUBTOTAL(3,B6:B360)) -> 21 | F4: =(SUBTOTAL(9,F6:F360)) -> 5
A5: Statut | B5: NOMS | C5: Prénoms | D5: Mail | E5: Téléphone | F5: Accompagné : Nb | G5: N° de téléphone | H5: Adresse Postale | I5: Information
B6: LIG | C6: Sandrine | F6: 0
B7: SCHM | C7: Paul-Henri | F7: 0
B8: VERM | C8: Philippe | F8: 0
B9: FRO | C9: Jacques | F9: 0
B10: BEIG | C10: Damien | F10: 0
B11: GAM | C11: Pierre | F11: 0
B12: DUM | C12: Frédéric | F12: 0
B13: UGI | C13: Jocelyne | F13: 0
B14: CAZE | C14: Patrick | F14: 5
B15: CHAL | C15: Gilles | F15: 0
B16: FOUC | C16: Thierry | F16: 0
B17: LACAM | C17: Denis | F17: 0
... B26: MOZ | C26: Jean Jacques | F26: 0
