Workbook

Sheet Base
A1: Dossier | B1: Etat | C1: Date réception | D1: Date de reprise attendue | E1: Livraison | F1: retard | G1: =E1&" - "&D1 -> Livraison - Date de reprise attendue | H1: ="Aujourd'hui - "&D1 -> Aujourd'hui - Date de reprise attendue
A2: FC2019-156460 | B2: livré | C2: 43706 | D2: 43707 | E2: 43753 | F2: =IF(E2="",NETWORKDAYS.INTL(D2,TODAY(),"0000001",liste!$A$1:$A$10)-1,NETWORKDAYS.INTL(D2,E2,"0000001",liste!$A$1:$A$10)-1) -> 39 | G2: =IF(E2="","",NETWORKDAYS.INTL(D2,E2,"0000001",liste!$A$1:$A$10)-1) -> 39 | H2: =IF(E2="",NETWORKDAYS.INTL(D2,TODAY(),"0000001",liste!$A$1:$A$10)-1,"")
A3: FC2019-166844 | B3: en cours | C3: 43721 | D3: 43729 | F3: =IF(E3="",NETWORKDAYS.INTL(D3,TODAY(),"0000001",liste!$A$1:$A$10)-1,NETWORKDAYS.INTL(D3,E3,"0000001",liste!$A$1:$A$10)-1) -> 229 | G3: =IF(E3="","",NETWORKDAYS.INTL(D3,E3,"0000001",liste!$A$1:$A$10)-1) | H3: =IF(E3="",NETWORKDAYS.INTL(D3,TODAY(),"0000001",liste!$A$1:$A$10)-1,"") -> 229
A4: FC2020-065664 | B4: livré | C4: 43921 | D4: 43936 | E4: 43931 | F4: =IF(E4="",NETWORKDAYS.INTL(D4,TODAY(),"0000001",liste!$A$1:$A$10)-1,NETWORKDAYS.INTL(D4,E4,"0000001",liste!$A$1:$A$10)-1) -> -5 | G4: =IF(E4="","",NETWORKDAYS.INTL(D4,E4,"0000001",liste!$A$1:$A$10)-1) -> -5 | H4: =IF(E4="",NETWORKDAYS.INTL(D4,TODAY(),"0000001",liste!$A$1:$A$10)-1,"")
A5: FC2020-070626 | B5: en cours | C5: 43927 | D5: 43942 | F5: =IF(E5="",NETWORKDAYS.INTL(D5,TODAY(),"0000001",liste!$A$1:$A$10)-1,NETWORKDAYS.INTL(D5,E5,"0000001",liste!$A$1:$A$10)-1) -> 49 | G5: =IF(E5="","",NETWORKDAYS.INTL(D5,E5,"0000001",liste!$A$1:$A$10)-1) | H5: =IF(E5="",NETWORKDAYS.INTL(D5,TODAY(),"0000001",liste!$A$1:$A$10)-1,"") -> 49
A6: FC2020-072488 | B6: en cours | C6: 43928 | D6: 43943 | F6: =IF(E6="",NETWORKDAYS.INTL(D6,TODAY(),"0000001",liste!$A$1:$A$10)-1,NETWORKDAYS.INTL(D6,E6,"0000001",liste!$A$1:$A$10)-1) -> 48 | G6: =IF(E6="","",NETWORKDAYS.INTL(D6,E6,"0000001",liste!$A$1:$A$10)-1) | H6: =IF(E6="",NETWORKDAYS.INTL(D6,TODAY(),"0000001",liste!$A$1:$A$10)-1,"") -> 48
A7: FC2020-079884 | B7: en cours | C7: 43942 | D7: 43957 | F7: =IF(E7="",NETWORKDAYS.INTL(D7,TODAY(),"0000001",liste!$A$1:$A$10)-1,NETWORKDAYS.INTL(D7,E7,"0000001",liste!$A$1:$A$10)-1) -> 37 | G7: =IF(E7="","",NETWORKDAYS.INTL(D7,E7,"0000001",liste!$A$1:$A$10)-1) | H7: =IF(E7="",NETWORKDAYS.INTL(D7,TODAY(),"0000001",liste!$A$1:$A$10)-1,"") -> 37
A8: FC2020-080135 | B8: livré | C8: 43943 | D8: 43951 | E8: 43950 | F8: =IF(E8="",NETWORKDAYS.INTL(D8,TODAY(),"0000001",liste!$A$1:$A$10)-1,NETWORKDAYS.INTL(D8,E8,"0000001",liste!$A$1:$A$10)-1) -> -3 | G8: =IF(E8="","",NETWORKDAYS.INTL(D8,E8,"0000001",liste!$A$1:$A$10)-1) -> -3 | H8: =IF(E8="",NETWORKDAYS.INTL(D8,TODAY(),"0000001",liste!$A$1:$A$10)-1,"") | I8: 2 jours en trop > il devrait être indiqué : -1
A9: FC2020-080748 | B9: en cours | C9: 43944 | D9: 43959 | F9: =IF(E9="",NETWORKDAYS.INTL(D9,TODAY(),"0000001",liste!$A$1:$A$10)-1,NETWORKDAYS.INTL(D9,E9,"0000001",liste!$A$1:$A$10)-1) -> 35 | G9: =IF(E9="","",NETWORKDAYS.INTL(D9,E9,"0000001",liste!$A$1:$A$10)-1) | H9: =IF(E9="",NETWORKDAYS.INTL(D9,TODAY(),"0000001",liste!$A$1:$A$10)-1,"") -> 35
A10: FC2020-105889 | B10: en cours | C10: 43989 | D10: 44019 | F10: =IF(E10="",NETWORKDAYS.INTL(D10,TODAY(),"0000001",liste!$A$1:$A$10)-1,NETWORKDAYS.INTL(D10,E10,"0000001",liste!$A$1:$A$10)-1) -> -15 | G10: =IF(E10="","",NETWORKDAYS.INTL(D10,E10,"0000001",liste!$A$1:$A$10)-1) | H10: =IF(E10="",NETWORKDAYS.INTL(D10,TODAY(),"0000001",liste!$A$1:$A$10)-1,"") -> -15
A11: FC2020-109551 | B11: en cours | C11: 43992 | D11: 44022 | F11: =IF(E11="",NETWORKDAYS.INTL(D11,TODAY(),"0000001",liste!$A$1:$A$10)-1,NETWORKDAYS.INTL(D11,E11,"0000001",liste!$A$1:$A$10)-1) -> -18 | G11: =IF(E11="","",NETWORKDAYS.INTL(D11,E11,"0000001",liste!$A$1:$A$10)-1) | H11: =IF(E11="",NETWORKDAYS.INTL(D11,TODAY(),"0000001",liste!$A$1:$A$10)-1,"") -> -18
A12: FC2020-111110 | B12: en cours | C12: 43994 | D12: 44009 | F12: =IF(E12="",NETWORKDAYS.INTL(D12,TODAY(),"0000001",liste!$A$1:$A$10)-1,NETWORKDAYS.INTL(D12,E12,"0000001",liste!$A$1:$A$10)-1) -> -7 | G12: =IF(E12="","",NETWORKDAYS.INTL(D12,E12,"0000001",liste!$A$1:$A$10)-1) | H12: =IF(E12="",NETWORKDAYS.INTL(D12,TODAY(),"0000001",liste!$A$1:$A$10)-1,"") -> -7
A13: FC2020-105405 | B13: en cours | C13: 43998 | D13: 44028 | F13: =IF(E13="",NETWORKDAYS.INTL(D13,TODAY(),"0000001",liste!$A$1:$A$10)-1,NETWORKDAYS.INTL(D13,E13,"0000001",liste!$A$1:$A$10)-1) -> -22 | G13: =IF(E13="","",NETWORKDAYS.INTL(D13,E13,"0000001",liste!$A$1:$A$10)-1) | H13: =IF(E13="",NETWORKDAYS.INTL(D13,TODAY(),"0000001",liste!$A$1:$A$10)-1,"") -> -22
A14: FC2020-114022 | B14: en cours | C14: 44000 | D14: 44015 | F14: =IF(E14="",NETWORKDAYS.INTL(D14,TODAY(),"0000001",liste!$A$1:$A$10)-1,NETWORKDAYS.INTL(D14,E14,"0000001",liste!$A$1:$A$10)-1) -> -12 | G14: =IF(E14="","",NETWORKDAYS.INTL(D14,E14,"0000001",liste!$A$1:$A$10)-1) | H14: =IF(E14="",NETWORKDAYS.INTL(D14,TODAY(),"0000001",liste!$A$1:$A$10)-1,"") -> -12

Sheet liste
A1: 43831
A2: 43934
A3: 43952
A4: 43959
A5: 43972
A6: 43983
A7: 44026
A8: 44058
A9: 44136
A10: 44190
