Workbook
Name STATUTS: Feuil2!$A$3:$A$5

Sheet Feuil1
B3: SUIVI DES OFFRES
B6: MOIS DE MARS
B7: N° OFFRE | C7: DATE | D7: CLIENT | E7: MONTANT | F7: STATUT | G7: COMMENTAIRES | H7: gagné | I7: Relance en cours | J7: Perdu
F8: En cours de relance | H8: =IF(F8=Feuil2!$A$4,1,"") | I8: =IF(F8=Feuil2!$A$3,1,"") -> 1 | J8: =IF(F8=Feuil2!$A$5,1,"")
F9: Gagné | H9: =IF(F9=Feuil2!$A$4,1,"") -> 1 | I9: =IF(F9=Feuil2!$A$3,1,"") | J9: =IF(F9=Feuil2!$A$5,1,"")
F10: Perdu | H10: =IF(F10=Feuil2!$A$4,1,"") | I10: =IF(F10=Feuil2!$A$3,1,"") | J10: =IF(F10=Feuil2!$A$5,1,"") -> 1
F11: En cours de relance | H11: =IF(F11=Feuil2!$A$4,1,"") | I11: =IF(F11=Feuil2!$A$3,1,"") -> 1 | J11: =IF(F11=Feuil2!$A$5,1,"")
F12: Perdu | H12: =IF(F12=Feuil2!$A$4,1,"") | I12: =IF(F12=Feuil2!$A$3,1,"") | J12: =IF(F12=Feuil2!$A$5,1,"") -> 1
F13: Gagné | H13: =IF(F13=Feuil2!$A$4,1,"") -> 1 | I13: =IF(F13=Feuil2!$A$3,1,"") | J13: =IF(F13=Feuil2!$A$5,1,"")
F14: Gagné | H14: =IF(F14=Feuil2!$A$4,1,"") -> 1 | I14: =IF(F14=Feuil2!$A$3,1,"") | J14: =IF(F14=Feuil2!$A$5,1,"")
F15: En cours de relance | H15: =IF(F15=Feuil2!$A$4,1,"") | I15: =IF(F15=Feuil2!$A$3,1,"") -> 1 | J15: =IF(F15=Feuil2!$A$5,1,"")
F16: Perdu | H16: =IF(F16=Feuil2!$A$4,1,"") | I16: =IF(F16=Feuil2!$A$3,1,"") | J16: =IF(F16=Feuil2!$A$5,1,"") -> 1
F17: Gagné | H17: =IF(F17=Feuil2!$A$4,1,"") -> 1 | I17: =IF(F17=Feuil2!$A$3,1,"") | J17: =IF(F17=Feuil2!$A$5,1,"")
F18: Perdu | H18: =IF(F18=Feuil2!$A$4,1,"") | I18: =IF(F18=Feuil2!$A$3,1,"") | J18: =IF(F18=Feuil2!$A$5,1,"") -> 1
F19: Perdu | H19: =IF(F19=Feuil2!$A$4,1,"") | I19: =IF(F19=Feuil2!$A$3,1,"") | J19: =IF(F19=Feuil2!$A$5,1,"") -> 1
... F24: Gagné | H24: =IF(F24=Feuil2!$A$4,1,"") -> 1 | I24: =IF(F24=Feuil2!$A$3,1,"") | J24: =IF(F24=Feuil2!$A$5,1,"")
H25: =IF(F25=Feuil2!$A$4,1,"") | I25: =IF(F25=Feuil2!$A$3,1,"") | J25: =IF(F25=Feuil2!$A$5,1,"")
B26: MONTANT TOTAL OFFRES : | E26: =SUBTOTAL(109,$E$8:$E$25) -> 0
E28: Nb statut : gagné | F28: =COUNT(H8:H25) -> 7
E29: Nb statut : relance en cours | F29: =COUNT(I8:I25) -> 5
E30: Nb statut : Perdu | F30: =COUNT(J8:J25) -> 5

Sheet Feuil2
A2: STATUTS
A3: En cours de relance
A4: Gagné
A5: Perdu

Sheet Feuil3
