Workbook
Name Date_de_début: OFFSET(GANTT!$CB$11,0,0,COUNTA(GANTT!$CB:$CB)-1)
Name Durée: OFFSET(GANTT!$CD$11,0,0,COUNTA(GANTT!$CD:$CD)-1)
Name Tâches: OFFSET(GANTT!$CE$11,0,0,COUNTA(GANTT!$CE:$CE)-1)

Sheet Tableau de bord
A1: Détails du projet
A2: Projet | C2: Test | F2: TABLEAU DE BORD
A3: Chef de projet | C3: HH
A5: Date de début | C5: 43502
A6: Avancement | C6: =GANTT!CA37 -> 0.083333333

Sheet GANTT
A1: Détails du projet | Q1: 0 | S1: LEGENDE
A2: Projet | C2: ='Tableau de bord'!C2 -> Test | Q2: =TODAY() -> 43558 | U2: Jalon | AB2: Tâche décalée
A3: Chef de projet | C3: ='Tableau de bord'!C3 -> HH | Q3: =WEEKNUM(Q4,2) -> 6
A4: Date de début | C4: ='Tableau de bord'!C5 -> 43502 | Q4: =C4+Q1*7 -> 43502 | AB4: Tâche planifiée
A5: Date de mise à jour | Q5: =YEAR(Q2) -> 2019
A6: Commentaires: | Q6: =_xlfn.ISOWEEKNUM(Q2) -> 14 | R6: =YEAR(Q4) -> 2019 | S6: =IF(S$8=1,R$6+1,R$6) -> 2019 | T6: =IF(T$8=1,S$6+1,S$6) -> 2019 | U6: =IF(U$8=1,T$6+1,T$6) -> 2019 | V6: =IF(V$8=1,U$6+1,U$6) -> 2019 | W6: =IF(W$8=1,V$6+1,V$6) -> 2019 | X6: =IF(X$8=1,W$6+1,W$6) -> 2019 | Y6: =IF(Y$8=1,X$6+1,X$6) -> 2019 | Z6: =IF(Z$8=1,Y$6+1,Y$6) -> 2019 | ... BY6: =IF(BY$8=1,BX$6+1,BX$6) -> 2020
R7: =TEXT((DATE(R6,1,3)-WEEKDAY(DATE(R6,1,3))+7*R8),"mmm") -> févr | S7: =TEXT((DATE(S6,1,3)-WEEKDAY(DATE(S6,1,3))+7*S8),"mmm") -> févr | T7: =TEXT((DATE(T6,1,3)-WEEKDAY(DATE(T6,1,3))+7*T8),"mmm") -> févr | U7: =TEXT((DATE(U6,1,3)-WEEKDAY(DATE(U6,1,3))+7*U8),"mmm") -> mars | V7: =TEXT((DATE(V6,1,3)-WEEKDAY(DATE(V6,1,3))+7*V8),"mmm") -> mars | W7: =TEXT((DATE(W6,1,3)-WEEKDAY(DATE(W6,1,3))+7*W8),"mmm") -> mars | X7: =TEXT((DATE(X6,1,3)-WEEKDAY(DATE(X6,1,3))+7*X8),"mmm") -> mars | Y7: =TEXT((DATE(Y6,1,3)-WEEKDAY(DATE(Y6,1,3))+7*Y8),"mmm") -> mars | ... BY7: =TEXT((DATE(BY6,1,3)-WEEKDAY(DATE(BY6,1,3))+7*BY8),"mmm") -> mars
A8: N° | B8: Tâches | C8: Catégorie | D8: Responsable | E8: Planifié | J8: Réel | O8: Avancement | P8: Statut | R8: =Q3 -> 6 | S8: =VALUE(IF(R8=VLOOKUP(R6,[1]Liste!$A$3:$B$13,2,FALSE),"1",R8+1)) -> 7 | T8: =VALUE(IF(S8=VLOOKUP(S6,[1]Liste!$A$3:$B$13,2,FALSE),"1",S8+1)) -> 8 | U8: =VALUE(IF(T8=VLOOKUP(T6,[1]Liste!$A$3:$B$13,2,FALSE),"1",T8+1)) -> 9 | V8: =VALUE(IF(U8=VLOOKUP(U6,[1]Liste!$A$3:$B$13,2,FALSE),"1",U8+1)) -> 10 | W8: =VALUE(IF(V8=VLOOKUP(V6,[1]Liste!$A$3:$B$13,2,FALSE),"1",V8+1)) -> 11 | X8: =VALUE(IF(W8=VLOOKUP(W6,[1]Liste!$A$3:$B$13,2,FALSE),"1",W8+1)) -> 12 | Y8: =VALUE(IF(X8=VLOOKUP(X6,[1]Liste!$A$3:$B$13,2,FALSE),"1",X8+1)) -> 13 | Z8: =VALUE(IF(Y8=VLOOKUP(Y6,[1]Liste!$A$3:$B$13,2,FALSE),"1",Y8+1)) -> 14 | ... BY8: =VALUE(IF(BX8=VLOOKUP(BX6,[1]Liste!$A$3:$B$13,2,FALSE),"1",BX8+1)) -> 13 | BZ8: Retard sans impact | CA8: Retard avec impact | CB8: Date de début | CC8: Date de fin | CD8: Durée | CE8: Tâches
E9: Date de début | G9: Durée | H9: Date de fin | J9: Date de début | L9: Durée | M9: Date de fin
E10: S | F10: Année | H10: S | I10: Année | J10: S | K10: Année | M10: S | N10: Année
A11: 1. | B11: MISE EN ROUTE DU PROJET | C11: Jalon | E11: 9 | F11: 2019 | H11: =IF(E11=VLOOKUP(F11,[1]Liste!$A$3:$B$13,2,FALSE),GANTT!G11,IF((GANTT!E11+GANTT!G11)>VLOOKUP(GANTT!F11,[1]Liste!$A$3:$B$13,2,FALSE),(GANTT!E11+GANTT!G11-VLOOKUP(GANTT!F11,[1]Liste!$A$3:$B$13,2,FALSE)),GANTT!E11+GANTT!G11)) -> 9 | I11: =IF(OR(E11=VLOOKUP(F11,[1]Liste!$A$3:$B$13,2,FALSE),(GANTT!E11+GANTT!G11)>VLOOKUP(F11,[1]Liste!$A$3:$B$13,2,FALSE)),GANTT!F11+1,GANTT!F11) -> 2019 | J11: =VALUE(E11) -> 9 | K11: =VALUE(F11) -> 2019 | L11: =VALUE(G11) -> 0 | M11: =VALUE(H11) -> 9 | N11: =VALUE(I11) -> 2019 | O11: 1 | P11: =IF($O11=100%,"Terminée",IF(AND($M11<$Q$6,$N11<=$Q$5,$O11<100%),"En retard",IF(AND($J11>$Q$6,$K11>=$Q$5),"Non commencée","En cours"))) -> Terminée | BZ11: =IF(OR($E11<$J11,$H11<$M11),"OK","NO") -> NO | CA11: =IF(AND($BZ11="OK",$H11<$M11),"OK",IF($BZ11="NO","","NO")) | CB11: =DATE($K11,1,3)-WEEKDAY(DATE($K11,1,3),3)+7*($J11-1) -> 43521 | CC11: =DATE($N11,1,3)-WEEKDAY(DATE($N11,1,3),3)+7*($M11-1) -> 43521 | CD11: =IF(C11="Jalon",CC11-CB11+1,NA()) -> 1 | CE11: =IF(C11="Jalon",B11,NA()) -> MISE EN ROUTE DU PROJET
A12: 1.1 | B12: Faisabilité | C12: Jalon | E12: 10 | F12: 2019 | G12: 3 | H12: =IF(E12=VLOOKUP(F12,[1]Liste!$A$3:$B$13,2,FALSE),GANTT!G12,IF((GANTT!E12+GANTT!G12)>VLOOKUP(GANTT!F12,[1]Liste!$A$3:$B$13,2,FALSE),(GANTT!E12+GANTT!G12-VLOOKUP(GANTT!F12,[1]Liste!$A$3:$B$13,2,FALSE)),GANTT!E12+GANTT!G12)) -> 13 | I12: =IF(OR(E12=VLOOKUP(F12,[1]Liste!$A$3:$B$13,2,FALSE),(GANTT!E12+GANTT!G12)>VLOOKUP(F12,[1]Liste!$A$3:$B$13,2,FALSE)),GANTT!F12+1,GANTT!F12) -> 2019 | J12: 8 | K12: =VALUE(F12) -> 2019 | L12: =VALUE(G12) -> 3 | M12: 12 | N12: =VALUE(I12) -> 2019 | O12: 1 | P12: =IF($O12=100%,"Terminée",IF(AND($M12<$Q$6,$N12<=$Q$5,$O12<100%),"En retard",IF(AND($J12>$Q$6,$K12>=$Q$5),"Non commencée","En cours"))) -> Terminée | BZ12: =IF(OR($E12<$J12,$H12<$M12),"OK","NO") -> NO | CA12: =IF(AND($BZ12="OK",$H12<$M12),"OK",IF($BZ12="NO","","NO")) | CB12: =DATE($K12,1,3)-WEEKDAY(DATE($K12,1,3),3)+7*($J12-1) -> 43514 | CC12: =DATE($N12,1,3)-WEEKDAY(DATE($N12,1,3),3)+7*($M12-1) -> 43542 | CD12: =IF(C12="Jalon",CC12-CB12+1,NA()) -> 29 | CE12: =IF(C12="Jalon",B12,NA()) -> Faisabilité
A13: 1.2 | B13: Expression des besoins | C13: Autre | F13: 2019 | H13: =IF(E13=VLOOKUP(F13,[1]Liste!$A$3:$B$13,2,FALSE),GANTT!G13,IF((GANTT!E13+GANTT!G13)>VLOOKUP(GANTT!F13,[1]Liste!$A$3:$B$13,2,FALSE),(GANTT!E13+GANTT!G13-VLOOKUP(GANTT!F13,[1]Liste!$A$3:$B$13,2,FALSE)),GANTT!E13+GANTT!G13)) -> 0 | I13: =IF(OR(E13=VLOOKUP(F13,[1]Liste!$A$3:$B$13,2,FALSE),(GANTT!E13+GANTT!G13)>VLOOKUP(F13,[1]Liste!$A$3:$B$13,2,FALSE)),GANTT!F13+1,GANTT!F13) -> 2019 | J13: =VALUE(E13) -> 0 | K13: =VALUE(F13) -> 2019 | L13: =VALUE(G13) -> 0 | M13: =VALUE(H13) -> 0 | N13: =VALUE(I13) -> 2019 | O13: 0 | P13: =IF($O13=100%,"Terminée",IF(AND($M13<$Q$6,$N13<=$Q$5,$O13<100%),"En retard",IF(AND($J13>$Q$6,$K13>=$Q$5),"Non commencée","En cours"))) -> En retard | BZ13: =IF(OR($E13<$J13,$H13<$M13),"OK","NO") -> NO | CA13: =IF(AND($BZ13="OK",$H13<$M13),"OK",IF($BZ13="NO","","NO")) | CB13: =IF(C13="Jalon",DATE($K13,1,3)-WEEKDAY(DATE($K13,1,3),3)+7*($J13-1),NA()) -> #N/A | CC13: =DATE($N13,1,3)-WEEKDAY(DATE($N13,1,3),3)+7*($M13-1) -> 43458 | CD13: =IF(C13="Jalon",CC13-CB13+1,NA()) -> #N/A | CE13: =IF(C13="Jalon",B13,NA()) -> #N/A
A14: 1.3 | B14: Etablissement du CDC | C14: Autre | F14: 2019 | H14: =IF(E14=VLOOKUP(F14,[1]Liste!$A$3:$B$13,2,FALSE),GANTT!G14,IF((GANTT!E14+GANTT!G14)>VLOOKUP(GANTT!F14,[1]Liste!$A$3:$B$13,2,FALSE),(GANTT!E14+GANTT!G14-VLOOKUP(GANTT!F14,[1]Liste!$A$3:$B$13,2,FALSE)),GANTT!E14+GANTT!G14)) -> 0 | I14: =IF(OR(E14=VLOOKUP(F14,[1]Liste!$A$3:$B$13,2,FALSE),(GANTT!E14+GANTT!G14)>VLOOKUP(F14,[1]Liste!$A$3:$B$13,2,FALSE)),GANTT!F14+1,GANTT!F14) -> 2019 | J14: =VALUE(E14) -> 0 | K14: =VALUE(F14) -> 2019 | L14: =VALUE(G14) -> 0 | M14: =VALUE(H14) -> 0 | N14: =VALUE(I14) -> 2019 | O14: 0 | P14: =IF($O14=100%,"Terminée",IF(AND($M14<$Q$6,$N14<=$Q$5,$O14<100%),"En retard",IF(AND($J14>$Q$6,$K14>=$Q$5),"Non commencée","En cours"))) -> En retard | BZ14: =IF(OR($E14<$J14,$H14<$M14),"OK","NO") -> NO | CA14: =IF(AND($BZ14="OK",$H14<$M14),"OK",IF($BZ14="NO","","NO")) | CB14: =IF(C14="Jalon",DATE($K14,1,3)-WEEKDAY(DATE($K14,1,3),3)+7*($J14-1),NA()) -> #N/A | CC14: =DATE($N14,1,3)-WEEKDAY(DATE($N14,1,3),3)+7*($M14-1) -> 43458 | CD14: =IF(C14="Jalon",CC14-CB14+1,NA()) -> #N/A | CE14: =IF(C14="Jalon",B14,NA()) -> #N/A
A15: 1.4 | B15: Finalisation du CDC | C15: Jalon | F15: 2019 | H15: =IF(E15=VLOOKUP(F15,[1]Liste!$A$3:$B$13,2,FALSE),GANTT!G15,IF((GANTT!E15+GANTT!G15)>VLOOKUP(GANTT!F15,[1]Liste!$A$3:$B$13,2,FALSE),(GANTT!E15+GANTT!G15-VLOOKUP(GANTT!F15,[1]Liste!$A$3:$B$13,2,FALSE)),GANTT!E15+GANTT!G15)) -> 0 | I15: =IF(OR(E15=VLOOKUP(F15,[1]Liste!$A$3:$B$13,2,FALSE),(GANTT!E15+GANTT!G15)>VLOOKUP(F15,[1]Liste!$A$3:$B$13,2,FALSE)),GANTT!F15+1,GANTT!F15) -> 2019 | J15: =VALUE(E15) -> 0 | K15: =VALUE(F15) -> 2019 | L15: =VALUE(G15) -> 0 | M15: =VALUE(H15) -> 0 | N15: =VALUE(I15) -> 2019 | O15: 0 | P15: =IF($O15=100%,"Terminée",IF(AND($M15<$Q$6,$N15<=$Q$5,$O15<100%),"En retard",IF(AND($J15>$Q$6,$K15>=$Q$5),"Non commencée","En cours"))) -> En retard | BZ15: =IF(OR($E15<$J15,$H15<$M15),"OK","NO") -> NO | CA15: =IF(AND($BZ15="OK",$H15<$M15),"OK",IF($BZ15="NO","","NO")) | CB15: =IF(C15="Jalon",DATE($K15,1,3)-WEEKDAY(DATE($K15,1,3),3)+7*($J15-1),NA()) -> 43458 | CC15: =DATE($N15,1,3)-WEEKDAY(DATE($N15,1,3),3)+7*($M15-1) -> 43458 | CD15: =IF(C15="Jalon",CC15-CB15+1,NA()) -> 1 | CE15: =IF(C15="Jalon",B15,NA()) -> Finalisation du CDC
A16: 2. | B16: GENIE CIVIL | C16: Jalon | F16: 2019 | H16: =IF(E16=VLOOKUP(F16,[1]Liste!$A$3:$B$13,2,FALSE),GANTT!G16,IF((GANTT!E16+GANTT!G16)>VLOOKUP(GANTT!F16,[1]Liste!$A$3:$B$13,2,FALSE),(GANTT!E16+GANTT!G16-VLOOKUP(GANTT!F16,[1]Liste!$A$3:$B$13,2,FALSE)),GANTT!E16+GANTT!G16)) -> 0 | I16: =IF(OR(E16=VLOOKUP(F16,[1]Liste!$A$3:$B$13,2,FALSE),(GANTT!E16+GANTT!G16)>VLOOKUP(F16,[1]Liste!$A$3:$B$13,2,FALSE)),GANTT!F16+1,GANTT!F16) -> 2019 | J16: =VALUE(E16) -> 0 | K16: =VALUE(F16) -> 2019 | L16: =VALUE(G16) -> 0 | M16: =VALUE(H16) -> 0 | N16: =VALUE(I16) -> 2019 | O16: 0 | P16: =IF($O16=100%,"Terminée",IF(AND($M16<$Q$6,$N16<=$Q$5,$O16<100%),"En retard",IF(AND($J16>$Q$6,$K16>=$Q$5),"Non commencée","En cours"))) -> En retard | BZ16: =IF(OR($E16<$J16,$H16<$M16),"OK","NO") -> NO | CA16: =IF(AND($BZ16="OK",$H16<$M16),"OK",IF($BZ16="NO","","NO")) | CB16: =IF(C16="Jalon",DATE($K16,1,3)-WEEKDAY(DATE($K16,1,3),3)+7*($J16-1),NA()) -> 43458 | CC16: =DATE($N16,1,3)-WEEKDAY(DATE($N16,1,3),3)+7*($M16-1) -> 43458 | CD16: =IF(C16="Jalon",CC16-CB16+1,NA()) -> 1 | CE16: =IF(C16="Jalon",B16,NA()) -> GENIE CIVIL
A17: 2. | B17: Etude Génie Civil | C17: Autre | F17: 2019 | H17: =IF(E17=VLOOKUP(F17,[1]Liste!$A$3:$B$13,2,FALSE),GANTT!G17,IF((GANTT!E17+GANTT!G17)>VLOOKUP(GANTT!F17,[1]Liste!$A$3:$B$13,2,FALSE),(GANTT!E17+GANTT!G17-VLOOKUP(GANTT!F17,[1]Liste!$A$3:$B$13,2,FALSE)),GANTT!E17+GANTT!G17)) -> 0 | I17: =IF(OR(E17=VLOOKUP(F17,[1]Liste!$A$3:$B$13,2,FALSE),(GANTT!E17+GANTT!G17)>VLOOKUP(F17,[1]Liste!$A$3:$B$13,2,FALSE)),GANTT!F17+1,GANTT!F17) -> 2019 | J17: =VALUE(E17) -> 0 | K17: =VALUE(F17) -> 2019 | L17: =VALUE(G17) -> 0 | M17: =VALUE(H17) -> 0 | N17: =VALUE(I17) -> 2019 | O17: 0 | P17: =IF($O17=100%,"Terminée",IF(AND($M17<$Q$6,$N17<=$Q$5,$O17<100%),"En retard",IF(AND($J17>$Q$6,$K17>=$Q$5),"Non commencée","En cours"))) -> En retard | BZ17: =IF(OR($E17<$J17,$H17<$M17),"OK","NO") -> NO | CA17: =IF(AND($BZ17="OK",$H17<$M17),"OK",IF($BZ17="NO","","NO")) | CB17: =IF(C17="Jalon",DATE($K17,1,3)-WEEKDAY(DATE($K17,1,3),3)+7*($J17-1),NA()) -> #N/A | CC17: =DATE($N17,1,3)-WEEKDAY(DATE($N17,1,3),3)+7*($M17-1) -> 43458 | CD17: =IF(C17="Jalon",CC17-CB17+1,NA()) -> #N/A | CE17: =IF(C17="Jalon",B17,NA()) -> #N/A
A18: 2. | B18: Dépôt de Permis de construire | C18: Jalon | F18: 2019 | H18: =IF(E18=VLOOKUP(F18,[1]Liste!$A$3:$B$13,2,FALSE),GANTT!G18,IF((GANTT!E18+GANTT!G18)>VLOOKUP(GANTT!F18,[1]Liste!$A$3:$B$13,2,FALSE),(GANTT!E18+GANTT!G18-VLOOKUP(GANTT!F18,[1]Liste!$A$3:$B$13,2,FALSE)),GANTT!E18+GANTT!G18)) -> 0 | I18: =IF(OR(E18=VLOOKUP(F18,[1]Liste!$A$3:$B$13,2,FALSE),(GANTT!E18+GANTT!G18)>VLOOKUP(F18,[1]Liste!$A$3:$B$13,2,FALSE)),GANTT!F18+1,GANTT!F18) -> 2019 | J18: =VALUE(E18) -> 0 | K18: =VALUE(F18) -> 2019 | L18: =VALUE(G18) -> 0 | M18: =VALUE(H18) -> 0 | N18: =VALUE(I18) -> 2019 | O18: 0 | P18: =IF($O18=100%,"Terminée",IF(AND($M18<$Q$6,$N18<=$Q$5,$O18<100%),"En retard",IF(AND($J18>$Q$6,$K18>=$Q$5),"Non commencée","En cours"))) -> En retard | BZ18: =IF(OR($E18<$J18,$H18<$M18),"OK","NO") -> NO | CA18: =IF(AND($BZ18="OK",$H18<$M18),"OK",IF($BZ18="NO","","NO")) | CB18: =IF(C18="Jalon",DATE($K18,1,3)-WEEKDAY(DATE($K18,1,3),3)+7*($J18-1),NA()) -> 43458 | CC18: =DATE($N18,1,3)-WEEKDAY(DATE($N18,1,3),3)+7*($M18-1) -> 43458 | CD18: =IF(C18="Jalon",CC18-CB18+1,NA()) -> 1 | CE18: =IF(C18="Jalon",B18,NA()) -> Dépôt de Permis de construire
A19: 3 | B19: PROCESS | C19: Jalon | F19: 2019 | H19: =IF(E19=VLOOKUP(F19,[1]Liste!$A$3:$B$13,2,FALSE),GANTT!G19,IF((GANTT!E19+GANTT!G19)>VLOOKUP(GANTT!F19,[1]Liste!$A$3:$B$13,2,FALSE),(GANTT!E19+GANTT!G19-VLOOKUP(GANTT!F19,[1]Liste!$A$3:$B$13,2,FALSE)),GANTT!E19+GANTT!G19)) -> 0 | I19: =IF(OR(E19=VLOOKUP(F19,[1]Liste!$A$3:$B$13,2,FALSE),(GANTT!E19+GANTT!G19)>VLOOKUP(F19,[1]Liste!$A$3:$B$13,2,FALSE)),GANTT!F19+1,GANTT!F19) -> 2019 | J19: =VALUE(E19) -> 0 | K19: =VALUE(F19) -> 2019 | L19: =VALUE(G19) -> 0 | M19: =VALUE(H19) -> 0 | N19: =VALUE(I19) -> 2019 | O19: 0 | P19: =IF($O19=100%,"Terminée",IF(AND($M19<$Q$6,$N19<=$Q$5,$O19<100%),"En retard",IF(AND($J19>$Q$6,$K19>=$Q$5),"Non commencée","En cours"))) -> En retard | BZ19: =IF(OR($E19<$J19,$H19<$M19),"OK","NO") -> NO | CA19: =IF(AND($BZ19="OK",$H19<$M19),"OK",IF($BZ19="NO","","NO")) | CB19: =IF(C19="Jalon",DATE($K19,1,3)-WEEKDAY(DATE($K19,1,3),3)+7*($J19-1),NA()) -> 43458 | CC19: =DATE($N19,1,3)-WEEKDAY(DATE($N19,1,3),3)+7*($M19-1) -> 43458 | CD19: =IF(C19="Jalon",CC19-CB19+1,NA()) -> 1 | CE19: =IF(C19="Jalon",B19,NA()) -> PROCESS
A20: 3.1 | B20: Etudes | C20: Autre | F20: 2019 | H20: =IF(E20=VLOOKUP(F20,[1]Liste!$A$3:$B$13,2,FALSE),GANTT!G20,IF((GANTT!E20+GANTT!G20)>VLOOKUP(GANTT!F20,[1]Liste!$A$3:$B$13,2,FALSE),(GANTT!E20+GANTT!G20-VLOOKUP(GANTT!F20,[1]Liste!$A$3:$B$13,2,FALSE)),GANTT!E20+GANTT!G20)) -> 0 | I20: =IF(OR(E20=VLOOKUP(F20,[1]Liste!$A$3:$B$13,2,FALSE),(GANTT!E20+GANTT!G20)>VLOOKUP(F20,[1]Liste!$A$3:$B$13,2,FALSE)),GANTT!F20+1,GANTT!F20) -> 2019 | J20: =VALUE(E20) -> 0 | K20: =VALUE(F20) -> 2019 | L20: =VALUE(G20) -> 0 | M20: =VALUE(H20) -> 0 | N20: =VALUE(I20) -> 2019 | O20: 0 | P20: =IF($O20=100%,"Terminée",IF(AND($M20<$Q$6,$N20<=$Q$5,$O20<100%),"En retard",IF(AND($J20>$Q$6,$K20>=$Q$5),"Non commencée","En cours"))) -> En retard | BZ20: =IF(OR($E20<$J20,$H20<$M20),"OK","NO") -> NO | CA20: =IF(AND($BZ20="OK",$H20<$M20),"OK",IF($BZ20="NO","","NO")) | CB20: =IF(C20="Jalon",DATE($K20,1,3)-WEEKDAY(DATE($K20,1,3),3)+7*($J20-1),NA()) -> #N/A | CC20: =DATE($N20,1,3)-WEEKDAY(DATE($N20,1,3),3)+7*($M20-1) -> 43458 | CD20: =IF(C20="Jalon",CC20-CB20+1,NA()) -> #N/A | CE20: =IF(C20="Jalon",B20,NA()) -> #N/A
A21: 4.1 | B21: Montage | C21: Jalon | F21: 2019 | H21: =IF(E21=VLOOKUP(F21,[1]Liste!$A$3:$B$13,2,FALSE),GANTT!G21,IF((GANTT!E21+GANTT!G21)>VLOOKUP(GANTT!F21,[1]Liste!$A$3:$B$13,2,FALSE),(GANTT!E21+GANTT!G21-VLOOKUP(GANTT!F21,[1]Liste!$A$3:$B$13,2,FALSE)),GANTT!E21+GANTT!G21)) -> 0 | I21: =IF(OR(E21=VLOOKUP(F21,[1]Liste!$A$3:$B$13,2,FALSE),(GANTT!E21+GANTT!G21)>VLOOKUP(F21,[1]Liste!$A$3:$B$13,2,FALSE)),GANTT!F21+1,GANTT!F21) -> 2019 | J21: =VALUE(E21) -> 0 | K21: =VALUE(F21) -> 2019 | L21: =VALUE(G21) -> 0 | M21: =VALUE(H21) -> 0 | N21: =VALUE(I21) -> 2019 | O21: 0 | P21: =IF($O21=100%,"Terminée",IF(AND($M21<$Q$6,$N21<=$Q$5,$O21<100%),"En retard",IF(AND($J21>$Q$6,$K21>=$Q$5),"Non commencée","En cours"))) -> En retard | BZ21: =IF(OR($E21<$J21,$H21<$M21),"OK","NO") -> NO | CA21: =IF(AND($BZ21="OK",$H21<$M21),"OK",IF($BZ21="NO","","NO")) | CB21: =IF(C21="Jalon",DATE($K21,1,3)-WEEKDAY(DATE($K21,1,3),3)+7*($J21-1),NA()) -> 43458 | CC21: =DATE($N21,1,3)-WEEKDAY(DATE($N21,1,3),3)+7*($M21-1) -> 43458 | CD21: =IF(C21="Jalon",CC21-CB21+1,NA()) -> 1 | CE21: =IF(C21="Jalon",B21,NA()) -> Montage
A22: 5.1 | B22: Programmation | C22: Autre | F22: 2019 | H22: =IF(E22=VLOOKUP(F22,[1]Liste!$A$3:$B$13,2,FALSE),GANTT!G22,IF((GANTT!E22+GANTT!G22)>VLOOKUP(GANTT!F22,[1]Liste!$A$3:$B$13,2,FALSE),(GANTT!E22+GANTT!G22-VLOOKUP(GANTT!F22,[1]Liste!$A$3:$B$13,2,FALSE)),GANTT!E22+GANTT!G22)) -> 0 | I22: =IF(OR(E22=VLOOKUP(F22,[1]Liste!$A$3:$B$13,2,FALSE),(GANTT!E22+GANTT!G22)>VLOOKUP(F22,[1]Liste!$A$3:$B$13,2,FALSE)),GANTT!F22+1,GANTT!F22) -> 2019 | J22: =VALUE(E22) -> 0 | K22: =VALUE(F22) -> 2019 | L22: =VALUE(G22) -> 0 | M22: =VALUE(H22) -> 0 | N22: =VALUE(I22) -> 2019 | O22: 0 | P22: =IF($O22=100%,"Terminée",IF(AND($M22<$Q$6,$N22<=$Q$5,$O22<100%),"En retard",IF(AND($J22>$Q$6,$K22>=$Q$5),"Non commencée","En cours"))) -> En retard | BZ22: =IF(OR($E22<$J22,$H22<$M22),"OK","NO") -> NO | CA22: =IF(AND($BZ22="OK",$H22<$M22),"OK",IF($BZ22="NO","","NO")) | CB22: =IF(C22="Jalon",DATE($K22,1,3)-WEEKDAY(DATE($K22,1,3),3)+7*($J22-1),NA()) -> #N/A | CC22: =DATE($N22,1,3)-WEEKDAY(DATE($N22,1,3),3)+7*($M22-1) -> 43458 | CD22: =IF(C22="Jalon",CC22-CB22+1,NA()) -> #N/A | CE22: =IF(C22="Jalon",B22,NA()) -> #N/A
A23: 6.1 | B23: Test interne | C23: Jalon | F23: 2019 | H23: =IF(E23=VLOOKUP(F23,[1]Liste!$A$3:$B$13,2,FALSE),GANTT!G23,IF((GANTT!E23+GANTT!G23)>VLOOKUP(GANTT!F23,[1]Liste!$A$3:$B$13,2,FALSE),(GANTT!E23+GANTT!G23-VLOOKUP(GANTT!F23,[1]Liste!$A$3:$B$13,2,FALSE)),GANTT!E23+GANTT!G23)) -> 0 | I23: =IF(OR(E23=VLOOKUP(F23,[1]Liste!$A$3:$B$13,2,FALSE),(GANTT!E23+GANTT!G23)>VLOOKUP(F23,[1]Liste!$A$3:$B$13,2,FALSE)),GANTT!F23+1,GANTT!F23) -> 2019 | J23: =VALUE(E23) -> 0 | K23: =VALUE(F23) -> 2019 | L23: =VALUE(G23) -> 0 | M23: =VALUE(H23) -> 0 | N23: =VALUE(I23) -> 2019 | O23: 0 | P23: =IF($O23=100%,"Terminée",IF(AND($M23<$Q$6,$N23<=$Q$5,$O23<100%),"En retard",IF(AND($J23>$Q$6,$K23>=$Q$5),"Non commencée","En cours"))) -> En retard | BZ23: =IF(OR($E23<$J23,$H23<$M23),"OK","NO") -> NO | CA23: =IF(AND($BZ23="OK",$H23<$M23),"OK",IF($BZ23="NO","","NO")) | CB23: =IF(C23="Jalon",DATE($K23,1,3)-WEEKDAY(DATE($K23,1,3),3)+7*($J23-1),NA()) -> 43458 | CC23: =DATE($N23,1,3)-WEEKDAY(DATE($N23,1,3),3)+7*($M23-1) -> 43458 | CD23: =IF(C23="Jalon",CC23-CB23+1,NA()) -> 1 | CE23: =IF(C23="Jalon",B23,NA()) -> Test interne
A24: 4. | B24: MACHINE | C24: Jalon | F24: 2019 | H24: =IF(E24=VLOOKUP(F24,[1]Liste!$A$3:$B$13,2,FALSE),GANTT!G24,IF((GANTT!E24+GANTT!G24)>VLOOKUP(GANTT!F24,[1]Liste!$A$3:$B$13,2,FALSE),(GANTT!E24+GANTT!G24-VLOOKUP(GANTT!F24,[1]Liste!$A$3:$B$13,2,FALSE)),GANTT!E24+GANTT!G24)) -> 0 | I24: =IF(OR(E24=VLOOKUP(F24,[1]Liste!$A$3:$B$13,2,FALSE),(GANTT!E24+GANTT!G24)>VLOOKUP(F24,[1]Liste!$A$3:$B$13,2,FALSE)),GANTT!F24+1,GANTT!F24) -> 2019 | J24: =VALUE(E24) -> 0 | K24: =VALUE(F24) -> 2019 | L24: =VALUE(G24) -> 0 | M24: =VALUE(H24) -> 0 | N24: =VALUE(I24) -> 2019 | O24: 0 | P24: =IF($O24=100%,"Terminée",IF(AND($M24<$Q$6,$N24<=$Q$5,$O24<100%),"En retard",IF(AND($J24>$Q$6,$K24>=$Q$5),"Non commencée","En cours"))) -> En retard | BZ24: =IF(OR($E24<$J24,$H24<$M24),"OK","NO") -> NO | CA24: =IF(AND($BZ24="OK",$H24<$M24),"OK",IF($BZ24="NO","","NO")) | CB24: =IF(C24="Jalon",DATE($K24,1,3)-WEEKDAY(DATE($K24,1,3),3)+7*($J24-1),NA()) -> 43458 | CC24: =DATE($N24,1,3)-WEEKDAY(DATE($N24,1,3),3)+7*($M24-1) -> 43458 | CD24: =IF(C24="Jalon",CC24-CB24+1,NA()) -> 1 | CE24: =IF(C24="Jalon",B24,NA()) -> MACHINE
A25: 3.1 | B25: Réunion de lancement | C25: Jalon | F25: 2019 | H25: =IF(E25=VLOOKUP(F25,[1]Liste!$A$3:$B$13,2,FALSE),GANTT!G25,IF((GANTT!E25+GANTT!G25)>VLOOKUP(GANTT!F25,[1]Liste!$A$3:$B$13,2,FALSE),(GANTT!E25+GANTT!G25-VLOOKUP(GANTT!F25,[1]Liste!$A$3:$B$13,2,FALSE)),GANTT!E25+GANTT!G25)) -> 0 | I25: =IF(OR(E25=VLOOKUP(F25,[1]Liste!$A$3:$B$13,2,FALSE),(GANTT!E25+GANTT!G25)>VLOOKUP(F25,[1]Liste!$A$3:$B$13,2,FALSE)),GANTT!F25+1,GANTT!F25) -> 2019 | J25: =VALUE(E25) -> 0 | K25: =VALUE(F25) -> 2019 | L25: =VALUE(G25) -> 0 | M25: =VALUE(H25) -> 0 | N25: =VALUE(I25) -> 2019 | O25: 0 | P25: =IF($O25=100%,"Terminée",IF(AND($M25<$Q$6,$N25<=$Q$5,$O25<100%),"En retard",IF(AND($J25>$Q$6,$K25>=$Q$5),"Non commencée","En cours"))) -> En retard | BZ25: =IF(OR($E25<$J25,$H25<$M25),"OK","NO") -> NO | CA25: =IF(AND($BZ25="OK",$H25<$M25),"OK",IF($BZ25="NO","","NO")) | CB25: =IF(C25="Jalon",DATE($K25,1,3)-WEEKDAY(DATE($K25,1,3),3)+7*($J25-1),NA()) -> 43458 | CC25: =DATE($N25,1,3)-WEEKDAY(DATE($N25,1,3),3)+7*($M25-1) -> 43458 | CD25: =IF(C25="Jalon",CC25-CB25+1,NA()) -> 1 | CE25: =IF(C25="Jalon",B25,NA()) -> Réunion de lancement
A26: 3.2 | B26: Etudes | C26: Jalon | F26: 2019 | H26: =IF(E26=VLOOKUP(F26,[1]Liste!$A$3:$B$13,2,FALSE),GANTT!G26,IF((GANTT!E26+GANTT!G26)>VLOOKUP(GANTT!F26,[1]Liste!$A$3:$B$13,2,FALSE),(GANTT!E26+GANTT!G26-VLOOKUP(GANTT!F26,[1]Liste!$A$3:$B$13,2,FALSE)),GANTT!E26+GANTT!G26)) -> 0 | I26: =IF(OR(E26=VLOOKUP(F26,[1]Liste!$A$3:$B$13,2,FALSE),(GANTT!E26+GANTT!G26)>VLOOKUP(F26,[1]Liste!$A$3:$B$13,2,FALSE)),GANTT!F26+1,GANTT!F26) -> 2019 | J26: =VALUE(E26) -> 0 | K26: =VALUE(F26) -> 2019 | L26: =VALUE(G26) -> 0 | M26: =VALUE(H26) -> 0 | N26: =VALUE(I26) -> 2019 | O26: 0 | P26: =IF($O26=100%,"Terminée",IF(AND($M26<$Q$6,$N26<=$Q$5,$O26<100%),"En retard",IF(AND($J26>$Q$6,$K26>=$Q$5),"Non commencée","En cours"))) -> En retard | BZ26: =IF(OR($E26<$J26,$H26<$M26),"OK","NO") -> NO | CA26: =IF(AND($BZ26="OK",$H26<$M26),"OK",IF($BZ26="NO","","NO")) | CB26: =IF(C26="Jalon",DATE($K26,1,3)-WEEKDAY(DATE($K26,1,3),3)+7*($J26-1),NA()) -> 43458 | CC26: =DATE($N26,1,3)-WEEKDAY(DATE($N26,1,3),3)+7*($M26-1) -> 43458 | CD26: =IF(C26="Jalon",CC26-CB26+1,NA()) -> 1 | CE26: =IF(C26="Jalon",B26,NA()) -> Etudes
A27: 3.3 | B27: Montage | C27: Jalon | F27: 2019 | H27: =IF(E27=VLOOKUP(F27,[1]Liste!$A$3:$B$13,2,FALSE),GANTT!G27,IF((GANTT!E27+GANTT!G27)>VLOOKUP(GANTT!F27,[1]Liste!$A$3:$B$13,2,FALSE),(GANTT!E27+GANTT!G27-VLOOKUP(GANTT!F27,[1]Liste!$A$3:$B$13,2,FALSE)),GANTT!E27+GANTT!G27)) -> 0 | I27: =IF(OR(E27=VLOOKUP(F27,[1]Liste!$A$3:$B$13,2,FALSE),(GANTT!E27+GANTT!G27)>VLOOKUP(F27,[1]Liste!$A$3:$B$13,2,FALSE)),GANTT!F27+1,GANTT!F27) -> 2019 | J27: =VALUE(E27) -> 0 | K27: =VALUE(F27) -> 2019 | L27: =VALUE(G27) -> 0 | M27: =VALUE(H27) -> 0 | N27: =VALUE(I27) -> 2019 | O27: 0 | P27: =IF($O27=100%,"Terminée",IF(AND($M27<$Q$6,$N27<=$Q$5,$O27<100%),"En retard",IF(AND($J27>$Q$6,$K27>=$Q$5),"Non commencée","En cours"))) -> En retard | BZ27: =IF(OR($E27<$J27,$H27<$M27),"OK","NO") -> NO | CA27: =IF(AND($BZ27="OK",$H27<$M27),"OK",IF($BZ27="NO","","NO")) | CB27: =IF(C27="Jalon",DATE($K27,1,3)-WEEKDAY(DATE($K27,1,3),3)+7*($J27-1),NA()) -> 43458 | CC27: =DATE($N27,1,3)-WEEKDAY(DATE($N27,1,3),3)+7*($M27-1) -> 43458 | CD27: =IF(C27="Jalon",CC27-CB27+1,NA()) -> 1 | CE27: =IF(C27="Jalon",B27,NA()) -> Montage
A28: 3.4 | B28: Mise sous tension/ Mise en œuvre automatisme | C28: Jalon | F28: 2019 | H28: =IF(E28=VLOOKUP(F28,[1]Liste!$A$3:$B$13,2,FALSE),GANTT!G28,IF((GANTT!E28+GANTT!G28)>VLOOKUP(GANTT!F28,[1]Liste!$A$3:$B$13,2,FALSE),(GANTT!E28+GANTT!G28-VLOOKUP(GANTT!F28,[1]Liste!$A$3:$B$13,2,FALSE)),GANTT!E28+GANTT!G28)) -> 0 | I28: =IF(OR(E28=VLOOKUP(F28,[1]Liste!$A$3:$B$13,2,FALSE),(GANTT!E28+GANTT!G28)>VLOOKUP(F28,[1]Liste!$A$3:$B$13,2,FALSE)),GANTT!F28+1,GANTT!F28) -> 2019 | J28: =VALUE(E28) -> 0 | K28: =VALUE(F28) -> 2019 | L28: =VALUE(G28) -> 0 | M28: =VALUE(H28) -> 0 | N28: =VALUE(I28) -> 2019 | O28: 0 | P28: =IF($O28=100%,"Terminée",IF(AND($M28<$Q$6,$N28<=$Q$5,$O28<100%),"En retard",IF(AND($J28>$Q$6,$K28>=$Q$5),"Non commencée","En cours"))) -> En retard | BZ28: =IF(OR($E28<$J28,$H28<$M28),"OK","NO") -> NO | CA28: =IF(AND($BZ28="OK",$H28<$M28),"OK",IF($BZ28="NO","","NO")) | CB28: =IF(C28="Jalon",DATE($K28,1,3)-WEEKDAY(DATE($K28,1,3),3)+7*($J28-1),NA()) -> 43458 | CC28: =DATE($N28,1,3)-WEEKDAY(DATE($N28,1,3),3)+7*($M28-1) -> 43458 | CD28: =IF(C28="Jalon",CC28-CB28+1,NA()) -> 1 | CE28: =IF(C28="Jalon",B28,NA()) -> Mise sous tension/ Mise en œuvre automatisme
A29: 3.5 | B29: Essais | C29: Jalon | F29: 2019 | H29: =IF(E29=VLOOKUP(F29,[1]Liste!$A$3:$B$13,2,FALSE),GANTT!G29,IF((GANTT!E29+GANTT!G29)>VLOOKUP(GANTT!F29,[1]Liste!$A$3:$B$13,2,FALSE),(GANTT!E29+GANTT!G29-VLOOKUP(GANTT!F29,[1]Liste!$A$3:$B$13,2,FALSE)),GANTT!E29+GANTT!G29)) -> 0 | I29: =IF(OR(E29=VLOOKUP(F29,[1]Liste!$A$3:$B$13,2,FALSE),(GANTT!E29+GANTT!G29)>VLOOKUP(F29,[1]Liste!$A$3:$B$13,2,FALSE)),GANTT!F29+1,GANTT!F29) -> 2019 | J29: =VALUE(E29) -> 0 | K29: =VALUE(F29) -> 2019 | L29: =VALUE(G29) -> 0 | M29: =VALUE(H29) -> 0 | N29: =VALUE(I29) -> 2019 | O29: 0 | P29: =IF($O29=100%,"Terminée",IF(AND($M29<$Q$6,$N29<=$Q$5,$O29<100%),"En retard",IF(AND($J29>$Q$6,$K29>=$Q$5),"Non commencée","En cours"))) -> En retard | BZ29: =IF(OR($E29<$J29,$H29<$M29),"OK","NO") -> NO | CA29: =IF(AND($BZ29="OK",$H29<$M29),"OK",IF($BZ29="NO","","NO")) | CB29: =IF(C29="Jalon",DATE($K29,1,3)-WEEKDAY(DATE($K29,1,3),3)+7*($J29-1),NA()) -> 43458 | CC29: =DATE($N29,1,3)-WEEKDAY(DATE($N29,1,3),3)+7*($M29-1) -> 43458 | CD29: =IF(C29="Jalon",CC29-CB29+1,NA()) -> 1 | CE29: =IF(C29="Jalon",B29,NA()) -> Essais
A30: 3.6 | B30: Visite statique | C30: Jalon | F30: 2019 | H30: =IF(E30=VLOOKUP(F30,[1]Liste!$A$3:$B$13,2,FALSE),GANTT!G30,IF((GANTT!E30+GANTT!G30)>VLOOKUP(GANTT!F30,[1]Liste!$A$3:$B$13,2,FALSE),(GANTT!E30+GANTT!G30-VLOOKUP(GANTT!F30,[1]Liste!$A$3:$B$13,2,FALSE)),GANTT!E30+GANTT!G30)) -> 0 | I30: =IF(OR(E30=VLOOKUP(F30,[1]Liste!$A$3:$B$13,2,FALSE),(GANTT!E30+GANTT!G30)>VLOOKUP(F30,[1]Liste!$A$3:$B$13,2,FALSE)),GANTT!F30+1,GANTT!F30) -> 2019 | J30: =VALUE(E30) -> 0 | K30: =VALUE(F30) -> 2019 | L30: =VALUE(G30) -> 0 | M30: =VALUE(H30) -> 0 | N30: =VALUE(I30) -> 2019 | O30: 0 | P30: =IF($O30=100%,"Terminée",IF(AND($M30<$Q$6,$N30<=$Q$5,$O30<100%),"En retard",IF(AND($J30>$Q$6,$K30>=$Q$5),"Non commencée","En cours"))) -> En retard | BZ30: =IF(OR($E30<$J30,$H30<$M30),"OK","NO") -> NO | CA30: =IF(AND($BZ30="OK",$H30<$M30),"OK",IF($BZ30="NO","","NO")) | CB30: =IF(C30="Jalon",DATE($K30,1,3)-WEEKDAY(DATE($K30,1,3),3)+7*($J30-1),NA()) -> 43458 | CC30: =DATE($N30,1,3)-WEEKDAY(DATE($N30,1,3),3)+7*($M30-1) -> 43458 | CD30: =IF(C30="Jalon",CC30-CB30+1,NA()) -> 1 | CE30: =IF(C30="Jalon",B30,NA()) -> Visite statique
A31: 4. | B31: LIGNE COMPLETE | C31: Jalon | F31: 2019 | H31: =IF(E31=VLOOKUP(F31,[1]Liste!$A$3:$B$13,2,FALSE),GANTT!G31,IF((GANTT!E31+GANTT!G31)>VLOOKUP(GANTT!F31,[1]Liste!$A$3:$B$13,2,FALSE),(GANTT!E31+GANTT!G31-VLOOKUP(GANTT!F31,[1]Liste!$A$3:$B$13,2,FALSE)),GANTT!E31+GANTT!G31)) -> 0 | I31: =IF(OR(E31=VLOOKUP(F31,[1]Liste!$A$3:$B$13,2,FALSE),(GANTT!E31+GANTT!G31)>VLOOKUP(F31,[1]Liste!$A$3:$B$13,2,FALSE)),GANTT!F31+1,GANTT!F31) -> 2019 | J31: =VALUE(E31) -> 0 | K31: =VALUE(F31) -> 2019 | L31: =VALUE(G31) -> 0 | M31: =VALUE(H31) -> 0 | N31: =VALUE(I31) -> 2019 | O31: 0 | P31: =IF($O31=100%,"Terminée",IF(AND($M31<$Q$6,$N31<=$Q$5,$O31<100%),"En retard",IF(AND($J31>$Q$6,$K31>=$Q$5),"Non commencée","En cours"))) -> En retard | BZ31: =IF(OR($E31<$J31,$H31<$M31),"OK","NO") -> NO | CA31: =IF(AND($BZ31="OK",$H31<$M31),"OK",IF($BZ31="NO","","NO")) | CB31: =IF(C31="Jalon",DATE($K31,1,3)-WEEKDAY(DATE($K31,1,3),3)+7*($J31-1),NA()) -> 43458 | CC31: =DATE($N31,1,3)-WEEKDAY(DATE($N31,1,3),3)+7*($M31-1) -> 43458 | CD31: =IF(C31="Jalon",CC31-CB31+1,NA()) -> 1 | CE31: =IF(C31="Jalon",B31,NA()) -> LIGNE COMPLETE
A32: 4.1 | B32: Essais ligne complète | C32: Jalon | F32: 2019 | H32: =IF(E32=VLOOKUP(F32,[1]Liste!$A$3:$B$13,2,FALSE),GANTT!G32,IF((GANTT!E32+GANTT!G32)>VLOOKUP(GANTT!F32,[1]Liste!$A$3:$B$13,2,FALSE),(GANTT!E32+GANTT!G32-VLOOKUP(GANTT!F32,[1]Liste!$A$3:$B$13,2,FALSE)),GANTT!E32+GANTT!G32)) -> 0 | I32: =IF(OR(E32=VLOOKUP(F32,[1]Liste!$A$3:$B$13,2,FALSE),(GANTT!E32+GANTT!G32)>VLOOKUP(F32,[1]Liste!$A$3:$B$13,2,FALSE)),GANTT!F32+1,GANTT!F32) -> 2019 | J32: =VALUE(E32) -> 0 | K32: =VALUE(F32) -> 2019 | L32: =VALUE(G32) -> 0 | M32: =VALUE(H32) -> 0 | N32: =VALUE(I32) -> 2019 | O32: 0 | P32: =IF($O32=100%,"Terminée",IF(AND($M32<$Q$6,$N32<=$Q$5,$O32<100%),"En retard",IF(AND($J32>$Q$6,$K32>=$Q$5),"Non commencée","En cours"))) -> En retard | BZ32: =IF(OR($E32<$J32,$H32<$M32),"OK","NO") -> NO | CA32: =IF(AND($BZ32="OK",$H32<$M32),"OK",IF($BZ32="NO","","NO")) | CB32: =IF(C32="Jalon",DATE($K32,1,3)-WEEKDAY(DATE($K32,1,3),3)+7*($J32-1),NA()) -> 43458 | CC32: =DATE($N32,1,3)-WEEKDAY(DATE($N32,1,3),3)+7*($M32-1) -> 43458 | CD32: =IF(C32="Jalon",CC32-CB32+1,NA()) -> 1 | CE32: =IF(C32="Jalon",B32,NA()) -> Essais ligne complète
A33: 4.2 | B33: Contrôle APAVE | C33: Jalon | F33: 2019 | H33: =IF(E33=VLOOKUP(F33,[1]Liste!$A$3:$B$13,2,FALSE),GANTT!G33,IF((GANTT!E33+GANTT!G33)>VLOOKUP(GANTT!F33,[1]Liste!$A$3:$B$13,2,FALSE),(GANTT!E33+GANTT!G33-VLOOKUP(GANTT!F33,[1]Liste!$A$3:$B$13,2,FALSE)),GANTT!E33+GANTT!G33)) -> 0 | I33: =IF(OR(E33=VLOOKUP(F33,[1]Liste!$A$3:$B$13,2,FALSE),(GANTT!E33+GANTT!G33)>VLOOKUP(F33,[1]Liste!$A$3:$B$13,2,FALSE)),GANTT!F33+1,GANTT!F33) -> 2019 | J33: =VALUE(E33) -> 0 | K33: =VALUE(F33) -> 2019 | L33: =VALUE(G33) -> 0 | M33: =VALUE(H33) -> 0 | N33: =VALUE(I33) -> 2019 | O33: 0 | P33: =IF($O33=100%,"Terminée",IF(AND($M33<$Q$6,$N33<=$Q$5,$O33<100%),"En retard",IF(AND($J33>$Q$6,$K33>=$Q$5),"Non commencée","En cours"))) -> En retard | BZ33: =IF(OR($E33<$J33,$H33<$M33),"OK","NO") -> NO | CA33: =IF(AND($BZ33="OK",$H33<$M33),"OK",IF($BZ33="NO","","NO")) | CB33: =IF(C33="Jalon",DATE($K33,1,3)-WEEKDAY(DATE($K33,1,3),3)+7*($J33-1),NA()) -> 43458 | CC33: =DATE($N33,1,3)-WEEKDAY(DATE($N33,1,3),3)+7*($M33-1) -> 43458 | CD33: =IF(C33="Jalon",CC33-CB33+1,NA()) -> 1 | CE33: =IF(C33="Jalon",B33,NA()) -> Contrôle APAVE
A34: 4.3 | B34: Validation | C34: Jalon | F34: 2019 | H34: =IF(E34=VLOOKUP(F34,[1]Liste!$A$3:$B$13,2,FALSE),GANTT!G34,IF((GANTT!E34+GANTT!G34)>VLOOKUP(GANTT!F34,[1]Liste!$A$3:$B$13,2,FALSE),(GANTT!E34+GANTT!G34-VLOOKUP(GANTT!F34,[1]Liste!$A$3:$B$13,2,FALSE)),GANTT!E34+GANTT!G34)) -> 0 | I34: =IF(OR(E34=VLOOKUP(F34,[1]Liste!$A$3:$B$13,2,FALSE),(GANTT!E34+GANTT!G34)>VLOOKUP(F34,[1]Liste!$A$3:$B$13,2,FALSE)),GANTT!F34+1,GANTT!F34) -> 2019 | J34: =VALUE(E34) -> 0 | K34: =VALUE(F34) -> 2019 | L34: =VALUE(G34) -> 0 | M34: =VALUE(H34) -> 0 | N34: =VALUE(I34) -> 2019 | O34: 0 | P34: =IF($O34=100%,"Terminée",IF(AND($M34<$Q$6,$N34<=$Q$5,$O34<100%),"En retard",IF(AND($J34>$Q$6,$K34>=$Q$5),"Non commencée","En cours"))) -> En retard | BZ34: =IF(OR($E34<$J34,$H34<$M34),"OK","NO") -> NO | CA34: =IF(AND($BZ34="OK",$H34<$M34),"OK",IF($BZ34="NO","","NO")) | CB34: =IF(C34="Jalon",DATE($K34,1,3)-WEEKDAY(DATE($K34,1,3),3)+7*($J34-1),NA()) -> 43458 | CC34: =DATE($N34,1,3)-WEEKDAY(DATE($N34,1,3),3)+7*($M34-1) -> 43458 | CD34: =IF(C34="Jalon",CC34-CB34+1,NA()) -> 1 | CE34: =IF(C34="Jalon",B34,NA()) -> Validation
A35: Pour ajouter des tâches, sélectionner le numéro de tâche et appuyer sur Ctrl+q. La ligne s'ajoutera au-dessus. Pour supprimer une ligne, cliquer sur le numéro de tâches à supprimer et appuyer sur Ctrl+d.
I36: =IF(B36="","",IF(#REF!="OUI",WORKDAY(F36,IF(WEEKDAY(F36,2)>=6,G36,G36-1)),F36+G36-1))
I37: =IF(B37="","",IF(#REF!="OUI",WORKDAY(F37,IF(WEEKDAY(F37,2)>=6,G37,G37-1)),F37+G37-1)) | BZ37: total | CA37: =AVERAGE($O$11:$O34) -> 0.083333333
B38: Jalon | BZ38: En retard | CA38: =COUNTIF($P$11:$P34,"En retard") -> 22
B39: Autre | BZ39: Non commencée | CA39: =COUNTIF($P$11:$P34,"Non commencée") -> 0
I40: =IF(B40="","",IF(#REF!="OUI",WORKDAY(F40,IF(WEEKDAY(F40,2)>=6,G40,G40-1)),F40+G40-1)) | BZ40: En cours | CA40: =COUNTIF($P$11:$P34,"En cours") -> 0
...
