Workbook

Sheet DONNEES
A6: Num | B6: Site | C6: type | D6: DATE | E6: VALEUR
A7: 61251001 | B7: SITE (A) | C7: TELEPHONE | D7: 43112 | E7: 550
A8: 61251002 | B8: SITE (B) | C8: TELEPHONE | D8: 43130 | E8: 1100
A9: 61251003 | B9: SITE (A) | C9: EAU | D9: 43132 | E9: 450
A10: 61251004 | B10: SITE (B) | C10: EAU | D10: 43146 | E10: 1300
A11: 61251005 | B11: SITE (A) | C11: ELEC | D11: 43171 | E11: 5420
A12: 61251006 | B12: SITE (B) | C12: ELEC | D12: 43189 | E12: 3200
A13: 61251007 | B13: SITE (A) | C13: LEASING | D13: 43191 | E13: 11450
A14: 61251008 | B14: SITE (B) | C14: LEASING | D14: 43205 | E14: 9564
A15: 61251009 | B15: SITE (A) | C15: PAIE | D15: 43232 | E15: 1245000
A16: 61251010 | B16: SITE (B) | C16: PAIE | D16: 43250 | E16: 35410
A17: 61251011 | B17: SITE (A) | C17: LOYER | D17: 43252 | E17: 2000
A18: 61251012 | B18: SITE (B) | C18: LOYER | D18: 43296 | E18: 285000

Sheet RECAP
C3: 9 | D3: 10 | E3: 11 | F3: 12 | G3: 1 | H3: 2 | I3: 3 | J3: 4 | K3: 5 | L3: 6 | M3: 7 | N3: 8
A4: SITE (A) | B4: INTITULE | C4: SEPTEMBRE | D4: OCTOBRE | E4: NOVEMBRE | F4: DÉCEMBRE | G4: JANVIER | H4: FÉVRIER | I4: MARS | J4: AVRIL | K4: MAI | L4: JUIN | M4: JUILLET | N4: AOÛT
B5: TELEPHONE | C5: {=IFERROR(INDEX(Tbl[VALEUR],MATCH(RECAP!$B5&RECAP!C$3&$A$4,Tbl[type]&MONTH(Tbl[DATE])&Tbl[Site],0)),0)} -> 0 | D5: {=IFERROR(INDEX(Tbl[VALEUR],MATCH(RECAP!$B5&RECAP!D$3&$A$4,Tbl[type]&MONTH(Tbl[DATE])&Tbl[Site],0)),0)} -> 0 | E5: {=IFERROR(INDEX(Tbl[VALEUR],MATCH(RECAP!$B5&RECAP!E$3&$A$4,Tbl[type]&MONTH(Tbl[DATE])&Tbl[Site],0)),0)} -> 0 | F5: {=IFERROR(INDEX(Tbl[VALEUR],MATCH(RECAP!$B5&RECAP!F$3&$A$4,Tbl[type]&MONTH(Tbl[DATE])&Tbl[Site],0)),0)} -> 0 | G5: {=IFERROR(INDEX(Tbl[VALEUR],MATCH(RECAP!$B5&RECAP!G$3&$A$4,Tbl[type]&MONTH(Tbl[DATE])&Tbl[Site],0)),0)} -> 550 | H5: {=IFERROR(INDEX(Tbl[VALEUR],MATCH(RECAP!$B5&RECAP!H$3&$A$4,Tbl[type]&MONTH(Tbl[DATE])&Tbl[Site],0)),0)} -> 0 | I5: {=IFERROR(INDEX(Tbl[VALEUR],MATCH(RECAP!$B5&RECAP!I$3&$A$4,Tbl[type]&MONTH(Tbl[DATE])&Tbl[Site],0)),0)} -> 0 | J5: {=IFERROR(INDEX(Tbl[VALEUR],MATCH(RECAP!$B5&RECAP!J$3&$A$4,Tbl[type]&MONTH(Tbl[DATE])&Tbl[Site],0)),0)} -> 0 | ... N5: {=IFERROR(INDEX(Tbl[VALEUR],MATCH(RECAP!$B5&RECAP!N$3&$A$4,Tbl[type]&MONTH(Tbl[DATE])&Tbl[Site],0)),0)} -> 0
B6: EAU | C6: {=IFERROR(INDEX(Tbl[VALEUR],MATCH(RECAP!$B6&RECAP!C$3&$A$4,Tbl[type]&MONTH(Tbl[DATE])&Tbl[Site],0)),0)} -> 0 | D6: {=IFERROR(INDEX(Tbl[VALEUR],MATCH(RECAP!$B6&RECAP!D$3&$A$4,Tbl[type]&MONTH(Tbl[DATE])&Tbl[Site],0)),0)} -> 0 | E6: {=IFERROR(INDEX(Tbl[VALEUR],MATCH(RECAP!$B6&RECAP!E$3&$A$4,Tbl[type]&MONTH(Tbl[DATE])&Tbl[Site],0)),0)} -> 0 | F6: {=IFERROR(INDEX(Tbl[VALEUR],MATCH(RECAP!$B6&RECAP!F$3&$A$4,Tbl[type]&MONTH(Tbl[DATE])&Tbl[Site],0)),0)} -> 0 | G6: {=IFERROR(INDEX(Tbl[VALEUR],MATCH(RECAP!$B6&RECAP!G$3&$A$4,Tbl[type]&MONTH(Tbl[DATE])&Tbl[Site],0)),0)} -> 0 | H6: {=IFERROR(INDEX(Tbl[VALEUR],MATCH(RECAP!$B6&RECAP!H$3&$A$4,Tbl[type]&MONTH(Tbl[DATE])&Tbl[Site],0)),0)} -> 450 | I6: {=IFERROR(INDEX(Tbl[VALEUR],MATCH(RECAP!$B6&RECAP!I$3&$A$4,Tbl[type]&MONTH(Tbl[DATE])&Tbl[Site],0)),0)} -> 0 | J6: {=IFERROR(INDEX(Tbl[VALEUR],MATCH(RECAP!$B6&RECAP!J$3&$A$4,Tbl[type]&MONTH(Tbl[DATE])&Tbl[Site],0)),0)} -> 0 | ... N6: {=IFERROR(INDEX(Tbl[VALEUR],MATCH(RECAP!$B6&RECAP!N$3&$A$4,Tbl[type]&MONTH(Tbl[DATE])&Tbl[Site],0)),0)} -> 0
B7: ELEC | C7: {=IFERROR(INDEX(Tbl[VALEUR],MATCH(RECAP!$B7&RECAP!C$3&$A$4,Tbl[type]&MONTH(Tbl[DATE])&Tbl[Site],0)),0)} -> 0 | D7: {=IFERROR(INDEX(Tbl[VALEUR],MATCH(RECAP!$B7&RECAP!D$3&$A$4,Tbl[type]&MONTH(Tbl[DATE])&Tbl[Site],0)),0)} -> 0 | E7: {=IFERROR(INDEX(Tbl[VALEUR],MATCH(RECAP!$B7&RECAP!E$3&$A$4,Tbl[type]&MONTH(Tbl[DATE])&Tbl[Site],0)),0)} -> 0 | F7: {=IFERROR(INDEX(Tbl[VALEUR],MATCH(RECAP!$B7&RECAP!F$3&$A$4,Tbl[type]&MONTH(Tbl[DATE])&Tbl[Site],0)),0)} -> 0 | G7: {=IFERROR(INDEX(Tbl[VALEUR],MATCH(RECAP!$B7&RECAP!G$3&$A$4,Tbl[type]&MONTH(Tbl[DATE])&Tbl[Site],0)),0)} -> 0 | H7: {=IFERROR(INDEX(Tbl[VALEUR],MATCH(RECAP!$B7&RECAP!H$3&$A$4,Tbl[type]&MONTH(Tbl[DATE])&Tbl[Site],0)),0)} -> 0 | I7: {=IFERROR(INDEX(Tbl[VALEUR],MATCH(RECAP!$B7&RECAP!I$3&$A$4,Tbl[type]&MONTH(Tbl[DATE])&Tbl[Site],0)),0)} -> 5420 | J7: {=IFERROR(INDEX(Tbl[VALEUR],MATCH(RECAP!$B7&RECAP!J$3&$A$4,Tbl[type]&MONTH(Tbl[DATE])&Tbl[Site],0)),0)} -> 0 | ... N7: {=IFERROR(INDEX(Tbl[VALEUR],MATCH(RECAP!$B7&RECAP!N$3&$A$4,Tbl[type]&MONTH(Tbl[DATE])&Tbl[Site],0)),0)} -> 0
B8: LEASING | C8: {=IFERROR(INDEX(Tbl[VALEUR],MATCH(RECAP!$B8&RECAP!C$3&$A$4,Tbl[type]&MONTH(Tbl[DATE])&Tbl[Site],0)),0)} -> 0 | D8: {=IFERROR(INDEX(Tbl[VALEUR],MATCH(RECAP!$B8&RECAP!D$3&$A$4,Tbl[type]&MONTH(Tbl[DATE])&Tbl[Site],0)),0)} -> 0 | E8: {=IFERROR(INDEX(Tbl[VALEUR],MATCH(RECAP!$B8&RECAP!E$3&$A$4,Tbl[type]&MONTH(Tbl[DATE])&Tbl[Site],0)),0)} -> 0 | F8: {=IFERROR(INDEX(Tbl[VALEUR],MATCH(RECAP!$B8&RECAP!F$3&$A$4,Tbl[type]&MONTH(Tbl[DATE])&Tbl[Site],0)),0)} -> 0 | G8: {=IFERROR(INDEX(Tbl[VALEUR],MATCH(RECAP!$B8&RECAP!G$3&$A$4,Tbl[type]&MONTH(Tbl[DATE])&Tbl[Site],0)),0)} -> 0 | H8: {=IFERROR(INDEX(Tbl[VALEUR],MATCH(RECAP!$B8&RECAP!H$3&$A$4,Tbl[type]&MONTH(Tbl[DATE])&Tbl[Site],0)),0)} -> 0 | I8: {=IFERROR(INDEX(Tbl[VALEUR],MATCH(RECAP!$B8&RECAP!I$3&$A$4,Tbl[type]&MONTH(Tbl[DATE])&Tbl[Site],0)),0)} -> 0 | J8: {=IFERROR(INDEX(Tbl[VALEUR],MATCH(RECAP!$B8&RECAP!J$3&$A$4,Tbl[type]&MONTH(Tbl[DATE])&Tbl[Site],0)),0)} -> 11450 | ... N8: {=IFERROR(INDEX(Tbl[VALEUR],MATCH(RECAP!$B8&RECAP!N$3&$A$4,Tbl[type]&MONTH(Tbl[DATE])&Tbl[Site],0)),0)} -> 0
B9: PAIE | C9: {=IFERROR(INDEX(Tbl[VALEUR],MATCH(RECAP!$B9&RECAP!C$3&$A$4,Tbl[type]&MONTH(Tbl[DATE])&Tbl[Site],0)),0)} -> 0 | D9: {=IFERROR(INDEX(Tbl[VALEUR],MATCH(RECAP!$B9&RECAP!D$3&$A$4,Tbl[type]&MONTH(Tbl[DATE])&Tbl[Site],0)),0)} -> 0 | E9: {=IFERROR(INDEX(Tbl[VALEUR],MATCH(RECAP!$B9&RECAP!E$3&$A$4,Tbl[type]&MONTH(Tbl[DATE])&Tbl[Site],0)),0)} -> 0 | F9: {=IFERROR(INDEX(Tbl[VALEUR],MATCH(RECAP!$B9&RECAP!F$3&$A$4,Tbl[type]&MONTH(Tbl[DATE])&Tbl[Site],0)),0)} -> 0 | G9: {=IFERROR(INDEX(Tbl[VALEUR],MATCH(RECAP!$B9&RECAP!G$3&$A$4,Tbl[type]&MONTH(Tbl[DATE])&Tbl[Site],0)),0)} -> 0 | H9: {=IFERROR(INDEX(Tbl[VALEUR],MATCH(RECAP!$B9&RECAP!H$3&$A$4,Tbl[type]&MONTH(Tbl[DATE])&Tbl[Site],0)),0)} -> 0 | I9: {=IFERROR(INDEX(Tbl[VALEUR],MATCH(RECAP!$B9&RECAP!I$3&$A$4,Tbl[type]&MONTH(Tbl[DATE])&Tbl[Site],0)),0)} -> 0 | J9: {=IFERROR(INDEX(Tbl[VALEUR],MATCH(RECAP!$B9&RECAP!J$3&$A$4,Tbl[type]&MONTH(Tbl[DATE])&Tbl[Site],0)),0)} -> 0 | ... N9: {=IFERROR(INDEX(Tbl[VALEUR],MATCH(RECAP!$B9&RECAP!N$3&$A$4,Tbl[type]&MONTH(Tbl[DATE])&Tbl[Site],0)),0)} -> 0
B10: LOYER | C10: {=IFERROR(INDEX(Tbl[VALEUR],MATCH(RECAP!$B10&RECAP!C$3&$A$4,Tbl[type]&MONTH(Tbl[DATE])&Tbl[Site],0)),0)} -> 0 | D10: {=IFERROR(INDEX(Tbl[VALEUR],MATCH(RECAP!$B10&RECAP!D$3&$A$4,Tbl[type]&MONTH(Tbl[DATE])&Tbl[Site],0)),0)} -> 0 | E10: {=IFERROR(INDEX(Tbl[VALEUR],MATCH(RECAP!$B10&RECAP!E$3&$A$4,Tbl[type]&MONTH(Tbl[DATE])&Tbl[Site],0)),0)} -> 0 | F10: {=IFERROR(INDEX(Tbl[VALEUR],MATCH(RECAP!$B10&RECAP!F$3&$A$4,Tbl[type]&MONTH(Tbl[DATE])&Tbl[Site],0)),0)} -> 0 | G10: {=IFERROR(INDEX(Tbl[VALEUR],MATCH(RECAP!$B10&RECAP!G$3&$A$4,Tbl[type]&MONTH(Tbl[DATE])&Tbl[Site],0)),0)} -> 0 | H10: {=IFERROR(INDEX(Tbl[VALEUR],MATCH(RECAP!$B10&RECAP!H$3&$A$4,Tbl[type]&MONTH(Tbl[DATE])&Tbl[Site],0)),0)} -> 0 | I10: {=IFERROR(INDEX(Tbl[VALEUR],MATCH(RECAP!$B10&RECAP!I$3&$A$4,Tbl[type]&MONTH(Tbl[DATE])&Tbl[Site],0)),0)} -> 0 | J10: {=IFERROR(INDEX(Tbl[VALEUR],MATCH(RECAP!$B10&RECAP!J$3&$A$4,Tbl[type]&MONTH(Tbl[DATE])&Tbl[Site],0)),0)} -> 0 | ... N10: {=IFERROR(INDEX(Tbl[VALEUR],MATCH(RECAP!$B10&RECAP!N$3&$A$4,Tbl[type]&MONTH(Tbl[DATE])&Tbl[Site],0)),0)} -> 0
B11: DOTATIONS | C11: {=IFERROR(INDEX(Tbl[VALEUR],MATCH(RECAP!$B11&RECAP!C$3&$A$4,Tbl[type]&MONTH(Tbl[DATE])&Tbl[Site],0)),0)} -> 0 | D11: {=IFERROR(INDEX(Tbl[VALEUR],MATCH(RECAP!$B11&RECAP!D$3&$A$4,Tbl[type]&MONTH(Tbl[DATE])&Tbl[Site],0)),0)} -> 0 | E11: {=IFERROR(INDEX(Tbl[VALEUR],MATCH(RECAP!$B11&RECAP!E$3&$A$4,Tbl[type]&MONTH(Tbl[DATE])&Tbl[Site],0)),0)} -> 0 | F11: {=IFERROR(INDEX(Tbl[VALEUR],MATCH(RECAP!$B11&RECAP!F$3&$A$4,Tbl[type]&MONTH(Tbl[DATE])&Tbl[Site],0)),0)} -> 0 | G11: {=IFERROR(INDEX(Tbl[VALEUR],MATCH(RECAP!$B11&RECAP!G$3&$A$4,Tbl[type]&MONTH(Tbl[DATE])&Tbl[Site],0)),0)} -> 0 | H11: {=IFERROR(INDEX(Tbl[VALEUR],MATCH(RECAP!$B11&RECAP!H$3&$A$4,Tbl[type]&MONTH(Tbl[DATE])&Tbl[Site],0)),0)} -> 0 | I11: {=IFERROR(INDEX(Tbl[VALEUR],MATCH(RECAP!$B11&RECAP!I$3&$A$4,Tbl[type]&MONTH(Tbl[DATE])&Tbl[Site],0)),0)} -> 0 | J11: {=IFERROR(INDEX(Tbl[VALEUR],MATCH(RECAP!$B11&RECAP!J$3&$A$4,Tbl[type]&MONTH(Tbl[DATE])&Tbl[Site],0)),0)} -> 0 | ... N11: {=IFERROR(INDEX(Tbl[VALEUR],MATCH(RECAP!$B11&RECAP!N$3&$A$4,Tbl[type]&MONTH(Tbl[DATE])&Tbl[Site],0)),0)} -> 0
C12: =SUM(C5:C11) -> 0 | D12: =SUM(D5:D11) -> 0 | E12: =SUM(E5:E11) -> 0 | F12: =SUM(F5:F11) -> 0 | G12: =SUM(G5:G11) -> 550 | H12: =SUM(H5:H11) -> 450 | I12: =SUM(I5:I11) -> 5420 | J12: =SUM(J5:J11) -> 11450 | ... N12: =SUM(N5:N11) -> 0
A16: SITE (B) | B16: INTITULE | C16: SEPTEMBRE | D16: OCTOBRE | E16: NOVEMBRE | F16: DÉCEMBRE | G16: JANVIER | H16: FÉVRIER | I16: MARS | J16: AVRIL | K16: MAI | L16: JUIN | M16: JUILLET | N16: AOÛT
B17: TELEPHONE | C17: {=IFERROR(INDEX(Tbl[VALEUR],MATCH(RECAP!$B17&RECAP!C$3&$A$16,Tbl[type]&MONTH(Tbl[DATE])&Tbl[Site],0)),0)} -> 0 | D17: {=IFERROR(INDEX(Tbl[VALEUR],MATCH(RECAP!$B17&RECAP!D$3&$A$16,Tbl[type]&MONTH(Tbl[DATE])&Tbl[Site],0)),0)} -> 0 | E17: {=IFERROR(INDEX(Tbl[VALEUR],MATCH(RECAP!$B17&RECAP!E$3&$A$16,Tbl[type]&MONTH(Tbl[DATE])&Tbl[Site],0)),0)} -> 0 | F17: {=IFERROR(INDEX(Tbl[VALEUR],MATCH(RECAP!$B17&RECAP!F$3&$A$16,Tbl[type]&MONTH(Tbl[DATE])&Tbl[Site],0)),0)} -> 0 | G17: {=IFERROR(INDEX(Tbl[VALEUR],MATCH(RECAP!$B17&RECAP!G$3&$A$16,Tbl[type]&MONTH(Tbl[DATE])&Tbl[Site],0)),0)} -> 1100 | H17: {=IFERROR(INDEX(Tbl[VALEUR],MATCH(RECAP!$B17&RECAP!H$3&$A$16,Tbl[type]&MONTH(Tbl[DATE])&Tbl[Site],0)),0)} -> 0 | I17: {=IFERROR(INDEX(Tbl[VALEUR],MATCH(RECAP!$B17&RECAP!I$3&$A$16,Tbl[type]&MONTH(Tbl[DATE])&Tbl[Site],0)),0)} -> 0 | J17: {=IFERROR(INDEX(Tbl[VALEUR],MATCH(RECAP!$B17&RECAP!J$3&$A$16,Tbl[type]&MONTH(Tbl[DATE])&Tbl[Site],0)),0)} -> 0 | ... N17: {=IFERROR(INDEX(Tbl[VALEUR],MATCH(RECAP!$B17&RECAP!N$3&$A$16,Tbl[type]&MONTH(Tbl[DATE])&Tbl[Site],0)),0)} -> 0
B18: EAU | C18: {=IFERROR(INDEX(Tbl[VALEUR],MATCH(RECAP!$B18&RECAP!C$3&$A$16,Tbl[type]&MONTH(Tbl[DATE])&Tbl[Site],0)),0)} -> 0 | D18: {=IFERROR(INDEX(Tbl[VALEUR],MATCH(RECAP!$B18&RECAP!D$3&$A$16,Tbl[type]&MONTH(Tbl[DATE])&Tbl[Site],0)),0)} -> 0 | E18: {=IFERROR(INDEX(Tbl[VALEUR],MATCH(RECAP!$B18&RECAP!E$3&$A$16,Tbl[type]&MONTH(Tbl[DATE])&Tbl[Site],0)),0)} -> 0 | F18: {=IFERROR(INDEX(Tbl[VALEUR],MATCH(RECAP!$B18&RECAP!F$3&$A$16,Tbl[type]&MONTH(Tbl[DATE])&Tbl[Site],0)),0)} -> 0 | G18: {=IFERROR(INDEX(Tbl[VALEUR],MATCH(RECAP!$B18&RECAP!G$3&$A$16,Tbl[type]&MONTH(Tbl[DATE])&Tbl[Site],0)),0)} -> 0 | H18: {=IFERROR(INDEX(Tbl[VALEUR],MATCH(RECAP!$B18&RECAP!H$3&$A$16,Tbl[type]&MONTH(Tbl[DATE])&Tbl[Site],0)),0)} -> 1300 | I18: {=IFERROR(INDEX(Tbl[VALEUR],MATCH(RECAP!$B18&RECAP!I$3&$A$16,Tbl[type]&MONTH(Tbl[DATE])&Tbl[Site],0)),0)} -> 0 | J18: {=IFERROR(INDEX(Tbl[VALEUR],MATCH(RECAP!$B18&RECAP!J$3&$A$16,Tbl[type]&MONTH(Tbl[DATE])&Tbl[Site],0)),0)} -> 0 | ... N18: {=IFERROR(INDEX(Tbl[VALEUR],MATCH(RECAP!$B18&RECAP!N$3&$A$16,Tbl[type]&MONTH(Tbl[DATE])&Tbl[Site],0)),0)} -> 0
B19: ELEC | C19: {=IFERROR(INDEX(Tbl[VALEUR],MATCH(RECAP!$B19&RECAP!C$3&$A$16,Tbl[type]&MONTH(Tbl[DATE])&Tbl[Site],0)),0)} -> 0 | D19: {=IFERROR(INDEX(Tbl[VALEUR],MATCH(RECAP!$B19&RECAP!D$3&$A$16,Tbl[type]&MONTH(Tbl[DATE])&Tbl[Site],0)),0)} -> 0 | E19: {=IFERROR(INDEX(Tbl[VALEUR],MATCH(RECAP!$B19&RECAP!E$3&$A$16,Tbl[type]&MONTH(Tbl[DATE])&Tbl[Site],0)),0)} -> 0 | F19: {=IFERROR(INDEX(Tbl[VALEUR],MATCH(RECAP!$B19&RECAP!F$3&$A$16,Tbl[type]&MONTH(Tbl[DATE])&Tbl[Site],0)),0)} -> 0 | G19: {=IFERROR(INDEX(Tbl[VALEUR],MATCH(RECAP!$B19&RECAP!G$3&$A$16,Tbl[type]&MONTH(Tbl[DATE])&Tbl[Site],0)),0)} -> 0 | H19: {=IFERROR(INDEX(Tbl[VALEUR],MATCH(RECAP!$B19&RECAP!H$3&$A$16,Tbl[type]&MONTH(Tbl[DATE])&Tbl[Site],0)),0)} -> 0 | I19: {=IFERROR(INDEX(Tbl[VALEUR],MATCH(RECAP!$B19&RECAP!I$3&$A$16,Tbl[type]&MONTH(Tbl[DATE])&Tbl[Site],0)),0)} -> 3200 | J19: {=IFERROR(INDEX(Tbl[VALEUR],MATCH(RECAP!$B19&RECAP!J$3&$A$16,Tbl[type]&MONTH(Tbl[DATE])&Tbl[Site],0)),0)} -> 0 | ... N19: {=IFERROR(INDEX(Tbl[VALEUR],MATCH(RECAP!$B19&RECAP!N$3&$A$16,Tbl[type]&MONTH(Tbl[DATE])&Tbl[Site],0)),0)} -> 0
B20: LEASING | C20: {=IFERROR(INDEX(Tbl[VALEUR],MATCH(RECAP!$B20&RECAP!C$3&$A$16,Tbl[type]&MONTH(Tbl[DATE])&Tbl[Site],0)),0)} -> 0 | D20: {=IFERROR(INDEX(Tbl[VALEUR],MATCH(RECAP!$B20&RECAP!D$3&$A$16,Tbl[type]&MONTH(Tbl[DATE])&Tbl[Site],0)),0)} -> 0 | E20: {=IFERROR(INDEX(Tbl[VALEUR],MATCH(RECAP!$B20&RECAP!E$3&$A$16,Tbl[type]&MONTH(Tbl[DATE])&Tbl[Site],0)),0)} -> 0 | F20: {=IFERROR(INDEX(Tbl[VALEUR],MATCH(RECAP!$B20&RECAP!F$3&$A$16,Tbl[type]&MONTH(Tbl[DATE])&Tbl[Site],0)),0)} -> 0 | G20: {=IFERROR(INDEX(Tbl[VALEUR],MATCH(RECAP!$B20&RECAP!G$3&$A$16,Tbl[type]&MONTH(Tbl[DATE])&Tbl[Site],0)),0)} -> 0 | H20: {=IFERROR(INDEX(Tbl[VALEUR],MATCH(RECAP!$B20&RECAP!H$3&$A$16,Tbl[type]&MONTH(Tbl[DATE])&Tbl[Site],0)),0)} -> 0 | I20: {=IFERROR(INDEX(Tbl[VALEUR],MATCH(RECAP!$B20&RECAP!I$3&$A$16,Tbl[type]&MONTH(Tbl[DATE])&Tbl[Site],0)),0)} -> 0 | J20: {=IFERROR(INDEX(Tbl[VALEUR],MATCH(RECAP!$B20&RECAP!J$3&$A$16,Tbl[type]&MONTH(Tbl[DATE])&Tbl[Site],0)),0)} -> 9564 | ... N20: {=IFERROR(INDEX(Tbl[VALEUR],MATCH(RECAP!$B20&RECAP!N$3&$A$16,Tbl[type]&MONTH(Tbl[DATE])&Tbl[Site],0)),0)} -> 0
B21: PAIE | C21: {=IFERROR(INDEX(Tbl[VALEUR],MATCH(RECAP!$B21&RECAP!C$3&$A$16,Tbl[type]&MONTH(Tbl[DATE])&Tbl[Site],0)),0)} -> 0 | D21: {=IFERROR(INDEX(Tbl[VALEUR],MATCH(RECAP!$B21&RECAP!D$3&$A$16,Tbl[type]&MONTH(Tbl[DATE])&Tbl[Site],0)),0)} -> 0 | E21: {=IFERROR(INDEX(Tbl[VALEUR],MATCH(RECAP!$B21&RECAP!E$3&$A$16,Tbl[type]&MONTH(Tbl[DATE])&Tbl[Site],0)),0)} -> 0 | F21: {=IFERROR(INDEX(Tbl[VALEUR],MATCH(RECAP!$B21&RECAP!F$3&$A$16,Tbl[type]&MONTH(Tbl[DATE])&Tbl[Site],0)),0)} -> 0 | G21: {=IFERROR(INDEX(Tbl[VALEUR],MATCH(RECAP!$B21&RECAP!G$3&$A$16,Tbl[type]&MONTH(Tbl[DATE])&Tbl[Site],0)),0)} -> 0 | H21: {=IFERROR(INDEX(Tbl[VALEUR],MATCH(RECAP!$B21&RECAP!H$3&$A$16,Tbl[type]&MONTH(Tbl[DATE])&Tbl[Site],0)),0)} -> 0 | I21: {=IFERROR(INDEX(Tbl[VALEUR],MATCH(RECAP!$B21&RECAP!I$3&$A$16,Tbl[type]&MONTH(Tbl[DATE])&Tbl[Site],0)),0)} -> 0 | J21: {=IFERROR(INDEX(Tbl[VALEUR],MATCH(RECAP!$B21&RECAP!J$3&$A$16,Tbl[type]&MONTH(Tbl[DATE])&Tbl[Site],0)),0)} -> 0 | ... N21: {=IFERROR(INDEX(Tbl[VALEUR],MATCH(RECAP!$B21&RECAP!N$3&$A$16,Tbl[type]&MONTH(Tbl[DATE])&Tbl[Site],0)),0)} -> 0
B22: LOYER | C22: {=IFERROR(INDEX(Tbl[VALEUR],MATCH(RECAP!$B22&RECAP!C$3&$A$16,Tbl[type]&MONTH(Tbl[DATE])&Tbl[Site],0)),0)} -> 0 | D22: {=IFERROR(INDEX(Tbl[VALEUR],MATCH(RECAP!$B22&RECAP!D$3&$A$16,Tbl[type]&MONTH(Tbl[DATE])&Tbl[Site],0)),0)} -> 0 | E22: {=IFERROR(INDEX(Tbl[VALEUR],MATCH(RECAP!$B22&RECAP!E$3&$A$16,Tbl[type]&MONTH(Tbl[DATE])&Tbl[Site],0)),0)} -> 0 | F22: {=IFERROR(INDEX(Tbl[VALEUR],MATCH(RECAP!$B22&RECAP!F$3&$A$16,Tbl[type]&MONTH(Tbl[DATE])&Tbl[Site],0)),0)} -> 0 | G22: {=IFERROR(INDEX(Tbl[VALEUR],MATCH(RECAP!$B22&RECAP!G$3&$A$16,Tbl[type]&MONTH(Tbl[DATE])&Tbl[Site],0)),0)} -> 0 | H22: {=IFERROR(INDEX(Tbl[VALEUR],MATCH(RECAP!$B22&RECAP!H$3&$A$16,Tbl[type]&MONTH(Tbl[DATE])&Tbl[Site],0)),0)} -> 0 | I22: {=IFERROR(INDEX(Tbl[VALEUR],MATCH(RECAP!$B22&RECAP!I$3&$A$16,Tbl[type]&MONTH(Tbl[DATE])&Tbl[Site],0)),0)} -> 0 | J22: {=IFERROR(INDEX(Tbl[VALEUR],MATCH(RECAP!$B22&RECAP!J$3&$A$16,Tbl[type]&MONTH(Tbl[DATE])&Tbl[Site],0)),0)} -> 0 | ... N22: {=IFERROR(INDEX(Tbl[VALEUR],MATCH(RECAP!$B22&RECAP!N$3&$A$16,Tbl[type]&MONTH(Tbl[DATE])&Tbl[Site],0)),0)} -> 0
B23: DOTATIONS | C23: {=IFERROR(INDEX(Tbl[VALEUR],MATCH(RECAP!$B23&RECAP!C$3&$A$16,Tbl[type]&MONTH(Tbl[DATE])&Tbl[Site],0)),0)} -> 0 | D23: {=IFERROR(INDEX(Tbl[VALEUR],MATCH(RECAP!$B23&RECAP!D$3&$A$16,Tbl[type]&MONTH(Tbl[DATE])&Tbl[Site],0)),0)} -> 0 | E23: {=IFERROR(INDEX(Tbl[VALEUR],MATCH(RECAP!$B23&RECAP!E$3&$A$16,Tbl[type]&MONTH(Tbl[DATE])&Tbl[Site],0)),0)} -> 0 | F23: {=IFERROR(INDEX(Tbl[VALEUR],MATCH(RECAP!$B23&RECAP!F$3&$A$16,Tbl[type]&MONTH(Tbl[DATE])&Tbl[Site],0)),0)} -> 0 | G23: {=IFERROR(INDEX(Tbl[VALEUR],MATCH(RECAP!$B23&RECAP!G$3&$A$16,Tbl[type]&MONTH(Tbl[DATE])&Tbl[Site],0)),0)} -> 0 | H23: {=IFERROR(INDEX(Tbl[VALEUR],MATCH(RECAP!$B23&RECAP!H$3&$A$16,Tbl[type]&MONTH(Tbl[DATE])&Tbl[Site],0)),0)} -> 0 | I23: {=IFERROR(INDEX(Tbl[VALEUR],MATCH(RECAP!$B23&RECAP!I$3&$A$16,Tbl[type]&MONTH(Tbl[DATE])&Tbl[Site],0)),0)} -> 0 | J23: {=IFERROR(INDEX(Tbl[VALEUR],MATCH(RECAP!$B23&RECAP!J$3&$A$16,Tbl[type]&MONTH(Tbl[DATE])&Tbl[Site],0)),0)} -> 0 | ... N23: {=IFERROR(INDEX(Tbl[VALEUR],MATCH(RECAP!$B23&RECAP!N$3&$A$16,Tbl[type]&MONTH(Tbl[DATE])&Tbl[Site],0)),0)} -> 0
C24: =SUM(C17:C23) -> 0 | D24: =SUM(D17:D23) -> 0 | E24: =SUM(E17:E23) -> 0 | F24: =SUM(F17:F23) -> 0 | G24: =SUM(G17:G23) -> 1100 | H24: =SUM(H17:H23) -> 1300 | I24: =SUM(I17:I23) -> 3200 | J24: =SUM(J17:J23) -> 9564 | ... N24: =SUM(N17:N23) -> 0
