Workbook

Sheet PLANNING
A1: SEMAINE | B1: jour | C1: date | D1: JA | E1: SAV | F1: DR | G1: AE | H1: YD | I1: GL | J1: PC | L1: JPB | N1: M EXT | O1: AM EXT | P1: N EXT | Q1: 5h 17h | R1: 17h 5h | S1: verification poste | T1: JA | U1: SAV | V1: DR | W1: AE | X1: YD | Y1: GL | Z1: PC | AA1: verification weekend | AB1: JA | AC1: SAV | AD1: DR | AE1: AE | AF1: YD | AG1: GL | AH1: PC
A2: S1 | B2: lundi | C2: 43465 | D2: R | E2: R | F2: R | G2: CP | H2: M EXT | I2: J EXT | J2: R | N2: =COUNTIF($D2:$L2,N$1) -> 1 | O2: =COUNTIF($D2:$L2,O$1) -> 0 | P2: =COUNTIF($D2:$L2,P$1) -> 0 | Q2: =COUNTIF($D2:$L2,Q$1) -> 0 | R2: =COUNTIF($D2:$L2,R$1) -> 0 | T2: =IF($B2="samedi",IF(D2="r","",IF(D2="","",IF(D2="fe","",IF(D2="cp","",1)))),IF($B2="dimanche",IF(D2="r","",IF(D2="","",IF(D2="fe","",IF(D2="cp","",1)))),"")) | U2: =IF($B2="samedi",IF(E2="r","",IF(E2="","",IF(E2="fe","",IF(E2="cp","",1)))),IF($B2="dimanche",IF(E2="r","",IF(E2="","",IF(E2="fe","",IF(E2="cp","",1)))),"")) | V2: =IF($B2="samedi",IF(F2="r","",IF(F2="","",IF(F2="fe","",IF(F2="cp","",1)))),IF($B2="dimanche",IF(F2="r","",IF(F2="","",IF(F2="fe","",IF(F2="cp","",1)))),"")) | W2: =IF($B2="samedi",IF(G2="r","",IF(G2="","",IF(G2="fe","",IF(G2="cp","",1)))),IF($B2="dimanche",IF(G2="r","",IF(G2="","",IF(G2="fe","",IF(G2="cp","",1)))),"")) | X2: =IF($B2="samedi",IF(H2="r","",IF(H2="","",IF(H2="fe","",IF(H2="cp","",1)))),IF($B2="dimanche",IF(H2="r","",IF(H2="","",IF(H2="fe","",IF(H2="cp","",1)))),"")) | Y2: =IF($B2="samedi",IF(I2="r","",IF(I2="","",IF(I2="fe","",IF(I2="cp","",1)))),IF($B2="dimanche",IF(I2="r","",IF(I2="","",IF(I2="fe","",IF(I2="cp","",1)))),"")) | Z2: =IF($B2="samedi",IF(J2="r","",IF(J2="","",IF(J2="fe","",IF(J2="cp","",1)))),IF($B2="dimanche",IF(J2="r","",IF(J2="","",IF(J2="fe","",IF(J2="cp","",1)))),"")) | AB2: =+IF(T2=1,$C2,"") | AC2: =+IF(U2=1,$C2,"") | AD2: =+IF(V2=1,$C2,"") | AE2: =+IF(W2=1,$C2,"") | AF2: =+IF(X2=1,$C2,"") | AG2: =+IF(Y2=1,$C2,"") | AH2: =+IF(Z2=1,$C2,"")
B3: mardi | C3: 43466 | D3: FE | E3: N EXT | F3: FE | G3: FE | H3: FE | I3: AM EXT | J3: FE | N3: =COUNTIF($D3:$L3,N$1) -> 0 | O3: =COUNTIF($D3:$L3,O$1) -> 1 | P3: =COUNTIF($D3:$L3,P$1) -> 1 | Q3: =COUNTIF($D3:$L3,Q$1) -> 0 | R3: =COUNTIF($D3:$L3,R$1) -> 0 | T3: =IF($B3="samedi",IF(D3="r","",IF(D3="","",IF(D3="fe","",IF(D3="cp","",1)))),IF($B3="dimanche",IF(D3="r","",IF(D3="","",IF(D3="fe","",IF(D3="cp","",1)))),"")) | U3: =IF($B3="samedi",IF(E3="r","",IF(E3="","",IF(E3="fe","",IF(E3="cp","",1)))),IF($B3="dimanche",IF(E3="r","",IF(E3="","",IF(E3="fe","",IF(E3="cp","",1)))),"")) | V3: =IF($B3="samedi",IF(F3="r","",IF(F3="","",IF(F3="fe","",IF(F3="cp","",1)))),IF($B3="dimanche",IF(F3="r","",IF(F3="","",IF(F3="fe","",IF(F3="cp","",1)))),"")) | W3: =IF($B3="samedi",IF(G3="r","",IF(G3="","",IF(G3="fe","",IF(G3="cp","",1)))),IF($B3="dimanche",IF(G3="r","",IF(G3="","",IF(G3="fe","",IF(G3="cp","",1)))),"")) | X3: =IF($B3="samedi",IF(H3="r","",IF(H3="","",IF(H3="fe","",IF(H3="cp","",1)))),IF($B3="dimanche",IF(H3="r","",IF(H3="","",IF(H3="fe","",IF(H3="cp","",1)))),"")) | Y3: =IF($B3="samedi",IF(I3="r","",IF(I3="","",IF(I3="fe","",IF(I3="cp","",1)))),IF($B3="dimanche",IF(I3="r","",IF(I3="","",IF(I3="fe","",IF(I3="cp","",1)))),"")) | Z3: =IF($B3="samedi",IF(J3="r","",IF(J3="","",IF(J3="fe","",IF(J3="cp","",1)))),IF($B3="dimanche",IF(J3="r","",IF(J3="","",IF(J3="fe","",IF(J3="cp","",1)))),"")) | AB3: =+IF(T3=1,$C3,"") | AC3: =+IF(U3=1,$C3,"") | AD3: =+IF(V3=1,$C3,"") | AE3: =+IF(W3=1,$C3,"") | AF3: =+IF(X3=1,$C3,"") | AG3: =+IF(Y3=1,$C3,"") | AH3: =+IF(Z3=1,$C3,"")
B4: mercredi | C4: 43467 | D4: R | E4: N EXT | F4: J EXT | G4: CP | H4: M EXT | I4: AM EXT | J4: R | N4: =COUNTIF($D4:$L4,N$1) -> 1 | O4: =COUNTIF($D4:$L4,O$1) -> 1 | P4: =COUNTIF($D4:$L4,P$1) -> 1 | Q4: =COUNTIF($D4:$L4,Q$1) -> 0 | R4: =COUNTIF($D4:$L4,R$1) -> 0 | T4: =IF($B4="samedi",IF(D4="r","",IF(D4="","",IF(D4="fe","",IF(D4="cp","",1)))),IF($B4="dimanche",IF(D4="r","",IF(D4="","",IF(D4="fe","",IF(D4="cp","",1)))),"")) | U4: =IF($B4="samedi",IF(E4="r","",IF(E4="","",IF(E4="fe","",IF(E4="cp","",1)))),IF($B4="dimanche",IF(E4="r","",IF(E4="","",IF(E4="fe","",IF(E4="cp","",1)))),"")) | V4: =IF($B4="samedi",IF(F4="r","",IF(F4="","",IF(F4="fe","",IF(F4="cp","",1)))),IF($B4="dimanche",IF(F4="r","",IF(F4="","",IF(F4="fe","",IF(F4="cp","",1)))),"")) | W4: =IF($B4="samedi",IF(G4="r","",IF(G4="","",IF(G4="fe","",IF(G4="cp","",1)))),IF($B4="dimanche",IF(G4="r","",IF(G4="","",IF(G4="fe","",IF(G4="cp","",1)))),"")) | X4: =IF($B4="samedi",IF(H4="r","",IF(H4="","",IF(H4="fe","",IF(H4="cp","",1)))),IF($B4="dimanche",IF(H4="r","",IF(H4="","",IF(H4="fe","",IF(H4="cp","",1)))),"")) | Y4: =IF($B4="samedi",IF(I4="r","",IF(I4="","",IF(I4="fe","",IF(I4="cp","",1)))),IF($B4="dimanche",IF(I4="r","",IF(I4="","",IF(I4="fe","",IF(I4="cp","",1)))),"")) | Z4: =IF($B4="samedi",IF(J4="r","",IF(J4="","",IF(J4="fe","",IF(J4="cp","",1)))),IF($B4="dimanche",IF(J4="r","",IF(J4="","",IF(J4="fe","",IF(J4="cp","",1)))),"")) | AB4: =+IF(T4=1,$C4,"") | AC4: =+IF(U4=1,$C4,"") | AD4: =+IF(V4=1,$C4,"") | AE4: =+IF(W4=1,$C4,"") | AF4: =+IF(X4=1,$C4,"") | AG4: =+IF(Y4=1,$C4,"") | AH4: =+IF(Z4=1,$C4,"")
B5: jeudi | C5: 43468 | D5: J EXT | E5: N EXT | F5: J EXT | G5: CP | H5: M EXT | I5: AM EXT | J5: R | L5: J EXT | N5: =COUNTIF($D5:$L5,N$1) -> 1 | O5: =COUNTIF($D5:$L5,O$1) -> 1 | P5: =COUNTIF($D5:$L5,P$1) -> 1 | Q5: =COUNTIF($D5:$L5,Q$1) -> 0 | R5: =COUNTIF($D5:$L5,R$1) -> 0 | T5: =IF($B5="samedi",IF(D5="r","",IF(D5="","",IF(D5="fe","",IF(D5="cp","",1)))),IF($B5="dimanche",IF(D5="r","",IF(D5="","",IF(D5="fe","",IF(D5="cp","",1)))),"")) | U5: =IF($B5="samedi",IF(E5="r","",IF(E5="","",IF(E5="fe","",IF(E5="cp","",1)))),IF($B5="dimanche",IF(E5="r","",IF(E5="","",IF(E5="fe","",IF(E5="cp","",1)))),"")) | V5: =IF($B5="samedi",IF(F5="r","",IF(F5="","",IF(F5="fe","",IF(F5="cp","",1)))),IF($B5="dimanche",IF(F5="r","",IF(F5="","",IF(F5="fe","",IF(F5="cp","",1)))),"")) | W5: =IF($B5="samedi",IF(G5="r","",IF(G5="","",IF(G5="fe","",IF(G5="cp","",1)))),IF($B5="dimanche",IF(G5="r","",IF(G5="","",IF(G5="fe","",IF(G5="cp","",1)))),"")) | X5: =IF($B5="samedi",IF(H5="r","",IF(H5="","",IF(H5="fe","",IF(H5="cp","",1)))),IF($B5="dimanche",IF(H5="r","",IF(H5="","",IF(H5="fe","",IF(H5="cp","",1)))),"")) | Y5: =IF($B5="samedi",IF(I5="r","",IF(I5="","",IF(I5="fe","",IF(I5="cp","",1)))),IF($B5="dimanche",IF(I5="r","",IF(I5="","",IF(I5="fe","",IF(I5="cp","",1)))),"")) | Z5: =IF($B5="samedi",IF(J5="r","",IF(J5="","",IF(J5="fe","",IF(J5="cp","",1)))),IF($B5="dimanche",IF(J5="r","",IF(J5="","",IF(J5="fe","",IF(J5="cp","",1)))),"")) | AB5: =+IF(T5=1,$C5,"") | AC5: =+IF(U5=1,$C5,"") | AD5: =+IF(V5=1,$C5,"") | AE5: =+IF(W5=1,$C5,"") | AF5: =+IF(X5=1,$C5,"") | AG5: =+IF(Y5=1,$C5,"") | AH5: =+IF(Z5=1,$C5,"")
B6: vendredi | C6: 43469 | D6: J EXT | E6: N EXT | F6: J EXT | G6: CP | H6: M EXT | I6: AM EXT | J6: R | L6: J EXT | N6: =COUNTIF($D6:$L6,N$1) -> 1 | O6: =COUNTIF($D6:$L6,O$1) -> 1 | P6: =COUNTIF($D6:$L6,P$1) -> 1 | Q6: =COUNTIF($D6:$L6,Q$1) -> 0 | R6: =COUNTIF($D6:$L6,R$1) -> 0 | T6: =IF($B6="samedi",IF(D6="r","",IF(D6="","",IF(D6="fe","",IF(D6="cp","",1)))),IF($B6="dimanche",IF(D6="r","",IF(D6="","",IF(D6="fe","",IF(D6="cp","",1)))),"")) | U6: =IF($B6="samedi",IF(E6="r","",IF(E6="","",IF(E6="fe","",IF(E6="cp","",1)))),IF($B6="dimanche",IF(E6="r","",IF(E6="","",IF(E6="fe","",IF(E6="cp","",1)))),"")) | V6: =IF($B6="samedi",IF(F6="r","",IF(F6="","",IF(F6="fe","",IF(F6="cp","",1)))),IF($B6="dimanche",IF(F6="r","",IF(F6="","",IF(F6="fe","",IF(F6="cp","",1)))),"")) | W6: =IF($B6="samedi",IF(G6="r","",IF(G6="","",IF(G6="fe","",IF(G6="cp","",1)))),IF($B6="dimanche",IF(G6="r","",IF(G6="","",IF(G6="fe","",IF(G6="cp","",1)))),"")) | X6: =IF($B6="samedi",IF(H6="r","",IF(H6="","",IF(H6="fe","",IF(H6="cp","",1)))),IF($B6="dimanche",IF(H6="r","",IF(H6="","",IF(H6="fe","",IF(H6="cp","",1)))),"")) | Y6: =IF($B6="samedi",IF(I6="r","",IF(I6="","",IF(I6="fe","",IF(I6="cp","",1)))),IF($B6="dimanche",IF(I6="r","",IF(I6="","",IF(I6="fe","",IF(I6="cp","",1)))),"")) | Z6: =IF($B6="samedi",IF(J6="r","",IF(J6="","",IF(J6="fe","",IF(J6="cp","",1)))),IF($B6="dimanche",IF(J6="r","",IF(J6="","",IF(J6="fe","",IF(J6="cp","",1)))),"")) | AB6: =+IF(T6=1,$C6,"") | AC6: =+IF(U6=1,$C6,"") | AD6: =+IF(V6=1,$C6,"") | AE6: =+IF(W6=1,$C6,"") | AF6: =+IF(X6=1,$C6,"") | AG6: =+IF(Y6=1,$C6,"") | AH6: =+IF(Z6=1,$C6,"")
B7: samedi | C7: 43470 | D7: R | E7: R | F7: M EXT | G7: R | H7: R | I7: R | J7: 17H 5H | N7: =COUNTIF($D7:$L7,N$1) -> 1 | O7: =COUNTIF($D7:$L7,O$1) -> 0 | P7: =COUNTIF($D7:$L7,P$1) -> 0 | Q7: =COUNTIF($D7:$L7,Q$1) -> 0 | R7: =COUNTIF($D7:$L7,R$1) -> 1 | T7: =IF($B7="samedi",IF(D7="r","",IF(D7="","",IF(D7="fe","",IF(D7="cp","",1)))),IF($B7="dimanche",IF(D7="r","",IF(D7="","",IF(D7="fe","",IF(D7="cp","",1)))),"")) | U7: =IF($B7="samedi",IF(E7="r","",IF(E7="","",IF(E7="fe","",IF(E7="cp","",1)))),IF($B7="dimanche",IF(E7="r","",IF(E7="","",IF(E7="fe","",IF(E7="cp","",1)))),"")) | V7: =IF($B7="samedi",IF(F7="r","",IF(F7="","",IF(F7="fe","",IF(F7="cp","",1)))),IF($B7="dimanche",IF(F7="r","",IF(F7="","",IF(F7="fe","",IF(F7="cp","",1)))),"")) -> 1 | W7: =IF($B7="samedi",IF(G7="r","",IF(G7="","",IF(G7="fe","",IF(G7="cp","",1)))),IF($B7="dimanche",IF(G7="r","",IF(G7="","",IF(G7="fe","",IF(G7="cp","",1)))),"")) | X7: =IF($B7="samedi",IF(H7="r","",IF(H7="","",IF(H7="fe","",IF(H7="cp","",1)))),IF($B7="dimanche",IF(H7="r","",IF(H7="","",IF(H7="fe","",IF(H7="cp","",1)))),"")) | Y7: =IF($B7="samedi",IF(I7="r","",IF(I7="","",IF(I7="fe","",IF(I7="cp","",1)))),IF($B7="dimanche",IF(I7="r","",IF(I7="","",IF(I7="fe","",IF(I7="cp","",1)))),"")) | Z7: =IF($B7="samedi",IF(J7="r","",IF(J7="","",IF(J7="fe","",IF(J7="cp","",1)))),IF($B7="dimanche",IF(J7="r","",IF(J7="","",IF(J7="fe","",IF(J7="cp","",1)))),"")) -> 1 | AB7: =+IF(T7=1,$C7,"") | AC7: =+IF(U7=1,$C7,"") | AD7: =+IF(V7=1,$C7,"") -> 43470 | AE7: =+IF(W7=1,$C7,"") | AF7: =+IF(X7=1,$C7,"") | AG7: =+IF(Y7=1,$C7,"") | AH7: =+IF(Z7=1,$C7,"") -> 43470
B8: dimanche | C8: 43471 | D8: R | E8: R | F8: M EXT | G8: R | H8: R | I8: R | J8: 17H 5H | N8: =COUNTIF($D8:$L8,N$1) -> 1 | O8: =COUNTIF($D8:$L8,O$1) -> 0 | P8: =COUNTIF($D8:$L8,P$1) -> 0 | Q8: =COUNTIF($D8:$L8,Q$1) -> 0 | R8: =COUNTIF($D8:$L8,R$1) -> 1 | T8: =IF($B8="samedi",IF(D8="r","",IF(D8="","",IF(D8="fe","",IF(D8="cp","",1)))),IF($B8="dimanche",IF(D8="r","",IF(D8="","",IF(D8="fe","",IF(D8="cp","",1)))),"")) | U8: =IF($B8="samedi",IF(E8="r","",IF(E8="","",IF(E8="fe","",IF(E8="cp","",1)))),IF($B8="dimanche",IF(E8="r","",IF(E8="","",IF(E8="fe","",IF(E8="cp","",1)))),"")) | V8: =IF($B8="samedi",IF(F8="r","",IF(F8="","",IF(F8="fe","",IF(F8="cp","",1)))),IF($B8="dimanche",IF(F8="r","",IF(F8="","",IF(F8="fe","",IF(F8="cp","",1)))),"")) -> 1 | W8: =IF($B8="samedi",IF(G8="r","",IF(G8="","",IF(G8="fe","",IF(G8="cp","",1)))),IF($B8="dimanche",IF(G8="r","",IF(G8="","",IF(G8="fe","",IF(G8="cp","",1)))),"")) | X8: =IF($B8="samedi",IF(H8="r","",IF(H8="","",IF(H8="fe","",IF(H8="cp","",1)))),IF($B8="dimanche",IF(H8="r","",IF(H8="","",IF(H8="fe","",IF(H8="cp","",1)))),"")) | Y8: =IF($B8="samedi",IF(I8="r","",IF(I8="","",IF(I8="fe","",IF(I8="cp","",1)))),IF($B8="dimanche",IF(I8="r","",IF(I8="","",IF(I8="fe","",IF(I8="cp","",1)))),"")) | Z8: =IF($B8="samedi",IF(J8="r","",IF(J8="","",IF(J8="fe","",IF(J8="cp","",1)))),IF($B8="dimanche",IF(J8="r","",IF(J8="","",IF(J8="fe","",IF(J8="cp","",1)))),"")) -> 1 | AB8: =+IF(T8=1,$C8,"") | AC8: =+IF(U8=1,$C8,"") | AD8: =+IF(V8=1,$C8,"") -> 43471 | AE8: =+IF(W8=1,$C8,"") | AF8: =+IF(X8=1,$C8,"") | AG8: =+IF(Y8=1,$C8,"") | AH8: =+IF(Z8=1,$C8,"") -> 43471
A9: S2 | B9: lundi | C9: 43472 | D9: J EXT | E9: M EXT | F9: R | G9: R | H9: N EXT | I9: AM EXT | J9: R | N9: =COUNTIF($D9:$L9,N$1) -> 1 | O9: =COUNTIF($D9:$L9,O$1) -> 1 | P9: =COUNTIF($D9:$L9,P$1) -> 1 | Q9: =COUNTIF($D9:$L9,Q$1) -> 0 | R9: =COUNTIF($D9:$L9,R$1) -> 0 | T9: =IF($B9="samedi",IF(D9="r","",IF(D9="","",IF(D9="fe","",IF(D9="cp","",1)))),IF($B9="dimanche",IF(D9="r","",IF(D9="","",IF(D9="fe","",IF(D9="cp","",1)))),"")) | U9: =IF($B9="samedi",IF(E9="r","",IF(E9="","",IF(E9="fe","",IF(E9="cp","",1)))),IF($B9="dimanche",IF(E9="r","",IF(E9="","",IF(E9="fe","",IF(E9="cp","",1)))),"")) | V9: =IF($B9="samedi",IF(F9="r","",IF(F9="","",IF(F9="fe","",IF(F9="cp","",1)))),IF($B9="dimanche",IF(F9="r","",IF(F9="","",IF(F9="fe","",IF(F9="cp","",1)))),"")) | W9: =IF($B9="samedi",IF(G9="r","",IF(G9="","",IF(G9="fe","",IF(G9="cp","",1)))),IF($B9="dimanche",IF(G9="r","",IF(G9="","",IF(G9="fe","",IF(G9="cp","",1)))),"")) | X9: =IF($B9="samedi",IF(H9="r","",IF(H9="","",IF(H9="fe","",IF(H9="cp","",1)))),IF($B9="dimanche",IF(H9="r","",IF(H9="","",IF(H9="fe","",IF(H9="cp","",1)))),"")) | Y9: =IF($B9="samedi",IF(I9="r","",IF(I9="","",IF(I9="fe","",IF(I9="cp","",1)))),IF($B9="dimanche",IF(I9="r","",IF(I9="","",IF(I9="fe","",IF(I9="cp","",1)))),"")) | Z9: =IF($B9="samedi",IF(J9="r","",IF(J9="","",IF(J9="fe","",IF(J9="cp","",1)))),IF($B9="dimanche",IF(J9="r","",IF(J9="","",IF(J9="fe","",IF(J9="cp","",1)))),"")) | AB9: =+IF(T9=1,$C9,"") | AC9: =+IF(U9=1,$C9,"") | AD9: =+IF(V9=1,$C9,"") | AE9: =+IF(W9=1,$C9,"") | AF9: =+IF(X9=1,$C9,"") | AG9: =+IF(Y9=1,$C9,"") | AH9: =+IF(Z9=1,$C9,"")
B10: mardi | C10: 43473 | D10: J EXT | E10: M EXT | F10: R | G10: R | H10: N EXT | I10: AM EXT | J10: R | N10: =COUNTIF($D10:$L10,N$1) -> 1 | O10: =COUNTIF($D10:$L10,O$1) -> 1 | P10: =COUNTIF($D10:$L10,P$1) -> 1 | Q10: =COUNTIF($D10:$L10,Q$1) -> 0 | R10: =COUNTIF($D10:$L10,R$1) -> 0 | T10: =IF($B10="samedi",IF(D10="r","",IF(D10="","",IF(D10="fe","",IF(D10="cp","",1)))),IF($B10="dimanche",IF(D10="r","",IF(D10="","",IF(D10="fe","",IF(D10="cp","",1)))),"")) | U10: =IF($B10="samedi",IF(E10="r","",IF(E10="","",IF(E10="fe","",IF(E10="cp","",1)))),IF($B10="dimanche",IF(E10="r","",IF(E10="","",IF(E10="fe","",IF(E10="cp","",1)))),"")) | V10: =IF($B10="samedi",IF(F10="r","",IF(F10="","",IF(F10="fe","",IF(F10="cp","",1)))),IF($B10="dimanche",IF(F10="r","",IF(F10="","",IF(F10="fe","",IF(F10="cp","",1)))),"")) | W10: =IF($B10="samedi",IF(G10="r","",IF(G10="","",IF(G10="fe","",IF(G10="cp","",1)))),IF($B10="dimanche",IF(G10="r","",IF(G10="","",IF(G10="fe","",IF(G10="cp","",1)))),"")) | X10: =IF($B10="samedi",IF(H10="r","",IF(H10="","",IF(H10="fe","",IF(H10="cp","",1)))),IF($B10="dimanche",IF(H10="r","",IF(H10="","",IF(H10="fe","",IF(H10="cp","",1)))),"")) | Y10: =IF($B10="samedi",IF(I10="r","",IF(I10="","",IF(I10="fe","",IF(I10="cp","",1)))),IF($B10="dimanche",IF(I10="r","",IF(I10="","",IF(I10="fe","",IF(I10="cp","",1)))),"")) | Z10: =IF($B10="samedi",IF(J10="r","",IF(J10="","",IF(J10="fe","",IF(J10="cp","",1)))),IF($B10="dimanche",IF(J10="r","",IF(J10="","",IF(J10="fe","",IF(J10="cp","",1)))),"")) | AB10: =+IF(T10=1,$C10,"") | AC10: =+IF(U10=1,$C10,"") | AD10: =+IF(V10=1,$C10,"") | AE10: =+IF(W10=1,$C10,"") | AF10: =+IF(X10=1,$C10,"") | AG10: =+IF(Y10=1,$C10,"") | AH10: =+IF(Z10=1,$C10,"")
B11: mercredi | C11: 43474 | D11: J EXT | E11: M EXT | F11: AM EXT | G11: J EXT | H11: N EXT | I11: R | J11: R | N11: =COUNTIF($D11:$L11,N$1) -> 1 | O11: =COUNTIF($D11:$L11,O$1) -> 1 | P11: =COUNTIF($D11:$L11,P$1) -> 1 | Q11: =COUNTIF($D11:$L11,Q$1) -> 0 | R11: =COUNTIF($D11:$L11,R$1) -> 0 | T11: =IF($B11="samedi",IF(D11="r","",IF(D11="","",IF(D11="fe","",IF(D11="cp","",1)))),IF($B11="dimanche",IF(D11="r","",IF(D11="","",IF(D11="fe","",IF(D11="cp","",1)))),"")) | U11: =IF($B11="samedi",IF(E11="r","",IF(E11="","",IF(E11="fe","",IF(E11="cp","",1)))),IF($B11="dimanche",IF(E11="r","",IF(E11="","",IF(E11="fe","",IF(E11="cp","",1)))),"")) | V11: =IF($B11="samedi",IF(F11="r","",IF(F11="","",IF(F11="fe","",IF(F11="cp","",1)))),IF($B11="dimanche",IF(F11="r","",IF(F11="","",IF(F11="fe","",IF(F11="cp","",1)))),"")) | W11: =IF($B11="samedi",IF(G11="r","",IF(G11="","",IF(G11="fe","",IF(G11="cp","",1)))),IF($B11="dimanche",IF(G11="r","",IF(G11="","",IF(G11="fe","",IF(G11="cp","",1)))),"")) | X11: =IF($B11="samedi",IF(H11="r","",IF(H11="","",IF(H11="fe","",IF(H11="cp","",1)))),IF($B11="dimanche",IF(H11="r","",IF(H11="","",IF(H11="fe","",IF(H11="cp","",1)))),"")) | Y11: =IF($B11="samedi",IF(I11="r","",IF(I11="","",IF(I11="fe","",IF(I11="cp","",1)))),IF($B11="dimanche",IF(I11="r","",IF(I11="","",IF(I11="fe","",IF(I11="cp","",1)))),"")) | Z11: =IF($B11="samedi",IF(J11="r","",IF(J11="","",IF(J11="fe","",IF(J11="cp","",1)))),IF($B11="dimanche",IF(J11="r","",IF(J11="","",IF(J11="fe","",IF(J11="cp","",1)))),"")) | AB11: =+IF(T11=1,$C11,"") | AC11: =+IF(U11=1,$C11,"") | AD11: =+IF(V11=1,$C11,"") | AE11: =+IF(W11=1,$C11,"") | AF11: =+IF(X11=1,$C11,"") | AG11: =+IF(Y11=1,$C11,"") | AH11: =+IF(Z11=1,$C11,"")
B12: jeudi | C12: 43475 | D12: J EXT | E12: M EXT | F12: AM EXT | G12: J EXT | H12: N EXT | I12: R | J12: R | N12: =COUNTIF($D12:$L12,N$1) -> 1 | O12: =COUNTIF($D12:$L12,O$1) -> 1 | P12: =COUNTIF($D12:$L12,P$1) -> 1 | Q12: =COUNTIF($D12:$L12,Q$1) -> 0 | R12: =COUNTIF($D12:$L12,R$1) -> 0 | T12: =IF($B12="samedi",IF(D12="r","",IF(D12="","",IF(D12="fe","",IF(D12="cp","",1)))),IF($B12="dimanche",IF(D12="r","",IF(D12="","",IF(D12="fe","",IF(D12="cp","",1)))),"")) | U12: =IF($B12="samedi",IF(E12="r","",IF(E12="","",IF(E12="fe","",IF(E12="cp","",1)))),IF($B12="dimanche",IF(E12="r","",IF(E12="","",IF(E12="fe","",IF(E12="cp","",1)))),"")) | V12: =IF($B12="samedi",IF(F12="r","",IF(F12="","",IF(F12="fe","",IF(F12="cp","",1)))),IF($B12="dimanche",IF(F12="r","",IF(F12="","",IF(F12="fe","",IF(F12="cp","",1)))),"")) | W12: =IF($B12="samedi",IF(G12="r","",IF(G12="","",IF(G12="fe","",IF(G12="cp","",1)))),IF($B12="dimanche",IF(G12="r","",IF(G12="","",IF(G12="fe","",IF(G12="cp","",1)))),"")) | X12: =IF($B12="samedi",IF(H12="r","",IF(H12="","",IF(H12="fe","",IF(H12="cp","",1)))),IF($B12="dimanche",IF(H12="r","",IF(H12="","",IF(H12="fe","",IF(H12="cp","",1)))),"")) | Y12: =IF($B12="samedi",IF(I12="r","",IF(I12="","",IF(I12="fe","",IF(I12="cp","",1)))),IF($B12="dimanche",IF(I12="r","",IF(I12="","",IF(I12="fe","",IF(I12="cp","",1)))),"")) | Z12: =IF($B12="samedi",IF(J12="r","",IF(J12="","",IF(J12="fe","",IF(J12="cp","",1)))),IF($B12="dimanche",IF(J12="r","",IF(J12="","",IF(J12="fe","",IF(J12="cp","",1)))),"")) | AB12: =+IF(T12=1,$C12,"") | AC12: =+IF(U12=1,$C12,"") | AD12: =+IF(V12=1,$C12,"") | AE12: =+IF(W12=1,$C12,"") | AF12: =+IF(X12=1,$C12,"") | AG12: =+IF(Y12=1,$C12,"") | AH12: =+IF(Z12=1,$C12,"")
B13: vendredi | C13: 43476 | D13: J EXT | E13: R | F13: AM EXT | G13: J EXT | H13: N EXT | I13: M EXT | J13: R | N13: =COUNTIF($D13:$L13,N$1) -> 1 | O13: =COUNTIF($D13:$L13,O$1) -> 1 | P13: =COUNTIF($D13:$L13,P$1) -> 1 | Q13: =COUNTIF($D13:$L13,Q$1) -> 0 | R13: =COUNTIF($D13:$L13,R$1) -> 0 | T13: =IF($B13="samedi",IF(D13="r","",IF(D13="","",IF(D13="fe","",IF(D13="cp","",1)))),IF($B13="dimanche",IF(D13="r","",IF(D13="","",IF(D13="fe","",IF(D13="cp","",1)))),"")) | U13: =IF($B13="samedi",IF(E13="r","",IF(E13="","",IF(E13="fe","",IF(E13="cp","",1)))),IF($B13="dimanche",IF(E13="r","",IF(E13="","",IF(E13="fe","",IF(E13="cp","",1)))),"")) | V13: =IF($B13="samedi",IF(F13="r","",IF(F13="","",IF(F13="fe","",IF(F13="cp","",1)))),IF($B13="dimanche",IF(F13="r","",IF(F13="","",IF(F13="fe","",IF(F13="cp","",1)))),"")) | W13: =IF($B13="samedi",IF(G13="r","",IF(G13="","",IF(G13="fe","",IF(G13="cp","",1)))),IF($B13="dimanche",IF(G13="r","",IF(G13="","",IF(G13="fe","",IF(G13="cp","",1)))),"")) | X13: =IF($B13="samedi",IF(H13="r","",IF(H13="","",IF(H13="fe","",IF(H13="cp","",1)))),IF($B13="dimanche",IF(H13="r","",IF(H13="","",IF(H13="fe","",IF(H13="cp","",1)))),"")) | Y13: =IF($B13="samedi",IF(I13="r","",IF(I13="","",IF(I13="fe","",IF(I13="cp","",1)))),IF($B13="dimanche",IF(I13="r","",IF(I13="","",IF(I13="fe","",IF(I13="cp","",1)))),"")) | Z13: =IF($B13="samedi",IF(J13="r","",IF(J13="","",IF(J13="fe","",IF(J13="cp","",1)))),IF($B13="dimanche",IF(J13="r","",IF(J13="","",IF(J13="fe","",IF(J13="cp","",1)))),"")) | AB13: =+IF(T13=1,$C13,"") | AC13: =+IF(U13=1,$C13,"") | AD13: =+IF(V13=1,$C13,"") | AE13: =+IF(W13=1,$C13,"") | AF13: =+IF(X13=1,$C13,"") | AG13: =+IF(Y13=1,$C13,"") | AH13: =+IF(Z13=1,$C13,"")
B14: samedi | C14: 43477 | D14: R | E14: R | F14: R | G14: R | H14: R | I14: M EXT | J14: 17H 5H | N14: =COUNTIF($D14:$L14,N$1) -> 1 | O14: =COUNTIF($D14:$L14,O$1) -> 0 | P14: =COUNTIF($D14:$L14,P$1) -> 0 | Q14: =COUNTIF($D14:$L14,Q$1) -> 0 | R14: =COUNTIF($D14:$L14,R$1) -> 1 | T14: =IF($B14="samedi",IF(D14="r","",IF(D14="","",IF(D14="fe","",IF(D14="cp","",1)))),IF($B14="dimanche",IF(D14="r","",IF(D14="","",IF(D14="fe","",IF(D14="cp","",1)))),"")) | U14: =IF($B14="samedi",IF(E14="r","",IF(E14="","",IF(E14="fe","",IF(E14="cp","",1)))),IF($B14="dimanche",IF(E14="r","",IF(E14="","",IF(E14="fe","",IF(E14="cp","",1)))),"")) | V14: =IF($B14="samedi",IF(F14="r","",IF(F14="","",IF(F14="fe","",IF(F14="cp","",1)))),IF($B14="dimanche",IF(F14="r","",IF(F14="","",IF(F14="fe","",IF(F14="cp","",1)))),"")) | W14: =IF($B14="samedi",IF(G14="r","",IF(G14="","",IF(G14="fe","",IF(G14="cp","",1)))),IF($B14="dimanche",IF(G14="r","",IF(G14="","",IF(G14="fe","",IF(G14="cp","",1)))),"")) | X14: =IF($B14="samedi",IF(H14="r","",IF(H14="","",IF(H14="fe","",IF(H14="cp","",1)))),IF($B14="dimanche",IF(H14="r","",IF(H14="","",IF(H14="fe","",IF(H14="cp","",1)))),"")) | Y14: =IF($B14="samedi",IF(I14="r","",IF(I14="","",IF(I14="fe","",IF(I14="cp","",1)))),IF($B14="dimanche",IF(I14="r","",IF(I14="","",IF(I14="fe","",IF(I14="cp","",1)))),"")) -> 1 | Z14: =IF($B14="samedi",IF(J14="r","",IF(J14="","",IF(J14="fe","",IF(J14="cp","",1)))),IF($B14="dimanche",IF(J14="r","",IF(J14="","",IF(J14="fe","",IF(J14="cp","",1)))),"")) -> 1 | AB14: =+IF(T14=1,$C14,"") | AC14: =+IF(U14=1,$C14,"") | AD14: =+IF(V14=1,$C14,"") | AE14: =+IF(W14=1,$C14,"") | AF14: =+IF(X14=1,$C14,"") | AG14: =+IF(Y14=1,$C14,"") -> 43477 | AH14: =+IF(Z14=1,$C14,"") -> 43477
B15: dimanche | C15: 43478 | D15: R | E15: R | F15: R | G15: R | H15: R | I15: M EXT | J15: 17H 5H | N15: =COUNTIF($D15:$L15,N$1) -> 1 | O15: =COUNTIF($D15:$L15,O$1) -> 0 | P15: =COUNTIF($D15:$L15,P$1) -> 0 | Q15: =COUNTIF($D15:$L15,Q$1) -> 0 | R15: =COUNTIF($D15:$L15,R$1) -> 1 | T15: =IF($B15="samedi",IF(D15="r","",IF(D15="","",IF(D15="fe","",IF(D15="cp","",1)))),IF($B15="dimanche",IF(D15="r","",IF(D15="","",IF(D15="fe","",IF(D15="cp","",1)))),"")) | U15: =IF($B15="samedi",IF(E15="r","",IF(E15="","",IF(E15="fe","",IF(E15="cp","",1)))),IF($B15="dimanche",IF(E15="r","",IF(E15="","",IF(E15="fe","",IF(E15="cp","",1)))),"")) | V15: =IF($B15="samedi",IF(F15="r","",IF(F15="","",IF(F15="fe","",IF(F15="cp","",1)))),IF($B15="dimanche",IF(F15="r","",IF(F15="","",IF(F15="fe","",IF(F15="cp","",1)))),"")) | W15: =IF($B15="samedi",IF(G15="r","",IF(G15="","",IF(G15="fe","",IF(G15="cp","",1)))),IF($B15="dimanche",IF(G15="r","",IF(G15="","",IF(G15="fe","",IF(G15="cp","",1)))),"")) | X15: =IF($B15="samedi",IF(H15="r","",IF(H15="","",IF(H15="fe","",IF(H15="cp","",1)))),IF($B15="dimanche",IF(H15="r","",IF(H15="","",IF(H15="fe","",IF(H15="cp","",1)))),"")) | Y15: =IF($B15="samedi",IF(I15="r","",IF(I15="","",IF(I15="fe","",IF(I15="cp","",1)))),IF($B15="dimanche",IF(I15="r","",IF(I15="","",IF(I15="fe","",IF(I15="cp","",1)))),"")) -> 1 | Z15: =IF($B15="samedi",IF(J15="r","",IF(J15="","",IF(J15="fe","",IF(J15="cp","",1)))),IF($B15="dimanche",IF(J15="r","",IF(J15="","",IF(J15="fe","",IF(J15="cp","",1)))),"")) -> 1 | AB15: =+IF(T15=1,$C15,"") | AC15: =+IF(U15=1,$C15,"") | AD15: =+IF(V15=1,$C15,"") | AE15: =+IF(W15=1,$C15,"") | AF15: =+IF(X15=1,$C15,"") | AG15: =+IF(Y15=1,$C15,"") -> 43478 | AH15: =+IF(Z15=1,$C15,"") -> 43478
A16: S3 | B16: lundi | C16: 43479 | D16: J EXT | E16: N EXT | F16: J EXT | G16: AM EXT | H16: J EXT | I16: M EXT | J16: R | N16: =COUNTIF($D16:$L16,N$1) -> 1 | O16: =COUNTIF($D16:$L16,O$1) -> 1 | P16: =COUNTIF($D16:$L16,P$1) -> 1 | Q16: =COUNTIF($D16:$L16,Q$1) -> 0 | R16: =COUNTIF($D16:$L16,R$1) -> 0 | T16: =IF($B16="samedi",IF(D16="r","",IF(D16="","",IF(D16="fe","",IF(D16="cp","",1)))),IF($B16="dimanche",IF(D16="r","",IF(D16="","",IF(D16="fe","",IF(D16="cp","",1)))),"")) | U16: =IF($B16="samedi",IF(E16="r","",IF(E16="","",IF(E16="fe","",IF(E16="cp","",1)))),IF($B16="dimanche",IF(E16="r","",IF(E16="","",IF(E16="fe","",IF(E16="cp","",1)))),"")) | V16: =IF($B16="samedi",IF(F16="r","",IF(F16="","",IF(F16="fe","",IF(F16="cp","",1)))),IF($B16="dimanche",IF(F16="r","",IF(F16="","",IF(F16="fe","",IF(F16="cp","",1)))),"")) | W16: =IF($B16="samedi",IF(G16="r","",IF(G16="","",IF(G16="fe","",IF(G16="cp","",1)))),IF($B16="dimanche",IF(G16="r","",IF(G16="","",IF(G16="fe","",IF(G16="cp","",1)))),"")) | X16: =IF($B16="samedi",IF(H16="r","",IF(H16="","",IF(H16="fe","",IF(H16="cp","",1)))),IF($B16="dimanche",IF(H16="r","",IF(H16="","",IF(H16="fe","",IF(H16="cp","",1)))),"")) | Y16: =IF($B16="samedi",IF(I16="r","",IF(I16="","",IF(I16="fe","",IF(I16="cp","",1)))),IF($B16="dimanche",IF(I16="r","",IF(I16="","",IF(I16="fe","",IF(I16="cp","",1)))),"")) | Z16: =IF($B16="samedi",IF(J16="r","",IF(J16="","",IF(J16="fe","",IF(J16="cp","",1)))),IF($B16="dimanche",IF(J16="r","",IF(J16="","",IF(J16="fe","",IF(J16="cp","",1)))),"")) | AB16: =+IF(T16=1,$C16,"") | AC16: =+IF(U16=1,$C16,"") | AD16: =+IF(V16=1,$C16,"") | AE16: =+IF(W16=1,$C16,"") | AF16: =+IF(X16=1,$C16,"") | AG16: =+IF(Y16=1,$C16,"") | AH16: =+IF(Z16=1,$C16,"")
B17: mardi | C17: 43480 | D17: J EXT | E17: N EXT | F17: J EXT | G17: AM EXT | H17: J EXT | I17: M EXT | J17: R | N17: =COUNTIF($D17:$L17,N$1) -> 1 | O17: =COUNTIF($D17:$L17,O$1) -> 1 | P17: =COUNTIF($D17:$L17,P$1) -> 1 | Q17: =COUNTIF($D17:$L17,Q$1) -> 0 | R17: =COUNTIF($D17:$L17,R$1) -> 0 | T17: =IF($B17="samedi",IF(D17="r","",IF(D17="","",IF(D17="fe","",IF(D17="cp","",1)))),IF($B17="dimanche",IF(D17="r","",IF(D17="","",IF(D17="fe","",IF(D17="cp","",1)))),"")) | U17: =IF($B17="samedi",IF(E17="r","",IF(E17="","",IF(E17="fe","",IF(E17="cp","",1)))),IF($B17="dimanche",IF(E17="r","",IF(E17="","",IF(E17="fe","",IF(E17="cp","",1)))),"")) | V17: =IF($B17="samedi",IF(F17="r","",IF(F17="","",IF(F17="fe","",IF(F17="cp","",1)))),IF($B17="dimanche",IF(F17="r","",IF(F17="","",IF(F17="fe","",IF(F17="cp","",1)))),"")) | W17: =IF($B17="samedi",IF(G17="r","",IF(G17="","",IF(G17="fe","",IF(G17="cp","",1)))),IF($B17="dimanche",IF(G17="r","",IF(G17="","",IF(G17="fe","",IF(G17="cp","",1)))),"")) | X17: =IF($B17="samedi",IF(H17="r","",IF(H17="","",IF(H17="fe","",IF(H17="cp","",1)))),IF($B17="dimanche",IF(H17="r","",IF(H17="","",IF(H17="fe","",IF(H17="cp","",1)))),"")) | Y17: =IF($B17="samedi",IF(I17="r","",IF(I17="","",IF(I17="fe","",IF(I17="cp","",1)))),IF($B17="dimanche",IF(I17="r","",IF(I17="","",IF(I17="fe","",IF(I17="cp","",1)))),"")) | Z17: =IF($B17="samedi",IF(J17="r","",IF(J17="","",IF(J17="fe","",IF(J17="cp","",1)))),IF($B17="dimanche",IF(J17="r","",IF(J17="","",IF(J17="fe","",IF(J17="cp","",1)))),"")) | AB17: =+IF(T17=1,$C17,"") | AC17: =+IF(U17=1,$C17,"") | AD17: =+IF(V17=1,$C17,"") | AE17: =+IF(W17=1,$C17,"") | AF17: =+IF(X17=1,$C17,"") | AG17: =+IF(Y17=1,$C17,"") | AH17: =+IF(Z17=1,$C17,"")
B18: mercredi | C18: 43481 | D18: J EXT | E18: N EXT | F18: MAL | G18: AM EXT | H18: M EXT | I18: R | J18: R | N18: =COUNTIF($D18:$L18,N$1) -> 1 | O18: =COUNTIF($D18:$L18,O$1) -> 1 | P18: =COUNTIF($D18:$L18,P$1) -> 1 | Q18: =COUNTIF($D18:$L18,Q$1) -> 0 | R18: =COUNTIF($D18:$L18,R$1) -> 0 | T18: =IF($B18="samedi",IF(D18="r","",IF(D18="","",IF(D18="fe","",IF(D18="cp","",1)))),IF($B18="dimanche",IF(D18="r","",IF(D18="","",IF(D18="fe","",IF(D18="cp","",1)))),"")) | U18: =IF($B18="samedi",IF(E18="r","",IF(E18="","",IF(E18="fe","",IF(E18="cp","",1)))),IF($B18="dimanche",IF(E18="r","",IF(E18="","",IF(E18="fe","",IF(E18="cp","",1)))),"")) | V18: =IF($B18="samedi",IF(F18="r","",IF(F18="","",IF(F18="fe","",IF(F18="cp","",1)))),IF($B18="dimanche",IF(F18="r","",IF(F18="","",IF(F18="fe","",IF(F18="cp","",1)))),"")) | W18: =IF($B18="samedi",IF(G18="r","",IF(G18="","",IF(G18="fe","",IF(G18="cp","",1)))),IF($B18="dimanche",IF(G18="r","",IF(G18="","",IF(G18="fe","",IF(G18="cp","",1)))),"")) | X18: =IF($B18="samedi",IF(H18="r","",IF(H18="","",IF(H18="fe","",IF(H18="cp","",1)))),IF($B18="dimanche",IF(H18="r","",IF(H18="","",IF(H18="fe","",IF(H18="cp","",1)))),"")) | Y18: =IF($B18="samedi",IF(I18="r","",IF(I18="","",IF(I18="fe","",IF(I18="cp","",1)))),IF($B18="dimanche",IF(I18="r","",IF(I18="","",IF(I18="fe","",IF(I18="cp","",1)))),"")) | Z18: =IF($B18="samedi",IF(J18="r","",IF(J18="","",IF(J18="fe","",IF(J18="cp","",1)))),IF($B18="dimanche",IF(J18="r","",IF(J18="","",IF(J18="fe","",IF(J18="cp","",1)))),"")) | AB18: =+IF(T18=1,$C18,"") | AC18: =+IF(U18=1,$C18,"") | AD18: =+IF(V18=1,$C18,"") | AE18: =+IF(W18=1,$C18,"") | AF18: =+IF(X18=1,$C18,"") | AG18: =+IF(Y18=1,$C18,"") | AH18: =+IF(Z18=1,$C18,"")
B19: jeudi | C19: 43482 | D19: J EXT | E19: R | F19: MAL | G19: AM EXT | H19: J EXT | I19: N EXT | J19: R | N19: =COUNTIF($D19:$L19,N$1) -> 0 | O19: =COUNTIF($D19:$L19,O$1) -> 1 | P19: =COUNTIF($D19:$L19,P$1) -> 1 | Q19: =COUNTIF($D19:$L19,Q$1) -> 0 | R19: =COUNTIF($D19:$L19,R$1) -> 0 | T19: =IF($B19="samedi",IF(D19="r","",IF(D19="","",IF(D19="fe","",IF(D19="cp","",1)))),IF($B19="dimanche",IF(D19="r","",IF(D19="","",IF(D19="fe","",IF(D19="cp","",1)))),"")) | U19: =IF($B19="samedi",IF(E19="r","",IF(E19="","",IF(E19="fe","",IF(E19="cp","",1)))),IF($B19="dimanche",IF(E19="r","",IF(E19="","",IF(E19="fe","",IF(E19="cp","",1)))),"")) | V19: =IF($B19="samedi",IF(F19="r","",IF(F19="","",IF(F19="fe","",IF(F19="cp","",1)))),IF($B19="dimanche",IF(F19="r","",IF(F19="","",IF(F19="fe","",IF(F19="cp","",1)))),"")) | W19: =IF($B19="samedi",IF(G19="r","",IF(G19="","",IF(G19="fe","",IF(G19="cp","",1)))),IF($B19="dimanche",IF(G19="r","",IF(G19="","",IF(G19="fe","",IF(G19="cp","",1)))),"")) | X19: =IF($B19="samedi",IF(H19="r","",IF(H19="","",IF(H19="fe","",IF(H19="cp","",1)))),IF($B19="dimanche",IF(H19="r","",IF(H19="","",IF(H19="fe","",IF(H19="cp","",1)))),"")) | Y19: =IF($B19="samedi",IF(I19="r","",IF(I19="","",IF(I19="fe","",IF(I19="cp","",1)))),IF($B19="dimanche",IF(I19="r","",IF(I19="","",IF(I19="fe","",IF(I19="cp","",1)))),"")) | Z19: =IF($B19="samedi",IF(J19="r","",IF(J19="","",IF(J19="fe","",IF(J19="cp","",1)))),IF($B19="dimanche",IF(J19="r","",IF(J19="","",IF(J19="fe","",IF(J19="cp","",1)))),"")) | AB19: =+IF(T19=1,$C19,"") | AC19: =+IF(U19=1,$C19,"") | AD19: =+IF(V19=1,$C19,"") | AE19: =+IF(W19=1,$C19,"") | AF19: =+IF(X19=1,$C19,"") | AG19: =+IF(Y19=1,$C19,"") | AH19: =+IF(Z19=1,$C19,"")
B20: vendredi | C20: 43483 | D20: J EXT | E20: R | F20: M EXT | G20: AM EXT | H20: J EXT | I20: N EXT | J20: R | N20: =COUNTIF($D20:$L20,N$1) -> 1 | O20: =COUNTIF($D20:$L20,O$1) -> 1 | P20: =COUNTIF($D20:$L20,P$1) -> 1 | Q20: =COUNTIF($D20:$L20,Q$1) -> 0 | R20: =COUNTIF($D20:$L20,R$1) -> 0 | T20: =IF($B20="samedi",IF(D20="r","",IF(D20="","",IF(D20="fe","",IF(D20="cp","",1)))),IF($B20="dimanche",IF(D20="r","",IF(D20="","",IF(D20="fe","",IF(D20="cp","",1)))),"")) | U20: =IF($B20="samedi",IF(E20="r","",IF(E20="","",IF(E20="fe","",IF(E20="cp","",1)))),IF($B20="dimanche",IF(E20="r","",IF(E20="","",IF(E20="fe","",IF(E20="cp","",1)))),"")) | V20: =IF($B20="samedi",IF(F20="r","",IF(F20="","",IF(F20="fe","",IF(F20="cp","",1)))),IF($B20="dimanche",IF(F20="r","",IF(F20="","",IF(F20="fe","",IF(F20="cp","",1)))),"")) | W20: =IF($B20="samedi",IF(G20="r","",IF(G20="","",IF(G20="fe","",IF(G20="cp","",1)))),IF($B20="dimanche",IF(G20="r","",IF(G20="","",IF(G20="fe","",IF(G20="cp","",1)))),"")) | X20: =IF($B20="samedi",IF(H20="r","",IF(H20="","",IF(H20="fe","",IF(H20="cp","",1)))),IF($B20="dimanche",IF(H20="r","",IF(H20="","",IF(H20="fe","",IF(H20="cp","",1)))),"")) | Y20: =IF($B20="samedi",IF(I20="r","",IF(I20="","",IF(I20="fe","",IF(I20="cp","",1)))),IF($B20="dimanche",IF(I20="r","",IF(I20="","",IF(I20="fe","",IF(I20="cp","",1)))),"")) | Z20: =IF($B20="samedi",IF(J20="r","",IF(J20="","",IF(J20="fe","",IF(J20="cp","",1)))),IF($B20="dimanche",IF(J20="r","",IF(J20="","",IF(J20="fe","",IF(J20="cp","",1)))),"")) | AB20: =+IF(T20=1,$C20,"") | AC20: =+IF(U20=1,$C20,"") | AD20: =+IF(V20=1,$C20,"") | AE20: =+IF(W20=1,$C20,"") | AF20: =+IF(X20=1,$C20,"") | AG20: =+IF(Y20=1,$C20,"") | AH20: =+IF(Z20=1,$C20,"")
B21: samedi | C21: 43484 | D21: R | E21: R | F21: R | G21: R | H21: R | I21: N EXT | J21: 5H 17H | N21: =COUNTIF($D21:$L21,N$1) -> 0 | O21: =COUNTIF($D21:$L21,O$1) -> 0 | P21: =COUNTIF($D21:$L21,P$1) -> 1 | Q21: =COUNTIF($D21:$L21,Q$1) -> 1 | R21: =COUNTIF($D21:$L21,R$1) -> 0 | T21: =IF($B21="samedi",IF(D21="r","",IF(D21="","",IF(D21="fe","",IF(D21="cp","",1)))),IF($B21="dimanche",IF(D21="r","",IF(D21="","",IF(D21="fe","",IF(D21="cp","",1)))),"")) | U21: =IF($B21="samedi",IF(E21="r","",IF(E21="","",IF(E21="fe","",IF(E21="cp","",1)))),IF($B21="dimanche",IF(E21="r","",IF(E21="","",IF(E21="fe","",IF(E21="cp","",1)))),"")) | V21: =IF($B21="samedi",IF(F21="r","",IF(F21="","",IF(F21="fe","",IF(F21="cp","",1)))),IF($B21="dimanche",IF(F21="r","",IF(F21="","",IF(F21="fe","",IF(F21="cp","",1)))),"")) | W21: =IF($B21="samedi",IF(G21="r","",IF(G21="","",IF(G21="fe","",IF(G21="cp","",1)))),IF($B21="dimanche",IF(G21="r","",IF(G21="","",IF(G21="fe","",IF(G21="cp","",1)))),"")) | X21: =IF($B21="samedi",IF(H21="r","",IF(H21="","",IF(H21="fe","",IF(H21="cp","",1)))),IF($B21="dimanche",IF(H21="r","",IF(H21="","",IF(H21="fe","",IF(H21="cp","",1)))),"")) | Y21: =IF($B21="samedi",IF(I21="r","",IF(I21="","",IF(I21="fe","",IF(I21="cp","",1)))),IF($B21="dimanche",IF(I21="r","",IF(I21="","",IF(I21="fe","",IF(I21="cp","",1)))),"")) -> 1 | Z21: =IF($B21="samedi",IF(J21="r","",IF(J21="","",IF(J21="fe","",IF(J21="cp","",1)))),IF($B21="dimanche",IF(J21="r","",IF(J21="","",IF(J21="fe","",IF(J21="cp","",1)))),"")) -> 1 | AB21: =+IF(T21=1,$C21,"") | AC21: =+IF(U21=1,$C21,"") | AD21: =+IF(V21=1,$C21,"") | AE21: =+IF(W21=1,$C21,"") | AF21: =+IF(X21=1,$C21,"") | AG21: =+IF(Y21=1,$C21,"") -> 43484 | AH21: =+IF(Z21=1,$C21,"") -> 43484
B22: dimanche | C22: 43485 | D22: R | E22: R | F22: R | G22: R | H22: R | I22: N EXT | J22: 5H 17H | N22: =COUNTIF($D22:$L22,N$1) -> 0 | O22: =COUNTIF($D22:$L22,O$1) -> 0 | P22: =COUNTIF($D22:$L22,P$1) -> 1 | Q22: =COUNTIF($D22:$L22,Q$1) -> 1 | R22: =COUNTIF($D22:$L22,R$1) -> 0 | T22: =IF($B22="samedi",IF(D22="r","",IF(D22="","",IF(D22="fe","",IF(D22="cp","",1)))),IF($B22="dimanche",IF(D22="r","",IF(D22="","",IF(D22="fe","",IF(D22="cp","",1)))),"")) | U22: =IF($B22="samedi",IF(E22="r","",IF(E22="","",IF(E22="fe","",IF(E22="cp","",1)))),IF($B22="dimanche",IF(E22="r","",IF(E22="","",IF(E22="fe","",IF(E22="cp","",1)))),"")) | V22: =IF($B22="samedi",IF(F22="r","",IF(F22="","",IF(F22="fe","",IF(F22="cp","",1)))),IF($B22="dimanche",IF(F22="r","",IF(F22="","",IF(F22="fe","",IF(F22="cp","",1)))),"")) | W22: =IF($B22="samedi",IF(G22="r","",IF(G22="","",IF(G22="fe","",IF(G22="cp","",1)))),IF($B22="dimanche",IF(G22="r","",IF(G22="","",IF(G22="fe","",IF(G22="cp","",1)))),"")) | X22: =IF($B22="samedi",IF(H22="r","",IF(H22="","",IF(H22="fe","",IF(H22="cp","",1)))),IF($B22="dimanche",IF(H22="r","",IF(H22="","",IF(H22="fe","",IF(H22="cp","",1)))),"")) | Y22: =IF($B22="samedi",IF(I22="r","",IF(I22="","",IF(I22="fe","",IF(I22="cp","",1)))),IF($B22="dimanche",IF(I22="r","",IF(I22="","",IF(I22="fe","",IF(I22="cp","",1)))),"")) -> 1 | Z22: =IF($B22="samedi",IF(J22="r","",IF(J22="","",IF(J22="fe","",IF(J22="cp","",1)))),IF($B22="dimanche",IF(J22="r","",IF(J22="","",IF(J22="fe","",IF(J22="cp","",1)))),"")) -> 1 | AB22: =+IF(T22=1,$C22,"") | AC22: =+IF(U22=1,$C22,"") | AD22: =+IF(V22=1,$C22,"") | AE22: =+IF(W22=1,$C22,"") | AF22: =+IF(X22=1,$C22,"") | AG22: =+IF(Y22=1,$C22,"") -> 43485 | AH22: =+IF(Z22=1,$C22,"") -> 43485
A23: S4 | B23: lundi | C23: 43486 | D23: J EXT | E23: M EXT | F23: AM EXT | G23: N EXT | H23: CP | I23: R | J23: R | N23: =COUNTIF($D23:$L23,N$1) -> 1 | O23: =COUNTIF($D23:$L23,O$1) -> 1 | P23: =COUNTIF($D23:$L23,P$1) -> 1 | Q23: =COUNTIF($D23:$L23,Q$1) -> 0 | R23: =COUNTIF($D23:$L23,R$1) -> 0 | T23: =IF($B23="samedi",IF(D23="r","",IF(D23="","",IF(D23="fe","",IF(D23="cp","",1)))),IF($B23="dimanche",IF(D23="r","",IF(D23="","",IF(D23="fe","",IF(D23="cp","",1)))),"")) | U23: =IF($B23="samedi",IF(E23="r","",IF(E23="","",IF(E23="fe","",IF(E23="cp","",1)))),IF($B23="dimanche",IF(E23="r","",IF(E23="","",IF(E23="fe","",IF(E23="cp","",1)))),"")) | V23: =IF($B23="samedi",IF(F23="r","",IF(F23="","",IF(F23="fe","",IF(F23="cp","",1)))),IF($B23="dimanche",IF(F23="r","",IF(F23="","",IF(F23="fe","",IF(F23="cp","",1)))),"")) | W23: =IF($B23="samedi",IF(G23="r","",IF(G23="","",IF(G23="fe","",IF(G23="cp","",1)))),IF($B23="dimanche",IF(G23="r","",IF(G23="","",IF(G23="fe","",IF(G23="cp","",1)))),"")) | X23: =IF($B23="samedi",IF(H23="r","",IF(H23="","",IF(H23="fe","",IF(H23="cp","",1)))),IF($B23="dimanche",IF(H23="r","",IF(H23="","",IF(H23="fe","",IF(H23="cp","",1)))),"")) | Y23: =IF($B23="samedi",IF(I23="r","",IF(I23="","",IF(I23="fe","",IF(I23="cp","",1)))),IF($B23="dimanche",IF(I23="r","",IF(I23="","",IF(I23="fe","",IF(I23="cp","",1)))),"")) | Z23: =IF($B23="samedi",IF(J23="r","",IF(J23="","",IF(J23="fe","",IF(J23="cp","",1)))),IF($B23="dimanche",IF(J23="r","",IF(J23="","",IF(J23="fe","",IF(J23="cp","",1)))),"")) | AB23: =+IF(T23=1,$C23,"") | AC23: =+IF(U23=1,$C23,"") | AD23: =+IF(V23=1,$C23,"") | AE23: =+IF(W23=1,$C23,"") | AF23: =+IF(X23=1,$C23,"") | AG23: =+IF(Y23=1,$C23,"") | AH23: =+IF(Z23=1,$C23,"")
B24: mardi | C24: 43487 | D24: J EXT | E24: M EXT | F24: AM EXT | G24: N EXT | H24: CP | I24: R | J24: R | L24: J EXT | N24: =COUNTIF($D24:$L24,N$1) -> 1 | O24: =COUNTIF($D24:$L24,O$1) -> 1 | P24: =COUNTIF($D24:$L24,P$1) -> 1 | Q24: =COUNTIF($D24:$L24,Q$1) -> 0 | R24: =COUNTIF($D24:$L24,R$1) -> 0 | T24: =IF($B24="samedi",IF(D24="r","",IF(D24="","",IF(D24="fe","",IF(D24="cp","",1)))),IF($B24="dimanche",IF(D24="r","",IF(D24="","",IF(D24="fe","",IF(D24="cp","",1)))),"")) | U24: =IF($B24="samedi",IF(E24="r","",IF(E24="","",IF(E24="fe","",IF(E24="cp","",1)))),IF($B24="dimanche",IF(E24="r","",IF(E24="","",IF(E24="fe","",IF(E24="cp","",1)))),"")) | V24: =IF($B24="samedi",IF(F24="r","",IF(F24="","",IF(F24="fe","",IF(F24="cp","",1)))),IF($B24="dimanche",IF(F24="r","",IF(F24="","",IF(F24="fe","",IF(F24="cp","",1)))),"")) | W24: =IF($B24="samedi",IF(G24="r","",IF(G24="","",IF(G24="fe","",IF(G24="cp","",1)))),IF($B24="dimanche",IF(G24="r","",IF(G24="","",IF(G24="fe","",IF(G24="cp","",1)))),"")) | X24: =IF($B24="samedi",IF(H24="r","",IF(H24="","",IF(H24="fe","",IF(H24="cp","",1)))),IF($B24="dimanche",IF(H24="r","",IF(H24="","",IF(H24="fe","",IF(H24="cp","",1)))),"")) | Y24: =IF($B24="samedi",IF(I24="r","",IF(I24="","",IF(I24="fe","",IF(I24="cp","",1)))),IF($B24="dimanche",IF(I24="r","",IF(I24="","",IF(I24="fe","",IF(I24="cp","",1)))),"")) | Z24: =IF($B24="samedi",IF(J24="r","",IF(J24="","",IF(J24="fe","",IF(J24="cp","",1)))),IF($B24="dimanche",IF(J24="r","",IF(J24="","",IF(J24="fe","",IF(J24="cp","",1)))),"")) | AB24: =+IF(T24=1,$C24,"") | AC24: =+IF(U24=1,$C24,"") | AD24: =+IF(V24=1,$C24,"") | AE24: =+IF(W24=1,$C24,"") | AF24: =+IF(X24=1,$C24,"") | AG24: =+IF(Y24=1,$C24,"") | AH24: =+IF(Z24=1,$C24,"")
B25: mercredi | C25: 43488 | D25: J EXT | E25: M EXT | F25: R | G25: N EXT | H25: CP | I25: AM EXT | J25: R | L25: J EXT | N25: =COUNTIF($D25:$L25,N$1) -> 1 | O25: =COUNTIF($D25:$L25,O$1) -> 1 | P25: =COUNTIF($D25:$L25,P$1) -> 1 | Q25: =COUNTIF($D25:$L25,Q$1) -> 0 | R25: =COUNTIF($D25:$L25,R$1) -> 0 | T25: =IF($B25="samedi",IF(D25="r","",IF(D25="","",IF(D25="fe","",IF(D25="cp","",1)))),IF($B25="dimanche",IF(D25="r","",IF(D25="","",IF(D25="fe","",IF(D25="cp","",1)))),"")) | U25: =IF($B25="samedi",IF(E25="r","",IF(E25="","",IF(E25="fe","",IF(E25="cp","",1)))),IF($B25="dimanche",IF(E25="r","",IF(E25="","",IF(E25="fe","",IF(E25="cp","",1)))),"")) | V25: =IF($B25="samedi",IF(F25="r","",IF(F25="","",IF(F25="fe","",IF(F25="cp","",1)))),IF($B25="dimanche",IF(F25="r","",IF(F25="","",IF(F25="fe","",IF(F25="cp","",1)))),"")) | W25: =IF($B25="samedi",IF(G25="r","",IF(G25="","",IF(G25="fe","",IF(G25="cp","",1)))),IF($B25="dimanche",IF(G25="r","",IF(G25="","",IF(G25="fe","",IF(G25="cp","",1)))),"")) | X25: =IF($B25="samedi",IF(H25="r","",IF(H25="","",IF(H25="fe","",IF(H25="cp","",1)))),IF($B25="dimanche",IF(H25="r","",IF(H25="","",IF(H25="fe","",IF(H25="cp","",1)))),"")) | Y25: =IF($B25="samedi",IF(I25="r","",IF(I25="","",IF(I25="fe","",IF(I25="cp","",1)))),IF($B25="dimanche",IF(I25="r","",IF(I25="","",IF(I25="fe","",IF(I25="cp","",1)))),"")) | Z25: =IF($B25="samedi",IF(J25="r","",IF(J25="","",IF(J25="fe","",IF(J25="cp","",1)))),IF($B25="dimanche",IF(J25="r","",IF(J25="","",IF(J25="fe","",IF(J25="cp","",1)))),"")) | AB25: =+IF(T25=1,$C25,"") | AC25: =+IF(U25=1,$C25,"") | AD25: =+IF(V25=1,$C25,"") | AE25: =+IF(W25=1,$C25,"") | AF25: =+IF(X25=1,$C25,"") | AG25: =+IF(Y25=1,$C25,"") | AH25: =+IF(Z25=1,$C25,"")
B26: jeudi | C26: 43489 | D26: J EXT | E26: M EXT | F26: R | G26: N EXT | H26: RC | I26: AM EXT | J26: R | N26: =COUNTIF($D26:$L26,N$1) -> 1 | O26: =COUNTIF($D26:$L26,O$1) -> 1 | P26: =COUNTIF($D26:$L26,P$1) -> 1 | Q26: =COUNTIF($D26:$L26,Q$1) -> 0 | R26: =COUNTIF($D26:$L26,R$1) -> 0 | T26: =IF($B26="samedi",IF(D26="r","",IF(D26="","",IF(D26="fe","",IF(D26="cp","",1)))),IF($B26="dimanche",IF(D26="r","",IF(D26="","",IF(D26="fe","",IF(D26="cp","",1)))),"")) | U26: =IF($B26="samedi",IF(E26="r","",IF(E26="","",IF(E26="fe","",IF(E26="cp","",1)))),IF($B26="dimanche",IF(E26="r","",IF(E26="","",IF(E26="fe","",IF(E26="cp","",1)))),"")) | V26: =IF($B26="samedi",IF(F26="r","",IF(F26="","",IF(F26="fe","",IF(F26="cp","",1)))),IF($B26="dimanche",IF(F26="r","",IF(F26="","",IF(F26="fe","",IF(F26="cp","",1)))),"")) | W26: =IF($B26="samedi",IF(G26="r","",IF(G26="","",IF(G26="fe","",IF(G26="cp","",1)))),IF($B26="dimanche",IF(G26="r","",IF(G26="","",IF(G26="fe","",IF(G26="cp","",1)))),"")) | X26: =IF($B26="samedi",IF(H26="r","",IF(H26="","",IF(H26="fe","",IF(H26="cp","",1)))),IF($B26="dimanche",IF(H26="r","",IF(H26="","",IF(H26="fe","",IF(H26="cp","",1)))),"")) | Y26: =IF($B26="samedi",IF(I26="r","",IF(I26="","",IF(I26="fe","",IF(I26="cp","",1)))),IF($B26="dimanche",IF(I26="r","",IF(I26="","",IF(I26="fe","",IF(I26="cp","",1)))),"")) | Z26: =IF($B26="samedi",IF(J26="r","",IF(J26="","",IF(J26="fe","",IF(J26="cp","",1)))),IF($B26="dimanche",IF(J26="r","",IF(J26="","",IF(J26="fe","",IF(J26="cp","",1)))),"")) | AB26: =+IF(T26=1,$C26,"") | AC26: =+IF(U26=1,$C26,"") | AD26: =+IF(V26=1,$C26,"") | AE26: =+IF(W26=1,$C26,"") | AF26: =+IF(X26=1,$C26,"") | AG26: =+IF(Y26=1,$C26,"") | AH26: =+IF(Z26=1,$C26,"")
B27: vendredi | C27: 43490 | D27: R | E27: M EXT | F27: N EXT | G27: R | H27: RC | I27: AM EXT | J27: R | N27: =COUNTIF($D27:$L27,N$1) -> 1 | O27: =COUNTIF($D27:$L27,O$1) -> 1 | P27: =COUNTIF($D27:$L27,P$1) -> 1 | Q27: =COUNTIF($D27:$L27,Q$1) -> 0 | R27: =COUNTIF($D27:$L27,R$1) -> 0 | T27: =IF($B27="samedi",IF(D27="r","",IF(D27="","",IF(D27="fe","",IF(D27="cp","",1)))),IF($B27="dimanche",IF(D27="r","",IF(D27="","",IF(D27="fe","",IF(D27="cp","",1)))),"")) | U27: =IF($B27="samedi",IF(E27="r","",IF(E27="","",IF(E27="fe","",IF(E27="cp","",1)))),IF($B27="dimanche",IF(E27="r","",IF(E27="","",IF(E27="fe","",IF(E27="cp","",1)))),"")) | V27: =IF($B27="samedi",IF(F27="r","",IF(F27="","",IF(F27="fe","",IF(F27="cp","",1)))),IF($B27="dimanche",IF(F27="r","",IF(F27="","",IF(F27="fe","",IF(F27="cp","",1)))),"")) | W27: =IF($B27="samedi",IF(G27="r","",IF(G27="","",IF(G27="fe","",IF(G27="cp","",1)))),IF($B27="dimanche",IF(G27="r","",IF(G27="","",IF(G27="fe","",IF(G27="cp","",1)))),"")) | X27: =IF($B27="samedi",IF(H27="r","",IF(H27="","",IF(H27="fe","",IF(H27="cp","",1)))),IF($B27="dimanche",IF(H27="r","",IF(H27="","",IF(H27="fe","",IF(H27="cp","",1)))),"")) | Y27: =IF($B27="samedi",IF(I27="r","",IF(I27="","",IF(I27="fe","",IF(I27="cp","",1)))),IF($B27="dimanche",IF(I27="r","",IF(I27="","",IF(I27="fe","",IF(I27="cp","",1)))),"")) | Z27: =IF($B27="samedi",IF(J27="r","",IF(J27="","",IF(J27="fe","",IF(J27="cp","",1)))),IF($B27="dimanche",IF(J27="r","",IF(J27="","",IF(J27="fe","",IF(J27="cp","",1)))),"")) | AB27: =+IF(T27=1,$C27,"") | AC27: =+IF(U27=1,$C27,"") | AD27: =+IF(V27=1,$C27,"") | AE27: =+IF(W27=1,$C27,"") | AF27: =+IF(X27=1,$C27,"") | AG27: =+IF(Y27=1,$C27,"") | AH27: =+IF(Z27=1,$C27,"")
B28: samedi | C28: 43491 | D28: R | E28: R | F28: N EXT | G28: R | H28: R | I28: R | J28: 5H 17H | N28: =COUNTIF($D28:$L28,N$1) -> 0 | O28: =COUNTIF($D28:$L28,O$1) -> 0 | P28: =COUNTIF($D28:$L28,P$1) -> 1 | Q28: =COUNTIF($D28:$L28,Q$1) -> 1 | R28: =COUNTIF($D28:$L28,R$1) -> 0 | T28: =IF($B28="samedi",IF(D28="r","",IF(D28="","",IF(D28="fe","",IF(D28="cp","",1)))),IF($B28="dimanche",IF(D28="r","",IF(D28="","",IF(D28="fe","",IF(D28="cp","",1)))),"")) | U28: =IF($B28="samedi",IF(E28="r","",IF(E28="","",IF(E28="fe","",IF(E28="cp","",1)))),IF($B28="dimanche",IF(E28="r","",IF(E28="","",IF(E28="fe","",IF(E28="cp","",1)))),"")) | V28: =IF($B28="samedi",IF(F28="r","",IF(F28="","",IF(F28="fe","",IF(F28="cp","",1)))),IF($B28="dimanche",IF(F28="r","",IF(F28="","",IF(F28="fe","",IF(F28="cp","",1)))),"")) -> 1 | W28: =IF($B28="samedi",IF(G28="r","",IF(G28="","",IF(G28="fe","",IF(G28="cp","",1)))),IF($B28="dimanche",IF(G28="r","",IF(G28="","",IF(G28="fe","",IF(G28="cp","",1)))),"")) | X28: =IF($B28="samedi",IF(H28="r","",IF(H28="","",IF(H28="fe","",IF(H28="cp","",1)))),IF($B28="dimanche",IF(H28="r","",IF(H28="","",IF(H28="fe","",IF(H28="cp","",1)))),"")) | Y28: =IF($B28="samedi",IF(I28="r","",IF(I28="","",IF(I28="fe","",IF(I28="cp","",1)))),IF($B28="dimanche",IF(I28="r","",IF(I28="","",IF(I28="fe","",IF(I28="cp","",1)))),"")) | Z28: =IF($B28="samedi",IF(J28="r","",IF(J28="","",IF(J28="fe","",IF(J28="cp","",1)))),IF($B28="dimanche",IF(J28="r","",IF(J28="","",IF(J28="fe","",IF(J28="cp","",1)))),"")) -> 1 | AB28: =+IF(T28=1,$C28,"") | AC28: =+IF(U28=1,$C28,"") | AD28: =+IF(V28=1,$C28,"") -> 43491 | AE28: =+IF(W28=1,$C28,"") | AF28: =+IF(X28=1,$C28,"") | AG28: =+IF(Y28=1,$C28,"") | AH28: =+IF(Z28=1,$C28,"") -> 43491
B29: dimanche | C29: 43492 | D29: R | E29: R | F29: N EXT | G29: R | H29: R | I29: R | J29: 5H 17H | N29: =COUNTIF($D29:$L29,N$1) -> 0 | O29: =COUNTIF($D29:$L29,O$1) -> 0 | P29: =COUNTIF($D29:$L29,P$1) -> 1 | Q29: =COUNTIF($D29:$L29,Q$1) -> 1 | R29: =COUNTIF($D29:$L29,R$1) -> 0 | T29: =IF($B29="samedi",IF(D29="r","",IF(D29="","",IF(D29="fe","",IF(D29="cp","",1)))),IF($B29="dimanche",IF(D29="r","",IF(D29="","",IF(D29="fe","",IF(D29="cp","",1)))),"")) | U29: =IF($B29="samedi",IF(E29="r","",IF(E29="","",IF(E29="fe","",IF(E29="cp","",1)))),IF($B29="dimanche",IF(E29="r","",IF(E29="","",IF(E29="fe","",IF(E29="cp","",1)))),"")) | V29: =IF($B29="samedi",IF(F29="r","",IF(F29="","",IF(F29="fe","",IF(F29="cp","",1)))),IF($B29="dimanche",IF(F29="r","",IF(F29="","",IF(F29="fe","",IF(F29="cp","",1)))),"")) -> 1 | W29: =IF($B29="samedi",IF(G29="r","",IF(G29="","",IF(G29="fe","",IF(G29="cp","",1)))),IF($B29="dimanche",IF(G29="r","",IF(G29="","",IF(G29="fe","",IF(G29="cp","",1)))),"")) | X29: =IF($B29="samedi",IF(H29="r","",IF(H29="","",IF(H29="fe","",IF(H29="cp","",1)))),IF($B29="dimanche",IF(H29="r","",IF(H29="","",IF(H29="fe","",IF(H29="cp","",1)))),"")) | Y29: =IF($B29="samedi",IF(I29="r","",IF(I29="","",IF(I29="fe","",IF(I29="cp","",1)))),IF($B29="dimanche",IF(I29="r","",IF(I29="","",IF(I29="fe","",IF(I29="cp","",1)))),"")) | Z29: =IF($B29="samedi",IF(J29="r","",IF(J29="","",IF(J29="fe","",IF(J29="cp","",1)))),IF($B29="dimanche",IF(J29="r","",IF(J29="","",IF(J29="fe","",IF(J29="cp","",1)))),"")) -> 1 | AB29: =+IF(T29=1,$C29,"") | AC29: =+IF(U29=1,$C29,"") | AD29: =+IF(V29=1,$C29,"") -> 43492 | AE29: =+IF(W29=1,$C29,"") | AF29: =+IF(X29=1,$C29,"") | AG29: =+IF(Y29=1,$C29,"") | AH29: =+IF(Z29=1,$C29,"") -> 43492
A30: S5 | B30: lundi | C30: 43493 | D30: R | E30: J EXT | F30: N EXT | G30: M EXT | H30: R | I30: AM EXT | J30: R | N30: =COUNTIF($D30:$L30,N$1) -> 1 | O30: =COUNTIF($D30:$L30,O$1) -> 1 | P30: =COUNTIF($D30:$L30,P$1) -> 1 | Q30: =COUNTIF($D30:$L30,Q$1) -> 0 | R30: =COUNTIF($D30:$L30,R$1) -> 0 | T30: =IF($B30="samedi",IF(D30="r","",IF(D30="","",IF(D30="fe","",IF(D30="cp","",1)))),IF($B30="dimanche",IF(D30="r","",IF(D30="","",IF(D30="fe","",IF(D30="cp","",1)))),"")) | U30: =IF($B30="samedi",IF(E30="r","",IF(E30="","",IF(E30="fe","",IF(E30="cp","",1)))),IF($B30="dimanche",IF(E30="r","",IF(E30="","",IF(E30="fe","",IF(E30="cp","",1)))),"")) | V30: =IF($B30="samedi",IF(F30="r","",IF(F30="","",IF(F30="fe","",IF(F30="cp","",1)))),IF($B30="dimanche",IF(F30="r","",IF(F30="","",IF(F30="fe","",IF(F30="cp","",1)))),"")) | W30: =IF($B30="samedi",IF(G30="r","",IF(G30="","",IF(G30="fe","",IF(G30="cp","",1)))),IF($B30="dimanche",IF(G30="r","",IF(G30="","",IF(G30="fe","",IF(G30="cp","",1)))),"")) | X30: =IF($B30="samedi",IF(H30="r","",IF(H30="","",IF(H30="fe","",IF(H30="cp","",1)))),IF($B30="dimanche",IF(H30="r","",IF(H30="","",IF(H30="fe","",IF(H30="cp","",1)))),"")) | Y30: =IF($B30="samedi",IF(I30="r","",IF(I30="","",IF(I30="fe","",IF(I30="cp","",1)))),IF($B30="dimanche",IF(I30="r","",IF(I30="","",IF(I30="fe","",IF(I30="cp","",1)))),"")) | Z30: =IF($B30="samedi",IF(J30="r","",IF(J30="","",IF(J30="fe","",IF(J30="cp","",1)))),IF($B30="dimanche",IF(J30="r","",IF(J30="","",IF(J30="fe","",IF(J30="cp","",1)))),"")) | AB30: =+IF(T30=1,$C30,"") | AC30: =+IF(U30=1,$C30,"") | AD30: =+IF(V30=1,$C30,"") | AE30: =+IF(W30=1,$C30,"") | AF30: =+IF(X30=1,$C30,"") | AG30: =+IF(Y30=1,$C30,"") | AH30: =+IF(Z30=1,$C30,"")
B31: mardi | C31: 43494 | D31: J EXT | E31: J EXT | F31: R | G31: M EXT | H31: N EXT | I31: AM EXT | J31: R | N31: =COUNTIF($D31:$L31,N$1) -> 1 | O31: =COUNTIF($D31:$L31,O$1) -> 1 | P31: =COUNTIF($D31:$L31,P$1) -> 1 | Q31: =COUNTIF($D31:$L31,Q$1) -> 0 | R31: =COUNTIF($D31:$L31,R$1) -> 0 | T31: =IF($B31="samedi",IF(D31="r","",IF(D31="","",IF(D31="fe","",IF(D31="cp","",1)))),IF($B31="dimanche",IF(D31="r","",IF(D31="","",IF(D31="fe","",IF(D31="cp","",1)))),"")) | U31: =IF($B31="samedi",IF(E31="r","",IF(E31="","",IF(E31="fe","",IF(E31="cp","",1)))),IF($B31="dimanche",IF(E31="r","",IF(E31="","",IF(E31="fe","",IF(E31="cp","",1)))),"")) | V31: =IF($B31="samedi",IF(F31="r","",IF(F31="","",IF(F31="fe","",IF(F31="cp","",1)))),IF($B31="dimanche",IF(F31="r","",IF(F31="","",IF(F31="fe","",IF(F31="cp","",1)))),"")) | W31: =IF($B31="samedi",IF(G31="r","",IF(G31="","",IF(G31="fe","",IF(G31="cp","",1)))),IF($B31="dimanche",IF(G31="r","",IF(G31="","",IF(G31="fe","",IF(G31="cp","",1)))),"")) | X31: =IF($B31="samedi",IF(H31="r","",IF(H31="","",IF(H31="fe","",IF(H31="cp","",1)))),IF($B31="dimanche",IF(H31="r","",IF(H31="","",IF(H31="fe","",IF(H31="cp","",1)))),"")) | Y31: =IF($B31="samedi",IF(I31="r","",IF(I31="","",IF(I31="fe","",IF(I31="cp","",1)))),IF($B31="dimanche",IF(I31="r","",IF(I31="","",IF(I31="fe","",IF(I31="cp","",1)))),"")) | Z31: =IF($B31="samedi",IF(J31="r","",IF(J31="","",IF(J31="fe","",IF(J31="cp","",1)))),IF($B31="dimanche",IF(J31="r","",IF(J31="","",IF(J31="fe","",IF(J31="cp","",1)))),"")) | AB31: =+IF(T31=1,$C31,"") | AC31: =+IF(U31=1,$C31,"") | AD31: =+IF(V31=1,$C31,"") | AE31: =+IF(W31=1,$C31,"") | AF31: =+IF(X31=1,$C31,"") | AG31: =+IF(Y31=1,$C31,"") | AH31: =+IF(Z31=1,$C31,"")
B32: mercredi | C32: 43495 | D32: J EXT | E32: J EXT | F32: R | G32: M EXT | H32: N EXT | I32: AM EXT | J32: R | N32: =COUNTIF($D32:$L32,N$1) -> 1 | O32: =COUNTIF($D32:$L32,O$1) -> 1 | P32: =COUNTIF($D32:$L32,P$1) -> 1 | Q32: =COUNTIF($D32:$L32,Q$1) -> 0 | R32: =COUNTIF($D32:$L32,R$1) -> 0 | T32: =IF($B32="samedi",IF(D32="r","",IF(D32="","",IF(D32="fe","",IF(D32="cp","",1)))),IF($B32="dimanche",IF(D32="r","",IF(D32="","",IF(D32="fe","",IF(D32="cp","",1)))),"")) | U32: =IF($B32="samedi",IF(E32="r","",IF(E32="","",IF(E32="fe","",IF(E32="cp","",1)))),IF($B32="dimanche",IF(E32="r","",IF(E32="","",IF(E32="fe","",IF(E32="cp","",1)))),"")) | V32: =IF($B32="samedi",IF(F32="r","",IF(F32="","",IF(F32="fe","",IF(F32="cp","",1)))),IF($B32="dimanche",IF(F32="r","",IF(F32="","",IF(F32="fe","",IF(F32="cp","",1)))),"")) | W32: =IF($B32="samedi",IF(G32="r","",IF(G32="","",IF(G32="fe","",IF(G32="cp","",1)))),IF($B32="dimanche",IF(G32="r","",IF(G32="","",IF(G32="fe","",IF(G32="cp","",1)))),"")) | X32: =IF($B32="samedi",IF(H32="r","",IF(H32="","",IF(H32="fe","",IF(H32="cp","",1)))),IF($B32="dimanche",IF(H32="r","",IF(H32="","",IF(H32="fe","",IF(H32="cp","",1)))),"")) | Y32: =IF($B32="samedi",IF(I32="r","",IF(I32="","",IF(I32="fe","",IF(I32="cp","",1)))),IF($B32="dimanche",IF(I32="r","",IF(I32="","",IF(I32="fe","",IF(I32="cp","",1)))),"")) | Z32: =IF($B32="samedi",IF(J32="r","",IF(J32="","",IF(J32="fe","",IF(J32="cp","",1)))),IF($B32="dimanche",IF(J32="r","",IF(J32="","",IF(J32="fe","",IF(J32="cp","",1)))),"")) | AB32: =+IF(T32=1,$C32,"") | AC32: =+IF(U32=1,$C32,"") | AD32: =+IF(V32=1,$C32,"") | AE32: =+IF(W32=1,$C32,"") | AF32: =+IF(X32=1,$C32,"") | AG32: =+IF(Y32=1,$C32,"") | AH32: =+IF(Z32=1,$C32,"")
B33: jeudi | C33: 43496 | D33: J EXT | E33: J EXT | F33: J EXT | G33: M EXT | H33: N EXT | I33: AM EXT | J33: R | N33: =COUNTIF($D33:$L33,N$1) -> 1 | O33: =COUNTIF($D33:$L33,O$1) -> 1 | P33: =COUNTIF($D33:$L33,P$1) -> 1 | Q33: =COUNTIF($D33:$L33,Q$1) -> 0 | R33: =COUNTIF($D33:$L33,R$1) -> 0 | T33: =IF($B33="samedi",IF(D33="r","",IF(D33="","",IF(D33="fe","",IF(D33="cp","",1)))),IF($B33="dimanche",IF(D33="r","",IF(D33="","",IF(D33="fe","",IF(D33="cp","",1)))),"")) | U33: =IF($B33="samedi",IF(E33="r","",IF(E33="","",IF(E33="fe","",IF(E33="cp","",1)))),IF($B33="dimanche",IF(E33="r","",IF(E33="","",IF(E33="fe","",IF(E33="cp","",1)))),"")) | V33: =IF($B33="samedi",IF(F33="r","",IF(F33="","",IF(F33="fe","",IF(F33="cp","",1)))),IF($B33="dimanche",IF(F33="r","",IF(F33="","",IF(F33="fe","",IF(F33="cp","",1)))),"")) | W33: =IF($B33="samedi",IF(G33="r","",IF(G33="","",IF(G33="fe","",IF(G33="cp","",1)))),IF($B33="dimanche",IF(G33="r","",IF(G33="","",IF(G33="fe","",IF(G33="cp","",1)))),"")) | X33: =IF($B33="samedi",IF(H33="r","",IF(H33="","",IF(H33="fe","",IF(H33="cp","",1)))),IF($B33="dimanche",IF(H33="r","",IF(H33="","",IF(H33="fe","",IF(H33="cp","",1)))),"")) | Y33: =IF($B33="samedi",IF(I33="r","",IF(I33="","",IF(I33="fe","",IF(I33="cp","",1)))),IF($B33="dimanche",IF(I33="r","",IF(I33="","",IF(I33="fe","",IF(I33="cp","",1)))),"")) | Z33: =IF($B33="samedi",IF(J33="r","",IF(J33="","",IF(J33="fe","",IF(J33="cp","",1)))),IF($B33="dimanche",IF(J33="r","",IF(J33="","",IF(J33="fe","",IF(J33="cp","",1)))),"")) | AB33: =+IF(T33=1,$C33,"") | AC33: =+IF(U33=1,$C33,"") | AD33: =+IF(V33=1,$C33,"") | AE33: =+IF(W33=1,$C33,"") | AF33: =+IF(X33=1,$C33,"") | AG33: =+IF(Y33=1,$C33,"") | AH33: =+IF(Z33=1,$C33,"")
B34: vendredi | C34: 43497 | D34: R | E34: J EXT | F34: J EXT | G34: M EXT | H34: N EXT | I34: AM EXT | J34: R | N34: =COUNTIF($D34:$L34,N$1) -> 1 | O34: =COUNTIF($D34:$L34,O$1) -> 1 | P34: =COUNTIF($D34:$L34,P$1) -> 1 | Q34: =COUNTIF($D34:$L34,Q$1) -> 0 | R34: =COUNTIF($D34:$L34,R$1) -> 0 | T34: =IF($B34="samedi",IF(D34="r","",IF(D34="","",IF(D34="fe","",IF(D34="cp","",1)))),IF($B34="dimanche",IF(D34="r","",IF(D34="","",IF(D34="fe","",IF(D34="cp","",1)))),"")) | U34: =IF($B34="samedi",IF(E34="r","",IF(E34="","",IF(E34="fe","",IF(E34="cp","",1)))),IF($B34="dimanche",IF(E34="r","",IF(E34="","",IF(E34="fe","",IF(E34="cp","",1)))),"")) | V34: =IF($B34="samedi",IF(F34="r","",IF(F34="","",IF(F34="fe","",IF(F34="cp","",1)))),IF($B34="dimanche",IF(F34="r","",IF(F34="","",IF(F34="fe","",IF(F34="cp","",1)))),"")) | W34: =IF($B34="samedi",IF(G34="r","",IF(G34="","",IF(G34="fe","",IF(G34="cp","",1)))),IF($B34="dimanche",IF(G34="r","",IF(G34="","",IF(G34="fe","",IF(G34="cp","",1)))),"")) | X34: =IF($B34="samedi",IF(H34="r","",IF(H34="","",IF(H34="fe","",IF(H34="cp","",1)))),IF($B34="dimanche",IF(H34="r","",IF(H34="","",IF(H34="fe","",IF(H34="cp","",1)))),"")) | Y34: =IF($B34="samedi",IF(I34="r","",IF(I34="","",IF(I34="fe","",IF(I34="cp","",1)))),IF($B34="dimanche",IF(I34="r","",IF(I34="","",IF(I34="fe","",IF(I34="cp","",1)))),"")) | Z34: =IF($B34="samedi",IF(J34="r","",IF(J34="","",IF(J34="fe","",IF(J34="cp","",1)))),IF($B34="dimanche",IF(J34="r","",IF(J34="","",IF(J34="fe","",IF(J34="cp","",1)))),"")) | AB34: =+IF(T34=1,$C34,"") | AC34: =+IF(U34=1,$C34,"") | AD34: =+IF(V34=1,$C34,"") | AE34: =+IF(W34=1,$C34,"") | AF34: =+IF(X34=1,$C34,"") | AG34: =+IF(Y34=1,$C34,"") | AH34: =+IF(Z34=1,$C34,"")
B35: samedi | C35: 43498 | D35: R | E35: R | F35: M EXT | G35: R | H35: R | I35: R | J35: 17H 5H | N35: =COUNTIF($D35:$L35,N$1) -> 1 | O35: =COUNTIF($D35:$L35,O$1) -> 0 | P35: =COUNTIF($D35:$L35,P$1) -> 0 | Q35: =COUNTIF($D35:$L35,Q$1) -> 0 | R35: =COUNTIF($D35:$L35,R$1) -> 1 | T35: =IF($B35="samedi",IF(D35="r","",IF(D35="","",IF(D35="fe","",IF(D35="cp","",1)))),IF($B35="dimanche",IF(D35="r","",IF(D35="","",IF(D35="fe","",IF(D35="cp","",1)))),"")) | U35: =IF($B35="samedi",IF(E35="r","",IF(E35="","",IF(E35="fe","",IF(E35="cp","",1)))),IF($B35="dimanche",IF(E35="r","",IF(E35="","",IF(E35="fe","",IF(E35="cp","",1)))),"")) | V35: =IF($B35="samedi",IF(F35="r","",IF(F35="","",IF(F35="fe","",IF(F35="cp","",1)))),IF($B35="dimanche",IF(F35="r","",IF(F35="","",IF(F35="fe","",IF(F35="cp","",1)))),"")) -> 1 | W35: =IF($B35="samedi",IF(G35="r","",IF(G35="","",IF(G35="fe","",IF(G35="cp","",1)))),IF($B35="dimanche",IF(G35="r","",IF(G35="","",IF(G35="fe","",IF(G35="cp","",1)))),"")) | X35: =IF($B35="samedi",IF(H35="r","",IF(H35="","",IF(H35="fe","",IF(H35="cp","",1)))),IF($B35="dimanche",IF(H35="r","",IF(H35="","",IF(H35="fe","",IF(H35="cp","",1)))),"")) | Y35: =IF($B35="samedi",IF(I35="r","",IF(I35="","",IF(I35="fe","",IF(I35="cp","",1)))),IF($B35="dimanche",IF(I35="r","",IF(I35="","",IF(I35="fe","",IF(I35="cp","",1)))),"")) | Z35: =IF($B35="samedi",IF(J35="r","",IF(J35="","",IF(J35="fe","",IF(J35="cp","",1)))),IF($B35="dimanche",IF(J35="r","",IF(J35="","",IF(J35="fe","",IF(J35="cp","",1)))),"")) -> 1 | AB35: =+IF(T35=1,$C35,"") | AC35: =+IF(U35=1,$C35,"") | AD35: =+IF(V35=1,$C35,"") -> 43498 | AE35: =+IF(W35=1,$C35,"") | AF35: =+IF(X35=1,$C35,"") | AG35: =+IF(Y35=1,$C35,"") | AH35: =+IF(Z35=1,$C35,"") -> 43498
B36: dimanche | C36: 43499 | D36: R | E36: R | F36: M EXT | G36: R | H36: R | I36: R | J36: 17H 5H | N36: =COUNTIF($D36:$L36,N$1) -> 1 | O36: =COUNTIF($D36:$L36,O$1) -> 0 | P36: =COUNTIF($D36:$L36,P$1) -> 0 | Q36: =COUNTIF($D36:$L36,Q$1) -> 0 | R36: =COUNTIF($D36:$L36,R$1) -> 1 | T36: =IF($B36="samedi",IF(D36="r","",IF(D36="","",IF(D36="fe","",IF(D36="cp","",1)))),IF($B36="dimanche",IF(D36="r","",IF(D36="","",IF(D36="fe","",IF(D36="cp","",1)))),"")) | U36: =IF($B36="samedi",IF(E36="r","",IF(E36="","",IF(E36="fe","",IF(E36="cp","",1)))),IF($B36="dimanche",IF(E36="r","",IF(E36="","",IF(E36="fe","",IF(E36="cp","",1)))),"")) | V36: =IF($B36="samedi",IF(F36="r","",IF(F36="","",IF(F36="fe","",IF(F36="cp","",1)))),IF($B36="dimanche",IF(F36="r","",IF(F36="","",IF(F36="fe","",IF(F36="cp","",1)))),"")) -> 1 | W36: =IF($B36="samedi",IF(G36="r","",IF(G36="","",IF(G36="fe","",IF(G36="cp","",1)))),IF($B36="dimanche",IF(G36="r","",IF(G36="","",IF(G36="fe","",IF(G36="cp","",1)))),"")) | X36: =IF($B36="samedi",IF(H36="r","",IF(H36="","",IF(H36="fe","",IF(H36="cp","",1)))),IF($B36="dimanche",IF(H36="r","",IF(H36="","",IF(H36="fe","",IF(H36="cp","",1)))),"")) | Y36: =IF($B36="samedi",IF(I36="r","",IF(I36="","",IF(I36="fe","",IF(I36="cp","",1)))),IF($B36="dimanche",IF(I36="r","",IF(I36="","",IF(I36="fe","",IF(I36="cp","",1)))),"")) | Z36: =IF($B36="samedi",IF(J36="r","",IF(J36="","",IF(J36="fe","",IF(J36="cp","",1)))),IF($B36="dimanche",IF(J36="r","",IF(J36="","",IF(J36="fe","",IF(J36="cp","",1)))),"")) -> 1 | AB36: =+IF(T36=1,$C36,"") | AC36: =+IF(U36=1,$C36,"") | AD36: =+IF(V36=1,$C36,"") -> 43499 | AE36: =+IF(W36=1,$C36,"") | AF36: =+IF(X36=1,$C36,"") | AG36: =+IF(Y36=1,$C36,"") | AH36: =+IF(Z36=1,$C36,"") -> 43499
A37: S6 | B37: lundi | C37: 43500 | D37: R | E37: AM EXT | F37: R | G37: N EXT | H37: M EXT | I37: CP | J37: R | N37: =COUNTIF($D37:$L37,N$1) -> 1 | O37: =COUNTIF($D37:$L37,O$1) -> 1 | P37: =COUNTIF($D37:$L37,P$1) -> 1 | Q37: =COUNTIF($D37:$L37,Q$1) -> 0 | R37: =COUNTIF($D37:$L37,R$1) -> 0 | T37: =IF($B37="samedi",IF(D37="r","",IF(D37="","",IF(D37="fe","",IF(D37="cp","",1)))),IF($B37="dimanche",IF(D37="r","",IF(D37="","",IF(D37="fe","",IF(D37="cp","",1)))),"")) | U37: =IF($B37="samedi",IF(E37="r","",IF(E37="","",IF(E37="fe","",IF(E37="cp","",1)))),IF($B37="dimanche",IF(E37="r","",IF(E37="","",IF(E37="fe","",IF(E37="cp","",1)))),"")) | V37: =IF($B37="samedi",IF(F37="r","",IF(F37="","",IF(F37="fe","",IF(F37="cp","",1)))),IF($B37="dimanche",IF(F37="r","",IF(F37="","",IF(F37="fe","",IF(F37="cp","",1)))),"")) | W37: =IF($B37="samedi",IF(G37="r","",IF(G37="","",IF(G37="fe","",IF(G37="cp","",1)))),IF($B37="dimanche",IF(G37="r","",IF(G37="","",IF(G37="fe","",IF(G37="cp","",1)))),"")) | X37: =IF($B37="samedi",IF(H37="r","",IF(H37="","",IF(H37="fe","",IF(H37="cp","",1)))),IF($B37="dimanche",IF(H37="r","",IF(H37="","",IF(H37="fe","",IF(H37="cp","",1)))),"")) | Y37: =IF($B37="samedi",IF(I37="r","",IF(I37="","",IF(I37="fe","",IF(I37="cp","",1)))),IF($B37="dimanche",IF(I37="r","",IF(I37="","",IF(I37="fe","",IF(I37="cp","",1)))),"")) | Z37: =IF($B37="samedi",IF(J37="r","",IF(J37="","",IF(J37="fe","",IF(J37="cp","",1)))),IF($B37="dimanche",IF(J37="r","",IF(J37="","",IF(J37="fe","",IF(J37="cp","",1)))),"")) | AB37: =+IF(T37=1,$C37,"") | AC37: =+IF(U37=1,$C37,"") | AD37: =+IF(V37=1,$C37,"") | AE37: =+IF(W37=1,$C37,"") | AF37: =+IF(X37=1,$C37,"") | AG37: =+IF(Y37=1,$C37,"") | AH37: =+IF(Z37=1,$C37,"")
B38: mardi | C38: 43501 | D38: J EXT | E38: AM EXT | F38: R | G38: N EXT | H38: M EXT | I38: CP | J38: R | L38: J EXT | N38: =COUNTIF($D38:$L38,N$1) -> 1 | O38: =COUNTIF($D38:$L38,O$1) -> 1 | P38: =COUNTIF($D38:$L38,P$1) -> 1 | Q38: =COUNTIF($D38:$L38,Q$1) -> 0 | R38: =COUNTIF($D38:$L38,R$1) -> 0 | T38: =IF($B38="samedi",IF(D38="r","",IF(D38="","",IF(D38="fe","",IF(D38="cp","",1)))),IF($B38="dimanche",IF(D38="r","",IF(D38="","",IF(D38="fe","",IF(D38="cp","",1)))),"")) | U38: =IF($B38="samedi",IF(E38="r","",IF(E38="","",IF(E38="fe","",IF(E38="cp","",1)))),IF($B38="dimanche",IF(E38="r","",IF(E38="","",IF(E38="fe","",IF(E38="cp","",1)))),"")) | V38: =IF($B38="samedi",IF(F38="r","",IF(F38="","",IF(F38="fe","",IF(F38="cp","",1)))),IF($B38="dimanche",IF(F38="r","",IF(F38="","",IF(F38="fe","",IF(F38="cp","",1)))),"")) | W38: =IF($B38="samedi",IF(G38="r","",IF(G38="","",IF(G38="fe","",IF(G38="cp","",1)))),IF($B38="dimanche",IF(G38="r","",IF(G38="","",IF(G38="fe","",IF(G38="cp","",1)))),"")) | X38: =IF($B38="samedi",IF(H38="r","",IF(H38="","",IF(H38="fe","",IF(H38="cp","",1)))),IF($B38="dimanche",IF(H38="r","",IF(H38="","",IF(H38="fe","",IF(H38="cp","",1)))),"")) | Y38: =IF($B38="samedi",IF(I38="r","",IF(I38="","",IF(I38="fe","",IF(I38="cp","",1)))),IF($B38="dimanche",IF(I38="r","",IF(I38="","",IF(I38="fe","",IF(I38="cp","",1)))),"")) | Z38: =IF($B38="samedi",IF(J38="r","",IF(J38="","",IF(J38="fe","",IF(J38="cp","",1)))),IF($B38="dimanche",IF(J38="r","",IF(J38="","",IF(J38="fe","",IF(J38="cp","",1)))),"")) | AB38: =+IF(T38=1,$C38,"") | AC38: =+IF(U38=1,$C38,"") | AD38: =+IF(V38=1,$C38,"") | AE38: =+IF(W38=1,$C38,"") | AF38: =+IF(X38=1,$C38,"") | AG38: =+IF(Y38=1,$C38,"") | AH38: =+IF(Z38=1,$C38,"")
B39: mercredi | C39: 43502 | D39: J EXT | E39: AM EXT | F39: J EXT | G39: N EXT | H39: M EXT | I39: R | J39: R | L39: J EXT | N39: =COUNTIF($D39:$L39,N$1) -> 1 | O39: =COUNTIF($D39:$L39,O$1) -> 1 | P39: =COUNTIF($D39:$L39,P$1) -> 1 | Q39: =COUNTIF($D39:$L39,Q$1) -> 0 | R39: =COUNTIF($D39:$L39,R$1) -> 0 | T39: =IF($B39="samedi",IF(D39="r","",IF(D39="","",IF(D39="fe","",IF(D39="cp","",1)))),IF($B39="dimanche",IF(D39="r","",IF(D39="","",IF(D39="fe","",IF(D39="cp","",1)))),"")) | U39: =IF($B39="samedi",IF(E39="r","",IF(E39="","",IF(E39="fe","",IF(E39="cp","",1)))),IF($B39="dimanche",IF(E39="r","",IF(E39="","",IF(E39="fe","",IF(E39="cp","",1)))),"")) | V39: =IF($B39="samedi",IF(F39="r","",IF(F39="","",IF(F39="fe","",IF(F39="cp","",1)))),IF($B39="dimanche",IF(F39="r","",IF(F39="","",IF(F39="fe","",IF(F39="cp","",1)))),"")) | W39: =IF($B39="samedi",IF(G39="r","",IF(G39="","",IF(G39="fe","",IF(G39="cp","",1)))),IF($B39="dimanche",IF(G39="r","",IF(G39="","",IF(G39="fe","",IF(G39="cp","",1)))),"")) | X39: =IF($B39="samedi",IF(H39="r","",IF(H39="","",IF(H39="fe","",IF(H39="cp","",1)))),IF($B39="dimanche",IF(H39="r","",IF(H39="","",IF(H39="fe","",IF(H39="cp","",1)))),"")) | Y39: =IF($B39="samedi",IF(I39="r","",IF(I39="","",IF(I39="fe","",IF(I39="cp","",1)))),IF($B39="dimanche",IF(I39="r","",IF(I39="","",IF(I39="fe","",IF(I39="cp","",1)))),"")) | Z39: =IF($B39="samedi",IF(J39="r","",IF(J39="","",IF(J39="fe","",IF(J39="cp","",1)))),IF($B39="dimanche",IF(J39="r","",IF(J39="","",IF(J39="fe","",IF(J39="cp","",1)))),"")) | AB39: =+IF(T39=1,$C39,"") | AC39: =+IF(U39=1,$C39,"") | AD39: =+IF(V39=1,$C39,"") | AE39: =+IF(W39=1,$C39,"") | AF39: =+IF(X39=1,$C39,"") | AG39: =+IF(Y39=1,$C39,"") | AH39: =+IF(Z39=1,$C39,"")
B40: jeudi | C40: 43503 | D40: J EXT | E40: AM EXT | F40: J EXT | G40: N EXT | H40: M EXT | I40: R | J40: R | L40: j EXT | N40: =COUNTIF($D40:$L40,N$1) -> 1 | O40: =COUNTIF($D40:$L40,O$1) -> 1 | P40: =COUNTIF($D40:$L40,P$1) -> 1 | Q40: =COUNTIF($D40:$L40,Q$1) -> 0 | R40: =COUNTIF($D40:$L40,R$1) -> 0 | T40: =IF($B40="samedi",IF(D40="r","",IF(D40="","",IF(D40="fe","",IF(D40="cp","",1)))),IF($B40="dimanche",IF(D40="r","",IF(D40="","",IF(D40="fe","",IF(D40="cp","",1)))),"")) | U40: =IF($B40="samedi",IF(E40="r","",IF(E40="","",IF(E40="fe","",IF(E40="cp","",1)))),IF($B40="dimanche",IF(E40="r","",IF(E40="","",IF(E40="fe","",IF(E40="cp","",1)))),"")) | V40: =IF($B40="samedi",IF(F40="r","",IF(F40="","",IF(F40="fe","",IF(F40="cp","",1)))),IF($B40="dimanche",IF(F40="r","",IF(F40="","",IF(F40="fe","",IF(F40="cp","",1)))),"")) | W40: =IF($B40="samedi",IF(G40="r","",IF(G40="","",IF(G40="fe","",IF(G40="cp","",1)))),IF($B40="dimanche",IF(G40="r","",IF(G40="","",IF(G40="fe","",IF(G40="cp","",1)))),"")) | X40: =IF($B40="samedi",IF(H40="r","",IF(H40="","",IF(H40="fe","",IF(H40="cp","",1)))),IF($B40="dimanche",IF(H40="r","",IF(H40="","",IF(H40="fe","",IF(H40="cp","",1)))),"")) | Y40: =IF($B40="samedi",IF(I40="r","",IF(I40="","",IF(I40="fe","",IF(I40="cp","",1)))),IF($B40="dimanche",IF(I40="r","",IF(I40="","",IF(I40="fe","",IF(I40="cp","",1)))),"")) | Z40: =IF($B40="samedi",IF(J40="r","",IF(J40="","",IF(J40="fe","",IF(J40="cp","",1)))),IF($B40="dimanche",IF(J40="r","",IF(J40="","",IF(J40="fe","",IF(J40="cp","",1)))),"")) | AB40: =+IF(T40=1,$C40,"") | AC40: =+IF(U40=1,$C40,"") | AD40: =+IF(V40=1,$C40,"") | AE40: =+IF(W40=1,$C40,"") | AF40: =+IF(X40=1,$C40,"") | AG40: =+IF(Y40=1,$C40,"") | AH40: =+IF(Z40=1,$C40,"")
B41: vendredi | C41: 43504 | D41: J EXT | E41: AM EXT | F41: J EXT | G41: N EXT | H41: R | I41: M EXT | J41: R | N41: =COUNTIF($D41:$L41,N$1) -> 1 | O41: =COUNTIF($D41:$L41,O$1) -> 1 | P41: =COUNTIF($D41:$L41,P$1) -> 1 | Q41: =COUNTIF($D41:$L41,Q$1) -> 0 | R41: =COUNTIF($D41:$L41,R$1) -> 0 | T41: =IF($B41="samedi",IF(D41="r","",IF(D41="","",IF(D41="fe","",IF(D41="cp","",1)))),IF($B41="dimanche",IF(D41="r","",IF(D41="","",IF(D41="fe","",IF(D41="cp","",1)))),"")) | U41: =IF($B41="samedi",IF(E41="r","",IF(E41="","",IF(E41="fe","",IF(E41="cp","",1)))),IF($B41="dimanche",IF(E41="r","",IF(E41="","",IF(E41="fe","",IF(E41="cp","",1)))),"")) | V41: =IF($B41="samedi",IF(F41="r","",IF(F41="","",IF(F41="fe","",IF(F41="cp","",1)))),IF($B41="dimanche",IF(F41="r","",IF(F41="","",IF(F41="fe","",IF(F41="cp","",1)))),"")) | W41: =IF($B41="samedi",IF(G41="r","",IF(G41="","",IF(G41="fe","",IF(G41="cp","",1)))),IF($B41="dimanche",IF(G41="r","",IF(G41="","",IF(G41="fe","",IF(G41="cp","",1)))),"")) | X41: =IF($B41="samedi",IF(H41="r","",IF(H41="","",IF(H41="fe","",IF(H41="cp","",1)))),IF($B41="dimanche",IF(H41="r","",IF(H41="","",IF(H41="fe","",IF(H41="cp","",1)))),"")) | Y41: =IF($B41="samedi",IF(I41="r","",IF(I41="","",IF(I41="fe","",IF(I41="cp","",1)))),IF($B41="dimanche",IF(I41="r","",IF(I41="","",IF(I41="fe","",IF(I41="cp","",1)))),"")) | Z41: =IF($B41="samedi",IF(J41="r","",IF(J41="","",IF(J41="fe","",IF(J41="cp","",1)))),IF($B41="dimanche",IF(J41="r","",IF(J41="","",IF(J41="fe","",IF(J41="cp","",1)))),"")) | AB41: =+IF(T41=1,$C41,"") | AC41: =+IF(U41=1,$C41,"") | AD41: =+IF(V41=1,$C41,"") | AE41: =+IF(W41=1,$C41,"") | AF41: =+IF(X41=1,$C41,"") | AG41: =+IF(Y41=1,$C41,"") | AH41: =+IF(Z41=1,$C41,"")
B42: samedi | C42: 43505 | D42: R | E42: R | F42: R | G42: R | H42: R | I42: M EXT | J42: 17H 5H | N42: =COUNTIF($D42:$L42,N$1) -> 1 | O42: =COUNTIF($D42:$L42,O$1) -> 0 | P42: =COUNTIF($D42:$L42,P$1) -> 0 | Q42: =COUNTIF($D42:$L42,Q$1) -> 0 | R42: =COUNTIF($D42:$L42,R$1) -> 1 | T42: =IF($B42="samedi",IF(D42="r","",IF(D42="","",IF(D42="fe","",IF(D42="cp","",1)))),IF($B42="dimanche",IF(D42="r","",IF(D42="","",IF(D42="fe","",IF(D42="cp","",1)))),"")) | U42: =IF($B42="samedi",IF(E42="r","",IF(E42="","",IF(E42="fe","",IF(E42="cp","",1)))),IF($B42="dimanche",IF(E42="r","",IF(E42="","",IF(E42="fe","",IF(E42="cp","",1)))),"")) | V42: =IF($B42="samedi",IF(F42="r","",IF(F42="","",IF(F42="fe","",IF(F42="cp","",1)))),IF($B42="dimanche",IF(F42="r","",IF(F42="","",IF(F42="fe","",IF(F42="cp","",1)))),"")) | W42: =IF($B42="samedi",IF(G42="r","",IF(G42="","",IF(G42="fe","",IF(G42="cp","",1)))),IF($B42="dimanche",IF(G42="r","",IF(G42="","",IF(G42="fe","",IF(G42="cp","",1)))),"")) | X42: =IF($B42="samedi",IF(H42="r","",IF(H42="","",IF(H42="fe","",IF(H42="cp","",1)))),IF($B42="dimanche",IF(H42="r","",IF(H42="","",IF(H42="fe","",IF(H42="cp","",1)))),"")) | Y42: =IF($B42="samedi",IF(I42="r","",IF(I42="","",IF(I42="fe","",IF(I42="cp","",1)))),IF($B42="dimanche",IF(I42="r","",IF(I42="","",IF(I42="fe","",IF(I42="cp","",1)))),"")) -> 1 | Z42: =IF($B42="samedi",IF(J42="r","",IF(J42="","",IF(J42="fe","",IF(J42="cp","",1)))),IF($B42="dimanche",IF(J42="r","",IF(J42="","",IF(J42="fe","",IF(J42="cp","",1)))),"")) -> 1 | AB42: =+IF(T42=1,$C42,"") | AC42: =+IF(U42=1,$C42,"") | AD42: =+IF(V42=1,$C42,"") | AE42: =+IF(W42=1,$C42,"") | AF42: =+IF(X42=1,$C42,"") | AG42: =+IF(Y42=1,$C42,"") -> 43505 | AH42: =+IF(Z42=1,$C42,"") -> 43505
B43: dimanche | C43: 43506 | D43: R | E43: R | F43: R | G43: R | H43: R | I43: M EXT | J43: 17H 5H | N43: =COUNTIF($D43:$L43,N$1) -> 1 | O43: =COUNTIF($D43:$L43,O$1) -> 0 | P43: =COUNTIF($D43:$L43,P$1) -> 0 | Q43: =COUNTIF($D43:$L43,Q$1) -> 0 | R43: =COUNTIF($D43:$L43,R$1) -> 1 | T43: =IF($B43="samedi",IF(D43="r","",IF(D43="","",IF(D43="fe","",IF(D43="cp","",1)))),IF($B43="dimanche",IF(D43="r","",IF(D43="","",IF(D43="fe","",IF(D43="cp","",1)))),"")) | U43: =IF($B43="samedi",IF(E43="r","",IF(E43="","",IF(E43="fe","",IF(E43="cp","",1)))),IF($B43="dimanche",IF(E43="r","",IF(E43="","",IF(E43="fe","",IF(E43="cp","",1)))),"")) | V43: =IF($B43="samedi",IF(F43="r","",IF(F43="","",IF(F43="fe","",IF(F43="cp","",1)))),IF($B43="dimanche",IF(F43="r","",IF(F43="","",IF(F43="fe","",IF(F43="cp","",1)))),"")) | W43: =IF($B43="samedi",IF(G43="r","",IF(G43="","",IF(G43="fe","",IF(G43="cp","",1)))),IF($B43="dimanche",IF(G43="r","",IF(G43="","",IF(G43="fe","",IF(G43="cp","",1)))),"")) | X43: =IF($B43="samedi",IF(H43="r","",IF(H43="","",IF(H43="fe","",IF(H43="cp","",1)))),IF($B43="dimanche",IF(H43="r","",IF(H43="","",IF(H43="fe","",IF(H43="cp","",1)))),"")) | Y43: =IF($B43="samedi",IF(I43="r","",IF(I43="","",IF(I43="fe","",IF(I43="cp","",1)))),IF($B43="dimanche",IF(I43="r","",IF(I43="","",IF(I43="fe","",IF(I43="cp","",1)))),"")) -> 1 | Z43: =IF($B43="samedi",IF(J43="r","",IF(J43="","",IF(J43="fe","",IF(J43="cp","",1)))),IF($B43="dimanche",IF(J43="r","",IF(J43="","",IF(J43="fe","",IF(J43="cp","",1)))),"")) -> 1 | AB43: =+IF(T43=1,$C43,"") | AC43: =+IF(U43=1,$C43,"") | AD43: =+IF(V43=1,$C43,"") | AE43: =+IF(W43=1,$C43,"") | AF43: =+IF(X43=1,$C43,"") | AG43: =+IF(Y43=1,$C43,"") -> 43506 | AH43: =+IF(Z43=1,$C43,"") -> 43506
A44: S7 | B44: lundi | C44: 43507 | D44: J EXT | E44: J EXT | F44: AM EXT | G44: CP | H44: N EXT | I44: M EXT | J44: R | N44: =COUNTIF($D44:$L44,N$1) -> 1 | O44: =COUNTIF($D44:$L44,O$1) -> 1 | P44: =COUNTIF($D44:$L44,P$1) -> 1 | Q44: =COUNTIF($D44:$L44,Q$1) -> 0 | R44: =COUNTIF($D44:$L44,R$1) -> 0 | T44: =IF($B44="samedi",IF(D44="r","",IF(D44="","",IF(D44="fe","",IF(D44="cp","",1)))),IF($B44="dimanche",IF(D44="r","",IF(D44="","",IF(D44="fe","",IF(D44="cp","",1)))),"")) | U44: =IF($B44="samedi",IF(E44="r","",IF(E44="","",IF(E44="fe","",IF(E44="cp","",1)))),IF($B44="dimanche",IF(E44="r","",IF(E44="","",IF(E44="fe","",IF(E44="cp","",1)))),"")) | V44: =IF($B44="samedi",IF(F44="r","",IF(F44="","",IF(F44="fe","",IF(F44="cp","",1)))),IF($B44="dimanche",IF(F44="r","",IF(F44="","",IF(F44="fe","",IF(F44="cp","",1)))),"")) | W44: =IF($B44="samedi",IF(G44="r","",IF(G44="","",IF(G44="fe","",IF(G44="cp","",1)))),IF($B44="dimanche",IF(G44="r","",IF(G44="","",IF(G44="fe","",IF(G44="cp","",1)))),"")) | X44: =IF($B44="samedi",IF(H44="r","",IF(H44="","",IF(H44="fe","",IF(H44="cp","",1)))),IF($B44="dimanche",IF(H44="r","",IF(H44="","",IF(H44="fe","",IF(H44="cp","",1)))),"")) | Y44: =IF($B44="samedi",IF(I44="r","",IF(I44="","",IF(I44="fe","",IF(I44="cp","",1)))),IF($B44="dimanche",IF(I44="r","",IF(I44="","",IF(I44="fe","",IF(I44="cp","",1)))),"")) | Z44: =IF($B44="samedi",IF(J44="r","",IF(J44="","",IF(J44="fe","",IF(J44="cp","",1)))),IF($B44="dimanche",IF(J44="r","",IF(J44="","",IF(J44="fe","",IF(J44="cp","",1)))),"")) | AB44: =+IF(T44=1,$C44,"") | AC44: =+IF(U44=1,$C44,"") | AD44: =+IF(V44=1,$C44,"") | AE44: =+IF(W44=1,$C44,"") | AF44: =+IF(X44=1,$C44,"") | AG44: =+IF(Y44=1,$C44,"") | AH44: =+IF(Z44=1,$C44,"")
B45: mardi | C45: 43508 | D45: J EXT | E45: J EXT | F45: AM EXT | G45: CP | H45: N EXT | I45: M EXT | J45: R | N45: =COUNTIF($D45:$L45,N$1) -> 1 | O45: =COUNTIF($D45:$L45,O$1) -> 1 | P45: =COUNTIF($D45:$L45,P$1) -> 1 | Q45: =COUNTIF($D45:$L45,Q$1) -> 0 | R45: =COUNTIF($D45:$L45,R$1) -> 0 | T45: =IF($B45="samedi",IF(D45="r","",IF(D45="","",IF(D45="fe","",IF(D45="cp","",1)))),IF($B45="dimanche",IF(D45="r","",IF(D45="","",IF(D45="fe","",IF(D45="cp","",1)))),"")) | U45: =IF($B45="samedi",IF(E45="r","",IF(E45="","",IF(E45="fe","",IF(E45="cp","",1)))),IF($B45="dimanche",IF(E45="r","",IF(E45="","",IF(E45="fe","",IF(E45="cp","",1)))),"")) | V45: =IF($B45="samedi",IF(F45="r","",IF(F45="","",IF(F45="fe","",IF(F45="cp","",1)))),IF($B45="dimanche",IF(F45="r","",IF(F45="","",IF(F45="fe","",IF(F45="cp","",1)))),"")) | W45: =IF($B45="samedi",IF(G45="r","",IF(G45="","",IF(G45="fe","",IF(G45="cp","",1)))),IF($B45="dimanche",IF(G45="r","",IF(G45="","",IF(G45="fe","",IF(G45="cp","",1)))),"")) | X45: =IF($B45="samedi",IF(H45="r","",IF(H45="","",IF(H45="fe","",IF(H45="cp","",1)))),IF($B45="dimanche",IF(H45="r","",IF(H45="","",IF(H45="fe","",IF(H45="cp","",1)))),"")) | Y45: =IF($B45="samedi",IF(I45="r","",IF(I45="","",IF(I45="fe","",IF(I45="cp","",1)))),IF($B45="dimanche",IF(I45="r","",IF(I45="","",IF(I45="fe","",IF(I45="cp","",1)))),"")) | Z45: =IF($B45="samedi",IF(J45="r","",IF(J45="","",IF(J45="fe","",IF(J45="cp","",1)))),IF($B45="dimanche",IF(J45="r","",IF(J45="","",IF(J45="fe","",IF(J45="cp","",1)))),"")) | AB45: =+IF(T45=1,$C45,"") | AC45: =+IF(U45=1,$C45,"") | AD45: =+IF(V45=1,$C45,"") | AE45: =+IF(W45=1,$C45,"") | AF45: =+IF(X45=1,$C45,"") | AG45: =+IF(Y45=1,$C45,"") | AH45: =+IF(Z45=1,$C45,"")
B46: mercredi | C46: 43509 | D46: J EXT | E46: M EXT | F46: AM EXT | G46: CP | H46: N EXT | I46: R | J46: R | N46: =COUNTIF($D46:$L46,N$1) -> 1 | O46: =COUNTIF($D46:$L46,O$1) -> 1 | P46: =COUNTIF($D46:$L46,P$1) -> 1 | Q46: =COUNTIF($D46:$L46,Q$1) -> 0 | R46: =COUNTIF($D46:$L46,R$1) -> 0 | T46: =IF($B46="samedi",IF(D46="r","",IF(D46="","",IF(D46="fe","",IF(D46="cp","",1)))),IF($B46="dimanche",IF(D46="r","",IF(D46="","",IF(D46="fe","",IF(D46="cp","",1)))),"")) | U46: =IF($B46="samedi",IF(E46="r","",IF(E46="","",IF(E46="fe","",IF(E46="cp","",1)))),IF($B46="dimanche",IF(E46="r","",IF(E46="","",IF(E46="fe","",IF(E46="cp","",1)))),"")) | V46: =IF($B46="samedi",IF(F46="r","",IF(F46="","",IF(F46="fe","",IF(F46="cp","",1)))),IF($B46="dimanche",IF(F46="r","",IF(F46="","",IF(F46="fe","",IF(F46="cp","",1)))),"")) | W46: =IF($B46="samedi",IF(G46="r","",IF(G46="","",IF(G46="fe","",IF(G46="cp","",1)))),IF($B46="dimanche",IF(G46="r","",IF(G46="","",IF(G46="fe","",IF(G46="cp","",1)))),"")) | X46: =IF($B46="samedi",IF(H46="r","",IF(H46="","",IF(H46="fe","",IF(H46="cp","",1)))),IF($B46="dimanche",IF(H46="r","",IF(H46="","",IF(H46="fe","",IF(H46="cp","",1)))),"")) | Y46: =IF($B46="samedi",IF(I46="r","",IF(I46="","",IF(I46="fe","",IF(I46="cp","",1)))),IF($B46="dimanche",IF(I46="r","",IF(I46="","",IF(I46="fe","",IF(I46="cp","",1)))),"")) | Z46: =IF($B46="samedi",IF(J46="r","",IF(J46="","",IF(J46="fe","",IF(J46="cp","",1)))),IF($B46="dimanche",IF(J46="r","",IF(J46="","",IF(J46="fe","",IF(J46="cp","",1)))),"")) | AB46: =+IF(T46=1,$C46,"") | AC46: =+IF(U46=1,$C46,"") | AD46: =+IF(V46=1,$C46,"") | AE46: =+IF(W46=1,$C46,"") | AF46: =+IF(X46=1,$C46,"") | AG46: =+IF(Y46=1,$C46,"") | AH46: =+IF(Z46=1,$C46,"")
B47: jeudi | C47: 43510 | D47: J EXT | E47: M EXT | F47: AM EXT | G47: CP | H47: R | I47: N EXT | J47: R | N47: =COUNTIF($D47:$L47,N$1) -> 1 | O47: =COUNTIF($D47:$L47,O$1) -> 1 | P47: =COUNTIF($D47:$L47,P$1) -> 1 | Q47: =COUNTIF($D47:$L47,Q$1) -> 0 | R47: =COUNTIF($D47:$L47,R$1) -> 0 | T47: =IF($B47="samedi",IF(D47="r","",IF(D47="","",IF(D47="fe","",IF(D47="cp","",1)))),IF($B47="dimanche",IF(D47="r","",IF(D47="","",IF(D47="fe","",IF(D47="cp","",1)))),"")) | U47: =IF($B47="samedi",IF(E47="r","",IF(E47="","",IF(E47="fe","",IF(E47="cp","",1)))),IF($B47="dimanche",IF(E47="r","",IF(E47="","",IF(E47="fe","",IF(E47="cp","",1)))),"")) | V47: =IF($B47="samedi",IF(F47="r","",IF(F47="","",IF(F47="fe","",IF(F47="cp","",1)))),IF($B47="dimanche",IF(F47="r","",IF(F47="","",IF(F47="fe","",IF(F47="cp","",1)))),"")) | W47: =IF($B47="samedi",IF(G47="r","",IF(G47="","",IF(G47="fe","",IF(G47="cp","",1)))),IF($B47="dimanche",IF(G47="r","",IF(G47="","",IF(G47="fe","",IF(G47="cp","",1)))),"")) | X47: =IF($B47="samedi",IF(H47="r","",IF(H47="","",IF(H47="fe","",IF(H47="cp","",1)))),IF($B47="dimanche",IF(H47="r","",IF(H47="","",IF(H47="fe","",IF(H47="cp","",1)))),"")) | Y47: =IF($B47="samedi",IF(I47="r","",IF(I47="","",IF(I47="fe","",IF(I47="cp","",1)))),IF($B47="dimanche",IF(I47="r","",IF(I47="","",IF(I47="fe","",IF(I47="cp","",1)))),"")) | Z47: =IF($B47="samedi",IF(J47="r","",IF(J47="","",IF(J47="fe","",IF(J47="cp","",1)))),IF($B47="dimanche",IF(J47="r","",IF(J47="","",IF(J47="fe","",IF(J47="cp","",1)))),"")) | AB47: =+IF(T47=1,$C47,"") | AC47: =+IF(U47=1,$C47,"") | AD47: =+IF(V47=1,$C47,"") | AE47: =+IF(W47=1,$C47,"") | AF47: =+IF(X47=1,$C47,"") | AG47: =+IF(Y47=1,$C47,"") | AH47: =+IF(Z47=1,$C47,"")
B48: vendredi | C48: 43511 | D48: J EXT | E48: M EXT | F48: AM EXT | G48: CP | H48: R | I48: N EXT | J48: R | N48: =COUNTIF($D48:$L48,N$1) -> 1 | O48: =COUNTIF($D48:$L48,O$1) -> 1 | P48: =COUNTIF($D48:$L48,P$1) -> 1 | Q48: =COUNTIF($D48:$L48,Q$1) -> 0 | R48: =COUNTIF($D48:$L48,R$1) -> 0 | T48: =IF($B48="samedi",IF(D48="r","",IF(D48="","",IF(D48="fe","",IF(D48="cp","",1)))),IF($B48="dimanche",IF(D48="r","",IF(D48="","",IF(D48="fe","",IF(D48="cp","",1)))),"")) | U48: =IF($B48="samedi",IF(E48="r","",IF(E48="","",IF(E48="fe","",IF(E48="cp","",1)))),IF($B48="dimanche",IF(E48="r","",IF(E48="","",IF(E48="fe","",IF(E48="cp","",1)))),"")) | V48: =IF($B48="samedi",IF(F48="r","",IF(F48="","",IF(F48="fe","",IF(F48="cp","",1)))),IF($B48="dimanche",IF(F48="r","",IF(F48="","",IF(F48="fe","",IF(F48="cp","",1)))),"")) | W48: =IF($B48="samedi",IF(G48="r","",IF(G48="","",IF(G48="fe","",IF(G48="cp","",1)))),IF($B48="dimanche",IF(G48="r","",IF(G48="","",IF(G48="fe","",IF(G48="cp","",1)))),"")) | X48: =IF($B48="samedi",IF(H48="r","",IF(H48="","",IF(H48="fe","",IF(H48="cp","",1)))),IF($B48="dimanche",IF(H48="r","",IF(H48="","",IF(H48="fe","",IF(H48="cp","",1)))),"")) | Y48: =IF($B48="samedi",IF(I48="r","",IF(I48="","",IF(I48="fe","",IF(I48="cp","",1)))),IF($B48="dimanche",IF(I48="r","",IF(I48="","",IF(I48="fe","",IF(I48="cp","",1)))),"")) | Z48: =IF($B48="samedi",IF(J48="r","",IF(J48="","",IF(J48="fe","",IF(J48="cp","",1)))),IF($B48="dimanche",IF(J48="r","",IF(J48="","",IF(J48="fe","",IF(J48="cp","",1)))),"")) | AB48: =+IF(T48=1,$C48,"") | AC48: =+IF(U48=1,$C48,"") | AD48: =+IF(V48=1,$C48,"") | AE48: =+IF(W48=1,$C48,"") | AF48: =+IF(X48=1,$C48,"") | AG48: =+IF(Y48=1,$C48,"") | AH48: =+IF(Z48=1,$C48,"")
B49: samedi | C49: 43512 | D49: R | E49: R | F49: R | G49: R | H49: R | I49: N EXT | J49: 5H 17H | N49: =COUNTIF($D49:$L49,N$1) -> 0 | O49: =COUNTIF($D49:$L49,O$1) -> 0 | P49: =COUNTIF($D49:$L49,P$1) -> 1 | Q49: =COUNTIF($D49:$L49,Q$1) -> 1 | R49: =COUNTIF($D49:$L49,R$1) -> 0 | T49: =IF($B49="samedi",IF(D49="r","",IF(D49="","",IF(D49="fe","",IF(D49="cp","",1)))),IF($B49="dimanche",IF(D49="r","",IF(D49="","",IF(D49="fe","",IF(D49="cp","",1)))),"")) | U49: =IF($B49="samedi",IF(E49="r","",IF(E49="","",IF(E49="fe","",IF(E49="cp","",1)))),IF($B49="dimanche",IF(E49="r","",IF(E49="","",IF(E49="fe","",IF(E49="cp","",1)))),"")) | V49: =IF($B49="samedi",IF(F49="r","",IF(F49="","",IF(F49="fe","",IF(F49="cp","",1)))),IF($B49="dimanche",IF(F49="r","",IF(F49="","",IF(F49="fe","",IF(F49="cp","",1)))),"")) | W49: =IF($B49="samedi",IF(G49="r","",IF(G49="","",IF(G49="fe","",IF(G49="cp","",1)))),IF($B49="dimanche",IF(G49="r","",IF(G49="","",IF(G49="fe","",IF(G49="cp","",1)))),"")) | X49: =IF($B49="samedi",IF(H49="r","",IF(H49="","",IF(H49="fe","",IF(H49="cp","",1)))),IF($B49="dimanche",IF(H49="r","",IF(H49="","",IF(H49="fe","",IF(H49="cp","",1)))),"")) | Y49: =IF($B49="samedi",IF(I49="r","",IF(I49="","",IF(I49="fe","",IF(I49="cp","",1)))),IF($B49="dimanche",IF(I49="r","",IF(I49="","",IF(I49="fe","",IF(I49="cp","",1)))),"")) -> 1 | Z49: =IF($B49="samedi",IF(J49="r","",IF(J49="","",IF(J49="fe","",IF(J49="cp","",1)))),IF($B49="dimanche",IF(J49="r","",IF(J49="","",IF(J49="fe","",IF(J49="cp","",1)))),"")) -> 1 | AB49: =+IF(T49=1,$C49,"") | AC49: =+IF(U49=1,$C49,"") | AD49: =+IF(V49=1,$C49,"") | AE49: =+IF(W49=1,$C49,"") | AF49: =+IF(X49=1,$C49,"") | AG49: =+IF(Y49=1,$C49,"") -> 43512 | AH49: =+IF(Z49=1,$C49,"") -> 43512
B50: dimanche | C50: 43513 | D50: R | E50: R | F50: R | G50: R | H50: R | I50: N EXT | J50: 5H 17H | N50: =COUNTIF($D50:$L50,N$1) -> 0 | O50: =COUNTIF($D50:$L50,O$1) -> 0 | P50: =COUNTIF($D50:$L50,P$1) -> 1 | Q50: =COUNTIF($D50:$L50,Q$1) -> 1 | R50: =COUNTIF($D50:$L50,R$1) -> 0 | T50: =IF($B50="samedi",IF(D50="r","",IF(D50="","",IF(D50="fe","",IF(D50="cp","",1)))),IF($B50="dimanche",IF(D50="r","",IF(D50="","",IF(D50="fe","",IF(D50="cp","",1)))),"")) | U50: =IF($B50="samedi",IF(E50="r","",IF(E50="","",IF(E50="fe","",IF(E50="cp","",1)))),IF($B50="dimanche",IF(E50="r","",IF(E50="","",IF(E50="fe","",IF(E50="cp","",1)))),"")) | V50: =IF($B50="samedi",IF(F50="r","",IF(F50="","",IF(F50="fe","",IF(F50="cp","",1)))),IF($B50="dimanche",IF(F50="r","",IF(F50="","",IF(F50="fe","",IF(F50="cp","",1)))),"")) | W50: =IF($B50="samedi",IF(G50="r","",IF(G50="","",IF(G50="fe","",IF(G50="cp","",1)))),IF($B50="dimanche",IF(G50="r","",IF(G50="","",IF(G50="fe","",IF(G50="cp","",1)))),"")) | X50: =IF($B50="samedi",IF(H50="r","",IF(H50="","",IF(H50="fe","",IF(H50="cp","",1)))),IF($B50="dimanche",IF(H50="r","",IF(H50="","",IF(H50="fe","",IF(H50="cp","",1)))),"")) | Y50: =IF($B50="samedi",IF(I50="r","",IF(I50="","",IF(I50="fe","",IF(I50="cp","",1)))),IF($B50="dimanche",IF(I50="r","",IF(I50="","",IF(I50="fe","",IF(I50="cp","",1)))),"")) -> 1 | Z50: =IF($B50="samedi",IF(J50="r","",IF(J50="","",IF(J50="fe","",IF(J50="cp","",1)))),IF($B50="dimanche",IF(J50="r","",IF(J50="","",IF(J50="fe","",IF(J50="cp","",1)))),"")) -> 1 | AB50: =+IF(T50=1,$C50,"") | AC50: =+IF(U50=1,$C50,"") | AD50: =+IF(V50=1,$C50,"") | AE50: =+IF(W50=1,$C50,"") | AF50: =+IF(X50=1,$C50,"") | AG50: =+IF(Y50=1,$C50,"") -> 43513 | AH50: =+IF(Z50=1,$C50,"") -> 43513
A51: S8 | B51: lundi | C51: 43514 | D51: J EXT | E51: CP | F51: N EXT | G51: AM EXT | H51: M EXT | I51: R | J51: R | N51: =COUNTIF($D51:$L51,N$1) -> 1 | O51: =COUNTIF($D51:$L51,O$1) -> 1 | P51: =COUNTIF($D51:$L51,P$1) -> 1 | Q51: =COUNTIF($D51:$L51,Q$1) -> 0 | R51: =COUNTIF($D51:$L51,R$1) -> 0 | T51: =IF($B51="samedi",IF(D51="r","",IF(D51="","",IF(D51="fe","",IF(D51="cp","",1)))),IF($B51="dimanche",IF(D51="r","",IF(D51="","",IF(D51="fe","",IF(D51="cp","",1)))),"")) | U51: =IF($B51="samedi",IF(E51="r","",IF(E51="","",IF(E51="fe","",IF(E51="cp","",1)))),IF($B51="dimanche",IF(E51="r","",IF(E51="","",IF(E51="fe","",IF(E51="cp","",1)))),"")) | V51: =IF($B51="samedi",IF(F51="r","",IF(F51="","",IF(F51="fe","",IF(F51="cp","",1)))),IF($B51="dimanche",IF(F51="r","",IF(F51="","",IF(F51="fe","",IF(F51="cp","",1)))),"")) | W51: =IF($B51="samedi",IF(G51="r","",IF(G51="","",IF(G51="fe","",IF(G51="cp","",1)))),IF($B51="dimanche",IF(G51="r","",IF(G51="","",IF(G51="fe","",IF(G51="cp","",1)))),"")) | X51: =IF($B51="samedi",IF(H51="r","",IF(H51="","",IF(H51="fe","",IF(H51="cp","",1)))),IF($B51="dimanche",IF(H51="r","",IF(H51="","",IF(H51="fe","",IF(H51="cp","",1)))),"")) | Y51: =IF($B51="samedi",IF(I51="r","",IF(I51="","",IF(I51="fe","",IF(I51="cp","",1)))),IF($B51="dimanche",IF(I51="r","",IF(I51="","",IF(I51="fe","",IF(I51="cp","",1)))),"")) | Z51: =IF($B51="samedi",IF(J51="r","",IF(J51="","",IF(J51="fe","",IF(J51="cp","",1)))),IF($B51="dimanche",IF(J51="r","",IF(J51="","",IF(J51="fe","",IF(J51="cp","",1)))),"")) | AB51: =+IF(T51=1,$C51,"") | AC51: =+IF(U51=1,$C51,"") | AD51: =+IF(V51=1,$C51,"") | AE51: =+IF(W51=1,$C51,"") | AF51: =+IF(X51=1,$C51,"") | AG51: =+IF(Y51=1,$C51,"") | AH51: =+IF(Z51=1,$C51,"")
B52: mardi | C52: 43515 | D52: J EXT | E52: CP | F52: N EXT | G52: AM EXT | H52: M EXT | I52: R | J52: R | L52: J EXT | N52: =COUNTIF($D52:$L52,N$1) -> 1 | O52: =COUNTIF($D52:$L52,O$1) -> 1 | P52: =COUNTIF($D52:$L52,P$1) -> 1 | Q52: =COUNTIF($D52:$L52,Q$1) -> 0 | R52: =COUNTIF($D52:$L52,R$1) -> 0 | T52: =IF($B52="samedi",IF(D52="r","",IF(D52="","",IF(D52="fe","",IF(D52="cp","",1)))),IF($B52="dimanche",IF(D52="r","",IF(D52="","",IF(D52="fe","",IF(D52="cp","",1)))),"")) | U52: =IF($B52="samedi",IF(E52="r","",IF(E52="","",IF(E52="fe","",IF(E52="cp","",1)))),IF($B52="dimanche",IF(E52="r","",IF(E52="","",IF(E52="fe","",IF(E52="cp","",1)))),"")) | V52: =IF($B52="samedi",IF(F52="r","",IF(F52="","",IF(F52="fe","",IF(F52="cp","",1)))),IF($B52="dimanche",IF(F52="r","",IF(F52="","",IF(F52="fe","",IF(F52="cp","",1)))),"")) | W52: =IF($B52="samedi",IF(G52="r","",IF(G52="","",IF(G52="fe","",IF(G52="cp","",1)))),IF($B52="dimanche",IF(G52="r","",IF(G52="","",IF(G52="fe","",IF(G52="cp","",1)))),"")) | X52: =IF($B52="samedi",IF(H52="r","",IF(H52="","",IF(H52="fe","",IF(H52="cp","",1)))),IF($B52="dimanche",IF(H52="r","",IF(H52="","",IF(H52="fe","",IF(H52="cp","",1)))),"")) | Y52: =IF($B52="samedi",IF(I52="r","",IF(I52="","",IF(I52="fe","",IF(I52="cp","",1)))),IF($B52="dimanche",IF(I52="r","",IF(I52="","",IF(I52="fe","",IF(I52="cp","",1)))),"")) | Z52: =IF($B52="samedi",IF(J52="r","",IF(J52="","",IF(J52="fe","",IF(J52="cp","",1)))),IF($B52="dimanche",IF(J52="r","",IF(J52="","",IF(J52="fe","",IF(J52="cp","",1)))),"")) | AB52: =+IF(T52=1,$C52,"") | AC52: =+IF(U52=1,$C52,"") | AD52: =+IF(V52=1,$C52,"") | AE52: =+IF(W52=1,$C52,"") | AF52: =+IF(X52=1,$C52,"") | AG52: =+IF(Y52=1,$C52,"") | AH52: =+IF(Z52=1,$C52,"")
B53: mercredi | C53: 43516 | D53: J EXT | E53: CP | F53: N EXT | G53: AM EXT | H53: M EXT | I53: CP | J53: R | L53: J EXT | N53: =COUNTIF($D53:$L53,N$1) -> 1 | O53: =COUNTIF($D53:$L53,O$1) -> 1 | P53: =COUNTIF($D53:$L53,P$1) -> 1 | Q53: =COUNTIF($D53:$L53,Q$1) -> 0 | R53: =COUNTIF($D53:$L53,R$1) -> 0 | T53: =IF($B53="samedi",IF(D53="r","",IF(D53="","",IF(D53="fe","",IF(D53="cp","",1)))),IF($B53="dimanche",IF(D53="r","",IF(D53="","",IF(D53="fe","",IF(D53="cp","",1)))),"")) | U53: =IF($B53="samedi",IF(E53="r","",IF(E53="","",IF(E53="fe","",IF(E53="cp","",1)))),IF($B53="dimanche",IF(E53="r","",IF(E53="","",IF(E53="fe","",IF(E53="cp","",1)))),"")) | V53: =IF($B53="samedi",IF(F53="r","",IF(F53="","",IF(F53="fe","",IF(F53="cp","",1)))),IF($B53="dimanche",IF(F53="r","",IF(F53="","",IF(F53="fe","",IF(F53="cp","",1)))),"")) | W53: =IF($B53="samedi",IF(G53="r","",IF(G53="","",IF(G53="fe","",IF(G53="cp","",1)))),IF($B53="dimanche",IF(G53="r","",IF(G53="","",IF(G53="fe","",IF(G53="cp","",1)))),"")) | X53: =IF($B53="samedi",IF(H53="r","",IF(H53="","",IF(H53="fe","",IF(H53="cp","",1)))),IF($B53="dimanche",IF(H53="r","",IF(H53="","",IF(H53="fe","",IF(H53="cp","",1)))),"")) | Y53: =IF($B53="samedi",IF(I53="r","",IF(I53="","",IF(I53="fe","",IF(I53="cp","",1)))),IF($B53="dimanche",IF(I53="r","",IF(I53="","",IF(I53="fe","",IF(I53="cp","",1)))),"")) | Z53: =IF($B53="samedi",IF(J53="r","",IF(J53="","",IF(J53="fe","",IF(J53="cp","",1)))),IF($B53="dimanche",IF(J53="r","",IF(J53="","",IF(J53="fe","",IF(J53="cp","",1)))),"")) | AB53: =+IF(T53=1,$C53,"") | AC53: =+IF(U53=1,$C53,"") | AD53: =+IF(V53=1,$C53,"") | AE53: =+IF(W53=1,$C53,"") | AF53: =+IF(X53=1,$C53,"") | AG53: =+IF(Y53=1,$C53,"") | AH53: =+IF(Z53=1,$C53,"")
B54: jeudi | C54: 43517 | D54: R | E54: CP | F54: N EXT | G54: AM EXT | H54: M EXT | I54: CP | J54: R | L54: J EXT | N54: =COUNTIF($D54:$L54,N$1) -> 1 | O54: =COUNTIF($D54:$L54,O$1) -> 1 | P54: =COUNTIF($D54:$L54,P$1) -> 1 | Q54: =COUNTIF($D54:$L54,Q$1) -> 0 | R54: =COUNTIF($D54:$L54,R$1) -> 0 | T54: =IF($B54="samedi",IF(D54="r","",IF(D54="","",IF(D54="fe","",IF(D54="cp","",1)))),IF($B54="dimanche",IF(D54="r","",IF(D54="","",IF(D54="fe","",IF(D54="cp","",1)))),"")) | U54: =IF($B54="samedi",IF(E54="r","",IF(E54="","",IF(E54="fe","",IF(E54="cp","",1)))),IF($B54="dimanche",IF(E54="r","",IF(E54="","",IF(E54="fe","",IF(E54="cp","",1)))),"")) | V54: =IF($B54="samedi",IF(F54="r","",IF(F54="","",IF(F54="fe","",IF(F54="cp","",1)))),IF($B54="dimanche",IF(F54="r","",IF(F54="","",IF(F54="fe","",IF(F54="cp","",1)))),"")) | W54: =IF($B54="samedi",IF(G54="r","",IF(G54="","",IF(G54="fe","",IF(G54="cp","",1)))),IF($B54="dimanche",IF(G54="r","",IF(G54="","",IF(G54="fe","",IF(G54="cp","",1)))),"")) | X54: =IF($B54="samedi",IF(H54="r","",IF(H54="","",IF(H54="fe","",IF(H54="cp","",1)))),IF($B54="dimanche",IF(H54="r","",IF(H54="","",IF(H54="fe","",IF(H54="cp","",1)))),"")) | Y54: =IF($B54="samedi",IF(I54="r","",IF(I54="","",IF(I54="fe","",IF(I54="cp","",1)))),IF($B54="dimanche",IF(I54="r","",IF(I54="","",IF(I54="fe","",IF(I54="cp","",1)))),"")) | Z54: =IF($B54="samedi",IF(J54="r","",IF(J54="","",IF(J54="fe","",IF(J54="cp","",1)))),IF($B54="dimanche",IF(J54="r","",IF(J54="","",IF(J54="fe","",IF(J54="cp","",1)))),"")) | AB54: =+IF(T54=1,$C54,"") | AC54: =+IF(U54=1,$C54,"") | AD54: =+IF(V54=1,$C54,"") | AE54: =+IF(W54=1,$C54,"") | AF54: =+IF(X54=1,$C54,"") | AG54: =+IF(Y54=1,$C54,"") | AH54: =+IF(Z54=1,$C54,"")
B55: vendredi | C55: 43518 | D55: R | E55: CP | F55: N EXT | G55: AM EXT | H55: M EXT | I55: CP | J55: R | N55: =COUNTIF($D55:$L55,N$1) -> 1 | O55: =COUNTIF($D55:$L55,O$1) -> 1 | P55: =COUNTIF($D55:$L55,P$1) -> 1 | Q55: =COUNTIF($D55:$L55,Q$1) -> 0 | R55: =COUNTIF($D55:$L55,R$1) -> 0 | T55: =IF($B55="samedi",IF(D55="r","",IF(D55="","",IF(D55="fe","",IF(D55="cp","",1)))),IF($B55="dimanche",IF(D55="r","",IF(D55="","",IF(D55="fe","",IF(D55="cp","",1)))),"")) | U55: =IF($B55="samedi",IF(E55="r","",IF(E55="","",IF(E55="fe","",IF(E55="cp","",1)))),IF($B55="dimanche",IF(E55="r","",IF(E55="","",IF(E55="fe","",IF(E55="cp","",1)))),"")) | V55: =IF($B55="samedi",IF(F55="r","",IF(F55="","",IF(F55="fe","",IF(F55="cp","",1)))),IF($B55="dimanche",IF(F55="r","",IF(F55="","",IF(F55="fe","",IF(F55="cp","",1)))),"")) | W55: =IF($B55="samedi",IF(G55="r","",IF(G55="","",IF(G55="fe","",IF(G55="cp","",1)))),IF($B55="dimanche",IF(G55="r","",IF(G55="","",IF(G55="fe","",IF(G55="cp","",1)))),"")) | X55: =IF($B55="samedi",IF(H55="r","",IF(H55="","",IF(H55="fe","",IF(H55="cp","",1)))),IF($B55="dimanche",IF(H55="r","",IF(H55="","",IF(H55="fe","",IF(H55="cp","",1)))),"")) | Y55: =IF($B55="samedi",IF(I55="r","",IF(I55="","",IF(I55="fe","",IF(I55="cp","",1)))),IF($B55="dimanche",IF(I55="r","",IF(I55="","",IF(I55="fe","",IF(I55="cp","",1)))),"")) | Z55: =IF($B55="samedi",IF(J55="r","",IF(J55="","",IF(J55="fe","",IF(J55="cp","",1)))),IF($B55="dimanche",IF(J55="r","",IF(J55="","",IF(J55="fe","",IF(J55="cp","",1)))),"")) | AB55: =+IF(T55=1,$C55,"") | AC55: =+IF(U55=1,$C55,"") | AD55: =+IF(V55=1,$C55,"") | AE55: =+IF(W55=1,$C55,"") | AF55: =+IF(X55=1,$C55,"") | AG55: =+IF(Y55=1,$C55,"") | AH55: =+IF(Z55=1,$C55,"")
B56: samedi | C56: 43519 | D56: N EXT | E56: R | F56: R | G56: R | H56: R | I56: R | J56: 5H 17H | N56: =COUNTIF($D56:$L56,N$1) -> 0 | O56: =COUNTIF($D56:$L56,O$1) -> 0 | P56: =COUNTIF($D56:$L56,P$1) -> 1 | Q56: =COUNTIF($D56:$L56,Q$1) -> 1 | R56: =COUNTIF($D56:$L56,R$1) -> 0 | T56: =IF($B56="samedi",IF(D56="r","",IF(D56="","",IF(D56="fe","",IF(D56="cp","",1)))),IF($B56="dimanche",IF(D56="r","",IF(D56="","",IF(D56="fe","",IF(D56="cp","",1)))),"")) -> 1 | U56: =IF($B56="samedi",IF(E56="r","",IF(E56="","",IF(E56="fe","",IF(E56="cp","",1)))),IF($B56="dimanche",IF(E56="r","",IF(E56="","",IF(E56="fe","",IF(E56="cp","",1)))),"")) | V56: =IF($B56="samedi",IF(F56="r","",IF(F56="","",IF(F56="fe","",IF(F56="cp","",1)))),IF($B56="dimanche",IF(F56="r","",IF(F56="","",IF(F56="fe","",IF(F56="cp","",1)))),"")) | W56: =IF($B56="samedi",IF(G56="r","",IF(G56="","",IF(G56="fe","",IF(G56="cp","",1)))),IF($B56="dimanche",IF(G56="r","",IF(G56="","",IF(G56="fe","",IF(G56="cp","",1)))),"")) | X56: =IF($B56="samedi",IF(H56="r","",IF(H56="","",IF(H56="fe","",IF(H56="cp","",1)))),IF($B56="dimanche",IF(H56="r","",IF(H56="","",IF(H56="fe","",IF(H56="cp","",1)))),"")) | Y56: =IF($B56="samedi",IF(I56="r","",IF(I56="","",IF(I56="fe","",IF(I56="cp","",1)))),IF($B56="dimanche",IF(I56="r","",IF(I56="","",IF(I56="fe","",IF(I56="cp","",1)))),"")) | Z56: =IF($B56="samedi",IF(J56="r","",IF(J56="","",IF(J56="fe","",IF(J56="cp","",1)))),IF($B56="dimanche",IF(J56="r","",IF(J56="","",IF(J56="fe","",IF(J56="cp","",1)))),"")) -> 1 | AB56: =+IF(T56=1,$C56,"") -> 43519 | AC56: =+IF(U56=1,$C56,"") | AD56: =+IF(V56=1,$C56,"") | AE56: =+IF(W56=1,$C56,"") | AF56: =+IF(X56=1,$C56,"") | AG56: =+IF(Y56=1,$C56,"") | AH56: =+IF(Z56=1,$C56,"") -> 43519
B57: dimanche | C57: 43520 | D57: N EXT | E57: R | F57: R | G57: R | H57: R | I57: R | J57: 5H 17H | N57: =COUNTIF($D57:$L57,N$1) -> 0 | O57: =COUNTIF($D57:$L57,O$1) -> 0 | P57: =COUNTIF($D57:$L57,P$1) -> 1 | Q57: =COUNTIF($D57:$L57,Q$1) -> 1 | R57: =COUNTIF($D57:$L57,R$1) -> 0 | T57: =IF($B57="samedi",IF(D57="r","",IF(D57="","",IF(D57="fe","",IF(D57="cp","",1)))),IF($B57="dimanche",IF(D57="r","",IF(D57="","",IF(D57="fe","",IF(D57="cp","",1)))),"")) -> 1 | U57: =IF($B57="samedi",IF(E57="r","",IF(E57="","",IF(E57="fe","",IF(E57="cp","",1)))),IF($B57="dimanche",IF(E57="r","",IF(E57="","",IF(E57="fe","",IF(E57="cp","",1)))),"")) | V57: =IF($B57="samedi",IF(F57="r","",IF(F57="","",IF(F57="fe","",IF(F57="cp","",1)))),IF($B57="dimanche",IF(F57="r","",IF(F57="","",IF(F57="fe","",IF(F57="cp","",1)))),"")) | W57: =IF($B57="samedi",IF(G57="r","",IF(G57="","",IF(G57="fe","",IF(G57="cp","",1)))),IF($B57="dimanche",IF(G57="r","",IF(G57="","",IF(G57="fe","",IF(G57="cp","",1)))),"")) | X57: =IF($B57="samedi",IF(H57="r","",IF(H57="","",IF(H57="fe","",IF(H57="cp","",1)))),IF($B57="dimanche",IF(H57="r","",IF(H57="","",IF(H57="fe","",IF(H57="cp","",1)))),"")) | Y57: =IF($B57="samedi",IF(I57="r","",IF(I57="","",IF(I57="fe","",IF(I57="cp","",1)))),IF($B57="dimanche",IF(I57="r","",IF(I57="","",IF(I57="fe","",IF(I57="cp","",1)))),"")) | Z57: =IF($B57="samedi",IF(J57="r","",IF(J57="","",IF(J57="fe","",IF(J57="cp","",1)))),IF($B57="dimanche",IF(J57="r","",IF(J57="","",IF(J57="fe","",IF(J57="cp","",1)))),"")) -> 1 | AB57: =+IF(T57=1,$C57,"") -> 43520 | AC57: =+IF(U57=1,$C57,"") | AD57: =+IF(V57=1,$C57,"") | AE57: =+IF(W57=1,$C57,"") | AF57: =+IF(X57=1,$C57,"") | AG57: =+IF(Y57=1,$C57,"") | AH57: =+IF(Z57=1,$C57,"") -> 43520
A58: S9 | B58: lundi | C58: 43521 | D58: R | E58: FP | F58: M EXT | G58: N EXT | H58: J EXT | I58: AM EXT | J58: R | N58: =COUNTIF($D58:$L58,N$1) -> 1 | O58: =COUNTIF($D58:$L58,O$1) -> 1 | P58: =COUNTIF($D58:$L58,P$1) -> 1 | Q58: =COUNTIF($D58:$L58,Q$1) -> 0 | R58: =COUNTIF($D58:$L58,R$1) -> 0 | T58: =IF($B58="samedi",IF(D58="r","",IF(D58="","",IF(D58="fe","",IF(D58="cp","",1)))),IF($B58="dimanche",IF(D58="r","",IF(D58="","",IF(D58="fe","",IF(D58="cp","",1)))),"")) | U58: =IF($B58="samedi",IF(E58="r","",IF(E58="","",IF(E58="fe","",IF(E58="cp","",1)))),IF($B58="dimanche",IF(E58="r","",IF(E58="","",IF(E58="fe","",IF(E58="cp","",1)))),"")) | V58: =IF($B58="samedi",IF(F58="r","",IF(F58="","",IF(F58="fe","",IF(F58="cp","",1)))),IF($B58="dimanche",IF(F58="r","",IF(F58="","",IF(F58="fe","",IF(F58="cp","",1)))),"")) | W58: =IF($B58="samedi",IF(G58="r","",IF(G58="","",IF(G58="fe","",IF(G58="cp","",1)))),IF($B58="dimanche",IF(G58="r","",IF(G58="","",IF(G58="fe","",IF(G58="cp","",1)))),"")) | X58: =IF($B58="samedi",IF(H58="r","",IF(H58="","",IF(H58="fe","",IF(H58="cp","",1)))),IF($B58="dimanche",IF(H58="r","",IF(H58="","",IF(H58="fe","",IF(H58="cp","",1)))),"")) | Y58: =IF($B58="samedi",IF(I58="r","",IF(I58="","",IF(I58="fe","",IF(I58="cp","",1)))),IF($B58="dimanche",IF(I58="r","",IF(I58="","",IF(I58="fe","",IF(I58="cp","",1)))),"")) | Z58: =IF($B58="samedi",IF(J58="r","",IF(J58="","",IF(J58="fe","",IF(J58="cp","",1)))),IF($B58="dimanche",IF(J58="r","",IF(J58="","",IF(J58="fe","",IF(J58="cp","",1)))),"")) | AB58: =+IF(T58=1,$C58,"") | AC58: =+IF(U58=1,$C58,"") | AD58: =+IF(V58=1,$C58,"") | AE58: =+IF(W58=1,$C58,"") | AF58: =+IF(X58=1,$C58,"") | AG58: =+IF(Y58=1,$C58,"") | AH58: =+IF(Z58=1,$C58,"")
B59: mardi | C59: 43522 | D59: R | E59: FP | F59: M EXT | G59: N EXT | H59: J EXT | I59: AM EXT | J59: R | N59: =COUNTIF($D59:$L59,N$1) -> 1 | O59: =COUNTIF($D59:$L59,O$1) -> 1 | P59: =COUNTIF($D59:$L59,P$1) -> 1 | Q59: =COUNTIF($D59:$L59,Q$1) -> 0 | R59: =COUNTIF($D59:$L59,R$1) -> 0 | T59: =IF($B59="samedi",IF(D59="r","",IF(D59="","",IF(D59="fe","",IF(D59="cp","",1)))),IF($B59="dimanche",IF(D59="r","",IF(D59="","",IF(D59="fe","",IF(D59="cp","",1)))),"")) | U59: =IF($B59="samedi",IF(E59="r","",IF(E59="","",IF(E59="fe","",IF(E59="cp","",1)))),IF($B59="dimanche",IF(E59="r","",IF(E59="","",IF(E59="fe","",IF(E59="cp","",1)))),"")) | V59: =IF($B59="samedi",IF(F59="r","",IF(F59="","",IF(F59="fe","",IF(F59="cp","",1)))),IF($B59="dimanche",IF(F59="r","",IF(F59="","",IF(F59="fe","",IF(F59="cp","",1)))),"")) | W59: =IF($B59="samedi",IF(G59="r","",IF(G59="","",IF(G59="fe","",IF(G59="cp","",1)))),IF($B59="dimanche",IF(G59="r","",IF(G59="","",IF(G59="fe","",IF(G59="cp","",1)))),"")) | X59: =IF($B59="samedi",IF(H59="r","",IF(H59="","",IF(H59="fe","",IF(H59="cp","",1)))),IF($B59="dimanche",IF(H59="r","",IF(H59="","",IF(H59="fe","",IF(H59="cp","",1)))),"")) | Y59: =IF($B59="samedi",IF(I59="r","",IF(I59="","",IF(I59="fe","",IF(I59="cp","",1)))),IF($B59="dimanche",IF(I59="r","",IF(I59="","",IF(I59="fe","",IF(I59="cp","",1)))),"")) | Z59: =IF($B59="samedi",IF(J59="r","",IF(J59="","",IF(J59="fe","",IF(J59="cp","",1)))),IF($B59="dimanche",IF(J59="r","",IF(J59="","",IF(J59="fe","",IF(J59="cp","",1)))),"")) | AB59: =+IF(T59=1,$C59,"") | AC59: =+IF(U59=1,$C59,"") | AD59: =+IF(V59=1,$C59,"") | AE59: =+IF(W59=1,$C59,"") | AF59: =+IF(X59=1,$C59,"") | AG59: =+IF(Y59=1,$C59,"") | AH59: =+IF(Z59=1,$C59,"")
B60: mercredi | C60: 43523 | D60: J EXT | E60: R | F60: M EXT | G60: N EXT | H60: J EXT | I60: AM EXT | J60: R | N60: =COUNTIF($D60:$L60,N$1) -> 1 | O60: =COUNTIF($D60:$L60,O$1) -> 1 | P60: =COUNTIF($D60:$L60,P$1) -> 1 | Q60: =COUNTIF($D60:$L60,Q$1) -> 0 | R60: =COUNTIF($D60:$L60,R$1) -> 0 | T60: =IF($B60="samedi",IF(D60="r","",IF(D60="","",IF(D60="fe","",IF(D60="cp","",1)))),IF($B60="dimanche",IF(D60="r","",IF(D60="","",IF(D60="fe","",IF(D60="cp","",1)))),"")) | U60: =IF($B60="samedi",IF(E60="r","",IF(E60="","",IF(E60="fe","",IF(E60="cp","",1)))),IF($B60="dimanche",IF(E60="r","",IF(E60="","",IF(E60="fe","",IF(E60="cp","",1)))),"")) | V60: =IF($B60="samedi",IF(F60="r","",IF(F60="","",IF(F60="fe","",IF(F60="cp","",1)))),IF($B60="dimanche",IF(F60="r","",IF(F60="","",IF(F60="fe","",IF(F60="cp","",1)))),"")) | W60: =IF($B60="samedi",IF(G60="r","",IF(G60="","",IF(G60="fe","",IF(G60="cp","",1)))),IF($B60="dimanche",IF(G60="r","",IF(G60="","",IF(G60="fe","",IF(G60="cp","",1)))),"")) | X60: =IF($B60="samedi",IF(H60="r","",IF(H60="","",IF(H60="fe","",IF(H60="cp","",1)))),IF($B60="dimanche",IF(H60="r","",IF(H60="","",IF(H60="fe","",IF(H60="cp","",1)))),"")) | Y60: =IF($B60="samedi",IF(I60="r","",IF(I60="","",IF(I60="fe","",IF(I60="cp","",1)))),IF($B60="dimanche",IF(I60="r","",IF(I60="","",IF(I60="fe","",IF(I60="cp","",1)))),"")) | Z60: =IF($B60="samedi",IF(J60="r","",IF(J60="","",IF(J60="fe","",IF(J60="cp","",1)))),IF($B60="dimanche",IF(J60="r","",IF(J60="","",IF(J60="fe","",IF(J60="cp","",1)))),"")) | AB60: =+IF(T60=1,$C60,"") | AC60: =+IF(U60=1,$C60,"") | AD60: =+IF(V60=1,$C60,"") | AE60: =+IF(W60=1,$C60,"") | AF60: =+IF(X60=1,$C60,"") | AG60: =+IF(Y60=1,$C60,"") | AH60: =+IF(Z60=1,$C60,"")
B61: jeudi | C61: 43524 | D61: J EXT | E61: M EXT | F61: J EXT | G61: N EXT | H61: J EXT | I61: AM EXT | J61: R | N61: =COUNTIF($D61:$L61,N$1) -> 1 | O61: =COUNTIF($D61:$L61,O$1) -> 1 | P61: =COUNTIF($D61:$L61,P$1) -> 1 | Q61: =COUNTIF($D61:$L61,Q$1) -> 0 | R61: =COUNTIF($D61:$L61,R$1) -> 0 | T61: =IF($B61="samedi",IF(D61="r","",IF(D61="","",IF(D61="fe","",IF(D61="cp","",1)))),IF($B61="dimanche",IF(D61="r","",IF(D61="","",IF(D61="fe","",IF(D61="cp","",1)))),"")) | U61: =IF($B61="samedi",IF(E61="r","",IF(E61="","",IF(E61="fe","",IF(E61="cp","",1)))),IF($B61="dimanche",IF(E61="r","",IF(E61="","",IF(E61="fe","",IF(E61="cp","",1)))),"")) | V61: =IF($B61="samedi",IF(F61="r","",IF(F61="","",IF(F61="fe","",IF(F61="cp","",1)))),IF($B61="dimanche",IF(F61="r","",IF(F61="","",IF(F61="fe","",IF(F61="cp","",1)))),"")) | W61: =IF($B61="samedi",IF(G61="r","",IF(G61="","",IF(G61="fe","",IF(G61="cp","",1)))),IF($B61="dimanche",IF(G61="r","",IF(G61="","",IF(G61="fe","",IF(G61="cp","",1)))),"")) | X61: =IF($B61="samedi",IF(H61="r","",IF(H61="","",IF(H61="fe","",IF(H61="cp","",1)))),IF($B61="dimanche",IF(H61="r","",IF(H61="","",IF(H61="fe","",IF(H61="cp","",1)))),"")) | Y61: =IF($B61="samedi",IF(I61="r","",IF(I61="","",IF(I61="fe","",IF(I61="cp","",1)))),IF($B61="dimanche",IF(I61="r","",IF(I61="","",IF(I61="fe","",IF(I61="cp","",1)))),"")) | Z61: =IF($B61="samedi",IF(J61="r","",IF(J61="","",IF(J61="fe","",IF(J61="cp","",1)))),IF($B61="dimanche",IF(J61="r","",IF(J61="","",IF(J61="fe","",IF(J61="cp","",1)))),"")) | AB61: =+IF(T61=1,$C61,"") | AC61: =+IF(U61=1,$C61,"") | AD61: =+IF(V61=1,$C61,"") | AE61: =+IF(W61=1,$C61,"") | AF61: =+IF(X61=1,$C61,"") | AG61: =+IF(Y61=1,$C61,"") | AH61: =+IF(Z61=1,$C61,"")
B62: vendredi | C62: 43525 | D62: R | E62: M EXT | F62: J EXT | G62: N EXT | H62: J EXT | I62: AM EXT | J62: R | N62: =COUNTIF($D62:$L62,N$1) -> 1 | O62: =COUNTIF($D62:$L62,O$1) -> 1 | P62: =COUNTIF($D62:$L62,P$1) -> 1 | Q62: =COUNTIF($D62:$L62,Q$1) -> 0 | R62: =COUNTIF($D62:$L62,R$1) -> 0 | T62: =IF($B62="samedi",IF(D62="r","",IF(D62="","",IF(D62="fe","",IF(D62="cp","",1)))),IF($B62="dimanche",IF(D62="r","",IF(D62="","",IF(D62="fe","",IF(D62="cp","",1)))),"")) | U62: =IF($B62="samedi",IF(E62="r","",IF(E62="","",IF(E62="fe","",IF(E62="cp","",1)))),IF($B62="dimanche",IF(E62="r","",IF(E62="","",IF(E62="fe","",IF(E62="cp","",1)))),"")) | V62: =IF($B62="samedi",IF(F62="r","",IF(F62="","",IF(F62="fe","",IF(F62="cp","",1)))),IF($B62="dimanche",IF(F62="r","",IF(F62="","",IF(F62="fe","",IF(F62="cp","",1)))),"")) | W62: =IF($B62="samedi",IF(G62="r","",IF(G62="","",IF(G62="fe","",IF(G62="cp","",1)))),IF($B62="dimanche",IF(G62="r","",IF(G62="","",IF(G62="fe","",IF(G62="cp","",1)))),"")) | X62: =IF($B62="samedi",IF(H62="r","",IF(H62="","",IF(H62="fe","",IF(H62="cp","",1)))),IF($B62="dimanche",IF(H62="r","",IF(H62="","",IF(H62="fe","",IF(H62="cp","",1)))),"")) | Y62: =IF($B62="samedi",IF(I62="r","",IF(I62="","",IF(I62="fe","",IF(I62="cp","",1)))),IF($B62="dimanche",IF(I62="r","",IF(I62="","",IF(I62="fe","",IF(I62="cp","",1)))),"")) | Z62: =IF($B62="samedi",IF(J62="r","",IF(J62="","",IF(J62="fe","",IF(J62="cp","",1)))),IF($B62="dimanche",IF(J62="r","",IF(J62="","",IF(J62="fe","",IF(J62="cp","",1)))),"")) | AB62: =+IF(T62=1,$C62,"") | AC62: =+IF(U62=1,$C62,"") | AD62: =+IF(V62=1,$C62,"") | AE62: =+IF(W62=1,$C62,"") | AF62: =+IF(X62=1,$C62,"") | AG62: =+IF(Y62=1,$C62,"") | AH62: =+IF(Z62=1,$C62,"")
B63: samedi | C63: 43526 | D63: R | E63: M EXT | F63: R | G63: R | H63: R | I63: R | J63: 17H 5H | N63: =COUNTIF($D63:$L63,N$1) -> 1 | O63: =COUNTIF($D63:$L63,O$1) -> 0 | P63: =COUNTIF($D63:$L63,P$1) -> 0 | Q63: =COUNTIF($D63:$L63,Q$1) -> 0 | R63: =COUNTIF($D63:$L63,R$1) -> 1 | T63: =IF($B63="samedi",IF(D63="r","",IF(D63="","",IF(D63="fe","",IF(D63="cp","",1)))),IF($B63="dimanche",IF(D63="r","",IF(D63="","",IF(D63="fe","",IF(D63="cp","",1)))),"")) | U63: =IF($B63="samedi",IF(E63="r","",IF(E63="","",IF(E63="fe","",IF(E63="cp","",1)))),IF($B63="dimanche",IF(E63="r","",IF(E63="","",IF(E63="fe","",IF(E63="cp","",1)))),"")) -> 1 | V63: =IF($B63="samedi",IF(F63="r","",IF(F63="","",IF(F63="fe","",IF(F63="cp","",1)))),IF($B63="dimanche",IF(F63="r","",IF(F63="","",IF(F63="fe","",IF(F63="cp","",1)))),"")) | W63: =IF($B63="samedi",IF(G63="r","",IF(G63="","",IF(G63="fe","",IF(G63="cp","",1)))),IF($B63="dimanche",IF(G63="r","",IF(G63="","",IF(G63="fe","",IF(G63="cp","",1)))),"")) | X63: =IF($B63="samedi",IF(H63="r","",IF(H63="","",IF(H63="fe","",IF(H63="cp","",1)))),IF($B63="dimanche",IF(H63="r","",IF(H63="","",IF(H63="fe","",IF(H63="cp","",1)))),"")) | Y63: =IF($B63="samedi",IF(I63="r","",IF(I63="","",IF(I63="fe","",IF(I63="cp","",1)))),IF($B63="dimanche",IF(I63="r","",IF(I63="","",IF(I63="fe","",IF(I63="cp","",1)))),"")) | Z63: =IF($B63="samedi",IF(J63="r","",IF(J63="","",IF(J63="fe","",IF(J63="cp","",1)))),IF($B63="dimanche",IF(J63="r","",IF(J63="","",IF(J63="fe","",IF(J63="cp","",1)))),"")) -> 1 | AB63: =+IF(T63=1,$C63,"") | AC63: =+IF(U63=1,$C63,"") -> 43526 | AD63: =+IF(V63=1,$C63,"") | AE63: =+IF(W63=1,$C63,"") | AF63: =+IF(X63=1,$C63,"") | AG63: =+IF(Y63=1,$C63,"") | AH63: =+IF(Z63=1,$C63,"") -> 43526
B64: dimanche | C64: 43527 | D64: R | E64: M EXT | F64: R | G64: R | H64: R | I64: R | J64: 17H 5H | N64: =COUNTIF($D64:$L64,N$1) -> 1 | O64: =COUNTIF($D64:$L64,O$1) -> 0 | P64: =COUNTIF($D64:$L64,P$1) -> 0 | Q64: =COUNTIF($D64:$L64,Q$1) -> 0 | R64: =COUNTIF($D64:$L64,R$1) -> 1 | T64: =IF($B64="samedi",IF(D64="r","",IF(D64="","",IF(D64="fe","",IF(D64="cp","",1)))),IF($B64="dimanche",IF(D64="r","",IF(D64="","",IF(D64="fe","",IF(D64="cp","",1)))),"")) | U64: =IF($B64="samedi",IF(E64="r","",IF(E64="","",IF(E64="fe","",IF(E64="cp","",1)))),IF($B64="dimanche",IF(E64="r","",IF(E64="","",IF(E64="fe","",IF(E64="cp","",1)))),"")) -> 1 | V64: =IF($B64="samedi",IF(F64="r","",IF(F64="","",IF(F64="fe","",IF(F64="cp","",1)))),IF($B64="dimanche",IF(F64="r","",IF(F64="","",IF(F64="fe","",IF(F64="cp","",1)))),"")) | W64: =IF($B64="samedi",IF(G64="r","",IF(G64="","",IF(G64="fe","",IF(G64="cp","",1)))),IF($B64="dimanche",IF(G64="r","",IF(G64="","",IF(G64="fe","",IF(G64="cp","",1)))),"")) | X64: =IF($B64="samedi",IF(H64="r","",IF(H64="","",IF(H64="fe","",IF(H64="cp","",1)))),IF($B64="dimanche",IF(H64="r","",IF(H64="","",IF(H64="fe","",IF(H64="cp","",1)))),"")) | Y64: =IF($B64="samedi",IF(I64="r","",IF(I64="","",IF(I64="fe","",IF(I64="cp","",1)))),IF($B64="dimanche",IF(I64="r","",IF(I64="","",IF(I64="fe","",IF(I64="cp","",1)))),"")) | Z64: =IF($B64="samedi",IF(J64="r","",IF(J64="","",IF(J64="fe","",IF(J64="cp","",1)))),IF($B64="dimanche",IF(J64="r","",IF(J64="","",IF(J64="fe","",IF(J64="cp","",1)))),"")) -> 1 | AB64: =+IF(T64=1,$C64,"") | AC64: =+IF(U64=1,$C64,"") -> 43527 | AD64: =+IF(V64=1,$C64,"") | AE64: =+IF(W64=1,$C64,"") | AF64: =+IF(X64=1,$C64,"") | AG64: =+IF(Y64=1,$C64,"") | AH64: =+IF(Z64=1,$C64,"") -> 43527
A65: S10 | B65: lundi | C65: 43528 | D65: J EXT | E65: R | F65: N EXT | G65: M EXT | H65: AM EXT | I65: J EXT | J65: R | N65: =COUNTIF($D65:$L65,N$1) -> 1 | O65: =COUNTIF($D65:$L65,O$1) -> 1 | P65: =COUNTIF($D65:$L65,P$1) -> 1 | Q65: =COUNTIF($D65:$L65,Q$1) -> 0 | R65: =COUNTIF($D65:$L65,R$1) -> 0 | T65: =IF($B65="samedi",IF(D65="r","",IF(D65="","",IF(D65="fe","",IF(D65="cp","",1)))),IF($B65="dimanche",IF(D65="r","",IF(D65="","",IF(D65="fe","",IF(D65="cp","",1)))),"")) | U65: =IF($B65="samedi",IF(E65="r","",IF(E65="","",IF(E65="fe","",IF(E65="cp","",1)))),IF($B65="dimanche",IF(E65="r","",IF(E65="","",IF(E65="fe","",IF(E65="cp","",1)))),"")) | V65: =IF($B65="samedi",IF(F65="r","",IF(F65="","",IF(F65="fe","",IF(F65="cp","",1)))),IF($B65="dimanche",IF(F65="r","",IF(F65="","",IF(F65="fe","",IF(F65="cp","",1)))),"")) | W65: =IF($B65="samedi",IF(G65="r","",IF(G65="","",IF(G65="fe","",IF(G65="cp","",1)))),IF($B65="dimanche",IF(G65="r","",IF(G65="","",IF(G65="fe","",IF(G65="cp","",1)))),"")) | X65: =IF($B65="samedi",IF(H65="r","",IF(H65="","",IF(H65="fe","",IF(H65="cp","",1)))),IF($B65="dimanche",IF(H65="r","",IF(H65="","",IF(H65="fe","",IF(H65="cp","",1)))),"")) | Y65: =IF($B65="samedi",IF(I65="r","",IF(I65="","",IF(I65="fe","",IF(I65="cp","",1)))),IF($B65="dimanche",IF(I65="r","",IF(I65="","",IF(I65="fe","",IF(I65="cp","",1)))),"")) | Z65: =IF($B65="samedi",IF(J65="r","",IF(J65="","",IF(J65="fe","",IF(J65="cp","",1)))),IF($B65="dimanche",IF(J65="r","",IF(J65="","",IF(J65="fe","",IF(J65="cp","",1)))),"")) | AB65: =+IF(T65=1,$C65,"") | AC65: =+IF(U65=1,$C65,"") | AD65: =+IF(V65=1,$C65,"") | AE65: =+IF(W65=1,$C65,"") | AF65: =+IF(X65=1,$C65,"") | AG65: =+IF(Y65=1,$C65,"") | AH65: =+IF(Z65=1,$C65,"")
B66: mardi | C66: 43529 | D66: J EXT | E66: R | F66: N EXT | G66: M EXT | H66: AM EXT | I66: J EXT | J66: FP | N66: =COUNTIF($D66:$L66,N$1) -> 1 | O66: =COUNTIF($D66:$L66,O$1) -> 1 | P66: =COUNTIF($D66:$L66,P$1) -> 1 | Q66: =COUNTIF($D66:$L66,Q$1) -> 0 | R66: =COUNTIF($D66:$L66,R$1) -> 0 | T66: =IF($B66="samedi",IF(D66="r","",IF(D66="","",IF(D66="fe","",IF(D66="cp","",1)))),IF($B66="dimanche",IF(D66="r","",IF(D66="","",IF(D66="fe","",IF(D66="cp","",1)))),"")) | U66: =IF($B66="samedi",IF(E66="r","",IF(E66="","",IF(E66="fe","",IF(E66="cp","",1)))),IF($B66="dimanche",IF(E66="r","",IF(E66="","",IF(E66="fe","",IF(E66="cp","",1)))),"")) | V66: =IF($B66="samedi",IF(F66="r","",IF(F66="","",IF(F66="fe","",IF(F66="cp","",1)))),IF($B66="dimanche",IF(F66="r","",IF(F66="","",IF(F66="fe","",IF(F66="cp","",1)))),"")) | W66: =IF($B66="samedi",IF(G66="r","",IF(G66="","",IF(G66="fe","",IF(G66="cp","",1)))),IF($B66="dimanche",IF(G66="r","",IF(G66="","",IF(G66="fe","",IF(G66="cp","",1)))),"")) | X66: =IF($B66="samedi",IF(H66="r","",IF(H66="","",IF(H66="fe","",IF(H66="cp","",1)))),IF($B66="dimanche",IF(H66="r","",IF(H66="","",IF(H66="fe","",IF(H66="cp","",1)))),"")) | Y66: =IF($B66="samedi",IF(I66="r","",IF(I66="","",IF(I66="fe","",IF(I66="cp","",1)))),IF($B66="dimanche",IF(I66="r","",IF(I66="","",IF(I66="fe","",IF(I66="cp","",1)))),"")) | Z66: =IF($B66="samedi",IF(J66="r","",IF(J66="","",IF(J66="fe","",IF(J66="cp","",1)))),IF($B66="dimanche",IF(J66="r","",IF(J66="","",IF(J66="fe","",IF(J66="cp","",1)))),"")) | AB66: =+IF(T66=1,$C66,"") | AC66: =+IF(U66=1,$C66,"") | AD66: =+IF(V66=1,$C66,"") | AE66: =+IF(W66=1,$C66,"") | AF66: =+IF(X66=1,$C66,"") | AG66: =+IF(Y66=1,$C66,"") | AH66: =+IF(Z66=1,$C66,"")
B67: mercredi | C67: 43530 | D67: J EXT | E67: J EXT | F67: N EXT | G67: M EXT | H67: AM EXT | I67: R | J67: FP | N67: =COUNTIF($D67:$L67,N$1) -> 1 | O67: =COUNTIF($D67:$L67,O$1) -> 1 | P67: =COUNTIF($D67:$L67,P$1) -> 1 | Q67: =COUNTIF($D67:$L67,Q$1) -> 0 | R67: =COUNTIF($D67:$L67,R$1) -> 0 | T67: =IF($B67="samedi",IF(D67="r","",IF(D67="","",IF(D67="fe","",IF(D67="cp","",1)))),IF($B67="dimanche",IF(D67="r","",IF(D67="","",IF(D67="fe","",IF(D67="cp","",1)))),"")) | U67: =IF($B67="samedi",IF(E67="r","",IF(E67="","",IF(E67="fe","",IF(E67="cp","",1)))),IF($B67="dimanche",IF(E67="r","",IF(E67="","",IF(E67="fe","",IF(E67="cp","",1)))),"")) | V67: =IF($B67="samedi",IF(F67="r","",IF(F67="","",IF(F67="fe","",IF(F67="cp","",1)))),IF($B67="dimanche",IF(F67="r","",IF(F67="","",IF(F67="fe","",IF(F67="cp","",1)))),"")) | W67: =IF($B67="samedi",IF(G67="r","",IF(G67="","",IF(G67="fe","",IF(G67="cp","",1)))),IF($B67="dimanche",IF(G67="r","",IF(G67="","",IF(G67="fe","",IF(G67="cp","",1)))),"")) | X67: =IF($B67="samedi",IF(H67="r","",IF(H67="","",IF(H67="fe","",IF(H67="cp","",1)))),IF($B67="dimanche",IF(H67="r","",IF(H67="","",IF(H67="fe","",IF(H67="cp","",1)))),"")) | Y67: =IF($B67="samedi",IF(I67="r","",IF(I67="","",IF(I67="fe","",IF(I67="cp","",1)))),IF($B67="dimanche",IF(I67="r","",IF(I67="","",IF(I67="fe","",IF(I67="cp","",1)))),"")) | Z67: =IF($B67="samedi",IF(J67="r","",IF(J67="","",IF(J67="fe","",IF(J67="cp","",1)))),IF($B67="dimanche",IF(J67="r","",IF(J67="","",IF(J67="fe","",IF(J67="cp","",1)))),"")) | AB67: =+IF(T67=1,$C67,"") | AC67: =+IF(U67=1,$C67,"") | AD67: =+IF(V67=1,$C67,"") | AE67: =+IF(W67=1,$C67,"") | AF67: =+IF(X67=1,$C67,"") | AG67: =+IF(Y67=1,$C67,"") | AH67: =+IF(Z67=1,$C67,"")
B68: jeudi | C68: 43531 | D68: J EXT | E68: J EXT | F68: N EXT | G68: M EXT | H68: AM EXT | I68: R | J68: R | N68: =COUNTIF($D68:$L68,N$1) -> 1 | O68: =COUNTIF($D68:$L68,O$1) -> 1 | P68: =COUNTIF($D68:$L68,P$1) -> 1 | Q68: =COUNTIF($D68:$L68,Q$1) -> 0 | R68: =COUNTIF($D68:$L68,R$1) -> 0 | T68: =IF($B68="samedi",IF(D68="r","",IF(D68="","",IF(D68="fe","",IF(D68="cp","",1)))),IF($B68="dimanche",IF(D68="r","",IF(D68="","",IF(D68="fe","",IF(D68="cp","",1)))),"")) | U68: =IF($B68="samedi",IF(E68="r","",IF(E68="","",IF(E68="fe","",IF(E68="cp","",1)))),IF($B68="dimanche",IF(E68="r","",IF(E68="","",IF(E68="fe","",IF(E68="cp","",1)))),"")) | V68: =IF($B68="samedi",IF(F68="r","",IF(F68="","",IF(F68="fe","",IF(F68="cp","",1)))),IF($B68="dimanche",IF(F68="r","",IF(F68="","",IF(F68="fe","",IF(F68="cp","",1)))),"")) | W68: =IF($B68="samedi",IF(G68="r","",IF(G68="","",IF(G68="fe","",IF(G68="cp","",1)))),IF($B68="dimanche",IF(G68="r","",IF(G68="","",IF(G68="fe","",IF(G68="cp","",1)))),"")) | X68: =IF($B68="samedi",IF(H68="r","",IF(H68="","",IF(H68="fe","",IF(H68="cp","",1)))),IF($B68="dimanche",IF(H68="r","",IF(H68="","",IF(H68="fe","",IF(H68="cp","",1)))),"")) | Y68: =IF($B68="samedi",IF(I68="r","",IF(I68="","",IF(I68="fe","",IF(I68="cp","",1)))),IF($B68="dimanche",IF(I68="r","",IF(I68="","",IF(I68="fe","",IF(I68="cp","",1)))),"")) | Z68: =IF($B68="samedi",IF(J68="r","",IF(J68="","",IF(J68="fe","",IF(J68="cp","",1)))),IF($B68="dimanche",IF(J68="r","",IF(J68="","",IF(J68="fe","",IF(J68="cp","",1)))),"")) | AB68: =+IF(T68=1,$C68,"") | AC68: =+IF(U68=1,$C68,"") | AD68: =+IF(V68=1,$C68,"") | AE68: =+IF(W68=1,$C68,"") | AF68: =+IF(X68=1,$C68,"") | AG68: =+IF(Y68=1,$C68,"") | AH68: =+IF(Z68=1,$C68,"")
B69: vendredi | C69: 43532 | D69: R | E69: J EXT | F69: N EXT | G69: J EXT | H69: AM EXT | I69: M EXT | J69: R | N69: =COUNTIF($D69:$L69,N$1) -> 1 | O69: =COUNTIF($D69:$L69,O$1) -> 1 | P69: =COUNTIF($D69:$L69,P$1) -> 1 | Q69: =COUNTIF($D69:$L69,Q$1) -> 0 | R69: =COUNTIF($D69:$L69,R$1) -> 0 | T69: =IF($B69="samedi",IF(D69="r","",IF(D69="","",IF(D69="fe","",IF(D69="cp","",1)))),IF($B69="dimanche",IF(D69="r","",IF(D69="","",IF(D69="fe","",IF(D69="cp","",1)))),"")) | U69: =IF($B69="samedi",IF(E69="r","",IF(E69="","",IF(E69="fe","",IF(E69="cp","",1)))),IF($B69="dimanche",IF(E69="r","",IF(E69="","",IF(E69="fe","",IF(E69="cp","",1)))),"")) | V69: =IF($B69="samedi",IF(F69="r","",IF(F69="","",IF(F69="fe","",IF(F69="cp","",1)))),IF($B69="dimanche",IF(F69="r","",IF(F69="","",IF(F69="fe","",IF(F69="cp","",1)))),"")) | W69: =IF($B69="samedi",IF(G69="r","",IF(G69="","",IF(G69="fe","",IF(G69="cp","",1)))),IF($B69="dimanche",IF(G69="r","",IF(G69="","",IF(G69="fe","",IF(G69="cp","",1)))),"")) | X69: =IF($B69="samedi",IF(H69="r","",IF(H69="","",IF(H69="fe","",IF(H69="cp","",1)))),IF($B69="dimanche",IF(H69="r","",IF(H69="","",IF(H69="fe","",IF(H69="cp","",1)))),"")) | Y69: =IF($B69="samedi",IF(I69="r","",IF(I69="","",IF(I69="fe","",IF(I69="cp","",1)))),IF($B69="dimanche",IF(I69="r","",IF(I69="","",IF(I69="fe","",IF(I69="cp","",1)))),"")) | Z69: =IF($B69="samedi",IF(J69="r","",IF(J69="","",IF(J69="fe","",IF(J69="cp","",1)))),IF($B69="dimanche",IF(J69="r","",IF(J69="","",IF(J69="fe","",IF(J69="cp","",1)))),"")) | AB69: =+IF(T69=1,$C69,"") | AC69: =+IF(U69=1,$C69,"") | AD69: =+IF(V69=1,$C69,"") | AE69: =+IF(W69=1,$C69,"") | AF69: =+IF(X69=1,$C69,"") | AG69: =+IF(Y69=1,$C69,"") | AH69: =+IF(Z69=1,$C69,"")
B70: samedi | C70: 43533 | D70: R | E70: R | F70: R | G70: R | H70: R | I70: M EXT | J70: 17H 5H | N70: =COUNTIF($D70:$L70,N$1) -> 1 | O70: =COUNTIF($D70:$L70,O$1) -> 0 | P70: =COUNTIF($D70:$L70,P$1) -> 0 | Q70: =COUNTIF($D70:$L70,Q$1) -> 0 | R70: =COUNTIF($D70:$L70,R$1) -> 1 | T70: =IF($B70="samedi",IF(D70="r","",IF(D70="","",IF(D70="fe","",IF(D70="cp","",1)))),IF($B70="dimanche",IF(D70="r","",IF(D70="","",IF(D70="fe","",IF(D70="cp","",1)))),"")) | U70: =IF($B70="samedi",IF(E70="r","",IF(E70="","",IF(E70="fe","",IF(E70="cp","",1)))),IF($B70="dimanche",IF(E70="r","",IF(E70="","",IF(E70="fe","",IF(E70="cp","",1)))),"")) | V70: =IF($B70="samedi",IF(F70="r","",IF(F70="","",IF(F70="fe","",IF(F70="cp","",1)))),IF($B70="dimanche",IF(F70="r","",IF(F70="","",IF(F70="fe","",IF(F70="cp","",1)))),"")) | W70: =IF($B70="samedi",IF(G70="r","",IF(G70="","",IF(G70="fe","",IF(G70="cp","",1)))),IF($B70="dimanche",IF(G70="r","",IF(G70="","",IF(G70="fe","",IF(G70="cp","",1)))),"")) | X70: =IF($B70="samedi",IF(H70="r","",IF(H70="","",IF(H70="fe","",IF(H70="cp","",1)))),IF($B70="dimanche",IF(H70="r","",IF(H70="","",IF(H70="fe","",IF(H70="cp","",1)))),"")) | Y70: =IF($B70="samedi",IF(I70="r","",IF(I70="","",IF(I70="fe","",IF(I70="cp","",1)))),IF($B70="dimanche",IF(I70="r","",IF(I70="","",IF(I70="fe","",IF(I70="cp","",1)))),"")) -> 1 | Z70: =IF($B70="samedi",IF(J70="r","",IF(J70="","",IF(J70="fe","",IF(J70="cp","",1)))),IF($B70="dimanche",IF(J70="r","",IF(J70="","",IF(J70="fe","",IF(J70="cp","",1)))),"")) -> 1 | AB70: =+IF(T70=1,$C70,"") | AC70: =+IF(U70=1,$C70,"") | AD70: =+IF(V70=1,$C70,"") | AE70: =+IF(W70=1,$C70,"") | AF70: =+IF(X70=1,$C70,"") | AG70: =+IF(Y70=1,$C70,"") -> 43533 | AH70: =+IF(Z70=1,$C70,"") -> 43533
B71: dimanche | C71: 43534 | D71: R | E71: R | F71: R | G71: R | H71: R | I71: M EXT | J71: 17H 5H | N71: =COUNTIF($D71:$L71,N$1) -> 1 | O71: =COUNTIF($D71:$L71,O$1) -> 0 | P71: =COUNTIF($D71:$L71,P$1) -> 0 | Q71: =COUNTIF($D71:$L71,Q$1) -> 0 | R71: =COUNTIF($D71:$L71,R$1) -> 1 | T71: =IF($B71="samedi",IF(D71="r","",IF(D71="","",IF(D71="fe","",IF(D71="cp","",1)))),IF($B71="dimanche",IF(D71="r","",IF(D71="","",IF(D71="fe","",IF(D71="cp","",1)))),"")) | U71: =IF($B71="samedi",IF(E71="r","",IF(E71="","",IF(E71="fe","",IF(E71="cp","",1)))),IF($B71="dimanche",IF(E71="r","",IF(E71="","",IF(E71="fe","",IF(E71="cp","",1)))),"")) | V71: =IF($B71="samedi",IF(F71="r","",IF(F71="","",IF(F71="fe","",IF(F71="cp","",1)))),IF($B71="dimanche",IF(F71="r","",IF(F71="","",IF(F71="fe","",IF(F71="cp","",1)))),"")) | W71: =IF($B71="samedi",IF(G71="r","",IF(G71="","",IF(G71="fe","",IF(G71="cp","",1)))),IF($B71="dimanche",IF(G71="r","",IF(G71="","",IF(G71="fe","",IF(G71="cp","",1)))),"")) | X71: =IF($B71="samedi",IF(H71="r","",IF(H71="","",IF(H71="fe","",IF(H71="cp","",1)))),IF($B71="dimanche",IF(H71="r","",IF(H71="","",IF(H71="fe","",IF(H71="cp","",1)))),"")) | Y71: =IF($B71="samedi",IF(I71="r","",IF(I71="","",IF(I71="fe","",IF(I71="cp","",1)))),IF($B71="dimanche",IF(I71="r","",IF(I71="","",IF(I71="fe","",IF(I71="cp","",1)))),"")) -> 1 | Z71: =IF($B71="samedi",IF(J71="r","",IF(J71="","",IF(J71="fe","",IF(J71="cp","",1)))),IF($B71="dimanche",IF(J71="r","",IF(J71="","",IF(J71="fe","",IF(J71="cp","",1)))),"")) -> 1 | AB71: =+IF(T71=1,$C71,"") | AC71: =+IF(U71=1,$C71,"") | AD71: =+IF(V71=1,$C71,"") | AE71: =+IF(W71=1,$C71,"") | AF71: =+IF(X71=1,$C71,"") | AG71: =+IF(Y71=1,$C71,"") -> 43534 | AH71: =+IF(Z71=1,$C71,"") -> 43534
A72: S11 | B72: lundi | C72: 43535 | D72: J EXT | E72: AM EXT | F72: CP | G72: N EXT | H72: J EXT | I72: M EXT | J72: R | N72: =COUNTIF($D72:$L72,N$1) -> 1 | O72: =COUNTIF($D72:$L72,O$1) -> 1 | P72: =COUNTIF($D72:$L72,P$1) -> 1 | Q72: =COUNTIF($D72:$L72,Q$1) -> 0 | R72: =COUNTIF($D72:$L72,R$1) -> 0 | T72: =IF($B72="samedi",IF(D72="r","",IF(D72="","",IF(D72="fe","",IF(D72="cp","",1)))),IF($B72="dimanche",IF(D72="r","",IF(D72="","",IF(D72="fe","",IF(D72="cp","",1)))),"")) | U72: =IF($B72="samedi",IF(E72="r","",IF(E72="","",IF(E72="fe","",IF(E72="cp","",1)))),IF($B72="dimanche",IF(E72="r","",IF(E72="","",IF(E72="fe","",IF(E72="cp","",1)))),"")) | V72: =IF($B72="samedi",IF(F72="r","",IF(F72="","",IF(F72="fe","",IF(F72="cp","",1)))),IF($B72="dimanche",IF(F72="r","",IF(F72="","",IF(F72="fe","",IF(F72="cp","",1)))),"")) | W72: =IF($B72="samedi",IF(G72="r","",IF(G72="","",IF(G72="fe","",IF(G72="cp","",1)))),IF($B72="dimanche",IF(G72="r","",IF(G72="","",IF(G72="fe","",IF(G72="cp","",1)))),"")) | X72: =IF($B72="samedi",IF(H72="r","",IF(H72="","",IF(H72="fe","",IF(H72="cp","",1)))),IF($B72="dimanche",IF(H72="r","",IF(H72="","",IF(H72="fe","",IF(H72="cp","",1)))),"")) | Y72: =IF($B72="samedi",IF(I72="r","",IF(I72="","",IF(I72="fe","",IF(I72="cp","",1)))),IF($B72="dimanche",IF(I72="r","",IF(I72="","",IF(I72="fe","",IF(I72="cp","",1)))),"")) | Z72: =IF($B72="samedi",IF(J72="r","",IF(J72="","",IF(J72="fe","",IF(J72="cp","",1)))),IF($B72="dimanche",IF(J72="r","",IF(J72="","",IF(J72="fe","",IF(J72="cp","",1)))),"")) | AB72: =+IF(T72=1,$C72,"") | AC72: =+IF(U72=1,$C72,"") | AD72: =+IF(V72=1,$C72,"") | AE72: =+IF(W72=1,$C72,"") | AF72: =+IF(X72=1,$C72,"") | AG72: =+IF(Y72=1,$C72,"") | AH72: =+IF(Z72=1,$C72,"")
B73: mardi | C73: 43536 | D73: J EXT | E73: AM EXT | F73: CP | G73: N EXT | H73: J EXT | I73: M EXT | J73: R | N73: =COUNTIF($D73:$L73,N$1) -> 1 | O73: =COUNTIF($D73:$L73,O$1) -> 1 | P73: =COUNTIF($D73:$L73,P$1) -> 1 | Q73: =COUNTIF($D73:$L73,Q$1) -> 0 | R73: =COUNTIF($D73:$L73,R$1) -> 0 | T73: =IF($B73="samedi",IF(D73="r","",IF(D73="","",IF(D73="fe","",IF(D73="cp","",1)))),IF($B73="dimanche",IF(D73="r","",IF(D73="","",IF(D73="fe","",IF(D73="cp","",1)))),"")) | U73: =IF($B73="samedi",IF(E73="r","",IF(E73="","",IF(E73="fe","",IF(E73="cp","",1)))),IF($B73="dimanche",IF(E73="r","",IF(E73="","",IF(E73="fe","",IF(E73="cp","",1)))),"")) | V73: =IF($B73="samedi",IF(F73="r","",IF(F73="","",IF(F73="fe","",IF(F73="cp","",1)))),IF($B73="dimanche",IF(F73="r","",IF(F73="","",IF(F73="fe","",IF(F73="cp","",1)))),"")) | W73: =IF($B73="samedi",IF(G73="r","",IF(G73="","",IF(G73="fe","",IF(G73="cp","",1)))),IF($B73="dimanche",IF(G73="r","",IF(G73="","",IF(G73="fe","",IF(G73="cp","",1)))),"")) | X73: =IF($B73="samedi",IF(H73="r","",IF(H73="","",IF(H73="fe","",IF(H73="cp","",1)))),IF($B73="dimanche",IF(H73="r","",IF(H73="","",IF(H73="fe","",IF(H73="cp","",1)))),"")) | Y73: =IF($B73="samedi",IF(I73="r","",IF(I73="","",IF(I73="fe","",IF(I73="cp","",1)))),IF($B73="dimanche",IF(I73="r","",IF(I73="","",IF(I73="fe","",IF(I73="cp","",1)))),"")) | Z73: =IF($B73="samedi",IF(J73="r","",IF(J73="","",IF(J73="fe","",IF(J73="cp","",1)))),IF($B73="dimanche",IF(J73="r","",IF(J73="","",IF(J73="fe","",IF(J73="cp","",1)))),"")) | AB73: =+IF(T73=1,$C73,"") | AC73: =+IF(U73=1,$C73,"") | AD73: =+IF(V73=1,$C73,"") | AE73: =+IF(W73=1,$C73,"") | AF73: =+IF(X73=1,$C73,"") | AG73: =+IF(Y73=1,$C73,"") | AH73: =+IF(Z73=1,$C73,"")
B74: mercredi | C74: 43537 | D74: J EXT | E74: AM EXT | F74: CP | G74: N EXT | H74: M EXT | I74: R | J74: R | N74: =COUNTIF($D74:$L74,N$1) -> 1 | O74: =COUNTIF($D74:$L74,O$1) -> 1 | P74: =COUNTIF($D74:$L74,P$1) -> 1 | Q74: =COUNTIF($D74:$L74,Q$1) -> 0 | R74: =COUNTIF($D74:$L74,R$1) -> 0 | T74: =IF($B74="samedi",IF(D74="r","",IF(D74="","",IF(D74="fe","",IF(D74="cp","",1)))),IF($B74="dimanche",IF(D74="r","",IF(D74="","",IF(D74="fe","",IF(D74="cp","",1)))),"")) | U74: =IF($B74="samedi",IF(E74="r","",IF(E74="","",IF(E74="fe","",IF(E74="cp","",1)))),IF($B74="dimanche",IF(E74="r","",IF(E74="","",IF(E74="fe","",IF(E74="cp","",1)))),"")) | V74: =IF($B74="samedi",IF(F74="r","",IF(F74="","",IF(F74="fe","",IF(F74="cp","",1)))),IF($B74="dimanche",IF(F74="r","",IF(F74="","",IF(F74="fe","",IF(F74="cp","",1)))),"")) | W74: =IF($B74="samedi",IF(G74="r","",IF(G74="","",IF(G74="fe","",IF(G74="cp","",1)))),IF($B74="dimanche",IF(G74="r","",IF(G74="","",IF(G74="fe","",IF(G74="cp","",1)))),"")) | X74: =IF($B74="samedi",IF(H74="r","",IF(H74="","",IF(H74="fe","",IF(H74="cp","",1)))),IF($B74="dimanche",IF(H74="r","",IF(H74="","",IF(H74="fe","",IF(H74="cp","",1)))),"")) | Y74: =IF($B74="samedi",IF(I74="r","",IF(I74="","",IF(I74="fe","",IF(I74="cp","",1)))),IF($B74="dimanche",IF(I74="r","",IF(I74="","",IF(I74="fe","",IF(I74="cp","",1)))),"")) | Z74: =IF($B74="samedi",IF(J74="r","",IF(J74="","",IF(J74="fe","",IF(J74="cp","",1)))),IF($B74="dimanche",IF(J74="r","",IF(J74="","",IF(J74="fe","",IF(J74="cp","",1)))),"")) | AB74: =+IF(T74=1,$C74,"") | AC74: =+IF(U74=1,$C74,"") | AD74: =+IF(V74=1,$C74,"") | AE74: =+IF(W74=1,$C74,"") | AF74: =+IF(X74=1,$C74,"") | AG74: =+IF(Y74=1,$C74,"") | AH74: =+IF(Z74=1,$C74,"")
B75: jeudi | C75: 43538 | D75: J EXT | E75: AM EXT | F75: CP | G75: R | H75: M EXT | I75: N EXT | J75: R | N75: =COUNTIF($D75:$L75,N$1) -> 1 | O75: =COUNTIF($D75:$L75,O$1) -> 1 | P75: =COUNTIF($D75:$L75,P$1) -> 1 | Q75: =COUNTIF($D75:$L75,Q$1) -> 0 | R75: =COUNTIF($D75:$L75,R$1) -> 0 | T75: =IF($B75="samedi",IF(D75="r","",IF(D75="","",IF(D75="fe","",IF(D75="cp","",1)))),IF($B75="dimanche",IF(D75="r","",IF(D75="","",IF(D75="fe","",IF(D75="cp","",1)))),"")) | U75: =IF($B75="samedi",IF(E75="r","",IF(E75="","",IF(E75="fe","",IF(E75="cp","",1)))),IF($B75="dimanche",IF(E75="r","",IF(E75="","",IF(E75="fe","",IF(E75="cp","",1)))),"")) | V75: =IF($B75="samedi",IF(F75="r","",IF(F75="","",IF(F75="fe","",IF(F75="cp","",1)))),IF($B75="dimanche",IF(F75="r","",IF(F75="","",IF(F75="fe","",IF(F75="cp","",1)))),"")) | W75: =IF($B75="samedi",IF(G75="r","",IF(G75="","",IF(G75="fe","",IF(G75="cp","",1)))),IF($B75="dimanche",IF(G75="r","",IF(G75="","",IF(G75="fe","",IF(G75="cp","",1)))),"")) | X75: =IF($B75="samedi",IF(H75="r","",IF(H75="","",IF(H75="fe","",IF(H75="cp","",1)))),IF($B75="dimanche",IF(H75="r","",IF(H75="","",IF(H75="fe","",IF(H75="cp","",1)))),"")) | Y75: =IF($B75="samedi",IF(I75="r","",IF(I75="","",IF(I75="fe","",IF(I75="cp","",1)))),IF($B75="dimanche",IF(I75="r","",IF(I75="","",IF(I75="fe","",IF(I75="cp","",1)))),"")) | Z75: =IF($B75="samedi",IF(J75="r","",IF(J75="","",IF(J75="fe","",IF(J75="cp","",1)))),IF($B75="dimanche",IF(J75="r","",IF(J75="","",IF(J75="fe","",IF(J75="cp","",1)))),"")) | AB75: =+IF(T75=1,$C75,"") | AC75: =+IF(U75=1,$C75,"") | AD75: =+IF(V75=1,$C75,"") | AE75: =+IF(W75=1,$C75,"") | AF75: =+IF(X75=1,$C75,"") | AG75: =+IF(Y75=1,$C75,"") | AH75: =+IF(Z75=1,$C75,"")
B76: vendredi | C76: 43539 | D76: J EXT | E76: AM EXT | F76: CP | G76: R | H76: M EXT | I76: N EXT | J76: R | L76: J EXT | N76: =COUNTIF($D76:$L76,N$1) -> 1 | O76: =COUNTIF($D76:$L76,O$1) -> 1 | P76: =COUNTIF($D76:$L76,P$1) -> 1 | Q76: =COUNTIF($D76:$L76,Q$1) -> 0 | R76: =COUNTIF($D76:$L76,R$1) -> 0 | T76: =IF($B76="samedi",IF(D76="r","",IF(D76="","",IF(D76="fe","",IF(D76="cp","",1)))),IF($B76="dimanche",IF(D76="r","",IF(D76="","",IF(D76="fe","",IF(D76="cp","",1)))),"")) | U76: =IF($B76="samedi",IF(E76="r","",IF(E76="","",IF(E76="fe","",IF(E76="cp","",1)))),IF($B76="dimanche",IF(E76="r","",IF(E76="","",IF(E76="fe","",IF(E76="cp","",1)))),"")) | V76: =IF($B76="samedi",IF(F76="r","",IF(F76="","",IF(F76="fe","",IF(F76="cp","",1)))),IF($B76="dimanche",IF(F76="r","",IF(F76="","",IF(F76="fe","",IF(F76="cp","",1)))),"")) | W76: =IF($B76="samedi",IF(G76="r","",IF(G76="","",IF(G76="fe","",IF(G76="cp","",1)))),IF($B76="dimanche",IF(G76="r","",IF(G76="","",IF(G76="fe","",IF(G76="cp","",1)))),"")) | X76: =IF($B76="samedi",IF(H76="r","",IF(H76="","",IF(H76="fe","",IF(H76="cp","",1)))),IF($B76="dimanche",IF(H76="r","",IF(H76="","",IF(H76="fe","",IF(H76="cp","",1)))),"")) | Y76: =IF($B76="samedi",IF(I76="r","",IF(I76="","",IF(I76="fe","",IF(I76="cp","",1)))),IF($B76="dimanche",IF(I76="r","",IF(I76="","",IF(I76="fe","",IF(I76="cp","",1)))),"")) | Z76: =IF($B76="samedi",IF(J76="r","",IF(J76="","",IF(J76="fe","",IF(J76="cp","",1)))),IF($B76="dimanche",IF(J76="r","",IF(J76="","",IF(J76="fe","",IF(J76="cp","",1)))),"")) | AB76: =+IF(T76=1,$C76,"") | AC76: =+IF(U76=1,$C76,"") | AD76: =+IF(V76=1,$C76,"") | AE76: =+IF(W76=1,$C76,"") | AF76: =+IF(X76=1,$C76,"") | AG76: =+IF(Y76=1,$C76,"") | AH76: =+IF(Z76=1,$C76,"")
B77: samedi | C77: 43540 | D77: R | E77: R | F77: R | G77: R | H77: R | I77: N EXT | J77: 5H 17H | N77: =COUNTIF($D77:$L77,N$1) -> 0 | O77: =COUNTIF($D77:$L77,O$1) -> 0 | P77: =COUNTIF($D77:$L77,P$1) -> 1 | Q77: =COUNTIF($D77:$L77,Q$1) -> 1 | R77: =COUNTIF($D77:$L77,R$1) -> 0 | T77: =IF($B77="samedi",IF(D77="r","",IF(D77="","",IF(D77="fe","",IF(D77="cp","",1)))),IF($B77="dimanche",IF(D77="r","",IF(D77="","",IF(D77="fe","",IF(D77="cp","",1)))),"")) | U77: =IF($B77="samedi",IF(E77="r","",IF(E77="","",IF(E77="fe","",IF(E77="cp","",1)))),IF($B77="dimanche",IF(E77="r","",IF(E77="","",IF(E77="fe","",IF(E77="cp","",1)))),"")) | V77: =IF($B77="samedi",IF(F77="r","",IF(F77="","",IF(F77="fe","",IF(F77="cp","",1)))),IF($B77="dimanche",IF(F77="r","",IF(F77="","",IF(F77="fe","",IF(F77="cp","",1)))),"")) | W77: =IF($B77="samedi",IF(G77="r","",IF(G77="","",IF(G77="fe","",IF(G77="cp","",1)))),IF($B77="dimanche",IF(G77="r","",IF(G77="","",IF(G77="fe","",IF(G77="cp","",1)))),"")) | X77: =IF($B77="samedi",IF(H77="r","",IF(H77="","",IF(H77="fe","",IF(H77="cp","",1)))),IF($B77="dimanche",IF(H77="r","",IF(H77="","",IF(H77="fe","",IF(H77="cp","",1)))),"")) | Y77: =IF($B77="samedi",IF(I77="r","",IF(I77="","",IF(I77="fe","",IF(I77="cp","",1)))),IF($B77="dimanche",IF(I77="r","",IF(I77="","",IF(I77="fe","",IF(I77="cp","",1)))),"")) -> 1 | Z77: =IF($B77="samedi",IF(J77="r","",IF(J77="","",IF(J77="fe","",IF(J77="cp","",1)))),IF($B77="dimanche",IF(J77="r","",IF(J77="","",IF(J77="fe","",IF(J77="cp","",1)))),"")) -> 1 | AB77: =+IF(T77=1,$C77,"") | AC77: =+IF(U77=1,$C77,"") | AD77: =+IF(V77=1,$C77,"") | AE77: =+IF(W77=1,$C77,"") | AF77: =+IF(X77=1,$C77,"") | AG77: =+IF(Y77=1,$C77,"") -> 43540 | AH77: =+IF(Z77=1,$C77,"") -> 43540
B78: dimanche | C78: 43541 | D78: R | E78: R | F78: R | G78: R | H78: R | I78: N EXT | J78: 5H 17H | N78: =COUNTIF($D78:$L78,N$1) -> 0 | O78: =COUNTIF($D78:$L78,O$1) -> 0 | P78: =COUNTIF($D78:$L78,P$1) -> 1 | Q78: =COUNTIF($D78:$L78,Q$1) -> 1 | R78: =COUNTIF($D78:$L78,R$1) -> 0 | T78: =IF($B78="samedi",IF(D78="r","",IF(D78="","",IF(D78="fe","",IF(D78="cp","",1)))),IF($B78="dimanche",IF(D78="r","",IF(D78="","",IF(D78="fe","",IF(D78="cp","",1)))),"")) | U78: =IF($B78="samedi",IF(E78="r","",IF(E78="","",IF(E78="fe","",IF(E78="cp","",1)))),IF($B78="dimanche",IF(E78="r","",IF(E78="","",IF(E78="fe","",IF(E78="cp","",1)))),"")) | V78: =IF($B78="samedi",IF(F78="r","",IF(F78="","",IF(F78="fe","",IF(F78="cp","",1)))),IF($B78="dimanche",IF(F78="r","",IF(F78="","",IF(F78="fe","",IF(F78="cp","",1)))),"")) | W78: =IF($B78="samedi",IF(G78="r","",IF(G78="","",IF(G78="fe","",IF(G78="cp","",1)))),IF($B78="dimanche",IF(G78="r","",IF(G78="","",IF(G78="fe","",IF(G78="cp","",1)))),"")) | X78: =IF($B78="samedi",IF(H78="r","",IF(H78="","",IF(H78="fe","",IF(H78="cp","",1)))),IF($B78="dimanche",IF(H78="r","",IF(H78="","",IF(H78="fe","",IF(H78="cp","",1)))),"")) | Y78: =IF($B78="samedi",IF(I78="r","",IF(I78="","",IF(I78="fe","",IF(I78="cp","",1)))),IF($B78="dimanche",IF(I78="r","",IF(I78="","",IF(I78="fe","",IF(I78="cp","",1)))),"")) -> 1 | Z78: =IF($B78="samedi",IF(J78="r","",IF(J78="","",IF(J78="fe","",IF(J78="cp","",1)))),IF($B78="dimanche",IF(J78="r","",IF(J78="","",IF(J78="fe","",IF(J78="cp","",1)))),"")) -> 1 | AB78: =+IF(T78=1,$C78,"") | AC78: =+IF(U78=1,$C78,"") | AD78: =+IF(V78=1,$C78,"") | AE78: =+IF(W78=1,$C78,"") | AF78: =+IF(X78=1,$C78,"") | AG78: =+IF(Y78=1,$C78,"") -> 43541 | AH78: =+IF(Z78=1,$C78,"") -> 43541
A79: S12 | B79: lundi | C79: 43542 | D79: J EXT | E79: N EXT | F79: AM EXT | G79: M EXT | H79: J EXT | I79: R | J79: R | N79: =COUNTIF($D79:$L79,N$1) -> 1 | O79: =COUNTIF($D79:$L79,O$1) -> 1 | P79: =COUNTIF($D79:$L79,P$1) -> 1 | Q79: =COUNTIF($D79:$L79,Q$1) -> 0 | R79: =COUNTIF($D79:$L79,R$1) -> 0 | T79: =IF($B79="samedi",IF(D79="r","",IF(D79="","",IF(D79="fe","",IF(D79="cp","",1)))),IF($B79="dimanche",IF(D79="r","",IF(D79="","",IF(D79="fe","",IF(D79="cp","",1)))),"")) | U79: =IF($B79="samedi",IF(E79="r","",IF(E79="","",IF(E79="fe","",IF(E79="cp","",1)))),IF($B79="dimanche",IF(E79="r","",IF(E79="","",IF(E79="fe","",IF(E79="cp","",1)))),"")) | V79: =IF($B79="samedi",IF(F79="r","",IF(F79="","",IF(F79="fe","",IF(F79="cp","",1)))),IF($B79="dimanche",IF(F79="r","",IF(F79="","",IF(F79="fe","",IF(F79="cp","",1)))),"")) | W79: =IF($B79="samedi",IF(G79="r","",IF(G79="","",IF(G79="fe","",IF(G79="cp","",1)))),IF($B79="dimanche",IF(G79="r","",IF(G79="","",IF(G79="fe","",IF(G79="cp","",1)))),"")) | X79: =IF($B79="samedi",IF(H79="r","",IF(H79="","",IF(H79="fe","",IF(H79="cp","",1)))),IF($B79="dimanche",IF(H79="r","",IF(H79="","",IF(H79="fe","",IF(H79="cp","",1)))),"")) | Y79: =IF($B79="samedi",IF(I79="r","",IF(I79="","",IF(I79="fe","",IF(I79="cp","",1)))),IF($B79="dimanche",IF(I79="r","",IF(I79="","",IF(I79="fe","",IF(I79="cp","",1)))),"")) | Z79: =IF($B79="samedi",IF(J79="r","",IF(J79="","",IF(J79="fe","",IF(J79="cp","",1)))),IF($B79="dimanche",IF(J79="r","",IF(J79="","",IF(J79="fe","",IF(J79="cp","",1)))),"")) | AB79: =+IF(T79=1,$C79,"") | AC79: =+IF(U79=1,$C79,"") | AD79: =+IF(V79=1,$C79,"") | AE79: =+IF(W79=1,$C79,"") | AF79: =+IF(X79=1,$C79,"") | AG79: =+IF(Y79=1,$C79,"") | AH79: =+IF(Z79=1,$C79,"")
B80: mardi | C80: 43543 | D80: J EXT | E80: N EXT | F80: AM EXT | G80: M EXT | H80: J EXT | I80: R | J80: R | N80: =COUNTIF($D80:$L80,N$1) -> 1 | O80: =COUNTIF($D80:$L80,O$1) -> 1 | P80: =COUNTIF($D80:$L80,P$1) -> 1 | Q80: =COUNTIF($D80:$L80,Q$1) -> 0 | R80: =COUNTIF($D80:$L80,R$1) -> 0 | T80: =IF($B80="samedi",IF(D80="r","",IF(D80="","",IF(D80="fe","",IF(D80="cp","",1)))),IF($B80="dimanche",IF(D80="r","",IF(D80="","",IF(D80="fe","",IF(D80="cp","",1)))),"")) | U80: =IF($B80="samedi",IF(E80="r","",IF(E80="","",IF(E80="fe","",IF(E80="cp","",1)))),IF($B80="dimanche",IF(E80="r","",IF(E80="","",IF(E80="fe","",IF(E80="cp","",1)))),"")) | V80: =IF($B80="samedi",IF(F80="r","",IF(F80="","",IF(F80="fe","",IF(F80="cp","",1)))),IF($B80="dimanche",IF(F80="r","",IF(F80="","",IF(F80="fe","",IF(F80="cp","",1)))),"")) | W80: =IF($B80="samedi",IF(G80="r","",IF(G80="","",IF(G80="fe","",IF(G80="cp","",1)))),IF($B80="dimanche",IF(G80="r","",IF(G80="","",IF(G80="fe","",IF(G80="cp","",1)))),"")) | X80: =IF($B80="samedi",IF(H80="r","",IF(H80="","",IF(H80="fe","",IF(H80="cp","",1)))),IF($B80="dimanche",IF(H80="r","",IF(H80="","",IF(H80="fe","",IF(H80="cp","",1)))),"")) | Y80: =IF($B80="samedi",IF(I80="r","",IF(I80="","",IF(I80="fe","",IF(I80="cp","",1)))),IF($B80="dimanche",IF(I80="r","",IF(I80="","",IF(I80="fe","",IF(I80="cp","",1)))),"")) | Z80: =IF($B80="samedi",IF(J80="r","",IF(J80="","",IF(J80="fe","",IF(J80="cp","",1)))),IF($B80="dimanche",IF(J80="r","",IF(J80="","",IF(J80="fe","",IF(J80="cp","",1)))),"")) | AB80: =+IF(T80=1,$C80,"") | AC80: =+IF(U80=1,$C80,"") | AD80: =+IF(V80=1,$C80,"") | AE80: =+IF(W80=1,$C80,"") | AF80: =+IF(X80=1,$C80,"") | AG80: =+IF(Y80=1,$C80,"") | AH80: =+IF(Z80=1,$C80,"")
B81: mercredi | C81: 43544 | D81: J EXT | E81: N EXT | F81: AM EXT | G81: M EXT | H81: J EXT | I81: J EXT | J81: R | N81: =COUNTIF($D81:$L81,N$1) -> 1 | O81: =COUNTIF($D81:$L81,O$1) -> 1 | P81: =COUNTIF($D81:$L81,P$1) -> 1 | Q81: =COUNTIF($D81:$L81,Q$1) -> 0 | R81: =COUNTIF($D81:$L81,R$1) -> 0 | T81: =IF($B81="samedi",IF(D81="r","",IF(D81="","",IF(D81="fe","",IF(D81="cp","",1)))),IF($B81="dimanche",IF(D81="r","",IF(D81="","",IF(D81="fe","",IF(D81="cp","",1)))),"")) | U81: =IF($B81="samedi",IF(E81="r","",IF(E81="","",IF(E81="fe","",IF(E81="cp","",1)))),IF($B81="dimanche",IF(E81="r","",IF(E81="","",IF(E81="fe","",IF(E81="cp","",1)))),"")) | V81: =IF($B81="samedi",IF(F81="r","",IF(F81="","",IF(F81="fe","",IF(F81="cp","",1)))),IF($B81="dimanche",IF(F81="r","",IF(F81="","",IF(F81="fe","",IF(F81="cp","",1)))),"")) | W81: =IF($B81="samedi",IF(G81="r","",IF(G81="","",IF(G81="fe","",IF(G81="cp","",1)))),IF($B81="dimanche",IF(G81="r","",IF(G81="","",IF(G81="fe","",IF(G81="cp","",1)))),"")) | X81: =IF($B81="samedi",IF(H81="r","",IF(H81="","",IF(H81="fe","",IF(H81="cp","",1)))),IF($B81="dimanche",IF(H81="r","",IF(H81="","",IF(H81="fe","",IF(H81="cp","",1)))),"")) | Y81: =IF($B81="samedi",IF(I81="r","",IF(I81="","",IF(I81="fe","",IF(I81="cp","",1)))),IF($B81="dimanche",IF(I81="r","",IF(I81="","",IF(I81="fe","",IF(I81="cp","",1)))),"")) | Z81: =IF($B81="samedi",IF(J81="r","",IF(J81="","",IF(J81="fe","",IF(J81="cp","",1)))),IF($B81="dimanche",IF(J81="r","",IF(J81="","",IF(J81="fe","",IF(J81="cp","",1)))),"")) | AB81: =+IF(T81=1,$C81,"") | AC81: =+IF(U81=1,$C81,"") | AD81: =+IF(V81=1,$C81,"") | AE81: =+IF(W81=1,$C81,"") | AF81: =+IF(X81=1,$C81,"") | AG81: =+IF(Y81=1,$C81,"") | AH81: =+IF(Z81=1,$C81,"")
B82: jeudi | C82: 43545 | D82: J EXT | E82: N EXT | F82: AM EXT | G82: M EXT | H82: R | I82: J EXT | J82: R | N82: =COUNTIF($D82:$L82,N$1) -> 1 | O82: =COUNTIF($D82:$L82,O$1) -> 1 | P82: =COUNTIF($D82:$L82,P$1) -> 1 | Q82: =COUNTIF($D82:$L82,Q$1) -> 0 | R82: =COUNTIF($D82:$L82,R$1) -> 0 | T82: =IF($B82="samedi",IF(D82="r","",IF(D82="","",IF(D82="fe","",IF(D82="cp","",1)))),IF($B82="dimanche",IF(D82="r","",IF(D82="","",IF(D82="fe","",IF(D82="cp","",1)))),"")) | U82: =IF($B82="samedi",IF(E82="r","",IF(E82="","",IF(E82="fe","",IF(E82="cp","",1)))),IF($B82="dimanche",IF(E82="r","",IF(E82="","",IF(E82="fe","",IF(E82="cp","",1)))),"")) | V82: =IF($B82="samedi",IF(F82="r","",IF(F82="","",IF(F82="fe","",IF(F82="cp","",1)))),IF($B82="dimanche",IF(F82="r","",IF(F82="","",IF(F82="fe","",IF(F82="cp","",1)))),"")) | W82: =IF($B82="samedi",IF(G82="r","",IF(G82="","",IF(G82="fe","",IF(G82="cp","",1)))),IF($B82="dimanche",IF(G82="r","",IF(G82="","",IF(G82="fe","",IF(G82="cp","",1)))),"")) | X82: =IF($B82="samedi",IF(H82="r","",IF(H82="","",IF(H82="fe","",IF(H82="cp","",1)))),IF($B82="dimanche",IF(H82="r","",IF(H82="","",IF(H82="fe","",IF(H82="cp","",1)))),"")) | Y82: =IF($B82="samedi",IF(I82="r","",IF(I82="","",IF(I82="fe","",IF(I82="cp","",1)))),IF($B82="dimanche",IF(I82="r","",IF(I82="","",IF(I82="fe","",IF(I82="cp","",1)))),"")) | Z82: =IF($B82="samedi",IF(J82="r","",IF(J82="","",IF(J82="fe","",IF(J82="cp","",1)))),IF($B82="dimanche",IF(J82="r","",IF(J82="","",IF(J82="fe","",IF(J82="cp","",1)))),"")) | AB82: =+IF(T82=1,$C82,"") | AC82: =+IF(U82=1,$C82,"") | AD82: =+IF(V82=1,$C82,"") | AE82: =+IF(W82=1,$C82,"") | AF82: =+IF(X82=1,$C82,"") | AG82: =+IF(Y82=1,$C82,"") | AH82: =+IF(Z82=1,$C82,"")
B83: vendredi | C83: 43546 | D83: J EXT | E83: R | F83: AM EXT | G83: M EXT | H83: N EXT | I83: J EXT | J83: R | N83: =COUNTIF($D83:$L83,N$1) -> 1 | O83: =COUNTIF($D83:$L83,O$1) -> 1 | P83: =COUNTIF($D83:$L83,P$1) -> 1 | Q83: =COUNTIF($D83:$L83,Q$1) -> 0 | R83: =COUNTIF($D83:$L83,R$1) -> 0 | T83: =IF($B83="samedi",IF(D83="r","",IF(D83="","",IF(D83="fe","",IF(D83="cp","",1)))),IF($B83="dimanche",IF(D83="r","",IF(D83="","",IF(D83="fe","",IF(D83="cp","",1)))),"")) | U83: =IF($B83="samedi",IF(E83="r","",IF(E83="","",IF(E83="fe","",IF(E83="cp","",1)))),IF($B83="dimanche",IF(E83="r","",IF(E83="","",IF(E83="fe","",IF(E83="cp","",1)))),"")) | V83: =IF($B83="samedi",IF(F83="r","",IF(F83="","",IF(F83="fe","",IF(F83="cp","",1)))),IF($B83="dimanche",IF(F83="r","",IF(F83="","",IF(F83="fe","",IF(F83="cp","",1)))),"")) | W83: =IF($B83="samedi",IF(G83="r","",IF(G83="","",IF(G83="fe","",IF(G83="cp","",1)))),IF($B83="dimanche",IF(G83="r","",IF(G83="","",IF(G83="fe","",IF(G83="cp","",1)))),"")) | X83: =IF($B83="samedi",IF(H83="r","",IF(H83="","",IF(H83="fe","",IF(H83="cp","",1)))),IF($B83="dimanche",IF(H83="r","",IF(H83="","",IF(H83="fe","",IF(H83="cp","",1)))),"")) | Y83: =IF($B83="samedi",IF(I83="r","",IF(I83="","",IF(I83="fe","",IF(I83="cp","",1)))),IF($B83="dimanche",IF(I83="r","",IF(I83="","",IF(I83="fe","",IF(I83="cp","",1)))),"")) | Z83: =IF($B83="samedi",IF(J83="r","",IF(J83="","",IF(J83="fe","",IF(J83="cp","",1)))),IF($B83="dimanche",IF(J83="r","",IF(J83="","",IF(J83="fe","",IF(J83="cp","",1)))),"")) | AB83: =+IF(T83=1,$C83,"") | AC83: =+IF(U83=1,$C83,"") | AD83: =+IF(V83=1,$C83,"") | AE83: =+IF(W83=1,$C83,"") | AF83: =+IF(X83=1,$C83,"") | AG83: =+IF(Y83=1,$C83,"") | AH83: =+IF(Z83=1,$C83,"")
B84: samedi | C84: 43547 | D84: R | E84: R | F84: R | G84: R | H84: N EXT | I84: R | J84: 5H 17H | N84: =COUNTIF($D84:$L84,N$1) -> 0 | O84: =COUNTIF($D84:$L84,O$1) -> 0 | P84: =COUNTIF($D84:$L84,P$1) -> 1 | Q84: =COUNTIF($D84:$L84,Q$1) -> 1 | R84: =COUNTIF($D84:$L84,R$1) -> 0 | T84: =IF($B84="samedi",IF(D84="r","",IF(D84="","",IF(D84="fe","",IF(D84="cp","",1)))),IF($B84="dimanche",IF(D84="r","",IF(D84="","",IF(D84="fe","",IF(D84="cp","",1)))),"")) | U84: =IF($B84="samedi",IF(E84="r","",IF(E84="","",IF(E84="fe","",IF(E84="cp","",1)))),IF($B84="dimanche",IF(E84="r","",IF(E84="","",IF(E84="fe","",IF(E84="cp","",1)))),"")) | V84: =IF($B84="samedi",IF(F84="r","",IF(F84="","",IF(F84="fe","",IF(F84="cp","",1)))),IF($B84="dimanche",IF(F84="r","",IF(F84="","",IF(F84="fe","",IF(F84="cp","",1)))),"")) | W84: =IF($B84="samedi",IF(G84="r","",IF(G84="","",IF(G84="fe","",IF(G84="cp","",1)))),IF($B84="dimanche",IF(G84="r","",IF(G84="","",IF(G84="fe","",IF(G84="cp","",1)))),"")) | X84: =IF($B84="samedi",IF(H84="r","",IF(H84="","",IF(H84="fe","",IF(H84="cp","",1)))),IF($B84="dimanche",IF(H84="r","",IF(H84="","",IF(H84="fe","",IF(H84="cp","",1)))),"")) -> 1 | Y84: =IF($B84="samedi",IF(I84="r","",IF(I84="","",IF(I84="fe","",IF(I84="cp","",1)))),IF($B84="dimanche",IF(I84="r","",IF(I84="","",IF(I84="fe","",IF(I84="cp","",1)))),"")) | Z84: =IF($B84="samedi",IF(J84="r","",IF(J84="","",IF(J84="fe","",IF(J84="cp","",1)))),IF($B84="dimanche",IF(J84="r","",IF(J84="","",IF(J84="fe","",IF(J84="cp","",1)))),"")) -> 1 | AB84: =+IF(T84=1,$C84,"") | AC84: =+IF(U84=1,$C84,"") | AD84: =+IF(V84=1,$C84,"") | AE84: =+IF(W84=1,$C84,"") | AF84: =+IF(X84=1,$C84,"") -> 43547 | AG84: =+IF(Y84=1,$C84,"") | AH84: =+IF(Z84=1,$C84,"") -> 43547
B85: dimanche | C85: 43548 | D85: R | E85: R | F85: R | G85: R | H85: N EXT | I85: R | J85: 5H 17H | N85: =COUNTIF($D85:$L85,N$1) -> 0 | O85: =COUNTIF($D85:$L85,O$1) -> 0 | P85: =COUNTIF($D85:$L85,P$1) -> 1 | Q85: =COUNTIF($D85:$L85,Q$1) -> 1 | R85: =COUNTIF($D85:$L85,R$1) -> 0 | T85: =IF($B85="samedi",IF(D85="r","",IF(D85="","",IF(D85="fe","",IF(D85="cp","",1)))),IF($B85="dimanche",IF(D85="r","",IF(D85="","",IF(D85="fe","",IF(D85="cp","",1)))),"")) | U85: =IF($B85="samedi",IF(E85="r","",IF(E85="","",IF(E85="fe","",IF(E85="cp","",1)))),IF($B85="dimanche",IF(E85="r","",IF(E85="","",IF(E85="fe","",IF(E85="cp","",1)))),"")) | V85: =IF($B85="samedi",IF(F85="r","",IF(F85="","",IF(F85="fe","",IF(F85="cp","",1)))),IF($B85="dimanche",IF(F85="r","",IF(F85="","",IF(F85="fe","",IF(F85="cp","",1)))),"")) | W85: =IF($B85="samedi",IF(G85="r","",IF(G85="","",IF(G85="fe","",IF(G85="cp","",1)))),IF($B85="dimanche",IF(G85="r","",IF(G85="","",IF(G85="fe","",IF(G85="cp","",1)))),"")) | X85: =IF($B85="samedi",IF(H85="r","",IF(H85="","",IF(H85="fe","",IF(H85="cp","",1)))),IF($B85="dimanche",IF(H85="r","",IF(H85="","",IF(H85="fe","",IF(H85="cp","",1)))),"")) -> 1 | Y85: =IF($B85="samedi",IF(I85="r","",IF(I85="","",IF(I85="fe","",IF(I85="cp","",1)))),IF($B85="dimanche",IF(I85="r","",IF(I85="","",IF(I85="fe","",IF(I85="cp","",1)))),"")) | Z85: =IF($B85="samedi",IF(J85="r","",IF(J85="","",IF(J85="fe","",IF(J85="cp","",1)))),IF($B85="dimanche",IF(J85="r","",IF(J85="","",IF(J85="fe","",IF(J85="cp","",1)))),"")) -> 1 | AB85: =+IF(T85=1,$C85,"") | AC85: =+IF(U85=1,$C85,"") | AD85: =+IF(V85=1,$C85,"") | AE85: =+IF(W85=1,$C85,"") | AF85: =+IF(X85=1,$C85,"") -> 43548 | AG85: =+IF(Y85=1,$C85,"") | AH85: =+IF(Z85=1,$C85,"") -> 43548
A86: S13 | B86: lundi | C86: 43549 | D86: R | E86: M EXT | F86: R | G86: J EXT | H86: N EXT | I86: AM EXT | J86: R | N86: =COUNTIF($D86:$L86,N$1) -> 1 | O86: =COUNTIF($D86:$L86,O$1) -> 1 | P86: =COUNTIF($D86:$L86,P$1) -> 1 | Q86: =COUNTIF($D86:$L86,Q$1) -> 0 | R86: =COUNTIF($D86:$L86,R$1) -> 0 | T86: =IF($B86="samedi",IF(D86="r","",IF(D86="","",IF(D86="fe","",IF(D86="cp","",1)))),IF($B86="dimanche",IF(D86="r","",IF(D86="","",IF(D86="fe","",IF(D86="cp","",1)))),"")) | U86: =IF($B86="samedi",IF(E86="r","",IF(E86="","",IF(E86="fe","",IF(E86="cp","",1)))),IF($B86="dimanche",IF(E86="r","",IF(E86="","",IF(E86="fe","",IF(E86="cp","",1)))),"")) | V86: =IF($B86="samedi",IF(F86="r","",IF(F86="","",IF(F86="fe","",IF(F86="cp","",1)))),IF($B86="dimanche",IF(F86="r","",IF(F86="","",IF(F86="fe","",IF(F86="cp","",1)))),"")) | W86: =IF($B86="samedi",IF(G86="r","",IF(G86="","",IF(G86="fe","",IF(G86="cp","",1)))),IF($B86="dimanche",IF(G86="r","",IF(G86="","",IF(G86="fe","",IF(G86="cp","",1)))),"")) | X86: =IF($B86="samedi",IF(H86="r","",IF(H86="","",IF(H86="fe","",IF(H86="cp","",1)))),IF($B86="dimanche",IF(H86="r","",IF(H86="","",IF(H86="fe","",IF(H86="cp","",1)))),"")) | Y86: =IF($B86="samedi",IF(I86="r","",IF(I86="","",IF(I86="fe","",IF(I86="cp","",1)))),IF($B86="dimanche",IF(I86="r","",IF(I86="","",IF(I86="fe","",IF(I86="cp","",1)))),"")) | Z86: =IF($B86="samedi",IF(J86="r","",IF(J86="","",IF(J86="fe","",IF(J86="cp","",1)))),IF($B86="dimanche",IF(J86="r","",IF(J86="","",IF(J86="fe","",IF(J86="cp","",1)))),"")) | AB86: =+IF(T86=1,$C86,"") | AC86: =+IF(U86=1,$C86,"") | AD86: =+IF(V86=1,$C86,"") | AE86: =+IF(W86=1,$C86,"") | AF86: =+IF(X86=1,$C86,"") | AG86: =+IF(Y86=1,$C86,"") | AH86: =+IF(Z86=1,$C86,"")
B87: mardi | C87: 43550 | D87: FP | E87: M EXT | F87: N EXT | G87: J EXT | H87: R | I87: AM EXT | J87: R | N87: =COUNTIF($D87:$L87,N$1) -> 1 | O87: =COUNTIF($D87:$L87,O$1) -> 1 | P87: =COUNTIF($D87:$L87,P$1) -> 1 | Q87: =COUNTIF($D87:$L87,Q$1) -> 0 | R87: =COUNTIF($D87:$L87,R$1) -> 0 | T87: =IF($B87="samedi",IF(D87="r","",IF(D87="","",IF(D87="fe","",IF(D87="cp","",1)))),IF($B87="dimanche",IF(D87="r","",IF(D87="","",IF(D87="fe","",IF(D87="cp","",1)))),"")) | U87: =IF($B87="samedi",IF(E87="r","",IF(E87="","",IF(E87="fe","",IF(E87="cp","",1)))),IF($B87="dimanche",IF(E87="r","",IF(E87="","",IF(E87="fe","",IF(E87="cp","",1)))),"")) | V87: =IF($B87="samedi",IF(F87="r","",IF(F87="","",IF(F87="fe","",IF(F87="cp","",1)))),IF($B87="dimanche",IF(F87="r","",IF(F87="","",IF(F87="fe","",IF(F87="cp","",1)))),"")) | W87: =IF($B87="samedi",IF(G87="r","",IF(G87="","",IF(G87="fe","",IF(G87="cp","",1)))),IF($B87="dimanche",IF(G87="r","",IF(G87="","",IF(G87="fe","",IF(G87="cp","",1)))),"")) | X87: =IF($B87="samedi",IF(H87="r","",IF(H87="","",IF(H87="fe","",IF(H87="cp","",1)))),IF($B87="dimanche",IF(H87="r","",IF(H87="","",IF(H87="fe","",IF(H87="cp","",1)))),"")) | Y87: =IF($B87="samedi",IF(I87="r","",IF(I87="","",IF(I87="fe","",IF(I87="cp","",1)))),IF($B87="dimanche",IF(I87="r","",IF(I87="","",IF(I87="fe","",IF(I87="cp","",1)))),"")) | Z87: =IF($B87="samedi",IF(J87="r","",IF(J87="","",IF(J87="fe","",IF(J87="cp","",1)))),IF($B87="dimanche",IF(J87="r","",IF(J87="","",IF(J87="fe","",IF(J87="cp","",1)))),"")) | AB87: =+IF(T87=1,$C87,"") | AC87: =+IF(U87=1,$C87,"") | AD87: =+IF(V87=1,$C87,"") | AE87: =+IF(W87=1,$C87,"") | AF87: =+IF(X87=1,$C87,"") | AG87: =+IF(Y87=1,$C87,"") | AH87: =+IF(Z87=1,$C87,"")
B88: mercredi | C88: 43551 | D88: FP | E88: M EXT | F88: N EXT | G88: J EXT | H88: R | I88: AM EXT | J88: R | N88: =COUNTIF($D88:$L88,N$1) -> 1 | O88: =COUNTIF($D88:$L88,O$1) -> 1 | P88: =COUNTIF($D88:$L88,P$1) -> 1 | Q88: =COUNTIF($D88:$L88,Q$1) -> 0 | R88: =COUNTIF($D88:$L88,R$1) -> 0 | T88: =IF($B88="samedi",IF(D88="r","",IF(D88="","",IF(D88="fe","",IF(D88="cp","",1)))),IF($B88="dimanche",IF(D88="r","",IF(D88="","",IF(D88="fe","",IF(D88="cp","",1)))),"")) | U88: =IF($B88="samedi",IF(E88="r","",IF(E88="","",IF(E88="fe","",IF(E88="cp","",1)))),IF($B88="dimanche",IF(E88="r","",IF(E88="","",IF(E88="fe","",IF(E88="cp","",1)))),"")) | V88: =IF($B88="samedi",IF(F88="r","",IF(F88="","",IF(F88="fe","",IF(F88="cp","",1)))),IF($B88="dimanche",IF(F88="r","",IF(F88="","",IF(F88="fe","",IF(F88="cp","",1)))),"")) | W88: =IF($B88="samedi",IF(G88="r","",IF(G88="","",IF(G88="fe","",IF(G88="cp","",1)))),IF($B88="dimanche",IF(G88="r","",IF(G88="","",IF(G88="fe","",IF(G88="cp","",1)))),"")) | X88: =IF($B88="samedi",IF(H88="r","",IF(H88="","",IF(H88="fe","",IF(H88="cp","",1)))),IF($B88="dimanche",IF(H88="r","",IF(H88="","",IF(H88="fe","",IF(H88="cp","",1)))),"")) | Y88: =IF($B88="samedi",IF(I88="r","",IF(I88="","",IF(I88="fe","",IF(I88="cp","",1)))),IF($B88="dimanche",IF(I88="r","",IF(I88="","",IF(I88="fe","",IF(I88="cp","",1)))),"")) | Z88: =IF($B88="samedi",IF(J88="r","",IF(J88="","",IF(J88="fe","",IF(J88="cp","",1)))),IF($B88="dimanche",IF(J88="r","",IF(J88="","",IF(J88="fe","",IF(J88="cp","",1)))),"")) | AB88: =+IF(T88=1,$C88,"") | AC88: =+IF(U88=1,$C88,"") | AD88: =+IF(V88=1,$C88,"") | AE88: =+IF(W88=1,$C88,"") | AF88: =+IF(X88=1,$C88,"") | AG88: =+IF(Y88=1,$C88,"") | AH88: =+IF(Z88=1,$C88,"")
B89: jeudi | C89: 43552 | D89: FP | E89: M EXT | F89: N EXT | G89: J EXT | H89: J EXT | I89: AM EXT | J89: R | N89: =COUNTIF($D89:$L89,N$1) -> 1 | O89: =COUNTIF($D89:$L89,O$1) -> 1 | P89: =COUNTIF($D89:$L89,P$1) -> 1 | Q89: =COUNTIF($D89:$L89,Q$1) -> 0 | R89: =COUNTIF($D89:$L89,R$1) -> 0 | T89: =IF($B89="samedi",IF(D89="r","",IF(D89="","",IF(D89="fe","",IF(D89="cp","",1)))),IF($B89="dimanche",IF(D89="r","",IF(D89="","",IF(D89="fe","",IF(D89="cp","",1)))),"")) | U89: =IF($B89="samedi",IF(E89="r","",IF(E89="","",IF(E89="fe","",IF(E89="cp","",1)))),IF($B89="dimanche",IF(E89="r","",IF(E89="","",IF(E89="fe","",IF(E89="cp","",1)))),"")) | V89: =IF($B89="samedi",IF(F89="r","",IF(F89="","",IF(F89="fe","",IF(F89="cp","",1)))),IF($B89="dimanche",IF(F89="r","",IF(F89="","",IF(F89="fe","",IF(F89="cp","",1)))),"")) | W89: =IF($B89="samedi",IF(G89="r","",IF(G89="","",IF(G89="fe","",IF(G89="cp","",1)))),IF($B89="dimanche",IF(G89="r","",IF(G89="","",IF(G89="fe","",IF(G89="cp","",1)))),"")) | X89: =IF($B89="samedi",IF(H89="r","",IF(H89="","",IF(H89="fe","",IF(H89="cp","",1)))),IF($B89="dimanche",IF(H89="r","",IF(H89="","",IF(H89="fe","",IF(H89="cp","",1)))),"")) | Y89: =IF($B89="samedi",IF(I89="r","",IF(I89="","",IF(I89="fe","",IF(I89="cp","",1)))),IF($B89="dimanche",IF(I89="r","",IF(I89="","",IF(I89="fe","",IF(I89="cp","",1)))),"")) | Z89: =IF($B89="samedi",IF(J89="r","",IF(J89="","",IF(J89="fe","",IF(J89="cp","",1)))),IF($B89="dimanche",IF(J89="r","",IF(J89="","",IF(J89="fe","",IF(J89="cp","",1)))),"")) | AB89: =+IF(T89=1,$C89,"") | AC89: =+IF(U89=1,$C89,"") | AD89: =+IF(V89=1,$C89,"") | AE89: =+IF(W89=1,$C89,"") | AF89: =+IF(X89=1,$C89,"") | AG89: =+IF(Y89=1,$C89,"") | AH89: =+IF(Z89=1,$C89,"")
B90: vendredi | C90: 43553 | D90: CP | E90: M EXT | F90: N EXT | G90: J EXT | H90: J EXT | I90: AM EXT | J90: R | N90: =COUNTIF($D90:$L90,N$1) -> 1 | O90: =COUNTIF($D90:$L90,O$1) -> 1 | P90: =COUNTIF($D90:$L90,P$1) -> 1 | Q90: =COUNTIF($D90:$L90,Q$1) -> 0 | R90: =COUNTIF($D90:$L90,R$1) -> 0 | T90: =IF($B90="samedi",IF(D90="r","",IF(D90="","",IF(D90="fe","",IF(D90="cp","",1)))),IF($B90="dimanche",IF(D90="r","",IF(D90="","",IF(D90="fe","",IF(D90="cp","",1)))),"")) | U90: =IF($B90="samedi",IF(E90="r","",IF(E90="","",IF(E90="fe","",IF(E90="cp","",1)))),IF($B90="dimanche",IF(E90="r","",IF(E90="","",IF(E90="fe","",IF(E90="cp","",1)))),"")) | V90: =IF($B90="samedi",IF(F90="r","",IF(F90="","",IF(F90="fe","",IF(F90="cp","",1)))),IF($B90="dimanche",IF(F90="r","",IF(F90="","",IF(F90="fe","",IF(F90="cp","",1)))),"")) | W90: =IF($B90="samedi",IF(G90="r","",IF(G90="","",IF(G90="fe","",IF(G90="cp","",1)))),IF($B90="dimanche",IF(G90="r","",IF(G90="","",IF(G90="fe","",IF(G90="cp","",1)))),"")) | X90: =IF($B90="samedi",IF(H90="r","",IF(H90="","",IF(H90="fe","",IF(H90="cp","",1)))),IF($B90="dimanche",IF(H90="r","",IF(H90="","",IF(H90="fe","",IF(H90="cp","",1)))),"")) | Y90: =IF($B90="samedi",IF(I90="r","",IF(I90="","",IF(I90="fe","",IF(I90="cp","",1)))),IF($B90="dimanche",IF(I90="r","",IF(I90="","",IF(I90="fe","",IF(I90="cp","",1)))),"")) | Z90: =IF($B90="samedi",IF(J90="r","",IF(J90="","",IF(J90="fe","",IF(J90="cp","",1)))),IF($B90="dimanche",IF(J90="r","",IF(J90="","",IF(J90="fe","",IF(J90="cp","",1)))),"")) | AB90: =+IF(T90=1,$C90,"") | AC90: =+IF(U90=1,$C90,"") | AD90: =+IF(V90=1,$C90,"") | AE90: =+IF(W90=1,$C90,"") | AF90: =+IF(X90=1,$C90,"") | AG90: =+IF(Y90=1,$C90,"") | AH90: =+IF(Z90=1,$C90,"")
B91: samedi | C91: 43554 | D91: R | E91: R | F91: R | G91: R | H91: M EXT | I91: R | J91: 17H 5H | N91: =COUNTIF($D91:$L91,N$1) -> 1 | O91: =COUNTIF($D91:$L91,O$1) -> 0 | P91: =COUNTIF($D91:$L91,P$1) -> 0 | Q91: =COUNTIF($D91:$L91,Q$1) -> 0 | R91: =COUNTIF($D91:$L91,R$1) -> 1 | T91: =IF($B91="samedi",IF(D91="r","",IF(D91="","",IF(D91="fe","",IF(D91="cp","",1)))),IF($B91="dimanche",IF(D91="r","",IF(D91="","",IF(D91="fe","",IF(D91="cp","",1)))),"")) | U91: =IF($B91="samedi",IF(E91="r","",IF(E91="","",IF(E91="fe","",IF(E91="cp","",1)))),IF($B91="dimanche",IF(E91="r","",IF(E91="","",IF(E91="fe","",IF(E91="cp","",1)))),"")) | V91: =IF($B91="samedi",IF(F91="r","",IF(F91="","",IF(F91="fe","",IF(F91="cp","",1)))),IF($B91="dimanche",IF(F91="r","",IF(F91="","",IF(F91="fe","",IF(F91="cp","",1)))),"")) | W91: =IF($B91="samedi",IF(G91="r","",IF(G91="","",IF(G91="fe","",IF(G91="cp","",1)))),IF($B91="dimanche",IF(G91="r","",IF(G91="","",IF(G91="fe","",IF(G91="cp","",1)))),"")) | X91: =IF($B91="samedi",IF(H91="r","",IF(H91="","",IF(H91="fe","",IF(H91="cp","",1)))),IF($B91="dimanche",IF(H91="r","",IF(H91="","",IF(H91="fe","",IF(H91="cp","",1)))),"")) -> 1 | Y91: =IF($B91="samedi",IF(I91="r","",IF(I91="","",IF(I91="fe","",IF(I91="cp","",1)))),IF($B91="dimanche",IF(I91="r","",IF(I91="","",IF(I91="fe","",IF(I91="cp","",1)))),"")) | Z91: =IF($B91="samedi",IF(J91="r","",IF(J91="","",IF(J91="fe","",IF(J91="cp","",1)))),IF($B91="dimanche",IF(J91="r","",IF(J91="","",IF(J91="fe","",IF(J91="cp","",1)))),"")) -> 1 | AB91: =+IF(T91=1,$C91,"") | AC91: =+IF(U91=1,$C91,"") | AD91: =+IF(V91=1,$C91,"") | AE91: =+IF(W91=1,$C91,"") | AF91: =+IF(X91=1,$C91,"") -> 43554 | AG91: =+IF(Y91=1,$C91,"") | AH91: =+IF(Z91=1,$C91,"") -> 43554
B92: dimanche | C92: 43555 | D92: R | E92: R | F92: R | G92: R | H92: M EXT | I92: R | J92: 17H 5H | N92: =COUNTIF($D92:$L92,N$1) -> 1 | O92: =COUNTIF($D92:$L92,O$1) -> 0 | P92: =COUNTIF($D92:$L92,P$1) -> 0 | Q92: =COUNTIF($D92:$L92,Q$1) -> 0 | R92: =COUNTIF($D92:$L92,R$1) -> 1 | T92: =IF($B92="samedi",IF(D92="r","",IF(D92="","",IF(D92="fe","",IF(D92="cp","",1)))),IF($B92="dimanche",IF(D92="r","",IF(D92="","",IF(D92="fe","",IF(D92="cp","",1)))),"")) | U92: =IF($B92="samedi",IF(E92="r","",IF(E92="","",IF(E92="fe","",IF(E92="cp","",1)))),IF($B92="dimanche",IF(E92="r","",IF(E92="","",IF(E92="fe","",IF(E92="cp","",1)))),"")) | V92: =IF($B92="samedi",IF(F92="r","",IF(F92="","",IF(F92="fe","",IF(F92="cp","",1)))),IF($B92="dimanche",IF(F92="r","",IF(F92="","",IF(F92="fe","",IF(F92="cp","",1)))),"")) | W92: =IF($B92="samedi",IF(G92="r","",IF(G92="","",IF(G92="fe","",IF(G92="cp","",1)))),IF($B92="dimanche",IF(G92="r","",IF(G92="","",IF(G92="fe","",IF(G92="cp","",1)))),"")) | X92: =IF($B92="samedi",IF(H92="r","",IF(H92="","",IF(H92="fe","",IF(H92="cp","",1)))),IF($B92="dimanche",IF(H92="r","",IF(H92="","",IF(H92="fe","",IF(H92="cp","",1)))),"")) -> 1 | Y92: =IF($B92="samedi",IF(I92="r","",IF(I92="","",IF(I92="fe","",IF(I92="cp","",1)))),IF($B92="dimanche",IF(I92="r","",IF(I92="","",IF(I92="fe","",IF(I92="cp","",1)))),"")) | Z92: =IF($B92="samedi",IF(J92="r","",IF(J92="","",IF(J92="fe","",IF(J92="cp","",1)))),IF($B92="dimanche",IF(J92="r","",IF(J92="","",IF(J92="fe","",IF(J92="cp","",1)))),"")) -> 1 | AB92: =+IF(T92=1,$C92,"") | AC92: =+IF(U92=1,$C92,"") | AD92: =+IF(V92=1,$C92,"") | AE92: =+IF(W92=1,$C92,"") | AF92: =+IF(X92=1,$C92,"") -> 43555 | AG92: =+IF(Y92=1,$C92,"") | AH92: =+IF(Z92=1,$C92,"") -> 43555
A93: S14 | B93: lundi | C93: 43556 | D93: CP | E93: N EXT | F93: M EXT | G93: AM EXT | H93: R | I93: J EXT | J93: R | N93: =COUNTIF($D93:$L93,N$1) -> 1 | O93: =COUNTIF($D93:$L93,O$1) -> 1 | P93: =COUNTIF($D93:$L93,P$1) -> 1 | Q93: =COUNTIF($D93:$L93,Q$1) -> 0 | R93: =COUNTIF($D93:$L93,R$1) -> 0 | T93: =IF($B93="samedi",IF(D93="r","",IF(D93="","",IF(D93="fe","",IF(D93="cp","",1)))),IF($B93="dimanche",IF(D93="r","",IF(D93="","",IF(D93="fe","",IF(D93="cp","",1)))),"")) | U93: =IF($B93="samedi",IF(E93="r","",IF(E93="","",IF(E93="fe","",IF(E93="cp","",1)))),IF($B93="dimanche",IF(E93="r","",IF(E93="","",IF(E93="fe","",IF(E93="cp","",1)))),"")) | V93: =IF($B93="samedi",IF(F93="r","",IF(F93="","",IF(F93="fe","",IF(F93="cp","",1)))),IF($B93="dimanche",IF(F93="r","",IF(F93="","",IF(F93="fe","",IF(F93="cp","",1)))),"")) | W93: =IF($B93="samedi",IF(G93="r","",IF(G93="","",IF(G93="fe","",IF(G93="cp","",1)))),IF($B93="dimanche",IF(G93="r","",IF(G93="","",IF(G93="fe","",IF(G93="cp","",1)))),"")) | X93: =IF($B93="samedi",IF(H93="r","",IF(H93="","",IF(H93="fe","",IF(H93="cp","",1)))),IF($B93="dimanche",IF(H93="r","",IF(H93="","",IF(H93="fe","",IF(H93="cp","",1)))),"")) | Y93: =IF($B93="samedi",IF(I93="r","",IF(I93="","",IF(I93="fe","",IF(I93="cp","",1)))),IF($B93="dimanche",IF(I93="r","",IF(I93="","",IF(I93="fe","",IF(I93="cp","",1)))),"")) | Z93: =IF($B93="samedi",IF(J93="r","",IF(J93="","",IF(J93="fe","",IF(J93="cp","",1)))),IF($B93="dimanche",IF(J93="r","",IF(J93="","",IF(J93="fe","",IF(J93="cp","",1)))),"")) | AB93: =+IF(T93=1,$C93,"") | AC93: =+IF(U93=1,$C93,"") | AD93: =+IF(V93=1,$C93,"") | AE93: =+IF(W93=1,$C93,"") | AF93: =+IF(X93=1,$C93,"") | AG93: =+IF(Y93=1,$C93,"") | AH93: =+IF(Z93=1,$C93,"")
B94: mardi | C94: 43557 | D94: CP | E94: N EXT | F94: M EXT | G94: AM EXT | H94: R | I94: J EXT | J94: R | N94: =COUNTIF($D94:$L94,N$1) -> 1 | O94: =COUNTIF($D94:$L94,O$1) -> 1 | P94: =COUNTIF($D94:$L94,P$1) -> 1 | Q94: =COUNTIF($D94:$L94,Q$1) -> 0 | R94: =COUNTIF($D94:$L94,R$1) -> 0 | T94: =IF($B94="samedi",IF(D94="r","",IF(D94="","",IF(D94="fe","",IF(D94="cp","",1)))),IF($B94="dimanche",IF(D94="r","",IF(D94="","",IF(D94="fe","",IF(D94="cp","",1)))),"")) | U94: =IF($B94="samedi",IF(E94="r","",IF(E94="","",IF(E94="fe","",IF(E94="cp","",1)))),IF($B94="dimanche",IF(E94="r","",IF(E94="","",IF(E94="fe","",IF(E94="cp","",1)))),"")) | V94: =IF($B94="samedi",IF(F94="r","",IF(F94="","",IF(F94="fe","",IF(F94="cp","",1)))),IF($B94="dimanche",IF(F94="r","",IF(F94="","",IF(F94="fe","",IF(F94="cp","",1)))),"")) | W94: =IF($B94="samedi",IF(G94="r","",IF(G94="","",IF(G94="fe","",IF(G94="cp","",1)))),IF($B94="dimanche",IF(G94="r","",IF(G94="","",IF(G94="fe","",IF(G94="cp","",1)))),"")) | X94: =IF($B94="samedi",IF(H94="r","",IF(H94="","",IF(H94="fe","",IF(H94="cp","",1)))),IF($B94="dimanche",IF(H94="r","",IF(H94="","",IF(H94="fe","",IF(H94="cp","",1)))),"")) | Y94: =IF($B94="samedi",IF(I94="r","",IF(I94="","",IF(I94="fe","",IF(I94="cp","",1)))),IF($B94="dimanche",IF(I94="r","",IF(I94="","",IF(I94="fe","",IF(I94="cp","",1)))),"")) | Z94: =IF($B94="samedi",IF(J94="r","",IF(J94="","",IF(J94="fe","",IF(J94="cp","",1)))),IF($B94="dimanche",IF(J94="r","",IF(J94="","",IF(J94="fe","",IF(J94="cp","",1)))),"")) | AB94: =+IF(T94=1,$C94,"") | AC94: =+IF(U94=1,$C94,"") | AD94: =+IF(V94=1,$C94,"") | AE94: =+IF(W94=1,$C94,"") | AF94: =+IF(X94=1,$C94,"") | AG94: =+IF(Y94=1,$C94,"") | AH94: =+IF(Z94=1,$C94,"")
B95: mercredi | C95: 43558 | D95: CP | E95: N EXT | F95: M EXT | G95: AM EXT | H95: J EXT | I95: R | J95: R | L95: J EXT | N95: =COUNTIF($D95:$L95,N$1) -> 1 | O95: =COUNTIF($D95:$L95,O$1) -> 1 | P95: =COUNTIF($D95:$L95,P$1) -> 1 | Q95: =COUNTIF($D95:$L95,Q$1) -> 0 | R95: =COUNTIF($D95:$L95,R$1) -> 0 | T95: =IF($B95="samedi",IF(D95="r","",IF(D95="","",IF(D95="fe","",IF(D95="cp","",1)))),IF($B95="dimanche",IF(D95="r","",IF(D95="","",IF(D95="fe","",IF(D95="cp","",1)))),"")) | U95: =IF($B95="samedi",IF(E95="r","",IF(E95="","",IF(E95="fe","",IF(E95="cp","",1)))),IF($B95="dimanche",IF(E95="r","",IF(E95="","",IF(E95="fe","",IF(E95="cp","",1)))),"")) | V95: =IF($B95="samedi",IF(F95="r","",IF(F95="","",IF(F95="fe","",IF(F95="cp","",1)))),IF($B95="dimanche",IF(F95="r","",IF(F95="","",IF(F95="fe","",IF(F95="cp","",1)))),"")) | W95: =IF($B95="samedi",IF(G95="r","",IF(G95="","",IF(G95="fe","",IF(G95="cp","",1)))),IF($B95="dimanche",IF(G95="r","",IF(G95="","",IF(G95="fe","",IF(G95="cp","",1)))),"")) | X95: =IF($B95="samedi",IF(H95="r","",IF(H95="","",IF(H95="fe","",IF(H95="cp","",1)))),IF($B95="dimanche",IF(H95="r","",IF(H95="","",IF(H95="fe","",IF(H95="cp","",1)))),"")) | Y95: =IF($B95="samedi",IF(I95="r","",IF(I95="","",IF(I95="fe","",IF(I95="cp","",1)))),IF($B95="dimanche",IF(I95="r","",IF(I95="","",IF(I95="fe","",IF(I95="cp","",1)))),"")) | Z95: =IF($B95="samedi",IF(J95="r","",IF(J95="","",IF(J95="fe","",IF(J95="cp","",1)))),IF($B95="dimanche",IF(J95="r","",IF(J95="","",IF(J95="fe","",IF(J95="cp","",1)))),"")) | AB95: =+IF(T95=1,$C95,"") | AC95: =+IF(U95=1,$C95,"") | AD95: =+IF(V95=1,$C95,"") | AE95: =+IF(W95=1,$C95,"") | AF95: =+IF(X95=1,$C95,"") | AG95: =+IF(Y95=1,$C95,"") | AH95: =+IF(Z95=1,$C95,"")
B96: jeudi | C96: 43559 | D96: CP | E96: N EXT | F96: M EXT | G96: AM EXT | H96: J EXT | I96: R | J96: R | L96: J EXT | N96: =COUNTIF($D96:$L96,N$1) -> 1 | O96: =COUNTIF($D96:$L96,O$1) -> 1 | P96: =COUNTIF($D96:$L96,P$1) -> 1 | Q96: =COUNTIF($D96:$L96,Q$1) -> 0 | R96: =COUNTIF($D96:$L96,R$1) -> 0 | T96: =IF($B96="samedi",IF(D96="r","",IF(D96="","",IF(D96="fe","",IF(D96="cp","",1)))),IF($B96="dimanche",IF(D96="r","",IF(D96="","",IF(D96="fe","",IF(D96="cp","",1)))),"")) | U96: =IF($B96="samedi",IF(E96="r","",IF(E96="","",IF(E96="fe","",IF(E96="cp","",1)))),IF($B96="dimanche",IF(E96="r","",IF(E96="","",IF(E96="fe","",IF(E96="cp","",1)))),"")) | V96: =IF($B96="samedi",IF(F96="r","",IF(F96="","",IF(F96="fe","",IF(F96="cp","",1)))),IF($B96="dimanche",IF(F96="r","",IF(F96="","",IF(F96="fe","",IF(F96="cp","",1)))),"")) | W96: =IF($B96="samedi",IF(G96="r","",IF(G96="","",IF(G96="fe","",IF(G96="cp","",1)))),IF($B96="dimanche",IF(G96="r","",IF(G96="","",IF(G96="fe","",IF(G96="cp","",1)))),"")) | X96: =IF($B96="samedi",IF(H96="r","",IF(H96="","",IF(H96="fe","",IF(H96="cp","",1)))),IF($B96="dimanche",IF(H96="r","",IF(H96="","",IF(H96="fe","",IF(H96="cp","",1)))),"")) | Y96: =IF($B96="samedi",IF(I96="r","",IF(I96="","",IF(I96="fe","",IF(I96="cp","",1)))),IF($B96="dimanche",IF(I96="r","",IF(I96="","",IF(I96="fe","",IF(I96="cp","",1)))),"")) | Z96: =IF($B96="samedi",IF(J96="r","",IF(J96="","",IF(J96="fe","",IF(J96="cp","",1)))),IF($B96="dimanche",IF(J96="r","",IF(J96="","",IF(J96="fe","",IF(J96="cp","",1)))),"")) | AB96: =+IF(T96=1,$C96,"") | AC96: =+IF(U96=1,$C96,"") | AD96: =+IF(V96=1,$C96,"") | AE96: =+IF(W96=1,$C96,"") | AF96: =+IF(X96=1,$C96,"") | AG96: =+IF(Y96=1,$C96,"") | AH96: =+IF(Z96=1,$C96,"")
B97: vendredi | C97: 43560 | D97: CP | E97: N EXT | F97: R | G97: AM EXT | H97: J EXT | I97: M EXT | J97: R | L97: J EXT | N97: =COUNTIF($D97:$L97,N$1) -> 1 | O97: =COUNTIF($D97:$L97,O$1) -> 1 | P97: =COUNTIF($D97:$L97,P$1) -> 1 | Q97: =COUNTIF($D97:$L97,Q$1) -> 0 | R97: =COUNTIF($D97:$L97,R$1) -> 0 | T97: =IF($B97="samedi",IF(D97="r","",IF(D97="","",IF(D97="fe","",IF(D97="cp","",1)))),IF($B97="dimanche",IF(D97="r","",IF(D97="","",IF(D97="fe","",IF(D97="cp","",1)))),"")) | U97: =IF($B97="samedi",IF(E97="r","",IF(E97="","",IF(E97="fe","",IF(E97="cp","",1)))),IF($B97="dimanche",IF(E97="r","",IF(E97="","",IF(E97="fe","",IF(E97="cp","",1)))),"")) | V97: =IF($B97="samedi",IF(F97="r","",IF(F97="","",IF(F97="fe","",IF(F97="cp","",1)))),IF($B97="dimanche",IF(F97="r","",IF(F97="","",IF(F97="fe","",IF(F97="cp","",1)))),"")) | W97: =IF($B97="samedi",IF(G97="r","",IF(G97="","",IF(G97="fe","",IF(G97="cp","",1)))),IF($B97="dimanche",IF(G97="r","",IF(G97="","",IF(G97="fe","",IF(G97="cp","",1)))),"")) | X97: =IF($B97="samedi",IF(H97="r","",IF(H97="","",IF(H97="fe","",IF(H97="cp","",1)))),IF($B97="dimanche",IF(H97="r","",IF(H97="","",IF(H97="fe","",IF(H97="cp","",1)))),"")) | Y97: =IF($B97="samedi",IF(I97="r","",IF(I97="","",IF(I97="fe","",IF(I97="cp","",1)))),IF($B97="dimanche",IF(I97="r","",IF(I97="","",IF(I97="fe","",IF(I97="cp","",1)))),"")) | Z97: =IF($B97="samedi",IF(J97="r","",IF(J97="","",IF(J97="fe","",IF(J97="cp","",1)))),IF($B97="dimanche",IF(J97="r","",IF(J97="","",IF(J97="fe","",IF(J97="cp","",1)))),"")) | AB97: =+IF(T97=1,$C97,"") | AC97: =+IF(U97=1,$C97,"") | AD97: =+IF(V97=1,$C97,"") | AE97: =+IF(W97=1,$C97,"") | AF97: =+IF(X97=1,$C97,"") | AG97: =+IF(Y97=1,$C97,"") | AH97: =+IF(Z97=1,$C97,"")
B98: samedi | C98: 43561 | D98: R | E98: R | F98: R | G98: R | H98: R | I98: M EXT | J98: 17H 5H | N98: =COUNTIF($D98:$L98,N$1) -> 1 | O98: =COUNTIF($D98:$L98,O$1) -> 0 | P98: =COUNTIF($D98:$L98,P$1) -> 0 | Q98: =COUNTIF($D98:$L98,Q$1) -> 0 | R98: =COUNTIF($D98:$L98,R$1) -> 1 | T98: =IF($B98="samedi",IF(D98="r","",IF(D98="","",IF(D98="fe","",IF(D98="cp","",1)))),IF($B98="dimanche",IF(D98="r","",IF(D98="","",IF(D98="fe","",IF(D98="cp","",1)))),"")) | U98: =IF($B98="samedi",IF(E98="r","",IF(E98="","",IF(E98="fe","",IF(E98="cp","",1)))),IF($B98="dimanche",IF(E98="r","",IF(E98="","",IF(E98="fe","",IF(E98="cp","",1)))),"")) | V98: =IF($B98="samedi",IF(F98="r","",IF(F98="","",IF(F98="fe","",IF(F98="cp","",1)))),IF($B98="dimanche",IF(F98="r","",IF(F98="","",IF(F98="fe","",IF(F98="cp","",1)))),"")) | W98: =IF($B98="samedi",IF(G98="r","",IF(G98="","",IF(G98="fe","",IF(G98="cp","",1)))),IF($B98="dimanche",IF(G98="r","",IF(G98="","",IF(G98="fe","",IF(G98="cp","",1)))),"")) | X98: =IF($B98="samedi",IF(H98="r","",IF(H98="","",IF(H98="fe","",IF(H98="cp","",1)))),IF($B98="dimanche",IF(H98="r","",IF(H98="","",IF(H98="fe","",IF(H98="cp","",1)))),"")) | Y98: =IF($B98="samedi",IF(I98="r","",IF(I98="","",IF(I98="fe","",IF(I98="cp","",1)))),IF($B98="dimanche",IF(I98="r","",IF(I98="","",IF(I98="fe","",IF(I98="cp","",1)))),"")) -> 1 | Z98: =IF($B98="samedi",IF(J98="r","",IF(J98="","",IF(J98="fe","",IF(J98="cp","",1)))),IF($B98="dimanche",IF(J98="r","",IF(J98="","",IF(J98="fe","",IF(J98="cp","",1)))),"")) -> 1 | AB98: =+IF(T98=1,$C98,"") | AC98: =+IF(U98=1,$C98,"") | AD98: =+IF(V98=1,$C98,"") | AE98: =+IF(W98=1,$C98,"") | AF98: =+IF(X98=1,$C98,"") | AG98: =+IF(Y98=1,$C98,"") -> 43561 | AH98: =+IF(Z98=1,$C98,"") -> 43561
B99: dimanche | C99: 43562 | D99: R | E99: R | F99: R | G99: R | H99: R | I99: M EXT | J99: 17H 5H | N99: =COUNTIF($D99:$L99,N$1) -> 1 | O99: =COUNTIF($D99:$L99,O$1) -> 0 | P99: =COUNTIF($D99:$L99,P$1) -> 0 | Q99: =COUNTIF($D99:$L99,Q$1) -> 0 | R99: =COUNTIF($D99:$L99,R$1) -> 1 | T99: =IF($B99="samedi",IF(D99="r","",IF(D99="","",IF(D99="fe","",IF(D99="cp","",1)))),IF($B99="dimanche",IF(D99="r","",IF(D99="","",IF(D99="fe","",IF(D99="cp","",1)))),"")) | U99: =IF($B99="samedi",IF(E99="r","",IF(E99="","",IF(E99="fe","",IF(E99="cp","",1)))),IF($B99="dimanche",IF(E99="r","",IF(E99="","",IF(E99="fe","",IF(E99="cp","",1)))),"")) | V99: =IF($B99="samedi",IF(F99="r","",IF(F99="","",IF(F99="fe","",IF(F99="cp","",1)))),IF($B99="dimanche",IF(F99="r","",IF(F99="","",IF(F99="fe","",IF(F99="cp","",1)))),"")) | W99: =IF($B99="samedi",IF(G99="r","",IF(G99="","",IF(G99="fe","",IF(G99="cp","",1)))),IF($B99="dimanche",IF(G99="r","",IF(G99="","",IF(G99="fe","",IF(G99="cp","",1)))),"")) | X99: =IF($B99="samedi",IF(H99="r","",IF(H99="","",IF(H99="fe","",IF(H99="cp","",1)))),IF($B99="dimanche",IF(H99="r","",IF(H99="","",IF(H99="fe","",IF(H99="cp","",1)))),"")) | Y99: =IF($B99="samedi",IF(I99="r","",IF(I99="","",IF(I99="fe","",IF(I99="cp","",1)))),IF($B99="dimanche",IF(I99="r","",IF(I99="","",IF(I99="fe","",IF(I99="cp","",1)))),"")) -> 1 | Z99: =IF($B99="samedi",IF(J99="r","",IF(J99="","",IF(J99="fe","",IF(J99="cp","",1)))),IF($B99="dimanche",IF(J99="r","",IF(J99="","",IF(J99="fe","",IF(J99="cp","",1)))),"")) -> 1 | AB99: =+IF(T99=1,$C99,"") | AC99: =+IF(U99=1,$C99,"") | AD99: =+IF(V99=1,$C99,"") | AE99: =+IF(W99=1,$C99,"") | AF99: =+IF(X99=1,$C99,"") | AG99: =+IF(Y99=1,$C99,"") -> 43562 | AH99: =+IF(Z99=1,$C99,"") -> 43562
A100: S15 | B100: lundi | C100: 43563 | D100: J EXT | E100: AM EXT | F100: N EXT | G100: J EXT | H100: CP | I100: M EXT | J100: R | N100: =COUNTIF($D100:$L100,N$1) -> 1 | O100: =COUNTIF($D100:$L100,O$1) -> 1 | P100: =COUNTIF($D100:$L100,P$1) -> 1 | Q100: =COUNTIF($D100:$L100,Q$1) -> 0 | R100: =COUNTIF($D100:$L100,R$1) -> 0 | T100: =IF($B100="samedi",IF(D100="r","",IF(D100="","",IF(D100="fe","",IF(D100="cp","",1)))),IF($B100="dimanche",IF(D100="r","",IF(D100="","",IF(D100="fe","",IF(D100="cp","",1)))),"")) | U100: =IF($B100="samedi",IF(E100="r","",IF(E100="","",IF(E100="fe","",IF(E100="cp","",1)))),IF($B100="dimanche",IF(E100="r","",IF(E100="","",IF(E100="fe","",IF(E100="cp","",1)))),"")) | V100: =IF($B100="samedi",IF(F100="r","",IF(F100="","",IF(F100="fe","",IF(F100="cp","",1)))),IF($B100="dimanche",IF(F100="r","",IF(F100="","",IF(F100="fe","",IF(F100="cp","",1)))),"")) | W100: =IF($B100="samedi",IF(G100="r","",IF(G100="","",IF(G100="fe","",IF(G100="cp","",1)))),IF($B100="dimanche",IF(G100="r","",IF(G100="","",IF(G100="fe","",IF(G100="cp","",1)))),"")) | X100: =IF($B100="samedi",IF(H100="r","",IF(H100="","",IF(H100="fe","",IF(H100="cp","",1)))),IF($B100="dimanche",IF(H100="r","",IF(H100="","",IF(H100="fe","",IF(H100="cp","",1)))),"")) | Y100: =IF($B100="samedi",IF(I100="r","",IF(I100="","",IF(I100="fe","",IF(I100="cp","",1)))),IF($B100="dimanche",IF(I100="r","",IF(I100="","",IF(I100="fe","",IF(I100="cp","",1)))),"")) | Z100: =IF($B100="samedi",IF(J100="r","",IF(J100="","",IF(J100="fe","",IF(J100="cp","",1)))),IF($B100="dimanche",IF(J100="r","",IF(J100="","",IF(J100="fe","",IF(J100="cp","",1)))),"")) | AB100: =+IF(T100=1,$C100,"") | AC100: =+IF(U100=1,$C100,"") | AD100: =+IF(V100=1,$C100,"") | AE100: =+IF(W100=1,$C100,"") | AF100: =+IF(X100=1,$C100,"") | AG100: =+IF(Y100=1,$C100,"") | AH100: =+IF(Z100=1,$C100,"")
...

Sheet heures
A1: N°SEM | B1: 13 | C1: J.AUGUSTIN | E1: 2 | F1: S.AVRIL E6 | H1: 3 | I1: D.RITTER E5 | K1: 4 | L1: A EVEILLARD E2 | N1: 5 | O1: Y.DELAUNAY E1 | Q1: 6 | R1: G.LEGENDRE E4 | T1: 7 | U1: P.CHARPENTIER E3 | W1: 8
A2: Année | B2: 2019 | C2: PLANNING | D2: HT | E2: HN | F2: PLANNING | G2: HT | H2: HN | I2: PLANNING | J2: HT | K2: HN | L2: PLANNING | M2: HT | N2: HN | O2: PLANNING | P2: HT | Q2: HN | R2: PLANNING | S2: HT | T2: HN | U2: PLANNING | V2: HT | W2: HN
B3: =7*$B$1+DATE($B$2,1,3)-WEEKDAY(DATE($B$2,1,3))-5 -> 43549 | C3: =+IF($B3="","",VLOOKUP($B3,PLANNING!$C$3:$J20001,E$1,FALSE)) -> R | D3: =+IF(C3="R","R",IF(OR(C3="5h 17h",C3="17h 5h"),11.5,IF(OR(C3="m ext",C3="am ext",C3="n ext",C3="n",C3="am",C3="m",C3="j",C3="j ext"),7.5,C3))) -> R | E3: =IF(C3="","",IF(C3="M EXT",1,IF(C3="N EXT",7.5,IF(C3="5h 17h",1,IF(C3="17h 5h", 7.5,0))))) -> 0 | F3: =+IF($B3="","",VLOOKUP($B3,PLANNING!$C$3:$J20001,H$1,FALSE)) -> M EXT | G3: =+IF(F3="R","R",IF(OR(F3="5h 17h",F3="17h 5h"),11.5,IF(OR(F3="m ext",F3="am ext",F3="n ext",F3="n",F3="am",F3="m",F3="j",F3="j ext"),7.5,F3))) -> 7.5 | H3: =IF(F3="","",IF(F3="M EXT",1,IF(F3="N EXT",7.5,IF(F3="5h 17h",1,IF(F3="17h 5h", 7.5,0))))) -> 1 | I3: =+IF($B3="","",VLOOKUP($B3,PLANNING!$C$3:$J20001,K$1,FALSE)) -> R | J3: =+IF(I3="R","R",IF(OR(I3="5h 17h",I3="17h 5h"),11.5,IF(OR(I3="m ext",I3="am ext",I3="n ext",I3="n",I3="am",I3="m",I3="j",I3="j ext"),7.5,I3))) -> R | K3: =IF(I3="","",IF(I3="M EXT",1,IF(I3="N EXT",7.5,IF(I3="5h 17h",1,IF(I3="17h 5h", 7.5,0))))) -> 0 | L3: =+IF($B3="","",VLOOKUP($B3,PLANNING!$C$3:$J20001,N$1,FALSE)) -> J EXT | M3: =+IF(L3="R","R",IF(OR(L3="5h 17h",L3="17h 5h"),11.5,IF(OR(L3="m ext",L3="am ext",L3="n ext",L3="n",L3="am",L3="m",L3="j",L3="j ext"),7.5,L3))) -> 7.5 | N3: =IF(L3="","",IF(L3="M EXT",1,IF(L3="N EXT",7.5,IF(L3="5h 17h",1,IF(L3="17h 5h", 7.5,0))))) -> 0 | O3: =+IF($B3="","",VLOOKUP($B3,PLANNING!$C$3:$J20001,Q$1,FALSE)) -> N EXT | P3: =+IF(O3="R","R",IF(OR(O3="5h 17h",O3="17h 5h"),11.5,IF(OR(O3="m ext",O3="am ext",O3="n ext",O3="n",O3="am",O3="m",O3="j",O3="j ext"),7.5,O3))) -> 7.5 | Q3: =IF(O3="","",IF(O3="M EXT",1,IF(O3="N EXT",7.5,IF(O3="5h 17h",1,IF(O3="17h 5h", 7.5,0))))) -> 7.5 | R3: =+IF($B3="","",VLOOKUP($B3,PLANNING!$C$3:$J20001,T$1,FALSE)) -> AM EXT | S3: =+IF(R3="R","R",IF(OR(R3="5h 17h",R3="17h 5h"),11.5,IF(OR(R3="m ext",R3="am ext",R3="n ext",R3="n",R3="am",R3="m",R3="j",R3="j ext"),7.5,R3))) -> 7.5 | T3: =IF(R3="","",IF(R3="M EXT",1,IF(R3="N EXT",7.5,IF(R3="5h 17h",1,IF(R3="17h 5h", 7.5,0))))) -> 0 | U3: =+IF($B3="","",VLOOKUP($B3,PLANNING!$C$3:$J20001,W$1,FALSE)) -> R | V3: =+IF(U3="R","R",IF(OR(U3="5h 17h",U3="17h 5h"),11.5,IF(OR(U3="m ext",U3="am ext",U3="n ext",U3="n",U3="am",U3="m",U3="j",U3="j ext"),7.5,U3))) -> R | W3: =IF(U3="","",IF(U3="M EXT",1,IF(U3="N EXT",7.5,IF(U3="5h 17h",1,IF(U3="17h 5h", 7.5,0))))) -> 0
B4: =B3+1 -> 43550 | C4: =+IF($B4="","",VLOOKUP($B4,PLANNING!$C$3:$J20002,E$1,FALSE)) -> FP | D4: =+IF(C4="R","R",IF(OR(C4="5h 17h",C4="17h 5h"),11.5,IF(OR(C4="m ext",C4="am ext",C4="n ext",C4="n",C4="am",C4="m",C4="j",C4="j ext"),7.5,C4))) -> FP | E4: =IF(C4="","",IF(C4="M EXT",1,IF(C4="N EXT",7.5,IF(C4="5h 17h",1,IF(C4="17h 5h", 7.5,0))))) -> 0 | F4: =+IF($B4="","",VLOOKUP($B4,PLANNING!$C$3:$J20002,H$1,FALSE)) -> M EXT | G4: =+IF(F4="R","R",IF(OR(F4="5h 17h",F4="17h 5h"),11.5,IF(OR(F4="m ext",F4="am ext",F4="n ext",F4="n",F4="am",F4="m",F4="j",F4="j ext"),7.5,F4))) -> 7.5 | H4: =IF(F4="","",IF(F4="M EXT",1,IF(F4="N EXT",7.5,IF(F4="5h 17h",1,IF(F4="17h 5h", 7.5,0))))) -> 1 | I4: =+IF($B4="","",VLOOKUP($B4,PLANNING!$C$3:$J20002,K$1,FALSE)) -> N EXT | J4: =+IF(I4="R","R",IF(OR(I4="5h 17h",I4="17h 5h"),11.5,IF(OR(I4="m ext",I4="am ext",I4="n ext",I4="n",I4="am",I4="m",I4="j",I4="j ext"),7.5,I4))) -> 7.5 | K4: =IF(I4="","",IF(I4="M EXT",1,IF(I4="N EXT",7.5,IF(I4="5h 17h",1,IF(I4="17h 5h", 7.5,0))))) -> 7.5 | L4: =+IF($B4="","",VLOOKUP($B4,PLANNING!$C$3:$J20002,N$1,FALSE)) -> J EXT | M4: =+IF(L4="R","R",IF(OR(L4="5h 17h",L4="17h 5h"),11.5,IF(OR(L4="m ext",L4="am ext",L4="n ext",L4="n",L4="am",L4="m",L4="j",L4="j ext"),7.5,L4))) -> 7.5 | N4: =IF(L4="","",IF(L4="M EXT",1,IF(L4="N EXT",7.5,IF(L4="5h 17h",1,IF(L4="17h 5h", 7.5,0))))) -> 0 | O4: =+IF($B4="","",VLOOKUP($B4,PLANNING!$C$3:$J20002,Q$1,FALSE)) -> R | P4: =+IF(O4="R","R",IF(OR(O4="5h 17h",O4="17h 5h"),11.5,IF(OR(O4="m ext",O4="am ext",O4="n ext",O4="n",O4="am",O4="m",O4="j",O4="j ext"),7.5,O4))) -> R | Q4: =IF(O4="","",IF(O4="M EXT",1,IF(O4="N EXT",7.5,IF(O4="5h 17h",1,IF(O4="17h 5h", 7.5,0))))) -> 0 | R4: =+IF($B4="","",VLOOKUP($B4,PLANNING!$C$3:$J20002,T$1,FALSE)) -> AM EXT | S4: =+IF(R4="R","R",IF(OR(R4="5h 17h",R4="17h 5h"),11.5,IF(OR(R4="m ext",R4="am ext",R4="n ext",R4="n",R4="am",R4="m",R4="j",R4="j ext"),7.5,R4))) -> 7.5 | T4: =IF(R4="","",IF(R4="M EXT",1,IF(R4="N EXT",7.5,IF(R4="5h 17h",1,IF(R4="17h 5h", 7.5,0))))) -> 0 | U4: =+IF($B4="","",VLOOKUP($B4,PLANNING!$C$3:$J20002,W$1,FALSE)) -> R | V4: =+IF(U4="R","R",IF(OR(U4="5h 17h",U4="17h 5h"),11.5,IF(OR(U4="m ext",U4="am ext",U4="n ext",U4="n",U4="am",U4="m",U4="j",U4="j ext"),7.5,U4))) -> R | W4: =IF(U4="","",IF(U4="M EXT",1,IF(U4="N EXT",7.5,IF(U4="5h 17h",1,IF(U4="17h 5h", 7.5,0))))) -> 0
B5: =B4+1 -> 43551 | C5: =+IF($B5="","",VLOOKUP($B5,PLANNING!$C$3:$J20003,E$1,FALSE)) -> FP | D5: =+IF(C5="R","R",IF(OR(C5="5h 17h",C5="17h 5h"),11.5,IF(OR(C5="m ext",C5="am ext",C5="n ext",C5="n",C5="am",C5="m",C5="j",C5="j ext"),7.5,C5))) -> FP | E5: =IF(C5="","",IF(C5="M EXT",1,IF(C5="N EXT",7.5,IF(C5="5h 17h",1,IF(C5="17h 5h", 7.5,0))))) -> 0 | F5: =+IF($B5="","",VLOOKUP($B5,PLANNING!$C$3:$J20003,H$1,FALSE)) -> M EXT | G5: =+IF(F5="R","R",IF(OR(F5="5h 17h",F5="17h 5h"),11.5,IF(OR(F5="m ext",F5="am ext",F5="n ext",F5="n",F5="am",F5="m",F5="j",F5="j ext"),7.5,F5))) -> 7.5 | H5: =IF(F5="","",IF(F5="M EXT",1,IF(F5="N EXT",7.5,IF(F5="5h 17h",1,IF(F5="17h 5h", 7.5,0))))) -> 1 | I5: =+IF($B5="","",VLOOKUP($B5,PLANNING!$C$3:$J20003,K$1,FALSE)) -> N EXT | J5: =+IF(I5="R","R",IF(OR(I5="5h 17h",I5="17h 5h"),11.5,IF(OR(I5="m ext",I5="am ext",I5="n ext",I5="n",I5="am",I5="m",I5="j",I5="j ext"),7.5,I5))) -> 7.5 | K5: =IF(I5="","",IF(I5="M EXT",1,IF(I5="N EXT",7.5,IF(I5="5h 17h",1,IF(I5="17h 5h", 7.5,0))))) -> 7.5 | L5: =+IF($B5="","",VLOOKUP($B5,PLANNING!$C$3:$J20003,N$1,FALSE)) -> J EXT | M5: =+IF(L5="R","R",IF(OR(L5="5h 17h",L5="17h 5h"),11.5,IF(OR(L5="m ext",L5="am ext",L5="n ext",L5="n",L5="am",L5="m",L5="j",L5="j ext"),7.5,L5))) -> 7.5 | N5: =IF(L5="","",IF(L5="M EXT",1,IF(L5="N EXT",7.5,IF(L5="5h 17h",1,IF(L5="17h 5h", 7.5,0))))) -> 0 | O5: =+IF($B5="","",VLOOKUP($B5,PLANNING!$C$3:$J20003,Q$1,FALSE)) -> R | P5: =+IF(O5="R","R",IF(OR(O5="5h 17h",O5="17h 5h"),11.5,IF(OR(O5="m ext",O5="am ext",O5="n ext",O5="n",O5="am",O5="m",O5="j",O5="j ext"),7.5,O5))) -> R | Q5: =IF(O5="","",IF(O5="M EXT",1,IF(O5="N EXT",7.5,IF(O5="5h 17h",1,IF(O5="17h 5h", 7.5,0))))) -> 0 | R5: =+IF($B5="","",VLOOKUP($B5,PLANNING!$C$3:$J20003,T$1,FALSE)) -> AM EXT | S5: =+IF(R5="R","R",IF(OR(R5="5h 17h",R5="17h 5h"),11.5,IF(OR(R5="m ext",R5="am ext",R5="n ext",R5="n",R5="am",R5="m",R5="j",R5="j ext"),7.5,R5))) -> 7.5 | T5: =IF(R5="","",IF(R5="M EXT",1,IF(R5="N EXT",7.5,IF(R5="5h 17h",1,IF(R5="17h 5h", 7.5,0))))) -> 0 | U5: =+IF($B5="","",VLOOKUP($B5,PLANNING!$C$3:$J20003,W$1,FALSE)) -> R | V5: =+IF(U5="R","R",IF(OR(U5="5h 17h",U5="17h 5h"),11.5,IF(OR(U5="m ext",U5="am ext",U5="n ext",U5="n",U5="am",U5="m",U5="j",U5="j ext"),7.5,U5))) -> R | W5: =IF(U5="","",IF(U5="M EXT",1,IF(U5="N EXT",7.5,IF(U5="5h 17h",1,IF(U5="17h 5h", 7.5,0))))) -> 0
B6: =B5+1 -> 43552 | C6: =+IF($B6="","",VLOOKUP($B6,PLANNING!$C$3:$J20004,E$1,FALSE)) -> FP | D6: =+IF(C6="R","R",IF(OR(C6="5h 17h",C6="17h 5h"),11.5,IF(OR(C6="m ext",C6="am ext",C6="n ext",C6="n",C6="am",C6="m",C6="j",C6="j ext"),7.5,C6))) -> FP | E6: =IF(C6="","",IF(C6="M EXT",1,IF(C6="N EXT",7.5,IF(C6="5h 17h",1,IF(C6="17h 5h", 7.5,0))))) -> 0 | F6: =+IF($B6="","",VLOOKUP($B6,PLANNING!$C$3:$J20004,H$1,FALSE)) -> M EXT | G6: =+IF(F6="R","R",IF(OR(F6="5h 17h",F6="17h 5h"),11.5,IF(OR(F6="m ext",F6="am ext",F6="n ext",F6="n",F6="am",F6="m",F6="j",F6="j ext"),7.5,F6))) -> 7.5 | H6: =IF(F6="","",IF(F6="M EXT",1,IF(F6="N EXT",7.5,IF(F6="5h 17h",1,IF(F6="17h 5h", 7.5,0))))) -> 1 | I6: =+IF($B6="","",VLOOKUP($B6,PLANNING!$C$3:$J20004,K$1,FALSE)) -> N EXT | J6: =+IF(I6="R","R",IF(OR(I6="5h 17h",I6="17h 5h"),11.5,IF(OR(I6="m ext",I6="am ext",I6="n ext",I6="n",I6="am",I6="m",I6="j",I6="j ext"),7.5,I6))) -> 7.5 | K6: =IF(I6="","",IF(I6="M EXT",1,IF(I6="N EXT",7.5,IF(I6="5h 17h",1,IF(I6="17h 5h", 7.5,0))))) -> 7.5 | L6: =+IF($B6="","",VLOOKUP($B6,PLANNING!$C$3:$J20004,N$1,FALSE)) -> J EXT | M6: =+IF(L6="R","R",IF(OR(L6="5h 17h",L6="17h 5h"),11.5,IF(OR(L6="m ext",L6="am ext",L6="n ext",L6="n",L6="am",L6="m",L6="j",L6="j ext"),7.5,L6))) -> 7.5 | N6: =IF(L6="","",IF(L6="M EXT",1,IF(L6="N EXT",7.5,IF(L6="5h 17h",1,IF(L6="17h 5h", 7.5,0))))) -> 0 | O6: =+IF($B6="","",VLOOKUP($B6,PLANNING!$C$3:$J20004,Q$1,FALSE)) -> J EXT | P6: =+IF(O6="R","R",IF(OR(O6="5h 17h",O6="17h 5h"),11.5,IF(OR(O6="m ext",O6="am ext",O6="n ext",O6="n",O6="am",O6="m",O6="j",O6="j ext"),7.5,O6))) -> 7.5 | Q6: =IF(O6="","",IF(O6="M EXT",1,IF(O6="N EXT",7.5,IF(O6="5h 17h",1,IF(O6="17h 5h", 7.5,0))))) -> 0 | R6: =+IF($B6="","",VLOOKUP($B6,PLANNING!$C$3:$J20004,T$1,FALSE)) -> AM EXT | S6: =+IF(R6="R","R",IF(OR(R6="5h 17h",R6="17h 5h"),11.5,IF(OR(R6="m ext",R6="am ext",R6="n ext",R6="n",R6="am",R6="m",R6="j",R6="j ext"),7.5,R6))) -> 7.5 | T6: =IF(R6="","",IF(R6="M EXT",1,IF(R6="N EXT",7.5,IF(R6="5h 17h",1,IF(R6="17h 5h", 7.5,0))))) -> 0 | U6: =+IF($B6="","",VLOOKUP($B6,PLANNING!$C$3:$J20004,W$1,FALSE)) -> R | V6: =+IF(U6="R","R",IF(OR(U6="5h 17h",U6="17h 5h"),11.5,IF(OR(U6="m ext",U6="am ext",U6="n ext",U6="n",U6="am",U6="m",U6="j",U6="j ext"),7.5,U6))) -> R | W6: =IF(U6="","",IF(U6="M EXT",1,IF(U6="N EXT",7.5,IF(U6="5h 17h",1,IF(U6="17h 5h", 7.5,0))))) -> 0
B7: =B6+1 -> 43553 | C7: =+IF($B7="","",VLOOKUP($B7,PLANNING!$C$3:$J20005,E$1,FALSE)) -> CP | D7: =+IF(C7="R","R",IF(OR(C7="5h 17h",C7="17h 5h"),11.5,IF(OR(C7="m ext",C7="am ext",C7="n ext",C7="n",C7="am",C7="m",C7="j",C7="j ext"),7.5,C7))) -> CP | E7: =IF(C7="","",IF(C7="M EXT",1,IF(C7="N EXT",7.5,IF(C7="5h 17h",1,IF(C7="17h 5h", 7.5,0))))) -> 0 | F7: =+IF($B7="","",VLOOKUP($B7,PLANNING!$C$3:$J20005,H$1,FALSE)) -> M EXT | G7: =+IF(F7="R","R",IF(OR(F7="5h 17h",F7="17h 5h"),11.5,IF(OR(F7="m ext",F7="am ext",F7="n ext",F7="n",F7="am",F7="m",F7="j",F7="j ext"),7.5,F7))) -> 7.5 | H7: =IF(F7="","",IF(F7="M EXT",1,IF(F7="N EXT",7.5,IF(F7="5h 17h",1,IF(F7="17h 5h", 7.5,0))))) -> 1 | I7: =+IF($B7="","",VLOOKUP($B7,PLANNING!$C$3:$J20005,K$1,FALSE)) -> N EXT | J7: =+IF(I7="R","R",IF(OR(I7="5h 17h",I7="17h 5h"),11.5,IF(OR(I7="m ext",I7="am ext",I7="n ext",I7="n",I7="am",I7="m",I7="j",I7="j ext"),7.5,I7))) -> 7.5 | K7: =IF(I7="","",IF(I7="M EXT",1,IF(I7="N EXT",7.5,IF(I7="5h 17h",1,IF(I7="17h 5h", 7.5,0))))) -> 7.5 | L7: =+IF($B7="","",VLOOKUP($B7,PLANNING!$C$3:$J20005,N$1,FALSE)) -> J EXT | M7: =+IF(L7="R","R",IF(OR(L7="5h 17h",L7="17h 5h"),11.5,IF(OR(L7="m ext",L7="am ext",L7="n ext",L7="n",L7="am",L7="m",L7="j",L7="j ext"),7.5,L7))) -> 7.5 | N7: =IF(L7="","",IF(L7="M EXT",1,IF(L7="N EXT",7.5,IF(L7="5h 17h",1,IF(L7="17h 5h", 7.5,0))))) -> 0 | O7: =+IF($B7="","",VLOOKUP($B7,PLANNING!$C$3:$J20005,Q$1,FALSE)) -> J EXT | P7: =+IF(O7="R","R",IF(OR(O7="5h 17h",O7="17h 5h"),11.5,IF(OR(O7="m ext",O7="am ext",O7="n ext",O7="n",O7="am",O7="m",O7="j",O7="j ext"),7.5,O7))) -> 7.5 | Q7: =IF(O7="","",IF(O7="M EXT",1,IF(O7="N EXT",7.5,IF(O7="5h 17h",1,IF(O7="17h 5h", 7.5,0))))) -> 0 | R7: =+IF($B7="","",VLOOKUP($B7,PLANNING!$C$3:$J20005,T$1,FALSE)) -> AM EXT | S7: =+IF(R7="R","R",IF(OR(R7="5h 17h",R7="17h 5h"),11.5,IF(OR(R7="m ext",R7="am ext",R7="n ext",R7="n",R7="am",R7="m",R7="j",R7="j ext"),7.5,R7))) -> 7.5 | T7: =IF(R7="","",IF(R7="M EXT",1,IF(R7="N EXT",7.5,IF(R7="5h 17h",1,IF(R7="17h 5h", 7.5,0))))) -> 0 | U7: =+IF($B7="","",VLOOKUP($B7,PLANNING!$C$3:$J20005,W$1,FALSE)) -> R | V7: =+IF(U7="R","R",IF(OR(U7="5h 17h",U7="17h 5h"),11.5,IF(OR(U7="m ext",U7="am ext",U7="n ext",U7="n",U7="am",U7="m",U7="j",U7="j ext"),7.5,U7))) -> R | W7: =IF(U7="","",IF(U7="M EXT",1,IF(U7="N EXT",7.5,IF(U7="5h 17h",1,IF(U7="17h 5h", 7.5,0))))) -> 0
B8: =B7+1 -> 43554 | C8: =+IF($B8="","",VLOOKUP($B8,PLANNING!$C$3:$J20006,E$1,FALSE)) -> R | D8: =+IF(C8="R","R",IF(OR(C8="5h 17h",C8="17h 5h"),11.5,IF(OR(C8="m ext",C8="am ext",C8="n ext",C8="n",C8="am",C8="m",C8="j",C8="j ext"),7.5,C8))) -> R | E8: =IF(C8="","",IF(C8="M EXT",1,IF(C8="N EXT",7.5,IF(C8="5h 17h",1,IF(C8="17h 5h", 7.5,0))))) -> 0 | F8: =+IF($B8="","",VLOOKUP($B8,PLANNING!$C$3:$J20006,H$1,FALSE)) -> R | G8: =+IF(F8="R","R",IF(OR(F8="5h 17h",F8="17h 5h"),11.5,IF(OR(F8="m ext",F8="am ext",F8="n ext",F8="n",F8="am",F8="m",F8="j",F8="j ext"),7.5,F8))) -> R | H8: =IF(F8="","",IF(F8="M EXT",1,IF(F8="N EXT",7.5,IF(F8="5h 17h",1,IF(F8="17h 5h", 7.5,0))))) -> 0 | I8: =+IF($B8="","",VLOOKUP($B8,PLANNING!$C$3:$J20006,K$1,FALSE)) -> R | J8: =+IF(I8="R","R",IF(OR(I8="5h 17h",I8="17h 5h"),11.5,IF(OR(I8="m ext",I8="am ext",I8="n ext",I8="n",I8="am",I8="m",I8="j",I8="j ext"),7.5,I8))) -> R | K8: =IF(I8="","",IF(I8="M EXT",1,IF(I8="N EXT",7.5,IF(I8="5h 17h",1,IF(I8="17h 5h", 7.5,0))))) -> 0 | L8: =+IF($B8="","",VLOOKUP($B8,PLANNING!$C$3:$J20006,N$1,FALSE)) -> R | M8: =+IF(L8="R","R",IF(OR(L8="5h 17h",L8="17h 5h"),11.5,IF(OR(L8="m ext",L8="am ext",L8="n ext",L8="n",L8="am",L8="m",L8="j",L8="j ext"),7.5,L8))) -> R | N8: =IF(L8="","",IF(L8="M EXT",1,IF(L8="N EXT",7.5,IF(L8="5h 17h",1,IF(L8="17h 5h", 7.5,0))))) -> 0 | O8: =+IF($B8="","",VLOOKUP($B8,PLANNING!$C$3:$J20006,Q$1,FALSE)) -> M EXT | P8: =+IF(O8="R","R",IF(OR(O8="5h 17h",O8="17h 5h"),11.5,IF(OR(O8="m ext",O8="am ext",O8="n ext",O8="n",O8="am",O8="m",O8="j",O8="j ext"),7.5,O8))) -> 7.5 | Q8: =IF(O8="","",IF(O8="M EXT",1,IF(O8="N EXT",7.5,IF(O8="5h 17h",1,IF(O8="17h 5h", 7.5,0))))) -> 1 | R8: =+IF($B8="","",VLOOKUP($B8,PLANNING!$C$3:$J20006,T$1,FALSE)) -> R | S8: =+IF(R8="R","R",IF(OR(R8="5h 17h",R8="17h 5h"),11.5,IF(OR(R8="m ext",R8="am ext",R8="n ext",R8="n",R8="am",R8="m",R8="j",R8="j ext"),7.5,R8))) -> R | T8: =IF(R8="","",IF(R8="M EXT",1,IF(R8="N EXT",7.5,IF(R8="5h 17h",1,IF(R8="17h 5h", 7.5,0))))) -> 0 | U8: =+IF($B8="","",VLOOKUP($B8,PLANNING!$C$3:$J20006,W$1,FALSE)) -> 17H 5H | V8: =+IF(U8="R","R",IF(OR(U8="5h 17h",U8="17h 5h"),11.5,IF(OR(U8="m ext",U8="am ext",U8="n ext",U8="n",U8="am",U8="m",U8="j",U8="j ext"),7.5,U8))) -> 11.5 | W8: =IF(U8="","",IF(U8="M EXT",1,IF(U8="N EXT",7.5,IF(U8="5h 17h",1,IF(U8="17h 5h", 7.5,0))))) -> 7.5
B9: =B8+1 -> 43555 | C9: =+IF($B9="","",VLOOKUP($B9,PLANNING!$C$3:$J20007,E$1,FALSE)) -> R | D9: =+IF(C9="R","R",IF(OR(C9="5h 17h",C9="17h 5h"),11.5,IF(OR(C9="m ext",C9="am ext",C9="n ext",C9="n",C9="am",C9="m",C9="j",C9="j ext"),7.5,C9))) -> R | E9: =IF(C9="","",IF(C9="M EXT",1,IF(C9="N EXT",7.5,IF(C9="5h 17h",1,IF(C9="17h 5h", 7.5,0))))) -> 0 | F9: =+IF($B9="","",VLOOKUP($B9,PLANNING!$C$3:$J20007,H$1,FALSE)) -> R | G9: =+IF(F9="R","R",IF(OR(F9="5h 17h",F9="17h 5h"),11.5,IF(OR(F9="m ext",F9="am ext",F9="n ext",F9="n",F9="am",F9="m",F9="j",F9="j ext"),7.5,F9))) -> R | H9: =IF(F9="","",IF(F9="M EXT",1,IF(F9="N EXT",7.5,IF(F9="5h 17h",1,IF(F9="17h 5h", 7.5,0))))) -> 0 | I9: =+IF($B9="","",VLOOKUP($B9,PLANNING!$C$3:$J20007,K$1,FALSE)) -> R | J9: =+IF(I9="R","R",IF(OR(I9="5h 17h",I9="17h 5h"),11.5,IF(OR(I9="m ext",I9="am ext",I9="n ext",I9="n",I9="am",I9="m",I9="j",I9="j ext"),7.5,I9))) -> R | K9: =IF(I9="","",IF(I9="M EXT",1,IF(I9="N EXT",7.5,IF(I9="5h 17h",1,IF(I9="17h 5h", 7.5,0))))) -> 0 | L9: =+IF($B9="","",VLOOKUP($B9,PLANNING!$C$3:$J20007,N$1,FALSE)) -> R | M9: =+IF(L9="R","R",IF(OR(L9="5h 17h",L9="17h 5h"),11.5,IF(OR(L9="m ext",L9="am ext",L9="n ext",L9="n",L9="am",L9="m",L9="j",L9="j ext"),7.5,L9))) -> R | N9: =IF(L9="","",IF(L9="M EXT",1,IF(L9="N EXT",7.5,IF(L9="5h 17h",1,IF(L9="17h 5h", 7.5,0))))) -> 0 | O9: =+IF($B9="","",VLOOKUP($B9,PLANNING!$C$3:$J20007,Q$1,FALSE)) -> M EXT | P9: =+IF(O9="R","R",IF(OR(O9="5h 17h",O9="17h 5h"),11.5,IF(OR(O9="m ext",O9="am ext",O9="n ext",O9="n",O9="am",O9="m",O9="j",O9="j ext"),7.5,O9))) -> 7.5 | Q9: =IF(O9="","",IF(O9="M EXT",1,IF(O9="N EXT",7.5,IF(O9="5h 17h",1,IF(O9="17h 5h", 7.5,0))))) -> 1 | R9: =+IF($B9="","",VLOOKUP($B9,PLANNING!$C$3:$J20007,T$1,FALSE)) -> R | S9: =+IF(R9="R","R",IF(OR(R9="5h 17h",R9="17h 5h"),11.5,IF(OR(R9="m ext",R9="am ext",R9="n ext",R9="n",R9="am",R9="m",R9="j",R9="j ext"),7.5,R9))) -> R | T9: =IF(R9="","",IF(R9="M EXT",1,IF(R9="N EXT",7.5,IF(R9="5h 17h",1,IF(R9="17h 5h", 7.5,0))))) -> 0 | U9: =+IF($B9="","",VLOOKUP($B9,PLANNING!$C$3:$J20007,W$1,FALSE)) -> 17H 5H | V9: =+IF(U9="R","R",IF(OR(U9="5h 17h",U9="17h 5h"),11.5,IF(OR(U9="m ext",U9="am ext",U9="n ext",U9="n",U9="am",U9="m",U9="j",U9="j ext"),7.5,U9))) -> 11.5 | W9: =IF(U9="","",IF(U9="M EXT",1,IF(U9="N EXT",7.5,IF(U9="5h 17h",1,IF(U9="17h 5h", 7.5,0))))) -> 7.5
B10: =B9+1 -> 43556 | C10: =+IF($B10="","",VLOOKUP($B10,PLANNING!$C$3:$J20008,E$1,FALSE)) -> CP | D10: =+IF(C10="R","R",IF(OR(C10="5h 17h",C10="17h 5h"),11.5,IF(OR(C10="m ext",C10="am ext",C10="n ext",C10="n",C10="am",C10="m",C10="j",C10="j ext"),7.5,C10))) -> CP | E10: =IF(C10="","",IF(C10="M EXT",1,IF(C10="N EXT",7.5,IF(C10="5h 17h",1,IF(C10="17h 5h", 7.5,0))))) -> 0 | F10: =+IF($B10="","",VLOOKUP($B10,PLANNING!$C$3:$J20008,H$1,FALSE)) -> N EXT | G10: =+IF(F10="R","R",IF(OR(F10="5h 17h",F10="17h 5h"),11.5,IF(OR(F10="m ext",F10="am ext",F10="n ext",F10="n",F10="am",F10="m",F10="j",F10="j ext"),7.5,F10))) -> 7.5 | H10: =IF(F10="","",IF(F10="M EXT",1,IF(F10="N EXT",7.5,IF(F10="5h 17h",1,IF(F10="17h 5h", 7.5,0))))) -> 7.5 | I10: =+IF($B10="","",VLOOKUP($B10,PLANNING!$C$3:$J20008,K$1,FALSE)) -> M EXT | J10: =+IF(I10="R","R",IF(OR(I10="5h 17h",I10="17h 5h"),11.5,IF(OR(I10="m ext",I10="am ext",I10="n ext",I10="n",I10="am",I10="m",I10="j",I10="j ext"),7.5,I10))) -> 7.5 | K10: =IF(I10="","",IF(I10="M EXT",1,IF(I10="N EXT",7.5,IF(I10="5h 17h",1,IF(I10="17h 5h", 7.5,0))))) -> 1 | L10: =+IF($B10="","",VLOOKUP($B10,PLANNING!$C$3:$J20008,N$1,FALSE)) -> AM EXT | M10: =+IF(L10="R","R",IF(OR(L10="5h 17h",L10="17h 5h"),11.5,IF(OR(L10="m ext",L10="am ext",L10="n ext",L10="n",L10="am",L10="m",L10="j",L10="j ext"),7.5,L10))) -> 7.5 | N10: =IF(L10="","",IF(L10="M EXT",1,IF(L10="N EXT",7.5,IF(L10="5h 17h",1,IF(L10="17h 5h", 7.5,0))))) -> 0 | O10: =+IF($B10="","",VLOOKUP($B10,PLANNING!$C$3:$J20008,Q$1,FALSE)) -> R | P10: =+IF(O10="R","R",IF(OR(O10="5h 17h",O10="17h 5h"),11.5,IF(OR(O10="m ext",O10="am ext",O10="n ext",O10="n",O10="am",O10="m",O10="j",O10="j ext"),7.5,O10))) -> R | Q10: =IF(O10="","",IF(O10="M EXT",1,IF(O10="N EXT",7.5,IF(O10="5h 17h",1,IF(O10="17h 5h", 7.5,0))))) -> 0 | R10: =+IF($B10="","",VLOOKUP($B10,PLANNING!$C$3:$J20008,T$1,FALSE)) -> J EXT | S10: =+IF(R10="R","R",IF(OR(R10="5h 17h",R10="17h 5h"),11.5,IF(OR(R10="m ext",R10="am ext",R10="n ext",R10="n",R10="am",R10="m",R10="j",R10="j ext"),7.5,R10))) -> 7.5 | T10: =IF(R10="","",IF(R10="M EXT",1,IF(R10="N EXT",7.5,IF(R10="5h 17h",1,IF(R10="17h 5h", 7.5,0))))) -> 0 | U10: =+IF($B10="","",VLOOKUP($B10,PLANNING!$C$3:$J20008,W$1,FALSE)) -> R | V10: =+IF(U10="R","R",IF(OR(U10="5h 17h",U10="17h 5h"),11.5,IF(OR(U10="m ext",U10="am ext",U10="n ext",U10="n",U10="am",U10="m",U10="j",U10="j ext"),7.5,U10))) -> R | W10: =IF(U10="","",IF(U10="M EXT",1,IF(U10="N EXT",7.5,IF(U10="5h 17h",1,IF(U10="17h 5h", 7.5,0))))) -> 0
B11: =B10+1 -> 43557 | C11: =+IF($B11="","",VLOOKUP($B11,PLANNING!$C$3:$J20009,E$1,FALSE)) -> CP | D11: =+IF(C11="R","R",IF(OR(C11="5h 17h",C11="17h 5h"),11.5,IF(OR(C11="m ext",C11="am ext",C11="n ext",C11="n",C11="am",C11="m",C11="j",C11="j ext"),7.5,C11))) -> CP | E11: =IF(C11="","",IF(C11="M EXT",1,IF(C11="N EXT",7.5,IF(C11="5h 17h",1,IF(C11="17h 5h", 7.5,0))))) -> 0 | F11: =+IF($B11="","",VLOOKUP($B11,PLANNING!$C$3:$J20009,H$1,FALSE)) -> N EXT | G11: =+IF(F11="R","R",IF(OR(F11="5h 17h",F11="17h 5h"),11.5,IF(OR(F11="m ext",F11="am ext",F11="n ext",F11="n",F11="am",F11="m",F11="j",F11="j ext"),7.5,F11))) -> 7.5 | H11: =IF(F11="","",IF(F11="M EXT",1,IF(F11="N EXT",7.5,IF(F11="5h 17h",1,IF(F11="17h 5h", 7.5,0))))) -> 7.5 | I11: =+IF($B11="","",VLOOKUP($B11,PLANNING!$C$3:$J20009,K$1,FALSE)) -> M EXT | J11: =+IF(I11="R","R",IF(OR(I11="5h 17h",I11="17h 5h"),11.5,IF(OR(I11="m ext",I11="am ext",I11="n ext",I11="n",I11="am",I11="m",I11="j",I11="j ext"),7.5,I11))) -> 7.5 | K11: =IF(I11="","",IF(I11="M EXT",1,IF(I11="N EXT",7.5,IF(I11="5h 17h",1,IF(I11="17h 5h", 7.5,0))))) -> 1 | L11: =+IF($B11="","",VLOOKUP($B11,PLANNING!$C$3:$J20009,N$1,FALSE)) -> AM EXT | M11: =+IF(L11="R","R",IF(OR(L11="5h 17h",L11="17h 5h"),11.5,IF(OR(L11="m ext",L11="am ext",L11="n ext",L11="n",L11="am",L11="m",L11="j",L11="j ext"),7.5,L11))) -> 7.5 | N11: =IF(L11="","",IF(L11="M EXT",1,IF(L11="N EXT",7.5,IF(L11="5h 17h",1,IF(L11="17h 5h", 7.5,0))))) -> 0 | O11: =+IF($B11="","",VLOOKUP($B11,PLANNING!$C$3:$J20009,Q$1,FALSE)) -> R | P11: =+IF(O11="R","R",IF(OR(O11="5h 17h",O11="17h 5h"),11.5,IF(OR(O11="m ext",O11="am ext",O11="n ext",O11="n",O11="am",O11="m",O11="j",O11="j ext"),7.5,O11))) -> R | Q11: =IF(O11="","",IF(O11="M EXT",1,IF(O11="N EXT",7.5,IF(O11="5h 17h",1,IF(O11="17h 5h", 7.5,0))))) -> 0 | R11: =+IF($B11="","",VLOOKUP($B11,PLANNING!$C$3:$J20009,T$1,FALSE)) -> J EXT | S11: =+IF(R11="R","R",IF(OR(R11="5h 17h",R11="17h 5h"),11.5,IF(OR(R11="m ext",R11="am ext",R11="n ext",R11="n",R11="am",R11="m",R11="j",R11="j ext"),7.5,R11))) -> 7.5 | T11: =IF(R11="","",IF(R11="M EXT",1,IF(R11="N EXT",7.5,IF(R11="5h 17h",1,IF(R11="17h 5h", 7.5,0))))) -> 0 | U11: =+IF($B11="","",VLOOKUP($B11,PLANNING!$C$3:$J20009,W$1,FALSE)) -> R | V11: =+IF(U11="R","R",IF(OR(U11="5h 17h",U11="17h 5h"),11.5,IF(OR(U11="m ext",U11="am ext",U11="n ext",U11="n",U11="am",U11="m",U11="j",U11="j ext"),7.5,U11))) -> R | W11: =IF(U11="","",IF(U11="M EXT",1,IF(U11="N EXT",7.5,IF(U11="5h 17h",1,IF(U11="17h 5h", 7.5,0))))) -> 0
B12: =B11+1 -> 43558 | C12: =+IF($B12="","",VLOOKUP($B12,PLANNING!$C$3:$J20010,E$1,FALSE)) -> CP | D12: =+IF(C12="R","R",IF(OR(C12="5h 17h",C12="17h 5h"),11.5,IF(OR(C12="m ext",C12="am ext",C12="n ext",C12="n",C12="am",C12="m",C12="j",C12="j ext"),7.5,C12))) -> CP | E12: =IF(C12="","",IF(C12="M EXT",1,IF(C12="N EXT",7.5,IF(C12="5h 17h",1,IF(C12="17h 5h", 7.5,0))))) -> 0 | F12: =+IF($B12="","",VLOOKUP($B12,PLANNING!$C$3:$J20010,H$1,FALSE)) -> N EXT | G12: =+IF(F12="R","R",IF(OR(F12="5h 17h",F12="17h 5h"),11.5,IF(OR(F12="m ext",F12="am ext",F12="n ext",F12="n",F12="am",F12="m",F12="j",F12="j ext"),7.5,F12))) -> 7.5 | H12: =IF(F12="","",IF(F12="M EXT",1,IF(F12="N EXT",7.5,IF(F12="5h 17h",1,IF(F12="17h 5h", 7.5,0))))) -> 7.5 | I12: =+IF($B12="","",VLOOKUP($B12,PLANNING!$C$3:$J20010,K$1,FALSE)) -> M EXT | J12: =+IF(I12="R","R",IF(OR(I12="5h 17h",I12="17h 5h"),11.5,IF(OR(I12="m ext",I12="am ext",I12="n ext",I12="n",I12="am",I12="m",I12="j",I12="j ext"),7.5,I12))) -> 7.5 | K12: =IF(I12="","",IF(I12="M EXT",1,IF(I12="N EXT",7.5,IF(I12="5h 17h",1,IF(I12="17h 5h", 7.5,0))))) -> 1 | L12: =+IF($B12="","",VLOOKUP($B12,PLANNING!$C$3:$J20010,N$1,FALSE)) -> AM EXT | M12: =+IF(L12="R","R",IF(OR(L12="5h 17h",L12="17h 5h"),11.5,IF(OR(L12="m ext",L12="am ext",L12="n ext",L12="n",L12="am",L12="m",L12="j",L12="j ext"),7.5,L12))) -> 7.5 | N12: =IF(L12="","",IF(L12="M EXT",1,IF(L12="N EXT",7.5,IF(L12="5h 17h",1,IF(L12="17h 5h", 7.5,0))))) -> 0 | O12: =+IF($B12="","",VLOOKUP($B12,PLANNING!$C$3:$J20010,Q$1,FALSE)) -> J EXT | P12: =+IF(O12="R","R",IF(OR(O12="5h 17h",O12="17h 5h"),11.5,IF(OR(O12="m ext",O12="am ext",O12="n ext",O12="n",O12="am",O12="m",O12="j",O12="j ext"),7.5,O12))) -> 7.5 | Q12: =IF(O12="","",IF(O12="M EXT",1,IF(O12="N EXT",7.5,IF(O12="5h 17h",1,IF(O12="17h 5h", 7.5,0))))) -> 0 | R12: =+IF($B12="","",VLOOKUP($B12,PLANNING!$C$3:$J20010,T$1,FALSE)) -> R | S12: =+IF(R12="R","R",IF(OR(R12="5h 17h",R12="17h 5h"),11.5,IF(OR(R12="m ext",R12="am ext",R12="n ext",R12="n",R12="am",R12="m",R12="j",R12="j ext"),7.5,R12))) -> R | T12: =IF(R12="","",IF(R12="M EXT",1,IF(R12="N EXT",7.5,IF(R12="5h 17h",1,IF(R12="17h 5h", 7.5,0))))) -> 0 | U12: =+IF($B12="","",VLOOKUP($B12,PLANNING!$C$3:$J20010,W$1,FALSE)) -> R | V12: =+IF(U12="R","R",IF(OR(U12="5h 17h",U12="17h 5h"),11.5,IF(OR(U12="m ext",U12="am ext",U12="n ext",U12="n",U12="am",U12="m",U12="j",U12="j ext"),7.5,U12))) -> R | W12: =IF(U12="","",IF(U12="M EXT",1,IF(U12="N EXT",7.5,IF(U12="5h 17h",1,IF(U12="17h 5h", 7.5,0))))) -> 0
B13: =B12+1 -> 43559 | C13: =+IF($B13="","",VLOOKUP($B13,PLANNING!$C$3:$J20011,E$1,FALSE)) -> CP | D13: =+IF(C13="R","R",IF(OR(C13="5h 17h",C13="17h 5h"),11.5,IF(OR(C13="m ext",C13="am ext",C13="n ext",C13="n",C13="am",C13="m",C13="j",C13="j ext"),7.5,C13))) -> CP | E13: =IF(C13="","",IF(C13="M EXT",1,IF(C13="N EXT",7.5,IF(C13="5h 17h",1,IF(C13="17h 5h", 7.5,0))))) -> 0 | F13: =+IF($B13="","",VLOOKUP($B13,PLANNING!$C$3:$J20011,H$1,FALSE)) -> N EXT | G13: =+IF(F13="R","R",IF(OR(F13="5h 17h",F13="17h 5h"),11.5,IF(OR(F13="m ext",F13="am ext",F13="n ext",F13="n",F13="am",F13="m",F13="j",F13="j ext"),7.5,F13))) -> 7.5 | H13: =IF(F13="","",IF(F13="M EXT",1,IF(F13="N EXT",7.5,IF(F13="5h 17h",1,IF(F13="17h 5h", 7.5,0))))) -> 7.5 | I13: =+IF($B13="","",VLOOKUP($B13,PLANNING!$C$3:$J20011,K$1,FALSE)) -> M EXT | J13: =+IF(I13="R","R",IF(OR(I13="5h 17h",I13="17h 5h"),11.5,IF(OR(I13="m ext",I13="am ext",I13="n ext",I13="n",I13="am",I13="m",I13="j",I13="j ext"),7.5,I13))) -> 7.5 | K13: =IF(I13="","",IF(I13="M EXT",1,IF(I13="N EXT",7.5,IF(I13="5h 17h",1,IF(I13="17h 5h", 7.5,0))))) -> 1 | L13: =+IF($B13="","",VLOOKUP($B13,PLANNING!$C$3:$J20011,N$1,FALSE)) -> AM EXT | M13: =+IF(L13="R","R",IF(OR(L13="5h 17h",L13="17h 5h"),11.5,IF(OR(L13="m ext",L13="am ext",L13="n ext",L13="n",L13="am",L13="m",L13="j",L13="j ext"),7.5,L13))) -> 7.5 | N13: =IF(L13="","",IF(L13="M EXT",1,IF(L13="N EXT",7.5,IF(L13="5h 17h",1,IF(L13="17h 5h", 7.5,0))))) -> 0 | O13: =+IF($B13="","",VLOOKUP($B13,PLANNING!$C$3:$J20011,Q$1,FALSE)) -> J EXT | P13: =+IF(O13="R","R",IF(OR(O13="5h 17h",O13="17h 5h"),11.5,IF(OR(O13="m ext",O13="am ext",O13="n ext",O13="n",O13="am",O13="m",O13="j",O13="j ext"),7.5,O13))) -> 7.5 | Q13: =IF(O13="","",IF(O13="M EXT",1,IF(O13="N EXT",7.5,IF(O13="5h 17h",1,IF(O13="17h 5h", 7.5,0))))) -> 0 | R13: =+IF($B13="","",VLOOKUP($B13,PLANNING!$C$3:$J20011,T$1,FALSE)) -> R | S13: =+IF(R13="R","R",IF(OR(R13="5h 17h",R13="17h 5h"),11.5,IF(OR(R13="m ext",R13="am ext",R13="n ext",R13="n",R13="am",R13="m",R13="j",R13="j ext"),7.5,R13))) -> R | T13: =IF(R13="","",IF(R13="M EXT",1,IF(R13="N EXT",7.5,IF(R13="5h 17h",1,IF(R13="17h 5h", 7.5,0))))) -> 0 | U13: =+IF($B13="","",VLOOKUP($B13,PLANNING!$C$3:$J20011,W$1,FALSE)) -> R | V13: =+IF(U13="R","R",IF(OR(U13="5h 17h",U13="17h 5h"),11.5,IF(OR(U13="m ext",U13="am ext",U13="n ext",U13="n",U13="am",U13="m",U13="j",U13="j ext"),7.5,U13))) -> R | W13: =IF(U13="","",IF(U13="M EXT",1,IF(U13="N EXT",7.5,IF(U13="5h 17h",1,IF(U13="17h 5h", 7.5,0))))) -> 0
B14: =B13+1 -> 43560 | C14: =+IF($B14="","",VLOOKUP($B14,PLANNING!$C$3:$J20012,E$1,FALSE)) -> CP | D14: =+IF(C14="R","R",IF(OR(C14="5h 17h",C14="17h 5h"),11.5,IF(OR(C14="m ext",C14="am ext",C14="n ext",C14="n",C14="am",C14="m",C14="j",C14="j ext"),7.5,C14))) -> CP | E14: =IF(C14="","",IF(C14="M EXT",1,IF(C14="N EXT",7.5,IF(C14="5h 17h",1,IF(C14="17h 5h", 7.5,0))))) -> 0 | F14: =+IF($B14="","",VLOOKUP($B14,PLANNING!$C$3:$J20012,H$1,FALSE)) -> N EXT | G14: =+IF(F14="R","R",IF(OR(F14="5h 17h",F14="17h 5h"),11.5,IF(OR(F14="m ext",F14="am ext",F14="n ext",F14="n",F14="am",F14="m",F14="j",F14="j ext"),7.5,F14))) -> 7.5 | H14: =IF(F14="","",IF(F14="M EXT",1,IF(F14="N EXT",7.5,IF(F14="5h 17h",1,IF(F14="17h 5h", 7.5,0))))) -> 7.5 | I14: =+IF($B14="","",VLOOKUP($B14,PLANNING!$C$3:$J20012,K$1,FALSE)) -> R | J14: =+IF(I14="R","R",IF(OR(I14="5h 17h",I14="17h 5h"),11.5,IF(OR(I14="m ext",I14="am ext",I14="n ext",I14="n",I14="am",I14="m",I14="j",I14="j ext"),7.5,I14))) -> R | K14: =IF(I14="","",IF(I14="M EXT",1,IF(I14="N EXT",7.5,IF(I14="5h 17h",1,IF(I14="17h 5h", 7.5,0))))) -> 0 | L14: =+IF($B14="","",VLOOKUP($B14,PLANNING!$C$3:$J20012,N$1,FALSE)) -> AM EXT | M14: =+IF(L14="R","R",IF(OR(L14="5h 17h",L14="17h 5h"),11.5,IF(OR(L14="m ext",L14="am ext",L14="n ext",L14="n",L14="am",L14="m",L14="j",L14="j ext"),7.5,L14))) -> 7.5 | N14: =IF(L14="","",IF(L14="M EXT",1,IF(L14="N EXT",7.5,IF(L14="5h 17h",1,IF(L14="17h 5h", 7.5,0))))) -> 0 | O14: =+IF($B14="","",VLOOKUP($B14,PLANNING!$C$3:$J20012,Q$1,FALSE)) -> J EXT | P14: =+IF(O14="R","R",IF(OR(O14="5h 17h",O14="17h 5h"),11.5,IF(OR(O14="m ext",O14="am ext",O14="n ext",O14="n",O14="am",O14="m",O14="j",O14="j ext"),7.5,O14))) -> 7.5 | Q14: =IF(O14="","",IF(O14="M EXT",1,IF(O14="N EXT",7.5,IF(O14="5h 17h",1,IF(O14="17h 5h", 7.5,0))))) -> 0 | R14: =+IF($B14="","",VLOOKUP($B14,PLANNING!$C$3:$J20012,T$1,FALSE)) -> M EXT | S14: =+IF(R14="R","R",IF(OR(R14="5h 17h",R14="17h 5h"),11.5,IF(OR(R14="m ext",R14="am ext",R14="n ext",R14="n",R14="am",R14="m",R14="j",R14="j ext"),7.5,R14))) -> 7.5 | T14: =IF(R14="","",IF(R14="M EXT",1,IF(R14="N EXT",7.5,IF(R14="5h 17h",1,IF(R14="17h 5h", 7.5,0))))) -> 1 | U14: =+IF($B14="","",VLOOKUP($B14,PLANNING!$C$3:$J20012,W$1,FALSE)) -> R | V14: =+IF(U14="R","R",IF(OR(U14="5h 17h",U14="17h 5h"),11.5,IF(OR(U14="m ext",U14="am ext",U14="n ext",U14="n",U14="am",U14="m",U14="j",U14="j ext"),7.5,U14))) -> R | W14: =IF(U14="","",IF(U14="M EXT",1,IF(U14="N EXT",7.5,IF(U14="5h 17h",1,IF(U14="17h 5h", 7.5,0))))) -> 0
