Workbook

Sheet PLANNING
A1: SEMAINE | B1: jour | C1: date | D1: JA | E1: SAV | F1: DR | G1: AE | H1: YD | I1: GL | J1: PC | L1: JPB | N1: M EXT | O1: AM EXT | P1: N EXT | Q1: 5h 17h | R1: 17h 5h | S1: verification poste | T1: JA | U1: SAV | V1: DR | W1: AE | X1: YD | Y1: GL | Z1: PC | AA1: verification weekend | AB1: JA | AC1: SAV | AD1: DR | AE1: AE | AF1: YD | AG1: GL | AH1: PC
A2: S1 | B2: lundi | C2: 43465 | D2: R | E2: R | F2: R | G2: CP | H2: M EXT | I2: J EXT | J2: R | N2: =COUNTIF($D2:$L2,N$1) -> 1 | O2: =COUNTIF($D2:$L2,O$1) -> 0 | P2: =COUNTIF($D2:$L2,P$1) -> 0 | Q2: =COUNTIF($D2:$L2,Q$1) -> 0 | R2: =COUNTIF($D2:$L2,R$1) -> 0 | T2: =IF($B2="samedi",IF(D2="r","",IF(D2="","",IF(D2="fe","",IF(D2="cp","",1)))),IF($B2="dimanche",IF(D2="r","",IF(D2="","",IF(D2="fe","",IF(D2="cp","",1)))),"")) | U2: =IF($B2="samedi",IF(E2="r","",IF(E2="","",IF(E2="fe","",IF(E2="cp","",1)))),IF($B2="dimanche",IF(E2="r","",IF(E2="","",IF(E2="fe","",IF(E2="cp","",1)))),"")) | V2: =IF($B2="samedi",IF(F2="r","",IF(F2="","",IF(F2="fe","",IF(F2="cp","",1)))),IF($B2="dimanche",IF(F2="r","",IF(F2="","",IF(F2="fe","",IF(F2="cp","",1)))),"")) | W2: =IF($B2="samedi",IF(G2="r","",IF(G2="","",IF(G2="fe","",IF(G2="cp","",1)))),IF($B2="dimanche",IF(G2="r","",IF(G2="","",IF(G2="fe","",IF(G2="cp","",1)))),"")) | X2: =IF($B2="samedi",IF(H2="r","",IF(H2="","",IF(H2="fe","",IF(H2="cp","",1)))),IF($B2="dimanche",IF(H2="r","",IF(H2="","",IF(H2="fe","",IF(H2="cp","",1)))),"")) | Y2: =IF($B2="samedi",IF(I2="r","",IF(I2="","",IF(I2="fe","",IF(I2="cp","",1)))),IF($B2="dimanche",IF(I2="r","",IF(I2="","",IF(I2="fe","",IF(I2="cp","",1)))),"")) | Z2: =IF($B2="samedi",IF(J2="r","",IF(J2="","",IF(J2="fe","",IF(J2="cp","",1)))),IF($B2="dimanche",IF(J2="r","",IF(J2="","",IF(J2="fe","",IF(J2="cp","",1)))),"")) | AB2: =+IF(T2=1,$C2,"") | AC2: =+IF(U2=1,$C2,"") | AD2: =+IF(V2=1,$C2,"") | AE2: =+IF(W2=1,$C2,"") | AF2: =+IF(X2=1,$C2,"") | AG2: =+IF(Y2=1,$C2,"") | AH2: =+IF(Z2=1,$C2,"")
B3: mardi | C3: 43466 | D3: FE | E3: N EXT | F3: FE | G3: FE | H3: FE | I3: AM EXT | J3: FE | N3: =COUNTIF($D3:$L3,N$1) -> 0 | O3: =COUNTIF($D3:$L3,O$1) -> 1 | P3: =COUNTIF($D3:$L3,P$1) -> 1 | Q3: =COUNTIF($D3:$L3,Q$1) -> 0 | R3: =COUNTIF($D3:$L3,R$1) -> 0 | T3: =IF($B3="samedi",IF(D3="r","",IF(D3="","",IF(D3="fe","",IF(D3="cp","",1)))),IF($B3="dimanche",IF(D3="r","",IF(D3="","",IF(D3="fe","",IF(D3="cp","",1)))),"")) | U3: =IF($B3="samedi",IF(E3="r","",IF(E3="","",IF(E3="fe","",IF(E3="cp","",1)))),IF($B3="dimanche",IF(E3="r","",IF(E3="","",IF(E3="fe","",IF(E3="cp","",1)))),"")) | V3: =IF($B3="samedi",IF(F3="r","",IF(F3="","",IF(F3="fe","",IF(F3="cp","",1)))),IF($B3="dimanche",IF(F3="r","",IF(F3="","",IF(F3="fe","",IF(F3="cp","",1)))),"")) | W3: =IF($B3="samedi",IF(G3="r","",IF(G3="","",IF(G3="fe","",IF(G3="cp","",1)))),IF($B3="dimanche",IF(G3="r","",IF(G3="","",IF(G3="fe","",IF(G3="cp","",1)))),"")) | X3: =IF($B3="samedi",IF(H3="r","",IF(H3="","",IF(H3="fe","",IF(H3="cp","",1)))),IF($B3="dimanche",IF(H3="r","",IF(H3="","",IF(H3="fe","",IF(H3="cp","",1)))),"")) | Y3: =IF($B3="samedi",IF(I3="r","",IF(I3="","",IF(I3="fe","",IF(I3="cp","",1)))),IF($B3="dimanche",IF(I3="r","",IF(I3="","",IF(I3="fe","",IF(I3="cp","",1)))),"")) | Z3: =IF($B3="samedi",IF(J3="r","",IF(J3="","",IF(J3="fe","",IF(J3="cp","",1)))),IF($B3="dimanche",IF(J3="r","",IF(J3="","",IF(J3="fe","",IF(J3="cp","",1)))),"")) | AB3: =+IF(T3=1,$C3,"") | AC3: =+IF(U3=1,$C3,"") | AD3: =+IF(V3=1,$C3,"") | AE3: =+IF(W3=1,$C3,"") | AF3: =+IF(X3=1,$C3,"") | AG3: =+IF(Y3=1,$C3,"") | AH3: =+IF(Z3=1,$C3,"")
B4: mercredi | C4: 43467 | D4: R | E4: N EXT | F4: J EXT | G4: CP | H4: M EXT | I4: AM EXT | J4: R | N4: =COUNTIF($D4:$L4,N$1) -> 1 | O4: =COUNTIF($D4:$L4,O$1) -> 1 | P4: =COUNTIF($D4:$L4,P$1) -> 1 | Q4: =COUNTIF($D4:$L4,Q$1) -> 0 | R4: =COUNTIF($D4:$L4,R$1) -> 0 | T4: =IF($B4="samedi",IF(D4="r","",IF(D4="","",IF(D4="fe","",IF(D4="cp","",1)))),IF($B4="dimanche",IF(D4="r","",IF(D4="","",IF(D4="fe","",IF(D4="cp","",1)))),"")) | U4: =IF($B4="samedi",IF(E4="r","",IF(E4="","",IF(E4="fe","",IF(E4="cp","",1)))),IF($B4="dimanche",IF(E4="r","",IF(E4="","",IF(E4="fe","",IF(E4="cp","",1)))),"")) | V4: =IF($B4="samedi",IF(F4="r","",IF(F4="","",IF(F4="fe","",IF(F4="cp","",1)))),IF($B4="dimanche",IF(F4="r","",IF(F4="","",IF(F4="fe","",IF(F4="cp","",1)))),"")) | W4: =IF($B4="samedi",IF(G4="r","",IF(G4="","",IF(G4="fe","",IF(G4="cp","",1)))),IF($B4="dimanche",IF(G4="r","",IF(G4="","",IF(G4="fe","",IF(G4="cp","",1)))),"")) | X4: =IF($B4="samedi",IF(H4="r","",IF(H4="","",IF(H4="fe","",IF(H4="cp","",1)))),IF($B4="dimanche",IF(H4="r","",IF(H4="","",IF(H4="fe","",IF(H4="cp","",1)))),"")) | Y4: =IF($B4="samedi",IF(I4="r","",IF(I4="","",IF(I4="fe","",IF(I4="cp","",1)))),IF($B4="dimanche",IF(I4="r","",IF(I4="","",IF(I4="fe","",IF(I4="cp","",1)))),"")) | Z4: =IF($B4="samedi",IF(J4="r","",IF(J4="","",IF(J4="fe","",IF(J4="cp","",1)))),IF($B4="dimanche",IF(J4="r","",IF(J4="","",IF(J4="fe","",IF(J4="cp","",1)))),"")) | AB4: =+IF(T4=1,$C4,"") | AC4: =+IF(U4=1,$C4,"") | AD4: =+IF(V4=1,$C4,"") | AE4: =+IF(W4=1,$C4,"") | AF4: =+IF(X4=1,$C4,"") | AG4: =+IF(Y4=1,$C4,"") | AH4: =+IF(Z4=1,$C4,"")
B5: jeudi | C5: 43468 | D5: J EXT | E5: N EXT | F5: J EXT | G5: CP | H5: M EXT | I5: AM EXT | J5: R | L5: J EXT | N5: =COUNTIF($D5:$L5,N$1) -> 1 | O5: =COUNTIF($D5:$L5,O$1) -> 1 | P5: =COUNTIF($D5:$L5,P$1) -> 1 | Q5: =COUNTIF($D5:$L5,Q$1) -> 0 | R5: =COUNTIF($D5:$L5,R$1) -> 0 | T5: =IF($B5="samedi",IF(D5="r","",IF(D5="","",IF(D5="fe","",IF(D5="cp","",1)))),IF($B5="dimanche",IF(D5="r","",IF(D5="","",IF(D5="fe","",IF(D5="cp","",1)))),"")) | U5: =IF($B5="samedi",IF(E5="r","",IF(E5="","",IF(E5="fe","",IF(E5="cp","",1)))),IF($B5="dimanche",IF(E5="r","",IF(E5="","",IF(E5="fe","",IF(E5="cp","",1)))),"")) | V5: =IF($B5="samedi",IF(F5="r","",IF(F5="","",IF(F5="fe","",IF(F5="cp","",1)))),IF($B5="dimanche",IF(F5="r","",IF(F5="","",IF(F5="fe","",IF(F5="cp","",1)))),"")) | W5: =IF($B5="samedi",IF(G5="r","",IF(G5="","",IF(G5="fe","",IF(G5="cp","",1)))),IF($B5="dimanche",IF(G5="r","",IF(G5="","",IF(G5="fe","",IF(G5="cp","",1)))),"")) | X5: =IF($B5="samedi",IF(H5="r","",IF(H5="","",IF(H5="fe","",IF(H5="cp","",1)))),IF($B5="dimanche",IF(H5="r","",IF(H5="","",IF(H5="fe","",IF(H5="cp","",1)))),"")) | Y5: =IF($B5="samedi",IF(I5="r","",IF(I5="","",IF(I5="fe","",IF(I5="cp","",1)))),IF($B5="dimanche",IF(I5="r","",IF(I5="","",IF(I5="fe","",IF(I5="cp","",1)))),"")) | Z5: =IF($B5="samedi",IF(J5="r","",IF(J5="","",IF(J5="fe","",IF(J5="cp","",1)))),IF($B5="dimanche",IF(J5="r","",IF(J5="","",IF(J5="fe","",IF(J5="cp","",1)))),"")) | AB5: =+IF(T5=1,$C5,"") | AC5: =+IF(U5=1,$C5,"") | AD5: =+IF(V5=1,$C5,"") | AE5: =+IF(W5=1,$C5,"") | AF5: =+IF(X5=1,$C5,"") | AG5: =+IF(Y5=1,$C5,"") | AH5: =+IF(Z5=1,$C5,"")
B6: vendredi | C6: 43469 | D6: J EXT | E6: N EXT | F6: J EXT | G6: CP | H6: M EXT | I6: AM EXT | J6: R | L6: J EXT | N6: =COUNTIF($D6:$L6,N$1) -> 1 | O6: =COUNTIF($D6:$L6,O$1) -> 1 | P6: =COUNTIF($D6:$L6,P$1) -> 1 | Q6: =COUNTIF($D6:$L6,Q$1) -> 0 | R6: =COUNTIF($D6:$L6,R$1) -> 0 | T6: =IF($B6="samedi",IF(D6="r","",IF(D6="","",IF(D6="fe","",IF(D6="cp","",1)))),IF($B6="dimanche",IF(D6="r","",IF(D6="","",IF(D6="fe","",IF(D6="cp","",1)))),"")) | U6: =IF($B6="samedi",IF(E6="r","",IF(E6="","",IF(E6="fe","",IF(E6="cp","",1)))),IF($B6="dimanche",IF(E6="r","",IF(E6="","",IF(E6="fe","",IF(E6="cp","",1)))),"")) | V6: =IF($B6="samedi",IF(F6="r","",IF(F6="","",IF(F6="fe","",IF(F6="cp","",1)))),IF($B6="dimanche",IF(F6="r","",IF(F6="","",IF(F6="fe","",IF(F6="cp","",1)))),"")) | W6: =IF($B6="samedi",IF(G6="r","",IF(G6="","",IF(G6="fe","",IF(G6="cp","",1)))),IF($B6="dimanche",IF(G6="r","",IF(G6="","",IF(G6="fe","",IF(G6="cp","",1)))),"")) | X6: =IF($B6="samedi",IF(H6="r","",IF(H6="","",IF(H6="fe","",IF(H6="cp","",1)))),IF($B6="dimanche",IF(H6="r","",IF(H6="","",IF(H6="fe","",IF(H6="cp","",1)))),"")) | Y6: =IF($B6="samedi",IF(I6="r","",IF(I6="","",IF(I6="fe","",IF(I6="cp","",1)))),IF($B6="dimanche",IF(I6="r","",IF(I6="","",IF(I6="fe","",IF(I6="cp","",1)))),"")) | Z6: =IF($B6="samedi",IF(J6="r","",IF(J6="","",IF(J6="fe","",IF(J6="cp","",1)))),IF($B6="dimanche",IF(J6="r","",IF(J6="","",IF(J6="fe","",IF(J6="cp","",1)))),"")) | AB6: =+IF(T6=1,$C6,"") | AC6: =+IF(U6=1,$C6,"") | AD6: =+IF(V6=1,$C6,"") | AE6: =+IF(W6=1,$C6,"") | AF6: =+IF(X6=1,$C6,"") | AG6: =+IF(Y6=1,$C6,"") | AH6: =+IF(Z6=1,$C6,"")
B7: samedi | C7: 43470 | D7: R | E7: R | F7: M EXT | G7: R | H7: R | I7: R | J7: 17H 5H | N7: =COUNTIF($D7:$L7,N$1) -> 1 | O7: =COUNTIF($D7:$L7,O$1) -> 0 | P7: =COUNTIF($D7:$L7,P$1) -> 0 | Q7: =COUNTIF($D7:$L7,Q$1) -> 0 | R7: =COUNTIF($D7:$L7,R$1) -> 1 | T7: =IF($B7="samedi",IF(D7="r","",IF(D7="","",IF(D7="fe","",IF(D7="cp","",1)))),IF($B7="dimanche",IF(D7="r","",IF(D7="","",IF(D7="fe","",IF(D7="cp","",1)))),"")) | U7: =IF($B7="samedi",IF(E7="r","",IF(E7="","",IF(E7="fe","",IF(E7="cp","",1)))),IF($B7="dimanche",IF(E7="r","",IF(E7="","",IF(E7="fe","",IF(E7="cp","",1)))),"")) | V7: =IF($B7="samedi",IF(F7="r","",IF(F7="","",IF(F7="fe","",IF(F7="cp","",1)))),IF($B7="dimanche",IF(F7="r","",IF(F7="","",IF(F7="fe","",IF(F7="cp","",1)))),"")) -> 1 | W7: =IF($B7="samedi",IF(G7="r","",IF(G7="","",IF(G7="fe","",IF(G7="cp","",1)))),IF($B7="dimanche",IF(G7="r","",IF(G7="","",IF(G7="fe","",IF(G7="cp","",1)))),"")) | X7: =IF($B7="samedi",IF(H7="r","",IF(H7="","",IF(H7="fe","",IF(H7="cp","",1)))),IF($B7="dimanche",IF(H7="r","",IF(H7="","",IF(H7="fe","",IF(H7="cp","",1)))),"")) | Y7: =IF($B7="samedi",IF(I7="r","",IF(I7="","",IF(I7="fe","",IF(I7="cp","",1)))),IF($B7="dimanche",IF(I7="r","",IF(I7="","",IF(I7="fe","",IF(I7="cp","",1)))),"")) | Z7: =IF($B7="samedi",IF(J7="r","",IF(J7="","",IF(J7="fe","",IF(J7="cp","",1)))),IF($B7="dimanche",IF(J7="r","",IF(J7="","",IF(J7="fe","",IF(J7="cp","",1)))),"")) -> 1 | AB7: =+IF(T7=1,$C7,"") | AC7: =+IF(U7=1,$C7,"") | AD7: =+IF(V7=1,$C7,"") -> 43470 | AE7: =+IF(W7=1,$C7,"") | AF7: =+IF(X7=1,$C7,"") | AG7: =+IF(Y7=1,$C7,"") | AH7: =+IF(Z7=1,$C7,"") -> 43470
B8: dimanche | C8: 43471 | D8: R | E8: R | F8: M EXT | G8: R | H8: R | I8: R | J8: 17H 5H | N8: =COUNTIF($D8:$L8,N$1) -> 1 | O8: =COUNTIF($D8:$L8,O$1) -> 0 | P8: =COUNTIF($D8:$L8,P$1) -> 0 | Q8: =COUNTIF($D8:$L8,Q$1) -> 0 | R8: =COUNTIF($D8:$L8,R$1) -> 1 | T8: =IF($B8="samedi",IF(D8="r","",IF(D8="","",IF(D8="fe","",IF(D8="cp","",1)))),IF($B8="dimanche",IF(D8="r","",IF(D8="","",IF(D8="fe","",IF(D8="cp","",1)))),"")) | U8: =IF($B8="samedi",IF(E8="r","",IF(E8="","",IF(E8="fe","",IF(E8="cp","",1)))),IF($B8="dimanche",IF(E8="r","",IF(E8="","",IF(E8="fe","",IF(E8="cp","",1)))),"")) | V8: =IF($B8="samedi",IF(F8="r","",IF(F8="","",IF(F8="fe","",IF(F8="cp","",1)))),IF($B8="dimanche",IF(F8="r","",IF(F8="","",IF(F8="fe","",IF(F8="cp","",1)))),"")) -> 1 | W8: =IF($B8="samedi",IF(G8="r","",IF(G8="","",IF(G8="fe","",IF(G8="cp","",1)))),IF($B8="dimanche",IF(G8="r","",IF(G8="","",IF(G8="fe","",IF(G8="cp","",1)))),"")) | X8: =IF($B8="samedi",IF(H8="r","",IF(H8="","",IF(H8="fe","",IF(H8="cp","",1)))),IF($B8="dimanche",IF(H8="r","",IF(H8="","",IF(H8="fe","",IF(H8="cp","",1)))),"")) | Y8: =IF($B8="samedi",IF(I8="r","",IF(I8="","",IF(I8="fe","",IF(I8="cp","",1)))),IF($B8="dimanche",IF(I8="r","",IF(I8="","",IF(I8="fe","",IF(I8="cp","",1)))),"")) | Z8: =IF($B8="samedi",IF(J8="r","",IF(J8="","",IF(J8="fe","",IF(J8="cp","",1)))),IF($B8="dimanche",IF(J8="r","",IF(J8="","",IF(J8="fe","",IF(J8="cp","",1)))),"")) -> 1 | AB8: =+IF(T8=1,$C8,"") | AC8: =+IF(U8=1,$C8,"") | AD8: =+IF(V8=1,$C8,"") -> 43471 | AE8: =+IF(W8=1,$C8,"") | AF8: =+IF(X8=1,$C8,"") | AG8: =+IF(Y8=1,$C8,"") | AH8: =+IF(Z8=1,$C8,"") -> 43471
A9: S2 | B9: lundi | C9: 43472 | D9: J EXT | E9: M EXT | F9: R | G9: R | H9: N EXT | I9: AM EXT | J9: R | N9: =COUNTIF($D9:$L9,N$1) -> 1 | O9: =COUNTIF($D9:$L9,O$1) -> 1 | P9: =COUNTIF($D9:$L9,P$1) -> 1 | Q9: =COUNTIF($D9:$L9,Q$1) -> 0 | R9: =COUNTIF($D9:$L9,R$1) -> 0 | T9: =IF($B9="samedi",IF(D9="r","",IF(D9="","",IF(D9="fe","",IF(D9="cp","",1)))),IF($B9="dimanche",IF(D9="r","",IF(D9="","",IF(D9="fe","",IF(D9="cp","",1)))),"")) | U9: =IF($B9="samedi",IF(E9="r","",IF(E9="","",IF(E9="fe","",IF(E9="cp","",1)))),IF($B9="dimanche",IF(E9="r","",IF(E9="","",IF(E9="fe","",IF(E9="cp","",1)))),"")) | V9: =IF($B9="samedi",IF(F9="r","",IF(F9="","",IF(F9="fe","",IF(F9="cp","",1)))),IF($B9="dimanche",IF(F9="r","",IF(F9="","",IF(F9="fe","",IF(F9="cp","",1)))),"")) | W9: =IF($B9="samedi",IF(G9="r","",IF(G9="","",IF(G9="fe","",IF(G9="cp","",1)))),IF($B9="dimanche",IF(G9="r","",IF(G9="","",IF(G9="fe","",IF(G9="cp","",1)))),"")) | X9: =IF($B9="samedi",IF(H9="r","",IF(H9="","",IF(H9="fe","",IF(H9="cp","",1)))),IF($B9="dimanche",IF(H9="r","",IF(H9="","",IF(H9="fe","",IF(H9="cp","",1)))),"")) | Y9: =IF($B9="samedi",IF(I9="r","",IF(I9="","",IF(I9="fe","",IF(I9="cp","",1)))),IF($B9="dimanche",IF(I9="r","",IF(I9="","",IF(I9="fe","",IF(I9="cp","",1)))),"")) | Z9: =IF($B9="samedi",IF(J9="r","",IF(J9="","",IF(J9="fe","",IF(J9="cp","",1)))),IF($B9="dimanche",IF(J9="r","",IF(J9="","",IF(J9="fe","",IF(J9="cp","",1)))),"")) | AB9: =+IF(T9=1,$C9,"") | AC9: =+IF(U9=1,$C9,"") | AD9: =+IF(V9=1,$C9,"") | AE9: =+IF(W9=1,$C9,"") | AF9: =+IF(X9=1,$C9,"") | AG9: =+IF(Y9=1,$C9,"") | AH9: =+IF(Z9=1,$C9,"")
B10: mardi | C10: 43473 | D10: J EXT | E10: M EXT | F10: R | G10: R | H10: N EXT | I10: AM EXT | J10: R | N10: =COUNTIF($D10:$L10,N$1) -> 1 | O10: =COUNTIF($D10:$L10,O$1) -> 1 | P10: =COUNTIF($D10:$L10,P$1) -> 1 | Q10: =COUNTIF($D10:$L10,Q$1) -> 0 | R10: =COUNTIF($D10:$L10,R$1) -> 0 | T10: =IF($B10="samedi",IF(D10="r","",IF(D10="","",IF(D10="fe","",IF(D10="cp","",1)))),IF($B10="dimanche",IF(D10="r","",IF(D10="","",IF(D10="fe","",IF(D10="cp","",1)))),"")) | U10: =IF($B10="samedi",IF(E10="r","",IF(E10="","",IF(E10="fe","",IF(E10="cp","",1)))),IF($B10="dimanche",IF(E10="r","",IF(E10="","",IF(E10="fe","",IF(E10="cp","",1)))),"")) | V10: =IF($B10="samedi",IF(F10="r","",IF(F10="","",IF(F10="fe","",IF(F10="cp","",1)))),IF($B10="dimanche",IF(F10="r","",IF(F10="","",IF(F10="fe","",IF(F10="cp","",1)))),"")) | W10: =IF($B10="samedi",IF(G10="r","",IF(G10="","",IF(G10="fe","",IF(G10="cp","",1)))),IF($B10="dimanche",IF(G10="r","",IF(G10="","",IF(G10="fe","",IF(G10="cp","",1)))),"")) | X10: =IF($B10="samedi",IF(H10="r","",IF(H10="","",IF(H10="fe","",IF(H10="cp","",1)))),IF($B10="dimanche",IF(H10="r","",IF(H10="","",IF(H10="fe","",IF(H10="cp","",1)))),"")) | Y10: =IF($B10="samedi",IF(I10="r","",IF(I10="","",IF(I10="fe","",IF(I10="cp","",1)))),IF($B10="dimanche",IF(I10="r","",IF(I10="","",IF(I10="fe","",IF(I10="cp","",1)))),"")) | Z10: =IF($B10="samedi",IF(J10="r","",IF(J10="","",IF(J10="fe","",IF(J10="cp","",1)))),IF($B10="dimanche",IF(J10="r","",IF(J10="","",IF(J10="fe","",IF(J10="cp","",1)))),"")) | AB10: =+IF(T10=1,$C10,"") | AC10: =+IF(U10=1,$C10,"") | AD10: =+IF(V10=1,$C10,"") | AE10: =+IF(W10=1,$C10,"") | AF10: =+IF(X10=1,$C10,"") | AG10: =+IF(Y10=1,$C10,"") | AH10: =+IF(Z10=1,$C10,"")
B11: mercredi | C11: 43474 | D11: J EXT | E11: M EXT | F11: AM EXT | G11: J EXT | H11: N EXT | I11: R | J11: R | N11: =COUNTIF($D11:$L11,N$1) -> 1 | O11: =COUNTIF($D11:$L11,O$1) -> 1 | P11: =COUNTIF($D11:$L11,P$1) -> 1 | Q11: =COUNTIF($D11:$L11,Q$1) -> 0 | R11: =COUNTIF($D11:$L11,R$1) -> 0 | T11: =IF($B11="samedi",IF(D11="r","",IF(D11="","",IF(D11="fe","",IF(D11="cp","",1)))),IF($B11="dimanche",IF(D11="r","",IF(D11="","",IF(D11="fe","",IF(D11="cp","",1)))),"")) | U11: =IF($B11="samedi",IF(E11="r","",IF(E11="","",IF(E11="fe","",IF(E11="cp","",1)))),IF($B11="dimanche",IF(E11="r","",IF(E11="","",IF(E11="fe","",IF(E11="cp","",1)))),"")) | V11: =IF($B11="samedi",IF(F11="r","",IF(F11="","",IF(F11="fe","",IF(F11="cp","",1)))),IF($B11="dimanche",IF(F11="r","",IF(F11="","",IF(F11="fe","",IF(F11="cp","",1)))),"")) | W11: =IF($B11="samedi",IF(G11="r","",IF(G11="","",IF(G11="fe","",IF(G11="cp","",1)))),IF($B11="dimanche",IF(G11="r","",IF(G11="","",IF(G11="fe","",IF(G11="cp","",1)))),"")) | X11: =IF($B11="samedi",IF(H11="r","",IF(H11="","",IF(H11="fe","",IF(H11="cp","",1)))),IF($B11="dimanche",IF(H11="r","",IF(H11="","",IF(H11="fe","",IF(H11="cp","",1)))),"")) | Y11: =IF($B11="samedi",IF(I11="r","",IF(I11="","",IF(I11="fe","",IF(I11="cp","",1)))),IF($B11="dimanche",IF(I11="r","",IF(I11="","",IF(I11="fe","",IF(I11="cp","",1)))),"")) | Z11: =IF($B11="samedi",IF(J11="r","",IF(J11="","",IF(J11="fe","",IF(J11="cp","",1)))),IF($B11="dimanche",IF(J11="r","",IF(J11="","",IF(J11="fe","",IF(J11="cp","",1)))),"")) | AB11: =+IF(T11=1,$C11,"") | AC11: =+IF(U11=1,$C11,"") | AD11: =+IF(V11=1,$C11,"") | AE11: =+IF(W11=1,$C11,"") | AF11: =+IF(X11=1,$C11,"") | AG11: =+IF(Y11=1,$C11,"") | AH11: =+IF(Z11=1,$C11,"")
B12: jeudi | C12: 43475 | D12: J EXT | E12: M EXT | F12: AM EXT | G12: J EXT | H12: N EXT | I12: R | J12: R | N12: =COUNTIF($D12:$L12,N$1) -> 1 | O12: =COUNTIF($D12:$L12,O$1) -> 1 | P12: =COUNTIF($D12:$L12,P$1) -> 1 | Q12: =COUNTIF($D12:$L12,Q$1) -> 0 | R12: =COUNTIF($D12:$L12,R$1) -> 0 | T12: =IF($B12="samedi",IF(D12="r","",IF(D12="","",IF(D12="fe","",IF(D12="cp","",1)))),IF($B12="dimanche",IF(D12="r","",IF(D12="","",IF(D12="fe","",IF(D12="cp","",1)))),"")) | U12: =IF($B12="samedi",IF(E12="r","",IF(E12="","",IF(E12="fe","",IF(E12="cp","",1)))),IF($B12="dimanche",IF(E12="r","",IF(E12="","",IF(E12="fe","",IF(E12="cp","",1)))),"")) | V12: =IF($B12="samedi",IF(F12="r","",IF(F12="","",IF(F12="fe","",IF(F12="cp","",1)))),IF($B12="dimanche",IF(F12="r","",IF(F12="","",IF(F12="fe","",IF(F12="cp","",1)))),"")) | W12: =IF($B12="samedi",IF(G12="r","",IF(G12="","",IF(G12="fe","",IF(G12="cp","",1)))),IF($B12="dimanche",IF(G12="r","",IF(G12="","",IF(G12="fe","",IF(G12="cp","",1)))),"")) | X12: =IF($B12="samedi",IF(H12="r","",IF(H12="","",IF(H12="fe","",IF(H12="cp","",1)))),IF($B12="dimanche",IF(H12="r","",IF(H12="","",IF(H12="fe","",IF(H12="cp","",1)))),"")) | Y12: =IF($B12="samedi",IF(I12="r","",IF(I12="","",IF(I12="fe","",IF(I12="cp","",1)))),IF($B12="dimanche",IF(I12="r","",IF(I12="","",IF(I12="fe","",IF(I12="cp","",1)))),"")) | Z12: =IF($B12="samedi",IF(J12="r","",IF(J12="","",IF(J12="fe","",IF(J12="cp","",1)))),IF($B12="dimanche",IF(J12="r","",IF(J12="","",IF(J12="fe","",IF(J12="cp","",1)))),"")) | AB12: =+IF(T12=1,$C12,"") | AC12: =+IF(U12=1,$C12,"") | AD12: =+IF(V12=1,$C12,"") | AE12: =+IF(W12=1,$C12,"") | AF12: =+IF(X12=1,$C12,"") | AG12: =+IF(Y12=1,$C12,"") | AH12: =+IF(Z12=1,$C12,"")
B13: vendredi | C13: 43476 | D13: J EXT | E13: R | F13: AM EXT | G13: J EXT | H13: N EXT | I13: M EXT | J13: R | N13: =COUNTIF($D13:$L13,N$1) -> 1 | O13: =COUNTIF($D13:$L13,O$1) -> 1 | P13: =COUNTIF($D13:$L13,P$1) -> 1 | Q13: =COUNTIF($D13:$L13,Q$1) -> 0 | R13: =COUNTIF($D13:$L13,R$1) -> 0 | T13: =IF($B13="samedi",IF(D13="r","",IF(D13="","",IF(D13="fe","",IF(D13="cp","",1)))),IF($B13="dimanche",IF(D13="r","",IF(D13="","",IF(D13="fe","",IF(D13="cp","",1)))),"")) | U13: =IF($B13="samedi",IF(E13="r","",IF(E13="","",IF(E13="fe","",IF(E13="cp","",1)))),IF($B13="dimanche",IF(E13="r","",IF(E13="","",IF(E13="fe","",IF(E13="cp","",1)))),"")) | V13: =IF($B13="samedi",IF(F13="r","",IF(F13="","",IF(F13="fe","",IF(F13="cp","",1)))),IF($B13="dimanche",IF(F13="r","",IF(F13="","",IF(F13="fe","",IF(F13="cp","",1)))),"")) | W13: =IF($B13="samedi",IF(G13="r","",IF(G13="","",IF(G13="fe","",IF(G13="cp","",1)))),IF($B13="dimanche",IF(G13="r","",IF(G13="","",IF(G13="fe","",IF(G13="cp","",1)))),"")) | X13: =IF($B13="samedi",IF(H13="r","",IF(H13="","",IF(H13="fe","",IF(H13="cp","",1)))),IF($B13="dimanche",IF(H13="r","",IF(H13="","",IF(H13="fe","",IF(H13="cp","",1)))),"")) | Y13: =IF($B13="samedi",IF(I13="r","",IF(I13="","",IF(I13="fe","",IF(I13="cp","",1)))),IF($B13="dimanche",IF(I13="r","",IF(I13="","",IF(I13="fe","",IF(I13="cp","",1)))),"")) | Z13: =IF($B13="samedi",IF(J13="r","",IF(J13="","",IF(J13="fe","",IF(J13="cp","",1)))),IF($B13="dimanche",IF(J13="r","",IF(J13="","",IF(J13="fe","",IF(J13="cp","",1)))),"")) | AB13: =+IF(T13=1,$C13,"") | AC13: =+IF(U13=1,$C13,"") | AD13: =+IF(V13=1,$C13,"") | AE13: =+IF(W13=1,$C13,"") | AF13: =+IF(X13=1,$C13,"") | AG13: =+IF(Y13=1,$C13,"") | AH13: =+IF(Z13=1,$C13,"")
B14: samedi | C14: 43477 | D14: R | E14: R | F14: R | G14: R | H14: R | I14: M EXT | J14: 17H 5H | N14: =COUNTIF($D14:$L14,N$1) -> 1 | O14: =COUNTIF($D14:$L14,O$1) -> 0 | P14: =COUNTIF($D14:$L14,P$1) -> 0 | Q14: =COUNTIF($D14:$L14,Q$1) -> 0 | R14: =COUNTIF($D14:$L14,R$1) -> 1 | T14: =IF($B14="samedi",IF(D14="r","",IF(D14="","",IF(D14="fe","",IF(D14="cp","",1)))),IF($B14="dimanche",IF(D14="r","",IF(D14="","",IF(D14="fe","",IF(D14="cp","",1)))),"")) | U14: =IF($B14="samedi",IF(E14="r","",IF(E14="","",IF(E14="fe","",IF(E14="cp","",1)))),IF($B14="dimanche",IF(E14="r","",IF(E14="","",IF(E14="fe","",IF(E14="cp","",1)))),"")) | V14: =IF($B14="samedi",IF(F14="r","",IF(F14="","",IF(F14="fe","",IF(F14="cp","",1)))),IF($B14="dimanche",IF(F14="r","",IF(F14="","",IF(F14="fe","",IF(F14="cp","",1)))),"")) | W14: =IF($B14="samedi",IF(G14="r","",IF(G14="","",IF(G14="fe","",IF(G14="cp","",1)))),IF($B14="dimanche",IF(G14="r","",IF(G14="","",IF(G14="fe","",IF(G14="cp","",1)))),"")) | X14: =IF($B14="samedi",IF(H14="r","",IF(H14="","",IF(H14="fe","",IF(H14="cp","",1)))),IF($B14="dimanche",IF(H14="r","",IF(H14="","",IF(H14="fe","",IF(H14="cp","",1)))),"")) | Y14: =IF($B14="samedi",IF(I14="r","",IF(I14="","",IF(I14="fe","",IF(I14="cp","",1)))),IF($B14="dimanche",IF(I14="r","",IF(I14="","",IF(I14="fe","",IF(I14="cp","",1)))),"")) -> 1 | Z14: =IF($B14="samedi",IF(J14="r","",IF(J14="","",IF(J14="fe","",IF(J14="cp","",1)))),IF($B14="dimanche",IF(J14="r","",IF(J14="","",IF(J14="fe","",IF(J14="cp","",1)))),"")) -> 1 | AB14: =+IF(T14=1,$C14,"") | AC14: =+IF(U14=1,$C14,"") | AD14: =+IF(V14=1,$C14,"") | AE14: =+IF(W14=1,$C14,"") | AF14: =+IF(X14=1,$C14,"") | AG14: =+IF(Y14=1,$C14,"") -> 43477 | AH14: =+IF(Z14=1,$C14,"") -> 43477
B15: dimanche | C15: 43478 | D15: R | E15: R | F15: R | G15: R | H15: R | I15: M EXT | J15: 17H 5H | N15: =COUNTIF($D15:$L15,N$1) -> 1 | O15: =COUNTIF($D15:$L15,O$1) -> 0 | P15: =COUNTIF($D15:$L15,P$1) -> 0 | Q15: =COUNTIF($D15:$L15,Q$1) -> 0 | R15: =COUNTIF($D15:$L15,R$1) -> 1 | T15: =IF($B15="samedi",IF(D15="r","",IF(D15="","",IF(D15="fe","",IF(D15="cp","",1)))),IF($B15="dimanche",IF(D15="r","",IF(D15="","",IF(D15="fe","",IF(D15="cp","",1)))),"")) | U15: =IF($B15="samedi",IF(E15="r","",IF(E15="","",IF(E15="fe","",IF(E15="cp","",1)))),IF($B15="dimanche",IF(E15="r","",IF(E15="","",IF(E15="fe","",IF(E15="cp","",1)))),"")) | V15: =IF($B15="samedi",IF(F15="r","",IF(F15="","",IF(F15="fe","",IF(F15="cp","",1)))),IF($B15="dimanche",IF(F15="r","",IF(F15="","",IF(F15="fe","",IF(F15="cp","",1)))),"")) | W15: =IF($B15="samedi",IF(G15="r","",IF(G15="","",IF(G15="fe","",IF(G15="cp","",1)))),IF($B15="dimanche",IF(G15="r","",IF(G15="","",IF(G15="fe","",IF(G15="cp","",1)))),"")) | X15: =IF($B15="samedi",IF(H15="r","",IF(H15="","",IF(H15="fe","",IF(H15="cp","",1)))),IF($B15="dimanche",IF(H15="r","",IF(H15="","",IF(H15="fe","",IF(H15="cp","",1)))),"")) | Y15: =IF($B15="samedi",IF(I15="r","",IF(I15="","",IF(I15="fe","",IF(I15="cp","",1)))),IF($B15="dimanche",IF(I15="r","",IF(I15="","",IF(I15="fe","",IF(I15="cp","",1)))),"")) -> 1 | Z15: =IF($B15="samedi",IF(J15="r","",IF(J15="","",IF(J15="fe","",IF(J15="cp","",1)))),IF($B15="dimanche",IF(J15="r","",IF(J15="","",IF(J15="fe","",IF(J15="cp","",1)))),"")) -> 1 | AB15: =+IF(T15=1,$C15,"") | AC15: =+IF(U15=1,$C15,"") | AD15: =+IF(V15=1,$C15,"") | AE15: =+IF(W15=1,$C15,"") | AF15: =+IF(X15=1,$C15,"") | AG15: =+IF(Y15=1,$C15,"") -> 43478 | AH15: =+IF(Z15=1,$C15,"") -> 43478
A16: S3 | B16: lundi | C16: 43479 | D16: J EXT | E16: N EXT | F16: J EXT | G16: AM EXT | H16: J EXT | I16: M EXT | J16: R | N16: =COUNTIF($D16:$L16,N$1) -> 1 | O16: =COUNTIF($D16:$L16,O$1) -> 1 | P16: =COUNTIF($D16:$L16,P$1) -> 1 | Q16: =COUNTIF($D16:$L16,Q$1) -> 0 | R16: =COUNTIF($D16:$L16,R$1) -> 0 | T16: =IF($B16="samedi",IF(D16="r","",IF(D16="","",IF(D16="fe","",IF(D16="cp","",1)))),IF($B16="dimanche",IF(D16="r","",IF(D16="","",IF(D16="fe","",IF(D16="cp","",1)))),"")) | U16: =IF($B16="samedi",IF(E16="r","",IF(E16="","",IF(E16="fe","",IF(E16="cp","",1)))),IF($B16="dimanche",IF(E16="r","",IF(E16="","",IF(E16="fe","",IF(E16="cp","",1)))),"")) | V16: =IF($B16="samedi",IF(F16="r","",IF(F16="","",IF(F16="fe","",IF(F16="cp","",1)))),IF($B16="dimanche",IF(F16="r","",IF(F16="","",IF(F16="fe","",IF(F16="cp","",1)))),"")) | W16: =IF($B16="samedi",IF(G16="r","",IF(G16="","",IF(G16="fe","",IF(G16="cp","",1)))),IF($B16="dimanche",IF(G16="r","",IF(G16="","",IF(G16="fe","",IF(G16="cp","",1)))),"")) | X16: =IF($B16="samedi",IF(H16="r","",IF(H16="","",IF(H16="fe","",IF(H16="cp","",1)))),IF($B16="dimanche",IF(H16="r","",IF(H16="","",IF(H16="fe","",IF(H16="cp","",1)))),"")) | Y16: =IF($B16="samedi",IF(I16="r","",IF(I16="","",IF(I16="fe","",IF(I16="cp","",1)))),IF($B16="dimanche",IF(I16="r","",IF(I16="","",IF(I16="fe","",IF(I16="cp","",1)))),"")) | Z16: =IF($B16="samedi",IF(J16="r","",IF(J16="","",IF(J16="fe","",IF(J16="cp","",1)))),IF($B16="dimanche",IF(J16="r","",IF(J16="","",IF(J16="fe","",IF(J16="cp","",1)))),"")) | AB16: =+IF(T16=1,$C16,"") | AC16: =+IF(U16=1,$C16,"") | AD16: =+IF(V16=1,$C16,"") | AE16: =+IF(W16=1,$C16,"") | AF16: =+IF(X16=1,$C16,"") | AG16: =+IF(Y16=1,$C16,"") | AH16: =+IF(Z16=1,$C16,"")
B17: mardi | C17: 43480 | D17: J EXT | E17: N EXT | F17: J EXT | G17: AM EXT | H17: J EXT | I17: M EXT | J17: R | N17: =COUNTIF($D17:$L17,N$1) -> 1 | O17: =COUNTIF($D17:$L17,O$1) -> 1 | P17: =COUNTIF($D17:$L17,P$1) -> 1 | Q17: =COUNTIF($D17:$L17,Q$1) -> 0 | R17: =COUNTIF($D17:$L17,R$1) -> 0 | T17: =IF($B17="samedi",IF(D17="r","",IF(D17="","",IF(D17="fe","",IF(D17="cp","",1)))),IF($B17="dimanche",IF(D17="r","",IF(D17="","",IF(D17="fe","",IF(D17="cp","",1)))),"")) | U17: =IF($B17="samedi",IF(E17="r","",IF(E17="","",IF(E17="fe","",IF(E17="cp","",1)))),IF($B17="dimanche",IF(E17="r","",IF(E17="","",IF(E17="fe","",IF(E17="cp","",1)))),"")) | V17: =IF($B17="samedi",IF(F17="r","",IF(F17="","",IF(F17="fe","",IF(F17="cp","",1)))),IF($B17="dimanche",IF(F17="r","",IF(F17="","",IF(F17="fe","",IF(F17="cp","",1)))),"")) | W17: =IF($B17="samedi",IF(G17="r","",IF(G17="","",IF(G17="fe","",IF(G17="cp","",1)))),IF($B17="dimanche",IF(G17="r","",IF(G17="","",IF(G17="fe","",IF(G17="cp","",1)))),"")) | X17: =IF($B17="samedi",IF(H17="r","",IF(H17="","",IF(H17="fe","",IF(H17="cp","",1)))),IF($B17="dimanche",IF(H17="r","",IF(H17="","",IF(H17="fe","",IF(H17="cp","",1)))),"")) | Y17: =IF($B17="samedi",IF(I17="r","",IF(I17="","",IF(I17="fe","",IF(I17="cp","",1)))),IF($B17="dimanche",IF(I17="r","",IF(I17="","",IF(I17="fe","",IF(I17="cp","",1)))),"")) | Z17: =IF($B17="samedi",IF(J17="r","",IF(J17="","",IF(J17="fe","",IF(J17="cp","",1)))),IF($B17="dimanche",IF(J17="r","",IF(J17="","",IF(J17="fe","",IF(J17="cp","",1)))),"")) | AB17: =+IF(T17=1,$C17,"") | AC17: =+IF(U17=1,$C17,"") | AD17: =+IF(V17=1,$C17,"") | AE17: =+IF(W17=1,$C17,"") | AF17: =+IF(X17=1,$C17,"") | AG17: =+IF(Y17=1,$C17,"") | AH17: =+IF(Z17=1,$C17,"")
B18: mercredi | C18: 43481 | D18: J EXT | E18: N EXT | F18: MAL | G18: AM EXT | H18: M EXT | I18: R | J18: R | N18: =COUNTIF($D18:$L18,N$1) -> 1 | O18: =COUNTIF($D18:$L18,O$1) -> 1 | P18: =COUNTIF($D18:$L18,P$1) -> 1 | Q18: =COUNTIF($D18:$L18,Q$1) -> 0 | R18: =COUNTIF($D18:$L18,R$1) -> 0 | T18: =IF($B18="samedi",IF(D18="r","",IF(D18="","",IF(D18="fe","",IF(D18="cp","",1)))),IF($B18="dimanche",IF(D18="r","",IF(D18="","",IF(D18="fe","",IF(D18="cp","",1)))),"")) | U18: =IF($B18="samedi",IF(E18="r","",IF(E18="","",IF(E18="fe","",IF(E18="cp","",1)))),IF($B18="dimanche",IF(E18="r","",IF(E18="","",IF(E18="fe","",IF(E18="cp","",1)))),"")) | V18: =IF($B18="samedi",IF(F18="r","",IF(F18="","",IF(F18="fe","",IF(F18="cp","",1)))),IF($B18="dimanche",IF(F18="r","",IF(F18="","",IF(F18="fe","",IF(F18="cp","",1)))),"")) | W18: =IF($B18="samedi",IF(G18="r","",IF(G18="","",IF(G18="fe","",IF(G18="cp","",1)))),IF($B18="dimanche",IF(G18="r","",IF(G18="","",IF(G18="fe","",IF(G18="cp","",1)))),"")) | X18: =IF($B18="samedi",IF(H18="r","",IF(H18="","",IF(H18="fe","",IF(H18="cp","",1)))),IF($B18="dimanche",IF(H18="r","",IF(H18="","",IF(H18="fe","",IF(H18="cp","",1)))),"")) | Y18: =IF($B18="samedi",IF(I18="r","",IF(I18="","",IF(I18="fe","",IF(I18="cp","",1)))),IF($B18="dimanche",IF(I18="r","",IF(I18="","",IF(I18="fe","",IF(I18="cp","",1)))),"")) | Z18: =IF($B18="samedi",IF(J18="r","",IF(J18="","",IF(J18="fe","",IF(J18="cp","",1)))),IF($B18="dimanche",IF(J18="r","",IF(J18="","",IF(J18="fe","",IF(J18="cp","",1)))),"")) | AB18: =+IF(T18=1,$C18,"") | AC18: =+IF(U18=1,$C18,"") | AD18: =+IF(V18=1,$C18,"") | AE18: =+IF(W18=1,$C18,"") | AF18: =+IF(X18=1,$C18,"") | AG18: =+IF(Y18=1,$C18,"") | AH18: =+IF(Z18=1,$C18,"")
B19: jeudi | C19: 43482 | D19: J EXT | E19: R | F19: MAL | G19: AM EXT | H19: J EXT | I19: N EXT | J19: R | N19: =COUNTIF($D19:$L19,N$1) -> 0 | O19: =COUNTIF($D19:$L19,O$1) -> 1 | P19: =COUNTIF($D19:$L19,P$1) -> 1 | Q19: =COUNTIF($D19:$L19,Q$1) -> 0 | R19: =COUNTIF($D19:$L19,R$1) -> 0 | T19: =IF($B19="samedi",IF(D19="r","",IF(D19="","",IF(D19="fe","",IF(D19="cp","",1)))),IF($B19="dimanche",IF(D19="r","",IF(D19="","",IF(D19="fe","",IF(D19="cp","",1)))),"")) | U19: =IF($B19="samedi",IF(E19="r","",IF(E19="","",IF(E19="fe","",IF(E19="cp","",1)))),IF($B19="dimanche",IF(E19="r","",IF(E19="","",IF(E19="fe","",IF(E19="cp","",1)))),"")) | V19: =IF($B19="samedi",IF(F19="r","",IF(F19="","",IF(F19="fe","",IF(F19="cp","",1)))),IF($B19="dimanche",IF(F19="r","",IF(F19="","",IF(F19="fe","",IF(F19="cp","",1)))),"")) | W19: =IF($B19="samedi",IF(G19="r","",IF(G19="","",IF(G19="fe","",IF(G19="cp","",1)))),IF($B19="dimanche",IF(G19="r","",IF(G19="","",IF(G19="fe","",IF(G19="cp","",1)))),"")) | X19: =IF($B19="samedi",IF(H19="r","",IF(H19="","",IF(H19="fe","",IF(H19="cp","",1)))),IF($B19="dimanche",IF(H19="r","",IF(H19="","",IF(H19="fe","",IF(H19="cp","",1)))),"")) | Y19: =IF($B19="samedi",IF(I19="r","",IF(I19="","",IF(I19="fe","",IF(I19="cp","",1)))),IF($B19="dimanche",IF(I19="r","",IF(I19="","",IF(I19="fe","",IF(I19="cp","",1)))),"")) | Z19: =IF($B19="samedi",IF(J19="r","",IF(J19="","",IF(J19="fe","",IF(J19="cp","",1)))),IF($B19="dimanche",IF(J19="r","",IF(J19="","",IF(J19="fe","",IF(J19="cp","",1)))),"")) | AB19: =+IF(T19=1,$C19,"") | AC19: =+IF(U19=1,$C19,"") | AD19: =+IF(V19=1,$C19,"") | AE19: =+IF(W19=1,$C19,"") | AF19: =+IF(X19=1,$C19,"") | AG19: =+IF(Y19=1,$C19,"") | AH19: =+IF(Z19=1,$C19,"")
B20: vendredi | C20: 43483 | D20: J EXT | E20: R | F20: M EXT | G20: AM EXT | H20: J EXT | I20: N EXT | J20: R | N20: =COUNTIF($D20:$L20,N$1) -> 1 | O20: =COUNTIF($D20:$L20,O$1) -> 1 | P20: =COUNTIF($D20:$L20,P$1) -> 1 | Q20: =COUNTIF($D20:$L20,Q$1) -> 0 | R20: =COUNTIF($D20:$L20,R$1) -> 0 | T20: =IF($B20="samedi",IF(D20="r","",IF(D20="","",IF(D20="fe","",IF(D20="cp","",1)))),IF($B20="dimanche",IF(D20="r","",IF(D20="","",IF(D20="fe","",IF(D20="cp","",1)))),"")) | U20: =IF($B20="samedi",IF(E20="r","",IF(E20="","",IF(E20="fe","",IF(E20="cp","",1)))),IF($B20="dimanche",IF(E20="r","",IF(E20="","",IF(E20="fe","",IF(E20="cp","",1)))),"")) | V20: =IF($B20="samedi",IF(F20="r","",IF(F20="","",IF(F20="fe","",IF(F20="cp","",1)))),IF($B20="dimanche",IF(F20="r","",IF(F20="","",IF(F20="fe","",IF(F20="cp","",1)))),"")) | W20: =IF($B20="samedi",IF(G20="r","",IF(G20="","",IF(G20="fe","",IF(G20="cp","",1)))),IF($B20="dimanche",IF(G20="r","",IF(G20="","",IF(G20="fe","",IF(G20="cp","",1)))),"")) | X20: =IF($B20="samedi",IF(H20="r","",IF(H20="","",IF(H20="fe","",IF(H20="cp","",1)))),IF($B20="dimanche",IF(H20="r","",IF(H20="","",IF(H20="fe","",IF(H20="cp","",1)))),"")) | Y20: =IF($B20="samedi",IF(I20="r","",IF(I20="","",IF(I20="fe","",IF(I20="cp","",1)))),IF($B20="dimanche",IF(I20="r","",IF(I20="","",IF(I20="fe","",IF(I20="cp","",1)))),"")) | Z20: =IF($B20="samedi",IF(J20="r","",IF(J20="","",IF(J20="fe","",IF(J20="cp","",1)))),IF($B20="dimanche",IF(J20="r","",IF(J20="","",IF(J20="fe","",IF(J20="cp","",1)))),"")) | AB20: =+IF(T20=1,$C20,"") | AC20: =+IF(U20=1,$C20,"") | AD20: =+IF(V20=1,$C20,"") | AE20: =+IF(W20=1,$C20,"") | AF20: =+IF(X20=1,$C20,"") | AG20: =+IF(Y20=1,$C20,"") | AH20: =+IF(Z20=1,$C20,"")
B21: samedi | C21: 43484 | D21: R | E21: R | F21: R | G21: R | H21: R | I21: N EXT | J21: 5H 17H | N21: =COUNTIF($D21:$L21,N$1) -> 0 | O21: =COUNTIF($D21:$L21,O$1) -> 0 | P21: =COUNTIF($D21:$L21,P$1) -> 1 | Q21: =COUNTIF($D21:$L21,Q$1) -> 1 | R21: =COUNTIF($D21:$L21,R$1) -> 0 | T21: =IF($B21="samedi",IF(D21="r","",IF(D21="","",IF(D21="fe","",IF(D21="cp","",1)))),IF($B21="dimanche",IF(D21="r","",IF(D21="","",IF(D21="fe","",IF(D21="cp","",1)))),"")) | U21: =IF($B21="samedi",IF(E21="r","",IF(E21="","",IF(E21="fe","",IF(E21="cp","",1)))),IF($B21="dimanche",IF(E21="r","",IF(E21="","",IF(E21="fe","",IF(E21="cp","",1)))),"")) | V21: =IF($B21="samedi",IF(F21="r","",IF(F21="","",IF(F21="fe","",IF(F21="cp","",1)))),IF($B21="dimanche",IF(F21="r","",IF(F21="","",IF(F21="fe","",IF(F21="cp","",1)))),"")) | W21: =IF($B21="samedi",IF(G21="r","",IF(G21="","",IF(G21="fe","",IF(G21="cp","",1)))),IF($B21="dimanche",IF(G21="r","",IF(G21="","",IF(G21="fe","",IF(G21="cp","",1)))),"")) | X21: =IF($B21="samedi",IF(H21="r","",IF(H21="","",IF(H21="fe","",IF(H21="cp","",1)))),IF($B21="dimanche",IF(H21="r","",IF(H21="","",IF(H21="fe","",IF(H21="cp","",1)))),"")) | Y21: =IF($B21="samedi",IF(I21="r","",IF(I21="","",IF(I21="fe","",IF(I21="cp","",1)))),IF($B21="dimanche",IF(I21="r","",IF(I21="","",IF(I21="fe","",IF(I21="cp","",1)))),"")) -> 1 | Z21: =IF($B21="samedi",IF(J21="r","",IF(J21="","",IF(J21="fe","",IF(J21="cp","",1)))),IF($B21="dimanche",IF(J21="r","",IF(J21="","",IF(J21="fe","",IF(J21="cp","",1)))),"")) -> 1 | AB21: =+IF(T21=1,$C21,"") | AC21: =+IF(U21=1,$C21,"") | AD21: =+IF(V21=1,$C21,"") | AE21: =+IF(W21=1,$C21,"") | AF21: =+IF(X21=1,$C21,"") | AG21: =+IF(Y21=1,$C21,"") -> 43484 | AH21: =+IF(Z21=1,$C21,"") -> 43484
B22: dimanche | C22: 43485 | D22: R | E22: R | F22: R | G22: R | H22: R | I22: N EXT | J22: 5H 17H | N22: =COUNTIF($D22:$L22,N$1) -> 0 | O22: =COUNTIF($D22:$L22,O$1) -> 0 | P22: =COUNTIF($D22:$L22,P$1) -> 1 | Q22: =COUNTIF($D22:$L22,Q$1) -> 1 | R22: =COUNTIF($D22:$L22,R$1) -> 0 | T22: =IF($B22="samedi",IF(D22="r","",IF(D22="","",IF(D22="fe","",IF(D22="cp","",1)))),IF($B22="dimanche",IF(D22="r","",IF(D22="","",IF(D22="fe","",IF(D22="cp","",1)))),"")) | U22: =IF($B22="samedi",IF(E22="r","",IF(E22="","",IF(E22="fe","",IF(E22="cp","",1)))),IF($B22="dimanche",IF(E22="r","",IF(E22="","",IF(E22="fe","",IF(E22="cp","",1)))),"")) | V22: =IF($B22="samedi",IF(F22="r","",IF(F22="","",IF(F22="fe","",IF(F22="cp","",1)))),IF($B22="dimanche",IF(F22="r","",IF(F22="","",IF(F22="fe","",IF(F22="cp","",1)))),"")) | W22: =IF($B22="samedi",IF(G22="r","",IF(G22="","",IF(G22="fe","",IF(G22="cp","",1)))),IF($B22="dimanche",IF(G22="r","",IF(G22="","",IF(G22="fe","",IF(G22="cp","",1)))),"")) | X22: =IF($B22="samedi",IF(H22="r","",IF(H22="","",IF(H22="fe","",IF(H22="cp","",1)))),IF($B22="dimanche",IF(H22="r","",IF(H22="","",IF(H22="fe","",IF(H22="cp","",1)))),"")) | Y22: =IF($B22="samedi",IF(I22="r","",IF(I22="","",IF(I22="fe","",IF(I22="cp","",1)))),IF($B22="dimanche",IF(I22="r","",IF(I22="","",IF(I22="fe","",IF(I22="cp","",1)))),"")) -> 1 | Z22: =IF($B22="samedi",IF(J22="r","",IF(J22="","",IF(J22="fe","",IF(J22="cp","",1)))),IF($B22="dimanche",IF(J22="r","",IF(J22="","",IF(J22="fe","",IF(J22="cp","",1)))),"")) -> 1 | AB22: =+IF(T22=1,$C22,"") | AC22: =+IF(U22=1,$C22,"") | AD22: =+IF(V22=1,$C22,"") | AE22: =+IF(W22=1,$C22,"") | AF22: =+IF(X22=1,$C22,"") | AG22: =+IF(Y22=1,$C22,"") -> 43485 | AH22: =+IF(Z22=1,$C22,"") -> 43485
A23: S4 | B23: lundi | C23: 43486 | D23: J EXT | E23: M EXT | F23: AM EXT | G23: N EXT | H23: CP | I23: R | J23: R | N23: =COUNTIF($D23:$L23,N$1) -> 1 | O23: =COUNTIF($D23:$L23,O$1) -> 1 | P23: =COUNTIF($D23:$L23,P$1) -> 1 | Q23: =COUNTIF($D23:$L23,Q$1) -> 0 | R23: =COUNTIF($D23:$L23,R$1) -> 0 | T23: =IF($B23="samedi",IF(D23="r","",IF(D23="","",IF(D23="fe","",IF(D23="cp","",1)))),IF($B23="dimanche",IF(D23="r","",IF(D23="","",IF(D23="fe","",IF(D23="cp","",1)))),"")) | U23: =IF($B23="samedi",IF(E23="r","",IF(E23="","",IF(E23="fe","",IF(E23="cp","",1)))),IF($B23="dimanche",IF(E23="r","",IF(E23="","",IF(E23="fe","",IF(E23="cp","",1)))),"")) | V23: =IF($B23="samedi",IF(F23="r","",IF(F23="","",IF(F23="fe","",IF(F23="cp","",1)))),IF($B23="dimanche",IF(F23="r","",IF(F23="","",IF(F23="fe","",IF(F23="cp","",1)))),"")) | W23: =IF($B23="samedi",IF(G23="r","",IF(G23="","",IF(G23="fe","",IF(G23="cp","",1)))),IF($B23="dimanche",IF(G23="r","",IF(G23="","",IF(G23="fe","",IF(G23="cp","",1)))),"")) | X23: =IF($B23="samedi",IF(H23="r","",IF(H23="","",IF(H23="fe","",IF(H23="cp","",1)))),IF($B23="dimanche",IF(H23="r","",IF(H23="","",IF(H23="fe","",IF(H23="cp","",1)))),"")) | Y23: =IF($B23="samedi",IF(I23="r","",IF(I23="","",IF(I23="fe","",IF(I23="cp","",1)))),IF($B23="dimanche",IF(I23="r","",IF(I23="","",IF(I23="fe","",IF(I23="cp","",1)))),"")) | Z23: =IF($B23="samedi",IF(J23="r","",IF(J23="","",IF(J23="fe","",IF(J23="cp","",1)))),IF($B23="dimanche",IF(J23="r","",IF(J23="","",IF(J23="fe","",IF(J23="cp","",1)))),"")) | AB23: =+IF(T23=1,$C23,"") | AC23: =+IF(U23=1,$C23,"") | AD23: =+IF(V23=1,$C23,"") | AE23: =+IF(W23=1,$C23,"") | AF23: =+IF(X23=1,$C23,"") | AG23: =+IF(Y23=1,$C23,"") | AH23: =+IF(Z23=1,$C23,"")
B24: mardi | C24: 43487 | D24: J EXT | E24: M EXT | F24: AM EXT | G24: N EXT | H24: CP | I24: R | J24: R | L24: J EXT | N24: =COUNTIF($D24:$L24,N$1) -> 1 | O24: =COUNTIF($D24:$L24,O$1) -> 1 | P24: =COUNTIF($D24:$L24,P$1) -> 1 | Q24: =COUNTIF($D24:$L24,Q$1) -> 0 | R24: =COUNTIF($D24:$L24,R$1) -> 0 | T24: =IF($B24="samedi",IF(D24="r","",IF(D24="","",IF(D24="fe","",IF(D24="cp","",1)))),IF($B24="dimanche",IF(D24="r","",IF(D24="","",IF(D24="fe","",IF(D24="cp","",1)))),"")) | U24: =IF($B24="samedi",IF(E24="r","",IF(E24="","",IF(E24="fe","",IF(E24="cp","",1)))),IF($B24="dimanche",IF(E24="r","",IF(E24="","",IF(E24="fe","",IF(E24="cp","",1)))),"")) | V24: =IF($B24="samedi",IF(F24="r","",IF(F24="","",IF(F24="fe","",IF(F24="cp","",1)))),IF($B24="dimanche",IF(F24="r","",IF(F24="","",IF(F24="fe","",IF(F24="cp","",1)))),"")) | W24: =IF($B24="samedi",IF(G24="r","",IF(G24="","",IF(G24="fe","",IF(G24="cp","",1)))),IF($B24="dimanche",IF(G24="r","",IF(G24="","",IF(G24="fe","",IF(G24="cp","",1)))),"")) | X24: =IF($B24="samedi",IF(H24="r","",IF(H24="","",IF(H24="fe","",IF(H24="cp","",1)))),IF($B24="dimanche",IF(H24="r","",IF(H24="","",IF(H24="fe","",IF(H24="cp","",1)))),"")) | Y24: =IF($B24="samedi",IF(I24="r","",IF(I24="","",IF(I24="fe","",IF(I24="cp","",1)))),IF($B24="dimanche",IF(I24="r","",IF(I24="","",IF(I24="fe","",IF(I24="cp","",1)))),"")) | Z24: =IF($B24="samedi",IF(J24="r","",IF(J24="","",IF(J24="fe","",IF(J24="cp","",1)))),IF($B24="dimanche",IF(J24="r","",IF(J24="","",IF(J24="fe","",IF(J24="cp","",1)))),"")) | AB24: =+IF(T24=1,$C24,"") | AC24: =+IF(U24=1,$C24,"") | AD24: =+IF(V24=1,$C24,"") | AE24: =+IF(W24=1,$C24,"") | AF24: =+IF(X24=1,$C24,"") | AG24: =+IF(Y24=1,$C24,"") | AH24: =+IF(Z24=1,$C24,"")
B25: mercredi | C25: 43488 | D25: J EXT | E25: M EXT | F25: R | G25: N EXT | H25: CP | I25: AM EXT | J25: R | L25: J EXT | N25: =COUNTIF($D25:$L25,N$1) -> 1 | O25: =COUNTIF($D25:$L25,O$1) -> 1 | P25: =COUNTIF($D25:$L25,P$1) -> 1 | Q25: =COUNTIF($D25:$L25,Q$1) -> 0 | R25: =COUNTIF($D25:$L25,R$1) -> 0 | T25: =IF($B25="samedi",IF(D25="r","",IF(D25="","",IF(D25="fe","",IF(D25="cp","",1)))),IF($B25="dimanche",IF(D25="r","",IF(D25="","",IF(D25="fe","",IF(D25="cp","",1)))),"")) | U25: =IF($B25="samedi",IF(E25="r","",IF(E25="","",IF(E25="fe","",IF(E25="cp","",1)))),IF($B25="dimanche",IF(E25="r","",IF(E25="","",IF(E25="fe","",IF(E25="cp","",1)))),"")) | V25: =IF($B25="samedi",IF(F25="r","",IF(F25="","",IF(F25="fe","",IF(F25="cp","",1)))),IF($B25="dimanche",IF(F25="r","",IF(F25="","",IF(F25="fe","",IF(F25="cp","",1)))),"")) | W25: =IF($B25="samedi",IF(G25="r","",IF(G25="","",IF(G25="fe","",IF(G25="cp","",1)))),IF($B25="dimanche",IF(G25="r","",IF(G25="","",IF(G25="fe","",IF(G25="cp","",1)))),"")) | X25: =IF($B25="samedi",IF(H25="r","",IF(H25="","",IF(H25="fe","",IF(H25="cp","",1)))),IF($B25="dimanche",IF(H25="r","",IF(H25="","",IF(H25="fe","",IF(H25="cp","",1)))),"")) | Y25: =IF($B25="samedi",IF(I25="r","",IF(I25="","",IF(I25="fe","",IF(I25="cp","",1)))),IF($B25="dimanche",IF(I25="r","",IF(I25="","",IF(I25="fe","",IF(I25="cp","",1)))),"")) | Z25: =IF($B25="samedi",IF(J25="r","",IF(J25="","",IF(J25="fe","",IF(J25="cp","",1)))),IF($B25="dimanche",IF(J25="r","",IF(J25="","",IF(J25="fe","",IF(J25="cp","",1)))),"")) | AB25: =+IF(T25=1,$C25,"") | AC25: =+IF(U25=1,$C25,"") | AD25: =+IF(V25=1,$C25,"") | AE25: =+IF(W25=1,$C25,"") | AF25: =+IF(X25=1,$C25,"") | AG25: =+IF(Y25=1,$C25,"") | AH25: =+IF(Z25=1,$C25,"")
B26: jeudi | C26: 43489 | D26: J EXT | E26: M EXT | F26: R | G26: N EXT | H26: RC | I26: AM EXT | J26: R | N26: =COUNTIF($D26:$L26,N$1) -> 1 | O26: =COUNTIF($D26:$L26,O$1) -> 1 | P26: =COUNTIF($D26:$L26,P$1) -> 1 | Q26: =COUNTIF($D26:$L26,Q$1) -> 0 | R26: =COUNTIF($D26:$L26,R$1) -> 0 | T26: =IF($B26="samedi",IF(D26="r","",IF(D26="","",IF(D26="fe","",IF(D26="cp","",1)))),IF($B26="dimanche",IF(D26="r","",IF(D26="","",IF(D26="fe","",IF(D26="cp","",1)))),"")) | U26: =IF($B26="samedi",IF(E26="r","",IF(E26="","",IF(E26="fe","",IF(E26="cp","",1)))),IF($B26="dimanche",IF(E26="r","",IF(E26="","",IF(E26="fe","",IF(E26="cp","",1)))),"")) | V26: =IF($B26="samedi",IF(F26="r","",IF(F26="","",IF(F26="fe","",IF(F26="cp","",1)))),IF($B26="dimanche",IF(F26="r","",IF(F26="","",IF(F26="fe","",IF(F26="cp","",1)))),"")) | W26: =IF($B26="samedi",IF(G26="r","",IF(G26="","",IF(G26="fe","",IF(G26="cp","",1)))),IF($B26="dimanche",IF(G26="r","",IF(G26="","",IF(G26="fe","",IF(G26="cp","",1)))),"")) | X26: =IF($B26="samedi",IF(H26="r","",IF(H26="","",IF(H26="fe","",IF(H26="cp","",1)))),IF($B26="dimanche",IF(H26="r","",IF(H26="","",IF(H26="fe","",IF(H26="cp","",1)))),"")) | Y26: =IF($B26="samedi",IF(I26="r","",IF(I26="","",IF(I26="fe","",IF(I26="cp","",1)))),IF($B26="dimanche",IF(I26="r","",IF(I26="","",IF(I26="fe","",IF(I26="cp","",1)))),"")) | Z26: =IF($B26="samedi",IF(J26="r","",IF(J26="","",IF(J26="fe","",IF(J26="cp","",1)))),IF($B26="dimanche",IF(J26="r","",IF(J26="","",IF(J26="fe","",IF(J26="cp","",1)))),"")) | AB26: =+IF(T26=1,$C26,"") | AC26: =+IF(U26=1,$C26,"") | AD26: =+IF(V26=1,$C26,"") | AE26: =+IF(W26=1,$C26,"") | AF26: =+IF(X26=1,$C26,"") | AG26: =+IF(Y26=1,$C26,"") | AH26: =+IF(Z26=1,$C26,"")
B27: vendredi | C27: 43490 | D27: R | E27: M EXT | F27: N EXT | G27: R | H27: RC | I27: AM EXT | J27: R | N27: =COUNTIF($D27:$L27,N$1) -> 1 | O27: =COUNTIF($D27:$L27,O$1) -> 1 | P27: =COUNTIF($D27:$L27,P$1) -> 1 | Q27: =COUNTIF($D27:$L27,Q$1) -> 0 | R27: =COUNTIF($D27:$L27,R$1) -> 0 | T27: =IF($B27="samedi",IF(D27="r","",IF(D27="","",IF(D27="fe","",IF(D27="cp","",1)))),IF($B27="dimanche",IF(D27="r","",IF(D27="","",IF(D27="fe","",IF(D27="cp","",1)))),"")) | U27: =IF($B27="samedi",IF(E27="r","",IF(E27="","",IF(E27="fe","",IF(E27="cp","",1)))),IF($B27="dimanche",IF(E27="r","",IF(E27="","",IF(E27="fe","",IF(E27="cp","",1)))),"")) | V27: =IF($B27="samedi",IF(F27="r","",IF(F27="","",IF(F27="fe","",IF(F27="cp","",1)))),IF($B27="dimanche",IF(F27="r","",IF(F27="","",IF(F27="fe","",IF(F27="cp","",1)))),"")) | W27: =IF($B27="samedi",IF(G27="r","",IF(G27="","",IF(G27="fe","",IF(G27="cp","",1)))),IF($B27="dimanche",IF(G27="r","",IF(G27="","",IF(G27="fe","",IF(G27="cp","",1)))),"")) | X27: =IF($B27="samedi",IF(H27="r","",IF(H27="","",IF(H27="fe","",IF(H27="cp","",1)))),IF($B27="dimanche",IF(H27="r","",IF(H27="","",IF(H27="fe","",IF(H27="cp","",1)))),"")) | Y27: =IF($B27="samedi",IF(I27="r","",IF(I27="","",IF(I27="fe","",IF(I27="cp","",1)))),IF($B27="dimanche",IF(I27="r","",IF(I27="","",IF(I27="fe","",IF(I27="cp","",1)))),"")) | Z27: =IF($B27="samedi",IF(J27="r","",IF(J27="","",IF(J27="fe","",IF(J27="cp","",1)))),IF($B27="dimanche",IF(J27="r","",IF(J27="","",IF(J27="fe","",IF(J27="cp","",1)))),"")) | AB27: =+IF(T27=1,$C27,"") | AC27: =+IF(U27=1,$C27,"") | AD27: =+IF(V27=1,$C27,"") | AE27: =+IF(W27=1,$C27,"") | AF27: =+IF(X27=1,$C27,"") | AG27: =+IF(Y27=1,$C27,"") | AH27: =+IF(Z27=1,$C27,"")
B28: samedi | C28: 43491 | D28: R | E28: R | F28: N EXT | G28: R | H28: R | I28: R | J28: 5H 17H | N28: =COUNTIF($D28:$L28,N$1) -> 0 | O28: =COUNTIF($D28:$L28,O$1) -> 0 | P28: =COUNTIF($D28:$L28,P$1) -> 1 | Q28: =COUNTIF($D28:$L28,Q$1) -> 1 | R28: =COUNTIF($D28:$L28,R$1) -> 0 | T28: =IF($B28="samedi",IF(D28="r","",IF(D28="","",IF(D28="fe","",IF(D28="cp","",1)))),IF($B28="dimanche",IF(D28="r","",IF(D28="","",IF(D28="fe","",IF(D28="cp","",1)))),"")) | U28: =IF($B28="samedi",IF(E28="r","",IF(E28="","",IF(E28="fe","",IF(E28="cp","",1)))),IF($B28="dimanche",IF(E28="r","",IF(E28="","",IF(E28="fe","",IF(E28="cp","",1)))),"")) | V28: =IF($B28="samedi",IF(F28="r","",IF(F28="","",IF(F28="fe","",IF(F28="cp","",1)))),IF($B28="dimanche",IF(F28="r","",IF(F28="","",IF(F28="fe","",IF(F28="cp","",1)))),"")) -> 1 | W28: =IF($B28="samedi",IF(G28="r","",IF(G28="","",IF(G28="fe","",IF(G28="cp","",1)))),IF($B28="dimanche",IF(G28="r","",IF(G28="","",IF(G28="fe","",IF(G28="cp","",1)))),"")) | X28: =IF($B28="samedi",IF(H28="r","",IF(H28="","",IF(H28="fe","",IF(H28="cp","",1)))),IF($B28="dimanche",IF(H28="r","",IF(H28="","",IF(H28="fe","",IF(H28="cp","",1)))),"")) | Y28: =IF($B28="samedi",IF(I28="r","",IF(I28="","",IF(I28="fe","",IF(I28="cp","",1)))),IF($B28="dimanche",IF(I28="r","",IF(I28="","",IF(I28="fe","",IF(I28="cp","",1)))),"")) | Z28: =IF($B28="samedi",IF(J28="r","",IF(J28="","",IF(J28="fe","",IF(J28="cp","",1)))),IF($B28="dimanche",IF(J28="r","",IF(J28="","",IF(J28="fe","",IF(J28="cp","",1)))),"")) -> 1 | AB28: =+IF(T28=1,$C28,"") | AC28: =+IF(U28=1,$C28,"") | AD28: =+IF(V28=1,$C28,"") -> 43491 | AE28: =+IF(W28=1,$C28,"") | AF28: =+IF(X28=1,$C28,"") | AG28: =+IF(Y28=1,$C28,"") | AH28: =+IF(Z28=1,$C28,"") -> 43491
B29: dimanche | C29: 43492 | D29: R | E29: R | F29: N EXT | G29: R | H29: R | I29: R | J29: 5H 17H | N29: =COUNTIF($D29:$L29,N$1) -> 0 | O29: =COUNTIF($D29:$L29,O$1) -> 0 | P29: =COUNTIF($D29:$L29,P$1) -> 1 | Q29: =COUNTIF($D29:$L29,Q$1) -> 1 | R29: =COUNTIF($D29:$L29,R$1) -> 0 | T29: =IF($B29="samedi",IF(D29="r","",IF(D29="","",IF(D29="fe","",IF(D29="cp","",1)))),IF($B29="dimanche",IF(D29="r","",IF(D29="","",IF(D29="fe","",IF(D29="cp","",1)))),"")) | U29: =IF($B29="samedi",IF(E29="r","",IF(E29="","",IF(E29="fe","",IF(E29="cp","",1)))),IF($B29="dimanche",IF(E29="r","",IF(E29="","",IF(E29="fe","",IF(E29="cp","",1)))),"")) | V29: =IF($B29="samedi",IF(F29="r","",IF(F29="","",IF(F29="fe","",IF(F29="cp","",1)))),IF($B29="dimanche",IF(F29="r","",IF(F29="","",IF(F29="fe","",IF(F29="cp","",1)))),"")) -> 1 | W29: =IF($B29="samedi",IF(G29="r","",IF(G29="","",IF(G29="fe","",IF(G29="cp","",1)))),IF($B29="dimanche",IF(G29="r","",IF(G29="","",IF(G29="fe","",IF(G29="cp","",1)))),"")) | X29: =IF($B29="samedi",IF(H29="r","",IF(H29="","",IF(H29="fe","",IF(H29="cp","",1)))),IF($B29="dimanche",IF(H29="r","",IF(H29="","",IF(H29="fe","",IF(H29="cp","",1)))),"")) | Y29: =IF($B29="samedi",IF(I29="r","",IF(I29="","",IF(I29="fe","",IF(I29="cp","",1)))),IF($B29="dimanche",IF(I29="r","",IF(I29="","",IF(I29="fe","",IF(I29="cp","",1)))),"")) | Z29: =IF($B29="samedi",IF(J29="r","",IF(J29="","",IF(J29="fe","",IF(J29="cp","",1)))),IF($B29="dimanche",IF(J29="r","",IF(J29="","",IF(J29="fe","",IF(J29="cp","",1)))),"")) -> 1 | AB29: =+IF(T29=1,$C29,"") | AC29: =+IF(U29=1,$C29,"") | AD29: =+IF(V29=1,$C29,"") -> 43492 | AE29: =+IF(W29=1,$C29,"") | AF29: =+IF(X29=1,$C29,"") | AG29: =+IF(Y29=1,$C29,"") | AH29: =+IF(Z29=1,$C29,"") -> 43492
A30: S5 | B30: lundi | C30: 43493 | D30: R | E30: J EXT | F30: N EXT | G30: M EXT | H30: R | I30: AM EXT | J30: R | N30: =COUNTIF($D30:$L30,N$1) -> 1 | O30: =COUNTIF($D30:$L30,O$1) -> 1 | P30: =COUNTIF($D30:$L30,P$1) -> 1 | Q30: =COUNTIF($D30:$L30,Q$1) -> 0 | R30: =COUNTIF($D30:$L30,R$1) -> 0 | T30: =IF($B30="samedi",IF(D30="r","",IF(D30="","",IF(D30="fe","",IF(D30="cp","",1)))),IF($B30="dimanche",IF(D30="r","",IF(D30="","",IF(D30="fe","",IF(D30="cp","",1)))),"")) | U30: =IF($B30="samedi",IF(E30="r","",IF(E30="","",IF(E30="fe","",IF(E30="cp","",1)))),IF($B30="dimanche",IF(E30="r","",IF(E30="","",IF(E30="fe","",IF(E30="cp","",1)))),"")) | V30: =IF($B30="samedi",IF(F30="r","",IF(F30="","",IF(F30="fe","",IF(F30="cp","",1)))),IF($B30="dimanche",IF(F30="r","",IF(F30="","",IF(F30="fe","",IF(F30="cp","",1)))),"")) | W30: =IF($B30="samedi",IF(G30="r","",IF(G30="","",IF(G30="fe","",IF(G30="cp","",1)))),IF($B30="dimanche",IF(G30="r","",IF(G30="","",IF(G30="fe","",IF(G30="cp","",1)))),"")) | X30: =IF($B30="samedi",IF(H30="r","",IF(H30="","",IF(H30="fe","",IF(H30="cp","",1)))),IF($B30="dimanche",IF(H30="r","",IF(H30="","",IF(H30="fe","",IF(H30="cp","",1)))),"")) | Y30: =IF($B30="samedi",IF(I30="r","",IF(I30="","",IF(I30="fe","",IF(I30="cp","",1)))),IF($B30="dimanche",IF(I30="r","",IF(I30="","",IF(I30="fe","",IF(I30="cp","",1)))),"")) | Z30: =IF($B30="samedi",IF(J30="r","",IF(J30="","",IF(J30="fe","",IF(J30="cp","",1)))),IF($B30="dimanche",IF(J30="r","",IF(J30="","",IF(J30="fe","",IF(J30="cp","",1)))),"")) | AB30: =+IF(T30=1,$C30,"") | AC30: =+IF(U30=1,$C30,"") | AD30: =+IF(V30=1,$C30,"") | AE30: =+IF(W30=1,$C30,"") | AF30: =+IF(X30=1,$C30,"") | AG30: =+IF(Y30=1,$C30,"") | AH30: =+IF(Z30=1,$C30,"")
B31: mardi | C31: 43494 | D31: J EXT | E31: J EXT | F31: R | G31: M EXT | H31: N EXT | I31: AM EXT | J31: R | N31: =COUNTIF($D31:$L31,N$1) -> 1 | O31: =COUNTIF($D31:$L31,O$1) -> 1 | P31: =COUNTIF($D31:$L31,P$1) -> 1 | Q31: =COUNTIF($D31:$L31,Q$1) -> 0 | R31: =COUNTIF($D31:$L31,R$1) -> 0 | T31: =IF($B31="samedi",IF(D31="r","",IF(D31="","",IF(D31="fe","",IF(D31="cp","",1)))),IF($B31="dimanche",IF(D31="r","",IF(D31="","",IF(D31="fe","",IF(D31="cp","",1)))),"")) | U31: =IF($B31="samedi",IF(E31="r","",IF(E31="","",IF(E31="fe","",IF(E31="cp","",1)))),IF($B31="dimanche",IF(E31="r","",IF(E31="","",IF(E31="fe","",IF(E31="cp","",1)))),"")) | V31: =IF($B31="samedi",IF(F31="r","",IF(F31="","",IF(F31="fe","",IF(F31="cp","",1)))),IF($B31="dimanche",IF(F31="r","",IF(F31="","",IF(F31="fe","",IF(F31="cp","",1)))),"")) | W31: =IF($B31="samedi",IF(G31="r","",IF(G31="","",IF(G31="fe","",IF(G31="cp","",1)))),IF($B31="dimanche",IF(G31="r","",IF(G31="","",IF(G31="fe","",IF(G31="cp","",1)))),"")) | X31: =IF($B31="samedi",IF(H31="r","",IF(H31="","",IF(H31="fe","",IF(H31="cp","",1)))),IF($B31="dimanche",IF(H31="r","",IF(H31="","",IF(H31="fe","",IF(H31="cp","",1)))),"")) | Y31: =IF($B31="samedi",IF(I31="r","",IF(I31="","",IF(I31="fe","",IF(I31="cp","",1)))),IF($B31="dimanche",IF(I31="r","",IF(I31="","",IF(I31="fe","",IF(I31="cp","",1)))),"")) | Z31: =IF($B31="samedi",IF(J31="r","",IF(J31="","",IF(J31="fe","",IF(J31="cp","",1)))),IF($B31="dimanche",IF(J31="r","",IF(J31="","",IF(J31="fe","",IF(J31="cp","",1)))),"")) | AB31: =+IF(T31=1,$C31,"") | AC31: =+IF(U31=1,$C31,"") | AD31: =+IF(V31=1,$C31,"") | AE31: =+IF(W31=1,$C31,"") | AF31: =+IF(X31=1,$C31,"") | AG31: =+IF(Y31=1,$C31,"") | AH31: =+IF(Z31=1,$C31,"")
B32: mercredi | C32: 43495 | D32: J EXT | E32: J EXT | F32: R | G32: M EXT | H32: N EXT | I32: AM EXT | J32: R | N32: =COUNTIF($D32:$L32,N$1) -> 1 | O32: =COUNTIF($D32:$L32,O$1) -> 1 | P32: =COUNTIF($D32:$L32,P$1) -> 1 | Q32: =COUNTIF($D32:$L32,Q$1) -> 0 | R32: =COUNTIF($D32:$L32,R$1) -> 0 | T32: =IF($B32="samedi",IF(D32="r","",IF(D32="","",IF(D32="fe","",IF(D32="cp","",1)))),IF($B32="dimanche",IF(D32="r","",IF(D32="","",IF(D32="fe","",IF(D32="cp","",1)))),"")) | U32: =IF($B32="samedi",IF(E32="r","",IF(E32="","",IF(E32="fe","",IF(E32="cp","",1)))),IF($B32="dimanche",IF(E32="r","",IF(E32="","",IF(E32="fe","",IF(E32="cp","",1)))),"")) | V32: =IF($B32="samedi",IF(F32="r","",IF(F32="","",IF(F32="fe","",IF(F32="cp","",1)))),IF($B32="dimanche",IF(F32="r","",IF(F32="","",IF(F32="fe","",IF(F32="cp","",1)))),"")) | W32: =IF($B32="samedi",IF(G32="r","",IF(G32="","",IF(G32="fe","",IF(G32="cp","",1)))),IF($B32="dimanche",IF(G32="r","",IF(G32="","",IF(G32="fe","",IF(G32="cp","",1)))),"")) | X32: =IF($B32="samedi",IF(H32="r","",IF(H32="","",IF(H32="fe","",IF(H32="cp","",1)))),IF($B32="dimanche",IF(H32="r","",IF(H32="","",IF(H32="fe","",IF(H32="cp","",1)))),"")) | Y32: =IF($B32="samedi",IF(I32="r","",IF(I32="","",IF(I32="fe","",IF(I32="cp","",1)))),IF($B32="dimanche",IF(I32="r","",IF(I32="","",IF(I32="fe","",IF(I32="cp","",1)))),"")) | Z32: =IF($B32="samedi",IF(J32="r","",IF(J32="","",IF(J32="fe","",IF(J32="cp","",1)))),IF($B32="dimanche",IF(J32="r","",IF(J32="","",IF(J32="fe","",IF(J32="cp","",1)))),"")) | AB32: =+IF(T32=1,$C32,"") | AC32: =+IF(U32=1,$C32,"") | AD32: =+IF(V32=1,$C32,"") | AE32: =+IF(W32=1,$C32,"") | AF32: =+IF(X32=1,$C32,"") | AG32: =+IF(Y32=1,$C32,"") | AH32: =+IF(Z32=1,$C32,"")
B33: jeudi | C33: 43496 | D33: J EXT | E33: J EXT | F33: J EXT | G33: M EXT | H33: N EXT | I33: AM EXT | J33: R | N33: =COUNTIF($D33:$L33,N$1) -> 1 | O33: =COUNTIF($D33:$L33,O$1) -> 1 | P33: =COUNTIF($D33:$L33,P$1) -> 1 | Q33: =COUNTIF($D33:$L33,Q$1) -> 0 | R33: =COUNTIF($D33:$L33,R$1) -> 0 | T33: =IF($B33="samedi",IF(D33="r","",IF(D33="","",IF(D33="fe","",IF(D33="cp","",1)))),IF($B33="dimanche",IF(D33="r","",IF(D33="","",IF(D33="fe","",IF(D33="cp","",1)))),"")) | U33: =IF($B33="samedi",IF(E33="r","",IF(E33="","",IF(E33="fe","",IF(E33="cp","",1)))),IF($B33="dimanche",IF(E33="r","",IF(E33="","",IF(E33="fe","",IF(E33="cp","",1)))),"")) | V33: =IF($B33="samedi",IF(F33="r","",IF(F33="","",IF(F33="fe","",IF(F33="cp","",1)))),IF($B33="dimanche",IF(F33="r","",IF(F33="","",IF(F33="fe","",IF(F33="cp","",1)))),"")) | W33: =IF($B33="samedi",IF(G33="r","",IF(G33="","",IF(G33="fe","",IF(G33="cp","",1)))),IF($B33="dimanche",IF(G33="r","",IF(G33="","",IF(G33="fe","",IF(G33="cp","",1)))),"")) | X33: =IF($B33="samedi",IF(H33="r","",IF(H33="","",IF(H33="fe","",IF(H33="cp","",1)))),IF($B33="dimanche",IF(H33="r","",IF(H33="","",IF(H33="fe","",IF(H33="cp","",1)))),"")) | Y33: =IF($B33="samedi",IF(I33="r","",IF(I33="","",IF(I33="fe","",IF(I33="cp","",1)))),IF($B33="dimanche",IF(I33="r","",IF(I33="","",IF(I33="fe","",IF(I33="cp","",1)))),"")) | Z33: =IF($B33="samedi",IF(J33="r","",IF(J33="","",IF(J33="fe","",IF(J33="cp","",1)))),IF($B33="dimanche",IF(J33="r","",IF(J33="","",IF(J33="fe","",IF(J33="cp","",1)))),"")) | AB33: =+IF(T33=1,$C33,"") | AC33: =+IF(U33=1,$C33,"") | AD33: =+IF(V33=1,$C33,"") | AE33: =+IF(W33=1,$C33,"") | AF33: =+IF(X33=1,$C33,"") | AG33: =+IF(Y33=1,$C33,"") | AH33: =+IF(Z33=1,$C33,"")
B34: vendredi | C34: 43497 | D34: R | E34: J EXT | F34: J EXT | G34: M EXT | H34: N EXT | I34: AM EXT | J34: R | N34: =COUNTIF($D34:$L34,N$1) -> 1 | O34: =COUNTIF($D34:$L34,O$1) -> 1 | P34: =COUNTIF($D34:$L34,P$1) -> 1 | Q34: =COUNTIF($D34:$L34,Q$1) -> 0 | R34: =COUNTIF($D34:$L34,R$1) -> 0 | T34: =IF($B34="samedi",IF(D34="r","",IF(D34="","",IF(D34="fe","",IF(D34="cp","",1)))),IF($B34="dimanche",IF(D34="r","",IF(D34="","",IF(D34="fe","",IF(D34="cp","",1)))),"")) | U34: =IF($B34="samedi",IF(E34="r","",IF(E34="","",IF(E34="fe","",IF(E34="cp","",1)))),IF($B34="dimanche",IF(E34="r","",IF(E34="","",IF(E34="fe","",IF(E34="cp","",1)))),"")) | V34: =IF($B34="samedi",IF(F34="r","",IF(F34="","",IF(F34="fe","",IF(F34="cp","",1)))),IF($B34="dimanche",IF(F34="r","",IF(F34="","",IF(F34="fe","",IF(F34="cp","",1)))),"")) | W34: =IF($B34="samedi",IF(G34="r","",IF(G34="","",IF(G34="fe","",IF(G34="cp","",1)))),IF($B34="dimanche",IF(G34="r","",IF(G34="","",IF(G34="fe","",IF(G34="cp","",1)))),"")) | X34: =IF($B34="samedi",IF(H34="r","",IF(H34="","",IF(H34="fe","",IF(H34="cp","",1)))),IF($B34="dimanche",IF(H34="r","",IF(H34="","",IF(H34="fe","",IF(H34="cp","",1)))),"")) | Y34: =IF($B34="samedi",IF(I34="r","",IF(I34="","",IF(I34="fe","",IF(I34="cp","",1)))),IF($B34="dimanche",IF(I34="r","",IF(I34="","",IF(I34="fe","",IF(I34="cp","",1)))),"")) | Z34: =IF($B34="samedi",IF(J34="r","",IF(J34="","",IF(J34="fe","",IF(J34="cp","",1)))),IF($B34="dimanche",IF(J34="r","",IF(J34="","",IF(J34="fe","",IF(J34="cp","",1)))),"")) | AB34: =+IF(T34=1,$C34,"") | AC34: =+IF(U34=1,$C34,"") | AD34: =+IF(V34=1,$C34,"") | AE34: =+IF(W34=1,$C34,"") | AF34: =+IF(X34=1,$C34,"") | AG34: =+IF(Y34=1,$C34,"") | AH34: =+IF(Z34=1,$C34,"")
B35: samedi | C35: 43498 | D35: R | E35: R | F35: M EXT | G35: R | H35: R | I35: R | J35: 17H 5H | N35: =COUNTIF($D35:$L35,N$1) -> 1 | O35: =COUNTIF($D35:$L35,O$1) -> 0 | P35: =COUNTIF($D35:$L35,P$1) -> 0 | Q35: =COUNTIF($D35:$L35,Q$1) -> 0 | R35: =COUNTIF($D35:$L35,R$1) -> 1 | T35: =IF($B35="samedi",IF(D35="r","",IF(D35="","",IF(D35="fe","",IF(D35="cp","",1)))),IF($B35="dimanche",IF(D35="r","",IF(D35="","",IF(D35="fe","",IF(D35="cp","",1)))),"")) | U35: =IF($B35="samedi",IF(E35="r","",IF(E35="","",IF(E35="fe","",IF(E35="cp","",1)))),IF($B35="dimanche",IF(E35="r","",IF(E35="","",IF(E35="fe","",IF(E35="cp","",1)))),"")) | V35: =IF($B35="samedi",IF(F35="r","",IF(F35="","",IF(F35="fe","",IF(F35="cp","",1)))),IF($B35="dimanche",IF(F35="r","",IF(F35="","",IF(F35="fe","",IF(F35="cp","",1)))),"")) -> 1 | W35: =IF($B35="samedi",IF(G35="r","",IF(G35="","",IF(G35="fe","",IF(G35="cp","",1)))),IF($B35="dimanche",IF(G35="r","",IF(G35="","",IF(G35="fe","",IF(G35="cp","",1)))),"")) | X35: =IF($B35="samedi",IF(H35="r","",IF(H35="","",IF(H35="fe","",IF(H35="cp","",1)))),IF($B35="dimanche",IF(H35="r","",IF(H35="","",IF(H35="fe","",IF(H35="cp","",1)))),"")) | Y35: =IF($B35="samedi",IF(I35="r","",IF(I35="","",IF(I35="fe","",IF(I35="cp","",1)))),IF($B35="dimanche",IF(I35="r","",IF(I35="","",IF(I35="fe","",IF(I35="cp","",1)))),"")) | Z35: =IF($B35="samedi",IF(J35="r","",IF(J35="","",IF(J35="fe","",IF(J35="cp","",1)))),IF($B35="dimanche",IF(J35="r","",IF(J35="","",IF(J35="fe","",IF(J35="cp","",1)))),"")) -> 1 | AB35: =+IF(T35=1,$C35,"") | AC35: =+IF(U35=1,$C35,"") | AD35: =+IF(V35=1,$C35,"") -> 43498 | AE35: =+IF(W35=1,$C35,"") | AF35: =+IF(X35=1,$C35,"") | AG35: =+IF(Y35=1,$C35,"") | AH35: =+IF(Z35=1,$C35,"") -> 43498
B36: dimanche | C36: 43499 | D36: R | E36: R | F36: M EXT | G36: R | H36: R | I36: R | J36: 17H 5H | N36: =COUNTIF($D36:$L36,N$1) -> 1 | O36: =COUNTIF($D36:$L36,O$1) -> 0 | P36: =COUNTIF($D36:$L36,P$1) -> 0 | Q36: =COUNTIF($D36:$L36,Q$1) -> 0 | R36: =COUNTIF($D36:$L36,R$1) -> 1 | T36: =IF($B36="samedi",IF(D36="r","",IF(D36="","",IF(D36="fe","",IF(D36="cp","",1)))),IF($B36="dimanche",IF(D36="r","",IF(D36="","",IF(D36="fe","",IF(D36="cp","",1)))),"")) | U36: =IF($B36="samedi",IF(E36="r","",IF(E36="","",IF(E36="fe","",IF(E36="cp","",1)))),IF($B36="dimanche",IF(E36="r","",IF(E36="","",IF(E36="fe","",IF(E36="cp","",1)))),"")) | V36: =IF($B36="samedi",IF(F36="r","",IF(F36="","",IF(F36="fe","",IF(F36="cp","",1)))),IF($B36="dimanche",IF(F36="r","",IF(F36="","",IF(F36="fe","",IF(F36="cp","",1)))),"")) -> 1 | W36: =IF($B36="samedi",IF(G36="r","",IF(G36="","",IF(G36="fe","",IF(G36="cp","",1)))),IF($B36="dimanche",IF(G36="r","",IF(G36="","",IF(G36="fe","",IF(G36="cp","",1)))),"")) | X36: =IF($B36="samedi",IF(H36="r","",IF(H36="","",IF(H36="fe","",IF(H36="cp","",1)))),IF($B36="dimanche",IF(H36="r","",IF(H36="","",IF(H36="fe","",IF(H36="cp","",1)))),"")) | Y36: =IF($B36="samedi",IF(I36="r","",IF(I36="","",IF(I36="fe","",IF(I36="cp","",1)))),IF($B36="dimanche",IF(I36="r","",IF(I36="","",IF(I36="fe","",IF(I36="cp","",1)))),"")) | Z36: =IF($B36="samedi",IF(J36="r","",IF(J36="","",IF(J36="fe","",IF(J36="cp","",1)))),IF($B36="dimanche",IF(J36="r","",IF(J36="","",IF(J36="fe","",IF(J36="cp","",1)))),"")) -> 1 | AB36: =+IF(T36=1,$C36,"") | AC36: =+IF(U36=1,$C36,"") | AD36: =+IF(V36=1,$C36,"") -> 43499 | AE36: =+IF(W36=1,$C36,"") | AF36: =+IF(X36=1,$C36,"") | AG36: =+IF(Y36=1,$C36,"") | AH36: =+IF(Z36=1,$C36,"") -> 43499
