Workbook

Sheet PLANNING
A1: SEMAINE | B1: jour | C1: date | D1: JA | E1: SAV | F1: DR | G1: AE | H1: YD | I1: GL | J1: PC | L1: JPB | M1: M EXT | N1: AM EXT | O1: N EXT | P1: 5h 17h | Q1: 17h 5h
A2: S1 | B2: lundi | C2: 43465 | D2: R | E2: R | F2: R | G2: CP | H2: M EXT | I2: J EXT | J2: R | M2: =COUNTIF($D2:$L2,M$1) -> 1 | N2: =COUNTIF($D2:$L2,N$1) -> 0 | O2: =COUNTIF($D2:$L2,O$1) -> 0 | P2: =COUNTIF($D2:$L2,P$1) -> 0 | Q2: =COUNTIF($D2:$L2,Q$1) -> 0 | S2: =IF($B2="samedi",IF(D2="r",0,IF(D2="",0,1)),IF($B2="dimanche",IF(D2="r",0,1),0)) -> 0 | T2: =IF($B2="samedi",IF(E2="r",0,IF(E2="",0,1)),IF($B2="dimanche",IF(E2="r",0,1),0)) -> 0 | U2: =IF($B2="samedi",IF(F2="r",0,IF(F2="",0,1)),IF($B2="dimanche",IF(F2="r",0,1),0)) -> 0 | V2: =IF($B2="samedi",IF(G2="r",0,IF(G2="",0,1)),IF($B2="dimanche",IF(G2="r",0,1),0)) -> 0 | W2: =IF($B2="samedi",IF(H2="r",0,IF(H2="",0,1)),IF($B2="dimanche",IF(H2="r",0,1),0)) -> 0 | X2: =IF($B2="samedi",IF(I2="r",0,IF(I2="",0,1)),IF($B2="dimanche",IF(I2="r",0,1),0)) -> 0 | Y2: =IF($B2="samedi",IF(J2="r",0,IF(J2="",0,1)),IF($B2="dimanche",IF(J2="r",0,1),0)) -> 0
B3: mardi | C3: 43466 | D3: FE | E3: N EXT | F3: FE | G3: FE | H3: FE | I3: AM EXT | J3: R | M3: =COUNTIF($D3:$L3,M$1) -> 0 | N3: =COUNTIF($D3:$L3,N$1) -> 1 | O3: =COUNTIF($D3:$L3,O$1) -> 1 | P3: =COUNTIF($D3:$L3,P$1) -> 0 | Q3: =COUNTIF($D3:$L3,Q$1) -> 0 | S3: =IF($B3="samedi",IF(D3="r",0,IF(D3="",0,1)),IF($B3="dimanche",IF(D3="r",0,1),0)) -> 0 | T3: =IF($B3="samedi",IF(E3="r",0,IF(E3="",0,1)),IF($B3="dimanche",IF(E3="r",0,1),0)) -> 0 | U3: =IF($B3="samedi",IF(F3="r",0,IF(F3="",0,1)),IF($B3="dimanche",IF(F3="r",0,1),0)) -> 0 | V3: =IF($B3="samedi",IF(G3="r",0,IF(G3="",0,1)),IF($B3="dimanche",IF(G3="r",0,1),0)) -> 0 | W3: =IF($B3="samedi",IF(H3="r",0,IF(H3="",0,1)),IF($B3="dimanche",IF(H3="r",0,1),0)) -> 0 | X3: =IF($B3="samedi",IF(I3="r",0,IF(I3="",0,1)),IF($B3="dimanche",IF(I3="r",0,1),0)) -> 0 | Y3: =IF($B3="samedi",IF(J3="r",0,IF(J3="",0,1)),IF($B3="dimanche",IF(J3="r",0,1),0)) -> 0
B4: mercredi | C4: 43467 | D4: R | E4: N EXT | F4: J EXT | G4: CP | H4: M EXT | I4: AM EXT | J4: R | M4: =COUNTIF($D4:$L4,M$1) -> 1 | N4: =COUNTIF($D4:$L4,N$1) -> 1 | O4: =COUNTIF($D4:$L4,O$1) -> 1 | P4: =COUNTIF($D4:$L4,P$1) -> 0 | Q4: =COUNTIF($D4:$L4,Q$1) -> 0 | S4: =IF($B4="samedi",IF(D4="r",0,IF(D4="",0,1)),IF($B4="dimanche",IF(D4="r",0,1),0)) -> 0 | T4: =IF($B4="samedi",IF(E4="r",0,IF(E4="",0,1)),IF($B4="dimanche",IF(E4="r",0,1),0)) -> 0 | U4: =IF($B4="samedi",IF(F4="r",0,IF(F4="",0,1)),IF($B4="dimanche",IF(F4="r",0,1),0)) -> 0 | V4: =IF($B4="samedi",IF(G4="r",0,IF(G4="",0,1)),IF($B4="dimanche",IF(G4="r",0,1),0)) -> 0 | W4: =IF($B4="samedi",IF(H4="r",0,IF(H4="",0,1)),IF($B4="dimanche",IF(H4="r",0,1),0)) -> 0 | X4: =IF($B4="samedi",IF(I4="r",0,IF(I4="",0,1)),IF($B4="dimanche",IF(I4="r",0,1),0)) -> 0 | Y4: =IF($B4="samedi",IF(J4="r",0,IF(J4="",0,1)),IF($B4="dimanche",IF(J4="r",0,1),0)) -> 0
B5: jeudi | C5: 43468 | D5: J EXT | E5: N EXT | F5: J EXT | G5: CP | H5: M EXT | I5: AM EXT | J5: R | L5: J EXT | M5: =COUNTIF($D5:$L5,M$1) -> 1 | N5: =COUNTIF($D5:$L5,N$1) -> 1 | O5: =COUNTIF($D5:$L5,O$1) -> 1 | P5: =COUNTIF($D5:$L5,P$1) -> 0 | Q5: =COUNTIF($D5:$L5,Q$1) -> 0 | S5: =IF($B5="samedi",IF(D5="r",0,IF(D5="",0,1)),IF($B5="dimanche",IF(D5="r",0,1),0)) -> 0 | T5: =IF($B5="samedi",IF(E5="r",0,IF(E5="",0,1)),IF($B5="dimanche",IF(E5="r",0,1),0)) -> 0 | U5: =IF($B5="samedi",IF(F5="r",0,IF(F5="",0,1)),IF($B5="dimanche",IF(F5="r",0,1),0)) -> 0 | V5: =IF($B5="samedi",IF(G5="r",0,IF(G5="",0,1)),IF($B5="dimanche",IF(G5="r",0,1),0)) -> 0 | W5: =IF($B5="samedi",IF(H5="r",0,IF(H5="",0,1)),IF($B5="dimanche",IF(H5="r",0,1),0)) -> 0 | X5: =IF($B5="samedi",IF(I5="r",0,IF(I5="",0,1)),IF($B5="dimanche",IF(I5="r",0,1),0)) -> 0 | Y5: =IF($B5="samedi",IF(J5="r",0,IF(J5="",0,1)),IF($B5="dimanche",IF(J5="r",0,1),0)) -> 0
B6: vendredi | C6: 43469 | D6: J EXT | E6: N EXT | F6: J EXT | G6: CP | H6: M EXT | I6: AM EXT | J6: R | L6: J EXT | M6: =COUNTIF($D6:$L6,M$1) -> 1 | N6: =COUNTIF($D6:$L6,N$1) -> 1 | O6: =COUNTIF($D6:$L6,O$1) -> 1 | P6: =COUNTIF($D6:$L6,P$1) -> 0 | Q6: =COUNTIF($D6:$L6,Q$1) -> 0 | S6: =IF($B6="samedi",IF(D6="r",0,IF(D6="",0,1)),IF($B6="dimanche",IF(D6="r",0,1),0)) -> 0 | T6: =IF($B6="samedi",IF(E6="r",0,IF(E6="",0,1)),IF($B6="dimanche",IF(E6="r",0,1),0)) -> 0 | U6: =IF($B6="samedi",IF(F6="r",0,IF(F6="",0,1)),IF($B6="dimanche",IF(F6="r",0,1),0)) -> 0 | V6: =IF($B6="samedi",IF(G6="r",0,IF(G6="",0,1)),IF($B6="dimanche",IF(G6="r",0,1),0)) -> 0 | W6: =IF($B6="samedi",IF(H6="r",0,IF(H6="",0,1)),IF($B6="dimanche",IF(H6="r",0,1),0)) -> 0 | X6: =IF($B6="samedi",IF(I6="r",0,IF(I6="",0,1)),IF($B6="dimanche",IF(I6="r",0,1),0)) -> 0 | Y6: =IF($B6="samedi",IF(J6="r",0,IF(J6="",0,1)),IF($B6="dimanche",IF(J6="r",0,1),0)) -> 0
B7: samedi | C7: 43470 | D7: R | E7: R | F7: M EXT | G7: R | H7: R | I7: R | J7: 17H 5H | M7: =COUNTIF($D7:$L7,M$1) -> 1 | N7: =COUNTIF($D7:$L7,N$1) -> 0 | O7: =COUNTIF($D7:$L7,O$1) -> 0 | P7: =COUNTIF($D7:$L7,P$1) -> 0 | Q7: =COUNTIF($D7:$L7,Q$1) -> 1 | S7: =IF($B7="samedi",IF(D7="r",0,IF(D7="",0,1)),IF($B7="dimanche",IF(D7="r",0,1),0)) -> 0 | T7: =IF($B7="samedi",IF(E7="r",0,IF(E7="",0,1)),IF($B7="dimanche",IF(E7="r",0,1),0)) -> 0 | U7: =IF($B7="samedi",IF(F7="r",0,IF(F7="",0,1)),IF($B7="dimanche",IF(F7="r",0,1),0)) -> 1 | V7: =IF($B7="samedi",IF(G7="r",0,IF(G7="",0,1)),IF($B7="dimanche",IF(G7="r",0,1),0)) -> 0 | W7: =IF($B7="samedi",IF(H7="r",0,IF(H7="",0,1)),IF($B7="dimanche",IF(H7="r",0,1),0)) -> 0 | X7: =IF($B7="samedi",IF(I7="r",0,IF(I7="",0,1)),IF($B7="dimanche",IF(I7="r",0,1),0)) -> 0 | Y7: =IF($B7="samedi",IF(J7="r",0,IF(J7="",0,1)),IF($B7="dimanche",IF(J7="r",0,1),0)) -> 1
B8: dimanche | C8: 43471 | D8: R | E8: R | F8: M EXT | G8: R | H8: R | I8: R | J8: 17H 5H | M8: =COUNTIF($D8:$L8,M$1) -> 1 | N8: =COUNTIF($D8:$L8,N$1) -> 0 | O8: =COUNTIF($D8:$L8,O$1) -> 0 | P8: =COUNTIF($D8:$L8,P$1) -> 0 | Q8: =COUNTIF($D8:$L8,Q$1) -> 1 | S8: =IF($B8="samedi",IF(D8="r",0,IF(D8="",0,1)),IF($B8="dimanche",IF(D8="r",0,1),0)) -> 0 | T8: =IF($B8="samedi",IF(E8="r",0,IF(E8="",0,1)),IF($B8="dimanche",IF(E8="r",0,1),0)) -> 0 | U8: =IF($B8="samedi",IF(F8="r",0,IF(F8="",0,1)),IF($B8="dimanche",IF(F8="r",0,1),0)) -> 1 | V8: =IF($B8="samedi",IF(G8="r",0,IF(G8="",0,1)),IF($B8="dimanche",IF(G8="r",0,1),0)) -> 0 | W8: =IF($B8="samedi",IF(H8="r",0,IF(H8="",0,1)),IF($B8="dimanche",IF(H8="r",0,1),0)) -> 0 | X8: =IF($B8="samedi",IF(I8="r",0,IF(I8="",0,1)),IF($B8="dimanche",IF(I8="r",0,1),0)) -> 0 | Y8: =IF($B8="samedi",IF(J8="r",0,IF(J8="",0,1)),IF($B8="dimanche",IF(J8="r",0,1),0)) -> 1
A9: S2 | B9: lundi | C9: 43472 | D9: J EXT | E9: M EXT | F9: R | G9: R | H9: N EXT | I9: AM EXT | J9: R | M9: =COUNTIF($D9:$L9,M$1) -> 1 | N9: =COUNTIF($D9:$L9,N$1) -> 1 | O9: =COUNTIF($D9:$L9,O$1) -> 1 | P9: =COUNTIF($D9:$L9,P$1) -> 0 | Q9: =COUNTIF($D9:$L9,Q$1) -> 0 | S9: =IF($B9="samedi",IF(D9="r",0,IF(D9="",0,1)),IF($B9="dimanche",IF(D9="r",0,1),0)) -> 0 | T9: =IF($B9="samedi",IF(E9="r",0,IF(E9="",0,1)),IF($B9="dimanche",IF(E9="r",0,1),0)) -> 0 | U9: =IF($B9="samedi",IF(F9="r",0,IF(F9="",0,1)),IF($B9="dimanche",IF(F9="r",0,1),0)) -> 0 | V9: =IF($B9="samedi",IF(G9="r",0,IF(G9="",0,1)),IF($B9="dimanche",IF(G9="r",0,1),0)) -> 0 | W9: =IF($B9="samedi",IF(H9="r",0,IF(H9="",0,1)),IF($B9="dimanche",IF(H9="r",0,1),0)) -> 0 | X9: =IF($B9="samedi",IF(I9="r",0,IF(I9="",0,1)),IF($B9="dimanche",IF(I9="r",0,1),0)) -> 0 | Y9: =IF($B9="samedi",IF(J9="r",0,IF(J9="",0,1)),IF($B9="dimanche",IF(J9="r",0,1),0)) -> 0
B10: mardi | C10: 43473 | D10: J EXT | E10: M EXT | F10: R | G10: R | H10: N EXT | I10: AM EXT | J10: R | M10: =COUNTIF($D10:$L10,M$1) -> 1 | N10: =COUNTIF($D10:$L10,N$1) -> 1 | O10: =COUNTIF($D10:$L10,O$1) -> 1 | P10: =COUNTIF($D10:$L10,P$1) -> 0 | Q10: =COUNTIF($D10:$L10,Q$1) -> 0 | S10: =IF($B10="samedi",IF(D10="r",0,IF(D10="",0,1)),IF($B10="dimanche",IF(D10="r",0,1),0)) -> 0 | T10: =IF($B10="samedi",IF(E10="r",0,IF(E10="",0,1)),IF($B10="dimanche",IF(E10="r",0,1),0)) -> 0 | U10: =IF($B10="samedi",IF(F10="r",0,IF(F10="",0,1)),IF($B10="dimanche",IF(F10="r",0,1),0)) -> 0 | V10: =IF($B10="samedi",IF(G10="r",0,IF(G10="",0,1)),IF($B10="dimanche",IF(G10="r",0,1),0)) -> 0 | W10: =IF($B10="samedi",IF(H10="r",0,IF(H10="",0,1)),IF($B10="dimanche",IF(H10="r",0,1),0)) -> 0 | X10: =IF($B10="samedi",IF(I10="r",0,IF(I10="",0,1)),IF($B10="dimanche",IF(I10="r",0,1),0)) -> 0 | Y10: =IF($B10="samedi",IF(J10="r",0,IF(J10="",0,1)),IF($B10="dimanche",IF(J10="r",0,1),0)) -> 0
B11: mercredi | C11: 43474 | D11: J EXT | E11: M EXT | F11: AM EXT | G11: J EXT | H11: N EXT | I11: R | J11: R | M11: =COUNTIF($D11:$L11,M$1) -> 1 | N11: =COUNTIF($D11:$L11,N$1) -> 1 | O11: =COUNTIF($D11:$L11,O$1) -> 1 | P11: =COUNTIF($D11:$L11,P$1) -> 0 | Q11: =COUNTIF($D11:$L11,Q$1) -> 0 | S11: =IF($B11="samedi",IF(D11="r",0,IF(D11="",0,1)),IF($B11="dimanche",IF(D11="r",0,1),0)) -> 0 | T11: =IF($B11="samedi",IF(E11="r",0,IF(E11="",0,1)),IF($B11="dimanche",IF(E11="r",0,1),0)) -> 0 | U11: =IF($B11="samedi",IF(F11="r",0,IF(F11="",0,1)),IF($B11="dimanche",IF(F11="r",0,1),0)) -> 0 | V11: =IF($B11="samedi",IF(G11="r",0,IF(G11="",0,1)),IF($B11="dimanche",IF(G11="r",0,1),0)) -> 0 | W11: =IF($B11="samedi",IF(H11="r",0,IF(H11="",0,1)),IF($B11="dimanche",IF(H11="r",0,1),0)) -> 0 | X11: =IF($B11="samedi",IF(I11="r",0,IF(I11="",0,1)),IF($B11="dimanche",IF(I11="r",0,1),0)) -> 0 | Y11: =IF($B11="samedi",IF(J11="r",0,IF(J11="",0,1)),IF($B11="dimanche",IF(J11="r",0,1),0)) -> 0
B12: jeudi | C12: 43475 | D12: J EXT | E12: M EXT | F12: AM EXT | G12: J EXT | H12: N EXT | I12: R | J12: R | M12: =COUNTIF($D12:$L12,M$1) -> 1 | N12: =COUNTIF($D12:$L12,N$1) -> 1 | O12: =COUNTIF($D12:$L12,O$1) -> 1 | P12: =COUNTIF($D12:$L12,P$1) -> 0 | Q12: =COUNTIF($D12:$L12,Q$1) -> 0 | S12: =IF($B12="samedi",IF(D12="r",0,IF(D12="",0,1)),IF($B12="dimanche",IF(D12="r",0,1),0)) -> 0 | T12: =IF($B12="samedi",IF(E12="r",0,IF(E12="",0,1)),IF($B12="dimanche",IF(E12="r",0,1),0)) -> 0 | U12: =IF($B12="samedi",IF(F12="r",0,IF(F12="",0,1)),IF($B12="dimanche",IF(F12="r",0,1),0)) -> 0 | V12: =IF($B12="samedi",IF(G12="r",0,IF(G12="",0,1)),IF($B12="dimanche",IF(G12="r",0,1),0)) -> 0 | W12: =IF($B12="samedi",IF(H12="r",0,IF(H12="",0,1)),IF($B12="dimanche",IF(H12="r",0,1),0)) -> 0 | X12: =IF($B12="samedi",IF(I12="r",0,IF(I12="",0,1)),IF($B12="dimanche",IF(I12="r",0,1),0)) -> 0 | Y12: =IF($B12="samedi",IF(J12="r",0,IF(J12="",0,1)),IF($B12="dimanche",IF(J12="r",0,1),0)) -> 0
B13: vendredi | C13: 43476 | D13: J EXT | E13: R | F13: AM EXT | G13: J EXT | H13: N EXT | I13: M EXT | J13: R | M13: =COUNTIF($D13:$L13,M$1) -> 1 | N13: =COUNTIF($D13:$L13,N$1) -> 1 | O13: =COUNTIF($D13:$L13,O$1) -> 1 | P13: =COUNTIF($D13:$L13,P$1) -> 0 | Q13: =COUNTIF($D13:$L13,Q$1) -> 0 | S13: =IF($B13="samedi",IF(D13="r",0,IF(D13="",0,1)),IF($B13="dimanche",IF(D13="r",0,1),0)) -> 0 | T13: =IF($B13="samedi",IF(E13="r",0,IF(E13="",0,1)),IF($B13="dimanche",IF(E13="r",0,1),0)) -> 0 | U13: =IF($B13="samedi",IF(F13="r",0,IF(F13="",0,1)),IF($B13="dimanche",IF(F13="r",0,1),0)) -> 0 | V13: =IF($B13="samedi",IF(G13="r",0,IF(G13="",0,1)),IF($B13="dimanche",IF(G13="r",0,1),0)) -> 0 | W13: =IF($B13="samedi",IF(H13="r",0,IF(H13="",0,1)),IF($B13="dimanche",IF(H13="r",0,1),0)) -> 0 | X13: =IF($B13="samedi",IF(I13="r",0,IF(I13="",0,1)),IF($B13="dimanche",IF(I13="r",0,1),0)) -> 0 | Y13: =IF($B13="samedi",IF(J13="r",0,IF(J13="",0,1)),IF($B13="dimanche",IF(J13="r",0,1),0)) -> 0
B14: samedi | C14: 43477 | D14: R | E14: R | F14: R | G14: R | H14: R | I14: M EXT | J14: 17H 5H | M14: =COUNTIF($D14:$L14,M$1) -> 1 | N14: =COUNTIF($D14:$L14,N$1) -> 0 | O14: =COUNTIF($D14:$L14,O$1) -> 0 | P14: =COUNTIF($D14:$L14,P$1) -> 0 | Q14: =COUNTIF($D14:$L14,Q$1) -> 1 | S14: =IF($B14="samedi",IF(D14="r",0,IF(D14="",0,1)),IF($B14="dimanche",IF(D14="r",0,1),0)) -> 0 | T14: =IF($B14="samedi",IF(E14="r",0,IF(E14="",0,1)),IF($B14="dimanche",IF(E14="r",0,1),0)) -> 0 | U14: =IF($B14="samedi",IF(F14="r",0,IF(F14="",0,1)),IF($B14="dimanche",IF(F14="r",0,1),0)) -> 0 | V14: =IF($B14="samedi",IF(G14="r",0,IF(G14="",0,1)),IF($B14="dimanche",IF(G14="r",0,1),0)) -> 0 | W14: =IF($B14="samedi",IF(H14="r",0,IF(H14="",0,1)),IF($B14="dimanche",IF(H14="r",0,1),0)) -> 0 | X14: =IF($B14="samedi",IF(I14="r",0,IF(I14="",0,1)),IF($B14="dimanche",IF(I14="r",0,1),0)) -> 1 | Y14: =IF($B14="samedi",IF(J14="r",0,IF(J14="",0,1)),IF($B14="dimanche",IF(J14="r",0,1),0)) -> 1
B15: dimanche | C15: 43478 | D15: R | E15: R | F15: R | G15: R | H15: R | I15: M EXT | J15: 17H 5H | M15: =COUNTIF($D15:$L15,M$1) -> 1 | N15: =COUNTIF($D15:$L15,N$1) -> 0 | O15: =COUNTIF($D15:$L15,O$1) -> 0 | P15: =COUNTIF($D15:$L15,P$1) -> 0 | Q15: =COUNTIF($D15:$L15,Q$1) -> 1 | S15: =IF($B15="samedi",IF(D15="r",0,IF(D15="",0,1)),IF($B15="dimanche",IF(D15="r",0,1),0)) -> 0 | T15: =IF($B15="samedi",IF(E15="r",0,IF(E15="",0,1)),IF($B15="dimanche",IF(E15="r",0,1),0)) -> 0 | U15: =IF($B15="samedi",IF(F15="r",0,IF(F15="",0,1)),IF($B15="dimanche",IF(F15="r",0,1),0)) -> 0 | V15: =IF($B15="samedi",IF(G15="r",0,IF(G15="",0,1)),IF($B15="dimanche",IF(G15="r",0,1),0)) -> 0 | W15: =IF($B15="samedi",IF(H15="r",0,IF(H15="",0,1)),IF($B15="dimanche",IF(H15="r",0,1),0)) -> 0 | X15: =IF($B15="samedi",IF(I15="r",0,IF(I15="",0,1)),IF($B15="dimanche",IF(I15="r",0,1),0)) -> 1 | Y15: =IF($B15="samedi",IF(J15="r",0,IF(J15="",0,1)),IF($B15="dimanche",IF(J15="r",0,1),0)) -> 1
A16: S3 | B16: lundi | C16: 43479 | D16: J EXT | E16: N EXT | F16: J EXT | G16: AM EXT | H16: J EXT | I16: M EXT | J16: R | M16: =COUNTIF($D16:$L16,M$1) -> 1 | N16: =COUNTIF($D16:$L16,N$1) -> 1 | O16: =COUNTIF($D16:$L16,O$1) -> 1 | P16: =COUNTIF($D16:$L16,P$1) -> 0 | Q16: =COUNTIF($D16:$L16,Q$1) -> 0 | S16: =IF($B16="samedi",IF(D16="r",0,IF(D16="",0,1)),IF($B16="dimanche",IF(D16="r",0,1),0)) -> 0 | T16: =IF($B16="samedi",IF(E16="r",0,IF(E16="",0,1)),IF($B16="dimanche",IF(E16="r",0,1),0)) -> 0 | U16: =IF($B16="samedi",IF(F16="r",0,IF(F16="",0,1)),IF($B16="dimanche",IF(F16="r",0,1),0)) -> 0 | V16: =IF($B16="samedi",IF(G16="r",0,IF(G16="",0,1)),IF($B16="dimanche",IF(G16="r",0,1),0)) -> 0 | W16: =IF($B16="samedi",IF(H16="r",0,IF(H16="",0,1)),IF($B16="dimanche",IF(H16="r",0,1),0)) -> 0 | X16: =IF($B16="samedi",IF(I16="r",0,IF(I16="",0,1)),IF($B16="dimanche",IF(I16="r",0,1),0)) -> 0 | Y16: =IF($B16="samedi",IF(J16="r",0,IF(J16="",0,1)),IF($B16="dimanche",IF(J16="r",0,1),0)) -> 0
B17: mardi | C17: 43480 | D17: J EXT | E17: N EXT | F17: J EXT | G17: AM EXT | H17: J EXT | I17: M EXT | J17: R | M17: =COUNTIF($D17:$L17,M$1) -> 1 | N17: =COUNTIF($D17:$L17,N$1) -> 1 | O17: =COUNTIF($D17:$L17,O$1) -> 1 | P17: =COUNTIF($D17:$L17,P$1) -> 0 | Q17: =COUNTIF($D17:$L17,Q$1) -> 0 | S17: =IF($B17="samedi",IF(D17="r",0,IF(D17="",0,1)),IF($B17="dimanche",IF(D17="r",0,1),0)) -> 0 | T17: =IF($B17="samedi",IF(E17="r",0,IF(E17="",0,1)),IF($B17="dimanche",IF(E17="r",0,1),0)) -> 0 | U17: =IF($B17="samedi",IF(F17="r",0,IF(F17="",0,1)),IF($B17="dimanche",IF(F17="r",0,1),0)) -> 0 | V17: =IF($B17="samedi",IF(G17="r",0,IF(G17="",0,1)),IF($B17="dimanche",IF(G17="r",0,1),0)) -> 0 | W17: =IF($B17="samedi",IF(H17="r",0,IF(H17="",0,1)),IF($B17="dimanche",IF(H17="r",0,1),0)) -> 0 | X17: =IF($B17="samedi",IF(I17="r",0,IF(I17="",0,1)),IF($B17="dimanche",IF(I17="r",0,1),0)) -> 0 | Y17: =IF($B17="samedi",IF(J17="r",0,IF(J17="",0,1)),IF($B17="dimanche",IF(J17="r",0,1),0)) -> 0
B18: mercredi | C18: 43481 | D18: J EXT | E18: N EXT | F18: MAL | G18: AM EXT | H18: M EXT | I18: R | J18: R | M18: =COUNTIF($D18:$L18,M$1) -> 1 | N18: =COUNTIF($D18:$L18,N$1) -> 1 | O18: =COUNTIF($D18:$L18,O$1) -> 1 | P18: =COUNTIF($D18:$L18,P$1) -> 0 | Q18: =COUNTIF($D18:$L18,Q$1) -> 0 | S18: =IF($B18="samedi",IF(D18="r",0,IF(D18="",0,1)),IF($B18="dimanche",IF(D18="r",0,1),0)) -> 0 | T18: =IF($B18="samedi",IF(E18="r",0,IF(E18="",0,1)),IF($B18="dimanche",IF(E18="r",0,1),0)) -> 0 | U18: =IF($B18="samedi",IF(F18="r",0,IF(F18="",0,1)),IF($B18="dimanche",IF(F18="r",0,1),0)) -> 0 | V18: =IF($B18="samedi",IF(G18="r",0,IF(G18="",0,1)),IF($B18="dimanche",IF(G18="r",0,1),0)) -> 0 | W18: =IF($B18="samedi",IF(H18="r",0,IF(H18="",0,1)),IF($B18="dimanche",IF(H18="r",0,1),0)) -> 0 | X18: =IF($B18="samedi",IF(I18="r",0,IF(I18="",0,1)),IF($B18="dimanche",IF(I18="r",0,1),0)) -> 0 | Y18: =IF($B18="samedi",IF(J18="r",0,IF(J18="",0,1)),IF($B18="dimanche",IF(J18="r",0,1),0)) -> 0
B19: jeudi | C19: 43482 | D19: J EXT | E19: R | F19: MAL | G19: AM EXT | H19: J EXT | I19: N EXT | J19: R | M19: =COUNTIF($D19:$L19,M$1) -> 0 | N19: =COUNTIF($D19:$L19,N$1) -> 1 | O19: =COUNTIF($D19:$L19,O$1) -> 1 | P19: =COUNTIF($D19:$L19,P$1) -> 0 | Q19: =COUNTIF($D19:$L19,Q$1) -> 0 | S19: =IF($B19="samedi",IF(D19="r",0,IF(D19="",0,1)),IF($B19="dimanche",IF(D19="r",0,1),0)) -> 0 | T19: =IF($B19="samedi",IF(E19="r",0,IF(E19="",0,1)),IF($B19="dimanche",IF(E19="r",0,1),0)) -> 0 | U19: =IF($B19="samedi",IF(F19="r",0,IF(F19="",0,1)),IF($B19="dimanche",IF(F19="r",0,1),0)) -> 0 | V19: =IF($B19="samedi",IF(G19="r",0,IF(G19="",0,1)),IF($B19="dimanche",IF(G19="r",0,1),0)) -> 0 | W19: =IF($B19="samedi",IF(H19="r",0,IF(H19="",0,1)),IF($B19="dimanche",IF(H19="r",0,1),0)) -> 0 | X19: =IF($B19="samedi",IF(I19="r",0,IF(I19="",0,1)),IF($B19="dimanche",IF(I19="r",0,1),0)) -> 0 | Y19: =IF($B19="samedi",IF(J19="r",0,IF(J19="",0,1)),IF($B19="dimanche",IF(J19="r",0,1),0)) -> 0
B20: vendredi | C20: 43483 | D20: J EXT | E20: R | F20: M EXT | G20: AM EXT | H20: J EXT | I20: N EXT | J20: R | M20: =COUNTIF($D20:$L20,M$1) -> 1 | N20: =COUNTIF($D20:$L20,N$1) -> 1 | O20: =COUNTIF($D20:$L20,O$1) -> 1 | P20: =COUNTIF($D20:$L20,P$1) -> 0 | Q20: =COUNTIF($D20:$L20,Q$1) -> 0 | S20: =IF($B20="samedi",IF(D20="r",0,IF(D20="",0,1)),IF($B20="dimanche",IF(D20="r",0,1),0)) -> 0 | T20: =IF($B20="samedi",IF(E20="r",0,IF(E20="",0,1)),IF($B20="dimanche",IF(E20="r",0,1),0)) -> 0 | U20: =IF($B20="samedi",IF(F20="r",0,IF(F20="",0,1)),IF($B20="dimanche",IF(F20="r",0,1),0)) -> 0 | V20: =IF($B20="samedi",IF(G20="r",0,IF(G20="",0,1)),IF($B20="dimanche",IF(G20="r",0,1),0)) -> 0 | W20: =IF($B20="samedi",IF(H20="r",0,IF(H20="",0,1)),IF($B20="dimanche",IF(H20="r",0,1),0)) -> 0 | X20: =IF($B20="samedi",IF(I20="r",0,IF(I20="",0,1)),IF($B20="dimanche",IF(I20="r",0,1),0)) -> 0 | Y20: =IF($B20="samedi",IF(J20="r",0,IF(J20="",0,1)),IF($B20="dimanche",IF(J20="r",0,1),0)) -> 0
B21: samedi | C21: 43484 | D21: R | E21: R | F21: R | G21: R | H21: R | I21: N EXT | J21: 5H 17H | M21: =COUNTIF($D21:$L21,M$1) -> 0 | N21: =COUNTIF($D21:$L21,N$1) -> 0 | O21: =COUNTIF($D21:$L21,O$1) -> 1 | P21: =COUNTIF($D21:$L21,P$1) -> 1 | Q21: =COUNTIF($D21:$L21,Q$1) -> 0 | S21: =IF($B21="samedi",IF(D21="r",0,IF(D21="",0,1)),IF($B21="dimanche",IF(D21="r",0,1),0)) -> 0 | T21: =IF($B21="samedi",IF(E21="r",0,IF(E21="",0,1)),IF($B21="dimanche",IF(E21="r",0,1),0)) -> 0 | U21: =IF($B21="samedi",IF(F21="r",0,IF(F21="",0,1)),IF($B21="dimanche",IF(F21="r",0,1),0)) -> 0 | V21: =IF($B21="samedi",IF(G21="r",0,IF(G21="",0,1)),IF($B21="dimanche",IF(G21="r",0,1),0)) -> 0 | W21: =IF($B21="samedi",IF(H21="r",0,IF(H21="",0,1)),IF($B21="dimanche",IF(H21="r",0,1),0)) -> 0 | X21: =IF($B21="samedi",IF(I21="r",0,IF(I21="",0,1)),IF($B21="dimanche",IF(I21="r",0,1),0)) -> 1 | Y21: =IF($B21="samedi",IF(J21="r",0,IF(J21="",0,1)),IF($B21="dimanche",IF(J21="r",0,1),0)) -> 1
B22: dimanche | C22: 43485 | D22: R | E22: R | F22: R | G22: R | H22: R | I22: N EXT | J22: 5H 17H | M22: =COUNTIF($D22:$L22,M$1) -> 0 | N22: =COUNTIF($D22:$L22,N$1) -> 0 | O22: =COUNTIF($D22:$L22,O$1) -> 1 | P22: =COUNTIF($D22:$L22,P$1) -> 1 | Q22: =COUNTIF($D22:$L22,Q$1) -> 0 | S22: =IF($B22="samedi",IF(D22="r",0,IF(D22="",0,1)),IF($B22="dimanche",IF(D22="r",0,1),0)) -> 0 | T22: =IF($B22="samedi",IF(E22="r",0,IF(E22="",0,1)),IF($B22="dimanche",IF(E22="r",0,1),0)) -> 0 | U22: =IF($B22="samedi",IF(F22="r",0,IF(F22="",0,1)),IF($B22="dimanche",IF(F22="r",0,1),0)) -> 0 | V22: =IF($B22="samedi",IF(G22="r",0,IF(G22="",0,1)),IF($B22="dimanche",IF(G22="r",0,1),0)) -> 0 | W22: =IF($B22="samedi",IF(H22="r",0,IF(H22="",0,1)),IF($B22="dimanche",IF(H22="r",0,1),0)) -> 0 | X22: =IF($B22="samedi",IF(I22="r",0,IF(I22="",0,1)),IF($B22="dimanche",IF(I22="r",0,1),0)) -> 1 | Y22: =IF($B22="samedi",IF(J22="r",0,IF(J22="",0,1)),IF($B22="dimanche",IF(J22="r",0,1),0)) -> 1
A23: S4 | B23: lundi | C23: 43486 | D23: J EXT | E23: M EXT | F23: AM EXT | G23: N EXT | H23: CP | I23: R | J23: R | M23: =COUNTIF($D23:$L23,M$1) -> 1 | N23: =COUNTIF($D23:$L23,N$1) -> 1 | O23: =COUNTIF($D23:$L23,O$1) -> 1 | P23: =COUNTIF($D23:$L23,P$1) -> 0 | Q23: =COUNTIF($D23:$L23,Q$1) -> 0 | S23: =IF($B23="samedi",IF(D23="r",0,IF(D23="",0,1)),IF($B23="dimanche",IF(D23="r",0,1),0)) -> 0 | T23: =IF($B23="samedi",IF(E23="r",0,IF(E23="",0,1)),IF($B23="dimanche",IF(E23="r",0,1),0)) -> 0 | U23: =IF($B23="samedi",IF(F23="r",0,IF(F23="",0,1)),IF($B23="dimanche",IF(F23="r",0,1),0)) -> 0 | V23: =IF($B23="samedi",IF(G23="r",0,IF(G23="",0,1)),IF($B23="dimanche",IF(G23="r",0,1),0)) -> 0 | W23: =IF($B23="samedi",IF(H23="r",0,IF(H23="",0,1)),IF($B23="dimanche",IF(H23="r",0,1),0)) -> 0 | X23: =IF($B23="samedi",IF(I23="r",0,IF(I23="",0,1)),IF($B23="dimanche",IF(I23="r",0,1),0)) -> 0 | Y23: =IF($B23="samedi",IF(J23="r",0,IF(J23="",0,1)),IF($B23="dimanche",IF(J23="r",0,1),0)) -> 0
B24: mardi | C24: 43487 | D24: J EXT | E24: M EXT | F24: AM EXT | G24: N EXT | H24: CP | I24: R | J24: R | L24: J EXT | M24: =COUNTIF($D24:$L24,M$1) -> 1 | N24: =COUNTIF($D24:$L24,N$1) -> 1 | O24: =COUNTIF($D24:$L24,O$1) -> 1 | P24: =COUNTIF($D24:$L24,P$1) -> 0 | Q24: =COUNTIF($D24:$L24,Q$1) -> 0 | S24: =IF($B24="samedi",IF(D24="r",0,IF(D24="",0,1)),IF($B24="dimanche",IF(D24="r",0,1),0)) -> 0 | T24: =IF($B24="samedi",IF(E24="r",0,IF(E24="",0,1)),IF($B24="dimanche",IF(E24="r",0,1),0)) -> 0 | U24: =IF($B24="samedi",IF(F24="r",0,IF(F24="",0,1)),IF($B24="dimanche",IF(F24="r",0,1),0)) -> 0 | V24: =IF($B24="samedi",IF(G24="r",0,IF(G24="",0,1)),IF($B24="dimanche",IF(G24="r",0,1),0)) -> 0 | W24: =IF($B24="samedi",IF(H24="r",0,IF(H24="",0,1)),IF($B24="dimanche",IF(H24="r",0,1),0)) -> 0 | X24: =IF($B24="samedi",IF(I24="r",0,IF(I24="",0,1)),IF($B24="dimanche",IF(I24="r",0,1),0)) -> 0 | Y24: =IF($B24="samedi",IF(J24="r",0,IF(J24="",0,1)),IF($B24="dimanche",IF(J24="r",0,1),0)) -> 0
B25: mercredi | C25: 43488 | D25: J EXT | E25: M EXT | F25: R | G25: N EXT | H25: CP | I25: AM EXT | J25: R | L25: J EXT | M25: =COUNTIF($D25:$L25,M$1) -> 1 | N25: =COUNTIF($D25:$L25,N$1) -> 1 | O25: =COUNTIF($D25:$L25,O$1) -> 1 | P25: =COUNTIF($D25:$L25,P$1) -> 0 | Q25: =COUNTIF($D25:$L25,Q$1) -> 0 | S25: =IF($B25="samedi",IF(D25="r",0,IF(D25="",0,1)),IF($B25="dimanche",IF(D25="r",0,1),0)) -> 0 | T25: =IF($B25="samedi",IF(E25="r",0,IF(E25="",0,1)),IF($B25="dimanche",IF(E25="r",0,1),0)) -> 0 | U25: =IF($B25="samedi",IF(F25="r",0,IF(F25="",0,1)),IF($B25="dimanche",IF(F25="r",0,1),0)) -> 0 | V25: =IF($B25="samedi",IF(G25="r",0,IF(G25="",0,1)),IF($B25="dimanche",IF(G25="r",0,1),0)) -> 0 | W25: =IF($B25="samedi",IF(H25="r",0,IF(H25="",0,1)),IF($B25="dimanche",IF(H25="r",0,1),0)) -> 0 | X25: =IF($B25="samedi",IF(I25="r",0,IF(I25="",0,1)),IF($B25="dimanche",IF(I25="r",0,1),0)) -> 0 | Y25: =IF($B25="samedi",IF(J25="r",0,IF(J25="",0,1)),IF($B25="dimanche",IF(J25="r",0,1),0)) -> 0
B26: jeudi | C26: 43489 | D26: J EXT | E26: M EXT | F26: R | G26: N EXT | H26: RC | I26: AM EXT | J26: R | M26: =COUNTIF($D26:$L26,M$1) -> 1 | N26: =COUNTIF($D26:$L26,N$1) -> 1 | O26: =COUNTIF($D26:$L26,O$1) -> 1 | P26: =COUNTIF($D26:$L26,P$1) -> 0 | Q26: =COUNTIF($D26:$L26,Q$1) -> 0 | S26: =IF($B26="samedi",IF(D26="r",0,IF(D26="",0,1)),IF($B26="dimanche",IF(D26="r",0,1),0)) -> 0 | T26: =IF($B26="samedi",IF(E26="r",0,IF(E26="",0,1)),IF($B26="dimanche",IF(E26="r",0,1),0)) -> 0 | U26: =IF($B26="samedi",IF(F26="r",0,IF(F26="",0,1)),IF($B26="dimanche",IF(F26="r",0,1),0)) -> 0 | V26: =IF($B26="samedi",IF(G26="r",0,IF(G26="",0,1)),IF($B26="dimanche",IF(G26="r",0,1),0)) -> 0 | W26: =IF($B26="samedi",IF(H26="r",0,IF(H26="",0,1)),IF($B26="dimanche",IF(H26="r",0,1),0)) -> 0 | X26: =IF($B26="samedi",IF(I26="r",0,IF(I26="",0,1)),IF($B26="dimanche",IF(I26="r",0,1),0)) -> 0 | Y26: =IF($B26="samedi",IF(J26="r",0,IF(J26="",0,1)),IF($B26="dimanche",IF(J26="r",0,1),0)) -> 0
B27: vendredi | C27: 43490 | D27: R | E27: M EXT | F27: N EXT | G27: R | H27: RC | I27: AM EXT | J27: R | M27: =COUNTIF($D27:$L27,M$1) -> 1 | N27: =COUNTIF($D27:$L27,N$1) -> 1 | O27: =COUNTIF($D27:$L27,O$1) -> 1 | P27: =COUNTIF($D27:$L27,P$1) -> 0 | Q27: =COUNTIF($D27:$L27,Q$1) -> 0 | S27: =IF($B27="samedi",IF(D27="r",0,IF(D27="",0,1)),IF($B27="dimanche",IF(D27="r",0,1),0)) -> 0 | T27: =IF($B27="samedi",IF(E27="r",0,IF(E27="",0,1)),IF($B27="dimanche",IF(E27="r",0,1),0)) -> 0 | U27: =IF($B27="samedi",IF(F27="r",0,IF(F27="",0,1)),IF($B27="dimanche",IF(F27="r",0,1),0)) -> 0 | V27: =IF($B27="samedi",IF(G27="r",0,IF(G27="",0,1)),IF($B27="dimanche",IF(G27="r",0,1),0)) -> 0 | W27: =IF($B27="samedi",IF(H27="r",0,IF(H27="",0,1)),IF($B27="dimanche",IF(H27="r",0,1),0)) -> 0 | X27: =IF($B27="samedi",IF(I27="r",0,IF(I27="",0,1)),IF($B27="dimanche",IF(I27="r",0,1),0)) -> 0 | Y27: =IF($B27="samedi",IF(J27="r",0,IF(J27="",0,1)),IF($B27="dimanche",IF(J27="r",0,1),0)) -> 0
B28: samedi | C28: 43491 | D28: R | E28: R | F28: N EXT | G28: R | H28: R | I28: R | J28: 5H 17H | M28: =COUNTIF($D28:$L28,M$1) -> 0 | N28: =COUNTIF($D28:$L28,N$1) -> 0 | O28: =COUNTIF($D28:$L28,O$1) -> 1 | P28: =COUNTIF($D28:$L28,P$1) -> 1 | Q28: =COUNTIF($D28:$L28,Q$1) -> 0 | S28: =IF($B28="samedi",IF(D28="r",0,IF(D28="",0,1)),IF($B28="dimanche",IF(D28="r",0,1),0)) -> 0 | T28: =IF($B28="samedi",IF(E28="r",0,IF(E28="",0,1)),IF($B28="dimanche",IF(E28="r",0,1),0)) -> 0 | U28: =IF($B28="samedi",IF(F28="r",0,IF(F28="",0,1)),IF($B28="dimanche",IF(F28="r",0,1),0)) -> 1 | V28: =IF($B28="samedi",IF(G28="r",0,IF(G28="",0,1)),IF($B28="dimanche",IF(G28="r",0,1),0)) -> 0 | W28: =IF($B28="samedi",IF(H28="r",0,IF(H28="",0,1)),IF($B28="dimanche",IF(H28="r",0,1),0)) -> 0 | X28: =IF($B28="samedi",IF(I28="r",0,IF(I28="",0,1)),IF($B28="dimanche",IF(I28="r",0,1),0)) -> 0 | Y28: =IF($B28="samedi",IF(J28="r",0,IF(J28="",0,1)),IF($B28="dimanche",IF(J28="r",0,1),0)) -> 1
B29: dimanche | C29: 43492 | D29: R | E29: R | F29: N EXT | G29: R | H29: R | I29: R | J29: 5H 17H | M29: =COUNTIF($D29:$L29,M$1) -> 0 | N29: =COUNTIF($D29:$L29,N$1) -> 0 | O29: =COUNTIF($D29:$L29,O$1) -> 1 | P29: =COUNTIF($D29:$L29,P$1) -> 1 | Q29: =COUNTIF($D29:$L29,Q$1) -> 0 | S29: =IF($B29="samedi",IF(D29="r",0,IF(D29="",0,1)),IF($B29="dimanche",IF(D29="r",0,1),0)) -> 0 | T29: =IF($B29="samedi",IF(E29="r",0,IF(E29="",0,1)),IF($B29="dimanche",IF(E29="r",0,1),0)) -> 0 | U29: =IF($B29="samedi",IF(F29="r",0,IF(F29="",0,1)),IF($B29="dimanche",IF(F29="r",0,1),0)) -> 1 | V29: =IF($B29="samedi",IF(G29="r",0,IF(G29="",0,1)),IF($B29="dimanche",IF(G29="r",0,1),0)) -> 0 | W29: =IF($B29="samedi",IF(H29="r",0,IF(H29="",0,1)),IF($B29="dimanche",IF(H29="r",0,1),0)) -> 0 | X29: =IF($B29="samedi",IF(I29="r",0,IF(I29="",0,1)),IF($B29="dimanche",IF(I29="r",0,1),0)) -> 0 | Y29: =IF($B29="samedi",IF(J29="r",0,IF(J29="",0,1)),IF($B29="dimanche",IF(J29="r",0,1),0)) -> 1
A30: S5 | B30: lundi | C30: 43493 | D30: R | E30: J EXT | F30: N EXT | G30: M EXT | H30: R | I30: AM EXT | J30: R | M30: =COUNTIF($D30:$L30,M$1) -> 1 | N30: =COUNTIF($D30:$L30,N$1) -> 1 | O30: =COUNTIF($D30:$L30,O$1) -> 1 | P30: =COUNTIF($D30:$L30,P$1) -> 0 | Q30: =COUNTIF($D30:$L30,Q$1) -> 0 | S30: =IF($B30="samedi",IF(D30="r",0,IF(D30="",0,1)),IF($B30="dimanche",IF(D30="r",0,1),0)) -> 0 | T30: =IF($B30="samedi",IF(E30="r",0,IF(E30="",0,1)),IF($B30="dimanche",IF(E30="r",0,1),0)) -> 0 | U30: =IF($B30="samedi",IF(F30="r",0,IF(F30="",0,1)),IF($B30="dimanche",IF(F30="r",0,1),0)) -> 0 | V30: =IF($B30="samedi",IF(G30="r",0,IF(G30="",0,1)),IF($B30="dimanche",IF(G30="r",0,1),0)) -> 0 | W30: =IF($B30="samedi",IF(H30="r",0,IF(H30="",0,1)),IF($B30="dimanche",IF(H30="r",0,1),0)) -> 0 | X30: =IF($B30="samedi",IF(I30="r",0,IF(I30="",0,1)),IF($B30="dimanche",IF(I30="r",0,1),0)) -> 0 | Y30: =IF($B30="samedi",IF(J30="r",0,IF(J30="",0,1)),IF($B30="dimanche",IF(J30="r",0,1),0)) -> 0
B31: mardi | C31: 43494 | D31: J EXT | E31: J EXT | F31: R | G31: M EXT | H31: N EXT | I31: AM EXT | J31: R | M31: =COUNTIF($D31:$L31,M$1) -> 1 | N31: =COUNTIF($D31:$L31,N$1) -> 1 | O31: =COUNTIF($D31:$L31,O$1) -> 1 | P31: =COUNTIF($D31:$L31,P$1) -> 0 | Q31: =COUNTIF($D31:$L31,Q$1) -> 0 | S31: =IF($B31="samedi",IF(D31="r",0,IF(D31="",0,1)),IF($B31="dimanche",IF(D31="r",0,1),0)) -> 0 | T31: =IF($B31="samedi",IF(E31="r",0,IF(E31="",0,1)),IF($B31="dimanche",IF(E31="r",0,1),0)) -> 0 | U31: =IF($B31="samedi",IF(F31="r",0,IF(F31="",0,1)),IF($B31="dimanche",IF(F31="r",0,1),0)) -> 0 | V31: =IF($B31="samedi",IF(G31="r",0,IF(G31="",0,1)),IF($B31="dimanche",IF(G31="r",0,1),0)) -> 0 | W31: =IF($B31="samedi",IF(H31="r",0,IF(H31="",0,1)),IF($B31="dimanche",IF(H31="r",0,1),0)) -> 0 | X31: =IF($B31="samedi",IF(I31="r",0,IF(I31="",0,1)),IF($B31="dimanche",IF(I31="r",0,1),0)) -> 0 | Y31: =IF($B31="samedi",IF(J31="r",0,IF(J31="",0,1)),IF($B31="dimanche",IF(J31="r",0,1),0)) -> 0
B32: mercredi | C32: 43495 | D32: J EXT | E32: J EXT | F32: R | G32: M EXT | H32: N EXT | I32: AM EXT | J32: R | M32: =COUNTIF($D32:$L32,M$1) -> 1 | N32: =COUNTIF($D32:$L32,N$1) -> 1 | O32: =COUNTIF($D32:$L32,O$1) -> 1 | P32: =COUNTIF($D32:$L32,P$1) -> 0 | Q32: =COUNTIF($D32:$L32,Q$1) -> 0 | S32: =IF($B32="samedi",IF(D32="r",0,IF(D32="",0,1)),IF($B32="dimanche",IF(D32="r",0,1),0)) -> 0 | T32: =IF($B32="samedi",IF(E32="r",0,IF(E32="",0,1)),IF($B32="dimanche",IF(E32="r",0,1),0)) -> 0 | U32: =IF($B32="samedi",IF(F32="r",0,IF(F32="",0,1)),IF($B32="dimanche",IF(F32="r",0,1),0)) -> 0 | V32: =IF($B32="samedi",IF(G32="r",0,IF(G32="",0,1)),IF($B32="dimanche",IF(G32="r",0,1),0)) -> 0 | W32: =IF($B32="samedi",IF(H32="r",0,IF(H32="",0,1)),IF($B32="dimanche",IF(H32="r",0,1),0)) -> 0 | X32: =IF($B32="samedi",IF(I32="r",0,IF(I32="",0,1)),IF($B32="dimanche",IF(I32="r",0,1),0)) -> 0 | Y32: =IF($B32="samedi",IF(J32="r",0,IF(J32="",0,1)),IF($B32="dimanche",IF(J32="r",0,1),0)) -> 0
B33: jeudi | C33: 43496 | D33: J EXT | E33: J EXT | F33: J EXT | G33: M EXT | H33: N EXT | I33: AM EXT | J33: R | M33: =COUNTIF($D33:$L33,M$1) -> 1 | N33: =COUNTIF($D33:$L33,N$1) -> 1 | O33: =COUNTIF($D33:$L33,O$1) -> 1 | P33: =COUNTIF($D33:$L33,P$1) -> 0 | Q33: =COUNTIF($D33:$L33,Q$1) -> 0 | S33: =IF($B33="samedi",IF(D33="r",0,IF(D33="",0,1)),IF($B33="dimanche",IF(D33="r",0,1),0)) -> 0 | T33: =IF($B33="samedi",IF(E33="r",0,IF(E33="",0,1)),IF($B33="dimanche",IF(E33="r",0,1),0)) -> 0 | U33: =IF($B33="samedi",IF(F33="r",0,IF(F33="",0,1)),IF($B33="dimanche",IF(F33="r",0,1),0)) -> 0 | V33: =IF($B33="samedi",IF(G33="r",0,IF(G33="",0,1)),IF($B33="dimanche",IF(G33="r",0,1),0)) -> 0 | W33: =IF($B33="samedi",IF(H33="r",0,IF(H33="",0,1)),IF($B33="dimanche",IF(H33="r",0,1),0)) -> 0 | X33: =IF($B33="samedi",IF(I33="r",0,IF(I33="",0,1)),IF($B33="dimanche",IF(I33="r",0,1),0)) -> 0 | Y33: =IF($B33="samedi",IF(J33="r",0,IF(J33="",0,1)),IF($B33="dimanche",IF(J33="r",0,1),0)) -> 0
B34: vendredi | C34: 43497 | D34: R | E34: J EXT | F34: J EXT | G34: M EXT | H34: N EXT | I34: AM EXT | J34: R | M34: =COUNTIF($D34:$L34,M$1) -> 1 | N34: =COUNTIF($D34:$L34,N$1) -> 1 | O34: =COUNTIF($D34:$L34,O$1) -> 1 | P34: =COUNTIF($D34:$L34,P$1) -> 0 | Q34: =COUNTIF($D34:$L34,Q$1) -> 0 | S34: =IF($B34="samedi",IF(D34="r",0,IF(D34="",0,1)),IF($B34="dimanche",IF(D34="r",0,1),0)) -> 0 | T34: =IF($B34="samedi",IF(E34="r",0,IF(E34="",0,1)),IF($B34="dimanche",IF(E34="r",0,1),0)) -> 0 | U34: =IF($B34="samedi",IF(F34="r",0,IF(F34="",0,1)),IF($B34="dimanche",IF(F34="r",0,1),0)) -> 0 | V34: =IF($B34="samedi",IF(G34="r",0,IF(G34="",0,1)),IF($B34="dimanche",IF(G34="r",0,1),0)) -> 0 | W34: =IF($B34="samedi",IF(H34="r",0,IF(H34="",0,1)),IF($B34="dimanche",IF(H34="r",0,1),0)) -> 0 | X34: =IF($B34="samedi",IF(I34="r",0,IF(I34="",0,1)),IF($B34="dimanche",IF(I34="r",0,1),0)) -> 0 | Y34: =IF($B34="samedi",IF(J34="r",0,IF(J34="",0,1)),IF($B34="dimanche",IF(J34="r",0,1),0)) -> 0
B35: samedi | C35: 43498 | D35: R | E35: R | F35: M EXT | G35: R | H35: R | I35: R | J35: 17H 5H | M35: =COUNTIF($D35:$L35,M$1) -> 1 | N35: =COUNTIF($D35:$L35,N$1) -> 0 | O35: =COUNTIF($D35:$L35,O$1) -> 0 | P35: =COUNTIF($D35:$L35,P$1) -> 0 | Q35: =COUNTIF($D35:$L35,Q$1) -> 1 | S35: =IF($B35="samedi",IF(D35="r",0,IF(D35="",0,1)),IF($B35="dimanche",IF(D35="r",0,1),0)) -> 0 | T35: =IF($B35="samedi",IF(E35="r",0,IF(E35="",0,1)),IF($B35="dimanche",IF(E35="r",0,1),0)) -> 0 | U35: =IF($B35="samedi",IF(F35="r",0,IF(F35="",0,1)),IF($B35="dimanche",IF(F35="r",0,1),0)) -> 1 | V35: =IF($B35="samedi",IF(G35="r",0,IF(G35="",0,1)),IF($B35="dimanche",IF(G35="r",0,1),0)) -> 0 | W35: =IF($B35="samedi",IF(H35="r",0,IF(H35="",0,1)),IF($B35="dimanche",IF(H35="r",0,1),0)) -> 0 | X35: =IF($B35="samedi",IF(I35="r",0,IF(I35="",0,1)),IF($B35="dimanche",IF(I35="r",0,1),0)) -> 0 | Y35: =IF($B35="samedi",IF(J35="r",0,IF(J35="",0,1)),IF($B35="dimanche",IF(J35="r",0,1),0)) -> 1
B36: dimanche | C36: 43499 | D36: R | E36: R | F36: M EXT | G36: R | H36: R | I36: R | J36: 17H 5H | M36: =COUNTIF($D36:$L36,M$1) -> 1 | N36: =COUNTIF($D36:$L36,N$1) -> 0 | O36: =COUNTIF($D36:$L36,O$1) -> 0 | P36: =COUNTIF($D36:$L36,P$1) -> 0 | Q36: =COUNTIF($D36:$L36,Q$1) -> 1 | S36: =IF($B36="samedi",IF(D36="r",0,IF(D36="",0,1)),IF($B36="dimanche",IF(D36="r",0,1),0)) -> 0 | T36: =IF($B36="samedi",IF(E36="r",0,IF(E36="",0,1)),IF($B36="dimanche",IF(E36="r",0,1),0)) -> 0 | U36: =IF($B36="samedi",IF(F36="r",0,IF(F36="",0,1)),IF($B36="dimanche",IF(F36="r",0,1),0)) -> 1 | V36: =IF($B36="samedi",IF(G36="r",0,IF(G36="",0,1)),IF($B36="dimanche",IF(G36="r",0,1),0)) -> 0 | W36: =IF($B36="samedi",IF(H36="r",0,IF(H36="",0,1)),IF($B36="dimanche",IF(H36="r",0,1),0)) -> 0 | X36: =IF($B36="samedi",IF(I36="r",0,IF(I36="",0,1)),IF($B36="dimanche",IF(I36="r",0,1),0)) -> 0 | Y36: =IF($B36="samedi",IF(J36="r",0,IF(J36="",0,1)),IF($B36="dimanche",IF(J36="r",0,1),0)) -> 1
A37: S6 | B37: lundi | C37: 43500 | D37: R | E37: AM EXT | F37: R | G37: N EXT | H37: M EXT | I37: CP | J37: R | M37: =COUNTIF($D37:$L37,M$1) -> 1 | N37: =COUNTIF($D37:$L37,N$1) -> 1 | O37: =COUNTIF($D37:$L37,O$1) -> 1 | P37: =COUNTIF($D37:$L37,P$1) -> 0 | Q37: =COUNTIF($D37:$L37,Q$1) -> 0 | S37: =IF($B37="samedi",IF(D37="r",0,IF(D37="",0,1)),IF($B37="dimanche",IF(D37="r",0,1),0)) -> 0 | T37: =IF($B37="samedi",IF(E37="r",0,IF(E37="",0,1)),IF($B37="dimanche",IF(E37="r",0,1),0)) -> 0 | U37: =IF($B37="samedi",IF(F37="r",0,IF(F37="",0,1)),IF($B37="dimanche",IF(F37="r",0,1),0)) -> 0 | V37: =IF($B37="samedi",IF(G37="r",0,IF(G37="",0,1)),IF($B37="dimanche",IF(G37="r",0,1),0)) -> 0 | W37: =IF($B37="samedi",IF(H37="r",0,IF(H37="",0,1)),IF($B37="dimanche",IF(H37="r",0,1),0)) -> 0 | X37: =IF($B37="samedi",IF(I37="r",0,IF(I37="",0,1)),IF($B37="dimanche",IF(I37="r",0,1),0)) -> 0 | Y37: =IF($B37="samedi",IF(J37="r",0,IF(J37="",0,1)),IF($B37="dimanche",IF(J37="r",0,1),0)) -> 0
B38: mardi | C38: 43501 | D38: J EXT | E38: AM EXT | F38: R | G38: N EXT | H38: M EXT | I38: CP | J38: R | L38: J EXT | M38: =COUNTIF($D38:$L38,M$1) -> 1 | N38: =COUNTIF($D38:$L38,N$1) -> 1 | O38: =COUNTIF($D38:$L38,O$1) -> 1 | P38: =COUNTIF($D38:$L38,P$1) -> 0 | Q38: =COUNTIF($D38:$L38,Q$1) -> 0 | S38: =IF($B38="samedi",IF(D38="r",0,IF(D38="",0,1)),IF($B38="dimanche",IF(D38="r",0,1),0)) -> 0 | T38: =IF($B38="samedi",IF(E38="r",0,IF(E38="",0,1)),IF($B38="dimanche",IF(E38="r",0,1),0)) -> 0 | U38: =IF($B38="samedi",IF(F38="r",0,IF(F38="",0,1)),IF($B38="dimanche",IF(F38="r",0,1),0)) -> 0 | V38: =IF($B38="samedi",IF(G38="r",0,IF(G38="",0,1)),IF($B38="dimanche",IF(G38="r",0,1),0)) -> 0 | W38: =IF($B38="samedi",IF(H38="r",0,IF(H38="",0,1)),IF($B38="dimanche",IF(H38="r",0,1),0)) -> 0 | X38: =IF($B38="samedi",IF(I38="r",0,IF(I38="",0,1)),IF($B38="dimanche",IF(I38="r",0,1),0)) -> 0 | Y38: =IF($B38="samedi",IF(J38="r",0,IF(J38="",0,1)),IF($B38="dimanche",IF(J38="r",0,1),0)) -> 0
B39: mercredi | C39: 43502 | D39: J EXT | E39: AM EXT | F39: J EXT | G39: N EXT | H39: M EXT | I39: R | J39: R | L39: J EXT | M39: =COUNTIF($D39:$L39,M$1) -> 1 | N39: =COUNTIF($D39:$L39,N$1) -> 1 | O39: =COUNTIF($D39:$L39,O$1) -> 1 | P39: =COUNTIF($D39:$L39,P$1) -> 0 | Q39: =COUNTIF($D39:$L39,Q$1) -> 0 | S39: =IF($B39="samedi",IF(D39="r",0,IF(D39="",0,1)),IF($B39="dimanche",IF(D39="r",0,1),0)) -> 0 | T39: =IF($B39="samedi",IF(E39="r",0,IF(E39="",0,1)),IF($B39="dimanche",IF(E39="r",0,1),0)) -> 0 | U39: =IF($B39="samedi",IF(F39="r",0,IF(F39="",0,1)),IF($B39="dimanche",IF(F39="r",0,1),0)) -> 0 | V39: =IF($B39="samedi",IF(G39="r",0,IF(G39="",0,1)),IF($B39="dimanche",IF(G39="r",0,1),0)) -> 0 | W39: =IF($B39="samedi",IF(H39="r",0,IF(H39="",0,1)),IF($B39="dimanche",IF(H39="r",0,1),0)) -> 0 | X39: =IF($B39="samedi",IF(I39="r",0,IF(I39="",0,1)),IF($B39="dimanche",IF(I39="r",0,1),0)) -> 0 | Y39: =IF($B39="samedi",IF(J39="r",0,IF(J39="",0,1)),IF($B39="dimanche",IF(J39="r",0,1),0)) -> 0
B40: jeudi | C40: 43503 | D40: J EXT | E40: AM EXT | F40: J EXT | G40: N EXT | H40: M EXT | I40: R | J40: R | L40: j EXT | M40: =COUNTIF($D40:$L40,M$1) -> 1 | N40: =COUNTIF($D40:$L40,N$1) -> 1 | O40: =COUNTIF($D40:$L40,O$1) -> 1 | P40: =COUNTIF($D40:$L40,P$1) -> 0 | Q40: =COUNTIF($D40:$L40,Q$1) -> 0 | S40: =IF($B40="samedi",IF(D40="r",0,IF(D40="",0,1)),IF($B40="dimanche",IF(D40="r",0,1),0)) -> 0 | T40: =IF($B40="samedi",IF(E40="r",0,IF(E40="",0,1)),IF($B40="dimanche",IF(E40="r",0,1),0)) -> 0 | U40: =IF($B40="samedi",IF(F40="r",0,IF(F40="",0,1)),IF($B40="dimanche",IF(F40="r",0,1),0)) -> 0 | V40: =IF($B40="samedi",IF(G40="r",0,IF(G40="",0,1)),IF($B40="dimanche",IF(G40="r",0,1),0)) -> 0 | W40: =IF($B40="samedi",IF(H40="r",0,IF(H40="",0,1)),IF($B40="dimanche",IF(H40="r",0,1),0)) -> 0 | X40: =IF($B40="samedi",IF(I40="r",0,IF(I40="",0,1)),IF($B40="dimanche",IF(I40="r",0,1),0)) -> 0 | Y40: =IF($B40="samedi",IF(J40="r",0,IF(J40="",0,1)),IF($B40="dimanche",IF(J40="r",0,1),0)) -> 0
B41: vendredi | C41: 43504 | D41: J EXT | E41: AM EXT | F41: J EXT | G41: N EXT | H41: R | I41: M EXT | J41: R | M41: =COUNTIF($D41:$L41,M$1) -> 1 | N41: =COUNTIF($D41:$L41,N$1) -> 1 | O41: =COUNTIF($D41:$L41,O$1) -> 1 | P41: =COUNTIF($D41:$L41,P$1) -> 0 | Q41: =COUNTIF($D41:$L41,Q$1) -> 0 | S41: =IF($B41="samedi",IF(D41="r",0,IF(D41="",0,1)),IF($B41="dimanche",IF(D41="r",0,1),0)) -> 0 | T41: =IF($B41="samedi",IF(E41="r",0,IF(E41="",0,1)),IF($B41="dimanche",IF(E41="r",0,1),0)) -> 0 | U41: =IF($B41="samedi",IF(F41="r",0,IF(F41="",0,1)),IF($B41="dimanche",IF(F41="r",0,1),0)) -> 0 | V41: =IF($B41="samedi",IF(G41="r",0,IF(G41="",0,1)),IF($B41="dimanche",IF(G41="r",0,1),0)) -> 0 | W41: =IF($B41="samedi",IF(H41="r",0,IF(H41="",0,1)),IF($B41="dimanche",IF(H41="r",0,1),0)) -> 0 | X41: =IF($B41="samedi",IF(I41="r",0,IF(I41="",0,1)),IF($B41="dimanche",IF(I41="r",0,1),0)) -> 0 | Y41: =IF($B41="samedi",IF(J41="r",0,IF(J41="",0,1)),IF($B41="dimanche",IF(J41="r",0,1),0)) -> 0
B42: samedi | C42: 43505 | D42: R | E42: R | F42: R | G42: R | H42: R | I42: M EXT | J42: 17H 5H | M42: =COUNTIF($D42:$L42,M$1) -> 1 | N42: =COUNTIF($D42:$L42,N$1) -> 0 | O42: =COUNTIF($D42:$L42,O$1) -> 0 | P42: =COUNTIF($D42:$L42,P$1) -> 0 | Q42: =COUNTIF($D42:$L42,Q$1) -> 1 | S42: =IF($B42="samedi",IF(D42="r",0,IF(D42="",0,1)),IF($B42="dimanche",IF(D42="r",0,1),0)) -> 0 | T42: =IF($B42="samedi",IF(E42="r",0,IF(E42="",0,1)),IF($B42="dimanche",IF(E42="r",0,1),0)) -> 0 | U42: =IF($B42="samedi",IF(F42="r",0,IF(F42="",0,1)),IF($B42="dimanche",IF(F42="r",0,1),0)) -> 0 | V42: =IF($B42="samedi",IF(G42="r",0,IF(G42="",0,1)),IF($B42="dimanche",IF(G42="r",0,1),0)) -> 0 | W42: =IF($B42="samedi",IF(H42="r",0,IF(H42="",0,1)),IF($B42="dimanche",IF(H42="r",0,1),0)) -> 0 | X42: =IF($B42="samedi",IF(I42="r",0,IF(I42="",0,1)),IF($B42="dimanche",IF(I42="r",0,1),0)) -> 1 | Y42: =IF($B42="samedi",IF(J42="r",0,IF(J42="",0,1)),IF($B42="dimanche",IF(J42="r",0,1),0)) -> 1
B43: dimanche | C43: 43506 | D43: R | E43: R | F43: R | G43: R | H43: R | I43: M EXT | J43: 17H 5H | M43: =COUNTIF($D43:$L43,M$1) -> 1 | N43: =COUNTIF($D43:$L43,N$1) -> 0 | O43: =COUNTIF($D43:$L43,O$1) -> 0 | P43: =COUNTIF($D43:$L43,P$1) -> 0 | Q43: =COUNTIF($D43:$L43,Q$1) -> 1 | S43: =IF($B43="samedi",IF(D43="r",0,IF(D43="",0,1)),IF($B43="dimanche",IF(D43="r",0,1),0)) -> 0 | T43: =IF($B43="samedi",IF(E43="r",0,IF(E43="",0,1)),IF($B43="dimanche",IF(E43="r",0,1),0)) -> 0 | U43: =IF($B43="samedi",IF(F43="r",0,IF(F43="",0,1)),IF($B43="dimanche",IF(F43="r",0,1),0)) -> 0 | V43: =IF($B43="samedi",IF(G43="r",0,IF(G43="",0,1)),IF($B43="dimanche",IF(G43="r",0,1),0)) -> 0 | W43: =IF($B43="samedi",IF(H43="r",0,IF(H43="",0,1)),IF($B43="dimanche",IF(H43="r",0,1),0)) -> 0 | X43: =IF($B43="samedi",IF(I43="r",0,IF(I43="",0,1)),IF($B43="dimanche",IF(I43="r",0,1),0)) -> 1 | Y43: =IF($B43="samedi",IF(J43="r",0,IF(J43="",0,1)),IF($B43="dimanche",IF(J43="r",0,1),0)) -> 1
A44: S7 | B44: lundi | C44: 43507 | D44: J EXT | E44: J EXT | F44: AM EXT | G44: CP | H44: N EXT | I44: M EXT | J44: R | M44: =COUNTIF($D44:$L44,M$1) -> 1 | N44: =COUNTIF($D44:$L44,N$1) -> 1 | O44: =COUNTIF($D44:$L44,O$1) -> 1 | P44: =COUNTIF($D44:$L44,P$1) -> 0 | Q44: =COUNTIF($D44:$L44,Q$1) -> 0 | S44: =IF($B44="samedi",IF(D44="r",0,IF(D44="",0,1)),IF($B44="dimanche",IF(D44="r",0,1),0)) -> 0 | T44: =IF($B44="samedi",IF(E44="r",0,IF(E44="",0,1)),IF($B44="dimanche",IF(E44="r",0,1),0)) -> 0 | U44: =IF($B44="samedi",IF(F44="r",0,IF(F44="",0,1)),IF($B44="dimanche",IF(F44="r",0,1),0)) -> 0 | V44: =IF($B44="samedi",IF(G44="r",0,IF(G44="",0,1)),IF($B44="dimanche",IF(G44="r",0,1),0)) -> 0 | W44: =IF($B44="samedi",IF(H44="r",0,IF(H44="",0,1)),IF($B44="dimanche",IF(H44="r",0,1),0)) -> 0 | X44: =IF($B44="samedi",IF(I44="r",0,IF(I44="",0,1)),IF($B44="dimanche",IF(I44="r",0,1),0)) -> 0 | Y44: =IF($B44="samedi",IF(J44="r",0,IF(J44="",0,1)),IF($B44="dimanche",IF(J44="r",0,1),0)) -> 0
B45: mardi | C45: 43508 | D45: J EXT | E45: J EXT | F45: AM EXT | G45: CP | H45: N EXT | I45: M EXT | J45: R | M45: =COUNTIF($D45:$L45,M$1) -> 1 | N45: =COUNTIF($D45:$L45,N$1) -> 1 | O45: =COUNTIF($D45:$L45,O$1) -> 1 | P45: =COUNTIF($D45:$L45,P$1) -> 0 | Q45: =COUNTIF($D45:$L45,Q$1) -> 0 | S45: =IF($B45="samedi",IF(D45="r",0,IF(D45="",0,1)),IF($B45="dimanche",IF(D45="r",0,1),0)) -> 0 | T45: =IF($B45="samedi",IF(E45="r",0,IF(E45="",0,1)),IF($B45="dimanche",IF(E45="r",0,1),0)) -> 0 | U45: =IF($B45="samedi",IF(F45="r",0,IF(F45="",0,1)),IF($B45="dimanche",IF(F45="r",0,1),0)) -> 0 | V45: =IF($B45="samedi",IF(G45="r",0,IF(G45="",0,1)),IF($B45="dimanche",IF(G45="r",0,1),0)) -> 0 | W45: =IF($B45="samedi",IF(H45="r",0,IF(H45="",0,1)),IF($B45="dimanche",IF(H45="r",0,1),0)) -> 0 | X45: =IF($B45="samedi",IF(I45="r",0,IF(I45="",0,1)),IF($B45="dimanche",IF(I45="r",0,1),0)) -> 0 | Y45: =IF($B45="samedi",IF(J45="r",0,IF(J45="",0,1)),IF($B45="dimanche",IF(J45="r",0,1),0)) -> 0
B46: mercredi | C46: 43509 | D46: J EXT | E46: M EXT | F46: AM EXT | G46: CP | H46: N EXT | I46: R | J46: R | M46: =COUNTIF($D46:$L46,M$1) -> 1 | N46: =COUNTIF($D46:$L46,N$1) -> 1 | O46: =COUNTIF($D46:$L46,O$1) -> 1 | P46: =COUNTIF($D46:$L46,P$1) -> 0 | Q46: =COUNTIF($D46:$L46,Q$1) -> 0 | S46: =IF($B46="samedi",IF(D46="r",0,IF(D46="",0,1)),IF($B46="dimanche",IF(D46="r",0,1),0)) -> 0 | T46: =IF($B46="samedi",IF(E46="r",0,IF(E46="",0,1)),IF($B46="dimanche",IF(E46="r",0,1),0)) -> 0 | U46: =IF($B46="samedi",IF(F46="r",0,IF(F46="",0,1)),IF($B46="dimanche",IF(F46="r",0,1),0)) -> 0 | V46: =IF($B46="samedi",IF(G46="r",0,IF(G46="",0,1)),IF($B46="dimanche",IF(G46="r",0,1),0)) -> 0 | W46: =IF($B46="samedi",IF(H46="r",0,IF(H46="",0,1)),IF($B46="dimanche",IF(H46="r",0,1),0)) -> 0 | X46: =IF($B46="samedi",IF(I46="r",0,IF(I46="",0,1)),IF($B46="dimanche",IF(I46="r",0,1),0)) -> 0 | Y46: =IF($B46="samedi",IF(J46="r",0,IF(J46="",0,1)),IF($B46="dimanche",IF(J46="r",0,1),0)) -> 0
B47: jeudi | C47: 43510 | D47: J EXT | E47: M EXT | F47: AM EXT | G47: CP | H47: R | I47: N EXT | J47: R | M47: =COUNTIF($D47:$L47,M$1) -> 1 | N47: =COUNTIF($D47:$L47,N$1) -> 1 | O47: =COUNTIF($D47:$L47,O$1) -> 1 | P47: =COUNTIF($D47:$L47,P$1) -> 0 | Q47: =COUNTIF($D47:$L47,Q$1) -> 0 | S47: =IF($B47="samedi",IF(D47="r",0,IF(D47="",0,1)),IF($B47="dimanche",IF(D47="r",0,1),0)) -> 0 | T47: =IF($B47="samedi",IF(E47="r",0,IF(E47="",0,1)),IF($B47="dimanche",IF(E47="r",0,1),0)) -> 0 | U47: =IF($B47="samedi",IF(F47="r",0,IF(F47="",0,1)),IF($B47="dimanche",IF(F47="r",0,1),0)) -> 0 | V47: =IF($B47="samedi",IF(G47="r",0,IF(G47="",0,1)),IF($B47="dimanche",IF(G47="r",0,1),0)) -> 0 | W47: =IF($B47="samedi",IF(H47="r",0,IF(H47="",0,1)),IF($B47="dimanche",IF(H47="r",0,1),0)) -> 0 | X47: =IF($B47="samedi",IF(I47="r",0,IF(I47="",0,1)),IF($B47="dimanche",IF(I47="r",0,1),0)) -> 0 | Y47: =IF($B47="samedi",IF(J47="r",0,IF(J47="",0,1)),IF($B47="dimanche",IF(J47="r",0,1),0)) -> 0
B48: vendredi | C48: 43511 | D48: J EXT | E48: M EXT | F48: AM EXT | G48: CP | H48: R | I48: N EXT | J48: R | M48: =COUNTIF($D48:$L48,M$1) -> 1 | N48: =COUNTIF($D48:$L48,N$1) -> 1 | O48: =COUNTIF($D48:$L48,O$1) -> 1 | P48: =COUNTIF($D48:$L48,P$1) -> 0 | Q48: =COUNTIF($D48:$L48,Q$1) -> 0 | S48: =IF($B48="samedi",IF(D48="r",0,IF(D48="",0,1)),IF($B48="dimanche",IF(D48="r",0,1),0)) -> 0 | T48: =IF($B48="samedi",IF(E48="r",0,IF(E48="",0,1)),IF($B48="dimanche",IF(E48="r",0,1),0)) -> 0 | U48: =IF($B48="samedi",IF(F48="r",0,IF(F48="",0,1)),IF($B48="dimanche",IF(F48="r",0,1),0)) -> 0 | V48: =IF($B48="samedi",IF(G48="r",0,IF(G48="",0,1)),IF($B48="dimanche",IF(G48="r",0,1),0)) -> 0 | W48: =IF($B48="samedi",IF(H48="r",0,IF(H48="",0,1)),IF($B48="dimanche",IF(H48="r",0,1),0)) -> 0 | X48: =IF($B48="samedi",IF(I48="r",0,IF(I48="",0,1)),IF($B48="dimanche",IF(I48="r",0,1),0)) -> 0 | Y48: =IF($B48="samedi",IF(J48="r",0,IF(J48="",0,1)),IF($B48="dimanche",IF(J48="r",0,1),0)) -> 0
B49: samedi | C49: 43512 | D49: R | E49: R | F49: R | G49: R | H49: R | I49: N EXT | J49: 5H 17H | M49: =COUNTIF($D49:$L49,M$1) -> 0 | N49: =COUNTIF($D49:$L49,N$1) -> 0 | O49: =COUNTIF($D49:$L49,O$1) -> 1 | P49: =COUNTIF($D49:$L49,P$1) -> 1 | Q49: =COUNTIF($D49:$L49,Q$1) -> 0 | S49: =IF($B49="samedi",IF(D49="r",0,IF(D49="",0,1)),IF($B49="dimanche",IF(D49="r",0,1),0)) -> 0 | T49: =IF($B49="samedi",IF(E49="r",0,IF(E49="",0,1)),IF($B49="dimanche",IF(E49="r",0,1),0)) -> 0 | U49: =IF($B49="samedi",IF(F49="r",0,IF(F49="",0,1)),IF($B49="dimanche",IF(F49="r",0,1),0)) -> 0 | V49: =IF($B49="samedi",IF(G49="r",0,IF(G49="",0,1)),IF($B49="dimanche",IF(G49="r",0,1),0)) -> 0 | W49: =IF($B49="samedi",IF(H49="r",0,IF(H49="",0,1)),IF($B49="dimanche",IF(H49="r",0,1),0)) -> 0 | X49: =IF($B49="samedi",IF(I49="r",0,IF(I49="",0,1)),IF($B49="dimanche",IF(I49="r",0,1),0)) -> 1 | Y49: =IF($B49="samedi",IF(J49="r",0,IF(J49="",0,1)),IF($B49="dimanche",IF(J49="r",0,1),0)) -> 1
B50: dimanche | C50: 43513 | D50: R | E50: R | F50: R | G50: R | H50: R | I50: N EXT | J50: 5H 17H | M50: =COUNTIF($D50:$L50,M$1) -> 0 | N50: =COUNTIF($D50:$L50,N$1) -> 0 | O50: =COUNTIF($D50:$L50,O$1) -> 1 | P50: =COUNTIF($D50:$L50,P$1) -> 1 | Q50: =COUNTIF($D50:$L50,Q$1) -> 0 | S50: =IF($B50="samedi",IF(D50="r",0,IF(D50="",0,1)),IF($B50="dimanche",IF(D50="r",0,1),0)) -> 0 | T50: =IF($B50="samedi",IF(E50="r",0,IF(E50="",0,1)),IF($B50="dimanche",IF(E50="r",0,1),0)) -> 0 | U50: =IF($B50="samedi",IF(F50="r",0,IF(F50="",0,1)),IF($B50="dimanche",IF(F50="r",0,1),0)) -> 0 | V50: =IF($B50="samedi",IF(G50="r",0,IF(G50="",0,1)),IF($B50="dimanche",IF(G50="r",0,1),0)) -> 0 | W50: =IF($B50="samedi",IF(H50="r",0,IF(H50="",0,1)),IF($B50="dimanche",IF(H50="r",0,1),0)) -> 0 | X50: =IF($B50="samedi",IF(I50="r",0,IF(I50="",0,1)),IF($B50="dimanche",IF(I50="r",0,1),0)) -> 1 | Y50: =IF($B50="samedi",IF(J50="r",0,IF(J50="",0,1)),IF($B50="dimanche",IF(J50="r",0,1),0)) -> 1
A51: S8 | B51: lundi | C51: 43514 | D51: J EXT | E51: CP | F51: N EXT | G51: AM EXT | H51: M EXT | I51: R | J51: R | M51: =COUNTIF($D51:$L51,M$1) -> 1 | N51: =COUNTIF($D51:$L51,N$1) -> 1 | O51: =COUNTIF($D51:$L51,O$1) -> 1 | P51: =COUNTIF($D51:$L51,P$1) -> 0 | Q51: =COUNTIF($D51:$L51,Q$1) -> 0 | S51: =IF($B51="samedi",IF(D51="r",0,IF(D51="",0,1)),IF($B51="dimanche",IF(D51="r",0,1),0)) -> 0 | T51: =IF($B51="samedi",IF(E51="r",0,IF(E51="",0,1)),IF($B51="dimanche",IF(E51="r",0,1),0)) -> 0 | U51: =IF($B51="samedi",IF(F51="r",0,IF(F51="",0,1)),IF($B51="dimanche",IF(F51="r",0,1),0)) -> 0 | V51: =IF($B51="samedi",IF(G51="r",0,IF(G51="",0,1)),IF($B51="dimanche",IF(G51="r",0,1),0)) -> 0 | W51: =IF($B51="samedi",IF(H51="r",0,IF(H51="",0,1)),IF($B51="dimanche",IF(H51="r",0,1),0)) -> 0 | X51: =IF($B51="samedi",IF(I51="r",0,IF(I51="",0,1)),IF($B51="dimanche",IF(I51="r",0,1),0)) -> 0 | Y51: =IF($B51="samedi",IF(J51="r",0,IF(J51="",0,1)),IF($B51="dimanche",IF(J51="r",0,1),0)) -> 0
B52: mardi | C52: 43515 | D52: J EXT | E52: CP | F52: N EXT | G52: AM EXT | H52: M EXT | I52: R | J52: R | L52: J EXT | M52: =COUNTIF($D52:$L52,M$1) -> 1 | N52: =COUNTIF($D52:$L52,N$1) -> 1 | O52: =COUNTIF($D52:$L52,O$1) -> 1 | P52: =COUNTIF($D52:$L52,P$1) -> 0 | Q52: =COUNTIF($D52:$L52,Q$1) -> 0 | S52: =IF($B52="samedi",IF(D52="r",0,IF(D52="",0,1)),IF($B52="dimanche",IF(D52="r",0,1),0)) -> 0 | T52: =IF($B52="samedi",IF(E52="r",0,IF(E52="",0,1)),IF($B52="dimanche",IF(E52="r",0,1),0)) -> 0 | U52: =IF($B52="samedi",IF(F52="r",0,IF(F52="",0,1)),IF($B52="dimanche",IF(F52="r",0,1),0)) -> 0 | V52: =IF($B52="samedi",IF(G52="r",0,IF(G52="",0,1)),IF($B52="dimanche",IF(G52="r",0,1),0)) -> 0 | W52: =IF($B52="samedi",IF(H52="r",0,IF(H52="",0,1)),IF($B52="dimanche",IF(H52="r",0,1),0)) -> 0 | X52: =IF($B52="samedi",IF(I52="r",0,IF(I52="",0,1)),IF($B52="dimanche",IF(I52="r",0,1),0)) -> 0 | Y52: =IF($B52="samedi",IF(J52="r",0,IF(J52="",0,1)),IF($B52="dimanche",IF(J52="r",0,1),0)) -> 0
B53: mercredi | C53: 43516 | D53: J EXT | E53: CP | F53: N EXT | G53: AM EXT | H53: M EXT | I53: CP | J53: R | L53: J EXT | M53: =COUNTIF($D53:$L53,M$1) -> 1 | N53: =COUNTIF($D53:$L53,N$1) -> 1 | O53: =COUNTIF($D53:$L53,O$1) -> 1 | P53: =COUNTIF($D53:$L53,P$1) -> 0 | Q53: =COUNTIF($D53:$L53,Q$1) -> 0 | S53: =IF($B53="samedi",IF(D53="r",0,IF(D53="",0,1)),IF($B53="dimanche",IF(D53="r",0,1),0)) -> 0 | T53: =IF($B53="samedi",IF(E53="r",0,IF(E53="",0,1)),IF($B53="dimanche",IF(E53="r",0,1),0)) -> 0 | U53: =IF($B53="samedi",IF(F53="r",0,IF(F53="",0,1)),IF($B53="dimanche",IF(F53="r",0,1),0)) -> 0 | V53: =IF($B53="samedi",IF(G53="r",0,IF(G53="",0,1)),IF($B53="dimanche",IF(G53="r",0,1),0)) -> 0 | W53: =IF($B53="samedi",IF(H53="r",0,IF(H53="",0,1)),IF($B53="dimanche",IF(H53="r",0,1),0)) -> 0 | X53: =IF($B53="samedi",IF(I53="r",0,IF(I53="",0,1)),IF($B53="dimanche",IF(I53="r",0,1),0)) -> 0 | Y53: =IF($B53="samedi",IF(J53="r",0,IF(J53="",0,1)),IF($B53="dimanche",IF(J53="r",0,1),0)) -> 0
B54: jeudi | C54: 43517 | D54: R | E54: CP | F54: N EXT | G54: AM EXT | H54: M EXT | I54: CP | J54: R | L54: J EXT | M54: =COUNTIF($D54:$L54,M$1) -> 1 | N54: =COUNTIF($D54:$L54,N$1) -> 1 | O54: =COUNTIF($D54:$L54,O$1) -> 1 | P54: =COUNTIF($D54:$L54,P$1) -> 0 | Q54: =COUNTIF($D54:$L54,Q$1) -> 0 | S54: =IF($B54="samedi",IF(D54="r",0,IF(D54="",0,1)),IF($B54="dimanche",IF(D54="r",0,1),0)) -> 0 | T54: =IF($B54="samedi",IF(E54="r",0,IF(E54="",0,1)),IF($B54="dimanche",IF(E54="r",0,1),0)) -> 0 | U54: =IF($B54="samedi",IF(F54="r",0,IF(F54="",0,1)),IF($B54="dimanche",IF(F54="r",0,1),0)) -> 0 | V54: =IF($B54="samedi",IF(G54="r",0,IF(G54="",0,1)),IF($B54="dimanche",IF(G54="r",0,1),0)) -> 0 | W54: =IF($B54="samedi",IF(H54="r",0,IF(H54="",0,1)),IF($B54="dimanche",IF(H54="r",0,1),0)) -> 0 | X54: =IF($B54="samedi",IF(I54="r",0,IF(I54="",0,1)),IF($B54="dimanche",IF(I54="r",0,1),0)) -> 0 | Y54: =IF($B54="samedi",IF(J54="r",0,IF(J54="",0,1)),IF($B54="dimanche",IF(J54="r",0,1),0)) -> 0
B55: vendredi | C55: 43518 | D55: R | E55: CP | F55: N EXT | G55: AM EXT | H55: M EXT | I55: CP | J55: R | M55: =COUNTIF($D55:$L55,M$1) -> 1 | N55: =COUNTIF($D55:$L55,N$1) -> 1 | O55: =COUNTIF($D55:$L55,O$1) -> 1 | P55: =COUNTIF($D55:$L55,P$1) -> 0 | Q55: =COUNTIF($D55:$L55,Q$1) -> 0 | S55: =IF($B55="samedi",IF(D55="r",0,IF(D55="",0,1)),IF($B55="dimanche",IF(D55="r",0,1),0)) -> 0 | T55: =IF($B55="samedi",IF(E55="r",0,IF(E55="",0,1)),IF($B55="dimanche",IF(E55="r",0,1),0)) -> 0 | U55: =IF($B55="samedi",IF(F55="r",0,IF(F55="",0,1)),IF($B55="dimanche",IF(F55="r",0,1),0)) -> 0 | V55: =IF($B55="samedi",IF(G55="r",0,IF(G55="",0,1)),IF($B55="dimanche",IF(G55="r",0,1),0)) -> 0 | W55: =IF($B55="samedi",IF(H55="r",0,IF(H55="",0,1)),IF($B55="dimanche",IF(H55="r",0,1),0)) -> 0 | X55: =IF($B55="samedi",IF(I55="r",0,IF(I55="",0,1)),IF($B55="dimanche",IF(I55="r",0,1),0)) -> 0 | Y55: =IF($B55="samedi",IF(J55="r",0,IF(J55="",0,1)),IF($B55="dimanche",IF(J55="r",0,1),0)) -> 0
B56: samedi | C56: 43519 | D56: N EXT | E56: R | F56: R | G56: R | H56: R | I56: R | J56: 5H 17H | M56: =COUNTIF($D56:$L56,M$1) -> 0 | N56: =COUNTIF($D56:$L56,N$1) -> 0 | O56: =COUNTIF($D56:$L56,O$1) -> 1 | P56: =COUNTIF($D56:$L56,P$1) -> 1 | Q56: =COUNTIF($D56:$L56,Q$1) -> 0 | S56: =IF($B56="samedi",IF(D56="r",0,IF(D56="",0,1)),IF($B56="dimanche",IF(D56="r",0,1),0)) -> 1 | T56: =IF($B56="samedi",IF(E56="r",0,IF(E56="",0,1)),IF($B56="dimanche",IF(E56="r",0,1),0)) -> 0 | U56: =IF($B56="samedi",IF(F56="r",0,IF(F56="",0,1)),IF($B56="dimanche",IF(F56="r",0,1),0)) -> 0 | V56: =IF($B56="samedi",IF(G56="r",0,IF(G56="",0,1)),IF($B56="dimanche",IF(G56="r",0,1),0)) -> 0 | W56: =IF($B56="samedi",IF(H56="r",0,IF(H56="",0,1)),IF($B56="dimanche",IF(H56="r",0,1),0)) -> 0 | X56: =IF($B56="samedi",IF(I56="r",0,IF(I56="",0,1)),IF($B56="dimanche",IF(I56="r",0,1),0)) -> 0 | Y56: =IF($B56="samedi",IF(J56="r",0,IF(J56="",0,1)),IF($B56="dimanche",IF(J56="r",0,1),0)) -> 1
B57: dimanche | C57: 43520 | D57: N EXT | E57: R | F57: R | G57: R | H57: R | I57: R | J57: 5H 17H | M57: =COUNTIF($D57:$L57,M$1) -> 0 | N57: =COUNTIF($D57:$L57,N$1) -> 0 | O57: =COUNTIF($D57:$L57,O$1) -> 1 | P57: =COUNTIF($D57:$L57,P$1) -> 1 | Q57: =COUNTIF($D57:$L57,Q$1) -> 0 | S57: =IF($B57="samedi",IF(D57="r",0,IF(D57="",0,1)),IF($B57="dimanche",IF(D57="r",0,1),0)) -> 1 | T57: =IF($B57="samedi",IF(E57="r",0,IF(E57="",0,1)),IF($B57="dimanche",IF(E57="r",0,1),0)) -> 0 | U57: =IF($B57="samedi",IF(F57="r",0,IF(F57="",0,1)),IF($B57="dimanche",IF(F57="r",0,1),0)) -> 0 | V57: =IF($B57="samedi",IF(G57="r",0,IF(G57="",0,1)),IF($B57="dimanche",IF(G57="r",0,1),0)) -> 0 | W57: =IF($B57="samedi",IF(H57="r",0,IF(H57="",0,1)),IF($B57="dimanche",IF(H57="r",0,1),0)) -> 0 | X57: =IF($B57="samedi",IF(I57="r",0,IF(I57="",0,1)),IF($B57="dimanche",IF(I57="r",0,1),0)) -> 0 | Y57: =IF($B57="samedi",IF(J57="r",0,IF(J57="",0,1)),IF($B57="dimanche",IF(J57="r",0,1),0)) -> 1
A58: S9 | B58: lundi | C58: 43521 | D58: R | E58: FP | F58: M EXT | G58: N EXT | H58: J EXT | I58: AM EXT | J58: R | M58: =COUNTIF($D58:$L58,M$1) -> 1 | N58: =COUNTIF($D58:$L58,N$1) -> 1 | O58: =COUNTIF($D58:$L58,O$1) -> 1 | P58: =COUNTIF($D58:$L58,P$1) -> 0 | Q58: =COUNTIF($D58:$L58,Q$1) -> 0 | S58: =IF($B58="samedi",IF(D58="r",0,IF(D58="",0,1)),IF($B58="dimanche",IF(D58="r",0,1),0)) -> 0 | T58: =IF($B58="samedi",IF(E58="r",0,IF(E58="",0,1)),IF($B58="dimanche",IF(E58="r",0,1),0)) -> 0 | U58: =IF($B58="samedi",IF(F58="r",0,IF(F58="",0,1)),IF($B58="dimanche",IF(F58="r",0,1),0)) -> 0 | V58: =IF($B58="samedi",IF(G58="r",0,IF(G58="",0,1)),IF($B58="dimanche",IF(G58="r",0,1),0)) -> 0 | W58: =IF($B58="samedi",IF(H58="r",0,IF(H58="",0,1)),IF($B58="dimanche",IF(H58="r",0,1),0)) -> 0 | X58: =IF($B58="samedi",IF(I58="r",0,IF(I58="",0,1)),IF($B58="dimanche",IF(I58="r",0,1),0)) -> 0 | Y58: =IF($B58="samedi",IF(J58="r",0,IF(J58="",0,1)),IF($B58="dimanche",IF(J58="r",0,1),0)) -> 0
B59: mardi | C59: 43522 | D59: R | E59: FP | F59: M EXT | G59: N EXT | H59: J EXT | I59: AM EXT | J59: R | M59: =COUNTIF($D59:$L59,M$1) -> 1 | N59: =COUNTIF($D59:$L59,N$1) -> 1 | O59: =COUNTIF($D59:$L59,O$1) -> 1 | P59: =COUNTIF($D59:$L59,P$1) -> 0 | Q59: =COUNTIF($D59:$L59,Q$1) -> 0 | S59: =IF($B59="samedi",IF(D59="r",0,IF(D59="",0,1)),IF($B59="dimanche",IF(D59="r",0,1),0)) -> 0 | T59: =IF($B59="samedi",IF(E59="r",0,IF(E59="",0,1)),IF($B59="dimanche",IF(E59="r",0,1),0)) -> 0 | U59: =IF($B59="samedi",IF(F59="r",0,IF(F59="",0,1)),IF($B59="dimanche",IF(F59="r",0,1),0)) -> 0 | V59: =IF($B59="samedi",IF(G59="r",0,IF(G59="",0,1)),IF($B59="dimanche",IF(G59="r",0,1),0)) -> 0 | W59: =IF($B59="samedi",IF(H59="r",0,IF(H59="",0,1)),IF($B59="dimanche",IF(H59="r",0,1),0)) -> 0 | X59: =IF($B59="samedi",IF(I59="r",0,IF(I59="",0,1)),IF($B59="dimanche",IF(I59="r",0,1),0)) -> 0 | Y59: =IF($B59="samedi",IF(J59="r",0,IF(J59="",0,1)),IF($B59="dimanche",IF(J59="r",0,1),0)) -> 0
B60: mercredi | C60: 43523 | D60: J EXT | E60: R | F60: M EXT | G60: N EXT | H60: J EXT | I60: AM EXT | J60: R | M60: =COUNTIF($D60:$L60,M$1) -> 1 | N60: =COUNTIF($D60:$L60,N$1) -> 1 | O60: =COUNTIF($D60:$L60,O$1) -> 1 | P60: =COUNTIF($D60:$L60,P$1) -> 0 | Q60: =COUNTIF($D60:$L60,Q$1) -> 0 | S60: =IF($B60="samedi",IF(D60="r",0,IF(D60="",0,1)),IF($B60="dimanche",IF(D60="r",0,1),0)) -> 0 | T60: =IF($B60="samedi",IF(E60="r",0,IF(E60="",0,1)),IF($B60="dimanche",IF(E60="r",0,1),0)) -> 0 | U60: =IF($B60="samedi",IF(F60="r",0,IF(F60="",0,1)),IF($B60="dimanche",IF(F60="r",0,1),0)) -> 0 | V60: =IF($B60="samedi",IF(G60="r",0,IF(G60="",0,1)),IF($B60="dimanche",IF(G60="r",0,1),0)) -> 0 | W60: =IF($B60="samedi",IF(H60="r",0,IF(H60="",0,1)),IF($B60="dimanche",IF(H60="r",0,1),0)) -> 0 | X60: =IF($B60="samedi",IF(I60="r",0,IF(I60="",0,1)),IF($B60="dimanche",IF(I60="r",0,1),0)) -> 0 | Y60: =IF($B60="samedi",IF(J60="r",0,IF(J60="",0,1)),IF($B60="dimanche",IF(J60="r",0,1),0)) -> 0
B61: jeudi | C61: 43524 | D61: J EXT | E61: M EXT | F61: J EXT | G61: N EXT | H61: J EXT | I61: AM EXT | J61: R | M61: =COUNTIF($D61:$L61,M$1) -> 1 | N61: =COUNTIF($D61:$L61,N$1) -> 1 | O61: =COUNTIF($D61:$L61,O$1) -> 1 | P61: =COUNTIF($D61:$L61,P$1) -> 0 | Q61: =COUNTIF($D61:$L61,Q$1) -> 0 | S61: =IF($B61="samedi",IF(D61="r",0,IF(D61="",0,1)),IF($B61="dimanche",IF(D61="r",0,1),0)) -> 0 | T61: =IF($B61="samedi",IF(E61="r",0,IF(E61="",0,1)),IF($B61="dimanche",IF(E61="r",0,1),0)) -> 0 | U61: =IF($B61="samedi",IF(F61="r",0,IF(F61="",0,1)),IF($B61="dimanche",IF(F61="r",0,1),0)) -> 0 | V61: =IF($B61="samedi",IF(G61="r",0,IF(G61="",0,1)),IF($B61="dimanche",IF(G61="r",0,1),0)) -> 0 | W61: =IF($B61="samedi",IF(H61="r",0,IF(H61="",0,1)),IF($B61="dimanche",IF(H61="r",0,1),0)) -> 0 | X61: =IF($B61="samedi",IF(I61="r",0,IF(I61="",0,1)),IF($B61="dimanche",IF(I61="r",0,1),0)) -> 0 | Y61: =IF($B61="samedi",IF(J61="r",0,IF(J61="",0,1)),IF($B61="dimanche",IF(J61="r",0,1),0)) -> 0
B62: vendredi | C62: 43525 | D62: R | E62: M EXT | F62: J EXT | G62: N EXT | H62: J EXT | I62: AM EXT | J62: R | M62: =COUNTIF($D62:$L62,M$1) -> 1 | N62: =COUNTIF($D62:$L62,N$1) -> 1 | O62: =COUNTIF($D62:$L62,O$1) -> 1 | P62: =COUNTIF($D62:$L62,P$1) -> 0 | Q62: =COUNTIF($D62:$L62,Q$1) -> 0 | S62: =IF($B62="samedi",IF(D62="r",0,IF(D62="",0,1)),IF($B62="dimanche",IF(D62="r",0,1),0)) -> 0 | T62: =IF($B62="samedi",IF(E62="r",0,IF(E62="",0,1)),IF($B62="dimanche",IF(E62="r",0,1),0)) -> 0 | U62: =IF($B62="samedi",IF(F62="r",0,IF(F62="",0,1)),IF($B62="dimanche",IF(F62="r",0,1),0)) -> 0 | V62: =IF($B62="samedi",IF(G62="r",0,IF(G62="",0,1)),IF($B62="dimanche",IF(G62="r",0,1),0)) -> 0 | W62: =IF($B62="samedi",IF(H62="r",0,IF(H62="",0,1)),IF($B62="dimanche",IF(H62="r",0,1),0)) -> 0 | X62: =IF($B62="samedi",IF(I62="r",0,IF(I62="",0,1)),IF($B62="dimanche",IF(I62="r",0,1),0)) -> 0 | Y62: =IF($B62="samedi",IF(J62="r",0,IF(J62="",0,1)),IF($B62="dimanche",IF(J62="r",0,1),0)) -> 0
B63: samedi | C63: 43526 | D63: R | E63: M EXT | F63: R | G63: R | H63: R | I63: R | J63: 17H 5H | M63: =COUNTIF($D63:$L63,M$1) -> 1 | N63: =COUNTIF($D63:$L63,N$1) -> 0 | O63: =COUNTIF($D63:$L63,O$1) -> 0 | P63: =COUNTIF($D63:$L63,P$1) -> 0 | Q63: =COUNTIF($D63:$L63,Q$1) -> 1 | S63: =IF($B63="samedi",IF(D63="r",0,IF(D63="",0,1)),IF($B63="dimanche",IF(D63="r",0,1),0)) -> 0 | T63: =IF($B63="samedi",IF(E63="r",0,IF(E63="",0,1)),IF($B63="dimanche",IF(E63="r",0,1),0)) -> 1 | U63: =IF($B63="samedi",IF(F63="r",0,IF(F63="",0,1)),IF($B63="dimanche",IF(F63="r",0,1),0)) -> 0 | V63: =IF($B63="samedi",IF(G63="r",0,IF(G63="",0,1)),IF($B63="dimanche",IF(G63="r",0,1),0)) -> 0 | W63: =IF($B63="samedi",IF(H63="r",0,IF(H63="",0,1)),IF($B63="dimanche",IF(H63="r",0,1),0)) -> 0 | X63: =IF($B63="samedi",IF(I63="r",0,IF(I63="",0,1)),IF($B63="dimanche",IF(I63="r",0,1),0)) -> 0 | Y63: =IF($B63="samedi",IF(J63="r",0,IF(J63="",0,1)),IF($B63="dimanche",IF(J63="r",0,1),0)) -> 1
B64: dimanche | C64: 43527 | D64: R | E64: M EXT | F64: R | G64: R | H64: R | I64: R | J64: 17H 5H | M64: =COUNTIF($D64:$L64,M$1) -> 1 | N64: =COUNTIF($D64:$L64,N$1) -> 0 | O64: =COUNTIF($D64:$L64,O$1) -> 0 | P64: =COUNTIF($D64:$L64,P$1) -> 0 | Q64: =COUNTIF($D64:$L64,Q$1) -> 1 | S64: =IF($B64="samedi",IF(D64="r",0,IF(D64="",0,1)),IF($B64="dimanche",IF(D64="r",0,1),0)) -> 0 | T64: =IF($B64="samedi",IF(E64="r",0,IF(E64="",0,1)),IF($B64="dimanche",IF(E64="r",0,1),0)) -> 1 | U64: =IF($B64="samedi",IF(F64="r",0,IF(F64="",0,1)),IF($B64="dimanche",IF(F64="r",0,1),0)) -> 0 | V64: =IF($B64="samedi",IF(G64="r",0,IF(G64="",0,1)),IF($B64="dimanche",IF(G64="r",0,1),0)) -> 0 | W64: =IF($B64="samedi",IF(H64="r",0,IF(H64="",0,1)),IF($B64="dimanche",IF(H64="r",0,1),0)) -> 0 | X64: =IF($B64="samedi",IF(I64="r",0,IF(I64="",0,1)),IF($B64="dimanche",IF(I64="r",0,1),0)) -> 0 | Y64: =IF($B64="samedi",IF(J64="r",0,IF(J64="",0,1)),IF($B64="dimanche",IF(J64="r",0,1),0)) -> 1
A65: S10 | B65: lundi | C65: 43528 | D65: J EXT | E65: R | F65: N EXT | G65: M EXT | H65: AM EXT | I65: J EXT | J65: R | M65: =COUNTIF($D65:$L65,M$1) -> 1 | N65: =COUNTIF($D65:$L65,N$1) -> 1 | O65: =COUNTIF($D65:$L65,O$1) -> 1 | P65: =COUNTIF($D65:$L65,P$1) -> 0 | Q65: =COUNTIF($D65:$L65,Q$1) -> 0 | S65: =IF($B65="samedi",IF(D65="r",0,IF(D65="",0,1)),IF($B65="dimanche",IF(D65="r",0,1),0)) -> 0 | T65: =IF($B65="samedi",IF(E65="r",0,IF(E65="",0,1)),IF($B65="dimanche",IF(E65="r",0,1),0)) -> 0 | U65: =IF($B65="samedi",IF(F65="r",0,IF(F65="",0,1)),IF($B65="dimanche",IF(F65="r",0,1),0)) -> 0 | V65: =IF($B65="samedi",IF(G65="r",0,IF(G65="",0,1)),IF($B65="dimanche",IF(G65="r",0,1),0)) -> 0 | W65: =IF($B65="samedi",IF(H65="r",0,IF(H65="",0,1)),IF($B65="dimanche",IF(H65="r",0,1),0)) -> 0 | X65: =IF($B65="samedi",IF(I65="r",0,IF(I65="",0,1)),IF($B65="dimanche",IF(I65="r",0,1),0)) -> 0 | Y65: =IF($B65="samedi",IF(J65="r",0,IF(J65="",0,1)),IF($B65="dimanche",IF(J65="r",0,1),0)) -> 0
B66: mardi | C66: 43529 | D66: J EXT | E66: R | F66: N EXT | G66: M EXT | H66: AM EXT | I66: J EXT | J66: FP | M66: =COUNTIF($D66:$L66,M$1) -> 1 | N66: =COUNTIF($D66:$L66,N$1) -> 1 | O66: =COUNTIF($D66:$L66,O$1) -> 1 | P66: =COUNTIF($D66:$L66,P$1) -> 0 | Q66: =COUNTIF($D66:$L66,Q$1) -> 0 | S66: =IF($B66="samedi",IF(D66="r",0,IF(D66="",0,1)),IF($B66="dimanche",IF(D66="r",0,1),0)) -> 0 | T66: =IF($B66="samedi",IF(E66="r",0,IF(E66="",0,1)),IF($B66="dimanche",IF(E66="r",0,1),0)) -> 0 | U66: =IF($B66="samedi",IF(F66="r",0,IF(F66="",0,1)),IF($B66="dimanche",IF(F66="r",0,1),0)) -> 0 | V66: =IF($B66="samedi",IF(G66="r",0,IF(G66="",0,1)),IF($B66="dimanche",IF(G66="r",0,1),0)) -> 0 | W66: =IF($B66="samedi",IF(H66="r",0,IF(H66="",0,1)),IF($B66="dimanche",IF(H66="r",0,1),0)) -> 0 | X66: =IF($B66="samedi",IF(I66="r",0,IF(I66="",0,1)),IF($B66="dimanche",IF(I66="r",0,1),0)) -> 0 | Y66: =IF($B66="samedi",IF(J66="r",0,IF(J66="",0,1)),IF($B66="dimanche",IF(J66="r",0,1),0)) -> 0
B67: mercredi | C67: 43530 | D67: J EXT | E67: J EXT | F67: N EXT | G67: M EXT | H67: AM EXT | I67: R | J67: FP | M67: =COUNTIF($D67:$L67,M$1) -> 1 | N67: =COUNTIF($D67:$L67,N$1) -> 1 | O67: =COUNTIF($D67:$L67,O$1) -> 1 | P67: =COUNTIF($D67:$L67,P$1) -> 0 | Q67: =COUNTIF($D67:$L67,Q$1) -> 0 | S67: =IF($B67="samedi",IF(D67="r",0,IF(D67="",0,1)),IF($B67="dimanche",IF(D67="r",0,1),0)) -> 0 | T67: =IF($B67="samedi",IF(E67="r",0,IF(E67="",0,1)),IF($B67="dimanche",IF(E67="r",0,1),0)) -> 0 | U67: =IF($B67="samedi",IF(F67="r",0,IF(F67="",0,1)),IF($B67="dimanche",IF(F67="r",0,1),0)) -> 0 | V67: =IF($B67="samedi",IF(G67="r",0,IF(G67="",0,1)),IF($B67="dimanche",IF(G67="r",0,1),0)) -> 0 | W67: =IF($B67="samedi",IF(H67="r",0,IF(H67="",0,1)),IF($B67="dimanche",IF(H67="r",0,1),0)) -> 0 | X67: =IF($B67="samedi",IF(I67="r",0,IF(I67="",0,1)),IF($B67="dimanche",IF(I67="r",0,1),0)) -> 0 | Y67: =IF($B67="samedi",IF(J67="r",0,IF(J67="",0,1)),IF($B67="dimanche",IF(J67="r",0,1),0)) -> 0
B68: jeudi | C68: 43531 | D68: J EXT | E68: J EXT | F68: N EXT | G68: M EXT | H68: AM EXT | I68: R | J68: R | M68: =COUNTIF($D68:$L68,M$1) -> 1 | N68: =COUNTIF($D68:$L68,N$1) -> 1 | O68: =COUNTIF($D68:$L68,O$1) -> 1 | P68: =COUNTIF($D68:$L68,P$1) -> 0 | Q68: =COUNTIF($D68:$L68,Q$1) -> 0 | S68: =IF($B68="samedi",IF(D68="r",0,IF(D68="",0,1)),IF($B68="dimanche",IF(D68="r",0,1),0)) -> 0 | T68: =IF($B68="samedi",IF(E68="r",0,IF(E68="",0,1)),IF($B68="dimanche",IF(E68="r",0,1),0)) -> 0 | U68: =IF($B68="samedi",IF(F68="r",0,IF(F68="",0,1)),IF($B68="dimanche",IF(F68="r",0,1),0)) -> 0 | V68: =IF($B68="samedi",IF(G68="r",0,IF(G68="",0,1)),IF($B68="dimanche",IF(G68="r",0,1),0)) -> 0 | W68: =IF($B68="samedi",IF(H68="r",0,IF(H68="",0,1)),IF($B68="dimanche",IF(H68="r",0,1),0)) -> 0 | X68: =IF($B68="samedi",IF(I68="r",0,IF(I68="",0,1)),IF($B68="dimanche",IF(I68="r",0,1),0)) -> 0 | Y68: =IF($B68="samedi",IF(J68="r",0,IF(J68="",0,1)),IF($B68="dimanche",IF(J68="r",0,1),0)) -> 0
B69: vendredi | C69: 43532 | D69: R | E69: J EXT | F69: N EXT | G69: J EXT | H69: AM EXT | I69: M EXT | J69: R | M69: =COUNTIF($D69:$L69,M$1) -> 1 | N69: =COUNTIF($D69:$L69,N$1) -> 1 | O69: =COUNTIF($D69:$L69,O$1) -> 1 | P69: =COUNTIF($D69:$L69,P$1) -> 0 | Q69: =COUNTIF($D69:$L69,Q$1) -> 0 | S69: =IF($B69="samedi",IF(D69="r",0,IF(D69="",0,1)),IF($B69="dimanche",IF(D69="r",0,1),0)) -> 0 | T69: =IF($B69="samedi",IF(E69="r",0,IF(E69="",0,1)),IF($B69="dimanche",IF(E69="r",0,1),0)) -> 0 | U69: =IF($B69="samedi",IF(F69="r",0,IF(F69="",0,1)),IF($B69="dimanche",IF(F69="r",0,1),0)) -> 0 | V69: =IF($B69="samedi",IF(G69="r",0,IF(G69="",0,1)),IF($B69="dimanche",IF(G69="r",0,1),0)) -> 0 | W69: =IF($B69="samedi",IF(H69="r",0,IF(H69="",0,1)),IF($B69="dimanche",IF(H69="r",0,1),0)) -> 0 | X69: =IF($B69="samedi",IF(I69="r",0,IF(I69="",0,1)),IF($B69="dimanche",IF(I69="r",0,1),0)) -> 0 | Y69: =IF($B69="samedi",IF(J69="r",0,IF(J69="",0,1)),IF($B69="dimanche",IF(J69="r",0,1),0)) -> 0
B70: samedi | C70: 43533 | D70: R | E70: R | F70: R | G70: R | H70: R | I70: M EXT | J70: 17H 5H | M70: =COUNTIF($D70:$L70,M$1) -> 1 | N70: =COUNTIF($D70:$L70,N$1) -> 0 | O70: =COUNTIF($D70:$L70,O$1) -> 0 | P70: =COUNTIF($D70:$L70,P$1) -> 0 | Q70: =COUNTIF($D70:$L70,Q$1) -> 1 | S70: =IF($B70="samedi",IF(D70="r",0,IF(D70="",0,1)),IF($B70="dimanche",IF(D70="r",0,1),0)) -> 0 | T70: =IF($B70="samedi",IF(E70="r",0,IF(E70="",0,1)),IF($B70="dimanche",IF(E70="r",0,1),0)) -> 0 | U70: =IF($B70="samedi",IF(F70="r",0,IF(F70="",0,1)),IF($B70="dimanche",IF(F70="r",0,1),0)) -> 0 | V70: =IF($B70="samedi",IF(G70="r",0,IF(G70="",0,1)),IF($B70="dimanche",IF(G70="r",0,1),0)) -> 0 | W70: =IF($B70="samedi",IF(H70="r",0,IF(H70="",0,1)),IF($B70="dimanche",IF(H70="r",0,1),0)) -> 0 | X70: =IF($B70="samedi",IF(I70="r",0,IF(I70="",0,1)),IF($B70="dimanche",IF(I70="r",0,1),0)) -> 1 | Y70: =IF($B70="samedi",IF(J70="r",0,IF(J70="",0,1)),IF($B70="dimanche",IF(J70="r",0,1),0)) -> 1
B71: dimanche | C71: 43534 | D71: R | E71: R | F71: R | G71: R | H71: R | I71: M EXT | J71: 17H 5H | M71: =COUNTIF($D71:$L71,M$1) -> 1 | N71: =COUNTIF($D71:$L71,N$1) -> 0 | O71: =COUNTIF($D71:$L71,O$1) -> 0 | P71: =COUNTIF($D71:$L71,P$1) -> 0 | Q71: =COUNTIF($D71:$L71,Q$1) -> 1 | S71: =IF($B71="samedi",IF(D71="r",0,IF(D71="",0,1)),IF($B71="dimanche",IF(D71="r",0,1),0)) -> 0 | T71: =IF($B71="samedi",IF(E71="r",0,IF(E71="",0,1)),IF($B71="dimanche",IF(E71="r",0,1),0)) -> 0 | U71: =IF($B71="samedi",IF(F71="r",0,IF(F71="",0,1)),IF($B71="dimanche",IF(F71="r",0,1),0)) -> 0 | V71: =IF($B71="samedi",IF(G71="r",0,IF(G71="",0,1)),IF($B71="dimanche",IF(G71="r",0,1),0)) -> 0 | W71: =IF($B71="samedi",IF(H71="r",0,IF(H71="",0,1)),IF($B71="dimanche",IF(H71="r",0,1),0)) -> 0 | X71: =IF($B71="samedi",IF(I71="r",0,IF(I71="",0,1)),IF($B71="dimanche",IF(I71="r",0,1),0)) -> 1 | Y71: =IF($B71="samedi",IF(J71="r",0,IF(J71="",0,1)),IF($B71="dimanche",IF(J71="r",0,1),0)) -> 1
A72: S11 | B72: lundi | C72: 43535 | D72: J EXT | E72: AM EXT | F72: CP | G72: N EXT | H72: J EXT | I72: M EXT | J72: R | M72: =COUNTIF($D72:$L72,M$1) -> 1 | N72: =COUNTIF($D72:$L72,N$1) -> 1 | O72: =COUNTIF($D72:$L72,O$1) -> 1 | P72: =COUNTIF($D72:$L72,P$1) -> 0 | Q72: =COUNTIF($D72:$L72,Q$1) -> 0 | S72: =IF($B72="samedi",IF(D72="r",0,IF(D72="",0,1)),IF($B72="dimanche",IF(D72="r",0,1),0)) -> 0 | T72: =IF($B72="samedi",IF(E72="r",0,IF(E72="",0,1)),IF($B72="dimanche",IF(E72="r",0,1),0)) -> 0 | U72: =IF($B72="samedi",IF(F72="r",0,IF(F72="",0,1)),IF($B72="dimanche",IF(F72="r",0,1),0)) -> 0 | V72: =IF($B72="samedi",IF(G72="r",0,IF(G72="",0,1)),IF($B72="dimanche",IF(G72="r",0,1),0)) -> 0 | W72: =IF($B72="samedi",IF(H72="r",0,IF(H72="",0,1)),IF($B72="dimanche",IF(H72="r",0,1),0)) -> 0 | X72: =IF($B72="samedi",IF(I72="r",0,IF(I72="",0,1)),IF($B72="dimanche",IF(I72="r",0,1),0)) -> 0 | Y72: =IF($B72="samedi",IF(J72="r",0,IF(J72="",0,1)),IF($B72="dimanche",IF(J72="r",0,1),0)) -> 0
B73: mardi | C73: 43536 | D73: J EXT | E73: AM EXT | F73: CP | G73: N EXT | H73: J EXT | I73: M EXT | J73: R | M73: =COUNTIF($D73:$L73,M$1) -> 1 | N73: =COUNTIF($D73:$L73,N$1) -> 1 | O73: =COUNTIF($D73:$L73,O$1) -> 1 | P73: =COUNTIF($D73:$L73,P$1) -> 0 | Q73: =COUNTIF($D73:$L73,Q$1) -> 0 | S73: =IF($B73="samedi",IF(D73="r",0,IF(D73="",0,1)),IF($B73="dimanche",IF(D73="r",0,1),0)) -> 0 | T73: =IF($B73="samedi",IF(E73="r",0,IF(E73="",0,1)),IF($B73="dimanche",IF(E73="r",0,1),0)) -> 0 | U73: =IF($B73="samedi",IF(F73="r",0,IF(F73="",0,1)),IF($B73="dimanche",IF(F73="r",0,1),0)) -> 0 | V73: =IF($B73="samedi",IF(G73="r",0,IF(G73="",0,1)),IF($B73="dimanche",IF(G73="r",0,1),0)) -> 0 | W73: =IF($B73="samedi",IF(H73="r",0,IF(H73="",0,1)),IF($B73="dimanche",IF(H73="r",0,1),0)) -> 0 | X73: =IF($B73="samedi",IF(I73="r",0,IF(I73="",0,1)),IF($B73="dimanche",IF(I73="r",0,1),0)) -> 0 | Y73: =IF($B73="samedi",IF(J73="r",0,IF(J73="",0,1)),IF($B73="dimanche",IF(J73="r",0,1),0)) -> 0
B74: mercredi | C74: 43537 | D74: J EXT | E74: AM EXT | F74: CP | G74: N EXT | H74: M EXT | I74: R | J74: R | M74: =COUNTIF($D74:$L74,M$1) -> 1 | N74: =COUNTIF($D74:$L74,N$1) -> 1 | O74: =COUNTIF($D74:$L74,O$1) -> 1 | P74: =COUNTIF($D74:$L74,P$1) -> 0 | Q74: =COUNTIF($D74:$L74,Q$1) -> 0 | S74: =IF($B74="samedi",IF(D74="r",0,IF(D74="",0,1)),IF($B74="dimanche",IF(D74="r",0,1),0)) -> 0 | T74: =IF($B74="samedi",IF(E74="r",0,IF(E74="",0,1)),IF($B74="dimanche",IF(E74="r",0,1),0)) -> 0 | U74: =IF($B74="samedi",IF(F74="r",0,IF(F74="",0,1)),IF($B74="dimanche",IF(F74="r",0,1),0)) -> 0 | V74: =IF($B74="samedi",IF(G74="r",0,IF(G74="",0,1)),IF($B74="dimanche",IF(G74="r",0,1),0)) -> 0 | W74: =IF($B74="samedi",IF(H74="r",0,IF(H74="",0,1)),IF($B74="dimanche",IF(H74="r",0,1),0)) -> 0 | X74: =IF($B74="samedi",IF(I74="r",0,IF(I74="",0,1)),IF($B74="dimanche",IF(I74="r",0,1),0)) -> 0 | Y74: =IF($B74="samedi",IF(J74="r",0,IF(J74="",0,1)),IF($B74="dimanche",IF(J74="r",0,1),0)) -> 0
B75: jeudi | C75: 43538 | D75: J EXT | E75: AM EXT | F75: CP | G75: R | H75: M EXT | I75: N EXT | J75: R | M75: =COUNTIF($D75:$L75,M$1) -> 1 | N75: =COUNTIF($D75:$L75,N$1) -> 1 | O75: =COUNTIF($D75:$L75,O$1) -> 1 | P75: =COUNTIF($D75:$L75,P$1) -> 0 | Q75: =COUNTIF($D75:$L75,Q$1) -> 0 | S75: =IF($B75="samedi",IF(D75="r",0,IF(D75="",0,1)),IF($B75="dimanche",IF(D75="r",0,1),0)) -> 0 | T75: =IF($B75="samedi",IF(E75="r",0,IF(E75="",0,1)),IF($B75="dimanche",IF(E75="r",0,1),0)) -> 0 | U75: =IF($B75="samedi",IF(F75="r",0,IF(F75="",0,1)),IF($B75="dimanche",IF(F75="r",0,1),0)) -> 0 | V75: =IF($B75="samedi",IF(G75="r",0,IF(G75="",0,1)),IF($B75="dimanche",IF(G75="r",0,1),0)) -> 0 | W75: =IF($B75="samedi",IF(H75="r",0,IF(H75="",0,1)),IF($B75="dimanche",IF(H75="r",0,1),0)) -> 0 | X75: =IF($B75="samedi",IF(I75="r",0,IF(I75="",0,1)),IF($B75="dimanche",IF(I75="r",0,1),0)) -> 0 | Y75: =IF($B75="samedi",IF(J75="r",0,IF(J75="",0,1)),IF($B75="dimanche",IF(J75="r",0,1),0)) -> 0
B76: vendredi | C76: 43539 | D76: J EXT | E76: AM EXT | F76: CP | G76: R | H76: M EXT | I76: N EXT | J76: R | L76: J EXT | M76: =COUNTIF($D76:$L76,M$1) -> 1 | N76: =COUNTIF($D76:$L76,N$1) -> 1 | O76: =COUNTIF($D76:$L76,O$1) -> 1 | P76: =COUNTIF($D76:$L76,P$1) -> 0 | Q76: =COUNTIF($D76:$L76,Q$1) -> 0 | S76: =IF($B76="samedi",IF(D76="r",0,IF(D76="",0,1)),IF($B76="dimanche",IF(D76="r",0,1),0)) -> 0 | T76: =IF($B76="samedi",IF(E76="r",0,IF(E76="",0,1)),IF($B76="dimanche",IF(E76="r",0,1),0)) -> 0 | U76: =IF($B76="samedi",IF(F76="r",0,IF(F76="",0,1)),IF($B76="dimanche",IF(F76="r",0,1),0)) -> 0 | V76: =IF($B76="samedi",IF(G76="r",0,IF(G76="",0,1)),IF($B76="dimanche",IF(G76="r",0,1),0)) -> 0 | W76: =IF($B76="samedi",IF(H76="r",0,IF(H76="",0,1)),IF($B76="dimanche",IF(H76="r",0,1),0)) -> 0 | X76: =IF($B76="samedi",IF(I76="r",0,IF(I76="",0,1)),IF($B76="dimanche",IF(I76="r",0,1),0)) -> 0 | Y76: =IF($B76="samedi",IF(J76="r",0,IF(J76="",0,1)),IF($B76="dimanche",IF(J76="r",0,1),0)) -> 0
B77: samedi | C77: 43540 | D77: R | E77: R | F77: R | G77: R | H77: R | I77: N EXT | J77: 5H 17H | M77: =COUNTIF($D77:$L77,M$1) -> 0 | N77: =COUNTIF($D77:$L77,N$1) -> 0 | O77: =COUNTIF($D77:$L77,O$1) -> 1 | P77: =COUNTIF($D77:$L77,P$1) -> 1 | Q77: =COUNTIF($D77:$L77,Q$1) -> 0 | S77: =IF($B77="samedi",IF(D77="r",0,IF(D77="",0,1)),IF($B77="dimanche",IF(D77="r",0,1),0)) -> 0 | T77: =IF($B77="samedi",IF(E77="r",0,IF(E77="",0,1)),IF($B77="dimanche",IF(E77="r",0,1),0)) -> 0 | U77: =IF($B77="samedi",IF(F77="r",0,IF(F77="",0,1)),IF($B77="dimanche",IF(F77="r",0,1),0)) -> 0 | V77: =IF($B77="samedi",IF(G77="r",0,IF(G77="",0,1)),IF($B77="dimanche",IF(G77="r",0,1),0)) -> 0 | W77: =IF($B77="samedi",IF(H77="r",0,IF(H77="",0,1)),IF($B77="dimanche",IF(H77="r",0,1),0)) -> 0 | X77: =IF($B77="samedi",IF(I77="r",0,IF(I77="",0,1)),IF($B77="dimanche",IF(I77="r",0,1),0)) -> 1 | Y77: =IF($B77="samedi",IF(J77="r",0,IF(J77="",0,1)),IF($B77="dimanche",IF(J77="r",0,1),0)) -> 1
B78: dimanche | C78: 43541 | D78: R | E78: R | F78: R | G78: R | H78: R | I78: N EXT | J78: 5H 17H | M78: =COUNTIF($D78:$L78,M$1) -> 0 | N78: =COUNTIF($D78:$L78,N$1) -> 0 | O78: =COUNTIF($D78:$L78,O$1) -> 1 | P78: =COUNTIF($D78:$L78,P$1) -> 1 | Q78: =COUNTIF($D78:$L78,Q$1) -> 0 | S78: =IF($B78="samedi",IF(D78="r",0,IF(D78="",0,1)),IF($B78="dimanche",IF(D78="r",0,1),0)) -> 0 | T78: =IF($B78="samedi",IF(E78="r",0,IF(E78="",0,1)),IF($B78="dimanche",IF(E78="r",0,1),0)) -> 0 | U78: =IF($B78="samedi",IF(F78="r",0,IF(F78="",0,1)),IF($B78="dimanche",IF(F78="r",0,1),0)) -> 0 | V78: =IF($B78="samedi",IF(G78="r",0,IF(G78="",0,1)),IF($B78="dimanche",IF(G78="r",0,1),0)) -> 0 | W78: =IF($B78="samedi",IF(H78="r",0,IF(H78="",0,1)),IF($B78="dimanche",IF(H78="r",0,1),0)) -> 0 | X78: =IF($B78="samedi",IF(I78="r",0,IF(I78="",0,1)),IF($B78="dimanche",IF(I78="r",0,1),0)) -> 1 | Y78: =IF($B78="samedi",IF(J78="r",0,IF(J78="",0,1)),IF($B78="dimanche",IF(J78="r",0,1),0)) -> 1
A79: S12 | B79: lundi | C79: 43542 | D79: J EXT | E79: N EXT | F79: AM EXT | G79: M EXT | H79: J EXT | I79: R | J79: R | M79: =COUNTIF($D79:$L79,M$1) -> 1 | N79: =COUNTIF($D79:$L79,N$1) -> 1 | O79: =COUNTIF($D79:$L79,O$1) -> 1 | P79: =COUNTIF($D79:$L79,P$1) -> 0 | Q79: =COUNTIF($D79:$L79,Q$1) -> 0 | S79: =IF($B79="samedi",IF(D79="r",0,IF(D79="",0,1)),IF($B79="dimanche",IF(D79="r",0,1),0)) -> 0 | T79: =IF($B79="samedi",IF(E79="r",0,IF(E79="",0,1)),IF($B79="dimanche",IF(E79="r",0,1),0)) -> 0 | U79: =IF($B79="samedi",IF(F79="r",0,IF(F79="",0,1)),IF($B79="dimanche",IF(F79="r",0,1),0)) -> 0 | V79: =IF($B79="samedi",IF(G79="r",0,IF(G79="",0,1)),IF($B79="dimanche",IF(G79="r",0,1),0)) -> 0 | W79: =IF($B79="samedi",IF(H79="r",0,IF(H79="",0,1)),IF($B79="dimanche",IF(H79="r",0,1),0)) -> 0 | X79: =IF($B79="samedi",IF(I79="r",0,IF(I79="",0,1)),IF($B79="dimanche",IF(I79="r",0,1),0)) -> 0 | Y79: =IF($B79="samedi",IF(J79="r",0,IF(J79="",0,1)),IF($B79="dimanche",IF(J79="r",0,1),0)) -> 0
B80: mardi | C80: 43543 | D80: J EXT | E80: N EXT | F80: AM EXT | G80: M EXT | H80: J EXT | I80: R | J80: R | M80: =COUNTIF($D80:$L80,M$1) -> 1 | N80: =COUNTIF($D80:$L80,N$1) -> 1 | O80: =COUNTIF($D80:$L80,O$1) -> 1 | P80: =COUNTIF($D80:$L80,P$1) -> 0 | Q80: =COUNTIF($D80:$L80,Q$1) -> 0 | S80: =IF($B80="samedi",IF(D80="r",0,IF(D80="",0,1)),IF($B80="dimanche",IF(D80="r",0,1),0)) -> 0 | T80: =IF($B80="samedi",IF(E80="r",0,IF(E80="",0,1)),IF($B80="dimanche",IF(E80="r",0,1),0)) -> 0 | U80: =IF($B80="samedi",IF(F80="r",0,IF(F80="",0,1)),IF($B80="dimanche",IF(F80="r",0,1),0)) -> 0 | V80: =IF($B80="samedi",IF(G80="r",0,IF(G80="",0,1)),IF($B80="dimanche",IF(G80="r",0,1),0)) -> 0 | W80: =IF($B80="samedi",IF(H80="r",0,IF(H80="",0,1)),IF($B80="dimanche",IF(H80="r",0,1),0)) -> 0 | X80: =IF($B80="samedi",IF(I80="r",0,IF(I80="",0,1)),IF($B80="dimanche",IF(I80="r",0,1),0)) -> 0 | Y80: =IF($B80="samedi",IF(J80="r",0,IF(J80="",0,1)),IF($B80="dimanche",IF(J80="r",0,1),0)) -> 0
B81: mercredi | C81: 43544 | D81: J EXT | E81: N EXT | F81: AM EXT | G81: M EXT | H81: J EXT | I81: J EXT | J81: R | M81: =COUNTIF($D81:$L81,M$1) -> 1 | N81: =COUNTIF($D81:$L81,N$1) -> 1 | O81: =COUNTIF($D81:$L81,O$1) -> 1 | P81: =COUNTIF($D81:$L81,P$1) -> 0 | Q81: =COUNTIF($D81:$L81,Q$1) -> 0 | S81: =IF($B81="samedi",IF(D81="r",0,IF(D81="",0,1)),IF($B81="dimanche",IF(D81="r",0,1),0)) -> 0 | T81: =IF($B81="samedi",IF(E81="r",0,IF(E81="",0,1)),IF($B81="dimanche",IF(E81="r",0,1),0)) -> 0 | U81: =IF($B81="samedi",IF(F81="r",0,IF(F81="",0,1)),IF($B81="dimanche",IF(F81="r",0,1),0)) -> 0 | V81: =IF($B81="samedi",IF(G81="r",0,IF(G81="",0,1)),IF($B81="dimanche",IF(G81="r",0,1),0)) -> 0 | W81: =IF($B81="samedi",IF(H81="r",0,IF(H81="",0,1)),IF($B81="dimanche",IF(H81="r",0,1),0)) -> 0 | X81: =IF($B81="samedi",IF(I81="r",0,IF(I81="",0,1)),IF($B81="dimanche",IF(I81="r",0,1),0)) -> 0 | Y81: =IF($B81="samedi",IF(J81="r",0,IF(J81="",0,1)),IF($B81="dimanche",IF(J81="r",0,1),0)) -> 0
B82: jeudi | C82: 43545 | D82: J EXT | E82: N EXT | F82: AM EXT | G82: M EXT | H82: R | I82: J EXT | J82: R | M82: =COUNTIF($D82:$L82,M$1) -> 1 | N82: =COUNTIF($D82:$L82,N$1) -> 1 | O82: =COUNTIF($D82:$L82,O$1) -> 1 | P82: =COUNTIF($D82:$L82,P$1) -> 0 | Q82: =COUNTIF($D82:$L82,Q$1) -> 0 | S82: =IF($B82="samedi",IF(D82="r",0,IF(D82="",0,1)),IF($B82="dimanche",IF(D82="r",0,1),0)) -> 0 | T82: =IF($B82="samedi",IF(E82="r",0,IF(E82="",0,1)),IF($B82="dimanche",IF(E82="r",0,1),0)) -> 0 | U82: =IF($B82="samedi",IF(F82="r",0,IF(F82="",0,1)),IF($B82="dimanche",IF(F82="r",0,1),0)) -> 0 | V82: =IF($B82="samedi",IF(G82="r",0,IF(G82="",0,1)),IF($B82="dimanche",IF(G82="r",0,1),0)) -> 0 | W82: =IF($B82="samedi",IF(H82="r",0,IF(H82="",0,1)),IF($B82="dimanche",IF(H82="r",0,1),0)) -> 0 | X82: =IF($B82="samedi",IF(I82="r",0,IF(I82="",0,1)),IF($B82="dimanche",IF(I82="r",0,1),0)) -> 0 | Y82: =IF($B82="samedi",IF(J82="r",0,IF(J82="",0,1)),IF($B82="dimanche",IF(J82="r",0,1),0)) -> 0
B83: vendredi | C83: 43546 | D83: J EXT | E83: R | F83: AM EXT | G83: M EXT | H83: N EXT | I83: J EXT | J83: R | M83: =COUNTIF($D83:$L83,M$1) -> 1 | N83: =COUNTIF($D83:$L83,N$1) -> 1 | O83: =COUNTIF($D83:$L83,O$1) -> 1 | P83: =COUNTIF($D83:$L83,P$1) -> 0 | Q83: =COUNTIF($D83:$L83,Q$1) -> 0 | S83: =IF($B83="samedi",IF(D83="r",0,IF(D83="",0,1)),IF($B83="dimanche",IF(D83="r",0,1),0)) -> 0 | T83: =IF($B83="samedi",IF(E83="r",0,IF(E83="",0,1)),IF($B83="dimanche",IF(E83="r",0,1),0)) -> 0 | U83: =IF($B83="samedi",IF(F83="r",0,IF(F83="",0,1)),IF($B83="dimanche",IF(F83="r",0,1),0)) -> 0 | V83: =IF($B83="samedi",IF(G83="r",0,IF(G83="",0,1)),IF($B83="dimanche",IF(G83="r",0,1),0)) -> 0 | W83: =IF($B83="samedi",IF(H83="r",0,IF(H83="",0,1)),IF($B83="dimanche",IF(H83="r",0,1),0)) -> 0 | X83: =IF($B83="samedi",IF(I83="r",0,IF(I83="",0,1)),IF($B83="dimanche",IF(I83="r",0,1),0)) -> 0 | Y83: =IF($B83="samedi",IF(J83="r",0,IF(J83="",0,1)),IF($B83="dimanche",IF(J83="r",0,1),0)) -> 0
B84: samedi | C84: 43547 | D84: R | E84: R | F84: R | G84: R | H84: N EXT | I84: R | J84: 5H 17H | M84: =COUNTIF($D84:$L84,M$1) -> 0 | N84: =COUNTIF($D84:$L84,N$1) -> 0 | O84: =COUNTIF($D84:$L84,O$1) -> 1 | P84: =COUNTIF($D84:$L84,P$1) -> 1 | Q84: =COUNTIF($D84:$L84,Q$1) -> 0 | S84: =IF($B84="samedi",IF(D84="r",0,IF(D84="",0,1)),IF($B84="dimanche",IF(D84="r",0,1),0)) -> 0 | T84: =IF($B84="samedi",IF(E84="r",0,IF(E84="",0,1)),IF($B84="dimanche",IF(E84="r",0,1),0)) -> 0 | U84: =IF($B84="samedi",IF(F84="r",0,IF(F84="",0,1)),IF($B84="dimanche",IF(F84="r",0,1),0)) -> 0 | V84: =IF($B84="samedi",IF(G84="r",0,IF(G84="",0,1)),IF($B84="dimanche",IF(G84="r",0,1),0)) -> 0 | W84: =IF($B84="samedi",IF(H84="r",0,IF(H84="",0,1)),IF($B84="dimanche",IF(H84="r",0,1),0)) -> 1 | X84: =IF($B84="samedi",IF(I84="r",0,IF(I84="",0,1)),IF($B84="dimanche",IF(I84="r",0,1),0)) -> 0 | Y84: =IF($B84="samedi",IF(J84="r",0,IF(J84="",0,1)),IF($B84="dimanche",IF(J84="r",0,1),0)) -> 1
B85: dimanche | C85: 43548 | D85: R | E85: R | F85: R | G85: R | H85: N EXT | I85: R | J85: 5H 17H | M85: =COUNTIF($D85:$L85,M$1) -> 0 | N85: =COUNTIF($D85:$L85,N$1) -> 0 | O85: =COUNTIF($D85:$L85,O$1) -> 1 | P85: =COUNTIF($D85:$L85,P$1) -> 1 | Q85: =COUNTIF($D85:$L85,Q$1) -> 0 | S85: =IF($B85="samedi",IF(D85="r",0,IF(D85="",0,1)),IF($B85="dimanche",IF(D85="r",0,1),0)) -> 0 | T85: =IF($B85="samedi",IF(E85="r",0,IF(E85="",0,1)),IF($B85="dimanche",IF(E85="r",0,1),0)) -> 0 | U85: =IF($B85="samedi",IF(F85="r",0,IF(F85="",0,1)),IF($B85="dimanche",IF(F85="r",0,1),0)) -> 0 | V85: =IF($B85="samedi",IF(G85="r",0,IF(G85="",0,1)),IF($B85="dimanche",IF(G85="r",0,1),0)) -> 0 | W85: =IF($B85="samedi",IF(H85="r",0,IF(H85="",0,1)),IF($B85="dimanche",IF(H85="r",0,1),0)) -> 1 | X85: =IF($B85="samedi",IF(I85="r",0,IF(I85="",0,1)),IF($B85="dimanche",IF(I85="r",0,1),0)) -> 0 | Y85: =IF($B85="samedi",IF(J85="r",0,IF(J85="",0,1)),IF($B85="dimanche",IF(J85="r",0,1),0)) -> 1
A86: S13 | B86: lundi | C86: 43549 | D86: R | E86: M EXT | F86: R | G86: J EXT | H86: N EXT | I86: AM EXT | J86: R | M86: =COUNTIF($D86:$L86,M$1) -> 1 | N86: =COUNTIF($D86:$L86,N$1) -> 1 | O86: =COUNTIF($D86:$L86,O$1) -> 1 | P86: =COUNTIF($D86:$L86,P$1) -> 0 | Q86: =COUNTIF($D86:$L86,Q$1) -> 0 | S86: =IF($B86="samedi",IF(D86="r",0,IF(D86="",0,1)),IF($B86="dimanche",IF(D86="r",0,1),0)) -> 0 | T86: =IF($B86="samedi",IF(E86="r",0,IF(E86="",0,1)),IF($B86="dimanche",IF(E86="r",0,1),0)) -> 0 | U86: =IF($B86="samedi",IF(F86="r",0,IF(F86="",0,1)),IF($B86="dimanche",IF(F86="r",0,1),0)) -> 0 | V86: =IF($B86="samedi",IF(G86="r",0,IF(G86="",0,1)),IF($B86="dimanche",IF(G86="r",0,1),0)) -> 0 | W86: =IF($B86="samedi",IF(H86="r",0,IF(H86="",0,1)),IF($B86="dimanche",IF(H86="r",0,1),0)) -> 0 | X86: =IF($B86="samedi",IF(I86="r",0,IF(I86="",0,1)),IF($B86="dimanche",IF(I86="r",0,1),0)) -> 0 | Y86: =IF($B86="samedi",IF(J86="r",0,IF(J86="",0,1)),IF($B86="dimanche",IF(J86="r",0,1),0)) -> 0
B87: mardi | C87: 43550 | D87: FP | E87: M EXT | F87: N EXT | G87: J EXT | H87: R | I87: AM EXT | J87: R | M87: =COUNTIF($D87:$L87,M$1) -> 1 | N87: =COUNTIF($D87:$L87,N$1) -> 1 | O87: =COUNTIF($D87:$L87,O$1) -> 1 | P87: =COUNTIF($D87:$L87,P$1) -> 0 | Q87: =COUNTIF($D87:$L87,Q$1) -> 0 | S87: =IF($B87="samedi",IF(D87="r",0,IF(D87="",0,1)),IF($B87="dimanche",IF(D87="r",0,1),0)) -> 0 | T87: =IF($B87="samedi",IF(E87="r",0,IF(E87="",0,1)),IF($B87="dimanche",IF(E87="r",0,1),0)) -> 0 | U87: =IF($B87="samedi",IF(F87="r",0,IF(F87="",0,1)),IF($B87="dimanche",IF(F87="r",0,1),0)) -> 0 | V87: =IF($B87="samedi",IF(G87="r",0,IF(G87="",0,1)),IF($B87="dimanche",IF(G87="r",0,1),0)) -> 0 | W87: =IF($B87="samedi",IF(H87="r",0,IF(H87="",0,1)),IF($B87="dimanche",IF(H87="r",0,1),0)) -> 0 | X87: =IF($B87="samedi",IF(I87="r",0,IF(I87="",0,1)),IF($B87="dimanche",IF(I87="r",0,1),0)) -> 0 | Y87: =IF($B87="samedi",IF(J87="r",0,IF(J87="",0,1)),IF($B87="dimanche",IF(J87="r",0,1),0)) -> 0
B88: mercredi | C88: 43551 | D88: FP | E88: M EXT | F88: N EXT | G88: J EXT | H88: R | I88: AM EXT | J88: R | M88: =COUNTIF($D88:$L88,M$1) -> 1 | N88: =COUNTIF($D88:$L88,N$1) -> 1 | O88: =COUNTIF($D88:$L88,O$1) -> 1 | P88: =COUNTIF($D88:$L88,P$1) -> 0 | Q88: =COUNTIF($D88:$L88,Q$1) -> 0 | S88: =IF($B88="samedi",IF(D88="r",0,IF(D88="",0,1)),IF($B88="dimanche",IF(D88="r",0,1),0)) -> 0 | T88: =IF($B88="samedi",IF(E88="r",0,IF(E88="",0,1)),IF($B88="dimanche",IF(E88="r",0,1),0)) -> 0 | U88: =IF($B88="samedi",IF(F88="r",0,IF(F88="",0,1)),IF($B88="dimanche",IF(F88="r",0,1),0)) -> 0 | V88: =IF($B88="samedi",IF(G88="r",0,IF(G88="",0,1)),IF($B88="dimanche",IF(G88="r",0,1),0)) -> 0 | W88: =IF($B88="samedi",IF(H88="r",0,IF(H88="",0,1)),IF($B88="dimanche",IF(H88="r",0,1),0)) -> 0 | X88: =IF($B88="samedi",IF(I88="r",0,IF(I88="",0,1)),IF($B88="dimanche",IF(I88="r",0,1),0)) -> 0 | Y88: =IF($B88="samedi",IF(J88="r",0,IF(J88="",0,1)),IF($B88="dimanche",IF(J88="r",0,1),0)) -> 0
B89: jeudi | C89: 43552 | D89: FP | E89: M EXT | F89: N EXT | G89: J EXT | H89: J EXT | I89: AM EXT | J89: R | M89: =COUNTIF($D89:$L89,M$1) -> 1 | N89: =COUNTIF($D89:$L89,N$1) -> 1 | O89: =COUNTIF($D89:$L89,O$1) -> 1 | P89: =COUNTIF($D89:$L89,P$1) -> 0 | Q89: =COUNTIF($D89:$L89,Q$1) -> 0 | S89: =IF($B89="samedi",IF(D89="r",0,IF(D89="",0,1)),IF($B89="dimanche",IF(D89="r",0,1),0)) -> 0 | T89: =IF($B89="samedi",IF(E89="r",0,IF(E89="",0,1)),IF($B89="dimanche",IF(E89="r",0,1),0)) -> 0 | U89: =IF($B89="samedi",IF(F89="r",0,IF(F89="",0,1)),IF($B89="dimanche",IF(F89="r",0,1),0)) -> 0 | V89: =IF($B89="samedi",IF(G89="r",0,IF(G89="",0,1)),IF($B89="dimanche",IF(G89="r",0,1),0)) -> 0 | W89: =IF($B89="samedi",IF(H89="r",0,IF(H89="",0,1)),IF($B89="dimanche",IF(H89="r",0,1),0)) -> 0 | X89: =IF($B89="samedi",IF(I89="r",0,IF(I89="",0,1)),IF($B89="dimanche",IF(I89="r",0,1),0)) -> 0 | Y89: =IF($B89="samedi",IF(J89="r",0,IF(J89="",0,1)),IF($B89="dimanche",IF(J89="r",0,1),0)) -> 0
B90: vendredi | C90: 43553 | D90: CP | E90: M EXT | F90: N EXT | G90: J EXT | H90: J EXT | I90: AM EXT | J90: R | M90: =COUNTIF($D90:$L90,M$1) -> 1 | N90: =COUNTIF($D90:$L90,N$1) -> 1 | O90: =COUNTIF($D90:$L90,O$1) -> 1 | P90: =COUNTIF($D90:$L90,P$1) -> 0 | Q90: =COUNTIF($D90:$L90,Q$1) -> 0 | S90: =IF($B90="samedi",IF(D90="r",0,IF(D90="",0,1)),IF($B90="dimanche",IF(D90="r",0,1),0)) -> 0 | T90: =IF($B90="samedi",IF(E90="r",0,IF(E90="",0,1)),IF($B90="dimanche",IF(E90="r",0,1),0)) -> 0 | U90: =IF($B90="samedi",IF(F90="r",0,IF(F90="",0,1)),IF($B90="dimanche",IF(F90="r",0,1),0)) -> 0 | V90: =IF($B90="samedi",IF(G90="r",0,IF(G90="",0,1)),IF($B90="dimanche",IF(G90="r",0,1),0)) -> 0 | W90: =IF($B90="samedi",IF(H90="r",0,IF(H90="",0,1)),IF($B90="dimanche",IF(H90="r",0,1),0)) -> 0 | X90: =IF($B90="samedi",IF(I90="r",0,IF(I90="",0,1)),IF($B90="dimanche",IF(I90="r",0,1),0)) -> 0 | Y90: =IF($B90="samedi",IF(J90="r",0,IF(J90="",0,1)),IF($B90="dimanche",IF(J90="r",0,1),0)) -> 0
B91: samedi | C91: 43554 | D91: R | E91: R | F91: R | G91: R | H91: M EXT | I91: R | J91: 17H 5H | M91: =COUNTIF($D91:$L91,M$1) -> 1 | N91: =COUNTIF($D91:$L91,N$1) -> 0 | O91: =COUNTIF($D91:$L91,O$1) -> 0 | P91: =COUNTIF($D91:$L91,P$1) -> 0 | Q91: =COUNTIF($D91:$L91,Q$1) -> 1 | S91: =IF($B91="samedi",IF(D91="r",0,IF(D91="",0,1)),IF($B91="dimanche",IF(D91="r",0,1),0)) -> 0 | T91: =IF($B91="samedi",IF(E91="r",0,IF(E91="",0,1)),IF($B91="dimanche",IF(E91="r",0,1),0)) -> 0 | U91: =IF($B91="samedi",IF(F91="r",0,IF(F91="",0,1)),IF($B91="dimanche",IF(F91="r",0,1),0)) -> 0 | V91: =IF($B91="samedi",IF(G91="r",0,IF(G91="",0,1)),IF($B91="dimanche",IF(G91="r",0,1),0)) -> 0 | W91: =IF($B91="samedi",IF(H91="r",0,IF(H91="",0,1)),IF($B91="dimanche",IF(H91="r",0,1),0)) -> 1 | X91: =IF($B91="samedi",IF(I91="r",0,IF(I91="",0,1)),IF($B91="dimanche",IF(I91="r",0,1),0)) -> 0 | Y91: =IF($B91="samedi",IF(J91="r",0,IF(J91="",0,1)),IF($B91="dimanche",IF(J91="r",0,1),0)) -> 1
B92: dimanche | C92: 43555 | D92: R | E92: R | F92: R | G92: R | H92: M EXT | I92: R | J92: 17H 5H | M92: =COUNTIF($D92:$L92,M$1) -> 1 | N92: =COUNTIF($D92:$L92,N$1) -> 0 | O92: =COUNTIF($D92:$L92,O$1) -> 0 | P92: =COUNTIF($D92:$L92,P$1) -> 0 | Q92: =COUNTIF($D92:$L92,Q$1) -> 1 | S92: =IF($B92="samedi",IF(D92="r",0,IF(D92="",0,1)),IF($B92="dimanche",IF(D92="r",0,1),0)) -> 0 | T92: =IF($B92="samedi",IF(E92="r",0,IF(E92="",0,1)),IF($B92="dimanche",IF(E92="r",0,1),0)) -> 0 | U92: =IF($B92="samedi",IF(F92="r",0,IF(F92="",0,1)),IF($B92="dimanche",IF(F92="r",0,1),0)) -> 0 | V92: =IF($B92="samedi",IF(G92="r",0,IF(G92="",0,1)),IF($B92="dimanche",IF(G92="r",0,1),0)) -> 0 | W92: =IF($B92="samedi",IF(H92="r",0,IF(H92="",0,1)),IF($B92="dimanche",IF(H92="r",0,1),0)) -> 1 | X92: =IF($B92="samedi",IF(I92="r",0,IF(I92="",0,1)),IF($B92="dimanche",IF(I92="r",0,1),0)) -> 0 | Y92: =IF($B92="samedi",IF(J92="r",0,IF(J92="",0,1)),IF($B92="dimanche",IF(J92="r",0,1),0)) -> 1
A93: S14 | B93: lundi | C93: 43556 | D93: CP | E93: N EXT | F93: M EXT | G93: AM EXT | H93: R | I93: J EXT | J93: R | M93: =COUNTIF($D93:$L93,M$1) -> 1 | N93: =COUNTIF($D93:$L93,N$1) -> 1 | O93: =COUNTIF($D93:$L93,O$1) -> 1 | P93: =COUNTIF($D93:$L93,P$1) -> 0 | Q93: =COUNTIF($D93:$L93,Q$1) -> 0 | S93: =IF($B93="samedi",IF(D93="r",0,IF(D93="",0,1)),IF($B93="dimanche",IF(D93="r",0,1),0)) -> 0 | T93: =IF($B93="samedi",IF(E93="r",0,IF(E93="",0,1)),IF($B93="dimanche",IF(E93="r",0,1),0)) -> 0 | U93: =IF($B93="samedi",IF(F93="r",0,IF(F93="",0,1)),IF($B93="dimanche",IF(F93="r",0,1),0)) -> 0 | V93: =IF($B93="samedi",IF(G93="r",0,IF(G93="",0,1)),IF($B93="dimanche",IF(G93="r",0,1),0)) -> 0 | W93: =IF($B93="samedi",IF(H93="r",0,IF(H93="",0,1)),IF($B93="dimanche",IF(H93="r",0,1),0)) -> 0 | X93: =IF($B93="samedi",IF(I93="r",0,IF(I93="",0,1)),IF($B93="dimanche",IF(I93="r",0,1),0)) -> 0 | Y93: =IF($B93="samedi",IF(J93="r",0,IF(J93="",0,1)),IF($B93="dimanche",IF(J93="r",0,1),0)) -> 0
B94: mardi | C94: 43557 | D94: CP | E94: N EXT | F94: M EXT | G94: AM EXT | H94: R | I94: J EXT | J94: R | M94: =COUNTIF($D94:$L94,M$1) -> 1 | N94: =COUNTIF($D94:$L94,N$1) -> 1 | O94: =COUNTIF($D94:$L94,O$1) -> 1 | P94: =COUNTIF($D94:$L94,P$1) -> 0 | Q94: =COUNTIF($D94:$L94,Q$1) -> 0 | S94: =IF($B94="samedi",IF(D94="r",0,IF(D94="",0,1)),IF($B94="dimanche",IF(D94="r",0,1),0)) -> 0 | T94: =IF($B94="samedi",IF(E94="r",0,IF(E94="",0,1)),IF($B94="dimanche",IF(E94="r",0,1),0)) -> 0 | U94: =IF($B94="samedi",IF(F94="r",0,IF(F94="",0,1)),IF($B94="dimanche",IF(F94="r",0,1),0)) -> 0 | V94: =IF($B94="samedi",IF(G94="r",0,IF(G94="",0,1)),IF($B94="dimanche",IF(G94="r",0,1),0)) -> 0 | W94: =IF($B94="samedi",IF(H94="r",0,IF(H94="",0,1)),IF($B94="dimanche",IF(H94="r",0,1),0)) -> 0 | X94: =IF($B94="samedi",IF(I94="r",0,IF(I94="",0,1)),IF($B94="dimanche",IF(I94="r",0,1),0)) -> 0 | Y94: =IF($B94="samedi",IF(J94="r",0,IF(J94="",0,1)),IF($B94="dimanche",IF(J94="r",0,1),0)) -> 0
B95: mercredi | C95: 43558 | D95: CP | E95: N EXT | F95: M EXT | G95: AM EXT | H95: J EXT | I95: R | J95: R | L95: J EXT | M95: =COUNTIF($D95:$L95,M$1) -> 1 | N95: =COUNTIF($D95:$L95,N$1) -> 1 | O95: =COUNTIF($D95:$L95,O$1) -> 1 | P95: =COUNTIF($D95:$L95,P$1) -> 0 | Q95: =COUNTIF($D95:$L95,Q$1) -> 0 | S95: =IF($B95="samedi",IF(D95="r",0,IF(D95="",0,1)),IF($B95="dimanche",IF(D95="r",0,1),0)) -> 0 | T95: =IF($B95="samedi",IF(E95="r",0,IF(E95="",0,1)),IF($B95="dimanche",IF(E95="r",0,1),0)) -> 0 | U95: =IF($B95="samedi",IF(F95="r",0,IF(F95="",0,1)),IF($B95="dimanche",IF(F95="r",0,1),0)) -> 0 | V95: =IF($B95="samedi",IF(G95="r",0,IF(G95="",0,1)),IF($B95="dimanche",IF(G95="r",0,1),0)) -> 0 | W95: =IF($B95="samedi",IF(H95="r",0,IF(H95="",0,1)),IF($B95="dimanche",IF(H95="r",0,1),0)) -> 0 | X95: =IF($B95="samedi",IF(I95="r",0,IF(I95="",0,1)),IF($B95="dimanche",IF(I95="r",0,1),0)) -> 0 | Y95: =IF($B95="samedi",IF(J95="r",0,IF(J95="",0,1)),IF($B95="dimanche",IF(J95="r",0,1),0)) -> 0
B96: jeudi | C96: 43559 | D96: CP | E96: N EXT | F96: M EXT | G96: AM EXT | H96: J EXT | I96: R | J96: R | L96: J EXT | M96: =COUNTIF($D96:$L96,M$1) -> 1 | N96: =COUNTIF($D96:$L96,N$1) -> 1 | O96: =COUNTIF($D96:$L96,O$1) -> 1 | P96: =COUNTIF($D96:$L96,P$1) -> 0 | Q96: =COUNTIF($D96:$L96,Q$1) -> 0 | S96: =IF($B96="samedi",IF(D96="r",0,IF(D96="",0,1)),IF($B96="dimanche",IF(D96="r",0,1),0)) -> 0 | T96: =IF($B96="samedi",IF(E96="r",0,IF(E96="",0,1)),IF($B96="dimanche",IF(E96="r",0,1),0)) -> 0 | U96: =IF($B96="samedi",IF(F96="r",0,IF(F96="",0,1)),IF($B96="dimanche",IF(F96="r",0,1),0)) -> 0 | V96: =IF($B96="samedi",IF(G96="r",0,IF(G96="",0,1)),IF($B96="dimanche",IF(G96="r",0,1),0)) -> 0 | W96: =IF($B96="samedi",IF(H96="r",0,IF(H96="",0,1)),IF($B96="dimanche",IF(H96="r",0,1),0)) -> 0 | X96: =IF($B96="samedi",IF(I96="r",0,IF(I96="",0,1)),IF($B96="dimanche",IF(I96="r",0,1),0)) -> 0 | Y96: =IF($B96="samedi",IF(J96="r",0,IF(J96="",0,1)),IF($B96="dimanche",IF(J96="r",0,1),0)) -> 0
B97: vendredi | C97: 43560 | D97: CP | E97: N EXT | F97: R | G97: AM EXT | H97: J EXT | I97: M EXT | J97: R | L97: J EXT | M97: =COUNTIF($D97:$L97,M$1) -> 1 | N97: =COUNTIF($D97:$L97,N$1) -> 1 | O97: =COUNTIF($D97:$L97,O$1) -> 1 | P97: =COUNTIF($D97:$L97,P$1) -> 0 | Q97: =COUNTIF($D97:$L97,Q$1) -> 0 | S97: =IF($B97="samedi",IF(D97="r",0,IF(D97="",0,1)),IF($B97="dimanche",IF(D97="r",0,1),0)) -> 0 | T97: =IF($B97="samedi",IF(E97="r",0,IF(E97="",0,1)),IF($B97="dimanche",IF(E97="r",0,1),0)) -> 0 | U97: =IF($B97="samedi",IF(F97="r",0,IF(F97="",0,1)),IF($B97="dimanche",IF(F97="r",0,1),0)) -> 0 | V97: =IF($B97="samedi",IF(G97="r",0,IF(G97="",0,1)),IF($B97="dimanche",IF(G97="r",0,1),0)) -> 0 | W97: =IF($B97="samedi",IF(H97="r",0,IF(H97="",0,1)),IF($B97="dimanche",IF(H97="r",0,1),0)) -> 0 | X97: =IF($B97="samedi",IF(I97="r",0,IF(I97="",0,1)),IF($B97="dimanche",IF(I97="r",0,1),0)) -> 0 | Y97: =IF($B97="samedi",IF(J97="r",0,IF(J97="",0,1)),IF($B97="dimanche",IF(J97="r",0,1),0)) -> 0
B98: samedi | C98: 43561 | D98: R | E98: R | F98: R | G98: R | H98: R | I98: M EXT | J98: 17H 5H | M98: =COUNTIF($D98:$L98,M$1) -> 1 | N98: =COUNTIF($D98:$L98,N$1) -> 0 | O98: =COUNTIF($D98:$L98,O$1) -> 0 | P98: =COUNTIF($D98:$L98,P$1) -> 0 | Q98: =COUNTIF($D98:$L98,Q$1) -> 1 | S98: =IF($B98="samedi",IF(D98="r",0,IF(D98="",0,1)),IF($B98="dimanche",IF(D98="r",0,1),0)) -> 0 | T98: =IF($B98="samedi",IF(E98="r",0,IF(E98="",0,1)),IF($B98="dimanche",IF(E98="r",0,1),0)) -> 0 | U98: =IF($B98="samedi",IF(F98="r",0,IF(F98="",0,1)),IF($B98="dimanche",IF(F98="r",0,1),0)) -> 0 | V98: =IF($B98="samedi",IF(G98="r",0,IF(G98="",0,1)),IF($B98="dimanche",IF(G98="r",0,1),0)) -> 0 | W98: =IF($B98="samedi",IF(H98="r",0,IF(H98="",0,1)),IF($B98="dimanche",IF(H98="r",0,1),0)) -> 0 | X98: =IF($B98="samedi",IF(I98="r",0,IF(I98="",0,1)),IF($B98="dimanche",IF(I98="r",0,1),0)) -> 1 | Y98: =IF($B98="samedi",IF(J98="r",0,IF(J98="",0,1)),IF($B98="dimanche",IF(J98="r",0,1),0)) -> 1
B99: dimanche | C99: 43562 | D99: R | E99: R | F99: R | G99: R | H99: R | I99: M EXT | J99: 17H 5H | M99: =COUNTIF($D99:$L99,M$1) -> 1 | N99: =COUNTIF($D99:$L99,N$1) -> 0 | O99: =COUNTIF($D99:$L99,O$1) -> 0 | P99: =COUNTIF($D99:$L99,P$1) -> 0 | Q99: =COUNTIF($D99:$L99,Q$1) -> 1 | S99: =IF($B99="samedi",IF(D99="r",0,IF(D99="",0,1)),IF($B99="dimanche",IF(D99="r",0,1),0)) -> 0 | T99: =IF($B99="samedi",IF(E99="r",0,IF(E99="",0,1)),IF($B99="dimanche",IF(E99="r",0,1),0)) -> 0 | U99: =IF($B99="samedi",IF(F99="r",0,IF(F99="",0,1)),IF($B99="dimanche",IF(F99="r",0,1),0)) -> 0 | V99: =IF($B99="samedi",IF(G99="r",0,IF(G99="",0,1)),IF($B99="dimanche",IF(G99="r",0,1),0)) -> 0 | W99: =IF($B99="samedi",IF(H99="r",0,IF(H99="",0,1)),IF($B99="dimanche",IF(H99="r",0,1),0)) -> 0 | X99: =IF($B99="samedi",IF(I99="r",0,IF(I99="",0,1)),IF($B99="dimanche",IF(I99="r",0,1),0)) -> 1 | Y99: =IF($B99="samedi",IF(J99="r",0,IF(J99="",0,1)),IF($B99="dimanche",IF(J99="r",0,1),0)) -> 1
A100: S15 | B100: lundi | C100: 43563 | D100: J EXT | E100: AM EXT | F100: N EXT | G100: J EXT | H100: CP | I100: M EXT | J100: R | M100: =COUNTIF($D100:$L100,M$1) -> 1 | N100: =COUNTIF($D100:$L100,N$1) -> 1 | O100: =COUNTIF($D100:$L100,O$1) -> 1 | P100: =COUNTIF($D100:$L100,P$1) -> 0 | Q100: =COUNTIF($D100:$L100,Q$1) -> 0 | S100: =IF($B100="samedi",IF(D100="r",0,IF(D100="",0,1)),IF($B100="dimanche",IF(D100="r",0,1),0)) -> 0 | T100: =IF($B100="samedi",IF(E100="r",0,IF(E100="",0,1)),IF($B100="dimanche",IF(E100="r",0,1),0)) -> 0 | U100: =IF($B100="samedi",IF(F100="r",0,IF(F100="",0,1)),IF($B100="dimanche",IF(F100="r",0,1),0)) -> 0 | V100: =IF($B100="samedi",IF(G100="r",0,IF(G100="",0,1)),IF($B100="dimanche",IF(G100="r",0,1),0)) -> 0 | W100: =IF($B100="samedi",IF(H100="r",0,IF(H100="",0,1)),IF($B100="dimanche",IF(H100="r",0,1),0)) -> 0 | X100: =IF($B100="samedi",IF(I100="r",0,IF(I100="",0,1)),IF($B100="dimanche",IF(I100="r",0,1),0)) -> 0 | Y100: =IF($B100="samedi",IF(J100="r",0,IF(J100="",0,1)),IF($B100="dimanche",IF(J100="r",0,1),0)) -> 0
...

Sheet total
A1: Colonne1 | B1: JA | C1: SAV | D1: DR | E1: AE | F1: YD | G1: GL | H1: PC
A2: J EXT | B2: =COUNTIF(PLANNING!D:D,$A2) -> 203 | C2: =COUNTIF(PLANNING!E:E,$A2) -> 38 | D2: =COUNTIF(PLANNING!F:F,$A2) -> 23 | E2: =COUNTIF(PLANNING!G:G,$A2) -> 30 | F2: =COUNTIF(PLANNING!H:H,$A2) -> 41 | G2: =COUNTIF(PLANNING!I:I,$A2) -> 28 | H2: =COUNTIF(PLANNING!J:J,$A2) -> 0
A3: M EXT | B3: =COUNTIF(PLANNING!D:D,$A3) -> 2 | C3: =COUNTIF(PLANNING!E:E,$A3) -> 43 | D3: =COUNTIF(PLANNING!F:F,$A3) -> 55 | E3: =COUNTIF(PLANNING!G:G,$A3) -> 48 | F3: =COUNTIF(PLANNING!H:H,$A3) -> 45 | G3: =COUNTIF(PLANNING!I:I,$A3) -> 54 | H3: =COUNTIF(PLANNING!J:J,$A3) -> 0
A4: AM EXT | B4: =COUNTIF(PLANNING!D:D,$A4) -> 5 | C4: =COUNTIF(PLANNING!E:E,$A4) -> 32 | D4: =COUNTIF(PLANNING!F:F,$A4) -> 39 | E4: =COUNTIF(PLANNING!G:G,$A4) -> 43 | F4: =COUNTIF(PLANNING!H:H,$A4) -> 28 | G4: =COUNTIF(PLANNING!I:I,$A4) -> 54 | H4: =COUNTIF(PLANNING!J:J,$A4) -> 0
A5: N EXT | B5: =COUNTIF(PLANNING!D:D,$A5) -> 2 | C5: =COUNTIF(PLANNING!E:E,$A5) -> 44 | D5: =COUNTIF(PLANNING!F:F,$A5) -> 59 | E5: =COUNTIF(PLANNING!G:G,$A5) -> 45 | F5: =COUNTIF(PLANNING!H:H,$A5) -> 54 | G5: =COUNTIF(PLANNING!I:I,$A5) -> 41 | H5: =COUNTIF(PLANNING!J:J,$A5) -> 0
A6: CP | B6: =COUNTIF(PLANNING!D:D,$A6) -> 27 | C6: =COUNTIF(PLANNING!E:E,$A6) -> 21 | D6: =COUNTIF(PLANNING!F:F,$A6) -> 12 | E6: =COUNTIF(PLANNING!G:G,$A6) -> 23 | F6: =COUNTIF(PLANNING!H:H,$A6) -> 18 | G6: =COUNTIF(PLANNING!I:I,$A6) -> 23 | H6: =COUNTIF(PLANNING!J:J,$A6) -> 10
A7: R | B7: =COUNTIF(PLANNING!D:D,$A7) -> 124 | C7: =COUNTIF(PLANNING!E:E,$A7) -> 102 | D7: =COUNTIF(PLANNING!F:F,$A7) -> 97 | E7: =COUNTIF(PLANNING!G:G,$A7) -> 95 | F7: =COUNTIF(PLANNING!H:H,$A7) -> 101 | G7: =COUNTIF(PLANNING!I:I,$A7) -> 90 | H7: =COUNTIF(PLANNING!J:J,$A7) -> 263
A8: 5H 17H | B8: =COUNTIF(PLANNING!D:D,$A8) -> 0 | C8: =COUNTIF(PLANNING!E:E,$A8) -> 2 | D8: =COUNTIF(PLANNING!F:F,$A8) -> 0 | E8: =COUNTIF(PLANNING!G:G,$A8) -> 0 | F8: =COUNTIF(PLANNING!H:H,$A8) -> 0 | G8: =COUNTIF(PLANNING!I:I,$A8) -> 0 | H8: =COUNTIF(PLANNING!J:J,$A8) -> 50
A9: 17H 5H | B9: =COUNTIF(PLANNING!D:D,$A9) -> 2 | C9: =COUNTIF(PLANNING!E:E,$A9) -> 4 | D9: =COUNTIF(PLANNING!F:F,$A9) -> 0 | E9: =COUNTIF(PLANNING!G:G,$A9) -> 0 | F9: =COUNTIF(PLANNING!H:H,$A9) -> 0 | G9: =COUNTIF(PLANNING!I:I,$A9) -> 0 | H9: =COUNTIF(PLANNING!J:J,$A9) -> 46
A10: RC | B10: =COUNTIF(PLANNING!D:D,$A10) -> 0 | C10: =COUNTIF(PLANNING!E:E,$A10) -> 0 | D10: =COUNTIF(PLANNING!F:F,$A10) -> 0 | E10: =COUNTIF(PLANNING!G:G,$A10) -> 0 | F10: =COUNTIF(PLANNING!H:H,$A10) -> 2 | G10: =COUNTIF(PLANNING!I:I,$A10) -> 0 | H10: =COUNTIF(PLANNING!J:J,$A10) -> 0
A11: RCN | B11: =COUNTIF(PLANNING!D:D,$A11) -> 0 | C11: =COUNTIF(PLANNING!E:E,$A11) -> 0 | D11: =COUNTIF(PLANNING!F:F,$A11) -> 0 | E11: =COUNTIF(PLANNING!G:G,$A11) -> 2 | F11: =COUNTIF(PLANNING!H:H,$A11) -> 0 | G11: =COUNTIF(PLANNING!I:I,$A11) -> 0 | H11: =COUNTIF(PLANNING!J:J,$A11) -> 0
A12: MAL | B12: =COUNTIF(PLANNING!D:D,$A12) -> 0 | C12: =COUNTIF(PLANNING!E:E,$A12) -> 0 | D12: =COUNTIF(PLANNING!F:F,$A12) -> 2 | E12: =COUNTIF(PLANNING!G:G,$A12) -> 0 | F12: =COUNTIF(PLANNING!H:H,$A12) -> 0 | G12: =COUNTIF(PLANNING!I:I,$A12) -> 0 | H12: =COUNTIF(PLANNING!J:J,$A12) -> 0
A13: FP | B13: =COUNTIF(PLANNING!D:D,$A13) -> 5 | C13: =COUNTIF(PLANNING!E:E,$A13) -> 2 | D13: =COUNTIF(PLANNING!F:F,$A13) -> 0 | E13: =COUNTIF(PLANNING!G:G,$A13) -> 0 | F13: =COUNTIF(PLANNING!H:H,$A13) -> 1 | G13: =COUNTIF(PLANNING!I:I,$A13) -> 0 | H13: =COUNTIF(PLANNING!J:J,$A13) -> 2
A14: FE | B14: =COUNTIF(PLANNING!D:D,$A14) -> 1 | C14: =COUNTIF(PLANNING!E:E,$A14) -> 1 | D14: =COUNTIF(PLANNING!F:F,$A14) -> 2 | E14: =COUNTIF(PLANNING!G:G,$A14) -> 3 | F14: =COUNTIF(PLANNING!H:H,$A14) -> 4 | G14: =COUNTIF(PLANNING!I:I,$A14) -> 4 | H14: =COUNTIF(PLANNING!J:J,$A14) -> 0
A15: TOTAL | B15: =SUM(B2:B14) -> 371 | C15: =SUM(C2:C14) -> 289 | D15: =SUM(D2:D14) -> 289 | E15: =SUM(E2:E14) -> 289 | F15: =SUM(F2:F14) -> 294 | G15: =SUM(G2:G14) -> 294 | H15: =SUM(H2:H14) -> 371
A17: planning 2019 | B17: JA | C17: SAV | D17: DR | E17: AE | F17: YD | G17: GL
A18: weekend | B18: 43519 | C18: 43526 | D18: 43470 | E18: 43582 | F18: 43547 | G18: 43477
B19: 43582 | C19: 43631 | D19: 43491 | E19: 43708 | F19: 43554 | G19: 43484
C20: 43638 | D20: 43498 | F20: 43575 | G20: 43505
C21: 43687 | D21: 43603 | F21: 43659 | G21: 43512
C22: 43694 | D22: 43610 | F22: 43666 | G22: 43533
C23: 43701 | D23: 43652 | G23: 43540
C24: 43743 | D24: 43687 | G24: 43561
C25: 43750 | D25: 43694 | G25: 43568
D26: 43715 | G26: 43589
D27: 43722 | G27: 43596
G28: 43617
G29: 43624
G30: 43645
G31: 43673
G32: 43680
G33: 43701
G34: 43729
G35: 43736
G36: 43757
A47: TOTAL | B47: =COUNT(B18:B46) -> 2 | C47: =COUNT(C18:C46) -> 8 | D47: =COUNT(D18:D46) -> 10 | E47: =COUNT(E18:E46) -> 2 | F47: =COUNT(F18:F46) -> 5 | G47: =COUNT(G18:G46) -> 19
A50: weekend | B50: =SUM(PLANNING!S:S) -> 4 | C50: =SUM(PLANNING!T:T) -> 28 | D50: =SUM(PLANNING!U:U) -> 32 | E50: =SUM(PLANNING!V:V) -> 16 | F50: =SUM(PLANNING!W:W) -> 21 | G50: =SUM(PLANNING!X:X) -> 49 | H50: =SUM(PLANNING!Y:Y) -> 106

Sheet Feuil1
A1: N°SEM | B1: 32 | C1: =+[1]PlanningBP!F2 -> J.AUGUSTIN | E1: 2 | F1: =+[1]PlanningBP!G2 -> S.AVRIL E6 | H1: 3 | I1: =+[1]PlanningBP!H2 -> D.RITTER E5 | K1: 4 | L1: =+[1]PlanningBP!I2 -> A EVEILLARD E2 | N1: 5 | O1: =+[1]PlanningBP!J2 -> Y.DELAUNAY E1 | Q1: 6 | R1: =[1]PlanningBP!K2 -> G.LEGENDRE E4 | T1: 7 | U1: =[1]PlanningBP!L2 -> P.CHARPENTIER E3 | W1: 8
A2: Année | B2: 2019 | C2: PLANNING | D2: HT | E2: HN | F2: PLANNING | G2: HT | H2: HN | I2: PLANNING | J2: HT | K2: HN | L2: PLANNING | M2: HT | N2: HN | O2: PLANNING | P2: HT | Q2: HN | R2: PLANNING | S2: HT | T2: HN | U2: PLANNING | V2: HT | W2: HN
B3: =7*$B$1+DATE($B$2,1,3)-WEEKDAY(DATE($B$2,1,3))-5 -> 43682 | C3: =+IF($B3="","",VLOOKUP($B3,PLANNING!$C$3:$J20001,E$1,FALSE)) -> J EXT | D3: =+IF(C3="R","R",IF(OR(C3="5h 17h",C3="17h 5h"),11.5,IF(OR(C3="m ext",C3="am ext",C3="n ext",C3="n",C3="am",C3="m",C3="j",C3="j ext"),7.5,C3))) -> 7.5 | E3: =IF(C3="","",IF(C3="M EXT",1,IF(C3="N EXT",7.5,IF(C3="5h 17h",1,IF(C3="17h 5h", 7.5,0))))) -> 0 | F3: =+IF($B3="","",VLOOKUP($B3,PLANNING!$C$3:$J20001,H$1,FALSE)) -> AM EXT | G3: =+IF(F3="R","R",IF(OR(F3="5h 17h",F3="17h 5h"),11.5,IF(OR(F3="m ext",F3="am ext",F3="n ext",F3="n",F3="am",F3="m",F3="j",F3="j ext"),7.5,F3))) -> 7.5 | H3: =IF(F3="","",IF(F3="M EXT",1,IF(F3="N EXT",7.5,IF(F3="5h 17h",1,IF(F3="17h 5h", 7.5,0))))) -> 0 | I3: =+IF($B3="","",VLOOKUP($B3,PLANNING!$C$3:$J20001,K$1,FALSE)) -> M EXT | J3: =+IF(I3="R","R",IF(OR(I3="5h 17h",I3="17h 5h"),11.5,IF(OR(I3="m ext",I3="am ext",I3="n ext",I3="n",I3="am",I3="m",I3="j",I3="j ext"),7.5,I3))) -> 7.5 | K3: =IF(I3="","",IF(I3="M EXT",1,IF(I3="N EXT",7.5,IF(I3="5h 17h",1,IF(I3="17h 5h", 7.5,0))))) -> 1 | L3: =+IF($B3="","",VLOOKUP($B3,PLANNING!$C$3:$J20001,N$1,FALSE)) -> CP | M3: =+IF(L3="R","R",IF(OR(L3="5h 17h",L3="17h 5h"),11.5,IF(OR(L3="m ext",L3="am ext",L3="n ext",L3="n",L3="am",L3="m",L3="j",L3="j ext"),7.5,L3))) -> CP | N3: =IF(L3="","",IF(L3="M EXT",1,IF(L3="N EXT",7.5,IF(L3="5h 17h",1,IF(L3="17h 5h", 7.5,0))))) -> 0 | O3: =+IF($B3="","",VLOOKUP($B3,PLANNING!$C$3:$J20001,Q$1,FALSE)) -> N EXT | P3: =+IF(O3="R","R",IF(OR(O3="5h 17h",O3="17h 5h"),11.5,IF(OR(O3="m ext",O3="am ext",O3="n ext",O3="n",O3="am",O3="m",O3="j",O3="j ext"),7.5,O3))) -> 7.5 | Q3: =IF(O3="","",IF(O3="M EXT",1,IF(O3="N EXT",7.5,IF(O3="5h 17h",1,IF(O3="17h 5h", 7.5,0))))) -> 7.5 | R3: =+IF($B3="","",VLOOKUP($B3,PLANNING!$C$3:$J20001,T$1,FALSE)) -> R | S3: =+IF(R3="R","R",IF(OR(R3="5h 17h",R3="17h 5h"),11.5,IF(OR(R3="m ext",R3="am ext",R3="n ext",R3="n",R3="am",R3="m",R3="j",R3="j ext"),7.5,R3))) -> R | T3: =IF(R3="","",IF(R3="M EXT",1,IF(R3="N EXT",7.5,IF(R3="5h 17h",1,IF(R3="17h 5h", 7.5,0))))) -> 0 | U3: =+IF($B3="","",VLOOKUP($B3,PLANNING!$C$3:$J20001,W$1,FALSE)) -> R | V3: =+IF(U3="R","R",IF(OR(U3="5h 17h",U3="17h 5h"),11.5,IF(OR(U3="m ext",U3="am ext",U3="n ext",U3="n",U3="am",U3="m",U3="j",U3="j ext"),7.5,U3))) -> R | W3: =IF(U3="","",IF(U3="M EXT",1,IF(U3="N EXT",7.5,IF(U3="5h 17h",1,IF(U3="17h 5h", 7.5,0))))) -> 0
B4: =B3+1 -> 43683 | C4: =+IF($B4="","",VLOOKUP($B4,PLANNING!$C$3:$J20002,E$1,FALSE)) -> J EXT | D4: =+IF(C4="R","R",IF(OR(C4="5h 17h",C4="17h 5h"),11.5,IF(OR(C4="m ext",C4="am ext",C4="n ext",C4="n",C4="am",C4="m",C4="j",C4="j ext"),7.5,C4))) -> 7.5 | E4: =IF(C4="","",IF(C4="M EXT",1,IF(C4="N EXT",7.5,IF(C4="5h 17h",1,IF(C4="17h 5h", 7.5,0))))) -> 0 | F4: =+IF($B4="","",VLOOKUP($B4,PLANNING!$C$3:$J20002,H$1,FALSE)) -> AM EXT | G4: =+IF(F4="R","R",IF(OR(F4="5h 17h",F4="17h 5h"),11.5,IF(OR(F4="m ext",F4="am ext",F4="n ext",F4="n",F4="am",F4="m",F4="j",F4="j ext"),7.5,F4))) -> 7.5 | H4: =IF(F4="","",IF(F4="M EXT",1,IF(F4="N EXT",7.5,IF(F4="5h 17h",1,IF(F4="17h 5h", 7.5,0))))) -> 0 | I4: =+IF($B4="","",VLOOKUP($B4,PLANNING!$C$3:$J20002,K$1,FALSE)) -> M EXT | J4: =+IF(I4="R","R",IF(OR(I4="5h 17h",I4="17h 5h"),11.5,IF(OR(I4="m ext",I4="am ext",I4="n ext",I4="n",I4="am",I4="m",I4="j",I4="j ext"),7.5,I4))) -> 7.5 | K4: =IF(I4="","",IF(I4="M EXT",1,IF(I4="N EXT",7.5,IF(I4="5h 17h",1,IF(I4="17h 5h", 7.5,0))))) -> 1 | L4: =+IF($B4="","",VLOOKUP($B4,PLANNING!$C$3:$J20002,N$1,FALSE)) -> CP | M4: =+IF(L4="R","R",IF(OR(L4="5h 17h",L4="17h 5h"),11.5,IF(OR(L4="m ext",L4="am ext",L4="n ext",L4="n",L4="am",L4="m",L4="j",L4="j ext"),7.5,L4))) -> CP | N4: =IF(L4="","",IF(L4="M EXT",1,IF(L4="N EXT",7.5,IF(L4="5h 17h",1,IF(L4="17h 5h", 7.5,0))))) -> 0 | O4: =+IF($B4="","",VLOOKUP($B4,PLANNING!$C$3:$J20002,Q$1,FALSE)) -> N EXT | P4: =+IF(O4="R","R",IF(OR(O4="5h 17h",O4="17h 5h"),11.5,IF(OR(O4="m ext",O4="am ext",O4="n ext",O4="n",O4="am",O4="m",O4="j",O4="j ext"),7.5,O4))) -> 7.5 | Q4: =IF(O4="","",IF(O4="M EXT",1,IF(O4="N EXT",7.5,IF(O4="5h 17h",1,IF(O4="17h 5h", 7.5,0))))) -> 7.5 | R4: =+IF($B4="","",VLOOKUP($B4,PLANNING!$C$3:$J20002,T$1,FALSE)) -> R | S4: =+IF(R4="R","R",IF(OR(R4="5h 17h",R4="17h 5h"),11.5,IF(OR(R4="m ext",R4="am ext",R4="n ext",R4="n",R4="am",R4="m",R4="j",R4="j ext"),7.5,R4))) -> R | T4: =IF(R4="","",IF(R4="M EXT",1,IF(R4="N EXT",7.5,IF(R4="5h 17h",1,IF(R4="17h 5h", 7.5,0))))) -> 0 | U4: =+IF($B4="","",VLOOKUP($B4,PLANNING!$C$3:$J20002,W$1,FALSE)) -> R | V4: =+IF(U4="R","R",IF(OR(U4="5h 17h",U4="17h 5h"),11.5,IF(OR(U4="m ext",U4="am ext",U4="n ext",U4="n",U4="am",U4="m",U4="j",U4="j ext"),7.5,U4))) -> R | W4: =IF(U4="","",IF(U4="M EXT",1,IF(U4="N EXT",7.5,IF(U4="5h 17h",1,IF(U4="17h 5h", 7.5,0))))) -> 0
B5: =B4+1 -> 43684 | C5: =+IF($B5="","",VLOOKUP($B5,PLANNING!$C$3:$J20003,E$1,FALSE)) -> J EXT | D5: =+IF(C5="R","R",IF(OR(C5="5h 17h",C5="17h 5h"),11.5,IF(OR(C5="m ext",C5="am ext",C5="n ext",C5="n",C5="am",C5="m",C5="j",C5="j ext"),7.5,C5))) -> 7.5 | E5: =IF(C5="","",IF(C5="M EXT",1,IF(C5="N EXT",7.5,IF(C5="5h 17h",1,IF(C5="17h 5h", 7.5,0))))) -> 0 | F5: =+IF($B5="","",VLOOKUP($B5,PLANNING!$C$3:$J20003,H$1,FALSE)) -> AM EXT | G5: =+IF(F5="R","R",IF(OR(F5="5h 17h",F5="17h 5h"),11.5,IF(OR(F5="m ext",F5="am ext",F5="n ext",F5="n",F5="am",F5="m",F5="j",F5="j ext"),7.5,F5))) -> 7.5 | H5: =IF(F5="","",IF(F5="M EXT",1,IF(F5="N EXT",7.5,IF(F5="5h 17h",1,IF(F5="17h 5h", 7.5,0))))) -> 0 | I5: =+IF($B5="","",VLOOKUP($B5,PLANNING!$C$3:$J20003,K$1,FALSE)) -> M EXT | J5: =+IF(I5="R","R",IF(OR(I5="5h 17h",I5="17h 5h"),11.5,IF(OR(I5="m ext",I5="am ext",I5="n ext",I5="n",I5="am",I5="m",I5="j",I5="j ext"),7.5,I5))) -> 7.5 | K5: =IF(I5="","",IF(I5="M EXT",1,IF(I5="N EXT",7.5,IF(I5="5h 17h",1,IF(I5="17h 5h", 7.5,0))))) -> 1 | L5: =+IF($B5="","",VLOOKUP($B5,PLANNING!$C$3:$J20003,N$1,FALSE)) -> CP | M5: =+IF(L5="R","R",IF(OR(L5="5h 17h",L5="17h 5h"),11.5,IF(OR(L5="m ext",L5="am ext",L5="n ext",L5="n",L5="am",L5="m",L5="j",L5="j ext"),7.5,L5))) -> CP | N5: =IF(L5="","",IF(L5="M EXT",1,IF(L5="N EXT",7.5,IF(L5="5h 17h",1,IF(L5="17h 5h", 7.5,0))))) -> 0 | O5: =+IF($B5="","",VLOOKUP($B5,PLANNING!$C$3:$J20003,Q$1,FALSE)) -> N EXT | P5: =+IF(O5="R","R",IF(OR(O5="5h 17h",O5="17h 5h"),11.5,IF(OR(O5="m ext",O5="am ext",O5="n ext",O5="n",O5="am",O5="m",O5="j",O5="j ext"),7.5,O5))) -> 7.5 | Q5: =IF(O5="","",IF(O5="M EXT",1,IF(O5="N EXT",7.5,IF(O5="5h 17h",1,IF(O5="17h 5h", 7.5,0))))) -> 7.5 | R5: =+IF($B5="","",VLOOKUP($B5,PLANNING!$C$3:$J20003,T$1,FALSE)) -> J EXT | S5: =+IF(R5="R","R",IF(OR(R5="5h 17h",R5="17h 5h"),11.5,IF(OR(R5="m ext",R5="am ext",R5="n ext",R5="n",R5="am",R5="m",R5="j",R5="j ext"),7.5,R5))) -> 7.5 | T5: =IF(R5="","",IF(R5="M EXT",1,IF(R5="N EXT",7.5,IF(R5="5h 17h",1,IF(R5="17h 5h", 7.5,0))))) -> 0 | U5: =+IF($B5="","",VLOOKUP($B5,PLANNING!$C$3:$J20003,W$1,FALSE)) -> R | V5: =+IF(U5="R","R",IF(OR(U5="5h 17h",U5="17h 5h"),11.5,IF(OR(U5="m ext",U5="am ext",U5="n ext",U5="n",U5="am",U5="m",U5="j",U5="j ext"),7.5,U5))) -> R | W5: =IF(U5="","",IF(U5="M EXT",1,IF(U5="N EXT",7.5,IF(U5="5h 17h",1,IF(U5="17h 5h", 7.5,0))))) -> 0
B6: =B5+1 -> 43685 | C6: =+IF($B6="","",VLOOKUP($B6,PLANNING!$C$3:$J20004,E$1,FALSE)) -> J EXT | D6: =+IF(C6="R","R",IF(OR(C6="5h 17h",C6="17h 5h"),11.5,IF(OR(C6="m ext",C6="am ext",C6="n ext",C6="n",C6="am",C6="m",C6="j",C6="j ext"),7.5,C6))) -> 7.5 | E6: =IF(C6="","",IF(C6="M EXT",1,IF(C6="N EXT",7.5,IF(C6="5h 17h",1,IF(C6="17h 5h", 7.5,0))))) -> 0 | F6: =+IF($B6="","",VLOOKUP($B6,PLANNING!$C$3:$J20004,H$1,FALSE)) -> R | G6: =+IF(F6="R","R",IF(OR(F6="5h 17h",F6="17h 5h"),11.5,IF(OR(F6="m ext",F6="am ext",F6="n ext",F6="n",F6="am",F6="m",F6="j",F6="j ext"),7.5,F6))) -> R | H6: =IF(F6="","",IF(F6="M EXT",1,IF(F6="N EXT",7.5,IF(F6="5h 17h",1,IF(F6="17h 5h", 7.5,0))))) -> 0 | I6: =+IF($B6="","",VLOOKUP($B6,PLANNING!$C$3:$J20004,K$1,FALSE)) -> M EXT | J6: =+IF(I6="R","R",IF(OR(I6="5h 17h",I6="17h 5h"),11.5,IF(OR(I6="m ext",I6="am ext",I6="n ext",I6="n",I6="am",I6="m",I6="j",I6="j ext"),7.5,I6))) -> 7.5 | K6: =IF(I6="","",IF(I6="M EXT",1,IF(I6="N EXT",7.5,IF(I6="5h 17h",1,IF(I6="17h 5h", 7.5,0))))) -> 1 | L6: =+IF($B6="","",VLOOKUP($B6,PLANNING!$C$3:$J20004,N$1,FALSE)) -> CP | M6: =+IF(L6="R","R",IF(OR(L6="5h 17h",L6="17h 5h"),11.5,IF(OR(L6="m ext",L6="am ext",L6="n ext",L6="n",L6="am",L6="m",L6="j",L6="j ext"),7.5,L6))) -> CP | N6: =IF(L6="","",IF(L6="M EXT",1,IF(L6="N EXT",7.5,IF(L6="5h 17h",1,IF(L6="17h 5h", 7.5,0))))) -> 0 | O6: =+IF($B6="","",VLOOKUP($B6,PLANNING!$C$3:$J20004,Q$1,FALSE)) -> N EXT | P6: =+IF(O6="R","R",IF(OR(O6="5h 17h",O6="17h 5h"),11.5,IF(OR(O6="m ext",O6="am ext",O6="n ext",O6="n",O6="am",O6="m",O6="j",O6="j ext"),7.5,O6))) -> 7.5 | Q6: =IF(O6="","",IF(O6="M EXT",1,IF(O6="N EXT",7.5,IF(O6="5h 17h",1,IF(O6="17h 5h", 7.5,0))))) -> 7.5 | R6: =+IF($B6="","",VLOOKUP($B6,PLANNING!$C$3:$J20004,T$1,FALSE)) -> AM EXT | S6: =+IF(R6="R","R",IF(OR(R6="5h 17h",R6="17h 5h"),11.5,IF(OR(R6="m ext",R6="am ext",R6="n ext",R6="n",R6="am",R6="m",R6="j",R6="j ext"),7.5,R6))) -> 7.5 | T6: =IF(R6="","",IF(R6="M EXT",1,IF(R6="N EXT",7.5,IF(R6="5h 17h",1,IF(R6="17h 5h", 7.5,0))))) -> 0 | U6: =+IF($B6="","",VLOOKUP($B6,PLANNING!$C$3:$J20004,W$1,FALSE)) -> R | V6: =+IF(U6="R","R",IF(OR(U6="5h 17h",U6="17h 5h"),11.5,IF(OR(U6="m ext",U6="am ext",U6="n ext",U6="n",U6="am",U6="m",U6="j",U6="j ext"),7.5,U6))) -> R | W6: =IF(U6="","",IF(U6="M EXT",1,IF(U6="N EXT",7.5,IF(U6="5h 17h",1,IF(U6="17h 5h", 7.5,0))))) -> 0
B7: =B6+1 -> 43686 | C7: =+IF($B7="","",VLOOKUP($B7,PLANNING!$C$3:$J20005,E$1,FALSE)) -> M EXT | D7: =+IF(C7="R","R",IF(OR(C7="5h 17h",C7="17h 5h"),11.5,IF(OR(C7="m ext",C7="am ext",C7="n ext",C7="n",C7="am",C7="m",C7="j",C7="j ext"),7.5,C7))) -> 7.5 | E7: =IF(C7="","",IF(C7="M EXT",1,IF(C7="N EXT",7.5,IF(C7="5h 17h",1,IF(C7="17h 5h", 7.5,0))))) -> 1 | F7: =+IF($B7="","",VLOOKUP($B7,PLANNING!$C$3:$J20005,H$1,FALSE)) -> R | G7: =+IF(F7="R","R",IF(OR(F7="5h 17h",F7="17h 5h"),11.5,IF(OR(F7="m ext",F7="am ext",F7="n ext",F7="n",F7="am",F7="m",F7="j",F7="j ext"),7.5,F7))) -> R | H7: =IF(F7="","",IF(F7="M EXT",1,IF(F7="N EXT",7.5,IF(F7="5h 17h",1,IF(F7="17h 5h", 7.5,0))))) -> 0 | I7: =+IF($B7="","",VLOOKUP($B7,PLANNING!$C$3:$J20005,K$1,FALSE)) -> R | J7: =+IF(I7="R","R",IF(OR(I7="5h 17h",I7="17h 5h"),11.5,IF(OR(I7="m ext",I7="am ext",I7="n ext",I7="n",I7="am",I7="m",I7="j",I7="j ext"),7.5,I7))) -> R | K7: =IF(I7="","",IF(I7="M EXT",1,IF(I7="N EXT",7.5,IF(I7="5h 17h",1,IF(I7="17h 5h", 7.5,0))))) -> 0 | L7: =+IF($B7="","",VLOOKUP($B7,PLANNING!$C$3:$J20005,N$1,FALSE)) -> CP | M7: =+IF(L7="R","R",IF(OR(L7="5h 17h",L7="17h 5h"),11.5,IF(OR(L7="m ext",L7="am ext",L7="n ext",L7="n",L7="am",L7="m",L7="j",L7="j ext"),7.5,L7))) -> CP | N7: =IF(L7="","",IF(L7="M EXT",1,IF(L7="N EXT",7.5,IF(L7="5h 17h",1,IF(L7="17h 5h", 7.5,0))))) -> 0 | O7: =+IF($B7="","",VLOOKUP($B7,PLANNING!$C$3:$J20005,Q$1,FALSE)) -> N EXT | P7: =+IF(O7="R","R",IF(OR(O7="5h 17h",O7="17h 5h"),11.5,IF(OR(O7="m ext",O7="am ext",O7="n ext",O7="n",O7="am",O7="m",O7="j",O7="j ext"),7.5,O7))) -> 7.5 | Q7: =IF(O7="","",IF(O7="M EXT",1,IF(O7="N EXT",7.5,IF(O7="5h 17h",1,IF(O7="17h 5h", 7.5,0))))) -> 7.5 | R7: =+IF($B7="","",VLOOKUP($B7,PLANNING!$C$3:$J20005,T$1,FALSE)) -> AM EXT | S7: =+IF(R7="R","R",IF(OR(R7="5h 17h",R7="17h 5h"),11.5,IF(OR(R7="m ext",R7="am ext",R7="n ext",R7="n",R7="am",R7="m",R7="j",R7="j ext"),7.5,R7))) -> 7.5 | T7: =IF(R7="","",IF(R7="M EXT",1,IF(R7="N EXT",7.5,IF(R7="5h 17h",1,IF(R7="17h 5h", 7.5,0))))) -> 0 | U7: =+IF($B7="","",VLOOKUP($B7,PLANNING!$C$3:$J20005,W$1,FALSE)) -> R | V7: =+IF(U7="R","R",IF(OR(U7="5h 17h",U7="17h 5h"),11.5,IF(OR(U7="m ext",U7="am ext",U7="n ext",U7="n",U7="am",U7="m",U7="j",U7="j ext"),7.5,U7))) -> R | W7: =IF(U7="","",IF(U7="M EXT",1,IF(U7="N EXT",7.5,IF(U7="5h 17h",1,IF(U7="17h 5h", 7.5,0))))) -> 0
B8: =B7+1 -> 43687 | C8: =+IF($B8="","",VLOOKUP($B8,PLANNING!$C$3:$J20006,E$1,FALSE)) -> R | D8: =+IF(C8="R","R",IF(OR(C8="5h 17h",C8="17h 5h"),11.5,IF(OR(C8="m ext",C8="am ext",C8="n ext",C8="n",C8="am",C8="m",C8="j",C8="j ext"),7.5,C8))) -> R | E8: =IF(C8="","",IF(C8="M EXT",1,IF(C8="N EXT",7.5,IF(C8="5h 17h",1,IF(C8="17h 5h", 7.5,0))))) -> 0 | F8: =+IF($B8="","",VLOOKUP($B8,PLANNING!$C$3:$J20006,H$1,FALSE)) -> 5H 17H | G8: =+IF(F8="R","R",IF(OR(F8="5h 17h",F8="17h 5h"),11.5,IF(OR(F8="m ext",F8="am ext",F8="n ext",F8="n",F8="am",F8="m",F8="j",F8="j ext"),7.5,F8))) -> 11.5 | H8: =IF(F8="","",IF(F8="M EXT",1,IF(F8="N EXT",7.5,IF(F8="5h 17h",1,IF(F8="17h 5h", 7.5,0))))) -> 1 | I8: =+IF($B8="","",VLOOKUP($B8,PLANNING!$C$3:$J20006,K$1,FALSE)) -> N EXT | J8: =+IF(I8="R","R",IF(OR(I8="5h 17h",I8="17h 5h"),11.5,IF(OR(I8="m ext",I8="am ext",I8="n ext",I8="n",I8="am",I8="m",I8="j",I8="j ext"),7.5,I8))) -> 7.5 | K8: =IF(I8="","",IF(I8="M EXT",1,IF(I8="N EXT",7.5,IF(I8="5h 17h",1,IF(I8="17h 5h", 7.5,0))))) -> 7.5 | L8: =+IF($B8="","",VLOOKUP($B8,PLANNING!$C$3:$J20006,N$1,FALSE)) -> R | M8: =+IF(L8="R","R",IF(OR(L8="5h 17h",L8="17h 5h"),11.5,IF(OR(L8="m ext",L8="am ext",L8="n ext",L8="n",L8="am",L8="m",L8="j",L8="j ext"),7.5,L8))) -> R | N8: =IF(L8="","",IF(L8="M EXT",1,IF(L8="N EXT",7.5,IF(L8="5h 17h",1,IF(L8="17h 5h", 7.5,0))))) -> 0 | O8: =+IF($B8="","",VLOOKUP($B8,PLANNING!$C$3:$J20006,Q$1,FALSE)) -> R | P8: =+IF(O8="R","R",IF(OR(O8="5h 17h",O8="17h 5h"),11.5,IF(OR(O8="m ext",O8="am ext",O8="n ext",O8="n",O8="am",O8="m",O8="j",O8="j ext"),7.5,O8))) -> R | Q8: =IF(O8="","",IF(O8="M EXT",1,IF(O8="N EXT",7.5,IF(O8="5h 17h",1,IF(O8="17h 5h", 7.5,0))))) -> 0 | R8: =+IF($B8="","",VLOOKUP($B8,PLANNING!$C$3:$J20006,T$1,FALSE)) -> R | S8: =+IF(R8="R","R",IF(OR(R8="5h 17h",R8="17h 5h"),11.5,IF(OR(R8="m ext",R8="am ext",R8="n ext",R8="n",R8="am",R8="m",R8="j",R8="j ext"),7.5,R8))) -> R | T8: =IF(R8="","",IF(R8="M EXT",1,IF(R8="N EXT",7.5,IF(R8="5h 17h",1,IF(R8="17h 5h", 7.5,0))))) -> 0 | U8: =+IF($B8="","",VLOOKUP($B8,PLANNING!$C$3:$J20006,W$1,FALSE)) -> CP | V8: =+IF(U8="R","R",IF(OR(U8="5h 17h",U8="17h 5h"),11.5,IF(OR(U8="m ext",U8="am ext",U8="n ext",U8="n",U8="am",U8="m",U8="j",U8="j ext"),7.5,U8))) -> CP | W8: =IF(U8="","",IF(U8="M EXT",1,IF(U8="N EXT",7.5,IF(U8="5h 17h",1,IF(U8="17h 5h", 7.5,0))))) -> 0
B9: =B8+1 -> 43688 | C9: =+IF($B9="","",VLOOKUP($B9,PLANNING!$C$3:$J20007,E$1,FALSE)) -> R | D9: =+IF(C9="R","R",IF(OR(C9="5h 17h",C9="17h 5h"),11.5,IF(OR(C9="m ext",C9="am ext",C9="n ext",C9="n",C9="am",C9="m",C9="j",C9="j ext"),7.5,C9))) -> R | E9: =IF(C9="","",IF(C9="M EXT",1,IF(C9="N EXT",7.5,IF(C9="5h 17h",1,IF(C9="17h 5h", 7.5,0))))) -> 0 | F9: =+IF($B9="","",VLOOKUP($B9,PLANNING!$C$3:$J20007,H$1,FALSE)) -> 5H 17H | G9: =+IF(F9="R","R",IF(OR(F9="5h 17h",F9="17h 5h"),11.5,IF(OR(F9="m ext",F9="am ext",F9="n ext",F9="n",F9="am",F9="m",F9="j",F9="j ext"),7.5,F9))) -> 11.5 | H9: =IF(F9="","",IF(F9="M EXT",1,IF(F9="N EXT",7.5,IF(F9="5h 17h",1,IF(F9="17h 5h", 7.5,0))))) -> 1 | I9: =+IF($B9="","",VLOOKUP($B9,PLANNING!$C$3:$J20007,K$1,FALSE)) -> N EXT | J9: =+IF(I9="R","R",IF(OR(I9="5h 17h",I9="17h 5h"),11.5,IF(OR(I9="m ext",I9="am ext",I9="n ext",I9="n",I9="am",I9="m",I9="j",I9="j ext"),7.5,I9))) -> 7.5 | K9: =IF(I9="","",IF(I9="M EXT",1,IF(I9="N EXT",7.5,IF(I9="5h 17h",1,IF(I9="17h 5h", 7.5,0))))) -> 7.5 | L9: =+IF($B9="","",VLOOKUP($B9,PLANNING!$C$3:$J20007,N$1,FALSE)) -> R | M9: =+IF(L9="R","R",IF(OR(L9="5h 17h",L9="17h 5h"),11.5,IF(OR(L9="m ext",L9="am ext",L9="n ext",L9="n",L9="am",L9="m",L9="j",L9="j ext"),7.5,L9))) -> R | N9: =IF(L9="","",IF(L9="M EXT",1,IF(L9="N EXT",7.5,IF(L9="5h 17h",1,IF(L9="17h 5h", 7.5,0))))) -> 0 | O9: =+IF($B9="","",VLOOKUP($B9,PLANNING!$C$3:$J20007,Q$1,FALSE)) -> R | P9: =+IF(O9="R","R",IF(OR(O9="5h 17h",O9="17h 5h"),11.5,IF(OR(O9="m ext",O9="am ext",O9="n ext",O9="n",O9="am",O9="m",O9="j",O9="j ext"),7.5,O9))) -> R | Q9: =IF(O9="","",IF(O9="M EXT",1,IF(O9="N EXT",7.5,IF(O9="5h 17h",1,IF(O9="17h 5h", 7.5,0))))) -> 0 | R9: =+IF($B9="","",VLOOKUP($B9,PLANNING!$C$3:$J20007,T$1,FALSE)) -> R | S9: =+IF(R9="R","R",IF(OR(R9="5h 17h",R9="17h 5h"),11.5,IF(OR(R9="m ext",R9="am ext",R9="n ext",R9="n",R9="am",R9="m",R9="j",R9="j ext"),7.5,R9))) -> R | T9: =IF(R9="","",IF(R9="M EXT",1,IF(R9="N EXT",7.5,IF(R9="5h 17h",1,IF(R9="17h 5h", 7.5,0))))) -> 0 | U9: =+IF($B9="","",VLOOKUP($B9,PLANNING!$C$3:$J20007,W$1,FALSE)) -> CP | V9: =+IF(U9="R","R",IF(OR(U9="5h 17h",U9="17h 5h"),11.5,IF(OR(U9="m ext",U9="am ext",U9="n ext",U9="n",U9="am",U9="m",U9="j",U9="j ext"),7.5,U9))) -> CP | W9: =IF(U9="","",IF(U9="M EXT",1,IF(U9="N EXT",7.5,IF(U9="5h 17h",1,IF(U9="17h 5h", 7.5,0))))) -> 0
B10: =B9+1 -> 43689 | C10: =+IF($B10="","",VLOOKUP($B10,PLANNING!$C$3:$J20008,E$1,FALSE)) -> AM EXT | D10: =+IF(C10="R","R",IF(OR(C10="5h 17h",C10="17h 5h"),11.5,IF(OR(C10="m ext",C10="am ext",C10="n ext",C10="n",C10="am",C10="m",C10="j",C10="j ext"),7.5,C10))) -> 7.5 | E10: =IF(C10="","",IF(C10="M EXT",1,IF(C10="N EXT",7.5,IF(C10="5h 17h",1,IF(C10="17h 5h", 7.5,0))))) -> 0 | F10: =+IF($B10="","",VLOOKUP($B10,PLANNING!$C$3:$J20008,H$1,FALSE)) -> R | G10: =+IF(F10="R","R",IF(OR(F10="5h 17h",F10="17h 5h"),11.5,IF(OR(F10="m ext",F10="am ext",F10="n ext",F10="n",F10="am",F10="m",F10="j",F10="j ext"),7.5,F10))) -> R | H10: =IF(F10="","",IF(F10="M EXT",1,IF(F10="N EXT",7.5,IF(F10="5h 17h",1,IF(F10="17h 5h", 7.5,0))))) -> 0 | I10: =+IF($B10="","",VLOOKUP($B10,PLANNING!$C$3:$J20008,K$1,FALSE)) -> R | J10: =+IF(I10="R","R",IF(OR(I10="5h 17h",I10="17h 5h"),11.5,IF(OR(I10="m ext",I10="am ext",I10="n ext",I10="n",I10="am",I10="m",I10="j",I10="j ext"),7.5,I10))) -> R | K10: =IF(I10="","",IF(I10="M EXT",1,IF(I10="N EXT",7.5,IF(I10="5h 17h",1,IF(I10="17h 5h", 7.5,0))))) -> 0 | L10: =+IF($B10="","",VLOOKUP($B10,PLANNING!$C$3:$J20008,N$1,FALSE)) -> CP | M10: =+IF(L10="R","R",IF(OR(L10="5h 17h",L10="17h 5h"),11.5,IF(OR(L10="m ext",L10="am ext",L10="n ext",L10="n",L10="am",L10="m",L10="j",L10="j ext"),7.5,L10))) -> CP | N10: =IF(L10="","",IF(L10="M EXT",1,IF(L10="N EXT",7.5,IF(L10="5h 17h",1,IF(L10="17h 5h", 7.5,0))))) -> 0 | O10: =+IF($B10="","",VLOOKUP($B10,PLANNING!$C$3:$J20008,Q$1,FALSE)) -> CP | P10: =+IF(O10="R","R",IF(OR(O10="5h 17h",O10="17h 5h"),11.5,IF(OR(O10="m ext",O10="am ext",O10="n ext",O10="n",O10="am",O10="m",O10="j",O10="j ext"),7.5,O10))) -> CP | Q10: =IF(O10="","",IF(O10="M EXT",1,IF(O10="N EXT",7.5,IF(O10="5h 17h",1,IF(O10="17h 5h", 7.5,0))))) -> 0 | R10: =+IF($B10="","",VLOOKUP($B10,PLANNING!$C$3:$J20008,T$1,FALSE)) -> N EXT | S10: =+IF(R10="R","R",IF(OR(R10="5h 17h",R10="17h 5h"),11.5,IF(OR(R10="m ext",R10="am ext",R10="n ext",R10="n",R10="am",R10="m",R10="j",R10="j ext"),7.5,R10))) -> 7.5 | T10: =IF(R10="","",IF(R10="M EXT",1,IF(R10="N EXT",7.5,IF(R10="5h 17h",1,IF(R10="17h 5h", 7.5,0))))) -> 7.5 | U10: =+IF($B10="","",VLOOKUP($B10,PLANNING!$C$3:$J20008,W$1,FALSE)) -> R | V10: =+IF(U10="R","R",IF(OR(U10="5h 17h",U10="17h 5h"),11.5,IF(OR(U10="m ext",U10="am ext",U10="n ext",U10="n",U10="am",U10="m",U10="j",U10="j ext"),7.5,U10))) -> R | W10: =IF(U10="","",IF(U10="M EXT",1,IF(U10="N EXT",7.5,IF(U10="5h 17h",1,IF(U10="17h 5h", 7.5,0))))) -> 0
B11: =B10+1 -> 43690 | C11: =+IF($B11="","",VLOOKUP($B11,PLANNING!$C$3:$J20009,E$1,FALSE)) -> AM EXT | D11: =+IF(C11="R","R",IF(OR(C11="5h 17h",C11="17h 5h"),11.5,IF(OR(C11="m ext",C11="am ext",C11="n ext",C11="n",C11="am",C11="m",C11="j",C11="j ext"),7.5,C11))) -> 7.5 | E11: =IF(C11="","",IF(C11="M EXT",1,IF(C11="N EXT",7.5,IF(C11="5h 17h",1,IF(C11="17h 5h", 7.5,0))))) -> 0 | F11: =+IF($B11="","",VLOOKUP($B11,PLANNING!$C$3:$J20009,H$1,FALSE)) -> R | G11: =+IF(F11="R","R",IF(OR(F11="5h 17h",F11="17h 5h"),11.5,IF(OR(F11="m ext",F11="am ext",F11="n ext",F11="n",F11="am",F11="m",F11="j",F11="j ext"),7.5,F11))) -> R | H11: =IF(F11="","",IF(F11="M EXT",1,IF(F11="N EXT",7.5,IF(F11="5h 17h",1,IF(F11="17h 5h", 7.5,0))))) -> 0 | I11: =+IF($B11="","",VLOOKUP($B11,PLANNING!$C$3:$J20009,K$1,FALSE)) -> R | J11: =+IF(I11="R","R",IF(OR(I11="5h 17h",I11="17h 5h"),11.5,IF(OR(I11="m ext",I11="am ext",I11="n ext",I11="n",I11="am",I11="m",I11="j",I11="j ext"),7.5,I11))) -> R | K11: =IF(I11="","",IF(I11="M EXT",1,IF(I11="N EXT",7.5,IF(I11="5h 17h",1,IF(I11="17h 5h", 7.5,0))))) -> 0 | L11: =+IF($B11="","",VLOOKUP($B11,PLANNING!$C$3:$J20009,N$1,FALSE)) -> CP | M11: =+IF(L11="R","R",IF(OR(L11="5h 17h",L11="17h 5h"),11.5,IF(OR(L11="m ext",L11="am ext",L11="n ext",L11="n",L11="am",L11="m",L11="j",L11="j ext"),7.5,L11))) -> CP | N11: =IF(L11="","",IF(L11="M EXT",1,IF(L11="N EXT",7.5,IF(L11="5h 17h",1,IF(L11="17h 5h", 7.5,0))))) -> 0 | O11: =+IF($B11="","",VLOOKUP($B11,PLANNING!$C$3:$J20009,Q$1,FALSE)) -> CP | P11: =+IF(O11="R","R",IF(OR(O11="5h 17h",O11="17h 5h"),11.5,IF(OR(O11="m ext",O11="am ext",O11="n ext",O11="n",O11="am",O11="m",O11="j",O11="j ext"),7.5,O11))) -> CP | Q11: =IF(O11="","",IF(O11="M EXT",1,IF(O11="N EXT",7.5,IF(O11="5h 17h",1,IF(O11="17h 5h", 7.5,0))))) -> 0 | R11: =+IF($B11="","",VLOOKUP($B11,PLANNING!$C$3:$J20009,T$1,FALSE)) -> N EXT | S11: =+IF(R11="R","R",IF(OR(R11="5h 17h",R11="17h 5h"),11.5,IF(OR(R11="m ext",R11="am ext",R11="n ext",R11="n",R11="am",R11="m",R11="j",R11="j ext"),7.5,R11))) -> 7.5 | T11: =IF(R11="","",IF(R11="M EXT",1,IF(R11="N EXT",7.5,IF(R11="5h 17h",1,IF(R11="17h 5h", 7.5,0))))) -> 7.5 | U11: =+IF($B11="","",VLOOKUP($B11,PLANNING!$C$3:$J20009,W$1,FALSE)) -> R | V11: =+IF(U11="R","R",IF(OR(U11="5h 17h",U11="17h 5h"),11.5,IF(OR(U11="m ext",U11="am ext",U11="n ext",U11="n",U11="am",U11="m",U11="j",U11="j ext"),7.5,U11))) -> R | W11: =IF(U11="","",IF(U11="M EXT",1,IF(U11="N EXT",7.5,IF(U11="5h 17h",1,IF(U11="17h 5h", 7.5,0))))) -> 0
B12: =B11+1 -> 43691 | C12: =+IF($B12="","",VLOOKUP($B12,PLANNING!$C$3:$J20010,E$1,FALSE)) -> J EXT | D12: =+IF(C12="R","R",IF(OR(C12="5h 17h",C12="17h 5h"),11.5,IF(OR(C12="m ext",C12="am ext",C12="n ext",C12="n",C12="am",C12="m",C12="j",C12="j ext"),7.5,C12))) -> 7.5 | E12: =IF(C12="","",IF(C12="M EXT",1,IF(C12="N EXT",7.5,IF(C12="5h 17h",1,IF(C12="17h 5h", 7.5,0))))) -> 0 | F12: =+IF($B12="","",VLOOKUP($B12,PLANNING!$C$3:$J20010,H$1,FALSE)) -> R | G12: =+IF(F12="R","R",IF(OR(F12="5h 17h",F12="17h 5h"),11.5,IF(OR(F12="m ext",F12="am ext",F12="n ext",F12="n",F12="am",F12="m",F12="j",F12="j ext"),7.5,F12))) -> R | H12: =IF(F12="","",IF(F12="M EXT",1,IF(F12="N EXT",7.5,IF(F12="5h 17h",1,IF(F12="17h 5h", 7.5,0))))) -> 0 | I12: =+IF($B12="","",VLOOKUP($B12,PLANNING!$C$3:$J20010,K$1,FALSE)) -> M EXT | J12: =+IF(I12="R","R",IF(OR(I12="5h 17h",I12="17h 5h"),11.5,IF(OR(I12="m ext",I12="am ext",I12="n ext",I12="n",I12="am",I12="m",I12="j",I12="j ext"),7.5,I12))) -> 7.5 | K12: =IF(I12="","",IF(I12="M EXT",1,IF(I12="N EXT",7.5,IF(I12="5h 17h",1,IF(I12="17h 5h", 7.5,0))))) -> 1 | L12: =+IF($B12="","",VLOOKUP($B12,PLANNING!$C$3:$J20010,N$1,FALSE)) -> CP | M12: =+IF(L12="R","R",IF(OR(L12="5h 17h",L12="17h 5h"),11.5,IF(OR(L12="m ext",L12="am ext",L12="n ext",L12="n",L12="am",L12="m",L12="j",L12="j ext"),7.5,L12))) -> CP | N12: =IF(L12="","",IF(L12="M EXT",1,IF(L12="N EXT",7.5,IF(L12="5h 17h",1,IF(L12="17h 5h", 7.5,0))))) -> 0 | O12: =+IF($B12="","",VLOOKUP($B12,PLANNING!$C$3:$J20010,Q$1,FALSE)) -> CP | P12: =+IF(O12="R","R",IF(OR(O12="5h 17h",O12="17h 5h"),11.5,IF(OR(O12="m ext",O12="am ext",O12="n ext",O12="n",O12="am",O12="m",O12="j",O12="j ext"),7.5,O12))) -> CP | Q12: =IF(O12="","",IF(O12="M EXT",1,IF(O12="N EXT",7.5,IF(O12="5h 17h",1,IF(O12="17h 5h", 7.5,0))))) -> 0 | R12: =+IF($B12="","",VLOOKUP($B12,PLANNING!$C$3:$J20010,T$1,FALSE)) -> N EXT | S12: =+IF(R12="R","R",IF(OR(R12="5h 17h",R12="17h 5h"),11.5,IF(OR(R12="m ext",R12="am ext",R12="n ext",R12="n",R12="am",R12="m",R12="j",R12="j ext"),7.5,R12))) -> 7.5 | T12: =IF(R12="","",IF(R12="M EXT",1,IF(R12="N EXT",7.5,IF(R12="5h 17h",1,IF(R12="17h 5h", 7.5,0))))) -> 7.5 | U12: =+IF($B12="","",VLOOKUP($B12,PLANNING!$C$3:$J20010,W$1,FALSE)) -> R | V12: =+IF(U12="R","R",IF(OR(U12="5h 17h",U12="17h 5h"),11.5,IF(OR(U12="m ext",U12="am ext",U12="n ext",U12="n",U12="am",U12="m",U12="j",U12="j ext"),7.5,U12))) -> R | W12: =IF(U12="","",IF(U12="M EXT",1,IF(U12="N EXT",7.5,IF(U12="5h 17h",1,IF(U12="17h 5h", 7.5,0))))) -> 0
B13: =B12+1 -> 43692 | C13: =+IF($B13="","",VLOOKUP($B13,PLANNING!$C$3:$J20011,E$1,FALSE)) -> J EXT | D13: =+IF(C13="R","R",IF(OR(C13="5h 17h",C13="17h 5h"),11.5,IF(OR(C13="m ext",C13="am ext",C13="n ext",C13="n",C13="am",C13="m",C13="j",C13="j ext"),7.5,C13))) -> 7.5 | E13: =IF(C13="","",IF(C13="M EXT",1,IF(C13="N EXT",7.5,IF(C13="5h 17h",1,IF(C13="17h 5h", 7.5,0))))) -> 0 | F13: =+IF($B13="","",VLOOKUP($B13,PLANNING!$C$3:$J20011,H$1,FALSE)) -> FE | G13: =+IF(F13="R","R",IF(OR(F13="5h 17h",F13="17h 5h"),11.5,IF(OR(F13="m ext",F13="am ext",F13="n ext",F13="n",F13="am",F13="m",F13="j",F13="j ext"),7.5,F13))) -> FE | H13: =IF(F13="","",IF(F13="M EXT",1,IF(F13="N EXT",7.5,IF(F13="5h 17h",1,IF(F13="17h 5h", 7.5,0))))) -> 0 | I13: =+IF($B13="","",VLOOKUP($B13,PLANNING!$C$3:$J20011,K$1,FALSE)) -> M EXT | J13: =+IF(I13="R","R",IF(OR(I13="5h 17h",I13="17h 5h"),11.5,IF(OR(I13="m ext",I13="am ext",I13="n ext",I13="n",I13="am",I13="m",I13="j",I13="j ext"),7.5,I13))) -> 7.5 | K13: =IF(I13="","",IF(I13="M EXT",1,IF(I13="N EXT",7.5,IF(I13="5h 17h",1,IF(I13="17h 5h", 7.5,0))))) -> 1 | L13: =+IF($B13="","",VLOOKUP($B13,PLANNING!$C$3:$J20011,N$1,FALSE)) -> FE | M13: =+IF(L13="R","R",IF(OR(L13="5h 17h",L13="17h 5h"),11.5,IF(OR(L13="m ext",L13="am ext",L13="n ext",L13="n",L13="am",L13="m",L13="j",L13="j ext"),7.5,L13))) -> FE | N13: =IF(L13="","",IF(L13="M EXT",1,IF(L13="N EXT",7.5,IF(L13="5h 17h",1,IF(L13="17h 5h", 7.5,0))))) -> 0 | O13: =+IF($B13="","",VLOOKUP($B13,PLANNING!$C$3:$J20011,Q$1,FALSE)) -> FE | P13: =+IF(O13="R","R",IF(OR(O13="5h 17h",O13="17h 5h"),11.5,IF(OR(O13="m ext",O13="am ext",O13="n ext",O13="n",O13="am",O13="m",O13="j",O13="j ext"),7.5,O13))) -> FE | Q13: =IF(O13="","",IF(O13="M EXT",1,IF(O13="N EXT",7.5,IF(O13="5h 17h",1,IF(O13="17h 5h", 7.5,0))))) -> 0 | R13: =+IF($B13="","",VLOOKUP($B13,PLANNING!$C$3:$J20011,T$1,FALSE)) -> N EXT | S13: =+IF(R13="R","R",IF(OR(R13="5h 17h",R13="17h 5h"),11.5,IF(OR(R13="m ext",R13="am ext",R13="n ext",R13="n",R13="am",R13="m",R13="j",R13="j ext"),7.5,R13))) -> 7.5 | T13: =IF(R13="","",IF(R13="M EXT",1,IF(R13="N EXT",7.5,IF(R13="5h 17h",1,IF(R13="17h 5h", 7.5,0))))) -> 7.5 | U13: =+IF($B13="","",VLOOKUP($B13,PLANNING!$C$3:$J20011,W$1,FALSE)) -> R | V13: =+IF(U13="R","R",IF(OR(U13="5h 17h",U13="17h 5h"),11.5,IF(OR(U13="m ext",U13="am ext",U13="n ext",U13="n",U13="am",U13="m",U13="j",U13="j ext"),7.5,U13))) -> R | W13: =IF(U13="","",IF(U13="M EXT",1,IF(U13="N EXT",7.5,IF(U13="5h 17h",1,IF(U13="17h 5h", 7.5,0))))) -> 0
B14: =B13+1 -> 43693 | C14: =+IF($B14="","",VLOOKUP($B14,PLANNING!$C$3:$J20012,E$1,FALSE)) -> J EXT | D14: =+IF(C14="R","R",IF(OR(C14="5h 17h",C14="17h 5h"),11.5,IF(OR(C14="m ext",C14="am ext",C14="n ext",C14="n",C14="am",C14="m",C14="j",C14="j ext"),7.5,C14))) -> 7.5 | E14: =IF(C14="","",IF(C14="M EXT",1,IF(C14="N EXT",7.5,IF(C14="5h 17h",1,IF(C14="17h 5h", 7.5,0))))) -> 0 | F14: =+IF($B14="","",VLOOKUP($B14,PLANNING!$C$3:$J20012,H$1,FALSE)) -> R | G14: =+IF(F14="R","R",IF(OR(F14="5h 17h",F14="17h 5h"),11.5,IF(OR(F14="m ext",F14="am ext",F14="n ext",F14="n",F14="am",F14="m",F14="j",F14="j ext"),7.5,F14))) -> R | H14: =IF(F14="","",IF(F14="M EXT",1,IF(F14="N EXT",7.5,IF(F14="5h 17h",1,IF(F14="17h 5h", 7.5,0))))) -> 0 | I14: =+IF($B14="","",VLOOKUP($B14,PLANNING!$C$3:$J20012,K$1,FALSE)) -> M EXT | J14: =+IF(I14="R","R",IF(OR(I14="5h 17h",I14="17h 5h"),11.5,IF(OR(I14="m ext",I14="am ext",I14="n ext",I14="n",I14="am",I14="m",I14="j",I14="j ext"),7.5,I14))) -> 7.5 | K14: =IF(I14="","",IF(I14="M EXT",1,IF(I14="N EXT",7.5,IF(I14="5h 17h",1,IF(I14="17h 5h", 7.5,0))))) -> 1 | L14: =+IF($B14="","",VLOOKUP($B14,PLANNING!$C$3:$J20012,N$1,FALSE)) -> CP | M14: =+IF(L14="R","R",IF(OR(L14="5h 17h",L14="17h 5h"),11.5,IF(OR(L14="m ext",L14="am ext",L14="n ext",L14="n",L14="am",L14="m",L14="j",L14="j ext"),7.5,L14))) -> CP | N14: =IF(L14="","",IF(L14="M EXT",1,IF(L14="N EXT",7.5,IF(L14="5h 17h",1,IF(L14="17h 5h", 7.5,0))))) -> 0 | O14: =+IF($B14="","",VLOOKUP($B14,PLANNING!$C$3:$J20012,Q$1,FALSE)) -> CP | P14: =+IF(O14="R","R",IF(OR(O14="5h 17h",O14="17h 5h"),11.5,IF(OR(O14="m ext",O14="am ext",O14="n ext",O14="n",O14="am",O14="m",O14="j",O14="j ext"),7.5,O14))) -> CP | Q14: =IF(O14="","",IF(O14="M EXT",1,IF(O14="N EXT",7.5,IF(O14="5h 17h",1,IF(O14="17h 5h", 7.5,0))))) -> 0 | R14: =+IF($B14="","",VLOOKUP($B14,PLANNING!$C$3:$J20012,T$1,FALSE)) -> N EXT | S14: =+IF(R14="R","R",IF(OR(R14="5h 17h",R14="17h 5h"),11.5,IF(OR(R14="m ext",R14="am ext",R14="n ext",R14="n",R14="am",R14="m",R14="j",R14="j ext"),7.5,R14))) -> 7.5 | T14: =IF(R14="","",IF(R14="M EXT",1,IF(R14="N EXT",7.5,IF(R14="5h 17h",1,IF(R14="17h 5h", 7.5,0))))) -> 7.5 | U14: =+IF($B14="","",VLOOKUP($B14,PLANNING!$C$3:$J20012,W$1,FALSE)) -> R | V14: =+IF(U14="R","R",IF(OR(U14="5h 17h",U14="17h 5h"),11.5,IF(OR(U14="m ext",U14="am ext",U14="n ext",U14="n",U14="am",U14="m",U14="j",U14="j ext"),7.5,U14))) -> R | W14: =IF(U14="","",IF(U14="M EXT",1,IF(U14="N EXT",7.5,IF(U14="5h 17h",1,IF(U14="17h 5h", 7.5,0))))) -> 0
B15: =B14+1 -> 43694 | C15: =+IF($B15="","",VLOOKUP($B15,PLANNING!$C$3:$J20013,E$1,FALSE)) -> R | D15: =+IF(C15="R","R",IF(OR(C15="5h 17h",C15="17h 5h"),11.5,IF(OR(C15="m ext",C15="am ext",C15="n ext",C15="n",C15="am",C15="m",C15="j",C15="j ext"),7.5,C15))) -> R | E15: =IF(C15="","",IF(C15="M EXT",1,IF(C15="N EXT",7.5,IF(C15="5h 17h",1,IF(C15="17h 5h", 7.5,0))))) -> 0 | F15: =+IF($B15="","",VLOOKUP($B15,PLANNING!$C$3:$J20013,H$1,FALSE)) -> 17H 5H | G15: =+IF(F15="R","R",IF(OR(F15="5h 17h",F15="17h 5h"),11.5,IF(OR(F15="m ext",F15="am ext",F15="n ext",F15="n",F15="am",F15="m",F15="j",F15="j ext"),7.5,F15))) -> 11.5 | H15: =IF(F15="","",IF(F15="M EXT",1,IF(F15="N EXT",7.5,IF(F15="5h 17h",1,IF(F15="17h 5h", 7.5,0))))) -> 7.5 | I15: =+IF($B15="","",VLOOKUP($B15,PLANNING!$C$3:$J20013,K$1,FALSE)) -> M EXT | J15: =+IF(I15="R","R",IF(OR(I15="5h 17h",I15="17h 5h"),11.5,IF(OR(I15="m ext",I15="am ext",I15="n ext",I15="n",I15="am",I15="m",I15="j",I15="j ext"),7.5,I15))) -> 7.5 | K15: =IF(I15="","",IF(I15="M EXT",1,IF(I15="N EXT",7.5,IF(I15="5h 17h",1,IF(I15="17h 5h", 7.5,0))))) -> 1 | L15: =+IF($B15="","",VLOOKUP($B15,PLANNING!$C$3:$J20013,N$1,FALSE)) -> R | M15: =+IF(L15="R","R",IF(OR(L15="5h 17h",L15="17h 5h"),11.5,IF(OR(L15="m ext",L15="am ext",L15="n ext",L15="n",L15="am",L15="m",L15="j",L15="j ext"),7.5,L15))) -> R | N15: =IF(L15="","",IF(L15="M EXT",1,IF(L15="N EXT",7.5,IF(L15="5h 17h",1,IF(L15="17h 5h", 7.5,0))))) -> 0 | O15: =+IF($B15="","",VLOOKUP($B15,PLANNING!$C$3:$J20013,Q$1,FALSE)) -> R | P15: =+IF(O15="R","R",IF(OR(O15="5h 17h",O15="17h 5h"),11.5,IF(OR(O15="m ext",O15="am ext",O15="n ext",O15="n",O15="am",O15="m",O15="j",O15="j ext"),7.5,O15))) -> R | Q15: =IF(O15="","",IF(O15="M EXT",1,IF(O15="N EXT",7.5,IF(O15="5h 17h",1,IF(O15="17h 5h", 7.5,0))))) -> 0 | R15: =+IF($B15="","",VLOOKUP($B15,PLANNING!$C$3:$J20013,T$1,FALSE)) -> R | S15: =+IF(R15="R","R",IF(OR(R15="5h 17h",R15="17h 5h"),11.5,IF(OR(R15="m ext",R15="am ext",R15="n ext",R15="n",R15="am",R15="m",R15="j",R15="j ext"),7.5,R15))) -> R | T15: =IF(R15="","",IF(R15="M EXT",1,IF(R15="N EXT",7.5,IF(R15="5h 17h",1,IF(R15="17h 5h", 7.5,0))))) -> 0 | U15: =+IF($B15="","",VLOOKUP($B15,PLANNING!$C$3:$J20013,W$1,FALSE)) -> CP | V15: =+IF(U15="R","R",IF(OR(U15="5h 17h",U15="17h 5h"),11.5,IF(OR(U15="m ext",U15="am ext",U15="n ext",U15="n",U15="am",U15="m",U15="j",U15="j ext"),7.5,U15))) -> CP | W15: =IF(U15="","",IF(U15="M EXT",1,IF(U15="N EXT",7.5,IF(U15="5h 17h",1,IF(U15="17h 5h", 7.5,0))))) -> 0
... B30: =B29+1 -> 43709 | C30: =+IF($B30="","",VLOOKUP($B30,PLANNING!$C$3:$J20028,E$1,FALSE)) -> R | D30: =+IF(C30="R","R",IF(OR(C30="5h 17h",C30="17h 5h"),11.5,IF(OR(C30="m ext",C30="am ext",C30="n ext",C30="n",C30="am",C30="m",C30="j",C30="j ext"),7.5,C30))) -> R | E30: =IF(C30="","",IF(C30="M EXT",1,IF(C30="N EXT",7.5,IF(C30="5h 17h",1,IF(C30="17h 5h", 7.5,0))))) -> 0 | F30: =+IF($B30="","",VLOOKUP($B30,PLANNING!$C$3:$J20028,H$1,FALSE)) -> R | G30: =+IF(F30="R","R",IF(OR(F30="5h 17h",F30="17h 5h"),11.5,IF(OR(F30="m ext",F30="am ext",F30="n ext",F30="n",F30="am",F30="m",F30="j",F30="j ext"),7.5,F30))) -> R | H30: =IF(F30="","",IF(F30="M EXT",1,IF(F30="N EXT",7.5,IF(F30="5h 17h",1,IF(F30="17h 5h", 7.5,0))))) -> 0 | I30: =+IF($B30="","",VLOOKUP($B30,PLANNING!$C$3:$J20028,K$1,FALSE)) -> R | J30: =+IF(I30="R","R",IF(OR(I30="5h 17h",I30="17h 5h"),11.5,IF(OR(I30="m ext",I30="am ext",I30="n ext",I30="n",I30="am",I30="m",I30="j",I30="j ext"),7.5,I30))) -> R | K30: =IF(I30="","",IF(I30="M EXT",1,IF(I30="N EXT",7.5,IF(I30="5h 17h",1,IF(I30="17h 5h", 7.5,0))))) -> 0 | L30: =+IF($B30="","",VLOOKUP($B30,PLANNING!$C$3:$J20028,N$1,FALSE)) -> N EXT | M30: =+IF(L30="R","R",IF(OR(L30="5h 17h",L30="17h 5h"),11.5,IF(OR(L30="m ext",L30="am ext",L30="n ext",L30="n",L30="am",L30="m",L30="j",L30="j ext"),7.5,L30))) -> 7.5 | N30: =IF(L30="","",IF(L30="M EXT",1,IF(L30="N EXT",7.5,IF(L30="5h 17h",1,IF(L30="17h 5h", 7.5,0))))) -> 7.5 | O30: =+IF($B30="","",VLOOKUP($B30,PLANNING!$C$3:$J20028,Q$1,FALSE)) -> R | P30: =+IF(O30="R","R",IF(OR(O30="5h 17h",O30="17h 5h"),11.5,IF(OR(O30="m ext",O30="am ext",O30="n ext",O30="n",O30="am",O30="m",O30="j",O30="j ext"),7.5,O30))) -> R | Q30: =IF(O30="","",IF(O30="M EXT",1,IF(O30="N EXT",7.5,IF(O30="5h 17h",1,IF(O30="17h 5h", 7.5,0))))) -> 0 | R30: =+IF($B30="","",VLOOKUP($B30,PLANNING!$C$3:$J20028,T$1,FALSE)) -> R | S30: =+IF(R30="R","R",IF(OR(R30="5h 17h",R30="17h 5h"),11.5,IF(OR(R30="m ext",R30="am ext",R30="n ext",R30="n",R30="am",R30="m",R30="j",R30="j ext"),7.5,R30))) -> R | T30: =IF(R30="","",IF(R30="M EXT",1,IF(R30="N EXT",7.5,IF(R30="5h 17h",1,IF(R30="17h 5h", 7.5,0))))) -> 0 | U30: =+IF($B30="","",VLOOKUP($B30,PLANNING!$C$3:$J20028,W$1,FALSE)) -> 5H 17H | V30: =+IF(U30="R","R",IF(OR(U30="5h 17h",U30="17h 5h"),11.5,IF(OR(U30="m ext",U30="am ext",U30="n ext",U30="n",U30="am",U30="m",U30="j",U30="j ext"),7.5,U30))) -> 11.5 | W30: =IF(U30="","",IF(U30="M EXT",1,IF(U30="N EXT",7.5,IF(U30="5h 17h",1,IF(U30="17h 5h", 7.5,0))))) -> 1
B31: TOTAL | D31: =+SUM(D3:D30) -> 150 | E31: =+SUM(E3:E30) -> 1 | G31: =+SUM(G3:G30) -> 106.5 | H31: =+SUM(H3:H30) -> 32 | J31: =+SUM(J3:J30) -> 142.5 | K31: =+SUM(K3:K30) -> 54 | M31: =+SUM(M3:M30) -> 82.5 | N31: =+SUM(N3:N30) -> 63 | P31: =+SUM(P3:P30) -> 75 | Q31: =+SUM(Q3:Q30) -> 37.5 | S31: =+SUM(S3:S30) -> 127.5 | T31: =+SUM(T3:T30) -> 43.5 | V31: =+SUM(V3:V30) -> 23 | W31: =+SUM(W3:W30) -> 2
