Workbook

Sheet PLANNING
A1: SEMAINE | B1: jour | C1: date | D1: JA | E1: SAV | F1: DR | G1: AE | H1: YD | I1: GL | J1: PC | L1: JPB | M1: M EXT | N1: AM EXT | O1: N EXT | P1: 5h 17h | Q1: 17h 5h
A2: S1 | B2: lundi | C2: 43465 | D2: R | E2: R | F2: R | G2: CP | H2: M EXT | I2: J EXT | J2: R | M2: =COUNTIF($D2:$L2,M$1) -> 1 | N2: =COUNTIF($D2:$L2,N$1) -> 0 | O2: =COUNTIF($D2:$L2,O$1) -> 0 | P2: =COUNTIF($D2:$L2,P$1) -> 0 | Q2: =COUNTIF($D2:$L2,Q$1) -> 0 | S2: =IF($B2="samedi",IF(D2="r",0,IF(D2="",0,1)),IF($B2="dimanche",IF(D2="r",0,1),0)) -> 0 | T2: =IF($B2="samedi",IF(E2="r",0,IF(E2="",0,1)),IF($B2="dimanche",IF(E2="r",0,1),0)) -> 0 | U2: =IF($B2="samedi",IF(F2="r",0,IF(F2="",0,1)),IF($B2="dimanche",IF(F2="r",0,1),0)) -> 0 | V2: =IF($B2="samedi",IF(G2="r",0,IF(G2="",0,1)),IF($B2="dimanche",IF(G2="r",0,1),0)) -> 0 | W2: =IF($B2="samedi",IF(H2="r",0,IF(H2="",0,1)),IF($B2="dimanche",IF(H2="r",0,1),0)) -> 0 | X2: =IF($B2="samedi",IF(I2="r",0,IF(I2="",0,1)),IF($B2="dimanche",IF(I2="r",0,1),0)) -> 0 | Y2: =IF($B2="samedi",IF(J2="r",0,IF(J2="",0,1)),IF($B2="dimanche",IF(J2="r",0,1),0)) -> 0
B3: mardi | C3: 43466 | D3: FE | E3: N EXT | F3: FE | G3: FE | H3: FE | I3: AM EXT | J3: R | M3: =COUNTIF($D3:$L3,M$1) -> 0 | N3: =COUNTIF($D3:$L3,N$1) -> 1 | O3: =COUNTIF($D3:$L3,O$1) -> 1 | P3: =COUNTIF($D3:$L3,P$1) -> 0 | Q3: =COUNTIF($D3:$L3,Q$1) -> 0 | S3: =IF($B3="samedi",IF(D3="r",0,IF(D3="",0,1)),IF($B3="dimanche",IF(D3="r",0,1),0)) -> 0 | T3: =IF($B3="samedi",IF(E3="r",0,IF(E3="",0,1)),IF($B3="dimanche",IF(E3="r",0,1),0)) -> 0 | U3: =IF($B3="samedi",IF(F3="r",0,IF(F3="",0,1)),IF($B3="dimanche",IF(F3="r",0,1),0)) -> 0 | V3: =IF($B3="samedi",IF(G3="r",0,IF(G3="",0,1)),IF($B3="dimanche",IF(G3="r",0,1),0)) -> 0 | W3: =IF($B3="samedi",IF(H3="r",0,IF(H3="",0,1)),IF($B3="dimanche",IF(H3="r",0,1),0)) -> 0 | X3: =IF($B3="samedi",IF(I3="r",0,IF(I3="",0,1)),IF($B3="dimanche",IF(I3="r",0,1),0)) -> 0 | Y3: =IF($B3="samedi",IF(J3="r",0,IF(J3="",0,1)),IF($B3="dimanche",IF(J3="r",0,1),0)) -> 0
B4: mercredi | C4: 43467 | D4: R | E4: N EXT | F4: J EXT | G4: CP | H4: M EXT | I4: AM EXT | J4: R | M4: =COUNTIF($D4:$L4,M$1) -> 1 | N4: =COUNTIF($D4:$L4,N$1) -> 1 | O4: =COUNTIF($D4:$L4,O$1) -> 1 | P4: =COUNTIF($D4:$L4,P$1) -> 0 | Q4: =COUNTIF($D4:$L4,Q$1) -> 0 | S4: =IF($B4="samedi",IF(D4="r",0,IF(D4="",0,1)),IF($B4="dimanche",IF(D4="r",0,1),0)) -> 0 | T4: =IF($B4="samedi",IF(E4="r",0,IF(E4="",0,1)),IF($B4="dimanche",IF(E4="r",0,1),0)) -> 0 | U4: =IF($B4="samedi",IF(F4="r",0,IF(F4="",0,1)),IF($B4="dimanche",IF(F4="r",0,1),0)) -> 0 | V4: =IF($B4="samedi",IF(G4="r",0,IF(G4="",0,1)),IF($B4="dimanche",IF(G4="r",0,1),0)) -> 0 | W4: =IF($B4="samedi",IF(H4="r",0,IF(H4="",0,1)),IF($B4="dimanche",IF(H4="r",0,1),0)) -> 0 | X4: =IF($B4="samedi",IF(I4="r",0,IF(I4="",0,1)),IF($B4="dimanche",IF(I4="r",0,1),0)) -> 0 | Y4: =IF($B4="samedi",IF(J4="r",0,IF(J4="",0,1)),IF($B4="dimanche",IF(J4="r",0,1),0)) -> 0
B5: jeudi | C5: 43468 | D5: J EXT | E5: N EXT | F5: J EXT | G5: CP | H5: M EXT | I5: AM EXT | J5: R | L5: J EXT | M5: =COUNTIF($D5:$L5,M$1) -> 1 | N5: =COUNTIF($D5:$L5,N$1) -> 1 | O5: =COUNTIF($D5:$L5,O$1) -> 1 | P5: =COUNTIF($D5:$L5,P$1) -> 0 | Q5: =COUNTIF($D5:$L5,Q$1) -> 0 | S5: =IF($B5="samedi",IF(D5="r",0,IF(D5="",0,1)),IF($B5="dimanche",IF(D5="r",0,1),0)) -> 0 | T5: =IF($B5="samedi",IF(E5="r",0,IF(E5="",0,1)),IF($B5="dimanche",IF(E5="r",0,1),0)) -> 0 | U5: =IF($B5="samedi",IF(F5="r",0,IF(F5="",0,1)),IF($B5="dimanche",IF(F5="r",0,1),0)) -> 0 | V5: =IF($B5="samedi",IF(G5="r",0,IF(G5="",0,1)),IF($B5="dimanche",IF(G5="r",0,1),0)) -> 0 | W5: =IF($B5="samedi",IF(H5="r",0,IF(H5="",0,1)),IF($B5="dimanche",IF(H5="r",0,1),0)) -> 0 | X5: =IF($B5="samedi",IF(I5="r",0,IF(I5="",0,1)),IF($B5="dimanche",IF(I5="r",0,1),0)) -> 0 | Y5: =IF($B5="samedi",IF(J5="r",0,IF(J5="",0,1)),IF($B5="dimanche",IF(J5="r",0,1),0)) -> 0
B6: vendredi | C6: 43469 | D6: J EXT | E6: N EXT | F6: J EXT | G6: CP | H6: M EXT | I6: AM EXT | J6: R | L6: J EXT | M6: =COUNTIF($D6:$L6,M$1) -> 1 | N6: =COUNTIF($D6:$L6,N$1) -> 1 | O6: =COUNTIF($D6:$L6,O$1) -> 1 | P6: =COUNTIF($D6:$L6,P$1) -> 0 | Q6: =COUNTIF($D6:$L6,Q$1) -> 0 | S6: =IF($B6="samedi",IF(D6="r",0,IF(D6="",0,1)),IF($B6="dimanche",IF(D6="r",0,1),0)) -> 0 | T6: =IF($B6="samedi",IF(E6="r",0,IF(E6="",0,1)),IF($B6="dimanche",IF(E6="r",0,1),0)) -> 0 | U6: =IF($B6="samedi",IF(F6="r",0,IF(F6="",0,1)),IF($B6="dimanche",IF(F6="r",0,1),0)) -> 0 | V6: =IF($B6="samedi",IF(G6="r",0,IF(G6="",0,1)),IF($B6="dimanche",IF(G6="r",0,1),0)) -> 0 | W6: =IF($B6="samedi",IF(H6="r",0,IF(H6="",0,1)),IF($B6="dimanche",IF(H6="r",0,1),0)) -> 0 | X6: =IF($B6="samedi",IF(I6="r",0,IF(I6="",0,1)),IF($B6="dimanche",IF(I6="r",0,1),0)) -> 0 | Y6: =IF($B6="samedi",IF(J6="r",0,IF(J6="",0,1)),IF($B6="dimanche",IF(J6="r",0,1),0)) -> 0
B7: samedi | C7: 43470 | D7: R | E7: R | F7: M EXT | G7: R | H7: R | I7: R | J7: 17H 5H | M7: =COUNTIF($D7:$L7,M$1) -> 1 | N7: =COUNTIF($D7:$L7,N$1) -> 0 | O7: =COUNTIF($D7:$L7,O$1) -> 0 | P7: =COUNTIF($D7:$L7,P$1) -> 0 | Q7: =COUNTIF($D7:$L7,Q$1) -> 1 | S7: =IF($B7="samedi",IF(D7="r",0,IF(D7="",0,1)),IF($B7="dimanche",IF(D7="r",0,1),0)) -> 0 | T7: =IF($B7="samedi",IF(E7="r",0,IF(E7="",0,1)),IF($B7="dimanche",IF(E7="r",0,1),0)) -> 0 | U7: =IF($B7="samedi",IF(F7="r",0,IF(F7="",0,1)),IF($B7="dimanche",IF(F7="r",0,1),0)) -> 1 | V7: =IF($B7="samedi",IF(G7="r",0,IF(G7="",0,1)),IF($B7="dimanche",IF(G7="r",0,1),0)) -> 0 | W7: =IF($B7="samedi",IF(H7="r",0,IF(H7="",0,1)),IF($B7="dimanche",IF(H7="r",0,1),0)) -> 0 | X7: =IF($B7="samedi",IF(I7="r",0,IF(I7="",0,1)),IF($B7="dimanche",IF(I7="r",0,1),0)) -> 0 | Y7: =IF($B7="samedi",IF(J7="r",0,IF(J7="",0,1)),IF($B7="dimanche",IF(J7="r",0,1),0)) -> 1
B8: dimanche | C8: 43471 | D8: R | E8: R | F8: M EXT | G8: R | H8: R | I8: R | J8: 17H 5H | M8: =COUNTIF($D8:$L8,M$1) -> 1 | N8: =COUNTIF($D8:$L8,N$1) -> 0 | O8: =COUNTIF($D8:$L8,O$1) -> 0 | P8: =COUNTIF($D8:$L8,P$1) -> 0 | Q8: =COUNTIF($D8:$L8,Q$1) -> 1 | S8: =IF($B8="samedi",IF(D8="r",0,IF(D8="",0,1)),IF($B8="dimanche",IF(D8="r",0,1),0)) -> 0 | T8: =IF($B8="samedi",IF(E8="r",0,IF(E8="",0,1)),IF($B8="dimanche",IF(E8="r",0,1),0)) -> 0 | U8: =IF($B8="samedi",IF(F8="r",0,IF(F8="",0,1)),IF($B8="dimanche",IF(F8="r",0,1),0)) -> 1 | V8: =IF($B8="samedi",IF(G8="r",0,IF(G8="",0,1)),IF($B8="dimanche",IF(G8="r",0,1),0)) -> 0 | W8: =IF($B8="samedi",IF(H8="r",0,IF(H8="",0,1)),IF($B8="dimanche",IF(H8="r",0,1),0)) -> 0 | X8: =IF($B8="samedi",IF(I8="r",0,IF(I8="",0,1)),IF($B8="dimanche",IF(I8="r",0,1),0)) -> 0 | Y8: =IF($B8="samedi",IF(J8="r",0,IF(J8="",0,1)),IF($B8="dimanche",IF(J8="r",0,1),0)) -> 1
A9: S2 | B9: lundi | C9: 43472 | D9: J EXT | E9: M EXT | F9: R | G9: R | H9: N EXT | I9: AM EXT | J9: R | M9: =COUNTIF($D9:$L9,M$1) -> 1 | N9: =COUNTIF($D9:$L9,N$1) -> 1 | O9: =COUNTIF($D9:$L9,O$1) -> 1 | P9: =COUNTIF($D9:$L9,P$1) -> 0 | Q9: =COUNTIF($D9:$L9,Q$1) -> 0 | S9: =IF($B9="samedi",IF(D9="r",0,IF(D9="",0,1)),IF($B9="dimanche",IF(D9="r",0,1),0)) -> 0 | T9: =IF($B9="samedi",IF(E9="r",0,IF(E9="",0,1)),IF($B9="dimanche",IF(E9="r",0,1),0)) -> 0 | U9: =IF($B9="samedi",IF(F9="r",0,IF(F9="",0,1)),IF($B9="dimanche",IF(F9="r",0,1),0)) -> 0 | V9: =IF($B9="samedi",IF(G9="r",0,IF(G9="",0,1)),IF($B9="dimanche",IF(G9="r",0,1),0)) -> 0 | W9: =IF($B9="samedi",IF(H9="r",0,IF(H9="",0,1)),IF($B9="dimanche",IF(H9="r",0,1),0)) -> 0 | X9: =IF($B9="samedi",IF(I9="r",0,IF(I9="",0,1)),IF($B9="dimanche",IF(I9="r",0,1),0)) -> 0 | Y9: =IF($B9="samedi",IF(J9="r",0,IF(J9="",0,1)),IF($B9="dimanche",IF(J9="r",0,1),0)) -> 0
B10: mardi | C10: 43473 | D10: J EXT | E10: M EXT | F10: R | G10: R | H10: N EXT | I10: AM EXT | J10: R | M10: =COUNTIF($D10:$L10,M$1) -> 1 | N10: =COUNTIF($D10:$L10,N$1) -> 1 | O10: =COUNTIF($D10:$L10,O$1) -> 1 | P10: =COUNTIF($D10:$L10,P$1) -> 0 | Q10: =COUNTIF($D10:$L10,Q$1) -> 0 | S10: =IF($B10="samedi",IF(D10="r",0,IF(D10="",0,1)),IF($B10="dimanche",IF(D10="r",0,1),0)) -> 0 | T10: =IF($B10="samedi",IF(E10="r",0,IF(E10="",0,1)),IF($B10="dimanche",IF(E10="r",0,1),0)) -> 0 | U10: =IF($B10="samedi",IF(F10="r",0,IF(F10="",0,1)),IF($B10="dimanche",IF(F10="r",0,1),0)) -> 0 | V10: =IF($B10="samedi",IF(G10="r",0,IF(G10="",0,1)),IF($B10="dimanche",IF(G10="r",0,1),0)) -> 0 | W10: =IF($B10="samedi",IF(H10="r",0,IF(H10="",0,1)),IF($B10="dimanche",IF(H10="r",0,1),0)) -> 0 | X10: =IF($B10="samedi",IF(I10="r",0,IF(I10="",0,1)),IF($B10="dimanche",IF(I10="r",0,1),0)) -> 0 | Y10: =IF($B10="samedi",IF(J10="r",0,IF(J10="",0,1)),IF($B10="dimanche",IF(J10="r",0,1),0)) -> 0
B11: mercredi | C11: 43474 | D11: J EXT | E11: M EXT | F11: AM EXT | G11: J EXT | H11: N EXT | I11: R | J11: R | M11: =COUNTIF($D11:$L11,M$1) -> 1 | N11: =COUNTIF($D11:$L11,N$1) -> 1 | O11: =COUNTIF($D11:$L11,O$1) -> 1 | P11: =COUNTIF($D11:$L11,P$1) -> 0 | Q11: =COUNTIF($D11:$L11,Q$1) -> 0 | S11: =IF($B11="samedi",IF(D11="r",0,IF(D11="",0,1)),IF($B11="dimanche",IF(D11="r",0,1),0)) -> 0 | T11: =IF($B11="samedi",IF(E11="r",0,IF(E11="",0,1)),IF($B11="dimanche",IF(E11="r",0,1),0)) -> 0 | U11: =IF($B11="samedi",IF(F11="r",0,IF(F11="",0,1)),IF($B11="dimanche",IF(F11="r",0,1),0)) -> 0 | V11: =IF($B11="samedi",IF(G11="r",0,IF(G11="",0,1)),IF($B11="dimanche",IF(G11="r",0,1),0)) -> 0 | W11: =IF($B11="samedi",IF(H11="r",0,IF(H11="",0,1)),IF($B11="dimanche",IF(H11="r",0,1),0)) -> 0 | X11: =IF($B11="samedi",IF(I11="r",0,IF(I11="",0,1)),IF($B11="dimanche",IF(I11="r",0,1),0)) -> 0 | Y11: =IF($B11="samedi",IF(J11="r",0,IF(J11="",0,1)),IF($B11="dimanche",IF(J11="r",0,1),0)) -> 0
B12: jeudi | C12: 43475 | D12: J EXT | E12: M EXT | F12: AM EXT | G12: J EXT | H12: N EXT | I12: R | J12: R | M12: =COUNTIF($D12:$L12,M$1) -> 1 | N12: =COUNTIF($D12:$L12,N$1) -> 1 | O12: =COUNTIF($D12:$L12,O$1) -> 1 | P12: =COUNTIF($D12:$L12,P$1) -> 0 | Q12: =COUNTIF($D12:$L12,Q$1) -> 0 | S12: =IF($B12="samedi",IF(D12="r",0,IF(D12="",0,1)),IF($B12="dimanche",IF(D12="r",0,1),0)) -> 0 | T12: =IF($B12="samedi",IF(E12="r",0,IF(E12="",0,1)),IF($B12="dimanche",IF(E12="r",0,1),0)) -> 0 | U12: =IF($B12="samedi",IF(F12="r",0,IF(F12="",0,1)),IF($B12="dimanche",IF(F12="r",0,1),0)) -> 0 | V12: =IF($B12="samedi",IF(G12="r",0,IF(G12="",0,1)),IF($B12="dimanche",IF(G12="r",0,1),0)) -> 0 | W12: =IF($B12="samedi",IF(H12="r",0,IF(H12="",0,1)),IF($B12="dimanche",IF(H12="r",0,1),0)) -> 0 | X12: =IF($B12="samedi",IF(I12="r",0,IF(I12="",0,1)),IF($B12="dimanche",IF(I12="r",0,1),0)) -> 0 | Y12: =IF($B12="samedi",IF(J12="r",0,IF(J12="",0,1)),IF($B12="dimanche",IF(J12="r",0,1),0)) -> 0
B13: vendredi | C13: 43476 | D13: J EXT | E13: R | F13: AM EXT | G13: J EXT | H13: N EXT | I13: M EXT | J13: R | M13: =COUNTIF($D13:$L13,M$1) -> 1 | N13: =COUNTIF($D13:$L13,N$1) -> 1 | O13: =COUNTIF($D13:$L13,O$1) -> 1 | P13: =COUNTIF($D13:$L13,P$1) -> 0 | Q13: =COUNTIF($D13:$L13,Q$1) -> 0 | S13: =IF($B13="samedi",IF(D13="r",0,IF(D13="",0,1)),IF($B13="dimanche",IF(D13="r",0,1),0)) -> 0 | T13: =IF($B13="samedi",IF(E13="r",0,IF(E13="",0,1)),IF($B13="dimanche",IF(E13="r",0,1),0)) -> 0 | U13: =IF($B13="samedi",IF(F13="r",0,IF(F13="",0,1)),IF($B13="dimanche",IF(F13="r",0,1),0)) -> 0 | V13: =IF($B13="samedi",IF(G13="r",0,IF(G13="",0,1)),IF($B13="dimanche",IF(G13="r",0,1),0)) -> 0 | W13: =IF($B13="samedi",IF(H13="r",0,IF(H13="",0,1)),IF($B13="dimanche",IF(H13="r",0,1),0)) -> 0 | X13: =IF($B13="samedi",IF(I13="r",0,IF(I13="",0,1)),IF($B13="dimanche",IF(I13="r",0,1),0)) -> 0 | Y13: =IF($B13="samedi",IF(J13="r",0,IF(J13="",0,1)),IF($B13="dimanche",IF(J13="r",0,1),0)) -> 0
B14: samedi | C14: 43477 | D14: R | E14: R | F14: R | G14: R | H14: R | I14: M EXT | J14: 17H 5H | M14: =COUNTIF($D14:$L14,M$1) -> 1 | N14: =COUNTIF($D14:$L14,N$1) -> 0 | O14: =COUNTIF($D14:$L14,O$1) -> 0 | P14: =COUNTIF($D14:$L14,P$1) -> 0 | Q14: =COUNTIF($D14:$L14,Q$1) -> 1 | S14: =IF($B14="samedi",IF(D14="r",0,IF(D14="",0,1)),IF($B14="dimanche",IF(D14="r",0,1),0)) -> 0 | T14: =IF($B14="samedi",IF(E14="r",0,IF(E14="",0,1)),IF($B14="dimanche",IF(E14="r",0,1),0)) -> 0 | U14: =IF($B14="samedi",IF(F14="r",0,IF(F14="",0,1)),IF($B14="dimanche",IF(F14="r",0,1),0)) -> 0 | V14: =IF($B14="samedi",IF(G14="r",0,IF(G14="",0,1)),IF($B14="dimanche",IF(G14="r",0,1),0)) -> 0 | W14: =IF($B14="samedi",IF(H14="r",0,IF(H14="",0,1)),IF($B14="dimanche",IF(H14="r",0,1),0)) -> 0 | X14: =IF($B14="samedi",IF(I14="r",0,IF(I14="",0,1)),IF($B14="dimanche",IF(I14="r",0,1),0)) -> 1 | Y14: =IF($B14="samedi",IF(J14="r",0,IF(J14="",0,1)),IF($B14="dimanche",IF(J14="r",0,1),0)) -> 1
B15: dimanche | C15: 43478 | D15: R | E15: R | F15: R | G15: R | H15: R | I15: M EXT | J15: 17H 5H | M15: =COUNTIF($D15:$L15,M$1) -> 1 | N15: =COUNTIF($D15:$L15,N$1) -> 0 | O15: =COUNTIF($D15:$L15,O$1) -> 0 | P15: =COUNTIF($D15:$L15,P$1) -> 0 | Q15: =COUNTIF($D15:$L15,Q$1) -> 1 | S15: =IF($B15="samedi",IF(D15="r",0,IF(D15="",0,1)),IF($B15="dimanche",IF(D15="r",0,1),0)) -> 0 | T15: =IF($B15="samedi",IF(E15="r",0,IF(E15="",0,1)),IF($B15="dimanche",IF(E15="r",0,1),0)) -> 0 | U15: =IF($B15="samedi",IF(F15="r",0,IF(F15="",0,1)),IF($B15="dimanche",IF(F15="r",0,1),0)) -> 0 | V15: =IF($B15="samedi",IF(G15="r",0,IF(G15="",0,1)),IF($B15="dimanche",IF(G15="r",0,1),0)) -> 0 | W15: =IF($B15="samedi",IF(H15="r",0,IF(H15="",0,1)),IF($B15="dimanche",IF(H15="r",0,1),0)) -> 0 | X15: =IF($B15="samedi",IF(I15="r",0,IF(I15="",0,1)),IF($B15="dimanche",IF(I15="r",0,1),0)) -> 1 | Y15: =IF($B15="samedi",IF(J15="r",0,IF(J15="",0,1)),IF($B15="dimanche",IF(J15="r",0,1),0)) -> 1
A16: S3 | B16: lundi | C16: 43479 | D16: J EXT | E16: N EXT | F16: J EXT | G16: AM EXT | H16: J EXT | I16: M EXT | J16: R | M16: =COUNTIF($D16:$L16,M$1) -> 1 | N16: =COUNTIF($D16:$L16,N$1) -> 1 | O16: =COUNTIF($D16:$L16,O$1) -> 1 | P16: =COUNTIF($D16:$L16,P$1) -> 0 | Q16: =COUNTIF($D16:$L16,Q$1) -> 0 | S16: =IF($B16="samedi",IF(D16="r",0,IF(D16="",0,1)),IF($B16="dimanche",IF(D16="r",0,1),0)) -> 0 | T16: =IF($B16="samedi",IF(E16="r",0,IF(E16="",0,1)),IF($B16="dimanche",IF(E16="r",0,1),0)) -> 0 | U16: =IF($B16="samedi",IF(F16="r",0,IF(F16="",0,1)),IF($B16="dimanche",IF(F16="r",0,1),0)) -> 0 | V16: =IF($B16="samedi",IF(G16="r",0,IF(G16="",0,1)),IF($B16="dimanche",IF(G16="r",0,1),0)) -> 0 | W16: =IF($B16="samedi",IF(H16="r",0,IF(H16="",0,1)),IF($B16="dimanche",IF(H16="r",0,1),0)) -> 0 | X16: =IF($B16="samedi",IF(I16="r",0,IF(I16="",0,1)),IF($B16="dimanche",IF(I16="r",0,1),0)) -> 0 | Y16: =IF($B16="samedi",IF(J16="r",0,IF(J16="",0,1)),IF($B16="dimanche",IF(J16="r",0,1),0)) -> 0
B17: mardi | C17: 43480 | D17: J EXT | E17: N EXT | F17: J EXT | G17: AM EXT | H17: J EXT | I17: M EXT | J17: R | M17: =COUNTIF($D17:$L17,M$1) -> 1 | N17: =COUNTIF($D17:$L17,N$1) -> 1 | O17: =COUNTIF($D17:$L17,O$1) -> 1 | P17: =COUNTIF($D17:$L17,P$1) -> 0 | Q17: =COUNTIF($D17:$L17,Q$1) -> 0 | S17: =IF($B17="samedi",IF(D17="r",0,IF(D17="",0,1)),IF($B17="dimanche",IF(D17="r",0,1),0)) -> 0 | T17: =IF($B17="samedi",IF(E17="r",0,IF(E17="",0,1)),IF($B17="dimanche",IF(E17="r",0,1),0)) -> 0 | U17: =IF($B17="samedi",IF(F17="r",0,IF(F17="",0,1)),IF($B17="dimanche",IF(F17="r",0,1),0)) -> 0 | V17: =IF($B17="samedi",IF(G17="r",0,IF(G17="",0,1)),IF($B17="dimanche",IF(G17="r",0,1),0)) -> 0 | W17: =IF($B17="samedi",IF(H17="r",0,IF(H17="",0,1)),IF($B17="dimanche",IF(H17="r",0,1),0)) -> 0 | X17: =IF($B17="samedi",IF(I17="r",0,IF(I17="",0,1)),IF($B17="dimanche",IF(I17="r",0,1),0)) -> 0 | Y17: =IF($B17="samedi",IF(J17="r",0,IF(J17="",0,1)),IF($B17="dimanche",IF(J17="r",0,1),0)) -> 0
B18: mercredi | C18: 43481 | D18: J EXT | E18: N EXT | F18: MAL | G18: AM EXT | H18: M EXT | I18: R | J18: R | M18: =COUNTIF($D18:$L18,M$1) -> 1 | N18: =COUNTIF($D18:$L18,N$1) -> 1 | O18: =COUNTIF($D18:$L18,O$1) -> 1 | P18: =COUNTIF($D18:$L18,P$1) -> 0 | Q18: =COUNTIF($D18:$L18,Q$1) -> 0 | S18: =IF($B18="samedi",IF(D18="r",0,IF(D18="",0,1)),IF($B18="dimanche",IF(D18="r",0,1),0)) -> 0 | T18: =IF($B18="samedi",IF(E18="r",0,IF(E18="",0,1)),IF($B18="dimanche",IF(E18="r",0,1),0)) -> 0 | U18: =IF($B18="samedi",IF(F18="r",0,IF(F18="",0,1)),IF($B18="dimanche",IF(F18="r",0,1),0)) -> 0 | V18: =IF($B18="samedi",IF(G18="r",0,IF(G18="",0,1)),IF($B18="dimanche",IF(G18="r",0,1),0)) -> 0 | W18: =IF($B18="samedi",IF(H18="r",0,IF(H18="",0,1)),IF($B18="dimanche",IF(H18="r",0,1),0)) -> 0 | X18: =IF($B18="samedi",IF(I18="r",0,IF(I18="",0,1)),IF($B18="dimanche",IF(I18="r",0,1),0)) -> 0 | Y18: =IF($B18="samedi",IF(J18="r",0,IF(J18="",0,1)),IF($B18="dimanche",IF(J18="r",0,1),0)) -> 0
B19: jeudi | C19: 43482 | D19: J EXT | E19: R | F19: MAL | G19: AM EXT | H19: J EXT | I19: N EXT | J19: R | M19: =COUNTIF($D19:$L19,M$1) -> 0 | N19: =COUNTIF($D19:$L19,N$1) -> 1 | O19: =COUNTIF($D19:$L19,O$1) -> 1 | P19: =COUNTIF($D19:$L19,P$1) -> 0 | Q19: =COUNTIF($D19:$L19,Q$1) -> 0 | S19: =IF($B19="samedi",IF(D19="r",0,IF(D19="",0,1)),IF($B19="dimanche",IF(D19="r",0,1),0)) -> 0 | T19: =IF($B19="samedi",IF(E19="r",0,IF(E19="",0,1)),IF($B19="dimanche",IF(E19="r",0,1),0)) -> 0 | U19: =IF($B19="samedi",IF(F19="r",0,IF(F19="",0,1)),IF($B19="dimanche",IF(F19="r",0,1),0)) -> 0 | V19: =IF($B19="samedi",IF(G19="r",0,IF(G19="",0,1)),IF($B19="dimanche",IF(G19="r",0,1),0)) -> 0 | W19: =IF($B19="samedi",IF(H19="r",0,IF(H19="",0,1)),IF($B19="dimanche",IF(H19="r",0,1),0)) -> 0 | X19: =IF($B19="samedi",IF(I19="r",0,IF(I19="",0,1)),IF($B19="dimanche",IF(I19="r",0,1),0)) -> 0 | Y19: =IF($B19="samedi",IF(J19="r",0,IF(J19="",0,1)),IF($B19="dimanche",IF(J19="r",0,1),0)) -> 0
B20: vendredi | C20: 43483 | D20: J EXT | E20: R | F20: M EXT | G20: AM EXT | H20: J EXT | I20: N EXT | J20: R | M20: =COUNTIF($D20:$L20,M$1) -> 1 | N20: =COUNTIF($D20:$L20,N$1) -> 1 | O20: =COUNTIF($D20:$L20,O$1) -> 1 | P20: =COUNTIF($D20:$L20,P$1) -> 0 | Q20: =COUNTIF($D20:$L20,Q$1) -> 0 | S20: =IF($B20="samedi",IF(D20="r",0,IF(D20="",0,1)),IF($B20="dimanche",IF(D20="r",0,1),0)) -> 0 | T20: =IF($B20="samedi",IF(E20="r",0,IF(E20="",0,1)),IF($B20="dimanche",IF(E20="r",0,1),0)) -> 0 | U20: =IF($B20="samedi",IF(F20="r",0,IF(F20="",0,1)),IF($B20="dimanche",IF(F20="r",0,1),0)) -> 0 | V20: =IF($B20="samedi",IF(G20="r",0,IF(G20="",0,1)),IF($B20="dimanche",IF(G20="r",0,1),0)) -> 0 | W20: =IF($B20="samedi",IF(H20="r",0,IF(H20="",0,1)),IF($B20="dimanche",IF(H20="r",0,1),0)) -> 0 | X20: =IF($B20="samedi",IF(I20="r",0,IF(I20="",0,1)),IF($B20="dimanche",IF(I20="r",0,1),0)) -> 0 | Y20: =IF($B20="samedi",IF(J20="r",0,IF(J20="",0,1)),IF($B20="dimanche",IF(J20="r",0,1),0)) -> 0
B21: samedi | C21: 43484 | D21: R | E21: R | F21: R | G21: R | H21: R | I21: N EXT | J21: 5H 17H | M21: =COUNTIF($D21:$L21,M$1) -> 0 | N21: =COUNTIF($D21:$L21,N$1) -> 0 | O21: =COUNTIF($D21:$L21,O$1) -> 1 | P21: =COUNTIF($D21:$L21,P$1) -> 1 | Q21: =COUNTIF($D21:$L21,Q$1) -> 0 | S21: =IF($B21="samedi",IF(D21="r",0,IF(D21="",0,1)),IF($B21="dimanche",IF(D21="r",0,1),0)) -> 0 | T21: =IF($B21="samedi",IF(E21="r",0,IF(E21="",0,1)),IF($B21="dimanche",IF(E21="r",0,1),0)) -> 0 | U21: =IF($B21="samedi",IF(F21="r",0,IF(F21="",0,1)),IF($B21="dimanche",IF(F21="r",0,1),0)) -> 0 | V21: =IF($B21="samedi",IF(G21="r",0,IF(G21="",0,1)),IF($B21="dimanche",IF(G21="r",0,1),0)) -> 0 | W21: =IF($B21="samedi",IF(H21="r",0,IF(H21="",0,1)),IF($B21="dimanche",IF(H21="r",0,1),0)) -> 0 | X21: =IF($B21="samedi",IF(I21="r",0,IF(I21="",0,1)),IF($B21="dimanche",IF(I21="r",0,1),0)) -> 1 | Y21: =IF($B21="samedi",IF(J21="r",0,IF(J21="",0,1)),IF($B21="dimanche",IF(J21="r",0,1),0)) -> 1
B22: dimanche | C22: 43485 | D22: R | E22: R | F22: R | G22: R | H22: R | I22: N EXT | J22: 5H 17H | M22: =COUNTIF($D22:$L22,M$1) -> 0 | N22: =COUNTIF($D22:$L22,N$1) -> 0 | O22: =COUNTIF($D22:$L22,O$1) -> 1 | P22: =COUNTIF($D22:$L22,P$1) -> 1 | Q22: =COUNTIF($D22:$L22,Q$1) -> 0 | S22: =IF($B22="samedi",IF(D22="r",0,IF(D22="",0,1)),IF($B22="dimanche",IF(D22="r",0,1),0)) -> 0 | T22: =IF($B22="samedi",IF(E22="r",0,IF(E22="",0,1)),IF($B22="dimanche",IF(E22="r",0,1),0)) -> 0 | U22: =IF($B22="samedi",IF(F22="r",0,IF(F22="",0,1)),IF($B22="dimanche",IF(F22="r",0,1),0)) -> 0 | V22: =IF($B22="samedi",IF(G22="r",0,IF(G22="",0,1)),IF($B22="dimanche",IF(G22="r",0,1),0)) -> 0 | W22: =IF($B22="samedi",IF(H22="r",0,IF(H22="",0,1)),IF($B22="dimanche",IF(H22="r",0,1),0)) -> 0 | X22: =IF($B22="samedi",IF(I22="r",0,IF(I22="",0,1)),IF($B22="dimanche",IF(I22="r",0,1),0)) -> 1 | Y22: =IF($B22="samedi",IF(J22="r",0,IF(J22="",0,1)),IF($B22="dimanche",IF(J22="r",0,1),0)) -> 1
A23: S4 | B23: lundi | C23: 43486 | D23: J EXT | E23: M EXT | F23: AM EXT | G23: N EXT | H23: CP | I23: R | J23: R | M23: =COUNTIF($D23:$L23,M$1) -> 1 | N23: =COUNTIF($D23:$L23,N$1) -> 1 | O23: =COUNTIF($D23:$L23,O$1) -> 1 | P23: =COUNTIF($D23:$L23,P$1) -> 0 | Q23: =COUNTIF($D23:$L23,Q$1) -> 0 | S23: =IF($B23="samedi",IF(D23="r",0,IF(D23="",0,1)),IF($B23="dimanche",IF(D23="r",0,1),0)) -> 0 | T23: =IF($B23="samedi",IF(E23="r",0,IF(E23="",0,1)),IF($B23="dimanche",IF(E23="r",0,1),0)) -> 0 | U23: =IF($B23="samedi",IF(F23="r",0,IF(F23="",0,1)),IF($B23="dimanche",IF(F23="r",0,1),0)) -> 0 | V23: =IF($B23="samedi",IF(G23="r",0,IF(G23="",0,1)),IF($B23="dimanche",IF(G23="r",0,1),0)) -> 0 | W23: =IF($B23="samedi",IF(H23="r",0,IF(H23="",0,1)),IF($B23="dimanche",IF(H23="r",0,1),0)) -> 0 | X23: =IF($B23="samedi",IF(I23="r",0,IF(I23="",0,1)),IF($B23="dimanche",IF(I23="r",0,1),0)) -> 0 | Y23: =IF($B23="samedi",IF(J23="r",0,IF(J23="",0,1)),IF($B23="dimanche",IF(J23="r",0,1),0)) -> 0
B24: mardi | C24: 43487 | D24: J EXT | E24: M EXT | F24: AM EXT | G24: N EXT | H24: CP | I24: R | J24: R | L24: J EXT | M24: =COUNTIF($D24:$L24,M$1) -> 1 | N24: =COUNTIF($D24:$L24,N$1) -> 1 | O24: =COUNTIF($D24:$L24,O$1) -> 1 | P24: =COUNTIF($D24:$L24,P$1) -> 0 | Q24: =COUNTIF($D24:$L24,Q$1) -> 0 | S24: =IF($B24="samedi",IF(D24="r",0,IF(D24="",0,1)),IF($B24="dimanche",IF(D24="r",0,1),0)) -> 0 | T24: =IF($B24="samedi",IF(E24="r",0,IF(E24="",0,1)),IF($B24="dimanche",IF(E24="r",0,1),0)) -> 0 | U24: =IF($B24="samedi",IF(F24="r",0,IF(F24="",0,1)),IF($B24="dimanche",IF(F24="r",0,1),0)) -> 0 | V24: =IF($B24="samedi",IF(G24="r",0,IF(G24="",0,1)),IF($B24="dimanche",IF(G24="r",0,1),0)) -> 0 | W24: =IF($B24="samedi",IF(H24="r",0,IF(H24="",0,1)),IF($B24="dimanche",IF(H24="r",0,1),0)) -> 0 | X24: =IF($B24="samedi",IF(I24="r",0,IF(I24="",0,1)),IF($B24="dimanche",IF(I24="r",0,1),0)) -> 0 | Y24: =IF($B24="samedi",IF(J24="r",0,IF(J24="",0,1)),IF($B24="dimanche",IF(J24="r",0,1),0)) -> 0
B25: mercredi | C25: 43488 | D25: J EXT | E25: M EXT | F25: R | G25: N EXT | H25: CP | I25: AM EXT | J25: R | L25: J EXT | M25: =COUNTIF($D25:$L25,M$1) -> 1 | N25: =COUNTIF($D25:$L25,N$1) -> 1 | O25: =COUNTIF($D25:$L25,O$1) -> 1 | P25: =COUNTIF($D25:$L25,P$1) -> 0 | Q25: =COUNTIF($D25:$L25,Q$1) -> 0 | S25: =IF($B25="samedi",IF(D25="r",0,IF(D25="",0,1)),IF($B25="dimanche",IF(D25="r",0,1),0)) -> 0 | T25: =IF($B25="samedi",IF(E25="r",0,IF(E25="",0,1)),IF($B25="dimanche",IF(E25="r",0,1),0)) -> 0 | U25: =IF($B25="samedi",IF(F25="r",0,IF(F25="",0,1)),IF($B25="dimanche",IF(F25="r",0,1),0)) -> 0 | V25: =IF($B25="samedi",IF(G25="r",0,IF(G25="",0,1)),IF($B25="dimanche",IF(G25="r",0,1),0)) -> 0 | W25: =IF($B25="samedi",IF(H25="r",0,IF(H25="",0,1)),IF($B25="dimanche",IF(H25="r",0,1),0)) -> 0 | X25: =IF($B25="samedi",IF(I25="r",0,IF(I25="",0,1)),IF($B25="dimanche",IF(I25="r",0,1),0)) -> 0 | Y25: =IF($B25="samedi",IF(J25="r",0,IF(J25="",0,1)),IF($B25="dimanche",IF(J25="r",0,1),0)) -> 0
B26: jeudi | C26: 43489 | D26: J EXT | E26: M EXT | F26: R | G26: N EXT | H26: RC | I26: AM EXT | J26: R | M26: =COUNTIF($D26:$L26,M$1) -> 1 | N26: =COUNTIF($D26:$L26,N$1) -> 1 | O26: =COUNTIF($D26:$L26,O$1) -> 1 | P26: =COUNTIF($D26:$L26,P$1) -> 0 | Q26: =COUNTIF($D26:$L26,Q$1) -> 0 | S26: =IF($B26="samedi",IF(D26="r",0,IF(D26="",0,1)),IF($B26="dimanche",IF(D26="r",0,1),0)) -> 0 | T26: =IF($B26="samedi",IF(E26="r",0,IF(E26="",0,1)),IF($B26="dimanche",IF(E26="r",0,1),0)) -> 0 | U26: =IF($B26="samedi",IF(F26="r",0,IF(F26="",0,1)),IF($B26="dimanche",IF(F26="r",0,1),0)) -> 0 | V26: =IF($B26="samedi",IF(G26="r",0,IF(G26="",0,1)),IF($B26="dimanche",IF(G26="r",0,1),0)) -> 0 | W26: =IF($B26="samedi",IF(H26="r",0,IF(H26="",0,1)),IF($B26="dimanche",IF(H26="r",0,1),0)) -> 0 | X26: =IF($B26="samedi",IF(I26="r",0,IF(I26="",0,1)),IF($B26="dimanche",IF(I26="r",0,1),0)) -> 0 | Y26: =IF($B26="samedi",IF(J26="r",0,IF(J26="",0,1)),IF($B26="dimanche",IF(J26="r",0,1),0)) -> 0
B27: vendredi | C27: 43490 | D27: R | E27: M EXT | F27: N EXT | G27: R | H27: RC | I27: AM EXT | J27: R | M27: =COUNTIF($D27:$L27,M$1) -> 1 | N27: =COUNTIF($D27:$L27,N$1) -> 1 | O27: =COUNTIF($D27:$L27,O$1) -> 1 | P27: =COUNTIF($D27:$L27,P$1) -> 0 | Q27: =COUNTIF($D27:$L27,Q$1) -> 0 | S27: =IF($B27="samedi",IF(D27="r",0,IF(D27="",0,1)),IF($B27="dimanche",IF(D27="r",0,1),0)) -> 0 | T27: =IF($B27="samedi",IF(E27="r",0,IF(E27="",0,1)),IF($B27="dimanche",IF(E27="r",0,1),0)) -> 0 | U27: =IF($B27="samedi",IF(F27="r",0,IF(F27="",0,1)),IF($B27="dimanche",IF(F27="r",0,1),0)) -> 0 | V27: =IF($B27="samedi",IF(G27="r",0,IF(G27="",0,1)),IF($B27="dimanche",IF(G27="r",0,1),0)) -> 0 | W27: =IF($B27="samedi",IF(H27="r",0,IF(H27="",0,1)),IF($B27="dimanche",IF(H27="r",0,1),0)) -> 0 | X27: =IF($B27="samedi",IF(I27="r",0,IF(I27="",0,1)),IF($B27="dimanche",IF(I27="r",0,1),0)) -> 0 | Y27: =IF($B27="samedi",IF(J27="r",0,IF(J27="",0,1)),IF($B27="dimanche",IF(J27="r",0,1),0)) -> 0
B28: samedi | C28: 43491 | D28: R | E28: R | F28: N EXT | G28: R | H28: R | I28: R | J28: 5H 17H | M28: =COUNTIF($D28:$L28,M$1) -> 0 | N28: =COUNTIF($D28:$L28,N$1) -> 0 | O28: =COUNTIF($D28:$L28,O$1) -> 1 | P28: =COUNTIF($D28:$L28,P$1) -> 1 | Q28: =COUNTIF($D28:$L28,Q$1) -> 0 | S28: =IF($B28="samedi",IF(D28="r",0,IF(D28="",0,1)),IF($B28="dimanche",IF(D28="r",0,1),0)) -> 0 | T28: =IF($B28="samedi",IF(E28="r",0,IF(E28="",0,1)),IF($B28="dimanche",IF(E28="r",0,1),0)) -> 0 | U28: =IF($B28="samedi",IF(F28="r",0,IF(F28="",0,1)),IF($B28="dimanche",IF(F28="r",0,1),0)) -> 1 | V28: =IF($B28="samedi",IF(G28="r",0,IF(G28="",0,1)),IF($B28="dimanche",IF(G28="r",0,1),0)) -> 0 | W28: =IF($B28="samedi",IF(H28="r",0,IF(H28="",0,1)),IF($B28="dimanche",IF(H28="r",0,1),0)) -> 0 | X28: =IF($B28="samedi",IF(I28="r",0,IF(I28="",0,1)),IF($B28="dimanche",IF(I28="r",0,1),0)) -> 0 | Y28: =IF($B28="samedi",IF(J28="r",0,IF(J28="",0,1)),IF($B28="dimanche",IF(J28="r",0,1),0)) -> 1
B29: dimanche | C29: 43492 | D29: R | E29: R | F29: N EXT | G29: R | H29: R | I29: R | J29: 5H 17H | M29: =COUNTIF($D29:$L29,M$1) -> 0 | N29: =COUNTIF($D29:$L29,N$1) -> 0 | O29: =COUNTIF($D29:$L29,O$1) -> 1 | P29: =COUNTIF($D29:$L29,P$1) -> 1 | Q29: =COUNTIF($D29:$L29,Q$1) -> 0 | S29: =IF($B29="samedi",IF(D29="r",0,IF(D29="",0,1)),IF($B29="dimanche",IF(D29="r",0,1),0)) -> 0 | T29: =IF($B29="samedi",IF(E29="r",0,IF(E29="",0,1)),IF($B29="dimanche",IF(E29="r",0,1),0)) -> 0 | U29: =IF($B29="samedi",IF(F29="r",0,IF(F29="",0,1)),IF($B29="dimanche",IF(F29="r",0,1),0)) -> 1 | V29: =IF($B29="samedi",IF(G29="r",0,IF(G29="",0,1)),IF($B29="dimanche",IF(G29="r",0,1),0)) -> 0 | W29: =IF($B29="samedi",IF(H29="r",0,IF(H29="",0,1)),IF($B29="dimanche",IF(H29="r",0,1),0)) -> 0 | X29: =IF($B29="samedi",IF(I29="r",0,IF(I29="",0,1)),IF($B29="dimanche",IF(I29="r",0,1),0)) -> 0 | Y29: =IF($B29="samedi",IF(J29="r",0,IF(J29="",0,1)),IF($B29="dimanche",IF(J29="r",0,1),0)) -> 1
A30: S5 | B30: lundi | C30: 43493 | D30: R | E30: J EXT | F30: N EXT | G30: M EXT | H30: R | I30: AM EXT | J30: R | M30: =COUNTIF($D30:$L30,M$1) -> 1 | N30: =COUNTIF($D30:$L30,N$1) -> 1 | O30: =COUNTIF($D30:$L30,O$1) -> 1 | P30: =COUNTIF($D30:$L30,P$1) -> 0 | Q30: =COUNTIF($D30:$L30,Q$1) -> 0 | S30: =IF($B30="samedi",IF(D30="r",0,IF(D30="",0,1)),IF($B30="dimanche",IF(D30="r",0,1),0)) -> 0 | T30: =IF($B30="samedi",IF(E30="r",0,IF(E30="",0,1)),IF($B30="dimanche",IF(E30="r",0,1),0)) -> 0 | U30: =IF($B30="samedi",IF(F30="r",0,IF(F30="",0,1)),IF($B30="dimanche",IF(F30="r",0,1),0)) -> 0 | V30: =IF($B30="samedi",IF(G30="r",0,IF(G30="",0,1)),IF($B30="dimanche",IF(G30="r",0,1),0)) -> 0 | W30: =IF($B30="samedi",IF(H30="r",0,IF(H30="",0,1)),IF($B30="dimanche",IF(H30="r",0,1),0)) -> 0 | X30: =IF($B30="samedi",IF(I30="r",0,IF(I30="",0,1)),IF($B30="dimanche",IF(I30="r",0,1),0)) -> 0 | Y30: =IF($B30="samedi",IF(J30="r",0,IF(J30="",0,1)),IF($B30="dimanche",IF(J30="r",0,1),0)) -> 0
B31: mardi | C31: 43494 | D31: J EXT | E31: J EXT | F31: R | G31: M EXT | H31: N EXT | I31: AM EXT | J31: R | M31: =COUNTIF($D31:$L31,M$1) -> 1 | N31: =COUNTIF($D31:$L31,N$1) -> 1 | O31: =COUNTIF($D31:$L31,O$1) -> 1 | P31: =COUNTIF($D31:$L31,P$1) -> 0 | Q31: =COUNTIF($D31:$L31,Q$1) -> 0 | S31: =IF($B31="samedi",IF(D31="r",0,IF(D31="",0,1)),IF($B31="dimanche",IF(D31="r",0,1),0)) -> 0 | T31: =IF($B31="samedi",IF(E31="r",0,IF(E31="",0,1)),IF($B31="dimanche",IF(E31="r",0,1),0)) -> 0 | U31: =IF($B31="samedi",IF(F31="r",0,IF(F31="",0,1)),IF($B31="dimanche",IF(F31="r",0,1),0)) -> 0 | V31: =IF($B31="samedi",IF(G31="r",0,IF(G31="",0,1)),IF($B31="dimanche",IF(G31="r",0,1),0)) -> 0 | W31: =IF($B31="samedi",IF(H31="r",0,IF(H31="",0,1)),IF($B31="dimanche",IF(H31="r",0,1),0)) -> 0 | X31: =IF($B31="samedi",IF(I31="r",0,IF(I31="",0,1)),IF($B31="dimanche",IF(I31="r",0,1),0)) -> 0 | Y31: =IF($B31="samedi",IF(J31="r",0,IF(J31="",0,1)),IF($B31="dimanche",IF(J31="r",0,1),0)) -> 0
B32: mercredi | C32: 43495 | D32: J EXT | E32: J EXT | F32: R | G32: M EXT | H32: N EXT | I32: AM EXT | J32: R | M32: =COUNTIF($D32:$L32,M$1) -> 1 | N32: =COUNTIF($D32:$L32,N$1) -> 1 | O32: =COUNTIF($D32:$L32,O$1) -> 1 | P32: =COUNTIF($D32:$L32,P$1) -> 0 | Q32: =COUNTIF($D32:$L32,Q$1) -> 0 | S32: =IF($B32="samedi",IF(D32="r",0,IF(D32="",0,1)),IF($B32="dimanche",IF(D32="r",0,1),0)) -> 0 | T32: =IF($B32="samedi",IF(E32="r",0,IF(E32="",0,1)),IF($B32="dimanche",IF(E32="r",0,1),0)) -> 0 | U32: =IF($B32="samedi",IF(F32="r",0,IF(F32="",0,1)),IF($B32="dimanche",IF(F32="r",0,1),0)) -> 0 | V32: =IF($B32="samedi",IF(G32="r",0,IF(G32="",0,1)),IF($B32="dimanche",IF(G32="r",0,1),0)) -> 0 | W32: =IF($B32="samedi",IF(H32="r",0,IF(H32="",0,1)),IF($B32="dimanche",IF(H32="r",0,1),0)) -> 0 | X32: =IF($B32="samedi",IF(I32="r",0,IF(I32="",0,1)),IF($B32="dimanche",IF(I32="r",0,1),0)) -> 0 | Y32: =IF($B32="samedi",IF(J32="r",0,IF(J32="",0,1)),IF($B32="dimanche",IF(J32="r",0,1),0)) -> 0
B33: jeudi | C33: 43496 | D33: J EXT | E33: J EXT | F33: J EXT | G33: M EXT | H33: N EXT | I33: AM EXT | J33: R | M33: =COUNTIF($D33:$L33,M$1) -> 1 | N33: =COUNTIF($D33:$L33,N$1) -> 1 | O33: =COUNTIF($D33:$L33,O$1) -> 1 | P33: =COUNTIF($D33:$L33,P$1) -> 0 | Q33: =COUNTIF($D33:$L33,Q$1) -> 0 | S33: =IF($B33="samedi",IF(D33="r",0,IF(D33="",0,1)),IF($B33="dimanche",IF(D33="r",0,1),0)) -> 0 | T33: =IF($B33="samedi",IF(E33="r",0,IF(E33="",0,1)),IF($B33="dimanche",IF(E33="r",0,1),0)) -> 0 | U33: =IF($B33="samedi",IF(F33="r",0,IF(F33="",0,1)),IF($B33="dimanche",IF(F33="r",0,1),0)) -> 0 | V33: =IF($B33="samedi",IF(G33="r",0,IF(G33="",0,1)),IF($B33="dimanche",IF(G33="r",0,1),0)) -> 0 | W33: =IF($B33="samedi",IF(H33="r",0,IF(H33="",0,1)),IF($B33="dimanche",IF(H33="r",0,1),0)) -> 0 | X33: =IF($B33="samedi",IF(I33="r",0,IF(I33="",0,1)),IF($B33="dimanche",IF(I33="r",0,1),0)) -> 0 | Y33: =IF($B33="samedi",IF(J33="r",0,IF(J33="",0,1)),IF($B33="dimanche",IF(J33="r",0,1),0)) -> 0
B34: vendredi | C34: 43497 | D34: R | E34: J EXT | F34: J EXT | G34: M EXT | H34: N EXT | I34: AM EXT | J34: R | M34: =COUNTIF($D34:$L34,M$1) -> 1 | N34: =COUNTIF($D34:$L34,N$1) -> 1 | O34: =COUNTIF($D34:$L34,O$1) -> 1 | P34: =COUNTIF($D34:$L34,P$1) -> 0 | Q34: =COUNTIF($D34:$L34,Q$1) -> 0 | S34: =IF($B34="samedi",IF(D34="r",0,IF(D34="",0,1)),IF($B34="dimanche",IF(D34="r",0,1),0)) -> 0 | T34: =IF($B34="samedi",IF(E34="r",0,IF(E34="",0,1)),IF($B34="dimanche",IF(E34="r",0,1),0)) -> 0 | U34: =IF($B34="samedi",IF(F34="r",0,IF(F34="",0,1)),IF($B34="dimanche",IF(F34="r",0,1),0)) -> 0 | V34: =IF($B34="samedi",IF(G34="r",0,IF(G34="",0,1)),IF($B34="dimanche",IF(G34="r",0,1),0)) -> 0 | W34: =IF($B34="samedi",IF(H34="r",0,IF(H34="",0,1)),IF($B34="dimanche",IF(H34="r",0,1),0)) -> 0 | X34: =IF($B34="samedi",IF(I34="r",0,IF(I34="",0,1)),IF($B34="dimanche",IF(I34="r",0,1),0)) -> 0 | Y34: =IF($B34="samedi",IF(J34="r",0,IF(J34="",0,1)),IF($B34="dimanche",IF(J34="r",0,1),0)) -> 0
B35: samedi | C35: 43498 | D35: R | E35: R | F35: M EXT | G35: R | H35: R | I35: R | J35: 17H 5H | M35: =COUNTIF($D35:$L35,M$1) -> 1 | N35: =COUNTIF($D35:$L35,N$1) -> 0 | O35: =COUNTIF($D35:$L35,O$1) -> 0 | P35: =COUNTIF($D35:$L35,P$1) -> 0 | Q35: =COUNTIF($D35:$L35,Q$1) -> 1 | S35: =IF($B35="samedi",IF(D35="r",0,IF(D35="",0,1)),IF($B35="dimanche",IF(D35="r",0,1),0)) -> 0 | T35: =IF($B35="samedi",IF(E35="r",0,IF(E35="",0,1)),IF($B35="dimanche",IF(E35="r",0,1),0)) -> 0 | U35: =IF($B35="samedi",IF(F35="r",0,IF(F35="",0,1)),IF($B35="dimanche",IF(F35="r",0,1),0)) -> 1 | V35: =IF($B35="samedi",IF(G35="r",0,IF(G35="",0,1)),IF($B35="dimanche",IF(G35="r",0,1),0)) -> 0 | W35: =IF($B35="samedi",IF(H35="r",0,IF(H35="",0,1)),IF($B35="dimanche",IF(H35="r",0,1),0)) -> 0 | X35: =IF($B35="samedi",IF(I35="r",0,IF(I35="",0,1)),IF($B35="dimanche",IF(I35="r",0,1),0)) -> 0 | Y35: =IF($B35="samedi",IF(J35="r",0,IF(J35="",0,1)),IF($B35="dimanche",IF(J35="r",0,1),0)) -> 1
B36: dimanche | C36: 43499 | D36: R | E36: R | F36: M EXT | G36: R | H36: R | I36: R | J36: 17H 5H | M36: =COUNTIF($D36:$L36,M$1) -> 1 | N36: =COUNTIF($D36:$L36,N$1) -> 0 | O36: =COUNTIF($D36:$L36,O$1) -> 0 | P36: =COUNTIF($D36:$L36,P$1) -> 0 | Q36: =COUNTIF($D36:$L36,Q$1) -> 1 | S36: =IF($B36="samedi",IF(D36="r",0,IF(D36="",0,1)),IF($B36="dimanche",IF(D36="r",0,1),0)) -> 0 | T36: =IF($B36="samedi",IF(E36="r",0,IF(E36="",0,1)),IF($B36="dimanche",IF(E36="r",0,1),0)) -> 0 | U36: =IF($B36="samedi",IF(F36="r",0,IF(F36="",0,1)),IF($B36="dimanche",IF(F36="r",0,1),0)) -> 1 | V36: =IF($B36="samedi",IF(G36="r",0,IF(G36="",0,1)),IF($B36="dimanche",IF(G36="r",0,1),0)) -> 0 | W36: =IF($B36="samedi",IF(H36="r",0,IF(H36="",0,1)),IF($B36="dimanche",IF(H36="r",0,1),0)) -> 0 | X36: =IF($B36="samedi",IF(I36="r",0,IF(I36="",0,1)),IF($B36="dimanche",IF(I36="r",0,1),0)) -> 0 | Y36: =IF($B36="samedi",IF(J36="r",0,IF(J36="",0,1)),IF($B36="dimanche",IF(J36="r",0,1),0)) -> 1
A37: S6 | B37: lundi | C37: 43500 | D37: R | E37: AM EXT | F37: R | G37: N EXT | H37: M EXT | I37: CP | J37: R | M37: =COUNTIF($D37:$L37,M$1) -> 1 | N37: =COUNTIF($D37:$L37,N$1) -> 1 | O37: =COUNTIF($D37:$L37,O$1) -> 1 | P37: =COUNTIF($D37:$L37,P$1) -> 0 | Q37: =COUNTIF($D37:$L37,Q$1) -> 0 | S37: =IF($B37="samedi",IF(D37="r",0,IF(D37="",0,1)),IF($B37="dimanche",IF(D37="r",0,1),0)) -> 0 | T37: =IF($B37="samedi",IF(E37="r",0,IF(E37="",0,1)),IF($B37="dimanche",IF(E37="r",0,1),0)) -> 0 | U37: =IF($B37="samedi",IF(F37="r",0,IF(F37="",0,1)),IF($B37="dimanche",IF(F37="r",0,1),0)) -> 0 | V37: =IF($B37="samedi",IF(G37="r",0,IF(G37="",0,1)),IF($B37="dimanche",IF(G37="r",0,1),0)) -> 0 | W37: =IF($B37="samedi",IF(H37="r",0,IF(H37="",0,1)),IF($B37="dimanche",IF(H37="r",0,1),0)) -> 0 | X37: =IF($B37="samedi",IF(I37="r",0,IF(I37="",0,1)),IF($B37="dimanche",IF(I37="r",0,1),0)) -> 0 | Y37: =IF($B37="samedi",IF(J37="r",0,IF(J37="",0,1)),IF($B37="dimanche",IF(J37="r",0,1),0)) -> 0
B38: mardi | C38: 43501 | D38: J EXT | E38: AM EXT | F38: R | G38: N EXT | H38: M EXT | I38: CP | J38: R | L38: J EXT | M38: =COUNTIF($D38:$L38,M$1) -> 1 | N38: =COUNTIF($D38:$L38,N$1) -> 1 | O38: =COUNTIF($D38:$L38,O$1) -> 1 | P38: =COUNTIF($D38:$L38,P$1) -> 0 | Q38: =COUNTIF($D38:$L38,Q$1) -> 0 | S38: =IF($B38="samedi",IF(D38="r",0,IF(D38="",0,1)),IF($B38="dimanche",IF(D38="r",0,1),0)) -> 0 | T38: =IF($B38="samedi",IF(E38="r",0,IF(E38="",0,1)),IF($B38="dimanche",IF(E38="r",0,1),0)) -> 0 | U38: =IF($B38="samedi",IF(F38="r",0,IF(F38="",0,1)),IF($B38="dimanche",IF(F38="r",0,1),0)) -> 0 | V38: =IF($B38="samedi",IF(G38="r",0,IF(G38="",0,1)),IF($B38="dimanche",IF(G38="r",0,1),0)) -> 0 | W38: =IF($B38="samedi",IF(H38="r",0,IF(H38="",0,1)),IF($B38="dimanche",IF(H38="r",0,1),0)) -> 0 | X38: =IF($B38="samedi",IF(I38="r",0,IF(I38="",0,1)),IF($B38="dimanche",IF(I38="r",0,1),0)) -> 0 | Y38: =IF($B38="samedi",IF(J38="r",0,IF(J38="",0,1)),IF($B38="dimanche",IF(J38="r",0,1),0)) -> 0
B39: mercredi | C39: 43502 | D39: J EXT | E39: AM EXT | F39: J EXT | G39: N EXT | H39: M EXT | I39: R | J39: R | L39: J EXT | M39: =COUNTIF($D39:$L39,M$1) -> 1 | N39: =COUNTIF($D39:$L39,N$1) -> 1 | O39: =COUNTIF($D39:$L39,O$1) -> 1 | P39: =COUNTIF($D39:$L39,P$1) -> 0 | Q39: =COUNTIF($D39:$L39,Q$1) -> 0 | S39: =IF($B39="samedi",IF(D39="r",0,IF(D39="",0,1)),IF($B39="dimanche",IF(D39="r",0,1),0)) -> 0 | T39: =IF($B39="samedi",IF(E39="r",0,IF(E39="",0,1)),IF($B39="dimanche",IF(E39="r",0,1),0)) -> 0 | U39: =IF($B39="samedi",IF(F39="r",0,IF(F39="",0,1)),IF($B39="dimanche",IF(F39="r",0,1),0)) -> 0 | V39: =IF($B39="samedi",IF(G39="r",0,IF(G39="",0,1)),IF($B39="dimanche",IF(G39="r",0,1),0)) -> 0 | W39: =IF($B39="samedi",IF(H39="r",0,IF(H39="",0,1)),IF($B39="dimanche",IF(H39="r",0,1),0)) -> 0 | X39: =IF($B39="samedi",IF(I39="r",0,IF(I39="",0,1)),IF($B39="dimanche",IF(I39="r",0,1),0)) -> 0 | Y39: =IF($B39="samedi",IF(J39="r",0,IF(J39="",0,1)),IF($B39="dimanche",IF(J39="r",0,1),0)) -> 0
B40: jeudi | C40: 43503 | D40: J EXT | E40: AM EXT | F40: J EXT | G40: N EXT | H40: M EXT | I40: R | J40: R | L40: j EXT | M40: =COUNTIF($D40:$L40,M$1) -> 1 | N40: =COUNTIF($D40:$L40,N$1) -> 1 | O40: =COUNTIF($D40:$L40,O$1) -> 1 | P40: =COUNTIF($D40:$L40,P$1) -> 0 | Q40: =COUNTIF($D40:$L40,Q$1) -> 0 | S40: =IF($B40="samedi",IF(D40="r",0,IF(D40="",0,1)),IF($B40="dimanche",IF(D40="r",0,1),0)) -> 0 | T40: =IF($B40="samedi",IF(E40="r",0,IF(E40="",0,1)),IF($B40="dimanche",IF(E40="r",0,1),0)) -> 0 | U40: =IF($B40="samedi",IF(F40="r",0,IF(F40="",0,1)),IF($B40="dimanche",IF(F40="r",0,1),0)) -> 0 | V40: =IF($B40="samedi",IF(G40="r",0,IF(G40="",0,1)),IF($B40="dimanche",IF(G40="r",0,1),0)) -> 0 | W40: =IF($B40="samedi",IF(H40="r",0,IF(H40="",0,1)),IF($B40="dimanche",IF(H40="r",0,1),0)) -> 0 | X40: =IF($B40="samedi",IF(I40="r",0,IF(I40="",0,1)),IF($B40="dimanche",IF(I40="r",0,1),0)) -> 0 | Y40: =IF($B40="samedi",IF(J40="r",0,IF(J40="",0,1)),IF($B40="dimanche",IF(J40="r",0,1),0)) -> 0
...

Sheet total
A1: Colonne1 | B1: JA | C1: SAV | D1: DR | E1: AE | F1: YD | G1: GL | H1: PC
A2: J EXT | B2: =COUNTIF(PLANNING!D:D,$A2) -> 203 | C2: =COUNTIF(PLANNING!E:E,$A2) -> 38 | D2: =COUNTIF(PLANNING!F:F,$A2) -> 23 | E2: =COUNTIF(PLANNING!G:G,$A2) -> 30 | F2: =COUNTIF(PLANNING!H:H,$A2) -> 41 | G2: =COUNTIF(PLANNING!I:I,$A2) -> 28 | H2: =COUNTIF(PLANNING!J:J,$A2) -> 0
A3: M EXT | B3: =COUNTIF(PLANNING!D:D,$A3) -> 2 | C3: =COUNTIF(PLANNING!E:E,$A3) -> 43 | D3: =COUNTIF(PLANNING!F:F,$A3) -> 55 | E3: =COUNTIF(PLANNING!G:G,$A3) -> 48 | F3: =COUNTIF(PLANNING!H:H,$A3) -> 45 | G3: =COUNTIF(PLANNING!I:I,$A3) -> 54 | H3: =COUNTIF(PLANNING!J:J,$A3) -> 0
A4: AM EXT | B4: =COUNTIF(PLANNING!D:D,$A4) -> 5 | C4: =COUNTIF(PLANNING!E:E,$A4) -> 32 | D4: =COUNTIF(PLANNING!F:F,$A4) -> 39 | E4: =COUNTIF(PLANNING!G:G,$A4) -> 43 | F4: =COUNTIF(PLANNING!H:H,$A4) -> 28 | G4: =COUNTIF(PLANNING!I:I,$A4) -> 54 | H4: =COUNTIF(PLANNING!J:J,$A4) -> 0
A5: N EXT | B5: =COUNTIF(PLANNING!D:D,$A5) -> 2 | C5: =COUNTIF(PLANNING!E:E,$A5) -> 44 | D5: =COUNTIF(PLANNING!F:F,$A5) -> 59 | E5: =COUNTIF(PLANNING!G:G,$A5) -> 45 | F5: =COUNTIF(PLANNING!H:H,$A5) -> 54 | G5: =COUNTIF(PLANNING!I:I,$A5) -> 41 | H5: =COUNTIF(PLANNING!J:J,$A5) -> 0
A6: CP | B6: =COUNTIF(PLANNING!D:D,$A6) -> 27 | C6: =COUNTIF(PLANNING!E:E,$A6) -> 21 | D6: =COUNTIF(PLANNING!F:F,$A6) -> 12 | E6: =COUNTIF(PLANNING!G:G,$A6) -> 23 | F6: =COUNTIF(PLANNING!H:H,$A6) -> 18 | G6: =COUNTIF(PLANNING!I:I,$A6) -> 23 | H6: =COUNTIF(PLANNING!J:J,$A6) -> 10
A7: R | B7: =COUNTIF(PLANNING!D:D,$A7) -> 124 | C7: =COUNTIF(PLANNING!E:E,$A7) -> 102 | D7: =COUNTIF(PLANNING!F:F,$A7) -> 97 | E7: =COUNTIF(PLANNING!G:G,$A7) -> 95 | F7: =COUNTIF(PLANNING!H:H,$A7) -> 101 | G7: =COUNTIF(PLANNING!I:I,$A7) -> 90 | H7: =COUNTIF(PLANNING!J:J,$A7) -> 263
A8: 5H 17H | B8: =COUNTIF(PLANNING!D:D,$A8) -> 0 | C8: =COUNTIF(PLANNING!E:E,$A8) -> 2 | D8: =COUNTIF(PLANNING!F:F,$A8) -> 0 | E8: =COUNTIF(PLANNING!G:G,$A8) -> 0 | F8: =COUNTIF(PLANNING!H:H,$A8) -> 0 | G8: =COUNTIF(PLANNING!I:I,$A8) -> 0 | H8: =COUNTIF(PLANNING!J:J,$A8) -> 50
A9: 17H 5H | B9: =COUNTIF(PLANNING!D:D,$A9) -> 2 | C9: =COUNTIF(PLANNING!E:E,$A9) -> 4 | D9: =COUNTIF(PLANNING!F:F,$A9) -> 0 | E9: =COUNTIF(PLANNING!G:G,$A9) -> 0 | F9: =COUNTIF(PLANNING!H:H,$A9) -> 0 | G9: =COUNTIF(PLANNING!I:I,$A9) -> 0 | H9: =COUNTIF(PLANNING!J:J,$A9) -> 46
A10: RC | B10: =COUNTIF(PLANNING!D:D,$A10) -> 0 | C10: =COUNTIF(PLANNING!E:E,$A10) -> 0 | D10: =COUNTIF(PLANNING!F:F,$A10) -> 0 | E10: =COUNTIF(PLANNING!G:G,$A10) -> 0 | F10: =COUNTIF(PLANNING!H:H,$A10) -> 2 | G10: =COUNTIF(PLANNING!I:I,$A10) -> 0 | H10: =COUNTIF(PLANNING!J:J,$A10) -> 0
A11: RCN | B11: =COUNTIF(PLANNING!D:D,$A11) -> 0 | C11: =COUNTIF(PLANNING!E:E,$A11) -> 0 | D11: =COUNTIF(PLANNING!F:F,$A11) -> 0 | E11: =COUNTIF(PLANNING!G:G,$A11) -> 2 | F11: =COUNTIF(PLANNING!H:H,$A11) -> 0 | G11: =COUNTIF(PLANNING!I:I,$A11) -> 0 | H11: =COUNTIF(PLANNING!J:J,$A11) -> 0
A12: MAL | B12: =COUNTIF(PLANNING!D:D,$A12) -> 0 | C12: =COUNTIF(PLANNING!E:E,$A12) -> 0 | D12: =COUNTIF(PLANNING!F:F,$A12) -> 2 | E12: =COUNTIF(PLANNING!G:G,$A12) -> 0 | F12: =COUNTIF(PLANNING!H:H,$A12) -> 0 | G12: =COUNTIF(PLANNING!I:I,$A12) -> 0 | H12: =COUNTIF(PLANNING!J:J,$A12) -> 0
A13: FP | B13: =COUNTIF(PLANNING!D:D,$A13) -> 5 | C13: =COUNTIF(PLANNING!E:E,$A13) -> 2 | D13: =COUNTIF(PLANNING!F:F,$A13) -> 0 | E13: =COUNTIF(PLANNING!G:G,$A13) -> 0 | F13: =COUNTIF(PLANNING!H:H,$A13) -> 1 | G13: =COUNTIF(PLANNING!I:I,$A13) -> 0 | H13: =COUNTIF(PLANNING!J:J,$A13) -> 2
A14: FE | B14: =COUNTIF(PLANNING!D:D,$A14) -> 1 | C14: =COUNTIF(PLANNING!E:E,$A14) -> 1 | D14: =COUNTIF(PLANNING!F:F,$A14) -> 2 | E14: =COUNTIF(PLANNING!G:G,$A14) -> 3 | F14: =COUNTIF(PLANNING!H:H,$A14) -> 4 | G14: =COUNTIF(PLANNING!I:I,$A14) -> 4 | H14: =COUNTIF(PLANNING!J:J,$A14) -> 0
A15: TOTAL | B15: =SUM(B2:B14) -> 371 | C15: =SUM(C2:C14) -> 289 | D15: =SUM(D2:D14) -> 289 | E15: =SUM(E2:E14) -> 289 | F15: =SUM(F2:F14) -> 294 | G15: =SUM(G2:G14) -> 294 | H15: =SUM(H2:H14) -> 371
A17: planning 2019 | B17: JA | C17: SAV | D17: DR | E17: AE | F17: YD | G17: GL
A18: weekend | B18: 43519 | C18: 43526 | D18: 43470 | E18: 43582 | F18: 43547 | G18: 43477
B19: 43582 | C19: 43631 | D19: 43491 | E19: 43708 | F19: 43554 | G19: 43484
C20: 43638 | D20: 43498 | F20: 43575 | G20: 43505
C21: 43687 | D21: 43603 | F21: 43659 | G21: 43512
C22: 43694 | D22: 43610 | F22: 43666 | G22: 43533
C23: 43701 | D23: 43652 | G23: 43540
C24: 43743 | D24: 43687 | G24: 43561
C25: 43750 | D25: 43694 | G25: 43568
D26: 43715 | G26: 43589
D27: 43722 | G27: 43596
G28: 43617
G29: 43624
G30: 43645
G31: 43673
G32: 43680
G33: 43701
G34: 43729
G35: 43736
G36: 43757
A47: TOTAL | B47: =COUNT(B18:B46) -> 2 | C47: =COUNT(C18:C46) -> 8 | D47: =COUNT(D18:D46) -> 10 | E47: =COUNT(E18:E46) -> 2 | F47: =COUNT(F18:F46) -> 5 | G47: =COUNT(G18:G46) -> 19
A50: weekend | B50: =SUM(PLANNING!S:S) -> 4 | C50: =SUM(PLANNING!T:T) -> 28 | D50: =SUM(PLANNING!U:U) -> 32 | E50: =SUM(PLANNING!V:V) -> 16 | F50: =SUM(PLANNING!W:W) -> 21 | G50: =SUM(PLANNING!X:X) -> 49 | H50: =SUM(PLANNING!Y:Y) -> 106

Sheet Feuil1
A1: N°SEM | B1: 32 | C1: =+[1]PlanningBP!F2 -> J.AUGUSTIN | E1: 2 | F1: =+[1]PlanningBP!G2 -> S.AVRIL E6 | H1: 3 | I1: =+[1]PlanningBP!H2 -> D.RITTER E5 | K1: 4 | L1: =+[1]PlanningBP!I2 -> A EVEILLARD E2 | N1: 5 | O1: =+[1]PlanningBP!J2 -> Y.DELAUNAY E1 | Q1: 6 | R1: =[1]PlanningBP!K2 -> G.LEGENDRE E4 | T1: 7 | U1: =[1]PlanningBP!L2 -> P.CHARPENTIER E3 | W1: 8
A2: Année | B2: 2019 | C2: PLANNING | D2: HT | E2: HN | F2: PLANNING | G2: HT | H2: HN | I2: PLANNING | J2: HT | K2: HN | L2: PLANNING | M2: HT | N2: HN | O2: PLANNING | P2: HT | Q2: HN | R2: PLANNING | S2: HT | T2: HN | U2: PLANNING | V2: HT | W2: HN
B3: =7*$B$1+DATE($B$2,1,3)-WEEKDAY(DATE($B$2,1,3))-5 -> 43682 | C3: =+IF($B3="","",VLOOKUP($B3,PLANNING!$C$3:$J20001,E$1,FALSE)) -> J EXT | D3: =+IF(C3="R","R",IF(OR(C3="5h 17h",C3="17h 5h"),11.5,IF(OR(C3="m ext",C3="am ext",C3="n ext",C3="n",C3="am",C3="m",C3="j",C3="j ext"),7.5,C3))) -> 7.5 | E3: =IF(C3="","",IF(C3="M EXT",1,IF(C3="N EXT",7.5,IF(C3="5h 17h",1,IF(C3="17h 5h", 7.5,0))))) -> 0 | F3: =+IF($B3="","",VLOOKUP($B3,PLANNING!$C$3:$J20001,H$1,FALSE)) -> AM EXT | G3: =+IF(F3="R","R",IF(OR(F3="5h 17h",F3="17h 5h"),11.5,IF(OR(F3="m ext",F3="am ext",F3="n ext",F3="n",F3="am",F3="m",F3="j",F3="j ext"),7.5,F3))) -> 7.5 | H3: =IF(F3="","",IF(F3="M EXT",1,IF(F3="N EXT",7.5,IF(F3="5h 17h",1,IF(F3="17h 5h", 7.5,0))))) -> 0 | I3: =+IF($B3="","",VLOOKUP($B3,PLANNING!$C$3:$J20001,K$1,FALSE)) -> M EXT | J3: =+IF(I3="R","R",IF(OR(I3="5h 17h",I3="17h 5h"),11.5,IF(OR(I3="m ext",I3="am ext",I3="n ext",I3="n",I3="am",I3="m",I3="j",I3="j ext"),7.5,I3))) -> 7.5 | K3: =IF(I3="","",IF(I3="M EXT",1,IF(I3="N EXT",7.5,IF(I3="5h 17h",1,IF(I3="17h 5h", 7.5,0))))) -> 1 | L3: =+IF($B3="","",VLOOKUP($B3,PLANNING!$C$3:$J20001,N$1,FALSE)) -> CP | M3: =+IF(L3="R","R",IF(OR(L3="5h 17h",L3="17h 5h"),11.5,IF(OR(L3="m ext",L3="am ext",L3="n ext",L3="n",L3="am",L3="m",L3="j",L3="j ext"),7.5,L3))) -> CP | N3: =IF(L3="","",IF(L3="M EXT",1,IF(L3="N EXT",7.5,IF(L3="5h 17h",1,IF(L3="17h 5h", 7.5,0))))) -> 0 | O3: =+IF($B3="","",VLOOKUP($B3,PLANNING!$C$3:$J20001,Q$1,FALSE)) -> N EXT | P3: =+IF(O3="R","R",IF(OR(O3="5h 17h",O3="17h 5h"),11.5,IF(OR(O3="m ext",O3="am ext",O3="n ext",O3="n",O3="am",O3="m",O3="j",O3="j ext"),7.5,O3))) -> 7.5 | Q3: =IF(O3="","",IF(O3="M EXT",1,IF(O3="N EXT",7.5,IF(O3="5h 17h",1,IF(O3="17h 5h", 7.5,0))))) -> 7.5 | R3: =+IF($B3="","",VLOOKUP($B3,PLANNING!$C$3:$J20001,T$1,FALSE)) -> R | S3: =+IF(R3="R","R",IF(OR(R3="5h 17h",R3="17h 5h"),11.5,IF(OR(R3="m ext",R3="am ext",R3="n ext",R3="n",R3="am",R3="m",R3="j",R3="j ext"),7.5,R3))) -> R | T3: =IF(R3="","",IF(R3="M EXT",1,IF(R3="N EXT",7.5,IF(R3="5h 17h",1,IF(R3="17h 5h", 7.5,0))))) -> 0 | U3: =+IF($B3="","",VLOOKUP($B3,PLANNING!$C$3:$J20001,W$1,FALSE)) -> R | V3: =+IF(U3="R","R",IF(OR(U3="5h 17h",U3="17h 5h"),11.5,IF(OR(U3="m ext",U3="am ext",U3="n ext",U3="n",U3="am",U3="m",U3="j",U3="j ext"),7.5,U3))) -> R | W3: =IF(U3="","",IF(U3="M EXT",1,IF(U3="N EXT",7.5,IF(U3="5h 17h",1,IF(U3="17h 5h", 7.5,0))))) -> 0
B4: =B3+1 -> 43683 | C4: =+IF($B4="","",VLOOKUP($B4,PLANNING!$C$3:$J20002,E$1,FALSE)) -> J EXT | D4: =+IF(C4="R","R",IF(OR(C4="5h 17h",C4="17h 5h"),11.5,IF(OR(C4="m ext",C4="am ext",C4="n ext",C4="n",C4="am",C4="m",C4="j",C4="j ext"),7.5,C4))) -> 7.5 | E4: =IF(C4="","",IF(C4="M EXT",1,IF(C4="N EXT",7.5,IF(C4="5h 17h",1,IF(C4="17h 5h", 7.5,0))))) -> 0 | F4: =+IF($B4="","",VLOOKUP($B4,PLANNING!$C$3:$J20002,H$1,FALSE)) -> AM EXT | G4: =+IF(F4="R","R",IF(OR(F4="5h 17h",F4="17h 5h"),11.5,IF(OR(F4="m ext",F4="am ext",F4="n ext",F4="n",F4="am",F4="m",F4="j",F4="j ext"),7.5,F4))) -> 7.5 | H4: =IF(F4="","",IF(F4="M EXT",1,IF(F4="N EXT",7.5,IF(F4="5h 17h",1,IF(F4="17h 5h", 7.5,0))))) -> 0 | I4: =+IF($B4="","",VLOOKUP($B4,PLANNING!$C$3:$J20002,K$1,FALSE)) -> M EXT | J4: =+IF(I4="R","R",IF(OR(I4="5h 17h",I4="17h 5h"),11.5,IF(OR(I4="m ext",I4="am ext",I4="n ext",I4="n",I4="am",I4="m",I4="j",I4="j ext"),7.5,I4))) -> 7.5 | K4: =IF(I4="","",IF(I4="M EXT",1,IF(I4="N EXT",7.5,IF(I4="5h 17h",1,IF(I4="17h 5h", 7.5,0))))) -> 1 | L4: =+IF($B4="","",VLOOKUP($B4,PLANNING!$C$3:$J20002,N$1,FALSE)) -> CP | M4: =+IF(L4="R","R",IF(OR(L4="5h 17h",L4="17h 5h"),11.5,IF(OR(L4="m ext",L4="am ext",L4="n ext",L4="n",L4="am",L4="m",L4="j",L4="j ext"),7.5,L4))) -> CP | N4: =IF(L4="","",IF(L4="M EXT",1,IF(L4="N EXT",7.5,IF(L4="5h 17h",1,IF(L4="17h 5h", 7.5,0))))) -> 0 | O4: =+IF($B4="","",VLOOKUP($B4,PLANNING!$C$3:$J20002,Q$1,FALSE)) -> N EXT | P4: =+IF(O4="R","R",IF(OR(O4="5h 17h",O4="17h 5h"),11.5,IF(OR(O4="m ext",O4="am ext",O4="n ext",O4="n",O4="am",O4="m",O4="j",O4="j ext"),7.5,O4))) -> 7.5 | Q4: =IF(O4="","",IF(O4="M EXT",1,IF(O4="N EXT",7.5,IF(O4="5h 17h",1,IF(O4="17h 5h", 7.5,0))))) -> 7.5 | R4: =+IF($B4="","",VLOOKUP($B4,PLANNING!$C$3:$J20002,T$1,FALSE)) -> R | S4: =+IF(R4="R","R",IF(OR(R4="5h 17h",R4="17h 5h"),11.5,IF(OR(R4="m ext",R4="am ext",R4="n ext",R4="n",R4="am",R4="m",R4="j",R4="j ext"),7.5,R4))) -> R | T4: =IF(R4="","",IF(R4="M EXT",1,IF(R4="N EXT",7.5,IF(R4="5h 17h",1,IF(R4="17h 5h", 7.5,0))))) -> 0 | U4: =+IF($B4="","",VLOOKUP($B4,PLANNING!$C$3:$J20002,W$1,FALSE)) -> R | V4: =+IF(U4="R","R",IF(OR(U4="5h 17h",U4="17h 5h"),11.5,IF(OR(U4="m ext",U4="am ext",U4="n ext",U4="n",U4="am",U4="m",U4="j",U4="j ext"),7.5,U4))) -> R | W4: =IF(U4="","",IF(U4="M EXT",1,IF(U4="N EXT",7.5,IF(U4="5h 17h",1,IF(U4="17h 5h", 7.5,0))))) -> 0
B5: =B4+1 -> 43684 | C5: =+IF($B5="","",VLOOKUP($B5,PLANNING!$C$3:$J20003,E$1,FALSE)) -> J EXT | D5: =+IF(C5="R","R",IF(OR(C5="5h 17h",C5="17h 5h"),11.5,IF(OR(C5="m ext",C5="am ext",C5="n ext",C5="n",C5="am",C5="m",C5="j",C5="j ext"),7.5,C5))) -> 7.5 | E5: =IF(C5="","",IF(C5="M EXT",1,IF(C5="N EXT",7.5,IF(C5="5h 17h",1,IF(C5="17h 5h", 7.5,0))))) -> 0 | F5: =+IF($B5="","",VLOOKUP($B5,PLANNING!$C$3:$J20003,H$1,FALSE)) -> AM EXT | G5: =+IF(F5="R","R",IF(OR(F5="5h 17h",F5="17h 5h"),11.5,IF(OR(F5="m ext",F5="am ext",F5="n ext",F5="n",F5="am",F5="m",F5="j",F5="j ext"),7.5,F5))) -> 7.5 | H5: =IF(F5="","",IF(F5="M EXT",1,IF(F5="N EXT",7.5,IF(F5="5h 17h",1,IF(F5="17h 5h", 7.5,0))))) -> 0 | I5: =+IF($B5="","",VLOOKUP($B5,PLANNING!$C$3:$J20003,K$1,FALSE)) -> M EXT | J5: =+IF(I5="R","R",IF(OR(I5="5h 17h",I5="17h 5h"),11.5,IF(OR(I5="m ext",I5="am ext",I5="n ext",I5="n",I5="am",I5="m",I5="j",I5="j ext"),7.5,I5))) -> 7.5 | K5: =IF(I5="","",IF(I5="M EXT",1,IF(I5="N EXT",7.5,IF(I5="5h 17h",1,IF(I5="17h 5h", 7.5,0))))) -> 1 | L5: =+IF($B5="","",VLOOKUP($B5,PLANNING!$C$3:$J20003,N$1,FALSE)) -> CP | M5: =+IF(L5="R","R",IF(OR(L5="5h 17h",L5="17h 5h"),11.5,IF(OR(L5="m ext",L5="am ext",L5="n ext",L5="n",L5="am",L5="m",L5="j",L5="j ext"),7.5,L5))) -> CP | N5: =IF(L5="","",IF(L5="M EXT",1,IF(L5="N EXT",7.5,IF(L5="5h 17h",1,IF(L5="17h 5h", 7.5,0))))) -> 0 | O5: =+IF($B5="","",VLOOKUP($B5,PLANNING!$C$3:$J20003,Q$1,FALSE)) -> N EXT | P5: =+IF(O5="R","R",IF(OR(O5="5h 17h",O5="17h 5h"),11.5,IF(OR(O5="m ext",O5="am ext",O5="n ext",O5="n",O5="am",O5="m",O5="j",O5="j ext"),7.5,O5))) -> 7.5 | Q5: =IF(O5="","",IF(O5="M EXT",1,IF(O5="N EXT",7.5,IF(O5="5h 17h",1,IF(O5="17h 5h", 7.5,0))))) -> 7.5 | R5: =+IF($B5="","",VLOOKUP($B5,PLANNING!$C$3:$J20003,T$1,FALSE)) -> J EXT | S5: =+IF(R5="R","R",IF(OR(R5="5h 17h",R5="17h 5h"),11.5,IF(OR(R5="m ext",R5="am ext",R5="n ext",R5="n",R5="am",R5="m",R5="j",R5="j ext"),7.5,R5))) -> 7.5 | T5: =IF(R5="","",IF(R5="M EXT",1,IF(R5="N EXT",7.5,IF(R5="5h 17h",1,IF(R5="17h 5h", 7.5,0))))) -> 0 | U5: =+IF($B5="","",VLOOKUP($B5,PLANNING!$C$3:$J20003,W$1,FALSE)) -> R | V5: =+IF(U5="R","R",IF(OR(U5="5h 17h",U5="17h 5h"),11.5,IF(OR(U5="m ext",U5="am ext",U5="n ext",U5="n",U5="am",U5="m",U5="j",U5="j ext"),7.5,U5))) -> R | W5: =IF(U5="","",IF(U5="M EXT",1,IF(U5="N EXT",7.5,IF(U5="5h 17h",1,IF(U5="17h 5h", 7.5,0))))) -> 0
B6: =B5+1 -> 43685 | C6: =+IF($B6="","",VLOOKUP($B6,PLANNING!$C$3:$J20004,E$1,FALSE)) -> J EXT | D6: =+IF(C6="R","R",IF(OR(C6="5h 17h",C6="17h 5h"),11.5,IF(OR(C6="m ext",C6="am ext",C6="n ext",C6="n",C6="am",C6="m",C6="j",C6="j ext"),7.5,C6))) -> 7.5 | E6: =IF(C6="","",IF(C6="M EXT",1,IF(C6="N EXT",7.5,IF(C6="5h 17h",1,IF(C6="17h 5h", 7.5,0))))) -> 0 | F6: =+IF($B6="","",VLOOKUP($B6,PLANNING!$C$3:$J20004,H$1,FALSE)) -> R | G6: =+IF(F6="R","R",IF(OR(F6="5h 17h",F6="17h 5h"),11.5,IF(OR(F6="m ext",F6="am ext",F6="n ext",F6="n",F6="am",F6="m",F6="j",F6="j ext"),7.5,F6))) -> R | H6: =IF(F6="","",IF(F6="M EXT",1,IF(F6="N EXT",7.5,IF(F6="5h 17h",1,IF(F6="17h 5h", 7.5,0))))) -> 0 | I6: =+IF($B6="","",VLOOKUP($B6,PLANNING!$C$3:$J20004,K$1,FALSE)) -> M EXT | J6: =+IF(I6="R","R",IF(OR(I6="5h 17h",I6="17h 5h"),11.5,IF(OR(I6="m ext",I6="am ext",I6="n ext",I6="n",I6="am",I6="m",I6="j",I6="j ext"),7.5,I6))) -> 7.5 | K6: =IF(I6="","",IF(I6="M EXT",1,IF(I6="N EXT",7.5,IF(I6="5h 17h",1,IF(I6="17h 5h", 7.5,0))))) -> 1 | L6: =+IF($B6="","",VLOOKUP($B6,PLANNING!$C$3:$J20004,N$1,FALSE)) -> CP | M6: =+IF(L6="R","R",IF(OR(L6="5h 17h",L6="17h 5h"),11.5,IF(OR(L6="m ext",L6="am ext",L6="n ext",L6="n",L6="am",L6="m",L6="j",L6="j ext"),7.5,L6))) -> CP | N6: =IF(L6="","",IF(L6="M EXT",1,IF(L6="N EXT",7.5,IF(L6="5h 17h",1,IF(L6="17h 5h", 7.5,0))))) -> 0 | O6: =+IF($B6="","",VLOOKUP($B6,PLANNING!$C$3:$J20004,Q$1,FALSE)) -> N EXT | P6: =+IF(O6="R","R",IF(OR(O6="5h 17h",O6="17h 5h"),11.5,IF(OR(O6="m ext",O6="am ext",O6="n ext",O6="n",O6="am",O6="m",O6="j",O6="j ext"),7.5,O6))) -> 7.5 | Q6: =IF(O6="","",IF(O6="M EXT",1,IF(O6="N EXT",7.5,IF(O6="5h 17h",1,IF(O6="17h 5h", 7.5,0))))) -> 7.5 | R6: =+IF($B6="","",VLOOKUP($B6,PLANNING!$C$3:$J20004,T$1,FALSE)) -> AM EXT | S6: =+IF(R6="R","R",IF(OR(R6="5h 17h",R6="17h 5h"),11.5,IF(OR(R6="m ext",R6="am ext",R6="n ext",R6="n",R6="am",R6="m",R6="j",R6="j ext"),7.5,R6))) -> 7.5 | T6: =IF(R6="","",IF(R6="M EXT",1,IF(R6="N EXT",7.5,IF(R6="5h 17h",1,IF(R6="17h 5h", 7.5,0))))) -> 0 | U6: =+IF($B6="","",VLOOKUP($B6,PLANNING!$C$3:$J20004,W$1,FALSE)) -> R | V6: =+IF(U6="R","R",IF(OR(U6="5h 17h",U6="17h 5h"),11.5,IF(OR(U6="m ext",U6="am ext",U6="n ext",U6="n",U6="am",U6="m",U6="j",U6="j ext"),7.5,U6))) -> R | W6: =IF(U6="","",IF(U6="M EXT",1,IF(U6="N EXT",7.5,IF(U6="5h 17h",1,IF(U6="17h 5h", 7.5,0))))) -> 0
B7: =B6+1 -> 43686 | C7: =+IF($B7="","",VLOOKUP($B7,PLANNING!$C$3:$J20005,E$1,FALSE)) -> M EXT | D7: =+IF(C7="R","R",IF(OR(C7="5h 17h",C7="17h 5h"),11.5,IF(OR(C7="m ext",C7="am ext",C7="n ext",C7="n",C7="am",C7="m",C7="j",C7="j ext"),7.5,C7))) -> 7.5 | E7: =IF(C7="","",IF(C7="M EXT",1,IF(C7="N EXT",7.5,IF(C7="5h 17h",1,IF(C7="17h 5h", 7.5,0))))) -> 1 | F7: =+IF($B7="","",VLOOKUP($B7,PLANNING!$C$3:$J20005,H$1,FALSE)) -> R | G7: =+IF(F7="R","R",IF(OR(F7="5h 17h",F7="17h 5h"),11.5,IF(OR(F7="m ext",F7="am ext",F7="n ext",F7="n",F7="am",F7="m",F7="j",F7="j ext"),7.5,F7))) -> R | H7: =IF(F7="","",IF(F7="M EXT",1,IF(F7="N EXT",7.5,IF(F7="5h 17h",1,IF(F7="17h 5h", 7.5,0))))) -> 0 | I7: =+IF($B7="","",VLOOKUP($B7,PLANNING!$C$3:$J20005,K$1,FALSE)) -> R | J7: =+IF(I7="R","R",IF(OR(I7="5h 17h",I7="17h 5h"),11.5,IF(OR(I7="m ext",I7="am ext",I7="n ext",I7="n",I7="am",I7="m",I7="j",I7="j ext"),7.5,I7))) -> R | K7: =IF(I7="","",IF(I7="M EXT",1,IF(I7="N EXT",7.5,IF(I7="5h 17h",1,IF(I7="17h 5h", 7.5,0))))) -> 0 | L7: =+IF($B7="","",VLOOKUP($B7,PLANNING!$C$3:$J20005,N$1,FALSE)) -> CP | M7: =+IF(L7="R","R",IF(OR(L7="5h 17h",L7="17h 5h"),11.5,IF(OR(L7="m ext",L7="am ext",L7="n ext",L7="n",L7="am",L7="m",L7="j",L7="j ext"),7.5,L7))) -> CP | N7: =IF(L7="","",IF(L7="M EXT",1,IF(L7="N EXT",7.5,IF(L7="5h 17h",1,IF(L7="17h 5h", 7.5,0))))) -> 0 | O7: =+IF($B7="","",VLOOKUP($B7,PLANNING!$C$3:$J20005,Q$1,FALSE)) -> N EXT | P7: =+IF(O7="R","R",IF(OR(O7="5h 17h",O7="17h 5h"),11.5,IF(OR(O7="m ext",O7="am ext",O7="n ext",O7="n",O7="am",O7="m",O7="j",O7="j ext"),7.5,O7))) -> 7.5 | Q7: =IF(O7="","",IF(O7="M EXT",1,IF(O7="N EXT",7.5,IF(O7="5h 17h",1,IF(O7="17h 5h", 7.5,0))))) -> 7.5 | R7: =+IF($B7="","",VLOOKUP($B7,PLANNING!$C$3:$J20005,T$1,FALSE)) -> AM EXT | S7: =+IF(R7="R","R",IF(OR(R7="5h 17h",R7="17h 5h"),11.5,IF(OR(R7="m ext",R7="am ext",R7="n ext",R7="n",R7="am",R7="m",R7="j",R7="j ext"),7.5,R7))) -> 7.5 | T7: =IF(R7="","",IF(R7="M EXT",1,IF(R7="N EXT",7.5,IF(R7="5h 17h",1,IF(R7="17h 5h", 7.5,0))))) -> 0 | U7: =+IF($B7="","",VLOOKUP($B7,PLANNING!$C$3:$J20005,W$1,FALSE)) -> R | V7: =+IF(U7="R","R",IF(OR(U7="5h 17h",U7="17h 5h"),11.5,IF(OR(U7="m ext",U7="am ext",U7="n ext",U7="n",U7="am",U7="m",U7="j",U7="j ext"),7.5,U7))) -> R | W7: =IF(U7="","",IF(U7="M EXT",1,IF(U7="N EXT",7.5,IF(U7="5h 17h",1,IF(U7="17h 5h", 7.5,0))))) -> 0
B8: =B7+1 -> 43687 | C8: =+IF($B8="","",VLOOKUP($B8,PLANNING!$C$3:$J20006,E$1,FALSE)) -> R | D8: =+IF(C8="R","R",IF(OR(C8="5h 17h",C8="17h 5h"),11.5,IF(OR(C8="m ext",C8="am ext",C8="n ext",C8="n",C8="am",C8="m",C8="j",C8="j ext"),7.5,C8))) -> R | E8: =IF(C8="","",IF(C8="M EXT",1,IF(C8="N EXT",7.5,IF(C8="5h 17h",1,IF(C8="17h 5h", 7.5,0))))) -> 0 | F8: =+IF($B8="","",VLOOKUP($B8,PLANNING!$C$3:$J20006,H$1,FALSE)) -> 5H 17H | G8: =+IF(F8="R","R",IF(OR(F8="5h 17h",F8="17h 5h"),11.5,IF(OR(F8="m ext",F8="am ext",F8="n ext",F8="n",F8="am",F8="m",F8="j",F8="j ext"),7.5,F8))) -> 11.5 | H8: =IF(F8="","",IF(F8="M EXT",1,IF(F8="N EXT",7.5,IF(F8="5h 17h",1,IF(F8="17h 5h", 7.5,0))))) -> 1 | I8: =+IF($B8="","",VLOOKUP($B8,PLANNING!$C$3:$J20006,K$1,FALSE)) -> N EXT | J8: =+IF(I8="R","R",IF(OR(I8="5h 17h",I8="17h 5h"),11.5,IF(OR(I8="m ext",I8="am ext",I8="n ext",I8="n",I8="am",I8="m",I8="j",I8="j ext"),7.5,I8))) -> 7.5 | K8: =IF(I8="","",IF(I8="M EXT",1,IF(I8="N EXT",7.5,IF(I8="5h 17h",1,IF(I8="17h 5h", 7.5,0))))) -> 7.5 | L8: =+IF($B8="","",VLOOKUP($B8,PLANNING!$C$3:$J20006,N$1,FALSE)) -> R | M8: =+IF(L8="R","R",IF(OR(L8="5h 17h",L8="17h 5h"),11.5,IF(OR(L8="m ext",L8="am ext",L8="n ext",L8="n",L8="am",L8="m",L8="j",L8="j ext"),7.5,L8))) -> R | N8: =IF(L8="","",IF(L8="M EXT",1,IF(L8="N EXT",7.5,IF(L8="5h 17h",1,IF(L8="17h 5h", 7.5,0))))) -> 0 | O8: =+IF($B8="","",VLOOKUP($B8,PLANNING!$C$3:$J20006,Q$1,FALSE)) -> R | P8: =+IF(O8="R","R",IF(OR(O8="5h 17h",O8="17h 5h"),11.5,IF(OR(O8="m ext",O8="am ext",O8="n ext",O8="n",O8="am",O8="m",O8="j",O8="j ext"),7.5,O8))) -> R | Q8: =IF(O8="","",IF(O8="M EXT",1,IF(O8="N EXT",7.5,IF(O8="5h 17h",1,IF(O8="17h 5h", 7.5,0))))) -> 0 | R8: =+IF($B8="","",VLOOKUP($B8,PLANNING!$C$3:$J20006,T$1,FALSE)) -> R | S8: =+IF(R8="R","R",IF(OR(R8="5h 17h",R8="17h 5h"),11.5,IF(OR(R8="m ext",R8="am ext",R8="n ext",R8="n",R8="am",R8="m",R8="j",R8="j ext"),7.5,R8))) -> R | T8: =IF(R8="","",IF(R8="M EXT",1,IF(R8="N EXT",7.5,IF(R8="5h 17h",1,IF(R8="17h 5h", 7.5,0))))) -> 0 | U8: =+IF($B8="","",VLOOKUP($B8,PLANNING!$C$3:$J20006,W$1,FALSE)) -> CP | V8: =+IF(U8="R","R",IF(OR(U8="5h 17h",U8="17h 5h"),11.5,IF(OR(U8="m ext",U8="am ext",U8="n ext",U8="n",U8="am",U8="m",U8="j",U8="j ext"),7.5,U8))) -> CP | W8: =IF(U8="","",IF(U8="M EXT",1,IF(U8="N EXT",7.5,IF(U8="5h 17h",1,IF(U8="17h 5h", 7.5,0))))) -> 0
B9: =B8+1 -> 43688 | C9: =+IF($B9="","",VLOOKUP($B9,PLANNING!$C$3:$J20007,E$1,FALSE)) -> R | D9: =+IF(C9="R","R",IF(OR(C9="5h 17h",C9="17h 5h"),11.5,IF(OR(C9="m ext",C9="am ext",C9="n ext",C9="n",C9="am",C9="m",C9="j",C9="j ext"),7.5,C9))) -> R | E9: =IF(C9="","",IF(C9="M EXT",1,IF(C9="N EXT",7.5,IF(C9="5h 17h",1,IF(C9="17h 5h", 7.5,0))))) -> 0 | F9: =+IF($B9="","",VLOOKUP($B9,PLANNING!$C$3:$J20007,H$1,FALSE)) -> 5H 17H | G9: =+IF(F9="R","R",IF(OR(F9="5h 17h",F9="17h 5h"),11.5,IF(OR(F9="m ext",F9="am ext",F9="n ext",F9="n",F9="am",F9="m",F9="j",F9="j ext"),7.5,F9))) -> 11.5 | H9: =IF(F9="","",IF(F9="M EXT",1,IF(F9="N EXT",7.5,IF(F9="5h 17h",1,IF(F9="17h 5h", 7.5,0))))) -> 1 | I9: =+IF($B9="","",VLOOKUP($B9,PLANNING!$C$3:$J20007,K$1,FALSE)) -> N EXT | J9: =+IF(I9="R","R",IF(OR(I9="5h 17h",I9="17h 5h"),11.5,IF(OR(I9="m ext",I9="am ext",I9="n ext",I9="n",I9="am",I9="m",I9="j",I9="j ext"),7.5,I9))) -> 7.5 | K9: =IF(I9="","",IF(I9="M EXT",1,IF(I9="N EXT",7.5,IF(I9="5h 17h",1,IF(I9="17h 5h", 7.5,0))))) -> 7.5 | L9: =+IF($B9="","",VLOOKUP($B9,PLANNING!$C$3:$J20007,N$1,FALSE)) -> R | M9: =+IF(L9="R","R",IF(OR(L9="5h 17h",L9="17h 5h"),11.5,IF(OR(L9="m ext",L9="am ext",L9="n ext",L9="n",L9="am",L9="m",L9="j",L9="j ext"),7.5,L9))) -> R | N9: =IF(L9="","",IF(L9="M EXT",1,IF(L9="N EXT",7.5,IF(L9="5h 17h",1,IF(L9="17h 5h", 7.5,0))))) -> 0 | O9: =+IF($B9="","",VLOOKUP($B9,PLANNING!$C$3:$J20007,Q$1,FALSE)) -> R | P9: =+IF(O9="R","R",IF(OR(O9="5h 17h",O9="17h 5h"),11.5,IF(OR(O9="m ext",O9="am ext",O9="n ext",O9="n",O9="am",O9="m",O9="j",O9="j ext"),7.5,O9))) -> R | Q9: =IF(O9="","",IF(O9="M EXT",1,IF(O9="N EXT",7.5,IF(O9="5h 17h",1,IF(O9="17h 5h", 7.5,0))))) -> 0 | R9: =+IF($B9="","",VLOOKUP($B9,PLANNING!$C$3:$J20007,T$1,FALSE)) -> R | S9: =+IF(R9="R","R",IF(OR(R9="5h 17h",R9="17h 5h"),11.5,IF(OR(R9="m ext",R9="am ext",R9="n ext",R9="n",R9="am",R9="m",R9="j",R9="j ext"),7.5,R9))) -> R | T9: =IF(R9="","",IF(R9="M EXT",1,IF(R9="N EXT",7.5,IF(R9="5h 17h",1,IF(R9="17h 5h", 7.5,0))))) -> 0 | U9: =+IF($B9="","",VLOOKUP($B9,PLANNING!$C$3:$J20007,W$1,FALSE)) -> CP | V9: =+IF(U9="R","R",IF(OR(U9="5h 17h",U9="17h 5h"),11.5,IF(OR(U9="m ext",U9="am ext",U9="n ext",U9="n",U9="am",U9="m",U9="j",U9="j ext"),7.5,U9))) -> CP | W9: =IF(U9="","",IF(U9="M EXT",1,IF(U9="N EXT",7.5,IF(U9="5h 17h",1,IF(U9="17h 5h", 7.5,0))))) -> 0
