Workbook
Name Infirmier: OFFSET(Feuil2!$E$1,MATCH(Feuil2!A$7,Feuil2!$D$1:$D$3,0)-1,0,1,MATCH(9^9^9,Feuil2!$A$1:$IV$1,1)-4)
Name PLAN010101: 'Planning Prévisionnel 2019'!$B$5
Name PLAN010102: 'Planning Prévisionnel 2019'!$D$5
Name PLAN010103: 'Planning Prévisionnel 2019'!$E$5
Name PLAN010104: 'Planning Prévisionnel 2019'!$G$5
Name PLAN010105: 'Planning Prévisionnel 2019'!$H$5
Name PLAN010106: 'Planning Prévisionnel 2019'!$J$5
Name PLAN010107: 'Planning Prévisionnel 2019'!$K$5
Name PLAN010108: 'Planning Prévisionnel 2019'!$M$5
Name PLAN010109: 'Planning Prévisionnel 2019'!$N$5
Name PLAN010110: 'Planning Prévisionnel 2019'!$P$5
Name PLAN010111: 'Planning Prévisionnel 2019'!$Q$5
Name PLAN010112: 'Planning Prévisionnel 2019'!$S$5
Name PLAN010113: 'Planning Prévisionnel 2019'!$T$5
Name PLAN010114: 'Planning Prévisionnel 2019'!$V$5
Name PLAN010201: 'Planning Prévisionnel 2019'!$B$6
Name PLAN010202: 'Planning Prévisionnel 2019'!$D$6
Name PLAN010203: 'Planning Prévisionnel 2019'!$E$6
Name PLAN010204: 'Planning Prévisionnel 2019'!$G$6
Name PLAN010205: 'Planning Prévisionnel 2019'!$H$6
Name PLAN010206: 'Planning Prévisionnel 2019'!$J$6
Name PLAN010207: 'Planning Prévisionnel 2019'!$K$6
Name PLAN010208: 'Planning Prévisionnel 2019'!$M$6
Name PLAN010209: 'Planning Prévisionnel 2019'!$N$6
Name PLAN010210: 'Planning Prévisionnel 2019'!$P$6
Name PLAN010211: 'Planning Prévisionnel 2019'!$Q$6
Name PLAN010212: 'Planning Prévisionnel 2019'!$S$6
Name PLAN010213: 'Planning Prévisionnel 2019'!$T$6
Name PLAN010214: 'Planning Prévisionnel 2019'!$V$6
Name PLAN010301: 'Planning Prévisionnel 2019'!$B$7
Name PLAN010302: 'Planning Prévisionnel 2019'!$D$7
Name PLAN010303: 'Planning Prévisionnel 2019'!$E$7
Name PLAN010304: 'Planning Prévisionnel 2019'!$G$7
Name PLAN010305: 'Planning Prévisionnel 2019'!$H$7
Name PLAN010306: 'Planning Prévisionnel 2019'!$J$7
Name PLAN010307: 'Planning Prévisionnel 2019'!$K$7
Name PLAN010308: 'Planning Prévisionnel 2019'!$M$7
Name PLAN010309: 'Planning Prévisionnel 2019'!$N$7
Name PLAN010310: 'Planning Prévisionnel 2019'!$P$7
Name PLAN010311: 'Planning Prévisionnel 2019'!$Q$7
Name PLAN010312: 'Planning Prévisionnel 2019'!$S$7
Name PLAN010313: 'Planning Prévisionnel 2019'!$T$7
Name PLAN010314: 'Planning Prévisionnel 2019'!$V$7
Name PLAN010401: 'Planning Prévisionnel 2019'!$B$8
Name PLAN010402: 'Planning Prévisionnel 2019'!$D$8
Name PLAN010403: 'Planning Prévisionnel 2019'!$E$8
Name PLAN010404: 'Planning Prévisionnel 2019'!$G$8
Name PLAN010405: 'Planning Prévisionnel 2019'!$H$8
Name PLAN010406: 'Planning Prévisionnel 2019'!$J$8
Name PLAN010407: 'Planning Prévisionnel 2019'!$K$8
Name PLAN010408: 'Planning Prévisionnel 2019'!$M$8
Name PLAN010409: 'Planning Prévisionnel 2019'!$N$8
Name PLAN010410: 'Planning Prévisionnel 2019'!$P$8
Name PLAN010411: 'Planning Prévisionnel 2019'!$Q$8
Name PLAN010412: 'Planning Prévisionnel 2019'!$S$8
Name PLAN010413: 'Planning Prévisionnel 2019'!$T$8
Name PLAN010414: 'Planning Prévisionnel 2019'!$V$8
Name PLAN010501: 'Planning Prévisionnel 2019'!$B$9
Name PLAN010502: 'Planning Prévisionnel 2019'!$D$9
Name PLAN010503: 'Planning Prévisionnel 2019'!$E$9

Sheet PRIMES - TR
B2: JANVIER | E2: FÉVRIER | H2: MARS | K2: AVRIL | N2: MAI | Q2: JUIN | T2: JUILLET | W2: AOÛT | Z2: SEPTEMBRE | AC2: OCTOBRE | AF2: NOVEMBRE | AI2: DÉCEMBRE | AM2: TOTAL ANNUEL
B3: PRIMES | C3: TR | D3: CP | E3: PRIMES | F3: TR | G3: CP | H3: PRIMES | I3: TR | J3: CP | K3: PRIMES | L3: TR | M3: CP | N3: PRIMES | O3: TR | P3: CP | Q3: PRIMES | R3: TR | S3: CP | T3: PRIMES | U3: TR | V3: CP | W3: PRIMES | X3: TR | Y3: CP | Z3: PRIMES | AA3: TR | AB3: CP | AC3: PRIMES | AD3: TR | AE3: CP | AF3: PRIMES | AG3: TR | AH3: CP | AI3: PRIMES | AJ3: TR | AK3: CP | AM3: PRIMES | AN3: TR | AO3: CP
A4: =TECH1 -> MANON | B4: =SUM('Planning Prévisionnel 2019'!E37:CS37) -> 516 | C4: =SUM('Planning Prévisionnel 2019'!E47:CS47) -> 14 | D4: =COUNTIF('Planning Prévisionnel 2019'!E5:CS5,"congé") -> 3 | E4: =SUM('Planning Prévisionnel 2019'!CT37:FY37) -> 144 | F4: =SUM('Planning Prévisionnel 2019'!CT47:FY47) -> 18 | G4: =COUNTIF('Planning Prévisionnel 2019'!CT5:FY5,"congé") -> 2 | H4: =SUM('Planning Prévisionnel 2019'!FZ37:JN37) -> 0 | I4: =SUM('Planning Prévisionnel 2019'!FZ47:JN47) -> 20 | J4: =COUNTIF('Planning Prévisionnel 2019'!FZ5:JN5,"congé") -> 0 | K4: =SUM('Planning Prévisionnel 2019'!JO37:MZ37) -> 516 | L4: =SUM('Planning Prévisionnel 2019'!JO47:MZ47) -> 11 | M4: =COUNTIF('Planning Prévisionnel 2019'!JO5:MZ5,"congé") -> 5 | N4: =SUM('Planning Prévisionnel 2019'!NA37:QO37) -> 336 | O4: =SUM('Planning Prévisionnel 2019'!NA47:QO47) -> 19 | P4: =COUNTIF('Planning Prévisionnel 2019'!NA5:QO5,"congé") -> 0 | Q4: =SUM('Planning Prévisionnel 2019'!QP37:UA37) -> 0 | R4: =SUM('Planning Prévisionnel 2019'!QP47:UA47) -> 19 | S4: =COUNTIF('Planning Prévisionnel 2019'!QP5:UA5,"congé") -> 0 | T4: =SUM('Planning Prévisionnel 2019'!UB37:XP37) -> 0 | U4: =SUM('Planning Prévisionnel 2019'!UB47:XP47) -> 23 | V4: =COUNTIF('Planning Prévisionnel 2019'!UB5:XP5,"congé") -> 0 | W4: =SUM('Planning Prévisionnel 2019'!XQ37:ABE37) -> 0 | X4: =SUM('Planning Prévisionnel 2019'!XQ47:ABE47) -> 21 | Y4: =COUNTIF('Planning Prévisionnel 2019'!XQ5:ABE5,"congé") -> 0 | Z4: =SUM('Planning Prévisionnel 2019'!ABF37:AEQ37) -> 0 | AA4: =SUM('Planning Prévisionnel 2019'!ABF47:AEQ47) -> 21 | AB4: =COUNTIF('Planning Prévisionnel 2019'!ABF5:AEQ5,"congé") -> 0 | AC4: =SUM('Planning Prévisionnel 2019'!AER37:AIF37) -> 0 | AD4: =SUM('Planning Prévisionnel 2019'!AER47:AIF47) -> 23 | AE4: =COUNTIF('Planning Prévisionnel 2019'!AER5:AIF5,"congé") -> 0 | AF4: =SUM('Planning Prévisionnel 2019'!AIG37:ALR37) -> 0 | AG4: =SUM('Planning Prévisionnel 2019'!AIG47:ALR47) -> 19 | AH4: =COUNTIF('Planning Prévisionnel 2019'!AIG5:ALR5,"congé") -> 0 | AI4: =SUM('Planning Prévisionnel 2019'!ALS37:APG37) -> 0 | AJ4: =SUM('Planning Prévisionnel 2019'!ALS47:APG47) -> 21 | AK4: =COUNTIF('Planning Prévisionnel 2019'!ALS5:APG5,"congé") -> 0 | AM4: =SUM(B4+E4+H4+K4+N4+Q4+T4+W4+Z4+AC4+AF4+AI4) -> 1512 | AN4: =SUM(C4+F4+I4+L4+O4+R4+U4+X4+AA4+AD4+AG4+AJ4) -> 229 | AO4: =SUM(D4+G4+J4+M4+P4+S4+V4+Y4+AB4+AE4+AH4+AK4) -> 10
A5: =TECH2 -> EMILIE | B5: =SUM('Planning Prévisionnel 2019'!E38:CS38) -> 258 | C5: =SUM('Planning Prévisionnel 2019'!E48:CS48) -> 22 | D5: =COUNTIF('Planning Prévisionnel 2019'!E6:CS6,"congé") -> 0 | E5: =SUM('Planning Prévisionnel 2019'!CT38:FY38) -> 0 | F5: =SUM('Planning Prévisionnel 2019'!CT48:FY48) -> 19 | G5: =COUNTIF('Planning Prévisionnel 2019'!CT6:FY6,"congé") -> 1 | H5: =SUM('Planning Prévisionnel 2019'!FZ38:JN38) -> 0 | I5: =SUM('Planning Prévisionnel 2019'!FZ48:JN48) -> 21 | J5: =COUNTIF('Planning Prévisionnel 2019'!FZ6:JN6,"congé") -> 0 | K5: =SUM('Planning Prévisionnel 2019'!JO38:MZ38) -> 180 | L5: =SUM('Planning Prévisionnel 2019'!JO48:MZ48) -> 20 | M5: =COUNTIF('Planning Prévisionnel 2019'!JO6:MZ6,"congé") -> 0 | N5: =SUM('Planning Prévisionnel 2019'!NA38:QO38) -> 444 | O5: =SUM('Planning Prévisionnel 2019'!NA48:QO48) -> 22 | P5: =COUNTIF('Planning Prévisionnel 2019'!NA6:QO6,"congé") -> 0 | Q5: =SUM('Planning Prévisionnel 2019'!QP38:UA38) -> 0 | R5: =SUM('Planning Prévisionnel 2019'!QP48:UA48) -> 16 | S5: =COUNTIF('Planning Prévisionnel 2019'!QP6:UA6,"congé") -> 3 | T5: =SUM('Planning Prévisionnel 2019'!UB38:XP38) -> 0 | U5: =SUM('Planning Prévisionnel 2019'!UB48:XP48) -> 23 | V5: =COUNTIF('Planning Prévisionnel 2019'!UB6:XP6,"congé") -> 0 | W5: =SUM('Planning Prévisionnel 2019'!XQ38:ABE38) -> 0 | X5: =SUM('Planning Prévisionnel 2019'!XQ48:ABE48) -> 21 | Y5: =COUNTIF('Planning Prévisionnel 2019'!XQ6:ABE6,"congé") -> 0 | Z5: =SUM('Planning Prévisionnel 2019'!ABF28:AEQ28) -> 0 | AA5: =SUM('Planning Prévisionnel 2019'!ABF48:AEQ48) -> 21 | AB5: =COUNTIF('Planning Prévisionnel 2019'!ABF6:AEQ6,"congé") -> 0 | AC5: =SUM('Planning Prévisionnel 2019'!AER38:AIF38) -> 0 | AD5: =SUM('Planning Prévisionnel 2019'!AER48:AIF48) -> 23 | AE5: =COUNTIF('Planning Prévisionnel 2019'!AER6:AIF6,"congé") -> 0 | AF5: =SUM('Planning Prévisionnel 2019'!AIG38:ALR38) -> 0 | AG5: =SUM('Planning Prévisionnel 2019'!AIG48:ALR48) -> 19 | AH5: =COUNTIF('Planning Prévisionnel 2019'!AIG6:ALR6,"congé") -> 0 | AI5: =SUM('Planning Prévisionnel 2019'!ALS38:APG38) -> 0 | AJ5: =SUM('Planning Prévisionnel 2019'!ALS48:APG48) -> 21 | AK5: =COUNTIF('Planning Prévisionnel 2019'!ALS6:APG6,"congé") -> 0 | AM5: =SUM(B5+E5+H5+K5+N5+Q5+T5+W5+Z5+AC5+AF5+AI5) -> 882 | AN5: =SUM(C5+F5+I5+L5+O5+R5+U5+X5+AA5+AD5+AG5+AJ5) -> 248 | AO5: =SUM(D5+G5+J5+M5+P5+S5+V5+Y5+AB5+AE5+AH5+AK5) -> 4
A6: =TECH3 -> THIBAULT | B6: =SUM('Planning Prévisionnel 2019'!E39:CS39) -> 810 | C6: =SUM('Planning Prévisionnel 2019'!E49:CS49) -> 15 | D6: =COUNTIF('Planning Prévisionnel 2019'!E7:CS7,"congé") -> 0 | E6: =SUM('Planning Prévisionnel 2019'!CT39:FY39) -> 108 | F6: =SUM('Planning Prévisionnel 2019'!CT49:FY49) -> 10 | G6: =COUNTIF('Planning Prévisionnel 2019'!CT7:FY7,"congé") -> 4 | H6: =SUM('Planning Prévisionnel 2019'!FZ39:JN39) -> 70 | I6: =SUM('Planning Prévisionnel 2019'!FZ49:JN49) -> 11 | J6: =COUNTIF('Planning Prévisionnel 2019'!FZ7:JN7,"congé") -> 6 | K6: =SUM('Planning Prévisionnel 2019'!JO39:MZ39) -> 480 | L6: =SUM('Planning Prévisionnel 2019'!JO49:MZ49) -> 9 | M6: =COUNTIF('Planning Prévisionnel 2019'!JO7:MZ7,"congé") -> 4 | N6: =SUM('Planning Prévisionnel 2019'!NA39:QO39) -> 369 | O6: =SUM('Planning Prévisionnel 2019'!NA49:QO49) -> 14 | P6: =COUNTIF('Planning Prévisionnel 2019'!NA7:QO7,"congé") -> 3 | Q6: =SUM('Planning Prévisionnel 2019'!QP39:UA39) -> 399 | R6: =SUM('Planning Prévisionnel 2019'!QP49:UA49) -> 16 | S6: =COUNTIF('Planning Prévisionnel 2019'!QP7:UA7,"congé") -> 0 | T6: =SUM('Planning Prévisionnel 2019'!UB39:XP39) -> 591 | U6: =SUM('Planning Prévisionnel 2019'!UB49:XP49) -> 15 | V6: =COUNTIF('Planning Prévisionnel 2019'!UB7:XP7,"congé") -> 0 | W6: =SUM('Planning Prévisionnel 2019'!XQ39:ABE39) -> 660 | X6: =SUM('Planning Prévisionnel 2019'!XQ49:ABE49) -> 13 | Y6: =COUNTIF('Planning Prévisionnel 2019'!XQ7:ABE7,"congé") -> 0 | Z6: =SUM('Planning Prévisionnel 2019'!ABF39:AEQ39) -> 480 | AA6: =SUM('Planning Prévisionnel 2019'!ABF49:AEQ49) -> 17 | AB6: =COUNTIF('Planning Prévisionnel 2019'!ABF7:AEQ7,"congé") -> 0 | AC6: =SUM('Planning Prévisionnel 2019'!AER39:AIF39) -> 324 | AD6: =SUM('Planning Prévisionnel 2019'!AER49:AIF49) -> 18 | AE6: =COUNTIF('Planning Prévisionnel 2019'!AER7:AIF7,"congé") -> 0 | AF6: =SUM('Planning Prévisionnel 2019'!AIG39:ALR39) -> 516 | AG6: =SUM('Planning Prévisionnel 2019'!AIG49:ALR49) -> 12 | AH6: =COUNTIF('Planning Prévisionnel 2019'!AIG7:ALR7,"congé") -> 0 | AI6: =SUM('Planning Prévisionnel 2019'!ALS39:APG39) -> 660 | AJ6: =SUM('Planning Prévisionnel 2019'!ALS49:APG49) -> 16 | AK6: =COUNTIF('Planning Prévisionnel 2019'!ALS7:APG7,"congé") -> 0 | AM6: =SUM(B6+E6+H6+K6+N6+Q6+T6+W6+Z6+AC6+AF6+AI6) -> 5467 | AN6: =SUM(C6+F6+I6+L6+O6+R6+U6+X6+AA6+AD6+AG6+AJ6) -> 166 | AO6: =SUM(D6+G6+J6+M6+P6+S6+V6+Y6+AB6+AE6+AH6+AK6) -> 17
A7: =TECH4 -> DONATIEN | B7: =SUM('Planning Prévisionnel 2019'!E40:CS40) -> 0 | C7: =SUM('Planning Prévisionnel 2019'!E50:CS50) -> 4 | D7: =COUNTIF('Planning Prévisionnel 2019'!E8:CS8,"congé") -> 10 | E7: =SUM('Planning Prévisionnel 2019'!CT40:FY40) -> 480 | F7: =SUM('Planning Prévisionnel 2019'!CT50:FY50) -> 15 | G7: =COUNTIF('Planning Prévisionnel 2019'!CT8:FY8,"congé") -> 0 | H7: =SUM('Planning Prévisionnel 2019'!FZ40:JN40) -> 434 | I7: =SUM('Planning Prévisionnel 2019'!FZ50:JN50) -> 16 | J7: =COUNTIF('Planning Prévisionnel 2019'!FZ8:JN8,"congé") -> 0 | K7: =SUM('Planning Prévisionnel 2019'!JO40:MZ40) -> 411 | L7: =SUM('Planning Prévisionnel 2019'!JO50:MZ50) -> 12 | M7: =COUNTIF('Planning Prévisionnel 2019'!JO8:MZ8,"congé") -> 2 | N7: =SUM('Planning Prévisionnel 2019'!NA40:QO40) -> 516 | O7: =SUM('Planning Prévisionnel 2019'!NA50:QO50) -> 7 | P7: =COUNTIF('Planning Prévisionnel 2019'!NA8:QO8,"congé") -> 7 | Q7: =SUM('Planning Prévisionnel 2019'!QP40:UA40) -> 555 | R7: =SUM('Planning Prévisionnel 2019'!QP50:UA50) -> 17 | S7: =COUNTIF('Planning Prévisionnel 2019'!QP8:UA8,"congé") -> 0 | T7: =SUM('Planning Prévisionnel 2019'!UB40:XP40) -> 288 | U7: =SUM('Planning Prévisionnel 2019'!UB50:XP50) -> 17 | V7: =COUNTIF('Planning Prévisionnel 2019'!UB8:XP8,"congé") -> 0 | W7: =SUM('Planning Prévisionnel 2019'!XQ40:ABE40) -> 552 | X7: =SUM('Planning Prévisionnel 2019'!XQ50:ABE50) -> 13 | Y7: =COUNTIF('Planning Prévisionnel 2019'!XQ8:ABE8,"congé") -> 0 | Z7: =SUM('Planning Prévisionnel 2019'!ABF40:AEQ40) -> 660 | AA7: =SUM('Planning Prévisionnel 2019'!ABF50:AEQ50) -> 16 | AB7: =COUNTIF('Planning Prévisionnel 2019'!ABF8:AEQ8,"congé") -> 0 | AC7: =SUM('Planning Prévisionnel 2019'!AER40:AIF40) -> 144 | AD7: =SUM('Planning Prévisionnel 2019'!AER50:AIF50) -> 14 | AE7: =COUNTIF('Planning Prévisionnel 2019'!AER8:AIF8,"congé") -> 0 | AF7: =SUM('Planning Prévisionnel 2019'!AIG40:ALR40) -> 591 | AG7: =SUM('Planning Prévisionnel 2019'!AIG50:ALR50) -> 17 | AH7: =COUNTIF('Planning Prévisionnel 2019'!AIG8:ALR8,"congé") -> 0 | AI7: =SUM('Planning Prévisionnel 2019'!ALS40:APG40) -> 660 | AJ7: =SUM('Planning Prévisionnel 2019'!ALS50:APG50) -> 13 | AK7: =COUNTIF('Planning Prévisionnel 2019'!ALS8:APG8,"congé") -> 0 | AM7: =SUM(B7+E7+H7+K7+N7+Q7+T7+W7+Z7+AC7+AF7+AI7) -> 5291 | AN7: =SUM(C7+F7+I7+L7+O7+R7+U7+X7+AA7+AD7+AG7+AJ7) -> 161 | AO7: =SUM(D7+G7+J7+M7+P7+S7+V7+Y7+AB7+AE7+AH7+AK7) -> 19
A8: =TECH5 -> JULIE | B8: =SUM('Planning Prévisionnel 2019'!E41:CS41) -> 324 | C8: =SUM('Planning Prévisionnel 2019'!E51:CS51) -> 18 | D8: =COUNTIF('Planning Prévisionnel 2019'!E9:CS9,"congé") -> 0 | E8: =SUM('Planning Prévisionnel 2019'!CT41:FY41) -> 516 | F8: =SUM('Planning Prévisionnel 2019'!CT51:FY51) -> 11 | G8: =COUNTIF('Planning Prévisionnel 2019'!CT9:FY9,"congé") -> 0 | H8: =SUM('Planning Prévisionnel 2019'!FZ41:JN41) -> 660 | I8: =SUM('Planning Prévisionnel 2019'!FZ51:JN51) -> 17 | J8: =COUNTIF('Planning Prévisionnel 2019'!FZ9:JN9,"congé") -> 0 | K8: =SUM('Planning Prévisionnel 2019'!JO41:MZ41) -> 219 | L8: =SUM('Planning Prévisionnel 2019'!JO51:MZ51) -> 9 | M8: =COUNTIF('Planning Prévisionnel 2019'!JO9:MZ9,"congé") -> 5 | N8: =SUM('Planning Prévisionnel 2019'!NA41:QO41) -> 591 | O8: =SUM('Planning Prévisionnel 2019'!NA51:QO51) -> 17 | P8: =COUNTIF('Planning Prévisionnel 2019'!NA9:QO9,"congé") -> 0 | Q8: =SUM('Planning Prévisionnel 2019'!QP41:UA41) -> 660 | R8: =SUM('Planning Prévisionnel 2019'!QP51:UA51) -> 11 | S8: =COUNTIF('Planning Prévisionnel 2019'!QP9:UA9,"congé") -> 0 | T8: =SUM('Planning Prévisionnel 2019'!UB41:XP41) -> 336 | U8: =SUM('Planning Prévisionnel 2019'!UB51:XP51) -> 13 | V8: =COUNTIF('Planning Prévisionnel 2019'!UB9:XP9,"congé") -> 0 | W8: =SUM('Planning Prévisionnel 2019'!XQ41:ABE41) -> 399 | X8: =SUM('Planning Prévisionnel 2019'!XQ51:ABE51) -> 17 | Y8: =COUNTIF('Planning Prévisionnel 2019'!XQ9:ABE9,"congé") -> 0 | Z8: =SUM('Planning Prévisionnel 2019'!ABF41:AEQ41) -> 516 | AA8: =SUM('Planning Prévisionnel 2019'!ABF51:AEQ51) -> 13 | AB8: =COUNTIF('Planning Prévisionnel 2019'!ABF9:AEQ9,"congé") -> 0 | AC8: =SUM('Planning Prévisionnel 2019'!AER41:AIF41) -> 660 | AD8: =SUM('Planning Prévisionnel 2019'!AER51:AIF51) -> 15 | AE8: =COUNTIF('Planning Prévisionnel 2019'!AER9:AIF9,"congé") -> 0 | AF8: =SUM('Planning Prévisionnel 2019'!AIG41:ALR41) -> 365 | AG8: =SUM('Planning Prévisionnel 2019'!AIG51:ALR51) -> 16 | AH8: =COUNTIF('Planning Prévisionnel 2019'!AIG9:ALR9,"congé") -> 0 | AI8: =SUM('Planning Prévisionnel 2019'!ALS41:APG41) -> 592 | AJ8: =SUM('Planning Prévisionnel 2019'!ALS51:APG51) -> 17 | AK8: =COUNTIF('Planning Prévisionnel 2019'!ALS9:APG9,"congé") -> 0 | AM8: =SUM(B8+E8+H8+K8+N8+Q8+T8+W8+Z8+AC8+AF8+AI8) -> 5838 | AN8: =SUM(C8+F8+I8+L8+O8+R8+U8+X8+AA8+AD8+AG8+AJ8) -> 174 | AO8: =SUM(D8+G8+J8+M8+P8+S8+V8+Y8+AB8+AE8+AH8+AK8) -> 5
A9: =TECH6 -> ELIE | B9: =SUM('Planning Prévisionnel 2019'!E42:CS42) -> 516 | C9: =SUM('Planning Prévisionnel 2019'!E52:CS52) -> 12 | D9: =COUNTIF('Planning Prévisionnel 2019'!E10:CS10,"congé") -> 4 | E9: =SUM('Planning Prévisionnel 2019'!CT42:FY42) -> 696 | F9: =SUM('Planning Prévisionnel 2019'!CT52:FY52) -> 12 | G9: =COUNTIF('Planning Prévisionnel 2019'!CT10:FY10,"congé") -> 0 | H9: =SUM('Planning Prévisionnel 2019'!FZ42:JN42) -> 480 | I9: =SUM('Planning Prévisionnel 2019'!FZ52:JN52) -> 7 | J9: =COUNTIF('Planning Prévisionnel 2019'!FZ10:JN10,"congé") -> 10 | K9: =SUM('Planning Prévisionnel 2019'!JO42:MZ42) -> 327 | L9: =SUM('Planning Prévisionnel 2019'!JO52:MZ52) -> 16 | M9: =COUNTIF('Planning Prévisionnel 2019'!JO10:MZ10,"congé") -> 0 | N9: =SUM('Planning Prévisionnel 2019'!NA42:QO42) -> 738 | O9: =SUM('Planning Prévisionnel 2019'!NA52:QO52) -> 9 | P9: =COUNTIF('Planning Prévisionnel 2019'!NA10:QO10,"congé") -> 5 | Q9: =SUM('Planning Prévisionnel 2019'!QP42:UA42) -> 735 | R9: =SUM('Planning Prévisionnel 2019'!QP52:UA52) -> 16 | S9: =COUNTIF('Planning Prévisionnel 2019'!QP10:UA10,"congé") -> 0 | T9: =SUM('Planning Prévisionnel 2019'!UB42:XP42) -> 144 | U9: =SUM('Planning Prévisionnel 2019'!UB52:XP52) -> 14 | V9: =COUNTIF('Planning Prévisionnel 2019'!UB10:XP10,"congé") -> 0 | W9: =SUM('Planning Prévisionnel 2019'!XQ42:ABE42) -> 516 | X9: =SUM('Planning Prévisionnel 2019'!XQ52:ABE52) -> 17 | Y9: =COUNTIF('Planning Prévisionnel 2019'!XQ10:ABE10,"congé") -> 0 | Z9: =SUM('Planning Prévisionnel 2019'!ABF42:AEQ42) -> 660 | AA9: =SUM('Planning Prévisionnel 2019'!ABF52:AEQ52) -> 12 | AB9: =COUNTIF('Planning Prévisionnel 2019'!ABF10:AEQ10,"congé") -> 0 | AC9: =SUM('Planning Prévisionnel 2019'!AER42:AIF42) -> 480 | AD9: =SUM('Planning Prévisionnel 2019'!AER52:AIF52) -> 18 | AE9: =COUNTIF('Planning Prévisionnel 2019'!AER10:AIF10,"congé") -> 0 | AF9: =SUM('Planning Prévisionnel 2019'!AIG42:ALR42) -> 399 | AG9: =SUM('Planning Prévisionnel 2019'!AIG52:ALR52) -> 16 | AH9: =COUNTIF('Planning Prévisionnel 2019'!AIG10:ALR10,"congé") -> 0 | AI9: =SUM('Planning Prévisionnel 2019'!ALS42:APG42) -> 666 | AJ9: =SUM('Planning Prévisionnel 2019'!ALS52:APG52) -> 14 | AK9: =COUNTIF('Planning Prévisionnel 2019'!ALS10:APG10,"congé") -> 0 | AM9: =SUM(B9+E9+H9+K9+N9+Q9+T9+W9+Z9+AC9+AF9+AI9) -> 6357 | AN9: =SUM(C9+F9+I9+L9+O9+R9+U9+X9+AA9+AD9+AG9+AJ9) -> 163 | AO9: =SUM(D9+G9+J9+M9+P9+S9+V9+Y9+AB9+AE9+AH9+AK9) -> 19
A10: =TECH7 -> LUCAS | B10: =SUM('Planning Prévisionnel 2019'!E43:CS43) -> 630 | C10: =SUM('Planning Prévisionnel 2019'!E53:CS53) -> 17 | D10: =COUNTIF('Planning Prévisionnel 2019'!E11:CS11,"congé") -> 0 | E10: =SUM('Planning Prévisionnel 2019'!CT43:FY43) -> 180 | F10: =SUM('Planning Prévisionnel 2019'!CT53:FY53) -> 8 | G10: =COUNTIF('Planning Prévisionnel 2019'!CT11:FY11,"congé") -> 9 | H10: =SUM('Planning Prévisionnel 2019'!FZ43:JN43) -> 516 | I10: =SUM('Planning Prévisionnel 2019'!FZ53:JN53) -> 10 | J10: =COUNTIF('Planning Prévisionnel 2019'!FZ11:JN11,"congé") -> 2 | K10: =SUM('Planning Prévisionnel 2019'!JO43:MZ43) -> 324 | L10: =SUM('Planning Prévisionnel 2019'!JO53:MZ53) -> 6 | M10: =COUNTIF('Planning Prévisionnel 2019'!JO11:MZ11,"congé") -> 10 | N10: =SUM('Planning Prévisionnel 2019'!NA43:QO43) -> 255 | O10: =SUM('Planning Prévisionnel 2019'!NA53:QO53) -> 15 | P10: =COUNTIF('Planning Prévisionnel 2019'!NA11:QO11,"congé") -> 0 | Q10: =SUM('Planning Prévisionnel 2019'!QP43:UA43) -> 480 | R10: =SUM('Planning Prévisionnel 2019'!QP53:UA53) -> 16 | S10: =COUNTIF('Planning Prévisionnel 2019'!QP11:UA11,"congé") -> 0 | T10: =SUM('Planning Prévisionnel 2019'!UB43:XP43) -> 735 | U10: =SUM('Planning Prévisionnel 2019'!UB53:XP53) -> 14 | V10: =COUNTIF('Planning Prévisionnel 2019'!UB11:XP11,"congé") -> 0 | W10: =SUM('Planning Prévisionnel 2019'!XQ43:ABE43) -> 625 | X10: =SUM('Planning Prévisionnel 2019'!XQ53:ABE53) -> 17 | Y10: =COUNTIF('Planning Prévisionnel 2019'!XQ11:ABE11,"congé") -> 0 | Z10: =SUM('Planning Prévisionnel 2019'!ABF43:AEQ43) -> 254 | AA10: =SUM('Planning Prévisionnel 2019'!ABF53:AEQ53) -> 15 | AB10: =COUNTIF('Planning Prévisionnel 2019'!ABF11:AEQ11,"congé") -> 0 | AC10: =SUM('Planning Prévisionnel 2019'!AER43:AIF43) -> 516 | AD10: =SUM('Planning Prévisionnel 2019'!AER53:AIF53) -> 16 | AE10: =COUNTIF('Planning Prévisionnel 2019'!AER11:AIF11,"congé") -> 0 | AF10: =SUM('Planning Prévisionnel 2019'!AIG43:ALR43) -> 735 | AG10: =SUM('Planning Prévisionnel 2019'!AIG53:ALR53) -> 12 | AH10: =COUNTIF('Planning Prévisionnel 2019'!AIG11:ALR11,"congé") -> 0 | AI10: =SUM('Planning Prévisionnel 2019'!ALS43:APG43) -> 480 | AJ10: =SUM('Planning Prévisionnel 2019'!ALS53:APG53) -> 18 | AK10: =COUNTIF('Planning Prévisionnel 2019'!ALS11:APG11,"congé") -> 0 | AM10: =SUM(B10+E10+H10+K10+N10+Q10+T10+W10+Z10+AC10+AF10+AI10) -> 5730 | AN10: =SUM(C10+F10+I10+L10+O10+R10+U10+X10+AA10+AD10+AG10+AJ10) -> 164 | AO10: =SUM(D10+G10+J10+M10+P10+S10+V10+Y10+AB10+AE10+AH10+AK10) -> 21
A11: =TECH8 -> JEREMIE | B11: =SUM('Planning Prévisionnel 2019'!E44:CS44) -> 144 | C11: =SUM('Planning Prévisionnel 2019'!E54:CS54) -> 14 | D11: =COUNTIF('Planning Prévisionnel 2019'!E12:CS12,"congé") -> 0 | E11: =SUM('Planning Prévisionnel 2019'!CT44:FY44) -> 516 | F11: =SUM('Planning Prévisionnel 2019'!CT54:FY54) -> 14 | G11: =COUNTIF('Planning Prévisionnel 2019'!CT12:FY12,"congé") -> 2 | H11: =SUM('Planning Prévisionnel 2019'!FZ44:JN44) -> 696 | I11: =SUM('Planning Prévisionnel 2019'!FZ54:JN54) -> 10 | J11: =COUNTIF('Planning Prévisionnel 2019'!FZ12:JN12,"congé") -> 2 | K11: =SUM('Planning Prévisionnel 2019'!JO44:MZ44) -> 480 | L11: =SUM('Planning Prévisionnel 2019'!JO54:MZ54) -> 17 | M11: =COUNTIF('Planning Prévisionnel 2019'!JO12:MZ12,"congé") -> 1 | N11: =SUM('Planning Prévisionnel 2019'!NA44:QO44) -> 399 | O11: =SUM('Planning Prévisionnel 2019'!NA54:QO54) -> 16 | P11: =COUNTIF('Planning Prévisionnel 2019'!NA12:QO12,"congé") -> 1 | Q11: =SUM('Planning Prévisionnel 2019'!QP44:UA44) -> 516 | R11: =SUM('Planning Prévisionnel 2019'!QP54:UA54) -> 12 | S11: =COUNTIF('Planning Prévisionnel 2019'!QP12:UA12,"congé") -> 0 | T11: =SUM('Planning Prévisionnel 2019'!UB44:XP44) -> 660 | U11: =SUM('Planning Prévisionnel 2019'!UB54:XP54) -> 16 | V11: =COUNTIF('Planning Prévisionnel 2019'!UB12:XP12,"congé") -> 0 | W11: =SUM('Planning Prévisionnel 2019'!XQ44:ABE44) -> 365 | X11: =SUM('Planning Prévisionnel 2019'!XQ54:ABE54) -> 16 | Y11: =COUNTIF('Planning Prévisionnel 2019'!XQ12:ABE12,"congé") -> 0 | Z11: =SUM('Planning Prévisionnel 2019'!ABF44:AEQ44) -> 406 | AA11: =SUM('Planning Prévisionnel 2019'!ABF54:AEQ54) -> 16 | AB11: =COUNTIF('Planning Prévisionnel 2019'!ABF12:AEQ12,"congé") -> 0 | AC11: =SUM('Planning Prévisionnel 2019'!AER44:AIF44) -> 624 | AD11: =SUM('Planning Prévisionnel 2019'!AER54:AIF54) -> 14 | AE11: =COUNTIF('Planning Prévisionnel 2019'!AER12:AIF12,"congé") -> 0 | AF11: =SUM('Planning Prévisionnel 2019'!AIG44:ALR44) -> 700 | AG11: =SUM('Planning Prévisionnel 2019'!AIG54:ALR54) -> 16 | AH11: =COUNTIF('Planning Prévisionnel 2019'!AIG12:ALR12,"congé") -> 0 | AI11: =SUM('Planning Prévisionnel 2019'!ALS44:APG44) -> 404 | AJ11: =SUM('Planning Prévisionnel 2019'!ALS54:APG54) -> 15 | AK11: =COUNTIF('Planning Prévisionnel 2019'!ALS12:APG12,"congé") -> 0 | AM11: =SUM(B11+E11+H11+K11+N11+Q11+T11+W11+Z11+AC11+AF11+AI11) -> 5910 | AN11: =SUM(C11+F11+I11+L11+O11+R11+U11+X11+AA11+AD11+AG11+AJ11) -> 176 | AO11: =SUM(D11+G11+J11+M11+P11+S11+V11+Y11+AB11+AE11+AH11+AK11) -> 6
A12: =TECH9 -> JORDAN | B12: =SUM('Planning Prévisionnel 2019'!E45:CS45) -> 0 | C12: =SUM('Planning Prévisionnel 2019'!E55:CS55) -> 22 | D12: =COUNTIF('Planning Prévisionnel 2019'!E13:CS13,"congé") -> 0 | E12: =SUM('Planning Prévisionnel 2019'!CT45:FY45) -> 0 | F12: =SUM('Planning Prévisionnel 2019'!CT55:FY55) -> 20 | G12: =COUNTIF('Planning Prévisionnel 2019'!CT13:FY13,"congé") -> 0 | H12: =SUM('Planning Prévisionnel 2019'!FZ45:JN45) -> 300 | I12: =SUM('Planning Prévisionnel 2019'!FZ55:JN55) -> 15 | J12: =COUNTIF('Planning Prévisionnel 2019'!FZ13:JN13,"congé") -> 5 | K12: =SUM('Planning Prévisionnel 2019'!JO45:MZ45) -> 0 | L12: =SUM('Planning Prévisionnel 2019'!JO55:MZ55) -> 15 | M12: =COUNTIF('Planning Prévisionnel 2019'!JO13:MZ13,"congé") -> 6 | N12: =SUM('Planning Prévisionnel 2019'!NA45:QO45) -> 0 | O12: =SUM('Planning Prévisionnel 2019'!NA55:QO55) -> 20 | P12: =COUNTIF('Planning Prévisionnel 2019'!NA13:QO13,"congé") -> 0 | Q12: =SUM('Planning Prévisionnel 2019'!QP45:UA45) -> 0 | R12: =SUM('Planning Prévisionnel 2019'!QP55:UA55) -> 19 | S12: =COUNTIF('Planning Prévisionnel 2019'!QP13:UA13,"congé") -> 0 | T12: =SUM('Planning Prévisionnel 2019'!UB45:XP45) -> 0 | U12: =SUM('Planning Prévisionnel 2019'!UB55:XP55) -> 23 | V12: =COUNTIF('Planning Prévisionnel 2019'!UB13:XP13,"congé") -> 0 | W12: =SUM('Planning Prévisionnel 2019'!XQ45:ABE45) -> 0 | X12: =SUM('Planning Prévisionnel 2019'!XQ55:ABE55) -> 21 | Y12: =COUNTIF('Planning Prévisionnel 2019'!XQ13:ABE13,"congé") -> 0 | Z12: =SUM('Planning Prévisionnel 2019'!ABF45:AEQ45) -> 0 | AA12: =SUM('Planning Prévisionnel 2019'!ABF55:AEQ55) -> 21 | AB12: =COUNTIF('Planning Prévisionnel 2019'!ABF13:AEQ13,"congé") -> 0 | AC12: =SUM('Planning Prévisionnel 2019'!AER45:AIF45) -> 0 | AD12: =SUM('Planning Prévisionnel 2019'!AER55:AIF55) -> 23 | AE12: =COUNTIF('Planning Prévisionnel 2019'!AER13:AIF13,"congé") -> 0 | AF12: =SUM('Planning Prévisionnel 2019'!AIG45:ALR45) -> 0 | AG12: =SUM('Planning Prévisionnel 2019'!AIG55:ALR55) -> 19 | AH12: =COUNTIF('Planning Prévisionnel 2019'!AIG13:ALR13,"congé") -> 0 | AI12: =SUM('Planning Prévisionnel 2019'!ALS45:APG45) -> 0 | AJ12: =SUM('Planning Prévisionnel 2019'!ALS55:APG55) -> 21 | AK12: =COUNTIF('Planning Prévisionnel 2019'!ALS13:APG13,"congé") -> 0 | AM12: =SUM(B12+E12+H12+K12+N12+Q12+T12+W12+Z12+AC12+AF12+AI12) -> 300 | AN12: =SUM(C12+F12+I12+L12+O12+R12+U12+X12+AA12+AD12+AG12+AJ12) -> 239 | AO12: =SUM(D12+G12+J12+M12+P12+S12+V12+Y12+AB12+AE12+AH12+AK12) -> 11
A14: TOTAL MENSUEL | B14: =SUM(B4:B12) -> 3198 | C14: =SUM(C4:C12) -> 138 | D14: =SUM(D4:D12) -> 17 | E14: =SUM(E4:E12) -> 2640 | F14: =SUM(F4:F12) -> 127 | G14: =SUM(G4:G12) -> 18 | H14: =SUM(H4:H12) -> 3156 | I14: =SUM(I4:I12) -> 127 | ... AK14: =SUM(AK4:AK12) -> 0 | AM14: =SUM(AM4:AM12) -> 37287 | AN14: =SUM(AN4:AN12) -> 1720 | AO14: =SUM(AO4:AO12) -> 112
B16: JANVIER | E16: FÉVRIER | H16: MARS | K16: AVRIL | N16: MAI | Q16: JUIN | T16: JUILLET | W16: AOÛT | Z16: SEPTEMBRE | AC16: OCTOBRE | AF16: NOVEMBRE | AI16: DÉCEMBRE
A17: =TECH1 -> MANON
A24: =TECH2 -> EMILIE
A31: =TECH3 -> THIBAULT
A38: =TECH4 -> DONATIEN
A45: =TECH5 -> JULIE
A52: =TECH6 -> ELIE
A59: =TECH7 -> LUCAS
A66: =TECH8 -> JEREMIE
A73: =TECH9 -> JORDAN

Sheet Feuil2
D1: Manon | E1: 42005 | F1: 42006 | G1: 42007 | H1: 42008 | I1: 42009 | N1: 43475 | AB1: 43489 | AI1: 43496 | AJ1: 43497 | AN1: 43501 | AS1: 43506 | BK1: 43524 | BL1: 43525 | BM1: 43526 | BN1: 43527
D2: Emilie | G2: 43468 | H2: 43469 | I2: 43470 | J2: 43471 | L2: 43473 | AF2: 43493 | AR2: 43505
D3: Thibault | E3: 43466 | F3: 43467 | K3: 43472 | M3: 43474 | N3: 43475 | AQ3: 43139
D4: Donatien | E4: 42005
D7: Manon | E7: Manon | F7: Manon | H7: Emilie | I7: Emilie | K7: Thibault | L7: Thibault | N7: Donatien | O7: Donatien
E8: 43466 | F8: 43497 | H8: 43466 | I8: 43497 | K8: 43466 | L8: 43497 | N8: 43466 | O8: 43497
E9: {=IF(ISERROR(INDEX(Infirmier,SMALL(IF(MONTH(Infirmier)=MONTH(E$8)*ISNUMBER(Infirmier),COLUMN(Infirmier)-4),ROWS($1:1)))),"",INDEX(Infirmier,SMALL(IF(MONTH(Infirmier)=MONTH(E$8)*ISNUMBER(Infirmier),COLUMN(Infirmier)-4),ROWS($1:1))))} -> 42005 | F9: {=IF(ISERROR(INDEX(Infirmier,SMALL(IF(MONTH(Infirmier)=MONTH(F$8)*ISNUMBER(Infirmier),COLUMN(Infirmier)-4),ROWS($1:1)))),"",INDEX(Infirmier,SMALL(IF(MONTH(Infirmier)=MONTH(F$8)*ISNUMBER(Infirmier),COLUMN(Infirmier)-4),ROWS($1:1))))} -> 43497 | H9: {=IF(ISERROR(INDEX(Infirmier,SMALL(IF(MONTH(Infirmier)=MONTH(H$8)*ISNUMBER(Infirmier),COLUMN(Infirmier)-4),ROWS($1:1)))),"",INDEX(Infirmier,SMALL(IF(MONTH(Infirmier)=MONTH(H$8)*ISNUMBER(Infirmier),COLUMN(Infirmier)-4),ROWS($1:1))))} -> 43468 | I9: {=IF(ISERROR(INDEX(Infirmier,SMALL(IF(MONTH(Infirmier)=MONTH(I$8)*ISNUMBER(Infirmier),COLUMN(Infirmier)-4),ROWS($1:1)))),"",INDEX(Infirmier,SMALL(IF(MONTH(Infirmier)=MONTH(I$8)*ISNUMBER(Infirmier),COLUMN(Infirmier)-4),ROWS($1:1))))} -> 43505 | K9: {=IF(ISERROR(INDEX(Infirmier,SMALL(IF(MONTH(Infirmier)=MONTH(K$8)*ISNUMBER(Infirmier),COLUMN(Infirmier)-4),ROWS($1:1)))),"",INDEX(Infirmier,SMALL(IF(MONTH(Infirmier)=MONTH(K$8)*ISNUMBER(Infirmier),COLUMN(Infirmier)-4),ROWS($1:1))))} -> 43466 | L9: {=IF(ISERROR(INDEX(Infirmier,SMALL(IF(MONTH(Infirmier)=MONTH(L$8)*ISNUMBER(Infirmier),COLUMN(Infirmier)-4),ROWS($1:1)))),"",INDEX(Infirmier,SMALL(IF(MONTH(Infirmier)=MONTH(L$8)*ISNUMBER(Infirmier),COLUMN(Infirmier)-4),ROWS($1:1))))} -> 43139 | N9: =IF(ISERROR(INDEX(Infirmier,SMALL(IF(MONTH(Infirmier)=MONTH(N$8)*ISNUMBER(Infirmier),COLUMN(Infirmier)-4),ROWS($1:1)))),"",INDEX(Infirmier,SMALL(IF(MONTH(Infirmier)=MONTH(N$8)*ISNUMBER(Infirmier),COLUMN(Infirmier)-4),ROWS($1:1)))) | O9: {=IF(ISERROR(INDEX(Infirmier,SMALL(IF(MONTH(Infirmier)=MONTH(O$8)*ISNUMBER(Infirmier),COLUMN(Infirmier)-4),ROWS($1:1)))),"",INDEX(Infirmier,SMALL(IF(MONTH(Infirmier)=MONTH(O$8)*ISNUMBER(Infirmier),COLUMN(Infirmier)-4),ROWS($1:1))))}
A10: =SUM(Infirmier) -> #N/A | E10: {=IF(ISERROR(INDEX(Infirmier,SMALL(IF(MONTH(Infirmier)=MONTH(E$8)*ISNUMBER(Infirmier),COLUMN(Infirmier)-4),ROWS($1:2)))),"",INDEX(Infirmier,SMALL(IF(MONTH(Infirmier)=MONTH(E$8)*ISNUMBER(Infirmier),COLUMN(Infirmier)-4),ROWS($1:2))))} -> 42006 | F10: {=IF(ISERROR(INDEX(Infirmier,SMALL(IF(MONTH(Infirmier)=MONTH(F$8)*ISNUMBER(Infirmier),COLUMN(Infirmier)-4),ROWS($1:2)))),"",INDEX(Infirmier,SMALL(IF(MONTH(Infirmier)=MONTH(F$8)*ISNUMBER(Infirmier),COLUMN(Infirmier)-4),ROWS($1:2))))} -> 43501 | H10: {=IF(ISERROR(INDEX(Infirmier,SMALL(IF(MONTH(Infirmier)=MONTH(H$8)*ISNUMBER(Infirmier),COLUMN(Infirmier)-4),ROWS($1:2)))),"",INDEX(Infirmier,SMALL(IF(MONTH(Infirmier)=MONTH(H$8)*ISNUMBER(Infirmier),COLUMN(Infirmier)-4),ROWS($1:2))))} -> 43469 | I10: {=IF(ISERROR(INDEX(Infirmier,SMALL(IF(MONTH(Infirmier)=MONTH(I$8)*ISNUMBER(Infirmier),COLUMN(Infirmier)-4),ROWS($1:2)))),"",INDEX(Infirmier,SMALL(IF(MONTH(Infirmier)=MONTH(I$8)*ISNUMBER(Infirmier),COLUMN(Infirmier)-4),ROWS($1:2))))} | K10: {=IF(ISERROR(INDEX(Infirmier,SMALL(IF(MONTH(Infirmier)=MONTH(K$8)*ISNUMBER(Infirmier),COLUMN(Infirmier)-4),ROWS($1:2)))),"",INDEX(Infirmier,SMALL(IF(MONTH(Infirmier)=MONTH(K$8)*ISNUMBER(Infirmier),COLUMN(Infirmier)-4),ROWS($1:2))))} -> 43467 | L10: {=IF(ISERROR(INDEX(Infirmier,SMALL(IF(MONTH(Infirmier)=MONTH(L$8)*ISNUMBER(Infirmier),COLUMN(Infirmier)-4),ROWS($1:2)))),"",INDEX(Infirmier,SMALL(IF(MONTH(Infirmier)=MONTH(L$8)*ISNUMBER(Infirmier),COLUMN(Infirmier)-4),ROWS($1:2))))} | N10: {=IF(ISERROR(INDEX(Infirmier,SMALL(IF(MONTH(Infirmier)=MONTH(N$8)*ISNUMBER(Infirmier),COLUMN(Infirmier)-4),ROWS($1:2)))),"",INDEX(Infirmier,SMALL(IF(MONTH(Infirmier)=MONTH(N$8)*ISNUMBER(Infirmier),COLUMN(Infirmier)-4),ROWS($1:2))))} | O10: {=IF(ISERROR(INDEX(Infirmier,SMALL(IF(MONTH(Infirmier)=MONTH(O$8)*ISNUMBER(Infirmier),COLUMN(Infirmier)-4),ROWS($1:2)))),"",INDEX(Infirmier,SMALL(IF(MONTH(Infirmier)=MONTH(O$8)*ISNUMBER(Infirmier),COLUMN(Infirmier)-4),ROWS($1:2))))}
E11: {=IF(ISERROR(INDEX(Infirmier,SMALL(IF(MONTH(Infirmier)=MONTH(E$8)*ISNUMBER(Infirmier),COLUMN(Infirmier)-4),ROWS($1:3)))),"",INDEX(Infirmier,SMALL(IF(MONTH(Infirmier)=MONTH(E$8)*ISNUMBER(Infirmier),COLUMN(Infirmier)-4),ROWS($1:3))))} -> 42007 | F11: {=IF(ISERROR(INDEX(Infirmier,SMALL(IF(MONTH(Infirmier)=MONTH(F$8)*ISNUMBER(Infirmier),COLUMN(Infirmier)-4),ROWS($1:3)))),"",INDEX(Infirmier,SMALL(IF(MONTH(Infirmier)=MONTH(F$8)*ISNUMBER(Infirmier),COLUMN(Infirmier)-4),ROWS($1:3))))} -> 43506 | H11: {=IF(ISERROR(INDEX(Infirmier,SMALL(IF(MONTH(Infirmier)=MONTH(H$8)*ISNUMBER(Infirmier),COLUMN(Infirmier)-4),ROWS($1:3)))),"",INDEX(Infirmier,SMALL(IF(MONTH(Infirmier)=MONTH(H$8)*ISNUMBER(Infirmier),COLUMN(Infirmier)-4),ROWS($1:3))))} -> 43470 | I11: {=IF(ISERROR(INDEX(Infirmier,SMALL(IF(MONTH(Infirmier)=MONTH(I$8)*ISNUMBER(Infirmier),COLUMN(Infirmier)-4),ROWS($1:3)))),"",INDEX(Infirmier,SMALL(IF(MONTH(Infirmier)=MONTH(I$8)*ISNUMBER(Infirmier),COLUMN(Infirmier)-4),ROWS($1:3))))} | K11: {=IF(ISERROR(INDEX(Infirmier,SMALL(IF(MONTH(Infirmier)=MONTH(K$8)*ISNUMBER(Infirmier),COLUMN(Infirmier)-4),ROWS($1:3)))),"",INDEX(Infirmier,SMALL(IF(MONTH(Infirmier)=MONTH(K$8)*ISNUMBER(Infirmier),COLUMN(Infirmier)-4),ROWS($1:3))))} -> 43472 | L11: {=IF(ISERROR(INDEX(Infirmier,SMALL(IF(MONTH(Infirmier)=MONTH(L$8)*ISNUMBER(Infirmier),COLUMN(Infirmier)-4),ROWS($1:3)))),"",INDEX(Infirmier,SMALL(IF(MONTH(Infirmier)=MONTH(L$8)*ISNUMBER(Infirmier),COLUMN(Infirmier)-4),ROWS($1:3))))} | N11: {=IF(ISERROR(INDEX(Infirmier,SMALL(IF(MONTH(Infirmier)=MONTH(N$8)*ISNUMBER(Infirmier),COLUMN(Infirmier)-4),ROWS($1:3)))),"",INDEX(Infirmier,SMALL(IF(MONTH(Infirmier)=MONTH(N$8)*ISNUMBER(Infirmier),COLUMN(Infirmier)-4),ROWS($1:3))))} | O11: {=IF(ISERROR(INDEX(Infirmier,SMALL(IF(MONTH(Infirmier)=MONTH(O$8)*ISNUMBER(Infirmier),COLUMN(Infirmier)-4),ROWS($1:3)))),"",INDEX(Infirmier,SMALL(IF(MONTH(Infirmier)=MONTH(O$8)*ISNUMBER(Infirmier),COLUMN(Infirmier)-4),ROWS($1:3))))}
E12: {=IF(ISERROR(INDEX(Infirmier,SMALL(IF(MONTH(Infirmier)=MONTH(E$8)*ISNUMBER(Infirmier),COLUMN(Infirmier)-4),ROWS($1:4)))),"",INDEX(Infirmier,SMALL(IF(MONTH(Infirmier)=MONTH(E$8)*ISNUMBER(Infirmier),COLUMN(Infirmier)-4),ROWS($1:4))))} -> 42008 | F12: {=IF(ISERROR(INDEX(Infirmier,SMALL(IF(MONTH(Infirmier)=MONTH(F$8)*ISNUMBER(Infirmier),COLUMN(Infirmier)-4),ROWS($1:4)))),"",INDEX(Infirmier,SMALL(IF(MONTH(Infirmier)=MONTH(F$8)*ISNUMBER(Infirmier),COLUMN(Infirmier)-4),ROWS($1:4))))} -> 43524 | H12: {=IF(ISERROR(INDEX(Infirmier,SMALL(IF(MONTH(Infirmier)=MONTH(H$8)*ISNUMBER(Infirmier),COLUMN(Infirmier)-4),ROWS($1:4)))),"",INDEX(Infirmier,SMALL(IF(MONTH(Infirmier)=MONTH(H$8)*ISNUMBER(Infirmier),COLUMN(Infirmier)-4),ROWS($1:4))))} -> 43471 | I12: {=IF(ISERROR(INDEX(Infirmier,SMALL(IF(MONTH(Infirmier)=MONTH(I$8)*ISNUMBER(Infirmier),COLUMN(Infirmier)-4),ROWS($1:4)))),"",INDEX(Infirmier,SMALL(IF(MONTH(Infirmier)=MONTH(I$8)*ISNUMBER(Infirmier),COLUMN(Infirmier)-4),ROWS($1:4))))} | K12: {=IF(ISERROR(INDEX(Infirmier,SMALL(IF(MONTH(Infirmier)=MONTH(K$8)*ISNUMBER(Infirmier),COLUMN(Infirmier)-4),ROWS($1:4)))),"",INDEX(Infirmier,SMALL(IF(MONTH(Infirmier)=MONTH(K$8)*ISNUMBER(Infirmier),COLUMN(Infirmier)-4),ROWS($1:4))))} -> 43474 | L12: {=IF(ISERROR(INDEX(Infirmier,SMALL(IF(MONTH(Infirmier)=MONTH(L$8)*ISNUMBER(Infirmier),COLUMN(Infirmier)-4),ROWS($1:4)))),"",INDEX(Infirmier,SMALL(IF(MONTH(Infirmier)=MONTH(L$8)*ISNUMBER(Infirmier),COLUMN(Infirmier)-4),ROWS($1:4))))} | N12: {=IF(ISERROR(INDEX(Infirmier,SMALL(IF(MONTH(Infirmier)=MONTH(N$8)*ISNUMBER(Infirmier),COLUMN(Infirmier)-4),ROWS($1:4)))),"",INDEX(Infirmier,SMALL(IF(MONTH(Infirmier)=MONTH(N$8)*ISNUMBER(Infirmier),COLUMN(Infirmier)-4),ROWS($1:4))))} | O12: {=IF(ISERROR(INDEX(Infirmier,SMALL(IF(MONTH(Infirmier)=MONTH(O$8)*ISNUMBER(Infirmier),COLUMN(Infirmier)-4),ROWS($1:4)))),"",INDEX(Infirmier,SMALL(IF(MONTH(Infirmier)=MONTH(O$8)*ISNUMBER(Infirmier),COLUMN(Infirmier)-4),ROWS($1:4))))}
E13: {=IF(ISERROR(INDEX(Infirmier,SMALL(IF(MONTH(Infirmier)=MONTH(E$8)*ISNUMBER(Infirmier),COLUMN(Infirmier)-4),ROWS($1:5)))),"",INDEX(Infirmier,SMALL(IF(MONTH(Infirmier)=MONTH(E$8)*ISNUMBER(Infirmier),COLUMN(Infirmier)-4),ROWS($1:5))))} -> 42009 | F13: {=IF(ISERROR(INDEX(Infirmier,SMALL(IF(MONTH(Infirmier)=MONTH(F$8)*ISNUMBER(Infirmier),COLUMN(Infirmier)-4),ROWS($1:5)))),"",INDEX(Infirmier,SMALL(IF(MONTH(Infirmier)=MONTH(F$8)*ISNUMBER(Infirmier),COLUMN(Infirmier)-4),ROWS($1:5))))} | H13: {=IF(ISERROR(INDEX(Infirmier,SMALL(IF(MONTH(Infirmier)=MONTH(H$8)*ISNUMBER(Infirmier),COLUMN(Infirmier)-4),ROWS($1:5)))),"",INDEX(Infirmier,SMALL(IF(MONTH(Infirmier)=MONTH(H$8)*ISNUMBER(Infirmier),COLUMN(Infirmier)-4),ROWS($1:5))))} -> 43473 | I13: {=IF(ISERROR(INDEX(Infirmier,SMALL(IF(MONTH(Infirmier)=MONTH(I$8)*ISNUMBER(Infirmier),COLUMN(Infirmier)-4),ROWS($1:5)))),"",INDEX(Infirmier,SMALL(IF(MONTH(Infirmier)=MONTH(I$8)*ISNUMBER(Infirmier),COLUMN(Infirmier)-4),ROWS($1:5))))} | K13: {=IF(ISERROR(INDEX(Infirmier,SMALL(IF(MONTH(Infirmier)=MONTH(K$8)*ISNUMBER(Infirmier),COLUMN(Infirmier)-4),ROWS($1:5)))),"",INDEX(Infirmier,SMALL(IF(MONTH(Infirmier)=MONTH(K$8)*ISNUMBER(Infirmier),COLUMN(Infirmier)-4),ROWS($1:5))))} -> 43475 | L13: {=IF(ISERROR(INDEX(Infirmier,SMALL(IF(MONTH(Infirmier)=MONTH(L$8)*ISNUMBER(Infirmier),COLUMN(Infirmier)-4),ROWS($1:5)))),"",INDEX(Infirmier,SMALL(IF(MONTH(Infirmier)=MONTH(L$8)*ISNUMBER(Infirmier),COLUMN(Infirmier)-4),ROWS($1:5))))} | N13: {=IF(ISERROR(INDEX(Infirmier,SMALL(IF(MONTH(Infirmier)=MONTH(N$8)*ISNUMBER(Infirmier),COLUMN(Infirmier)-4),ROWS($1:5)))),"",INDEX(Infirmier,SMALL(IF(MONTH(Infirmier)=MONTH(N$8)*ISNUMBER(Infirmier),COLUMN(Infirmier)-4),ROWS($1:5))))} | O13: {=IF(ISERROR(INDEX(Infirmier,SMALL(IF(MONTH(Infirmier)=MONTH(O$8)*ISNUMBER(Infirmier),COLUMN(Infirmier)-4),ROWS($1:5)))),"",INDEX(Infirmier,SMALL(IF(MONTH(Infirmier)=MONTH(O$8)*ISNUMBER(Infirmier),COLUMN(Infirmier)-4),ROWS($1:5))))}
A14: =OFFSET($E$1,MATCH(E$7,$D$1:$D$6,0)-1,0,1,MATCH(9^9^9,$1:$1,1)-4) -> #VALUE! | E14: {=IF(ISERROR(INDEX(Infirmier,SMALL(IF(MONTH(Infirmier)=MONTH(E$8)*ISNUMBER(Infirmier),COLUMN(Infirmier)-4),ROWS($1:6)))),"",INDEX(Infirmier,SMALL(IF(MONTH(Infirmier)=MONTH(E$8)*ISNUMBER(Infirmier),COLUMN(Infirmier)-4),ROWS($1:6))))} -> 43475 | F14: {=IF(ISERROR(INDEX(Infirmier,SMALL(IF(MONTH(Infirmier)=MONTH(F$8)*ISNUMBER(Infirmier),COLUMN(Infirmier)-4),ROWS($1:6)))),"",INDEX(Infirmier,SMALL(IF(MONTH(Infirmier)=MONTH(F$8)*ISNUMBER(Infirmier),COLUMN(Infirmier)-4),ROWS($1:6))))} | H14: {=IF(ISERROR(INDEX(Infirmier,SMALL(IF(MONTH(Infirmier)=MONTH(H$8)*ISNUMBER(Infirmier),COLUMN(Infirmier)-4),ROWS($1:6)))),"",INDEX(Infirmier,SMALL(IF(MONTH(Infirmier)=MONTH(H$8)*ISNUMBER(Infirmier),COLUMN(Infirmier)-4),ROWS($1:6))))} -> 43493 | I14: {=IF(ISERROR(INDEX(Infirmier,SMALL(IF(MONTH(Infirmier)=MONTH(I$8)*ISNUMBER(Infirmier),COLUMN(Infirmier)-4),ROWS($1:6)))),"",INDEX(Infirmier,SMALL(IF(MONTH(Infirmier)=MONTH(I$8)*ISNUMBER(Infirmier),COLUMN(Infirmier)-4),ROWS($1:6))))} | K14: {=IF(ISERROR(INDEX(Infirmier,SMALL(IF(MONTH(Infirmier)=MONTH(K$8)*ISNUMBER(Infirmier),COLUMN(Infirmier)-4),ROWS($1:6)))),"",INDEX(Infirmier,SMALL(IF(MONTH(Infirmier)=MONTH(K$8)*ISNUMBER(Infirmier),COLUMN(Infirmier)-4),ROWS($1:6))))} | L14: {=IF(ISERROR(INDEX(Infirmier,SMALL(IF(MONTH(Infirmier)=MONTH(L$8)*ISNUMBER(Infirmier),COLUMN(Infirmier)-4),ROWS($1:6)))),"",INDEX(Infirmier,SMALL(IF(MONTH(Infirmier)=MONTH(L$8)*ISNUMBER(Infirmier),COLUMN(Infirmier)-4),ROWS($1:6))))} | N14: {=IF(ISERROR(INDEX(Infirmier,SMALL(IF(MONTH(Infirmier)=MONTH(N$8)*ISNUMBER(Infirmier),COLUMN(Infirmier)-4),ROWS($1:6)))),"",INDEX(Infirmier,SMALL(IF(MONTH(Infirmier)=MONTH(N$8)*ISNUMBER(Infirmier),COLUMN(Infirmier)-4),ROWS($1:6))))} | O14: {=IF(ISERROR(INDEX(Infirmier,SMALL(IF(MONTH(Infirmier)=MONTH(O$8)*ISNUMBER(Infirmier),COLUMN(Infirmier)-4),ROWS($1:6)))),"",INDEX(Infirmier,SMALL(IF(MONTH(Infirmier)=MONTH(O$8)*ISNUMBER(Infirmier),COLUMN(Infirmier)-4),ROWS($1:6))))}
E15: {=IF(ISERROR(INDEX(Infirmier,SMALL(IF(MONTH(Infirmier)=MONTH(E$8)*ISNUMBER(Infirmier),COLUMN(Infirmier)-4),ROWS($1:7)))),"",INDEX(Infirmier,SMALL(IF(MONTH(Infirmier)=MONTH(E$8)*ISNUMBER(Infirmier),COLUMN(Infirmier)-4),ROWS($1:7))))} -> 43489 | F15: {=IF(ISERROR(INDEX(Infirmier,SMALL(IF(MONTH(Infirmier)=MONTH(F$8)*ISNUMBER(Infirmier),COLUMN(Infirmier)-4),ROWS($1:7)))),"",INDEX(Infirmier,SMALL(IF(MONTH(Infirmier)=MONTH(F$8)*ISNUMBER(Infirmier),COLUMN(Infirmier)-4),ROWS($1:7))))} | H15: {=IF(ISERROR(INDEX(Infirmier,SMALL(IF(MONTH(Infirmier)=MONTH(H$8)*ISNUMBER(Infirmier),COLUMN(Infirmier)-4),ROWS($1:7)))),"",INDEX(Infirmier,SMALL(IF(MONTH(Infirmier)=MONTH(H$8)*ISNUMBER(Infirmier),COLUMN(Infirmier)-4),ROWS($1:7))))} | I15: {=IF(ISERROR(INDEX(Infirmier,SMALL(IF(MONTH(Infirmier)=MONTH(I$8)*ISNUMBER(Infirmier),COLUMN(Infirmier)-4),ROWS($1:7)))),"",INDEX(Infirmier,SMALL(IF(MONTH(Infirmier)=MONTH(I$8)*ISNUMBER(Infirmier),COLUMN(Infirmier)-4),ROWS($1:7))))} | K15: {=IF(ISERROR(INDEX(Infirmier,SMALL(IF(MONTH(Infirmier)=MONTH(K$8)*ISNUMBER(Infirmier),COLUMN(Infirmier)-4),ROWS($1:7)))),"",INDEX(Infirmier,SMALL(IF(MONTH(Infirmier)=MONTH(K$8)*ISNUMBER(Infirmier),COLUMN(Infirmier)-4),ROWS($1:7))))} | L15: {=IF(ISERROR(INDEX(Infirmier,SMALL(IF(MONTH(Infirmier)=MONTH(L$8)*ISNUMBER(Infirmier),COLUMN(Infirmier)-4),ROWS($1:7)))),"",INDEX(Infirmier,SMALL(IF(MONTH(Infirmier)=MONTH(L$8)*ISNUMBER(Infirmier),COLUMN(Infirmier)-4),ROWS($1:7))))} | N15: {=IF(ISERROR(INDEX(Infirmier,SMALL(IF(MONTH(Infirmier)=MONTH(N$8)*ISNUMBER(Infirmier),COLUMN(Infirmier)-4),ROWS($1:7)))),"",INDEX(Infirmier,SMALL(IF(MONTH(Infirmier)=MONTH(N$8)*ISNUMBER(Infirmier),COLUMN(Infirmier)-4),ROWS($1:7))))} | O15: {=IF(ISERROR(INDEX(Infirmier,SMALL(IF(MONTH(Infirmier)=MONTH(O$8)*ISNUMBER(Infirmier),COLUMN(Infirmier)-4),ROWS($1:7)))),"",INDEX(Infirmier,SMALL(IF(MONTH(Infirmier)=MONTH(O$8)*ISNUMBER(Infirmier),COLUMN(Infirmier)-4),ROWS($1:7))))}
E16: {=IF(ISERROR(INDEX(Infirmier,SMALL(IF(MONTH(Infirmier)=MONTH(E$8)*ISNUMBER(Infirmier),COLUMN(Infirmier)-4),ROWS($1:8)))),"",INDEX(Infirmier,SMALL(IF(MONTH(Infirmier)=MONTH(E$8)*ISNUMBER(Infirmier),COLUMN(Infirmier)-4),ROWS($1:8))))} -> 43496 | F16: {=IF(ISERROR(INDEX(Infirmier,SMALL(IF(MONTH(Infirmier)=MONTH(F$8)*ISNUMBER(Infirmier),COLUMN(Infirmier)-4),ROWS($1:8)))),"",INDEX(Infirmier,SMALL(IF(MONTH(Infirmier)=MONTH(F$8)*ISNUMBER(Infirmier),COLUMN(Infirmier)-4),ROWS($1:8))))} | H16: {=IF(ISERROR(INDEX(Infirmier,SMALL(IF(MONTH(Infirmier)=MONTH(H$8)*ISNUMBER(Infirmier),COLUMN(Infirmier)-4),ROWS($1:8)))),"",INDEX(Infirmier,SMALL(IF(MONTH(Infirmier)=MONTH(H$8)*ISNUMBER(Infirmier),COLUMN(Infirmier)-4),ROWS($1:8))))} | I16: {=IF(ISERROR(INDEX(Infirmier,SMALL(IF(MONTH(Infirmier)=MONTH(I$8)*ISNUMBER(Infirmier),COLUMN(Infirmier)-4),ROWS($1:8)))),"",INDEX(Infirmier,SMALL(IF(MONTH(Infirmier)=MONTH(I$8)*ISNUMBER(Infirmier),COLUMN(Infirmier)-4),ROWS($1:8))))} | K16: {=IF(ISERROR(INDEX(Infirmier,SMALL(IF(MONTH(Infirmier)=MONTH(K$8)*ISNUMBER(Infirmier),COLUMN(Infirmier)-4),ROWS($1:8)))),"",INDEX(Infirmier,SMALL(IF(MONTH(Infirmier)=MONTH(K$8)*ISNUMBER(Infirmier),COLUMN(Infirmier)-4),ROWS($1:8))))} | L16: {=IF(ISERROR(INDEX(Infirmier,SMALL(IF(MONTH(Infirmier)=MONTH(L$8)*ISNUMBER(Infirmier),COLUMN(Infirmier)-4),ROWS($1:8)))),"",INDEX(Infirmier,SMALL(IF(MONTH(Infirmier)=MONTH(L$8)*ISNUMBER(Infirmier),COLUMN(Infirmier)-4),ROWS($1:8))))} | N16: {=IF(ISERROR(INDEX(Infirmier,SMALL(IF(MONTH(Infirmier)=MONTH(N$8)*ISNUMBER(Infirmier),COLUMN(Infirmier)-4),ROWS($1:8)))),"",INDEX(Infirmier,SMALL(IF(MONTH(Infirmier)=MONTH(N$8)*ISNUMBER(Infirmier),COLUMN(Infirmier)-4),ROWS($1:8))))} | O16: {=IF(ISERROR(INDEX(Infirmier,SMALL(IF(MONTH(Infirmier)=MONTH(O$8)*ISNUMBER(Infirmier),COLUMN(Infirmier)-4),ROWS($1:8)))),"",INDEX(Infirmier,SMALL(IF(MONTH(Infirmier)=MONTH(O$8)*ISNUMBER(Infirmier),COLUMN(Infirmier)-4),ROWS($1:8))))}
E17: {=IF(ISERROR(INDEX(Infirmier,SMALL(IF(MONTH(Infirmier)=MONTH(E$8)*ISNUMBER(Infirmier),COLUMN(Infirmier)-4),ROWS($1:11)))),"",INDEX(Infirmier,SMALL(IF(MONTH(Infirmier)=MONTH(E$8)*ISNUMBER(Infirmier),COLUMN(Infirmier)-4),ROWS($1:11))))} | F17: {=IF(ISERROR(INDEX(Infirmier,SMALL(IF(MONTH(Infirmier)=MONTH(F$8)*ISNUMBER(Infirmier),COLUMN(Infirmier)-4),ROWS($1:11)))),"",INDEX(Infirmier,SMALL(IF(MONTH(Infirmier)=MONTH(F$8)*ISNUMBER(Infirmier),COLUMN(Infirmier)-4),ROWS($1:11))))} | H17: {=IF(ISERROR(INDEX($E$2:$AS$2,SMALL(IF(MONTH($E$2:$AS$2)=MONTH(H$8)*ISNUMBER($E$2:$AS$2),COLUMN($E$2:$AS$2)-4),ROWS($1:11)))),"",INDEX($E$2:$AS$2,SMALL(IF(MONTH($E$2:$AS$2)=MONTH(H$8)*ISNUMBER($E$2:$AS$2),COLUMN($E$2:$AS$2)-4),ROWS($1:11))))} | I17: {=IF(ISERROR(INDEX($E$2:$AS$2,SMALL(IF(MONTH($E$2:$AS$2)=MONTH(I$8)*ISNUMBER($E$2:$AS$2),COLUMN($E$2:$AS$2)-4),ROWS($1:11)))),"",INDEX($E$2:$AS$2,SMALL(IF(MONTH($E$2:$AS$2)=MONTH(I$8)*ISNUMBER($E$2:$AS$2),COLUMN($E$2:$AS$2)-4),ROWS($1:11))))} | K17: {=IF(ISERROR(INDEX($E$3:$AS$3,SMALL(IF(MONTH($E$3:$AS$3)=MONTH(K$8)*ISNUMBER($E$3:$AS$3),COLUMN($E$3:$AS$3)-4),ROWS($1:11)))),"",INDEX($E$3:$AS$3,SMALL(IF(MONTH($E$3:$AS$3)=MONTH(K$8)*ISNUMBER($E$3:$AS$3),COLUMN($E$1:$AS$3)-4),ROWS($1:11))))} | L17: {=IF(ISERROR(INDEX($E$3:$AS$3,SMALL(IF(MONTH($E$3:$AS$3)=MONTH(L$8)*ISNUMBER($E$3:$AS$3),COLUMN($E$3:$AS$3)-4),ROWS($1:11)))),"",INDEX($E$3:$AS$3,SMALL(IF(MONTH($E$3:$AS$3)=MONTH(L$8)*ISNUMBER($E$3:$AS$3),COLUMN($E$1:$AS$3)-4),ROWS($1:11))))}
E18: {=IF(ISERROR(INDEX(Infirmier,SMALL(IF(MONTH(Infirmier)=MONTH(E$8)*ISNUMBER(Infirmier),COLUMN(Infirmier)-4),ROWS($1:12)))),"",INDEX(Infirmier,SMALL(IF(MONTH(Infirmier)=MONTH(E$8)*ISNUMBER(Infirmier),COLUMN(Infirmier)-4),ROWS($1:12))))} | F18: {=IF(ISERROR(INDEX(Infirmier,SMALL(IF(MONTH(Infirmier)=MONTH(F$8)*ISNUMBER(Infirmier),COLUMN(Infirmier)-4),ROWS($1:12)))),"",INDEX(Infirmier,SMALL(IF(MONTH(Infirmier)=MONTH(F$8)*ISNUMBER(Infirmier),COLUMN(Infirmier)-4),ROWS($1:12))))} | H18: {=IF(ISERROR(INDEX($E$2:$AS$2,SMALL(IF(MONTH($E$2:$AS$2)=MONTH(H$8)*ISNUMBER($E$2:$AS$2),COLUMN($E$2:$AS$2)-4),ROWS($1:12)))),"",INDEX($E$2:$AS$2,SMALL(IF(MONTH($E$2:$AS$2)=MONTH(H$8)*ISNUMBER($E$2:$AS$2),COLUMN($E$2:$AS$2)-4),ROWS($1:12))))} | I18: {=IF(ISERROR(INDEX($E$2:$AS$2,SMALL(IF(MONTH($E$2:$AS$2)=MONTH(I$8)*ISNUMBER($E$2:$AS$2),COLUMN($E$2:$AS$2)-4),ROWS($1:12)))),"",INDEX($E$2:$AS$2,SMALL(IF(MONTH($E$2:$AS$2)=MONTH(I$8)*ISNUMBER($E$2:$AS$2),COLUMN($E$2:$AS$2)-4),ROWS($1:12))))} | K18: {=IF(ISERROR(INDEX($E$3:$AS$3,SMALL(IF(MONTH($E$3:$AS$3)=MONTH(K$8)*ISNUMBER($E$3:$AS$3),COLUMN($E$3:$AS$3)-4),ROWS($1:12)))),"",INDEX($E$3:$AS$3,SMALL(IF(MONTH($E$3:$AS$3)=MONTH(K$8)*ISNUMBER($E$3:$AS$3),COLUMN($E$1:$AS$3)-4),ROWS($1:12))))} | L18: {=IF(ISERROR(INDEX($E$3:$AS$3,SMALL(IF(MONTH($E$3:$AS$3)=MONTH(L$8)*ISNUMBER($E$3:$AS$3),COLUMN($E$3:$AS$3)-4),ROWS($1:12)))),"",INDEX($E$3:$AS$3,SMALL(IF(MONTH($E$3:$AS$3)=MONTH(L$8)*ISNUMBER($E$3:$AS$3),COLUMN($E$1:$AS$3)-4),ROWS($1:12))))}
E19: {=IF(ISERROR(INDEX(Infirmier,SMALL(IF(MONTH(Infirmier)=MONTH(E$8)*ISNUMBER(Infirmier),COLUMN(Infirmier)-4),ROWS($1:13)))),"",INDEX(Infirmier,SMALL(IF(MONTH(Infirmier)=MONTH(E$8)*ISNUMBER(Infirmier),COLUMN(Infirmier)-4),ROWS($1:13))))} | F19: {=IF(ISERROR(INDEX(Infirmier,SMALL(IF(MONTH(Infirmier)=MONTH(F$8)*ISNUMBER(Infirmier),COLUMN(Infirmier)-4),ROWS($1:13)))),"",INDEX(Infirmier,SMALL(IF(MONTH(Infirmier)=MONTH(F$8)*ISNUMBER(Infirmier),COLUMN(Infirmier)-4),ROWS($1:13))))} | H19: {=IF(ISERROR(INDEX($E$2:$AS$2,SMALL(IF(MONTH($E$2:$AS$2)=MONTH(H$8)*ISNUMBER($E$2:$AS$2),COLUMN($E$2:$AS$2)-4),ROWS($1:13)))),"",INDEX($E$2:$AS$2,SMALL(IF(MONTH($E$2:$AS$2)=MONTH(H$8)*ISNUMBER($E$2:$AS$2),COLUMN($E$2:$AS$2)-4),ROWS($1:13))))} | I19: {=IF(ISERROR(INDEX($E$2:$AS$2,SMALL(IF(MONTH($E$2:$AS$2)=MONTH(I$8)*ISNUMBER($E$2:$AS$2),COLUMN($E$2:$AS$2)-4),ROWS($1:13)))),"",INDEX($E$2:$AS$2,SMALL(IF(MONTH($E$2:$AS$2)=MONTH(I$8)*ISNUMBER($E$2:$AS$2),COLUMN($E$2:$AS$2)-4),ROWS($1:13))))} | K19: {=IF(ISERROR(INDEX($E$3:$AS$3,SMALL(IF(MONTH($E$3:$AS$3)=MONTH(K$8)*ISNUMBER($E$3:$AS$3),COLUMN($E$3:$AS$3)-4),ROWS($1:13)))),"",INDEX($E$3:$AS$3,SMALL(IF(MONTH($E$3:$AS$3)=MONTH(K$8)*ISNUMBER($E$3:$AS$3),COLUMN($E$1:$AS$3)-4),ROWS($1:13))))} | L19: {=IF(ISERROR(INDEX($E$3:$AS$3,SMALL(IF(MONTH($E$3:$AS$3)=MONTH(L$8)*ISNUMBER($E$3:$AS$3),COLUMN($E$3:$AS$3)-4),ROWS($1:13)))),"",INDEX($E$3:$AS$3,SMALL(IF(MONTH($E$3:$AS$3)=MONTH(L$8)*ISNUMBER($E$3:$AS$3),COLUMN($E$1:$AS$3)-4),ROWS($1:13))))}
E20: {=IF(ISERROR(INDEX($E$1:$AS$1,SMALL(IF(MONTH($E$1:$AS$1)=MONTH(E$8)*ISNUMBER($E$1:$AS$1),COLUMN($E$1:$AS$1)-4),ROWS($1:14)))),"",INDEX($E$1:$AS$1,SMALL(IF(MONTH($E$1:$AS$1)=MONTH(E$8)*ISNUMBER($E$1:$AS$1),COLUMN($E$1:$AS$1)-4),ROWS($1:14))))} | F20: {=IF(ISERROR(INDEX($E$1:$AS$1,SMALL(IF(MONTH($E$1:$AS$1)=MONTH(F$8)*ISNUMBER($E$1:$AS$1),COLUMN($E$1:$AS$1)-4),ROWS($1:14)))),"",INDEX($E$1:$AS$1,SMALL(IF(MONTH($E$1:$AS$1)=MONTH(F$8)*ISNUMBER($E$1:$AS$1),COLUMN($E$1:$AS$1)-4),ROWS($1:14))))} | H20: {=IF(ISERROR(INDEX($E$2:$AS$2,SMALL(IF(MONTH($E$2:$AS$2)=MONTH(H$8)*ISNUMBER($E$2:$AS$2),COLUMN($E$2:$AS$2)-4),ROWS($1:14)))),"",INDEX($E$2:$AS$2,SMALL(IF(MONTH($E$2:$AS$2)=MONTH(H$8)*ISNUMBER($E$2:$AS$2),COLUMN($E$2:$AS$2)-4),ROWS($1:14))))} | I20: {=IF(ISERROR(INDEX($E$2:$AS$2,SMALL(IF(MONTH($E$2:$AS$2)=MONTH(I$8)*ISNUMBER($E$2:$AS$2),COLUMN($E$2:$AS$2)-4),ROWS($1:14)))),"",INDEX($E$2:$AS$2,SMALL(IF(MONTH($E$2:$AS$2)=MONTH(I$8)*ISNUMBER($E$2:$AS$2),COLUMN($E$2:$AS$2)-4),ROWS($1:14))))} | K20: {=IF(ISERROR(INDEX($E$3:$AS$3,SMALL(IF(MONTH($E$3:$AS$3)=MONTH(K$8)*ISNUMBER($E$3:$AS$3),COLUMN($E$3:$AS$3)-4),ROWS($1:14)))),"",INDEX($E$3:$AS$3,SMALL(IF(MONTH($E$3:$AS$3)=MONTH(K$8)*ISNUMBER($E$3:$AS$3),COLUMN($E$1:$AS$3)-4),ROWS($1:14))))} | L20: {=IF(ISERROR(INDEX($AJ$1:$BK$1,SMALL(IF(ISNUMBER($AJ$1:$BK$1),COLUMN($AJ$1:$BK$1)-5),ROWS($1:14)))),"",INDEX($AJ$1:$BK$1,SMALL(IF(ISNUMBER($AJ$1:$BK$1),COLUMN($AJ$1:$BK$1)-5),ROWS($1:14))))}
E21: {=IF(ISERROR(INDEX($E$1:$AS$1,SMALL(IF(MONTH($E$1:$AS$1)=MONTH(E$8)*ISNUMBER($E$1:$AS$1),COLUMN($E$1:$AS$1)-4),ROWS($1:15)))),"",INDEX($E$1:$AS$1,SMALL(IF(MONTH($E$1:$AS$1)=MONTH(E$8)*ISNUMBER($E$1:$AS$1),COLUMN($E$1:$AS$1)-4),ROWS($1:15))))} | F21: {=IF(ISERROR(INDEX($E$1:$AS$1,SMALL(IF(MONTH($E$1:$AS$1)=MONTH(F$8)*ISNUMBER($E$1:$AS$1),COLUMN($E$1:$AS$1)-4),ROWS($1:15)))),"",INDEX($E$1:$AS$1,SMALL(IF(MONTH($E$1:$AS$1)=MONTH(F$8)*ISNUMBER($E$1:$AS$1),COLUMN($E$1:$AS$1)-4),ROWS($1:15))))} | H21: {=IF(ISERROR(INDEX($E$2:$AS$2,SMALL(IF(ISNUMBER($E$2:$AS$2),COLUMN($E$2:$AS$2)-4),ROWS($1:15)))),"",INDEX($E$2:$AS$2,SMALL(IF(ISNUMBER($E$2:$AS$2),COLUMN($E$2:$AS$2)-4),ROWS($1:15))))} | I21: {=IF(ISERROR(INDEX($AJ$1:$BK$1,SMALL(IF(ISNUMBER($AJ$1:$BK$1),COLUMN($AJ$1:$BK$1)-5),ROWS($1:15)))),"",INDEX($AJ$1:$BK$1,SMALL(IF(ISNUMBER($AJ$1:$BK$1),COLUMN($AJ$1:$BK$1)-5),ROWS($1:15))))} | K21: {=IF(ISERROR(INDEX($E$3:$AS$3,SMALL(IF(MONTH($E$3:$AS$3)=MONTH(K$8)*ISNUMBER($E$3:$AS$3),COLUMN($E$3:$AS$3)-4),ROWS($1:15)))),"",INDEX($E$3:$AS$3,SMALL(IF(MONTH($E$3:$AS$3)=MONTH(K$8)*ISNUMBER($E$3:$AS$3),COLUMN($E$1:$AS$3)-4),ROWS($1:15))))}
E22: {=IF(ISERROR(INDEX($E$1:$AS$1,SMALL(IF(MONTH($E$1:$AS$1)=MONTH(E$8)*ISNUMBER($E$1:$AS$1),COLUMN($E$1:$AS$1)-4),ROWS($1:16)))),"",INDEX($E$1:$AS$1,SMALL(IF(MONTH($E$1:$AS$1)=MONTH(E$8)*ISNUMBER($E$1:$AS$1),COLUMN($E$1:$AS$1)-4),ROWS($1:16))))} | F22: {=IF(ISERROR(INDEX($E$1:$AS$1,SMALL(IF(MONTH($E$1:$AS$1)=MONTH(F$8)*ISNUMBER($E$1:$AS$1),COLUMN($E$1:$AS$1)-4),ROWS($1:16)))),"",INDEX($E$1:$AS$1,SMALL(IF(MONTH($E$1:$AS$1)=MONTH(F$8)*ISNUMBER($E$1:$AS$1),COLUMN($E$1:$AS$1)-4),ROWS($1:16))))} | H22: {=IF(ISERROR(INDEX($E$2:$AS$2,SMALL(IF(ISNUMBER($E$2:$AS$2),COLUMN($E$2:$AS$2)-4),ROWS($1:16)))),"",INDEX($E$2:$AS$2,SMALL(IF(ISNUMBER($E$2:$AS$2),COLUMN($E$2:$AS$2)-4),ROWS($1:16))))} | I22: {=IF(ISERROR(INDEX($AJ$1:$BK$1,SMALL(IF(ISNUMBER($AJ$1:$BK$1),COLUMN($AJ$1:$BK$1)-5),ROWS($1:16)))),"",INDEX($AJ$1:$BK$1,SMALL(IF(ISNUMBER($AJ$1:$BK$1),COLUMN($AJ$1:$BK$1)-5),ROWS($1:16))))} | K22: {=IF(ISERROR(INDEX($E$3:$AS$3,SMALL(IF(MONTH($E$3:$AS$3)=MONTH(K$8)*ISNUMBER($E$3:$AS$3),COLUMN($E$3:$AS$3)-4),ROWS($1:16)))),"",INDEX($E$3:$AS$3,SMALL(IF(MONTH($E$3:$AS$3)=MONTH(K$8)*ISNUMBER($E$3:$AS$3),COLUMN($E$1:$AS$3)-4),ROWS($1:16))))}
E23: {=IF(ISERROR(INDEX($E$1:$AS$1,SMALL(IF(MONTH($E$1:$AS$1)=MONTH(E$8)*ISNUMBER($E$1:$AS$1),COLUMN($E$1:$AS$1)-4),ROWS($1:17)))),"",INDEX($E$1:$AS$1,SMALL(IF(MONTH($E$1:$AS$1)=MONTH(E$8)*ISNUMBER($E$1:$AS$1),COLUMN($E$1:$AS$1)-4),ROWS($1:17))))} | F23: {=IF(ISERROR(INDEX($E$1:$AS$1,SMALL(IF(MONTH($E$1:$AS$1)=MONTH(F$8)*ISNUMBER($E$1:$AS$1),COLUMN($E$1:$AS$1)-4),ROWS($1:17)))),"",INDEX($E$1:$AS$1,SMALL(IF(MONTH($E$1:$AS$1)=MONTH(F$8)*ISNUMBER($E$1:$AS$1),COLUMN($E$1:$AS$1)-4),ROWS($1:17))))} | H23: {=IF(ISERROR(INDEX($E$2:$AS$2,SMALL(IF(ISNUMBER($E$2:$AS$2),COLUMN($E$2:$AS$2)-4),ROWS($1:17)))),"",INDEX($E$2:$AS$2,SMALL(IF(ISNUMBER($E$2:$AS$2),COLUMN($E$2:$AS$2)-4),ROWS($1:17))))} | I23: {=IF(ISERROR(INDEX($AJ$1:$BK$1,SMALL(IF(ISNUMBER($AJ$1:$BK$1),COLUMN($AJ$1:$BK$1)-5),ROWS($1:17)))),"",INDEX($AJ$1:$BK$1,SMALL(IF(ISNUMBER($AJ$1:$BK$1),COLUMN($AJ$1:$BK$1)-5),ROWS($1:17))))} | K23: {=IF(ISERROR(INDEX($E$3:$AS$3,SMALL(IF(MONTH($E$3:$AS$3)=MONTH(K$8)*ISNUMBER($E$3:$AS$3),COLUMN($E$3:$AS$3)-4),ROWS($1:17)))),"",INDEX($E$3:$AS$3,SMALL(IF(MONTH($E$3:$AS$3)=MONTH(K$8)*ISNUMBER($E$3:$AS$3),COLUMN($E$1:$AS$3)-4),ROWS($1:17))))}
E24: {=IF(ISERROR(INDEX($E$1:$AS$1,SMALL(IF(MONTH($E$1:$AS$1)=MONTH(E$8)*ISNUMBER($E$1:$AS$1),COLUMN($E$1:$AS$1)-4),ROWS($1:18)))),"",INDEX($E$1:$AS$1,SMALL(IF(MONTH($E$1:$AS$1)=MONTH(E$8)*ISNUMBER($E$1:$AS$1),COLUMN($E$1:$AS$1)-4),ROWS($1:18))))} | F24: {=IF(ISERROR(INDEX($E$1:$AS$1,SMALL(IF(MONTH($E$1:$AS$1)=MONTH(F$8)*ISNUMBER($E$1:$AS$1),COLUMN($E$1:$AS$1)-4),ROWS($1:18)))),"",INDEX($E$1:$AS$1,SMALL(IF(MONTH($E$1:$AS$1)=MONTH(F$8)*ISNUMBER($E$1:$AS$1),COLUMN($E$1:$AS$1)-4),ROWS($1:18))))} | H24: {=IF(ISERROR(INDEX($E$2:$AS$2,SMALL(IF(ISNUMBER($E$2:$AS$2),COLUMN($E$2:$AS$2)-4),ROWS($1:18)))),"",INDEX($E$2:$AS$2,SMALL(IF(ISNUMBER($E$2:$AS$2),COLUMN($E$2:$AS$2)-4),ROWS($1:18))))} | I24: {=IF(ISERROR(INDEX($AJ$1:$BK$1,SMALL(IF(ISNUMBER($AJ$1:$BK$1),COLUMN($AJ$1:$BK$1)-5),ROWS($1:18)))),"",INDEX($AJ$1:$BK$1,SMALL(IF(ISNUMBER($AJ$1:$BK$1),COLUMN($AJ$1:$BK$1)-5),ROWS($1:18))))} | K24: {=IF(ISERROR(INDEX($E$3:$AS$3,SMALL(IF(ISNUMBER($E$3:$AS$3),COLUMN($E$3:$AS$3)-4),ROWS($1:18)))),"",INDEX($E$3:$AS$3,SMALL(IF(ISNUMBER($E$3:$AS$3),COLUMN($E$3:$AS$3)-4),ROWS($1:18))))}
E25: {=IF(ISERROR(INDEX($E$1:$AS$1,SMALL(IF(MONTH($E$1:$AS$1)=MONTH(E$8)*ISNUMBER($E$1:$AS$1),COLUMN($E$1:$AS$1)-4),ROWS($1:19)))),"",INDEX($E$1:$AS$1,SMALL(IF(MONTH($E$1:$AS$1)=MONTH(E$8)*ISNUMBER($E$1:$AS$1),COLUMN($E$1:$AS$1)-4),ROWS($1:19))))} | F25: {=IF(ISERROR(INDEX($E$1:$AS$1,SMALL(IF(MONTH($E$1:$AS$1)=MONTH(F$8)*ISNUMBER($E$1:$AS$1),COLUMN($E$1:$AS$1)-4),ROWS($1:19)))),"",INDEX($E$1:$AS$1,SMALL(IF(MONTH($E$1:$AS$1)=MONTH(F$8)*ISNUMBER($E$1:$AS$1),COLUMN($E$1:$AS$1)-4),ROWS($1:19))))} | H25: {=IF(ISERROR(INDEX($E$2:$AS$2,SMALL(IF(ISNUMBER($E$2:$AS$2),COLUMN($E$2:$AS$2)-4),ROWS($1:19)))),"",INDEX($E$2:$AS$2,SMALL(IF(ISNUMBER($E$2:$AS$2),COLUMN($E$2:$AS$2)-4),ROWS($1:19))))} | I25: {=IF(ISERROR(INDEX($AJ$1:$BK$1,SMALL(IF(ISNUMBER($AJ$1:$BK$1),COLUMN($AJ$1:$BK$1)-5),ROWS($1:19)))),"",INDEX($AJ$1:$BK$1,SMALL(IF(ISNUMBER($AJ$1:$BK$1),COLUMN($AJ$1:$BK$1)-5),ROWS($1:19))))} | K25: {=IF(ISERROR(INDEX($E$3:$AS$3,SMALL(IF(ISNUMBER($E$3:$AS$3),COLUMN($E$3:$AS$3)-4),ROWS($1:19)))),"",INDEX($E$3:$AS$3,SMALL(IF(ISNUMBER($E$3:$AS$3),COLUMN($E$3:$AS$3)-4),ROWS($1:19))))}
E26: {=IF(ISERROR(INDEX($E$1:$AS$1,SMALL(IF(MONTH($E$1:$AS$1)=MONTH(E$8)*ISNUMBER($E$1:$AS$1),COLUMN($E$1:$AS$1)-4),ROWS($1:20)))),"",INDEX($E$1:$AS$1,SMALL(IF(MONTH($E$1:$AS$1)=MONTH(E$8)*ISNUMBER($E$1:$AS$1),COLUMN($E$1:$AS$1)-4),ROWS($1:20))))} | F26: {=IF(ISERROR(INDEX($E$1:$AS$1,SMALL(IF(MONTH($E$1:$AS$1)=MONTH(F$8)*ISNUMBER($E$1:$AS$1),COLUMN($E$1:$AS$1)-4),ROWS($1:20)))),"",INDEX($E$1:$AS$1,SMALL(IF(MONTH($E$1:$AS$1)=MONTH(F$8)*ISNUMBER($E$1:$AS$1),COLUMN($E$1:$AS$1)-4),ROWS($1:20))))} | H26: {=IF(ISERROR(INDEX($E$2:$AS$2,SMALL(IF(ISNUMBER($E$2:$AS$2),COLUMN($E$2:$AS$2)-4),ROWS($1:20)))),"",INDEX($E$2:$AS$2,SMALL(IF(ISNUMBER($E$2:$AS$2),COLUMN($E$2:$AS$2)-4),ROWS($1:20))))} | I26: {=IF(ISERROR(INDEX($AJ$1:$BK$1,SMALL(IF(ISNUMBER($AJ$1:$BK$1),COLUMN($AJ$1:$BK$1)-5),ROWS($1:20)))),"",INDEX($AJ$1:$BK$1,SMALL(IF(ISNUMBER($AJ$1:$BK$1),COLUMN($AJ$1:$BK$1)-5),ROWS($1:20))))} | K26: {=IF(ISERROR(INDEX($E$3:$AS$3,SMALL(IF(ISNUMBER($E$3:$AS$3),COLUMN($E$3:$AS$3)-4),ROWS($1:20)))),"",INDEX($E$3:$AS$3,SMALL(IF(ISNUMBER($E$3:$AS$3),COLUMN($E$3:$AS$3)-4),ROWS($1:20))))}
E27: {=IF(ISERROR(INDEX($E$1:$AS$1,SMALL(IF(ISNUMBER($E$1:$AS$1),COLUMN($E$1:$AS$1)-4),ROWS($1:21)))),"",INDEX($E$1:$AS$1,SMALL(IF(ISNUMBER($E$1:$AS$1),COLUMN($E$1:$AS$1)-4),ROWS($1:21))))} | F27: {=IF(ISERROR(INDEX($AJ$1:$BK$1,SMALL(IF(ISNUMBER($AJ$1:$BK$1),COLUMN($AJ$1:$BK$1)-5),ROWS($1:21)))),"",INDEX($AJ$1:$BK$1,SMALL(IF(ISNUMBER($AJ$1:$BK$1),COLUMN($AJ$1:$BK$1)-5),ROWS($1:21))))} | H27: {=IF(ISERROR(INDEX($E$2:$AS$2,SMALL(IF(ISNUMBER($E$2:$AS$2),COLUMN($E$2:$AS$2)-4),ROWS($1:21)))),"",INDEX($E$2:$AS$2,SMALL(IF(ISNUMBER($E$2:$AS$2),COLUMN($E$2:$AS$2)-4),ROWS($1:21))))} | I27: {=IF(ISERROR(INDEX($AJ$1:$BK$1,SMALL(IF(ISNUMBER($AJ$1:$BK$1),COLUMN($AJ$1:$BK$1)-5),ROWS($1:21)))),"",INDEX($AJ$1:$BK$1,SMALL(IF(ISNUMBER($AJ$1:$BK$1),COLUMN($AJ$1:$BK$1)-5),ROWS($1:21))))} | K27: {=IF(ISERROR(INDEX($E$3:$AS$3,SMALL(IF(ISNUMBER($E$3:$AS$3),COLUMN($E$3:$AS$3)-4),ROWS($1:21)))),"",INDEX($E$3:$AS$3,SMALL(IF(ISNUMBER($E$3:$AS$3),COLUMN($E$3:$AS$3)-4),ROWS($1:21))))}
E28: {=IF(ISERROR(INDEX($E$1:$AS$1,SMALL(IF(ISNUMBER($E$1:$AS$1),COLUMN($E$1:$AS$1)-4),ROWS($1:22)))),"",INDEX($E$1:$AS$1,SMALL(IF(ISNUMBER($E$1:$AS$1),COLUMN($E$1:$AS$1)-4),ROWS($1:22))))} | F28: {=IF(ISERROR(INDEX($AJ$1:$BK$1,SMALL(IF(ISNUMBER($AJ$1:$BK$1),COLUMN($AJ$1:$BK$1)-5),ROWS($1:22)))),"",INDEX($AJ$1:$BK$1,SMALL(IF(ISNUMBER($AJ$1:$BK$1),COLUMN($AJ$1:$BK$1)-5),ROWS($1:22))))} | H28: {=IF(ISERROR(INDEX($E$2:$AS$2,SMALL(IF(ISNUMBER($E$2:$AS$2),COLUMN($E$2:$AS$2)-4),ROWS($1:22)))),"",INDEX($E$2:$AS$2,SMALL(IF(ISNUMBER($E$2:$AS$2),COLUMN($E$2:$AS$2)-4),ROWS($1:22))))} | I28: {=IF(ISERROR(INDEX($AJ$1:$BK$1,SMALL(IF(ISNUMBER($AJ$1:$BK$1),COLUMN($AJ$1:$BK$1)-5),ROWS($1:22)))),"",INDEX($AJ$1:$BK$1,SMALL(IF(ISNUMBER($AJ$1:$BK$1),COLUMN($AJ$1:$BK$1)-5),ROWS($1:22))))} | K28: {=IF(ISERROR(INDEX($E$3:$AS$3,SMALL(IF(ISNUMBER($E$3:$AS$3),COLUMN($E$3:$AS$3)-4),ROWS($1:22)))),"",INDEX($E$3:$AS$3,SMALL(IF(ISNUMBER($E$3:$AS$3),COLUMN($E$3:$AS$3)-4),ROWS($1:22))))}
E29: {=IF(ISERROR(INDEX($E$1:$AS$1,SMALL(IF(ISNUMBER($E$1:$AS$1),COLUMN($E$1:$AS$1)-4),ROWS($1:23)))),"",INDEX($E$1:$AS$1,SMALL(IF(ISNUMBER($E$1:$AS$1),COLUMN($E$1:$AS$1)-4),ROWS($1:23))))} | F29: {=IF(ISERROR(INDEX($AJ$1:$BK$1,SMALL(IF(ISNUMBER($AJ$1:$BK$1),COLUMN($AJ$1:$BK$1)-5),ROWS($1:23)))),"",INDEX($AJ$1:$BK$1,SMALL(IF(ISNUMBER($AJ$1:$BK$1),COLUMN($AJ$1:$BK$1)-5),ROWS($1:23))))} | H29: {=IF(ISERROR(INDEX($E$2:$AS$2,SMALL(IF(ISNUMBER($E$2:$AS$2),COLUMN($E$2:$AS$2)-4),ROWS($1:23)))),"",INDEX($E$2:$AS$2,SMALL(IF(ISNUMBER($E$2:$AS$2),COLUMN($E$2:$AS$2)-4),ROWS($1:23))))} | I29: {=IF(ISERROR(INDEX($AJ$1:$BK$1,SMALL(IF(ISNUMBER($AJ$1:$BK$1),COLUMN($AJ$1:$BK$1)-5),ROWS($1:23)))),"",INDEX($AJ$1:$BK$1,SMALL(IF(ISNUMBER($AJ$1:$BK$1),COLUMN($AJ$1:$BK$1)-5),ROWS($1:23))))} | K29: {=IF(ISERROR(INDEX($E$3:$AS$3,SMALL(IF(ISNUMBER($E$3:$AS$3),COLUMN($E$3:$AS$3)-4),ROWS($1:23)))),"",INDEX($E$3:$AS$3,SMALL(IF(ISNUMBER($E$3:$AS$3),COLUMN($E$3:$AS$3)-4),ROWS($1:23))))}
E30: {=IF(ISERROR(INDEX($E$1:$AI$1,SMALL(IF(ISNUMBER($E$1:$AI$1),COLUMN($E$1:$AI$1)-4),ROWS($1:24)))),"",INDEX($E$1:$AI$1,SMALL(IF(ISNUMBER($E$1:$AI$1),COLUMN($E$1:$AI$1)-4),ROWS($1:24))))} | F30: {=IF(ISERROR(INDEX($AJ$1:$BK$1,SMALL(IF(ISNUMBER($AJ$1:$BK$1),COLUMN($AJ$1:$BK$1)-5),ROWS($1:24)))),"",INDEX($AJ$1:$BK$1,SMALL(IF(ISNUMBER($AJ$1:$BK$1),COLUMN($AJ$1:$BK$1)-5),ROWS($1:24))))} | H30: {=IF(ISERROR(INDEX($E$2:$AI$2,SMALL(IF(ISNUMBER($E$2:$AI$2),COLUMN($E$2:$AI$2)-4),ROWS($1:24)))),"",INDEX($E$2:$AI$2,SMALL(IF(ISNUMBER($E$2:$AI$2),COLUMN($E$2:$AI$2)-4),ROWS($1:24))))} | I30: {=IF(ISERROR(INDEX($AJ$1:$BK$1,SMALL(IF(ISNUMBER($AJ$1:$BK$1),COLUMN($AJ$1:$BK$1)-5),ROWS($1:24)))),"",INDEX($AJ$1:$BK$1,SMALL(IF(ISNUMBER($AJ$1:$BK$1),COLUMN($AJ$1:$BK$1)-5),ROWS($1:24))))} | K30: {=IF(ISERROR(INDEX($E$3:$AI$3,SMALL(IF(ISNUMBER($E$3:$AI$3),COLUMN($E$3:$AI$3)-4),ROWS($1:24)))),"",INDEX($E$3:$AI$3,SMALL(IF(ISNUMBER($E$3:$AI$3),COLUMN($E$3:$AI$3)-4),ROWS($1:24))))}
