Workbook
Name Infirmier: OFFSET(Feuil2!$E$1,MATCH(Feuil2!A$7,Feuil2!$D$1:$D$3,0)-1,0,1,MATCH(9^9^9,Feuil2!$A$1:$IV$1,1)-4)
Name PLAN010101: 'Planning Prévisionnel 2019'!$B$5
Name PLAN010102: 'Planning Prévisionnel 2019'!$D$5
Name PLAN010103: 'Planning Prévisionnel 2019'!$E$5
Name PLAN010104: 'Planning Prévisionnel 2019'!$G$5
Name PLAN010105: 'Planning Prévisionnel 2019'!$H$5
Name PLAN010106: 'Planning Prévisionnel 2019'!$J$5
Name PLAN010107: 'Planning Prévisionnel 2019'!$K$5
Name PLAN010108: 'Planning Prévisionnel 2019'!$M$5
Name PLAN010109: 'Planning Prévisionnel 2019'!$N$5
Name PLAN010110: 'Planning Prévisionnel 2019'!$P$5
Name PLAN010111: 'Planning Prévisionnel 2019'!$Q$5
Name PLAN010112: 'Planning Prévisionnel 2019'!$S$5
Name PLAN010113: 'Planning Prévisionnel 2019'!$T$5
Name PLAN010114: 'Planning Prévisionnel 2019'!$V$5
Name PLAN010201: 'Planning Prévisionnel 2019'!$B$6
Name PLAN010202: 'Planning Prévisionnel 2019'!$D$6
Name PLAN010203: 'Planning Prévisionnel 2019'!$E$6
Name PLAN010204: 'Planning Prévisionnel 2019'!$G$6
Name PLAN010205: 'Planning Prévisionnel 2019'!$H$6
Name PLAN010206: 'Planning Prévisionnel 2019'!$J$6
Name PLAN010207: 'Planning Prévisionnel 2019'!$K$6
Name PLAN010208: 'Planning Prévisionnel 2019'!$M$6
Name PLAN010209: 'Planning Prévisionnel 2019'!$N$6
Name PLAN010210: 'Planning Prévisionnel 2019'!$P$6
Name PLAN010211: 'Planning Prévisionnel 2019'!$Q$6
Name PLAN010212: 'Planning Prévisionnel 2019'!$S$6
Name PLAN010213: 'Planning Prévisionnel 2019'!$T$6
Name PLAN010214: 'Planning Prévisionnel 2019'!$V$6
Name PLAN010301: 'Planning Prévisionnel 2019'!$B$7
Name PLAN010302: 'Planning Prévisionnel 2019'!$D$7
Name PLAN010303: 'Planning Prévisionnel 2019'!$E$7
Name PLAN010304: 'Planning Prévisionnel 2019'!$G$7
Name PLAN010305: 'Planning Prévisionnel 2019'!$H$7
Name PLAN010306: 'Planning Prévisionnel 2019'!$J$7
Name PLAN010307: 'Planning Prévisionnel 2019'!$K$7
Name PLAN010308: 'Planning Prévisionnel 2019'!$M$7
Name PLAN010309: 'Planning Prévisionnel 2019'!$N$7
Name PLAN010310: 'Planning Prévisionnel 2019'!$P$7
Name PLAN010311: 'Planning Prévisionnel 2019'!$Q$7
Name PLAN010312: 'Planning Prévisionnel 2019'!$S$7
Name PLAN010313: 'Planning Prévisionnel 2019'!$T$7
Name PLAN010314: 'Planning Prévisionnel 2019'!$V$7
Name PLAN010401: 'Planning Prévisionnel 2019'!$B$8
Name PLAN010402: 'Planning Prévisionnel 2019'!$D$8
Name PLAN010403: 'Planning Prévisionnel 2019'!$E$8
Name PLAN010404: 'Planning Prévisionnel 2019'!$G$8
Name PLAN010405: 'Planning Prévisionnel 2019'!$H$8
Name PLAN010406: 'Planning Prévisionnel 2019'!$J$8
Name PLAN010407: 'Planning Prévisionnel 2019'!$K$8
Name PLAN010408: 'Planning Prévisionnel 2019'!$M$8
Name PLAN010409: 'Planning Prévisionnel 2019'!$N$8
Name PLAN010410: 'Planning Prévisionnel 2019'!$P$8
Name PLAN010411: 'Planning Prévisionnel 2019'!$Q$8
Name PLAN010412: 'Planning Prévisionnel 2019'!$S$8
Name PLAN010413: 'Planning Prévisionnel 2019'!$T$8
Name PLAN010414: 'Planning Prévisionnel 2019'!$V$8
Name PLAN010501: 'Planning Prévisionnel 2019'!$B$9
Name PLAN010502: 'Planning Prévisionnel 2019'!$D$9
Name PLAN010503: 'Planning Prévisionnel 2019'!$E$9

Sheet PRIMES - TR
B2: JANVIER | E2: FÉVRIER | H2: MARS | K2: AVRIL | N2: MAI | Q2: JUIN | T2: JUILLET | W2: AOÛT | Z2: SEPTEMBRE | AC2: OCTOBRE | AF2: NOVEMBRE | AI2: DÉCEMBRE | AM2: TOTAL ANNUEL
B3: PRIMES | C3: TR | D3: CP | E3: PRIMES | F3: TR | G3: CP | H3: PRIMES | I3: TR | J3: CP | K3: PRIMES | L3: TR | M3: CP | N3: PRIMES | O3: TR | P3: CP | Q3: PRIMES | R3: TR | S3: CP | T3: PRIMES | U3: TR | V3: CP | W3: PRIMES | X3: TR | Y3: CP | Z3: PRIMES | AA3: TR | AB3: CP | AC3: PRIMES | AD3: TR | AE3: CP | AF3: PRIMES | AG3: TR | AH3: CP | AI3: PRIMES | AJ3: TR | AK3: CP | AM3: PRIMES | AN3: TR | AO3: CP
A4: =TECH1 -> MANON | B4: =SUM('Planning Prévisionnel 2019'!E37:CS37) -> 516 | C4: =SUM('Planning Prévisionnel 2019'!E47:CS47) -> 14 | D4: =COUNTIF('Planning Prévisionnel 2019'!E5:CS5,"congé") -> 3 | E4: =SUM('Planning Prévisionnel 2019'!CT37:FY37) -> 144 | F4: =SUM('Planning Prévisionnel 2019'!CT47:FY47) -> 18 | G4: =COUNTIF('Planning Prévisionnel 2019'!CT5:FY5,"congé") -> 2 | H4: =SUM('Planning Prévisionnel 2019'!FZ37:JN37) -> 0 | I4: =SUM('Planning Prévisionnel 2019'!FZ47:JN47) -> 20 | J4: =COUNTIF('Planning Prévisionnel 2019'!FZ5:JN5,"congé") -> 0 | K4: =SUM('Planning Prévisionnel 2019'!JO37:MZ37) -> 516 | L4: =SUM('Planning Prévisionnel 2019'!JO47:MZ47) -> 11 | M4: =COUNTIF('Planning Prévisionnel 2019'!JO5:MZ5,"congé") -> 5 | N4: =SUM('Planning Prévisionnel 2019'!NA37:QO37) -> 336 | O4: =SUM('Planning Prévisionnel 2019'!NA47:QO47) -> 19 | P4: =COUNTIF('Planning Prévisionnel 2019'!NA5:QO5,"congé") -> 0 | Q4: =SUM('Planning Prévisionnel 2019'!QP37:UA37) -> 0 | R4: =SUM('Planning Prévisionnel 2019'!QP47:UA47) -> 19 | S4: =COUNTIF('Planning Prévisionnel 2019'!QP5:UA5,"congé") -> 0 | T4: =SUM('Planning Prévisionnel 2019'!UB37:XP37) -> 0 | U4: =SUM('Planning Prévisionnel 2019'!UB47:XP47) -> 23 | V4: =COUNTIF('Planning Prévisionnel 2019'!UB5:XP5,"congé") -> 0 | W4: =SUM('Planning Prévisionnel 2019'!XQ37:ABE37) -> 0 | X4: =SUM('Planning Prévisionnel 2019'!XQ47:ABE47) -> 21 | Y4: =COUNTIF('Planning Prévisionnel 2019'!XQ5:ABE5,"congé") -> 0 | Z4: =SUM('Planning Prévisionnel 2019'!ABF37:AEQ37) -> 0 | AA4: =SUM('Planning Prévisionnel 2019'!ABF47:AEQ47) -> 21 | AB4: =COUNTIF('Planning Prévisionnel 2019'!ABF5:AEQ5,"congé") -> 0 | AC4: =SUM('Planning Prévisionnel 2019'!AER37:AIF37) -> 0 | AD4: =SUM('Planning Prévisionnel 2019'!AER47:AIF47) -> 23 | AE4: =COUNTIF('Planning Prévisionnel 2019'!AER5:AIF5,"congé") -> 0 | AF4: =SUM('Planning Prévisionnel 2019'!AIG37:ALR37) -> 0 | AG4: =SUM('Planning Prévisionnel 2019'!AIG47:ALR47) -> 19 | AH4: =COUNTIF('Planning Prévisionnel 2019'!AIG5:ALR5,"congé") -> 0 | AI4: =SUM('Planning Prévisionnel 2019'!ALS37:APG37) -> 0 | AJ4: =SUM('Planning Prévisionnel 2019'!ALS47:APG47) -> 21 | AK4: =COUNTIF('Planning Prévisionnel 2019'!ALS5:APG5,"congé") -> 0 | AM4: =SUM(B4+E4+H4+K4+N4+Q4+T4+W4+Z4+AC4+AF4+AI4) -> 1512 | AN4: =SUM(C4+F4+I4+L4+O4+R4+U4+X4+AA4+AD4+AG4+AJ4) -> 229 | AO4: =SUM(D4+G4+J4+M4+P4+S4+V4+Y4+AB4+AE4+AH4+AK4) -> 10
A5: =TECH2 -> EMILIE | B5: =SUM('Planning Prévisionnel 2019'!E38:CS38) -> 258 | C5: =SUM('Planning Prévisionnel 2019'!E48:CS48) -> 22 | D5: =COUNTIF('Planning Prévisionnel 2019'!E6:CS6,"congé") -> 0 | E5: =SUM('Planning Prévisionnel 2019'!CT38:FY38) -> 0 | F5: =SUM('Planning Prévisionnel 2019'!CT48:FY48) -> 19 | G5: =COUNTIF('Planning Prévisionnel 2019'!CT6:FY6,"congé") -> 1 | H5: =SUM('Planning Prévisionnel 2019'!FZ38:JN38) -> 0 | I5: =SUM('Planning Prévisionnel 2019'!FZ48:JN48) -> 21 | J5: =COUNTIF('Planning Prévisionnel 2019'!FZ6:JN6,"congé") -> 0 | K5: =SUM('Planning Prévisionnel 2019'!JO38:MZ38) -> 180 | L5: =SUM('Planning Prévisionnel 2019'!JO48:MZ48) -> 20 | M5: =COUNTIF('Planning Prévisionnel 2019'!JO6:MZ6,"congé") -> 0 | N5: =SUM('Planning Prévisionnel 2019'!NA38:QO38) -> 444 | O5: =SUM('Planning Prévisionnel 2019'!NA48:QO48) -> 22 | P5: =COUNTIF('Planning Prévisionnel 2019'!NA6:QO6,"congé") -> 0 | Q5: =SUM('Planning Prévisionnel 2019'!QP38:UA38) -> 0 | R5: =SUM('Planning Prévisionnel 2019'!QP48:UA48) -> 16 | S5: =COUNTIF('Planning Prévisionnel 2019'!QP6:UA6,"congé") -> 3 | T5: =SUM('Planning Prévisionnel 2019'!UB38:XP38) -> 0 | U5: =SUM('Planning Prévisionnel 2019'!UB48:XP48) -> 23 | V5: =COUNTIF('Planning Prévisionnel 2019'!UB6:XP6,"congé") -> 0 | W5: =SUM('Planning Prévisionnel 2019'!XQ38:ABE38) -> 0 | X5: =SUM('Planning Prévisionnel 2019'!XQ48:ABE48) -> 21 | Y5: =COUNTIF('Planning Prévisionnel 2019'!XQ6:ABE6,"congé") -> 0 | Z5: =SUM('Planning Prévisionnel 2019'!ABF28:AEQ28) -> 0 | AA5: =SUM('Planning Prévisionnel 2019'!ABF48:AEQ48) -> 21 | AB5: =COUNTIF('Planning Prévisionnel 2019'!ABF6:AEQ6,"congé") -> 0 | AC5: =SUM('Planning Prévisionnel 2019'!AER38:AIF38) -> 0 | AD5: =SUM('Planning Prévisionnel 2019'!AER48:AIF48) -> 23 | AE5: =COUNTIF('Planning Prévisionnel 2019'!AER6:AIF6,"congé") -> 0 | AF5: =SUM('Planning Prévisionnel 2019'!AIG38:ALR38) -> 0 | AG5: =SUM('Planning Prévisionnel 2019'!AIG48:ALR48) -> 19 | AH5: =COUNTIF('Planning Prévisionnel 2019'!AIG6:ALR6,"congé") -> 0 | AI5: =SUM('Planning Prévisionnel 2019'!ALS38:APG38) -> 0 | AJ5: =SUM('Planning Prévisionnel 2019'!ALS48:APG48) -> 21 | AK5: =COUNTIF('Planning Prévisionnel 2019'!ALS6:APG6,"congé") -> 0 | AM5: =SUM(B5+E5+H5+K5+N5+Q5+T5+W5+Z5+AC5+AF5+AI5) -> 882 | AN5: =SUM(C5+F5+I5+L5+O5+R5+U5+X5+AA5+AD5+AG5+AJ5) -> 248 | AO5: =SUM(D5+G5+J5+M5+P5+S5+V5+Y5+AB5+AE5+AH5+AK5) -> 4
A6: =TECH3 -> THIBAULT | B6: =SUM('Planning Prévisionnel 2019'!E39:CS39) -> 810 | C6: =SUM('Planning Prévisionnel 2019'!E49:CS49) -> 15 | D6: =COUNTIF('Planning Prévisionnel 2019'!E7:CS7,"congé") -> 0 | E6: =SUM('Planning Prévisionnel 2019'!CT39:FY39) -> 108 | F6: =SUM('Planning Prévisionnel 2019'!CT49:FY49) -> 10 | G6: =COUNTIF('Planning Prévisionnel 2019'!CT7:FY7,"congé") -> 4 | H6: =SUM('Planning Prévisionnel 2019'!FZ39:JN39) -> 70 | I6: =SUM('Planning Prévisionnel 2019'!FZ49:JN49) -> 11 | J6: =COUNTIF('Planning Prévisionnel 2019'!FZ7:JN7,"congé") -> 6 | K6: =SUM('Planning Prévisionnel 2019'!JO39:MZ39) -> 480 | L6: =SUM('Planning Prévisionnel 2019'!JO49:MZ49) -> 9 | M6: =COUNTIF('Planning Prévisionnel 2019'!JO7:MZ7,"congé") -> 4 | N6: =SUM('Planning Prévisionnel 2019'!NA39:QO39) -> 369 | O6: =SUM('Planning Prévisionnel 2019'!NA49:QO49) -> 14 | P6: =COUNTIF('Planning Prévisionnel 2019'!NA7:QO7,"congé") -> 3 | Q6: =SUM('Planning Prévisionnel 2019'!QP39:UA39) -> 399 | R6: =SUM('Planning Prévisionnel 2019'!QP49:UA49) -> 16 | S6: =COUNTIF('Planning Prévisionnel 2019'!QP7:UA7,"congé") -> 0 | T6: =SUM('Planning Prévisionnel 2019'!UB39:XP39) -> 591 | U6: =SUM('Planning Prévisionnel 2019'!UB49:XP49) -> 15 | V6: =COUNTIF('Planning Prévisionnel 2019'!UB7:XP7,"congé") -> 0 | W6: =SUM('Planning Prévisionnel 2019'!XQ39:ABE39) -> 660 | X6: =SUM('Planning Prévisionnel 2019'!XQ49:ABE49) -> 13 | Y6: =COUNTIF('Planning Prévisionnel 2019'!XQ7:ABE7,"congé") -> 0 | Z6: =SUM('Planning Prévisionnel 2019'!ABF39:AEQ39) -> 480 | AA6: =SUM('Planning Prévisionnel 2019'!ABF49:AEQ49) -> 17 | AB6: =COUNTIF('Planning Prévisionnel 2019'!ABF7:AEQ7,"congé") -> 0 | AC6: =SUM('Planning Prévisionnel 2019'!AER39:AIF39) -> 324 | AD6: =SUM('Planning Prévisionnel 2019'!AER49:AIF49) -> 18 | AE6: =COUNTIF('Planning Prévisionnel 2019'!AER7:AIF7,"congé") -> 0 | AF6: =SUM('Planning Prévisionnel 2019'!AIG39:ALR39) -> 516 | AG6: =SUM('Planning Prévisionnel 2019'!AIG49:ALR49) -> 12 | AH6: =COUNTIF('Planning Prévisionnel 2019'!AIG7:ALR7,"congé") -> 0 | AI6: =SUM('Planning Prévisionnel 2019'!ALS39:APG39) -> 660 | AJ6: =SUM('Planning Prévisionnel 2019'!ALS49:APG49) -> 16 | AK6: =COUNTIF('Planning Prévisionnel 2019'!ALS7:APG7,"congé") -> 0 | AM6: =SUM(B6+E6+H6+K6+N6+Q6+T6+W6+Z6+AC6+AF6+AI6) -> 5467 | AN6: =SUM(C6+F6+I6+L6+O6+R6+U6+X6+AA6+AD6+AG6+AJ6) -> 166 | AO6: =SUM(D6+G6+J6+M6+P6+S6+V6+Y6+AB6+AE6+AH6+AK6) -> 17
A7: =TECH4 -> DONATIEN | B7: =SUM('Planning Prévisionnel 2019'!E40:CS40) -> 0 | C7: =SUM('Planning Prévisionnel 2019'!E50:CS50) -> 4 | D7: =COUNTIF('Planning Prévisionnel 2019'!E8:CS8,"congé") -> 10 | E7: =SUM('Planning Prévisionnel 2019'!CT40:FY40) -> 480 | F7: =SUM('Planning Prévisionnel 2019'!CT50:FY50) -> 15 | G7: =COUNTIF('Planning Prévisionnel 2019'!CT8:FY8,"congé") -> 0 | H7: =SUM('Planning Prévisionnel 2019'!FZ40:JN40) -> 434 | I7: =SUM('Planning Prévisionnel 2019'!FZ50:JN50) -> 16 | J7: =COUNTIF('Planning Prévisionnel 2019'!FZ8:JN8,"congé") -> 0 | K7: =SUM('Planning Prévisionnel 2019'!JO40:MZ40) -> 411 | L7: =SUM('Planning Prévisionnel 2019'!JO50:MZ50) -> 12 | M7: =COUNTIF('Planning Prévisionnel 2019'!JO8:MZ8,"congé") -> 2 | N7: =SUM('Planning Prévisionnel 2019'!NA40:QO40) -> 516 | O7: =SUM('Planning Prévisionnel 2019'!NA50:QO50) -> 7 | P7: =COUNTIF('Planning Prévisionnel 2019'!NA8:QO8,"congé") -> 7 | Q7: =SUM('Planning Prévisionnel 2019'!QP40:UA40) -> 555 | R7: =SUM('Planning Prévisionnel 2019'!QP50:UA50) -> 17 | S7: =COUNTIF('Planning Prévisionnel 2019'!QP8:UA8,"congé") -> 0 | T7: =SUM('Planning Prévisionnel 2019'!UB40:XP40) -> 288 | U7: =SUM('Planning Prévisionnel 2019'!UB50:XP50) -> 17 | V7: =COUNTIF('Planning Prévisionnel 2019'!UB8:XP8,"congé") -> 0 | W7: =SUM('Planning Prévisionnel 2019'!XQ40:ABE40) -> 552 | X7: =SUM('Planning Prévisionnel 2019'!XQ50:ABE50) -> 13 | Y7: =COUNTIF('Planning Prévisionnel 2019'!XQ8:ABE8,"congé") -> 0 | Z7: =SUM('Planning Prévisionnel 2019'!ABF40:AEQ40) -> 660 | AA7: =SUM('Planning Prévisionnel 2019'!ABF50:AEQ50) -> 16 | AB7: =COUNTIF('Planning Prévisionnel 2019'!ABF8:AEQ8,"congé") -> 0 | AC7: =SUM('Planning Prévisionnel 2019'!AER40:AIF40) -> 144 | AD7: =SUM('Planning Prévisionnel 2019'!AER50:AIF50) -> 14 | AE7: =COUNTIF('Planning Prévisionnel 2019'!AER8:AIF8,"congé") -> 0 | AF7: =SUM('Planning Prévisionnel 2019'!AIG40:ALR40) -> 591 | AG7: =SUM('Planning Prévisionnel 2019'!AIG50:ALR50) -> 17 | AH7: =COUNTIF('Planning Prévisionnel 2019'!AIG8:ALR8,"congé") -> 0 | AI7: =SUM('Planning Prévisionnel 2019'!ALS40:APG40) -> 660 | AJ7: =SUM('Planning Prévisionnel 2019'!ALS50:APG50) -> 13 | AK7: =COUNTIF('Planning Prévisionnel 2019'!ALS8:APG8,"congé") -> 0 | AM7: =SUM(B7+E7+H7+K7+N7+Q7+T7+W7+Z7+AC7+AF7+AI7) -> 5291 | AN7: =SUM(C7+F7+I7+L7+O7+R7+U7+X7+AA7+AD7+AG7+AJ7) -> 161 | AO7: =SUM(D7+G7+J7+M7+P7+S7+V7+Y7+AB7+AE7+AH7+AK7) -> 19
A8: =TECH5 -> JULIE | B8: =SUM('Planning Prévisionnel 2019'!E41:CS41) -> 324 | C8: =SUM('Planning Prévisionnel 2019'!E51:CS51) -> 18 | D8: =COUNTIF('Planning Prévisionnel 2019'!E9:CS9,"congé") -> 0 | E8: =SUM('Planning Prévisionnel 2019'!CT41:FY41) -> 516 | F8: =SUM('Planning Prévisionnel 2019'!CT51:FY51) -> 11 | G8: =COUNTIF('Planning Prévisionnel 2019'!CT9:FY9,"congé") -> 0 | H8: =SUM('Planning Prévisionnel 2019'!FZ41:JN41) -> 660 | I8: =SUM('Planning Prévisionnel 2019'!FZ51:JN51) -> 17 | J8: =COUNTIF('Planning Prévisionnel 2019'!FZ9:JN9,"congé") -> 0 | K8: =SUM('Planning Prévisionnel 2019'!JO41:MZ41) -> 219 | L8: =SUM('Planning Prévisionnel 2019'!JO51:MZ51) -> 9 | M8: =COUNTIF('Planning Prévisionnel 2019'!JO9:MZ9,"congé") -> 5 | N8: =SUM('Planning Prévisionnel 2019'!NA41:QO41) -> 591 | O8: =SUM('Planning Prévisionnel 2019'!NA51:QO51) -> 17 | P8: =COUNTIF('Planning Prévisionnel 2019'!NA9:QO9,"congé") -> 0 | Q8: =SUM('Planning Prévisionnel 2019'!QP41:UA41) -> 660 | R8: =SUM('Planning Prévisionnel 2019'!QP51:UA51) -> 11 | S8: =COUNTIF('Planning Prévisionnel 2019'!QP9:UA9,"congé") -> 0 | T8: =SUM('Planning Prévisionnel 2019'!UB41:XP41) -> 336 | U8: =SUM('Planning Prévisionnel 2019'!UB51:XP51) -> 13 | V8: =COUNTIF('Planning Prévisionnel 2019'!UB9:XP9,"congé") -> 0 | W8: =SUM('Planning Prévisionnel 2019'!XQ41:ABE41) -> 399 | X8: =SUM('Planning Prévisionnel 2019'!XQ51:ABE51) -> 17 | Y8: =COUNTIF('Planning Prévisionnel 2019'!XQ9:ABE9,"congé") -> 0 | Z8: =SUM('Planning Prévisionnel 2019'!ABF41:AEQ41) -> 516 | AA8: =SUM('Planning Prévisionnel 2019'!ABF51:AEQ51) -> 13 | AB8: =COUNTIF('Planning Prévisionnel 2019'!ABF9:AEQ9,"congé") -> 0 | AC8: =SUM('Planning Prévisionnel 2019'!AER41:AIF41) -> 660 | AD8: =SUM('Planning Prévisionnel 2019'!AER51:AIF51) -> 15 | AE8: =COUNTIF('Planning Prévisionnel 2019'!AER9:AIF9,"congé") -> 0 | AF8: =SUM('Planning Prévisionnel 2019'!AIG41:ALR41) -> 365 | AG8: =SUM('Planning Prévisionnel 2019'!AIG51:ALR51) -> 16 | AH8: =COUNTIF('Planning Prévisionnel 2019'!AIG9:ALR9,"congé") -> 0 | AI8: =SUM('Planning Prévisionnel 2019'!ALS41:APG41) -> 592 | AJ8: =SUM('Planning Prévisionnel 2019'!ALS51:APG51) -> 17 | AK8: =COUNTIF('Planning Prévisionnel 2019'!ALS9:APG9,"congé") -> 0 | AM8: =SUM(B8+E8+H8+K8+N8+Q8+T8+W8+Z8+AC8+AF8+AI8) -> 5838 | AN8: =SUM(C8+F8+I8+L8+O8+R8+U8+X8+AA8+AD8+AG8+AJ8) -> 174 | AO8: =SUM(D8+G8+J8+M8+P8+S8+V8+Y8+AB8+AE8+AH8+AK8) -> 5
A9: =TECH6 -> ELIE | B9: =SUM('Planning Prévisionnel 2019'!E42:CS42) -> 516 | C9: =SUM('Planning Prévisionnel 2019'!E52:CS52) -> 12 | D9: =COUNTIF('Planning Prévisionnel 2019'!E10:CS10,"congé") -> 4 | E9: =SUM('Planning Prévisionnel 2019'!CT42:FY42) -> 696 | F9: =SUM('Planning Prévisionnel 2019'!CT52:FY52) -> 12 | G9: =COUNTIF('Planning Prévisionnel 2019'!CT10:FY10,"congé") -> 0 | H9: =SUM('Planning Prévisionnel 2019'!FZ42:JN42) -> 480 | I9: =SUM('Planning Prévisionnel 2019'!FZ52:JN52) -> 7 | J9: =COUNTIF('Planning Prévisionnel 2019'!FZ10:JN10,"congé") -> 10 | K9: =SUM('Planning Prévisionnel 2019'!JO42:MZ42) -> 327 | L9: =SUM('Planning Prévisionnel 2019'!JO52:MZ52) -> 16 | M9: =COUNTIF('Planning Prévisionnel 2019'!JO10:MZ10,"congé") -> 0 | N9: =SUM('Planning Prévisionnel 2019'!NA42:QO42) -> 738 | O9: =SUM('Planning Prévisionnel 2019'!NA52:QO52) -> 9 | P9: =COUNTIF('Planning Prévisionnel 2019'!NA10:QO10,"congé") -> 5 | Q9: =SUM('Planning Prévisionnel 2019'!QP42:UA42) -> 735 | R9: =SUM('Planning Prévisionnel 2019'!QP52:UA52) -> 16 | S9: =COUNTIF('Planning Prévisionnel 2019'!QP10:UA10,"congé") -> 0 | T9: =SUM('Planning Prévisionnel 2019'!UB42:XP42) -> 144 | U9: =SUM('Planning Prévisionnel 2019'!UB52:XP52) -> 14 | V9: =COUNTIF('Planning Prévisionnel 2019'!UB10:XP10,"congé") -> 0 | W9: =SUM('Planning Prévisionnel 2019'!XQ42:ABE42) -> 516 | X9: =SUM('Planning Prévisionnel 2019'!XQ52:ABE52) -> 17 | Y9: =COUNTIF('Planning Prévisionnel 2019'!XQ10:ABE10,"congé") -> 0 | Z9: =SUM('Planning Prévisionnel 2019'!ABF42:AEQ42) -> 660 | AA9: =SUM('Planning Prévisionnel 2019'!ABF52:AEQ52) -> 12 | AB9: =COUNTIF('Planning Prévisionnel 2019'!ABF10:AEQ10,"congé") -> 0 | AC9: =SUM('Planning Prévisionnel 2019'!AER42:AIF42) -> 480 | AD9: =SUM('Planning Prévisionnel 2019'!AER52:AIF52) -> 18 | AE9: =COUNTIF('Planning Prévisionnel 2019'!AER10:AIF10,"congé") -> 0 | AF9: =SUM('Planning Prévisionnel 2019'!AIG42:ALR42) -> 399 | AG9: =SUM('Planning Prévisionnel 2019'!AIG52:ALR52) -> 16 | AH9: =COUNTIF('Planning Prévisionnel 2019'!AIG10:ALR10,"congé") -> 0 | AI9: =SUM('Planning Prévisionnel 2019'!ALS42:APG42) -> 666 | AJ9: =SUM('Planning Prévisionnel 2019'!ALS52:APG52) -> 14 | AK9: =COUNTIF('Planning Prévisionnel 2019'!ALS10:APG10,"congé") -> 0 | AM9: =SUM(B9+E9+H9+K9+N9+Q9+T9+W9+Z9+AC9+AF9+AI9) -> 6357 | AN9: =SUM(C9+F9+I9+L9+O9+R9+U9+X9+AA9+AD9+AG9+AJ9) -> 163 | AO9: =SUM(D9+G9+J9+M9+P9+S9+V9+Y9+AB9+AE9+AH9+AK9) -> 19
A10: =TECH7 -> LUCAS | B10: =SUM('Planning Prévisionnel 2019'!E43:CS43) -> 630 | C10: =SUM('Planning Prévisionnel 2019'!E53:CS53) -> 17 | D10: =COUNTIF('Planning Prévisionnel 2019'!E11:CS11,"congé") -> 0 | E10: =SUM('Planning Prévisionnel 2019'!CT43:FY43) -> 180 | F10: =SUM('Planning Prévisionnel 2019'!CT53:FY53) -> 8 | G10: =COUNTIF('Planning Prévisionnel 2019'!CT11:FY11,"congé") -> 9 | H10: =SUM('Planning Prévisionnel 2019'!FZ43:JN43) -> 516 | I10: =SUM('Planning Prévisionnel 2019'!FZ53:JN53) -> 10 | J10: =COUNTIF('Planning Prévisionnel 2019'!FZ11:JN11,"congé") -> 2 | K10: =SUM('Planning Prévisionnel 2019'!JO43:MZ43) -> 324 | L10: =SUM('Planning Prévisionnel 2019'!JO53:MZ53) -> 6 | M10: =COUNTIF('Planning Prévisionnel 2019'!JO11:MZ11,"congé") -> 10 | N10: =SUM('Planning Prévisionnel 2019'!NA43:QO43) -> 255 | O10: =SUM('Planning Prévisionnel 2019'!NA53:QO53) -> 15 | P10: =COUNTIF('Planning Prévisionnel 2019'!NA11:QO11,"congé") -> 0 | Q10: =SUM('Planning Prévisionnel 2019'!QP43:UA43) -> 480 | R10: =SUM('Planning Prévisionnel 2019'!QP53:UA53) -> 16 | S10: =COUNTIF('Planning Prévisionnel 2019'!QP11:UA11,"congé") -> 0 | T10: =SUM('Planning Prévisionnel 2019'!UB43:XP43) -> 735 | U10: =SUM('Planning Prévisionnel 2019'!UB53:XP53) -> 14 | V10: =COUNTIF('Planning Prévisionnel 2019'!UB11:XP11,"congé") -> 0 | W10: =SUM('Planning Prévisionnel 2019'!XQ43:ABE43) -> 625 | X10: =SUM('Planning Prévisionnel 2019'!XQ53:ABE53) -> 17 | Y10: =COUNTIF('Planning Prévisionnel 2019'!XQ11:ABE11,"congé") -> 0 | Z10: =SUM('Planning Prévisionnel 2019'!ABF43:AEQ43) -> 254 | AA10: =SUM('Planning Prévisionnel 2019'!ABF53:AEQ53) -> 15 | AB10: =COUNTIF('Planning Prévisionnel 2019'!ABF11:AEQ11,"congé") -> 0 | AC10: =SUM('Planning Prévisionnel 2019'!AER43:AIF43) -> 516 | AD10: =SUM('Planning Prévisionnel 2019'!AER53:AIF53) -> 16 | AE10: =COUNTIF('Planning Prévisionnel 2019'!AER11:AIF11,"congé") -> 0 | AF10: =SUM('Planning Prévisionnel 2019'!AIG43:ALR43) -> 735 | AG10: =SUM('Planning Prévisionnel 2019'!AIG53:ALR53) -> 12 | AH10: =COUNTIF('Planning Prévisionnel 2019'!AIG11:ALR11,"congé") -> 0 | AI10: =SUM('Planning Prévisionnel 2019'!ALS43:APG43) -> 480 | AJ10: =SUM('Planning Prévisionnel 2019'!ALS53:APG53) -> 18 | AK10: =COUNTIF('Planning Prévisionnel 2019'!ALS11:APG11,"congé") -> 0 | AM10: =SUM(B10+E10+H10+K10+N10+Q10+T10+W10+Z10+AC10+AF10+AI10) -> 5730 | AN10: =SUM(C10+F10+I10+L10+O10+R10+U10+X10+AA10+AD10+AG10+AJ10) -> 164 | AO10: =SUM(D10+G10+J10+M10+P10+S10+V10+Y10+AB10+AE10+AH10+AK10) -> 21
A11: =TECH8 -> JEREMIE | B11: =SUM('Planning Prévisionnel 2019'!E44:CS44) -> 144 | C11: =SUM('Planning Prévisionnel 2019'!E54:CS54) -> 14 | D11: =COUNTIF('Planning Prévisionnel 2019'!E12:CS12,"congé") -> 0 | E11: =SUM('Planning Prévisionnel 2019'!CT44:FY44) -> 516 | F11: =SUM('Planning Prévisionnel 2019'!CT54:FY54) -> 14 | G11: =COUNTIF('Planning Prévisionnel 2019'!CT12:FY12,"congé") -> 2 | H11: =SUM('Planning Prévisionnel 2019'!FZ44:JN44) -> 696 | I11: =SUM('Planning Prévisionnel 2019'!FZ54:JN54) -> 10 | J11: =COUNTIF('Planning Prévisionnel 2019'!FZ12:JN12,"congé") -> 2 | K11: =SUM('Planning Prévisionnel 2019'!JO44:MZ44) -> 480 | L11: =SUM('Planning Prévisionnel 2019'!JO54:MZ54) -> 17 | M11: =COUNTIF('Planning Prévisionnel 2019'!JO12:MZ12,"congé") -> 1 | N11: =SUM('Planning Prévisionnel 2019'!NA44:QO44) -> 399 | O11: =SUM('Planning Prévisionnel 2019'!NA54:QO54) -> 16 | P11: =COUNTIF('Planning Prévisionnel 2019'!NA12:QO12,"congé") -> 1 | Q11: =SUM('Planning Prévisionnel 2019'!QP44:UA44) -> 516 | R11: =SUM('Planning Prévisionnel 2019'!QP54:UA54) -> 12 | S11: =COUNTIF('Planning Prévisionnel 2019'!QP12:UA12,"congé") -> 0 | T11: =SUM('Planning Prévisionnel 2019'!UB44:XP44) -> 660 | U11: =SUM('Planning Prévisionnel 2019'!UB54:XP54) -> 16 | V11: =COUNTIF('Planning Prévisionnel 2019'!UB12:XP12,"congé") -> 0 | W11: =SUM('Planning Prévisionnel 2019'!XQ44:ABE44) -> 365 | X11: =SUM('Planning Prévisionnel 2019'!XQ54:ABE54) -> 16 | Y11: =COUNTIF('Planning Prévisionnel 2019'!XQ12:ABE12,"congé") -> 0 | Z11: =SUM('Planning Prévisionnel 2019'!ABF44:AEQ44) -> 406 | AA11: =SUM('Planning Prévisionnel 2019'!ABF54:AEQ54) -> 16 | AB11: =COUNTIF('Planning Prévisionnel 2019'!ABF12:AEQ12,"congé") -> 0 | AC11: =SUM('Planning Prévisionnel 2019'!AER44:AIF44) -> 624 | AD11: =SUM('Planning Prévisionnel 2019'!AER54:AIF54) -> 14 | AE11: =COUNTIF('Planning Prévisionnel 2019'!AER12:AIF12,"congé") -> 0 | AF11: =SUM('Planning Prévisionnel 2019'!AIG44:ALR44) -> 700 | AG11: =SUM('Planning Prévisionnel 2019'!AIG54:ALR54) -> 16 | AH11: =COUNTIF('Planning Prévisionnel 2019'!AIG12:ALR12,"congé") -> 0 | AI11: =SUM('Planning Prévisionnel 2019'!ALS44:APG44) -> 404 | AJ11: =SUM('Planning Prévisionnel 2019'!ALS54:APG54) -> 15 | AK11: =COUNTIF('Planning Prévisionnel 2019'!ALS12:APG12,"congé") -> 0 | AM11: =SUM(B11+E11+H11+K11+N11+Q11+T11+W11+Z11+AC11+AF11+AI11) -> 5910 | AN11: =SUM(C11+F11+I11+L11+O11+R11+U11+X11+AA11+AD11+AG11+AJ11) -> 176 | AO11: =SUM(D11+G11+J11+M11+P11+S11+V11+Y11+AB11+AE11+AH11+AK11) -> 6
A12: =TECH9 -> JORDAN | B12: =SUM('Planning Prévisionnel 2019'!E45:CS45) -> 0 | C12: =SUM('Planning Prévisionnel 2019'!E55:CS55) -> 22 | D12: =COUNTIF('Planning Prévisionnel 2019'!E13:CS13,"congé") -> 0 | E12: =SUM('Planning Prévisionnel 2019'!CT45:FY45) -> 0 | F12: =SUM('Planning Prévisionnel 2019'!CT55:FY55) -> 20 | G12: =COUNTIF('Planning Prévisionnel 2019'!CT13:FY13,"congé") -> 0 | H12: =SUM('Planning Prévisionnel 2019'!FZ45:JN45) -> 300 | I12: =SUM('Planning Prévisionnel 2019'!FZ55:JN55) -> 15 | J12: =COUNTIF('Planning Prévisionnel 2019'!FZ13:JN13,"congé") -> 5 | K12: =SUM('Planning Prévisionnel 2019'!JO45:MZ45) -> 0 | L12: =SUM('Planning Prévisionnel 2019'!JO55:MZ55) -> 15 | M12: =COUNTIF('Planning Prévisionnel 2019'!JO13:MZ13,"congé") -> 6 | N12: =SUM('Planning Prévisionnel 2019'!NA45:QO45) -> 0 | O12: =SUM('Planning Prévisionnel 2019'!NA55:QO55) -> 20 | P12: =COUNTIF('Planning Prévisionnel 2019'!NA13:QO13,"congé") -> 0 | Q12: =SUM('Planning Prévisionnel 2019'!QP45:UA45) -> 0 | R12: =SUM('Planning Prévisionnel 2019'!QP55:UA55) -> 19 | S12: =COUNTIF('Planning Prévisionnel 2019'!QP13:UA13,"congé") -> 0 | T12: =SUM('Planning Prévisionnel 2019'!UB45:XP45) -> 0 | U12: =SUM('Planning Prévisionnel 2019'!UB55:XP55) -> 23 | V12: =COUNTIF('Planning Prévisionnel 2019'!UB13:XP13,"congé") -> 0 | W12: =SUM('Planning Prévisionnel 2019'!XQ45:ABE45) -> 0 | X12: =SUM('Planning Prévisionnel 2019'!XQ55:ABE55) -> 21 | Y12: =COUNTIF('Planning Prévisionnel 2019'!XQ13:ABE13,"congé") -> 0 | Z12: =SUM('Planning Prévisionnel 2019'!ABF45:AEQ45) -> 0 | AA12: =SUM('Planning Prévisionnel 2019'!ABF55:AEQ55) -> 21 | AB12: =COUNTIF('Planning Prévisionnel 2019'!ABF13:AEQ13,"congé") -> 0 | AC12: =SUM('Planning Prévisionnel 2019'!AER45:AIF45) -> 0 | AD12: =SUM('Planning Prévisionnel 2019'!AER55:AIF55) -> 23 | AE12: =COUNTIF('Planning Prévisionnel 2019'!AER13:AIF13,"congé") -> 0 | AF12: =SUM('Planning Prévisionnel 2019'!AIG45:ALR45) -> 0 | AG12: =SUM('Planning Prévisionnel 2019'!AIG55:ALR55) -> 19 | AH12: =COUNTIF('Planning Prévisionnel 2019'!AIG13:ALR13,"congé") -> 0 | AI12: =SUM('Planning Prévisionnel 2019'!ALS45:APG45) -> 0 | AJ12: =SUM('Planning Prévisionnel 2019'!ALS55:APG55) -> 21 | AK12: =COUNTIF('Planning Prévisionnel 2019'!ALS13:APG13,"congé") -> 0 | AM12: =SUM(B12+E12+H12+K12+N12+Q12+T12+W12+Z12+AC12+AF12+AI12) -> 300 | AN12: =SUM(C12+F12+I12+L12+O12+R12+U12+X12+AA12+AD12+AG12+AJ12) -> 239 | AO12: =SUM(D12+G12+J12+M12+P12+S12+V12+Y12+AB12+AE12+AH12+AK12) -> 11
A14: TOTAL MENSUEL | B14: =SUM(B4:B12) -> 3198 | C14: =SUM(C4:C12) -> 138 | D14: =SUM(D4:D12) -> 17 | E14: =SUM(E4:E12) -> 2640 | F14: =SUM(F4:F12) -> 127 | G14: =SUM(G4:G12) -> 18 | H14: =SUM(H4:H12) -> 3156 | I14: =SUM(I4:I12) -> 127 | ... AK14: =SUM(AK4:AK12) -> 0 | AM14: =SUM(AM4:AM12) -> 37287 | AN14: =SUM(AN4:AN12) -> 1720 | AO14: =SUM(AO4:AO12) -> 112
B16: JANVIER | E16: FÉVRIER | H16: MARS | K16: AVRIL | N16: MAI | Q16: JUIN | T16: JUILLET | W16: AOÛT | Z16: SEPTEMBRE | AC16: OCTOBRE | AF16: NOVEMBRE | AI16: DÉCEMBRE
A17: =TECH1 -> MANON
A24: =TECH2 -> EMILIE
A31: =TECH3 -> THIBAULT
A38: =TECH4 -> DONATIEN
A45: =TECH5 -> JULIE
A52: =TECH6 -> ELIE
A59: =TECH7 -> LUCAS
A66: =TECH8 -> JEREMIE
A73: =TECH9 -> JORDAN

Sheet Feuil2
D1: Manon | E1: 42005 | F1: 42006 | G1: 42007 | H1: 42008 | I1: 42009 | N1: 43475 | AB1: 43489 | AI1: 43496 | AJ1: 43497 | AN1: 43501 | AS1: 43506 | BK1: 43524 | BL1: 43525 | BM1: 43526 | BN1: 43527
D2: Emilie | G2: 43468 | H2: 43469 | I2: 43470 | J2: 43471 | L2: 43473 | AF2: 43493 | AR2: 43505
D3: Thibault | E3: 43466 | F3: 43467 | K3: 43472 | M3: 43474 | N3: 43475 | AQ3: 43139
D4: Donatien | E4: 42005
D7: Manon | E7: Manon | F7: Manon | H7: Emilie | I7: Emilie | K7: Thibault | L7: Thibault | N7: Donatien | O7: Donatien
E8: 43466 | F8: 43497 | H8: 43466 | I8: 43497 | K8: 43466 | L8: 43497 | N8: 43466 | O8: 43497
E9: {=IF(ISERROR(INDEX(Infirmier,SMALL(IF(MONTH(Infirmier)=MONTH(E$8)*ISNUMBER(Infirmier),COLUMN(Infirmier)-4),ROWS($1:1)))),"",INDEX(Infirmier,SMALL(IF(MONTH(Infirmier)=MONTH(E$8)*ISNUMBER(Infirmier),COLUMN(Infirmier)-4),ROWS($1:1))))} -> 42005 | F9: {=IF(ISERROR(INDEX(Infirmier,SMALL(IF(MONTH(Infirmier)=MONTH(F$8)*ISNUMBER(Infirmier),COLUMN(Infirmier)-4),ROWS($1:1)))),"",INDEX(Infirmier,SMALL(IF(MONTH(Infirmier)=MONTH(F$8)*ISNUMBER(Infirmier),COLUMN(Infirmier)-4),ROWS($1:1))))} -> 43497 | H9: {=IF(ISERROR(INDEX(Infirmier,SMALL(IF(MONTH(Infirmier)=MONTH(H$8)*ISNUMBER(Infirmier),COLUMN(Infirmier)-4),ROWS($1:1)))),"",INDEX(Infirmier,SMALL(IF(MONTH(Infirmier)=MONTH(H$8)*ISNUMBER(Infirmier),COLUMN(Infirmier)-4),ROWS($1:1))))} -> 43468 | I9: {=IF(ISERROR(INDEX(Infirmier,SMALL(IF(MONTH(Infirmier)=MONTH(I$8)*ISNUMBER(Infirmier),COLUMN(Infirmier)-4),ROWS($1:1)))),"",INDEX(Infirmier,SMALL(IF(MONTH(Infirmier)=MONTH(I$8)*ISNUMBER(Infirmier),COLUMN(Infirmier)-4),ROWS($1:1))))} -> 43505 | K9: {=IF(ISERROR(INDEX(Infirmier,SMALL(IF(MONTH(Infirmier)=MONTH(K$8)*ISNUMBER(Infirmier),COLUMN(Infirmier)-4),ROWS($1:1)))),"",INDEX(Infirmier,SMALL(IF(MONTH(Infirmier)=MONTH(K$8)*ISNUMBER(Infirmier),COLUMN(Infirmier)-4),ROWS($1:1))))} -> 43466 | L9: {=IF(ISERROR(INDEX(Infirmier,SMALL(IF(MONTH(Infirmier)=MONTH(L$8)*ISNUMBER(Infirmier),COLUMN(Infirmier)-4),ROWS($1:1)))),"",INDEX(Infirmier,SMALL(IF(MONTH(Infirmier)=MONTH(L$8)*ISNUMBER(Infirmier),COLUMN(Infirmier)-4),ROWS($1:1))))} -> 43139 | N9: =IF(ISERROR(INDEX(Infirmier,SMALL(IF(MONTH(Infirmier)=MONTH(N$8)*ISNUMBER(Infirmier),COLUMN(Infirmier)-4),ROWS($1:1)))),"",INDEX(Infirmier,SMALL(IF(MONTH(Infirmier)=MONTH(N$8)*ISNUMBER(Infirmier),COLUMN(Infirmier)-4),ROWS($1:1)))) | O9: {=IF(ISERROR(INDEX(Infirmier,SMALL(IF(MONTH(Infirmier)=MONTH(O$8)*ISNUMBER(Infirmier),COLUMN(Infirmier)-4),ROWS($1:1)))),"",INDEX(Infirmier,SMALL(IF(MONTH(Infirmier)=MONTH(O$8)*ISNUMBER(Infirmier),COLUMN(Infirmier)-4),ROWS($1:1))))}
A10: =SUM(Infirmier) -> #N/A | E10: {=IF(ISERROR(INDEX(Infirmier,SMALL(IF(MONTH(Infirmier)=MONTH(E$8)*ISNUMBER(Infirmier),COLUMN(Infirmier)-4),ROWS($1:2)))),"",INDEX(Infirmier,SMALL(IF(MONTH(Infirmier)=MONTH(E$8)*ISNUMBER(Infirmier),COLUMN(Infirmier)-4),ROWS($1:2))))} -> 42006 | F10: {=IF(ISERROR(INDEX(Infirmier,SMALL(IF(MONTH(Infirmier)=MONTH(F$8)*ISNUMBER(Infirmier),COLUMN(Infirmier)-4),ROWS($1:2)))),"",INDEX(Infirmier,SMALL(IF(MONTH(Infirmier)=MONTH(F$8)*ISNUMBER(Infirmier),COLUMN(Infirmier)-4),ROWS($1:2))))} -> 43501 | H10: {=IF(ISERROR(INDEX(Infirmier,SMALL(IF(MONTH(Infirmier)=MONTH(H$8)*ISNUMBER(Infirmier),COLUMN(Infirmier)-4),ROWS($1:2)))),"",INDEX(Infirmier,SMALL(IF(MONTH(Infirmier)=MONTH(H$8)*ISNUMBER(Infirmier),COLUMN(Infirmier)-4),ROWS($1:2))))} -> 43469 | I10: {=IF(ISERROR(INDEX(Infirmier,SMALL(IF(MONTH(Infirmier)=MONTH(I$8)*ISNUMBER(Infirmier),COLUMN(Infirmier)-4),ROWS($1:2)))),"",INDEX(Infirmier,SMALL(IF(MONTH(Infirmier)=MONTH(I$8)*ISNUMBER(Infirmier),COLUMN(Infirmier)-4),ROWS($1:2))))} | K10: {=IF(ISERROR(INDEX(Infirmier,SMALL(IF(MONTH(Infirmier)=MONTH(K$8)*ISNUMBER(Infirmier),COLUMN(Infirmier)-4),ROWS($1:2)))),"",INDEX(Infirmier,SMALL(IF(MONTH(Infirmier)=MONTH(K$8)*ISNUMBER(Infirmier),COLUMN(Infirmier)-4),ROWS($1:2))))} -> 43467 | L10: {=IF(ISERROR(INDEX(Infirmier,SMALL(IF(MONTH(Infirmier)=MONTH(L$8)*ISNUMBER(Infirmier),COLUMN(Infirmier)-4),ROWS($1:2)))),"",INDEX(Infirmier,SMALL(IF(MONTH(Infirmier)=MONTH(L$8)*ISNUMBER(Infirmier),COLUMN(Infirmier)-4),ROWS($1:2))))} | N10: {=IF(ISERROR(INDEX(Infirmier,SMALL(IF(MONTH(Infirmier)=MONTH(N$8)*ISNUMBER(Infirmier),COLUMN(Infirmier)-4),ROWS($1:2)))),"",INDEX(Infirmier,SMALL(IF(MONTH(Infirmier)=MONTH(N$8)*ISNUMBER(Infirmier),COLUMN(Infirmier)-4),ROWS($1:2))))} | O10: {=IF(ISERROR(INDEX(Infirmier,SMALL(IF(MONTH(Infirmier)=MONTH(O$8)*ISNUMBER(Infirmier),COLUMN(Infirmier)-4),ROWS($1:2)))),"",INDEX(Infirmier,SMALL(IF(MONTH(Infirmier)=MONTH(O$8)*ISNUMBER(Infirmier),COLUMN(Infirmier)-4),ROWS($1:2))))}
E11: {=IF(ISERROR(INDEX(Infirmier,SMALL(IF(MONTH(Infirmier)=MONTH(E$8)*ISNUMBER(Infirmier),COLUMN(Infirmier)-4),ROWS($1:3)))),"",INDEX(Infirmier,SMALL(IF(MONTH(Infirmier)=MONTH(E$8)*ISNUMBER(Infirmier),COLUMN(Infirmier)-4),ROWS($1:3))))} -> 42007 | F11: {=IF(ISERROR(INDEX(Infirmier,SMALL(IF(MONTH(Infirmier)=MONTH(F$8)*ISNUMBER(Infirmier),COLUMN(Infirmier)-4),ROWS($1:3)))),"",INDEX(Infirmier,SMALL(IF(MONTH(Infirmier)=MONTH(F$8)*ISNUMBER(Infirmier),COLUMN(Infirmier)-4),ROWS($1:3))))} -> 43506 | H11: {=IF(ISERROR(INDEX(Infirmier,SMALL(IF(MONTH(Infirmier)=MONTH(H$8)*ISNUMBER(Infirmier),COLUMN(Infirmier)-4),ROWS($1:3)))),"",INDEX(Infirmier,SMALL(IF(MONTH(Infirmier)=MONTH(H$8)*ISNUMBER(Infirmier),COLUMN(Infirmier)-4),ROWS($1:3))))} -> 43470 | I11: {=IF(ISERROR(INDEX(Infirmier,SMALL(IF(MONTH(Infirmier)=MONTH(I$8)*ISNUMBER(Infirmier),COLUMN(Infirmier)-4),ROWS($1:3)))),"",INDEX(Infirmier,SMALL(IF(MONTH(Infirmier)=MONTH(I$8)*ISNUMBER(Infirmier),COLUMN(Infirmier)-4),ROWS($1:3))))} | K11: {=IF(ISERROR(INDEX(Infirmier,SMALL(IF(MONTH(Infirmier)=MONTH(K$8)*ISNUMBER(Infirmier),COLUMN(Infirmier)-4),ROWS($1:3)))),"",INDEX(Infirmier,SMALL(IF(MONTH(Infirmier)=MONTH(K$8)*ISNUMBER(Infirmier),COLUMN(Infirmier)-4),ROWS($1:3))))} -> 43472 | L11: {=IF(ISERROR(INDEX(Infirmier,SMALL(IF(MONTH(Infirmier)=MONTH(L$8)*ISNUMBER(Infirmier),COLUMN(Infirmier)-4),ROWS($1:3)))),"",INDEX(Infirmier,SMALL(IF(MONTH(Infirmier)=MONTH(L$8)*ISNUMBER(Infirmier),COLUMN(Infirmier)-4),ROWS($1:3))))} | N11: {=IF(ISERROR(INDEX(Infirmier,SMALL(IF(MONTH(Infirmier)=MONTH(N$8)*ISNUMBER(Infirmier),COLUMN(Infirmier)-4),ROWS($1:3)))),"",INDEX(Infirmier,SMALL(IF(MONTH(Infirmier)=MONTH(N$8)*ISNUMBER(Infirmier),COLUMN(Infirmier)-4),ROWS($1:3))))} | O11: {=IF(ISERROR(INDEX(Infirmier,SMALL(IF(MONTH(Infirmier)=MONTH(O$8)*ISNUMBER(Infirmier),COLUMN(Infirmier)-4),ROWS($1:3)))),"",INDEX(Infirmier,SMALL(IF(MONTH(Infirmier)=MONTH(O$8)*ISNUMBER(Infirmier),COLUMN(Infirmier)-4),ROWS($1:3))))}
E12: {=IF(ISERROR(INDEX(Infirmier,SMALL(IF(MONTH(Infirmier)=MONTH(E$8)*ISNUMBER(Infirmier),COLUMN(Infirmier)-4),ROWS($1:4)))),"",INDEX(Infirmier,SMALL(IF(MONTH(Infirmier)=MONTH(E$8)*ISNUMBER(Infirmier),COLUMN(Infirmier)-4),ROWS($1:4))))} -> 42008 | F12: {=IF(ISERROR(INDEX(Infirmier,SMALL(IF(MONTH(Infirmier)=MONTH(F$8)*ISNUMBER(Infirmier),COLUMN(Infirmier)-4),ROWS($1:4)))),"",INDEX(Infirmier,SMALL(IF(MONTH(Infirmier)=MONTH(F$8)*ISNUMBER(Infirmier),COLUMN(Infirmier)-4),ROWS($1:4))))} -> 43524 | H12: {=IF(ISERROR(INDEX(Infirmier,SMALL(IF(MONTH(Infirmier)=MONTH(H$8)*ISNUMBER(Infirmier),COLUMN(Infirmier)-4),ROWS($1:4)))),"",INDEX(Infirmier,SMALL(IF(MONTH(Infirmier)=MONTH(H$8)*ISNUMBER(Infirmier),COLUMN(Infirmier)-4),ROWS($1:4))))} -> 43471 | I12: {=IF(ISERROR(INDEX(Infirmier,SMALL(IF(MONTH(Infirmier)=MONTH(I$8)*ISNUMBER(Infirmier),COLUMN(Infirmier)-4),ROWS($1:4)))),"",INDEX(Infirmier,SMALL(IF(MONTH(Infirmier)=MONTH(I$8)*ISNUMBER(Infirmier),COLUMN(Infirmier)-4),ROWS($1:4))))} | K12: {=IF(ISERROR(INDEX(Infirmier,SMALL(IF(MONTH(Infirmier)=MONTH(K$8)*ISNUMBER(Infirmier),COLUMN(Infirmier)-4),ROWS($1:4)))),"",INDEX(Infirmier,SMALL(IF(MONTH(Infirmier)=MONTH(K$8)*ISNUMBER(Infirmier),COLUMN(Infirmier)-4),ROWS($1:4))))} -> 43474 | L12: {=IF(ISERROR(INDEX(Infirmier,SMALL(IF(MONTH(Infirmier)=MONTH(L$8)*ISNUMBER(Infirmier),COLUMN(Infirmier)-4),ROWS($1:4)))),"",INDEX(Infirmier,SMALL(IF(MONTH(Infirmier)=MONTH(L$8)*ISNUMBER(Infirmier),COLUMN(Infirmier)-4),ROWS($1:4))))} | N12: {=IF(ISERROR(INDEX(Infirmier,SMALL(IF(MONTH(Infirmier)=MONTH(N$8)*ISNUMBER(Infirmier),COLUMN(Infirmier)-4),ROWS($1:4)))),"",INDEX(Infirmier,SMALL(IF(MONTH(Infirmier)=MONTH(N$8)*ISNUMBER(Infirmier),COLUMN(Infirmier)-4),ROWS($1:4))))} | O12: {=IF(ISERROR(INDEX(Infirmier,SMALL(IF(MONTH(Infirmier)=MONTH(O$8)*ISNUMBER(Infirmier),COLUMN(Infirmier)-4),ROWS($1:4)))),"",INDEX(Infirmier,SMALL(IF(MONTH(Infirmier)=MONTH(O$8)*ISNUMBER(Infirmier),COLUMN(Infirmier)-4),ROWS($1:4))))}
E13: {=IF(ISERROR(INDEX(Infirmier,SMALL(IF(MONTH(Infirmier)=MONTH(E$8)*ISNUMBER(Infirmier),COLUMN(Infirmier)-4),ROWS($1:5)))),"",INDEX(Infirmier,SMALL(IF(MONTH(Infirmier)=MONTH(E$8)*ISNUMBER(Infirmier),COLUMN(Infirmier)-4),ROWS($1:5))))} -> 42009 | F13: {=IF(ISERROR(INDEX(Infirmier,SMALL(IF(MONTH(Infirmier)=MONTH(F$8)*ISNUMBER(Infirmier),COLUMN(Infirmier)-4),ROWS($1:5)))),"",INDEX(Infirmier,SMALL(IF(MONTH(Infirmier)=MONTH(F$8)*ISNUMBER(Infirmier),COLUMN(Infirmier)-4),ROWS($1:5))))} | H13: {=IF(ISERROR(INDEX(Infirmier,SMALL(IF(MONTH(Infirmier)=MONTH(H$8)*ISNUMBER(Infirmier),COLUMN(Infirmier)-4),ROWS($1:5)))),"",INDEX(Infirmier,SMALL(IF(MONTH(Infirmier)=MONTH(H$8)*ISNUMBER(Infirmier),COLUMN(Infirmier)-4),ROWS($1:5))))} -> 43473 | I13: {=IF(ISERROR(INDEX(Infirmier,SMALL(IF(MONTH(Infirmier)=MONTH(I$8)*ISNUMBER(Infirmier),COLUMN(Infirmier)-4),ROWS($1:5)))),"",INDEX(Infirmier,SMALL(IF(MONTH(Infirmier)=MONTH(I$8)*ISNUMBER(Infirmier),COLUMN(Infirmier)-4),ROWS($1:5))))} | K13: {=IF(ISERROR(INDEX(Infirmier,SMALL(IF(MONTH(Infirmier)=MONTH(K$8)*ISNUMBER(Infirmier),COLUMN(Infirmier)-4),ROWS($1:5)))),"",INDEX(Infirmier,SMALL(IF(MONTH(Infirmier)=MONTH(K$8)*ISNUMBER(Infirmier),COLUMN(Infirmier)-4),ROWS($1:5))))} -> 43475 | L13: {=IF(ISERROR(INDEX(Infirmier,SMALL(IF(MONTH(Infirmier)=MONTH(L$8)*ISNUMBER(Infirmier),COLUMN(Infirmier)-4),ROWS($1:5)))),"",INDEX(Infirmier,SMALL(IF(MONTH(Infirmier)=MONTH(L$8)*ISNUMBER(Infirmier),COLUMN(Infirmier)-4),ROWS($1:5))))} | N13: {=IF(ISERROR(INDEX(Infirmier,SMALL(IF(MONTH(Infirmier)=MONTH(N$8)*ISNUMBER(Infirmier),COLUMN(Infirmier)-4),ROWS($1:5)))),"",INDEX(Infirmier,SMALL(IF(MONTH(Infirmier)=MONTH(N$8)*ISNUMBER(Infirmier),COLUMN(Infirmier)-4),ROWS($1:5))))} | O13: {=IF(ISERROR(INDEX(Infirmier,SMALL(IF(MONTH(Infirmier)=MONTH(O$8)*ISNUMBER(Infirmier),COLUMN(Infirmier)-4),ROWS($1:5)))),"",INDEX(Infirmier,SMALL(IF(MONTH(Infirmier)=MONTH(O$8)*ISNUMBER(Infirmier),COLUMN(Infirmier)-4),ROWS($1:5))))}
A14: =OFFSET($E$1,MATCH(E$7,$D$1:$D$6,0)-1,0,1,MATCH(9^9^9,$1:$1,1)-4) -> #VALUE! | E14: {=IF(ISERROR(INDEX(Infirmier,SMALL(IF(MONTH(Infirmier)=MONTH(E$8)*ISNUMBER(Infirmier),COLUMN(Infirmier)-4),ROWS($1:6)))),"",INDEX(Infirmier,SMALL(IF(MONTH(Infirmier)=MONTH(E$8)*ISNUMBER(Infirmier),COLUMN(Infirmier)-4),ROWS($1:6))))} -> 43475 | F14: {=IF(ISERROR(INDEX(Infirmier,SMALL(IF(MONTH(Infirmier)=MONTH(F$8)*ISNUMBER(Infirmier),COLUMN(Infirmier)-4),ROWS($1:6)))),"",INDEX(Infirmier,SMALL(IF(MONTH(Infirmier)=MONTH(F$8)*ISNUMBER(Infirmier),COLUMN(Infirmier)-4),ROWS($1:6))))} | H14: {=IF(ISERROR(INDEX(Infirmier,SMALL(IF(MONTH(Infirmier)=MONTH(H$8)*ISNUMBER(Infirmier),COLUMN(Infirmier)-4),ROWS($1:6)))),"",INDEX(Infirmier,SMALL(IF(MONTH(Infirmier)=MONTH(H$8)*ISNUMBER(Infirmier),COLUMN(Infirmier)-4),ROWS($1:6))))} -> 43493 | I14: {=IF(ISERROR(INDEX(Infirmier,SMALL(IF(MONTH(Infirmier)=MONTH(I$8)*ISNUMBER(Infirmier),COLUMN(Infirmier)-4),ROWS($1:6)))),"",INDEX(Infirmier,SMALL(IF(MONTH(Infirmier)=MONTH(I$8)*ISNUMBER(Infirmier),COLUMN(Infirmier)-4),ROWS($1:6))))} | K14: {=IF(ISERROR(INDEX(Infirmier,SMALL(IF(MONTH(Infirmier)=MONTH(K$8)*ISNUMBER(Infirmier),COLUMN(Infirmier)-4),ROWS($1:6)))),"",INDEX(Infirmier,SMALL(IF(MONTH(Infirmier)=MONTH(K$8)*ISNUMBER(Infirmier),COLUMN(Infirmier)-4),ROWS($1:6))))} | L14: {=IF(ISERROR(INDEX(Infirmier,SMALL(IF(MONTH(Infirmier)=MONTH(L$8)*ISNUMBER(Infirmier),COLUMN(Infirmier)-4),ROWS($1:6)))),"",INDEX(Infirmier,SMALL(IF(MONTH(Infirmier)=MONTH(L$8)*ISNUMBER(Infirmier),COLUMN(Infirmier)-4),ROWS($1:6))))} | N14: {=IF(ISERROR(INDEX(Infirmier,SMALL(IF(MONTH(Infirmier)=MONTH(N$8)*ISNUMBER(Infirmier),COLUMN(Infirmier)-4),ROWS($1:6)))),"",INDEX(Infirmier,SMALL(IF(MONTH(Infirmier)=MONTH(N$8)*ISNUMBER(Infirmier),COLUMN(Infirmier)-4),ROWS($1:6))))} | O14: {=IF(ISERROR(INDEX(Infirmier,SMALL(IF(MONTH(Infirmier)=MONTH(O$8)*ISNUMBER(Infirmier),COLUMN(Infirmier)-4),ROWS($1:6)))),"",INDEX(Infirmier,SMALL(IF(MONTH(Infirmier)=MONTH(O$8)*ISNUMBER(Infirmier),COLUMN(Infirmier)-4),ROWS($1:6))))}
E15: {=IF(ISERROR(INDEX(Infirmier,SMALL(IF(MONTH(Infirmier)=MONTH(E$8)*ISNUMBER(Infirmier),COLUMN(Infirmier)-4),ROWS($1:7)))),"",INDEX(Infirmier,SMALL(IF(MONTH(Infirmier)=MONTH(E$8)*ISNUMBER(Infirmier),COLUMN(Infirmier)-4),ROWS($1:7))))} -> 43489 | F15: {=IF(ISERROR(INDEX(Infirmier,SMALL(IF(MONTH(Infirmier)=MONTH(F$8)*ISNUMBER(Infirmier),COLUMN(Infirmier)-4),ROWS($1:7)))),"",INDEX(Infirmier,SMALL(IF(MONTH(Infirmier)=MONTH(F$8)*ISNUMBER(Infirmier),COLUMN(Infirmier)-4),ROWS($1:7))))} | H15: {=IF(ISERROR(INDEX(Infirmier,SMALL(IF(MONTH(Infirmier)=MONTH(H$8)*ISNUMBER(Infirmier),COLUMN(Infirmier)-4),ROWS($1:7)))),"",INDEX(Infirmier,SMALL(IF(MONTH(Infirmier)=MONTH(H$8)*ISNUMBER(Infirmier),COLUMN(Infirmier)-4),ROWS($1:7))))} | I15: {=IF(ISERROR(INDEX(Infirmier,SMALL(IF(MONTH(Infirmier)=MONTH(I$8)*ISNUMBER(Infirmier),COLUMN(Infirmier)-4),ROWS($1:7)))),"",INDEX(Infirmier,SMALL(IF(MONTH(Infirmier)=MONTH(I$8)*ISNUMBER(Infirmier),COLUMN(Infirmier)-4),ROWS($1:7))))} | K15: {=IF(ISERROR(INDEX(Infirmier,SMALL(IF(MONTH(Infirmier)=MONTH(K$8)*ISNUMBER(Infirmier),COLUMN(Infirmier)-4),ROWS($1:7)))),"",INDEX(Infirmier,SMALL(IF(MONTH(Infirmier)=MONTH(K$8)*ISNUMBER(Infirmier),COLUMN(Infirmier)-4),ROWS($1:7))))} | L15: {=IF(ISERROR(INDEX(Infirmier,SMALL(IF(MONTH(Infirmier)=MONTH(L$8)*ISNUMBER(Infirmier),COLUMN(Infirmier)-4),ROWS($1:7)))),"",INDEX(Infirmier,SMALL(IF(MONTH(Infirmier)=MONTH(L$8)*ISNUMBER(Infirmier),COLUMN(Infirmier)-4),ROWS($1:7))))} | N15: {=IF(ISERROR(INDEX(Infirmier,SMALL(IF(MONTH(Infirmier)=MONTH(N$8)*ISNUMBER(Infirmier),COLUMN(Infirmier)-4),ROWS($1:7)))),"",INDEX(Infirmier,SMALL(IF(MONTH(Infirmier)=MONTH(N$8)*ISNUMBER(Infirmier),COLUMN(Infirmier)-4),ROWS($1:7))))} | O15: {=IF(ISERROR(INDEX(Infirmier,SMALL(IF(MONTH(Infirmier)=MONTH(O$8)*ISNUMBER(Infirmier),COLUMN(Infirmier)-4),ROWS($1:7)))),"",INDEX(Infirmier,SMALL(IF(MONTH(Infirmier)=MONTH(O$8)*ISNUMBER(Infirmier),COLUMN(Infirmier)-4),ROWS($1:7))))}
E16: {=IF(ISERROR(INDEX(Infirmier,SMALL(IF(MONTH(Infirmier)=MONTH(E$8)*ISNUMBER(Infirmier),COLUMN(Infirmier)-4),ROWS($1:8)))),"",INDEX(Infirmier,SMALL(IF(MONTH(Infirmier)=MONTH(E$8)*ISNUMBER(Infirmier),COLUMN(Infirmier)-4),ROWS($1:8))))} -> 43496 | F16: {=IF(ISERROR(INDEX(Infirmier,SMALL(IF(MONTH(Infirmier)=MONTH(F$8)*ISNUMBER(Infirmier),COLUMN(Infirmier)-4),ROWS($1:8)))),"",INDEX(Infirmier,SMALL(IF(MONTH(Infirmier)=MONTH(F$8)*ISNUMBER(Infirmier),COLUMN(Infirmier)-4),ROWS($1:8))))} | H16: {=IF(ISERROR(INDEX(Infirmier,SMALL(IF(MONTH(Infirmier)=MONTH(H$8)*ISNUMBER(Infirmier),COLUMN(Infirmier)-4),ROWS($1:8)))),"",INDEX(Infirmier,SMALL(IF(MONTH(Infirmier)=MONTH(H$8)*ISNUMBER(Infirmier),COLUMN(Infirmier)-4),ROWS($1:8))))} | I16: {=IF(ISERROR(INDEX(Infirmier,SMALL(IF(MONTH(Infirmier)=MONTH(I$8)*ISNUMBER(Infirmier),COLUMN(Infirmier)-4),ROWS($1:8)))),"",INDEX(Infirmier,SMALL(IF(MONTH(Infirmier)=MONTH(I$8)*ISNUMBER(Infirmier),COLUMN(Infirmier)-4),ROWS($1:8))))} | K16: {=IF(ISERROR(INDEX(Infirmier,SMALL(IF(MONTH(Infirmier)=MONTH(K$8)*ISNUMBER(Infirmier),COLUMN(Infirmier)-4),ROWS($1:8)))),"",INDEX(Infirmier,SMALL(IF(MONTH(Infirmier)=MONTH(K$8)*ISNUMBER(Infirmier),COLUMN(Infirmier)-4),ROWS($1:8))))} | L16: {=IF(ISERROR(INDEX(Infirmier,SMALL(IF(MONTH(Infirmier)=MONTH(L$8)*ISNUMBER(Infirmier),COLUMN(Infirmier)-4),ROWS($1:8)))),"",INDEX(Infirmier,SMALL(IF(MONTH(Infirmier)=MONTH(L$8)*ISNUMBER(Infirmier),COLUMN(Infirmier)-4),ROWS($1:8))))} | N16: {=IF(ISERROR(INDEX(Infirmier,SMALL(IF(MONTH(Infirmier)=MONTH(N$8)*ISNUMBER(Infirmier),COLUMN(Infirmier)-4),ROWS($1:8)))),"",INDEX(Infirmier,SMALL(IF(MONTH(Infirmier)=MONTH(N$8)*ISNUMBER(Infirmier),COLUMN(Infirmier)-4),ROWS($1:8))))} | O16: {=IF(ISERROR(INDEX(Infirmier,SMALL(IF(MONTH(Infirmier)=MONTH(O$8)*ISNUMBER(Infirmier),COLUMN(Infirmier)-4),ROWS($1:8)))),"",INDEX(Infirmier,SMALL(IF(MONTH(Infirmier)=MONTH(O$8)*ISNUMBER(Infirmier),COLUMN(Infirmier)-4),ROWS($1:8))))}
E17: {=IF(ISERROR(INDEX(Infirmier,SMALL(IF(MONTH(Infirmier)=MONTH(E$8)*ISNUMBER(Infirmier),COLUMN(Infirmier)-4),ROWS($1:11)))),"",INDEX(Infirmier,SMALL(IF(MONTH(Infirmier)=MONTH(E$8)*ISNUMBER(Infirmier),COLUMN(Infirmier)-4),ROWS($1:11))))} | F17: {=IF(ISERROR(INDEX(Infirmier,SMALL(IF(MONTH(Infirmier)=MONTH(F$8)*ISNUMBER(Infirmier),COLUMN(Infirmier)-4),ROWS($1:11)))),"",INDEX(Infirmier,SMALL(IF(MONTH(Infirmier)=MONTH(F$8)*ISNUMBER(Infirmier),COLUMN(Infirmier)-4),ROWS($1:11))))} | H17: {=IF(ISERROR(INDEX($E$2:$AS$2,SMALL(IF(MONTH($E$2:$AS$2)=MONTH(H$8)*ISNUMBER($E$2:$AS$2),COLUMN($E$2:$AS$2)-4),ROWS($1:11)))),"",INDEX($E$2:$AS$2,SMALL(IF(MONTH($E$2:$AS$2)=MONTH(H$8)*ISNUMBER($E$2:$AS$2),COLUMN($E$2:$AS$2)-4),ROWS($1:11))))} | I17: {=IF(ISERROR(INDEX($E$2:$AS$2,SMALL(IF(MONTH($E$2:$AS$2)=MONTH(I$8)*ISNUMBER($E$2:$AS$2),COLUMN($E$2:$AS$2)-4),ROWS($1:11)))),"",INDEX($E$2:$AS$2,SMALL(IF(MONTH($E$2:$AS$2)=MONTH(I$8)*ISNUMBER($E$2:$AS$2),COLUMN($E$2:$AS$2)-4),ROWS($1:11))))} | K17: {=IF(ISERROR(INDEX($E$3:$AS$3,SMALL(IF(MONTH($E$3:$AS$3)=MONTH(K$8)*ISNUMBER($E$3:$AS$3),COLUMN($E$3:$AS$3)-4),ROWS($1:11)))),"",INDEX($E$3:$AS$3,SMALL(IF(MONTH($E$3:$AS$3)=MONTH(K$8)*ISNUMBER($E$3:$AS$3),COLUMN($E$1:$AS$3)-4),ROWS($1:11))))} | L17: {=IF(ISERROR(INDEX($E$3:$AS$3,SMALL(IF(MONTH($E$3:$AS$3)=MONTH(L$8)*ISNUMBER($E$3:$AS$3),COLUMN($E$3:$AS$3)-4),ROWS($1:11)))),"",INDEX($E$3:$AS$3,SMALL(IF(MONTH($E$3:$AS$3)=MONTH(L$8)*ISNUMBER($E$3:$AS$3),COLUMN($E$1:$AS$3)-4),ROWS($1:11))))}
E18: {=IF(ISERROR(INDEX(Infirmier,SMALL(IF(MONTH(Infirmier)=MONTH(E$8)*ISNUMBER(Infirmier),COLUMN(Infirmier)-4),ROWS($1:12)))),"",INDEX(Infirmier,SMALL(IF(MONTH(Infirmier)=MONTH(E$8)*ISNUMBER(Infirmier),COLUMN(Infirmier)-4),ROWS($1:12))))} | F18: {=IF(ISERROR(INDEX(Infirmier,SMALL(IF(MONTH(Infirmier)=MONTH(F$8)*ISNUMBER(Infirmier),COLUMN(Infirmier)-4),ROWS($1:12)))),"",INDEX(Infirmier,SMALL(IF(MONTH(Infirmier)=MONTH(F$8)*ISNUMBER(Infirmier),COLUMN(Infirmier)-4),ROWS($1:12))))} | H18: {=IF(ISERROR(INDEX($E$2:$AS$2,SMALL(IF(MONTH($E$2:$AS$2)=MONTH(H$8)*ISNUMBER($E$2:$AS$2),COLUMN($E$2:$AS$2)-4),ROWS($1:12)))),"",INDEX($E$2:$AS$2,SMALL(IF(MONTH($E$2:$AS$2)=MONTH(H$8)*ISNUMBER($E$2:$AS$2),COLUMN($E$2:$AS$2)-4),ROWS($1:12))))} | I18: {=IF(ISERROR(INDEX($E$2:$AS$2,SMALL(IF(MONTH($E$2:$AS$2)=MONTH(I$8)*ISNUMBER($E$2:$AS$2),COLUMN($E$2:$AS$2)-4),ROWS($1:12)))),"",INDEX($E$2:$AS$2,SMALL(IF(MONTH($E$2:$AS$2)=MONTH(I$8)*ISNUMBER($E$2:$AS$2),COLUMN($E$2:$AS$2)-4),ROWS($1:12))))} | K18: {=IF(ISERROR(INDEX($E$3:$AS$3,SMALL(IF(MONTH($E$3:$AS$3)=MONTH(K$8)*ISNUMBER($E$3:$AS$3),COLUMN($E$3:$AS$3)-4),ROWS($1:12)))),"",INDEX($E$3:$AS$3,SMALL(IF(MONTH($E$3:$AS$3)=MONTH(K$8)*ISNUMBER($E$3:$AS$3),COLUMN($E$1:$AS$3)-4),ROWS($1:12))))} | L18: {=IF(ISERROR(INDEX($E$3:$AS$3,SMALL(IF(MONTH($E$3:$AS$3)=MONTH(L$8)*ISNUMBER($E$3:$AS$3),COLUMN($E$3:$AS$3)-4),ROWS($1:12)))),"",INDEX($E$3:$AS$3,SMALL(IF(MONTH($E$3:$AS$3)=MONTH(L$8)*ISNUMBER($E$3:$AS$3),COLUMN($E$1:$AS$3)-4),ROWS($1:12))))}
E19: {=IF(ISERROR(INDEX(Infirmier,SMALL(IF(MONTH(Infirmier)=MONTH(E$8)*ISNUMBER(Infirmier),COLUMN(Infirmier)-4),ROWS($1:13)))),"",INDEX(Infirmier,SMALL(IF(MONTH(Infirmier)=MONTH(E$8)*ISNUMBER(Infirmier),COLUMN(Infirmier)-4),ROWS($1:13))))} | F19: {=IF(ISERROR(INDEX(Infirmier,SMALL(IF(MONTH(Infirmier)=MONTH(F$8)*ISNUMBER(Infirmier),COLUMN(Infirmier)-4),ROWS($1:13)))),"",INDEX(Infirmier,SMALL(IF(MONTH(Infirmier)=MONTH(F$8)*ISNUMBER(Infirmier),COLUMN(Infirmier)-4),ROWS($1:13))))} | H19: {=IF(ISERROR(INDEX($E$2:$AS$2,SMALL(IF(MONTH($E$2:$AS$2)=MONTH(H$8)*ISNUMBER($E$2:$AS$2),COLUMN($E$2:$AS$2)-4),ROWS($1:13)))),"",INDEX($E$2:$AS$2,SMALL(IF(MONTH($E$2:$AS$2)=MONTH(H$8)*ISNUMBER($E$2:$AS$2),COLUMN($E$2:$AS$2)-4),ROWS($1:13))))} | I19: {=IF(ISERROR(INDEX($E$2:$AS$2,SMALL(IF(MONTH($E$2:$AS$2)=MONTH(I$8)*ISNUMBER($E$2:$AS$2),COLUMN($E$2:$AS$2)-4),ROWS($1:13)))),"",INDEX($E$2:$AS$2,SMALL(IF(MONTH($E$2:$AS$2)=MONTH(I$8)*ISNUMBER($E$2:$AS$2),COLUMN($E$2:$AS$2)-4),ROWS($1:13))))} | K19: {=IF(ISERROR(INDEX($E$3:$AS$3,SMALL(IF(MONTH($E$3:$AS$3)=MONTH(K$8)*ISNUMBER($E$3:$AS$3),COLUMN($E$3:$AS$3)-4),ROWS($1:13)))),"",INDEX($E$3:$AS$3,SMALL(IF(MONTH($E$3:$AS$3)=MONTH(K$8)*ISNUMBER($E$3:$AS$3),COLUMN($E$1:$AS$3)-4),ROWS($1:13))))} | L19: {=IF(ISERROR(INDEX($E$3:$AS$3,SMALL(IF(MONTH($E$3:$AS$3)=MONTH(L$8)*ISNUMBER($E$3:$AS$3),COLUMN($E$3:$AS$3)-4),ROWS($1:13)))),"",INDEX($E$3:$AS$3,SMALL(IF(MONTH($E$3:$AS$3)=MONTH(L$8)*ISNUMBER($E$3:$AS$3),COLUMN($E$1:$AS$3)-4),ROWS($1:13))))}
E20: {=IF(ISERROR(INDEX($E$1:$AS$1,SMALL(IF(MONTH($E$1:$AS$1)=MONTH(E$8)*ISNUMBER($E$1:$AS$1),COLUMN($E$1:$AS$1)-4),ROWS($1:14)))),"",INDEX($E$1:$AS$1,SMALL(IF(MONTH($E$1:$AS$1)=MONTH(E$8)*ISNUMBER($E$1:$AS$1),COLUMN($E$1:$AS$1)-4),ROWS($1:14))))} | F20: {=IF(ISERROR(INDEX($E$1:$AS$1,SMALL(IF(MONTH($E$1:$AS$1)=MONTH(F$8)*ISNUMBER($E$1:$AS$1),COLUMN($E$1:$AS$1)-4),ROWS($1:14)))),"",INDEX($E$1:$AS$1,SMALL(IF(MONTH($E$1:$AS$1)=MONTH(F$8)*ISNUMBER($E$1:$AS$1),COLUMN($E$1:$AS$1)-4),ROWS($1:14))))} | H20: {=IF(ISERROR(INDEX($E$2:$AS$2,SMALL(IF(MONTH($E$2:$AS$2)=MONTH(H$8)*ISNUMBER($E$2:$AS$2),COLUMN($E$2:$AS$2)-4),ROWS($1:14)))),"",INDEX($E$2:$AS$2,SMALL(IF(MONTH($E$2:$AS$2)=MONTH(H$8)*ISNUMBER($E$2:$AS$2),COLUMN($E$2:$AS$2)-4),ROWS($1:14))))} | I20: {=IF(ISERROR(INDEX($E$2:$AS$2,SMALL(IF(MONTH($E$2:$AS$2)=MONTH(I$8)*ISNUMBER($E$2:$AS$2),COLUMN($E$2:$AS$2)-4),ROWS($1:14)))),"",INDEX($E$2:$AS$2,SMALL(IF(MONTH($E$2:$AS$2)=MONTH(I$8)*ISNUMBER($E$2:$AS$2),COLUMN($E$2:$AS$2)-4),ROWS($1:14))))} | K20: {=IF(ISERROR(INDEX($E$3:$AS$3,SMALL(IF(MONTH($E$3:$AS$3)=MONTH(K$8)*ISNUMBER($E$3:$AS$3),COLUMN($E$3:$AS$3)-4),ROWS($1:14)))),"",INDEX($E$3:$AS$3,SMALL(IF(MONTH($E$3:$AS$3)=MONTH(K$8)*ISNUMBER($E$3:$AS$3),COLUMN($E$1:$AS$3)-4),ROWS($1:14))))} | L20: {=IF(ISERROR(INDEX($AJ$1:$BK$1,SMALL(IF(ISNUMBER($AJ$1:$BK$1),COLUMN($AJ$1:$BK$1)-5),ROWS($1:14)))),"",INDEX($AJ$1:$BK$1,SMALL(IF(ISNUMBER($AJ$1:$BK$1),COLUMN($AJ$1:$BK$1)-5),ROWS($1:14))))}
E21: {=IF(ISERROR(INDEX($E$1:$AS$1,SMALL(IF(MONTH($E$1:$AS$1)=MONTH(E$8)*ISNUMBER($E$1:$AS$1),COLUMN($E$1:$AS$1)-4),ROWS($1:15)))),"",INDEX($E$1:$AS$1,SMALL(IF(MONTH($E$1:$AS$1)=MONTH(E$8)*ISNUMBER($E$1:$AS$1),COLUMN($E$1:$AS$1)-4),ROWS($1:15))))} | F21: {=IF(ISERROR(INDEX($E$1:$AS$1,SMALL(IF(MONTH($E$1:$AS$1)=MONTH(F$8)*ISNUMBER($E$1:$AS$1),COLUMN($E$1:$AS$1)-4),ROWS($1:15)))),"",INDEX($E$1:$AS$1,SMALL(IF(MONTH($E$1:$AS$1)=MONTH(F$8)*ISNUMBER($E$1:$AS$1),COLUMN($E$1:$AS$1)-4),ROWS($1:15))))} | H21: {=IF(ISERROR(INDEX($E$2:$AS$2,SMALL(IF(ISNUMBER($E$2:$AS$2),COLUMN($E$2:$AS$2)-4),ROWS($1:15)))),"",INDEX($E$2:$AS$2,SMALL(IF(ISNUMBER($E$2:$AS$2),COLUMN($E$2:$AS$2)-4),ROWS($1:15))))} | I21: {=IF(ISERROR(INDEX($AJ$1:$BK$1,SMALL(IF(ISNUMBER($AJ$1:$BK$1),COLUMN($AJ$1:$BK$1)-5),ROWS($1:15)))),"",INDEX($AJ$1:$BK$1,SMALL(IF(ISNUMBER($AJ$1:$BK$1),COLUMN($AJ$1:$BK$1)-5),ROWS($1:15))))} | K21: {=IF(ISERROR(INDEX($E$3:$AS$3,SMALL(IF(MONTH($E$3:$AS$3)=MONTH(K$8)*ISNUMBER($E$3:$AS$3),COLUMN($E$3:$AS$3)-4),ROWS($1:15)))),"",INDEX($E$3:$AS$3,SMALL(IF(MONTH($E$3:$AS$3)=MONTH(K$8)*ISNUMBER($E$3:$AS$3),COLUMN($E$1:$AS$3)-4),ROWS($1:15))))}
E22: {=IF(ISERROR(INDEX($E$1:$AS$1,SMALL(IF(MONTH($E$1:$AS$1)=MONTH(E$8)*ISNUMBER($E$1:$AS$1),COLUMN($E$1:$AS$1)-4),ROWS($1:16)))),"",INDEX($E$1:$AS$1,SMALL(IF(MONTH($E$1:$AS$1)=MONTH(E$8)*ISNUMBER($E$1:$AS$1),COLUMN($E$1:$AS$1)-4),ROWS($1:16))))} | F22: {=IF(ISERROR(INDEX($E$1:$AS$1,SMALL(IF(MONTH($E$1:$AS$1)=MONTH(F$8)*ISNUMBER($E$1:$AS$1),COLUMN($E$1:$AS$1)-4),ROWS($1:16)))),"",INDEX($E$1:$AS$1,SMALL(IF(MONTH($E$1:$AS$1)=MONTH(F$8)*ISNUMBER($E$1:$AS$1),COLUMN($E$1:$AS$1)-4),ROWS($1:16))))} | H22: {=IF(ISERROR(INDEX($E$2:$AS$2,SMALL(IF(ISNUMBER($E$2:$AS$2),COLUMN($E$2:$AS$2)-4),ROWS($1:16)))),"",INDEX($E$2:$AS$2,SMALL(IF(ISNUMBER($E$2:$AS$2),COLUMN($E$2:$AS$2)-4),ROWS($1:16))))} | I22: {=IF(ISERROR(INDEX($AJ$1:$BK$1,SMALL(IF(ISNUMBER($AJ$1:$BK$1),COLUMN($AJ$1:$BK$1)-5),ROWS($1:16)))),"",INDEX($AJ$1:$BK$1,SMALL(IF(ISNUMBER($AJ$1:$BK$1),COLUMN($AJ$1:$BK$1)-5),ROWS($1:16))))} | K22: {=IF(ISERROR(INDEX($E$3:$AS$3,SMALL(IF(MONTH($E$3:$AS$3)=MONTH(K$8)*ISNUMBER($E$3:$AS$3),COLUMN($E$3:$AS$3)-4),ROWS($1:16)))),"",INDEX($E$3:$AS$3,SMALL(IF(MONTH($E$3:$AS$3)=MONTH(K$8)*ISNUMBER($E$3:$AS$3),COLUMN($E$1:$AS$3)-4),ROWS($1:16))))}
E23: {=IF(ISERROR(INDEX($E$1:$AS$1,SMALL(IF(MONTH($E$1:$AS$1)=MONTH(E$8)*ISNUMBER($E$1:$AS$1),COLUMN($E$1:$AS$1)-4),ROWS($1:17)))),"",INDEX($E$1:$AS$1,SMALL(IF(MONTH($E$1:$AS$1)=MONTH(E$8)*ISNUMBER($E$1:$AS$1),COLUMN($E$1:$AS$1)-4),ROWS($1:17))))} | F23: {=IF(ISERROR(INDEX($E$1:$AS$1,SMALL(IF(MONTH($E$1:$AS$1)=MONTH(F$8)*ISNUMBER($E$1:$AS$1),COLUMN($E$1:$AS$1)-4),ROWS($1:17)))),"",INDEX($E$1:$AS$1,SMALL(IF(MONTH($E$1:$AS$1)=MONTH(F$8)*ISNUMBER($E$1:$AS$1),COLUMN($E$1:$AS$1)-4),ROWS($1:17))))} | H23: {=IF(ISERROR(INDEX($E$2:$AS$2,SMALL(IF(ISNUMBER($E$2:$AS$2),COLUMN($E$2:$AS$2)-4),ROWS($1:17)))),"",INDEX($E$2:$AS$2,SMALL(IF(ISNUMBER($E$2:$AS$2),COLUMN($E$2:$AS$2)-4),ROWS($1:17))))} | I23: {=IF(ISERROR(INDEX($AJ$1:$BK$1,SMALL(IF(ISNUMBER($AJ$1:$BK$1),COLUMN($AJ$1:$BK$1)-5),ROWS($1:17)))),"",INDEX($AJ$1:$BK$1,SMALL(IF(ISNUMBER($AJ$1:$BK$1),COLUMN($AJ$1:$BK$1)-5),ROWS($1:17))))} | K23: {=IF(ISERROR(INDEX($E$3:$AS$3,SMALL(IF(MONTH($E$3:$AS$3)=MONTH(K$8)*ISNUMBER($E$3:$AS$3),COLUMN($E$3:$AS$3)-4),ROWS($1:17)))),"",INDEX($E$3:$AS$3,SMALL(IF(MONTH($E$3:$AS$3)=MONTH(K$8)*ISNUMBER($E$3:$AS$3),COLUMN($E$1:$AS$3)-4),ROWS($1:17))))}
E24: {=IF(ISERROR(INDEX($E$1:$AS$1,SMALL(IF(MONTH($E$1:$AS$1)=MONTH(E$8)*ISNUMBER($E$1:$AS$1),COLUMN($E$1:$AS$1)-4),ROWS($1:18)))),"",INDEX($E$1:$AS$1,SMALL(IF(MONTH($E$1:$AS$1)=MONTH(E$8)*ISNUMBER($E$1:$AS$1),COLUMN($E$1:$AS$1)-4),ROWS($1:18))))} | F24: {=IF(ISERROR(INDEX($E$1:$AS$1,SMALL(IF(MONTH($E$1:$AS$1)=MONTH(F$8)*ISNUMBER($E$1:$AS$1),COLUMN($E$1:$AS$1)-4),ROWS($1:18)))),"",INDEX($E$1:$AS$1,SMALL(IF(MONTH($E$1:$AS$1)=MONTH(F$8)*ISNUMBER($E$1:$AS$1),COLUMN($E$1:$AS$1)-4),ROWS($1:18))))} | H24: {=IF(ISERROR(INDEX($E$2:$AS$2,SMALL(IF(ISNUMBER($E$2:$AS$2),COLUMN($E$2:$AS$2)-4),ROWS($1:18)))),"",INDEX($E$2:$AS$2,SMALL(IF(ISNUMBER($E$2:$AS$2),COLUMN($E$2:$AS$2)-4),ROWS($1:18))))} | I24: {=IF(ISERROR(INDEX($AJ$1:$BK$1,SMALL(IF(ISNUMBER($AJ$1:$BK$1),COLUMN($AJ$1:$BK$1)-5),ROWS($1:18)))),"",INDEX($AJ$1:$BK$1,SMALL(IF(ISNUMBER($AJ$1:$BK$1),COLUMN($AJ$1:$BK$1)-5),ROWS($1:18))))} | K24: {=IF(ISERROR(INDEX($E$3:$AS$3,SMALL(IF(ISNUMBER($E$3:$AS$3),COLUMN($E$3:$AS$3)-4),ROWS($1:18)))),"",INDEX($E$3:$AS$3,SMALL(IF(ISNUMBER($E$3:$AS$3),COLUMN($E$3:$AS$3)-4),ROWS($1:18))))}
E25: {=IF(ISERROR(INDEX($E$1:$AS$1,SMALL(IF(MONTH($E$1:$AS$1)=MONTH(E$8)*ISNUMBER($E$1:$AS$1),COLUMN($E$1:$AS$1)-4),ROWS($1:19)))),"",INDEX($E$1:$AS$1,SMALL(IF(MONTH($E$1:$AS$1)=MONTH(E$8)*ISNUMBER($E$1:$AS$1),COLUMN($E$1:$AS$1)-4),ROWS($1:19))))} | F25: {=IF(ISERROR(INDEX($E$1:$AS$1,SMALL(IF(MONTH($E$1:$AS$1)=MONTH(F$8)*ISNUMBER($E$1:$AS$1),COLUMN($E$1:$AS$1)-4),ROWS($1:19)))),"",INDEX($E$1:$AS$1,SMALL(IF(MONTH($E$1:$AS$1)=MONTH(F$8)*ISNUMBER($E$1:$AS$1),COLUMN($E$1:$AS$1)-4),ROWS($1:19))))} | H25: {=IF(ISERROR(INDEX($E$2:$AS$2,SMALL(IF(ISNUMBER($E$2:$AS$2),COLUMN($E$2:$AS$2)-4),ROWS($1:19)))),"",INDEX($E$2:$AS$2,SMALL(IF(ISNUMBER($E$2:$AS$2),COLUMN($E$2:$AS$2)-4),ROWS($1:19))))} | I25: {=IF(ISERROR(INDEX($AJ$1:$BK$1,SMALL(IF(ISNUMBER($AJ$1:$BK$1),COLUMN($AJ$1:$BK$1)-5),ROWS($1:19)))),"",INDEX($AJ$1:$BK$1,SMALL(IF(ISNUMBER($AJ$1:$BK$1),COLUMN($AJ$1:$BK$1)-5),ROWS($1:19))))} | K25: {=IF(ISERROR(INDEX($E$3:$AS$3,SMALL(IF(ISNUMBER($E$3:$AS$3),COLUMN($E$3:$AS$3)-4),ROWS($1:19)))),"",INDEX($E$3:$AS$3,SMALL(IF(ISNUMBER($E$3:$AS$3),COLUMN($E$3:$AS$3)-4),ROWS($1:19))))}
E26: {=IF(ISERROR(INDEX($E$1:$AS$1,SMALL(IF(MONTH($E$1:$AS$1)=MONTH(E$8)*ISNUMBER($E$1:$AS$1),COLUMN($E$1:$AS$1)-4),ROWS($1:20)))),"",INDEX($E$1:$AS$1,SMALL(IF(MONTH($E$1:$AS$1)=MONTH(E$8)*ISNUMBER($E$1:$AS$1),COLUMN($E$1:$AS$1)-4),ROWS($1:20))))} | F26: {=IF(ISERROR(INDEX($E$1:$AS$1,SMALL(IF(MONTH($E$1:$AS$1)=MONTH(F$8)*ISNUMBER($E$1:$AS$1),COLUMN($E$1:$AS$1)-4),ROWS($1:20)))),"",INDEX($E$1:$AS$1,SMALL(IF(MONTH($E$1:$AS$1)=MONTH(F$8)*ISNUMBER($E$1:$AS$1),COLUMN($E$1:$AS$1)-4),ROWS($1:20))))} | H26: {=IF(ISERROR(INDEX($E$2:$AS$2,SMALL(IF(ISNUMBER($E$2:$AS$2),COLUMN($E$2:$AS$2)-4),ROWS($1:20)))),"",INDEX($E$2:$AS$2,SMALL(IF(ISNUMBER($E$2:$AS$2),COLUMN($E$2:$AS$2)-4),ROWS($1:20))))} | I26: {=IF(ISERROR(INDEX($AJ$1:$BK$1,SMALL(IF(ISNUMBER($AJ$1:$BK$1),COLUMN($AJ$1:$BK$1)-5),ROWS($1:20)))),"",INDEX($AJ$1:$BK$1,SMALL(IF(ISNUMBER($AJ$1:$BK$1),COLUMN($AJ$1:$BK$1)-5),ROWS($1:20))))} | K26: {=IF(ISERROR(INDEX($E$3:$AS$3,SMALL(IF(ISNUMBER($E$3:$AS$3),COLUMN($E$3:$AS$3)-4),ROWS($1:20)))),"",INDEX($E$3:$AS$3,SMALL(IF(ISNUMBER($E$3:$AS$3),COLUMN($E$3:$AS$3)-4),ROWS($1:20))))}
E27: {=IF(ISERROR(INDEX($E$1:$AS$1,SMALL(IF(ISNUMBER($E$1:$AS$1),COLUMN($E$1:$AS$1)-4),ROWS($1:21)))),"",INDEX($E$1:$AS$1,SMALL(IF(ISNUMBER($E$1:$AS$1),COLUMN($E$1:$AS$1)-4),ROWS($1:21))))} | F27: {=IF(ISERROR(INDEX($AJ$1:$BK$1,SMALL(IF(ISNUMBER($AJ$1:$BK$1),COLUMN($AJ$1:$BK$1)-5),ROWS($1:21)))),"",INDEX($AJ$1:$BK$1,SMALL(IF(ISNUMBER($AJ$1:$BK$1),COLUMN($AJ$1:$BK$1)-5),ROWS($1:21))))} | H27: {=IF(ISERROR(INDEX($E$2:$AS$2,SMALL(IF(ISNUMBER($E$2:$AS$2),COLUMN($E$2:$AS$2)-4),ROWS($1:21)))),"",INDEX($E$2:$AS$2,SMALL(IF(ISNUMBER($E$2:$AS$2),COLUMN($E$2:$AS$2)-4),ROWS($1:21))))} | I27: {=IF(ISERROR(INDEX($AJ$1:$BK$1,SMALL(IF(ISNUMBER($AJ$1:$BK$1),COLUMN($AJ$1:$BK$1)-5),ROWS($1:21)))),"",INDEX($AJ$1:$BK$1,SMALL(IF(ISNUMBER($AJ$1:$BK$1),COLUMN($AJ$1:$BK$1)-5),ROWS($1:21))))} | K27: {=IF(ISERROR(INDEX($E$3:$AS$3,SMALL(IF(ISNUMBER($E$3:$AS$3),COLUMN($E$3:$AS$3)-4),ROWS($1:21)))),"",INDEX($E$3:$AS$3,SMALL(IF(ISNUMBER($E$3:$AS$3),COLUMN($E$3:$AS$3)-4),ROWS($1:21))))}
E28: {=IF(ISERROR(INDEX($E$1:$AS$1,SMALL(IF(ISNUMBER($E$1:$AS$1),COLUMN($E$1:$AS$1)-4),ROWS($1:22)))),"",INDEX($E$1:$AS$1,SMALL(IF(ISNUMBER($E$1:$AS$1),COLUMN($E$1:$AS$1)-4),ROWS($1:22))))} | F28: {=IF(ISERROR(INDEX($AJ$1:$BK$1,SMALL(IF(ISNUMBER($AJ$1:$BK$1),COLUMN($AJ$1:$BK$1)-5),ROWS($1:22)))),"",INDEX($AJ$1:$BK$1,SMALL(IF(ISNUMBER($AJ$1:$BK$1),COLUMN($AJ$1:$BK$1)-5),ROWS($1:22))))} | H28: {=IF(ISERROR(INDEX($E$2:$AS$2,SMALL(IF(ISNUMBER($E$2:$AS$2),COLUMN($E$2:$AS$2)-4),ROWS($1:22)))),"",INDEX($E$2:$AS$2,SMALL(IF(ISNUMBER($E$2:$AS$2),COLUMN($E$2:$AS$2)-4),ROWS($1:22))))} | I28: {=IF(ISERROR(INDEX($AJ$1:$BK$1,SMALL(IF(ISNUMBER($AJ$1:$BK$1),COLUMN($AJ$1:$BK$1)-5),ROWS($1:22)))),"",INDEX($AJ$1:$BK$1,SMALL(IF(ISNUMBER($AJ$1:$BK$1),COLUMN($AJ$1:$BK$1)-5),ROWS($1:22))))} | K28: {=IF(ISERROR(INDEX($E$3:$AS$3,SMALL(IF(ISNUMBER($E$3:$AS$3),COLUMN($E$3:$AS$3)-4),ROWS($1:22)))),"",INDEX($E$3:$AS$3,SMALL(IF(ISNUMBER($E$3:$AS$3),COLUMN($E$3:$AS$3)-4),ROWS($1:22))))}
E29: {=IF(ISERROR(INDEX($E$1:$AS$1,SMALL(IF(ISNUMBER($E$1:$AS$1),COLUMN($E$1:$AS$1)-4),ROWS($1:23)))),"",INDEX($E$1:$AS$1,SMALL(IF(ISNUMBER($E$1:$AS$1),COLUMN($E$1:$AS$1)-4),ROWS($1:23))))} | F29: {=IF(ISERROR(INDEX($AJ$1:$BK$1,SMALL(IF(ISNUMBER($AJ$1:$BK$1),COLUMN($AJ$1:$BK$1)-5),ROWS($1:23)))),"",INDEX($AJ$1:$BK$1,SMALL(IF(ISNUMBER($AJ$1:$BK$1),COLUMN($AJ$1:$BK$1)-5),ROWS($1:23))))} | H29: {=IF(ISERROR(INDEX($E$2:$AS$2,SMALL(IF(ISNUMBER($E$2:$AS$2),COLUMN($E$2:$AS$2)-4),ROWS($1:23)))),"",INDEX($E$2:$AS$2,SMALL(IF(ISNUMBER($E$2:$AS$2),COLUMN($E$2:$AS$2)-4),ROWS($1:23))))} | I29: {=IF(ISERROR(INDEX($AJ$1:$BK$1,SMALL(IF(ISNUMBER($AJ$1:$BK$1),COLUMN($AJ$1:$BK$1)-5),ROWS($1:23)))),"",INDEX($AJ$1:$BK$1,SMALL(IF(ISNUMBER($AJ$1:$BK$1),COLUMN($AJ$1:$BK$1)-5),ROWS($1:23))))} | K29: {=IF(ISERROR(INDEX($E$3:$AS$3,SMALL(IF(ISNUMBER($E$3:$AS$3),COLUMN($E$3:$AS$3)-4),ROWS($1:23)))),"",INDEX($E$3:$AS$3,SMALL(IF(ISNUMBER($E$3:$AS$3),COLUMN($E$3:$AS$3)-4),ROWS($1:23))))}
E30: {=IF(ISERROR(INDEX($E$1:$AI$1,SMALL(IF(ISNUMBER($E$1:$AI$1),COLUMN($E$1:$AI$1)-4),ROWS($1:24)))),"",INDEX($E$1:$AI$1,SMALL(IF(ISNUMBER($E$1:$AI$1),COLUMN($E$1:$AI$1)-4),ROWS($1:24))))} | F30: {=IF(ISERROR(INDEX($AJ$1:$BK$1,SMALL(IF(ISNUMBER($AJ$1:$BK$1),COLUMN($AJ$1:$BK$1)-5),ROWS($1:24)))),"",INDEX($AJ$1:$BK$1,SMALL(IF(ISNUMBER($AJ$1:$BK$1),COLUMN($AJ$1:$BK$1)-5),ROWS($1:24))))} | H30: {=IF(ISERROR(INDEX($E$2:$AI$2,SMALL(IF(ISNUMBER($E$2:$AI$2),COLUMN($E$2:$AI$2)-4),ROWS($1:24)))),"",INDEX($E$2:$AI$2,SMALL(IF(ISNUMBER($E$2:$AI$2),COLUMN($E$2:$AI$2)-4),ROWS($1:24))))} | I30: {=IF(ISERROR(INDEX($AJ$1:$BK$1,SMALL(IF(ISNUMBER($AJ$1:$BK$1),COLUMN($AJ$1:$BK$1)-5),ROWS($1:24)))),"",INDEX($AJ$1:$BK$1,SMALL(IF(ISNUMBER($AJ$1:$BK$1),COLUMN($AJ$1:$BK$1)-5),ROWS($1:24))))} | K30: {=IF(ISERROR(INDEX($E$3:$AI$3,SMALL(IF(ISNUMBER($E$3:$AI$3),COLUMN($E$3:$AI$3)-4),ROWS($1:24)))),"",INDEX($E$3:$AI$3,SMALL(IF(ISNUMBER($E$3:$AI$3),COLUMN($E$3:$AI$3)-4),ROWS($1:24))))}
E31: {=IF(ISERROR(INDEX($E$1:$AI$1,SMALL(IF(ISNUMBER($E$1:$AI$1),COLUMN($E$1:$AI$1)-4),ROWS($1:25)))),"",INDEX($E$1:$AI$1,SMALL(IF(ISNUMBER($E$1:$AI$1),COLUMN($E$1:$AI$1)-4),ROWS($1:25))))} | F31: {=IF(ISERROR(INDEX($AJ$1:$BK$1,SMALL(IF(ISNUMBER($AJ$1:$BK$1),COLUMN($AJ$1:$BK$1)-5),ROWS($1:25)))),"",INDEX($AJ$1:$BK$1,SMALL(IF(ISNUMBER($AJ$1:$BK$1),COLUMN($AJ$1:$BK$1)-5),ROWS($1:25))))} | H31: {=IF(ISERROR(INDEX($E$2:$AI$2,SMALL(IF(ISNUMBER($E$2:$AI$2),COLUMN($E$2:$AI$2)-4),ROWS($1:25)))),"",INDEX($E$2:$AI$2,SMALL(IF(ISNUMBER($E$2:$AI$2),COLUMN($E$2:$AI$2)-4),ROWS($1:25))))} | I31: {=IF(ISERROR(INDEX($AJ$1:$BK$1,SMALL(IF(ISNUMBER($AJ$1:$BK$1),COLUMN($AJ$1:$BK$1)-5),ROWS($1:25)))),"",INDEX($AJ$1:$BK$1,SMALL(IF(ISNUMBER($AJ$1:$BK$1),COLUMN($AJ$1:$BK$1)-5),ROWS($1:25))))} | K31: {=IF(ISERROR(INDEX($E$3:$AI$3,SMALL(IF(ISNUMBER($E$3:$AI$3),COLUMN($E$3:$AI$3)-4),ROWS($1:25)))),"",INDEX($E$3:$AI$3,SMALL(IF(ISNUMBER($E$3:$AI$3),COLUMN($E$3:$AI$3)-4),ROWS($1:25))))}
E32: {=IF(ISERROR(INDEX($E$1:$AI$1,SMALL(IF(ISNUMBER($E$1:$AI$1),COLUMN($E$1:$AI$1)-4),ROWS($1:26)))),"",INDEX($E$1:$AI$1,SMALL(IF(ISNUMBER($E$1:$AI$1),COLUMN($E$1:$AI$1)-4),ROWS($1:26))))} | F32: {=IF(ISERROR(INDEX($AJ$1:$BK$1,SMALL(IF(ISNUMBER($AJ$1:$BK$1),COLUMN($AJ$1:$BK$1)-5),ROWS($1:26)))),"",INDEX($AJ$1:$BK$1,SMALL(IF(ISNUMBER($AJ$1:$BK$1),COLUMN($AJ$1:$BK$1)-5),ROWS($1:26))))} | H32: {=IF(ISERROR(INDEX($E$2:$AI$2,SMALL(IF(ISNUMBER($E$2:$AI$2),COLUMN($E$2:$AI$2)-4),ROWS($1:26)))),"",INDEX($E$2:$AI$2,SMALL(IF(ISNUMBER($E$2:$AI$2),COLUMN($E$2:$AI$2)-4),ROWS($1:26))))} | I32: {=IF(ISERROR(INDEX($AJ$1:$BK$1,SMALL(IF(ISNUMBER($AJ$1:$BK$1),COLUMN($AJ$1:$BK$1)-5),ROWS($1:26)))),"",INDEX($AJ$1:$BK$1,SMALL(IF(ISNUMBER($AJ$1:$BK$1),COLUMN($AJ$1:$BK$1)-5),ROWS($1:26))))} | K32: {=IF(ISERROR(INDEX($E$3:$AI$3,SMALL(IF(ISNUMBER($E$3:$AI$3),COLUMN($E$3:$AI$3)-4),ROWS($1:26)))),"",INDEX($E$3:$AI$3,SMALL(IF(ISNUMBER($E$3:$AI$3),COLUMN($E$3:$AI$3)-4),ROWS($1:26))))}
E33: {=IF(ISERROR(INDEX($E$1:$AI$1,SMALL(IF(ISNUMBER($E$1:$AI$1),COLUMN($E$1:$AI$1)-4),ROWS($1:27)))),"",INDEX($E$1:$AI$1,SMALL(IF(ISNUMBER($E$1:$AI$1),COLUMN($E$1:$AI$1)-4),ROWS($1:27))))} | F33: {=IF(ISERROR(INDEX($AJ$1:$BK$1,SMALL(IF(ISNUMBER($AJ$1:$BK$1),COLUMN($AJ$1:$BK$1)-5),ROWS($1:27)))),"",INDEX($AJ$1:$BK$1,SMALL(IF(ISNUMBER($AJ$1:$BK$1),COLUMN($AJ$1:$BK$1)-5),ROWS($1:27))))} | H33: {=IF(ISERROR(INDEX($E$2:$AI$2,SMALL(IF(ISNUMBER($E$2:$AI$2),COLUMN($E$2:$AI$2)-4),ROWS($1:27)))),"",INDEX($E$2:$AI$2,SMALL(IF(ISNUMBER($E$2:$AI$2),COLUMN($E$2:$AI$2)-4),ROWS($1:27))))} | I33: {=IF(ISERROR(INDEX($AJ$1:$BK$1,SMALL(IF(ISNUMBER($AJ$1:$BK$1),COLUMN($AJ$1:$BK$1)-5),ROWS($1:27)))),"",INDEX($AJ$1:$BK$1,SMALL(IF(ISNUMBER($AJ$1:$BK$1),COLUMN($AJ$1:$BK$1)-5),ROWS($1:27))))} | K33: {=IF(ISERROR(INDEX($E$3:$AI$3,SMALL(IF(ISNUMBER($E$3:$AI$3),COLUMN($E$3:$AI$3)-4),ROWS($1:27)))),"",INDEX($E$3:$AI$3,SMALL(IF(ISNUMBER($E$3:$AI$3),COLUMN($E$3:$AI$3)-4),ROWS($1:27))))}
E34: {=IF(ISERROR(INDEX($E$1:$AI$1,SMALL(IF(ISNUMBER($E$1:$AI$1),COLUMN($E$1:$AI$1)-4),ROWS($1:28)))),"",INDEX($E$1:$AI$1,SMALL(IF(ISNUMBER($E$1:$AI$1),COLUMN($E$1:$AI$1)-4),ROWS($1:28))))} | F34: {=IF(ISERROR(INDEX($AJ$1:$BK$1,SMALL(IF(ISNUMBER($AJ$1:$BK$1),COLUMN($AJ$1:$BK$1)-5),ROWS($1:28)))),"",INDEX($AJ$1:$BK$1,SMALL(IF(ISNUMBER($AJ$1:$BK$1),COLUMN($AJ$1:$BK$1)-5),ROWS($1:28))))} | H34: {=IF(ISERROR(INDEX($E$2:$AI$2,SMALL(IF(ISNUMBER($E$2:$AI$2),COLUMN($E$2:$AI$2)-4),ROWS($1:28)))),"",INDEX($E$2:$AI$2,SMALL(IF(ISNUMBER($E$2:$AI$2),COLUMN($E$2:$AI$2)-4),ROWS($1:28))))} | I34: {=IF(ISERROR(INDEX($AJ$1:$BK$1,SMALL(IF(ISNUMBER($AJ$1:$BK$1),COLUMN($AJ$1:$BK$1)-5),ROWS($1:28)))),"",INDEX($AJ$1:$BK$1,SMALL(IF(ISNUMBER($AJ$1:$BK$1),COLUMN($AJ$1:$BK$1)-5),ROWS($1:28))))} | K34: {=IF(ISERROR(INDEX($E$3:$AI$3,SMALL(IF(ISNUMBER($E$3:$AI$3),COLUMN($E$3:$AI$3)-4),ROWS($1:28)))),"",INDEX($E$3:$AI$3,SMALL(IF(ISNUMBER($E$3:$AI$3),COLUMN($E$3:$AI$3)-4),ROWS($1:28))))}
E35: {=IF(ISERROR(INDEX($E$1:$AI$1,SMALL(IF(ISNUMBER($E$1:$AI$1),COLUMN($E$1:$AI$1)-4),ROWS($1:29)))),"",INDEX($E$1:$AI$1,SMALL(IF(ISNUMBER($E$1:$AI$1),COLUMN($E$1:$AI$1)-4),ROWS($1:29))))} | F35: {=IF(ISERROR(INDEX($AJ$1:$BK$1,SMALL(IF(ISNUMBER($AJ$1:$BK$1),COLUMN($AJ$1:$BK$1)-5),ROWS($1:29)))),"",INDEX($AJ$1:$BK$1,SMALL(IF(ISNUMBER($AJ$1:$BK$1),COLUMN($AJ$1:$BK$1)-5),ROWS($1:29))))} | H35: {=IF(ISERROR(INDEX($E$2:$AI$2,SMALL(IF(ISNUMBER($E$2:$AI$2),COLUMN($E$2:$AI$2)-4),ROWS($1:29)))),"",INDEX($E$2:$AI$2,SMALL(IF(ISNUMBER($E$2:$AI$2),COLUMN($E$2:$AI$2)-4),ROWS($1:29))))} | I35: {=IF(ISERROR(INDEX($AJ$1:$BK$1,SMALL(IF(ISNUMBER($AJ$1:$BK$1),COLUMN($AJ$1:$BK$1)-5),ROWS($1:29)))),"",INDEX($AJ$1:$BK$1,SMALL(IF(ISNUMBER($AJ$1:$BK$1),COLUMN($AJ$1:$BK$1)-5),ROWS($1:29))))} | K35: {=IF(ISERROR(INDEX($E$3:$AI$3,SMALL(IF(ISNUMBER($E$3:$AI$3),COLUMN($E$3:$AI$3)-4),ROWS($1:29)))),"",INDEX($E$3:$AI$3,SMALL(IF(ISNUMBER($E$3:$AI$3),COLUMN($E$3:$AI$3)-4),ROWS($1:29))))}
E36: {=IF(ISERROR(INDEX($E$1:$AI$1,SMALL(IF(ISNUMBER($E$1:$AI$1),COLUMN($E$1:$AI$1)-4),ROWS($1:30)))),"",INDEX($E$1:$AI$1,SMALL(IF(ISNUMBER($E$1:$AI$1),COLUMN($E$1:$AI$1)-4),ROWS($1:30))))} | F36: {=IF(ISERROR(INDEX($AJ$1:$BK$1,SMALL(IF(ISNUMBER($AJ$1:$BK$1),COLUMN($AJ$1:$BK$1)-5),ROWS($1:30)))),"",INDEX($AJ$1:$BK$1,SMALL(IF(ISNUMBER($AJ$1:$BK$1),COLUMN($AJ$1:$BK$1)-5),ROWS($1:30))))} | H36: {=IF(ISERROR(INDEX($E$2:$AI$2,SMALL(IF(ISNUMBER($E$2:$AI$2),COLUMN($E$2:$AI$2)-4),ROWS($1:30)))),"",INDEX($E$2:$AI$2,SMALL(IF(ISNUMBER($E$2:$AI$2),COLUMN($E$2:$AI$2)-4),ROWS($1:30))))} | I36: {=IF(ISERROR(INDEX($AJ$1:$BK$1,SMALL(IF(ISNUMBER($AJ$1:$BK$1),COLUMN($AJ$1:$BK$1)-5),ROWS($1:30)))),"",INDEX($AJ$1:$BK$1,SMALL(IF(ISNUMBER($AJ$1:$BK$1),COLUMN($AJ$1:$BK$1)-5),ROWS($1:30))))} | K36: {=IF(ISERROR(INDEX($E$3:$AI$3,SMALL(IF(ISNUMBER($E$3:$AI$3),COLUMN($E$3:$AI$3)-4),ROWS($1:30)))),"",INDEX($E$3:$AI$3,SMALL(IF(ISNUMBER($E$3:$AI$3),COLUMN($E$3:$AI$3)-4),ROWS($1:30))))}
E37: {=IF(ISERROR(INDEX($E$1:$AI$1,SMALL(IF(ISNUMBER($E$1:$AI$1),COLUMN($E$1:$AI$1)-4),ROWS($1:31)))),"",INDEX($E$1:$AI$1,SMALL(IF(ISNUMBER($E$1:$AI$1),COLUMN($E$1:$AI$1)-4),ROWS($1:31))))} | F37: {=IF(ISERROR(INDEX($AJ$1:$BK$1,SMALL(IF(ISNUMBER($AJ$1:$BK$1),COLUMN($AJ$1:$BK$1)-5),ROWS($1:31)))),"",INDEX($AJ$1:$BK$1,SMALL(IF(ISNUMBER($AJ$1:$BK$1),COLUMN($AJ$1:$BK$1)-5),ROWS($1:31))))} | H37: {=IF(ISERROR(INDEX($E$2:$AI$2,SMALL(IF(ISNUMBER($E$2:$AI$2),COLUMN($E$2:$AI$2)-4),ROWS($1:31)))),"",INDEX($E$2:$AI$2,SMALL(IF(ISNUMBER($E$2:$AI$2),COLUMN($E$2:$AI$2)-4),ROWS($1:31))))} | I37: {=IF(ISERROR(INDEX($AJ$1:$BK$1,SMALL(IF(ISNUMBER($AJ$1:$BK$1),COLUMN($AJ$1:$BK$1)-5),ROWS($1:31)))),"",INDEX($AJ$1:$BK$1,SMALL(IF(ISNUMBER($AJ$1:$BK$1),COLUMN($AJ$1:$BK$1)-5),ROWS($1:31))))} | K37: {=IF(ISERROR(INDEX($E$3:$AI$3,SMALL(IF(ISNUMBER($E$3:$AI$3),COLUMN($E$3:$AI$3)-4),ROWS($1:31)))),"",INDEX($E$3:$AI$3,SMALL(IF(ISNUMBER($E$3:$AI$3),COLUMN($E$3:$AI$3)-4),ROWS($1:31))))}
E38: {=IF(ISERROR(INDEX($E$1:$AI$1,SMALL(IF(ISNUMBER($E$1:$AI$1),COLUMN($E$1:$AI$1)-4),ROWS($1:32)))),"",INDEX($E$1:$AI$1,SMALL(IF(ISNUMBER($E$1:$AI$1),COLUMN($E$1:$AI$1)-4),ROWS($1:32))))} | F38: {=IF(ISERROR(INDEX($AJ$1:$BK$1,SMALL(IF(ISNUMBER($AJ$1:$BK$1),COLUMN($AJ$1:$BK$1)-5),ROWS($1:32)))),"",INDEX($AJ$1:$BK$1,SMALL(IF(ISNUMBER($AJ$1:$BK$1),COLUMN($AJ$1:$BK$1)-5),ROWS($1:32))))} | H38: {=IF(ISERROR(INDEX($E$2:$AI$2,SMALL(IF(ISNUMBER($E$2:$AI$2),COLUMN($E$2:$AI$2)-4),ROWS($1:32)))),"",INDEX($E$2:$AI$2,SMALL(IF(ISNUMBER($E$2:$AI$2),COLUMN($E$2:$AI$2)-4),ROWS($1:32))))} | I38: {=IF(ISERROR(INDEX($AJ$1:$BK$1,SMALL(IF(ISNUMBER($AJ$1:$BK$1),COLUMN($AJ$1:$BK$1)-5),ROWS($1:32)))),"",INDEX($AJ$1:$BK$1,SMALL(IF(ISNUMBER($AJ$1:$BK$1),COLUMN($AJ$1:$BK$1)-5),ROWS($1:32))))} | K38: {=IF(ISERROR(INDEX($E$3:$AI$3,SMALL(IF(ISNUMBER($E$3:$AI$3),COLUMN($E$3:$AI$3)-4),ROWS($1:32)))),"",INDEX($E$3:$AI$3,SMALL(IF(ISNUMBER($E$3:$AI$3),COLUMN($E$3:$AI$3)-4),ROWS($1:32))))}
E39: {=IF(ISERROR(INDEX($E$1:$AI$1,SMALL(IF(ISNUMBER($E$1:$AI$1),COLUMN($E$1:$AI$1)-4),ROWS($1:33)))),"",INDEX($E$1:$AI$1,SMALL(IF(ISNUMBER($E$1:$AI$1),COLUMN($E$1:$AI$1)-4),ROWS($1:33))))} | F39: {=IF(ISERROR(INDEX($AJ$1:$BK$1,SMALL(IF(ISNUMBER($AJ$1:$BK$1),COLUMN($AJ$1:$BK$1)-5),ROWS($1:33)))),"",INDEX($AJ$1:$BK$1,SMALL(IF(ISNUMBER($AJ$1:$BK$1),COLUMN($AJ$1:$BK$1)-5),ROWS($1:33))))} | H39: {=IF(ISERROR(INDEX($E$2:$AI$2,SMALL(IF(ISNUMBER($E$2:$AI$2),COLUMN($E$2:$AI$2)-4),ROWS($1:33)))),"",INDEX($E$2:$AI$2,SMALL(IF(ISNUMBER($E$2:$AI$2),COLUMN($E$2:$AI$2)-4),ROWS($1:33))))} | I39: {=IF(ISERROR(INDEX($AJ$1:$BK$1,SMALL(IF(ISNUMBER($AJ$1:$BK$1),COLUMN($AJ$1:$BK$1)-5),ROWS($1:33)))),"",INDEX($AJ$1:$BK$1,SMALL(IF(ISNUMBER($AJ$1:$BK$1),COLUMN($AJ$1:$BK$1)-5),ROWS($1:33))))} | K39: {=IF(ISERROR(INDEX($E$3:$AI$3,SMALL(IF(ISNUMBER($E$3:$AI$3),COLUMN($E$3:$AI$3)-4),ROWS($1:33)))),"",INDEX($E$3:$AI$3,SMALL(IF(ISNUMBER($E$3:$AI$3),COLUMN($E$3:$AI$3)-4),ROWS($1:33))))}
F40: {=IF(ISERROR(INDEX($AJ$1:$AW$1,SMALL(IF(ISNUMBER($AJ$1:$AW$1),COLUMN($AJ$1:$AW$1)-4),ROWS($1:37)))),"",INDEX($AJ$1:$AW$1,SMALL(IF(ISNUMBER($AJ$1:$AW$1),COLUMN($AJ$1:$AW$1)-4),ROWS($1:37))))}
F41: {=IF(ISERROR(INDEX($AJ$1:$AW$1,SMALL(IF(ISNUMBER($AJ$1:$AW$1),COLUMN($AJ$1:$AW$1)-4),ROWS($1:38)))),"",INDEX($AJ$1:$AW$1,SMALL(IF(ISNUMBER($AJ$1:$AW$1),COLUMN($AJ$1:$AW$1)-4),ROWS($1:38))))}
F42: {=IF(ISERROR(INDEX($AJ$1:$AW$1,SMALL(IF(ISNUMBER($AJ$1:$AW$1),COLUMN($AJ$1:$AW$1)-4),ROWS($1:39)))),"",INDEX($AJ$1:$AW$1,SMALL(IF(ISNUMBER($AJ$1:$AW$1),COLUMN($AJ$1:$AW$1)-4),ROWS($1:39))))}
F43: {=IF(ISERROR(INDEX($AJ$1:$AW$1,SMALL(IF(ISNUMBER($AJ$1:$AW$1),COLUMN($AJ$1:$AW$1)-4),ROWS($1:40)))),"",INDEX($AJ$1:$AW$1,SMALL(IF(ISNUMBER($AJ$1:$AW$1),COLUMN($AJ$1:$AW$1)-4),ROWS($1:40))))}
F44: {=IF(ISERROR(INDEX($AJ$1:$AW$1,SMALL(IF(ISNUMBER($AJ$1:$AW$1),COLUMN($AJ$1:$AW$1)-4),ROWS($1:41)))),"",INDEX($AJ$1:$AW$1,SMALL(IF(ISNUMBER($AJ$1:$AW$1),COLUMN($AJ$1:$AW$1)-4),ROWS($1:41))))}
F45: {=IF(ISERROR(INDEX($AJ$1:$AW$1,SMALL(IF(ISNUMBER($AJ$1:$AW$1),COLUMN($AJ$1:$AW$1)-4),ROWS($1:42)))),"",INDEX($AJ$1:$AW$1,SMALL(IF(ISNUMBER($AJ$1:$AW$1),COLUMN($AJ$1:$AW$1)-4),ROWS($1:42))))}
F46: {=IF(ISERROR(INDEX($AJ$1:$AW$1,SMALL(IF(ISNUMBER($AJ$1:$AW$1),COLUMN($AJ$1:$AW$1)-4),ROWS($1:43)))),"",INDEX($AJ$1:$AW$1,SMALL(IF(ISNUMBER($AJ$1:$AW$1),COLUMN($AJ$1:$AW$1)-4),ROWS($1:43))))}
F47: {=IF(ISERROR(INDEX($AJ$1:$AW$1,SMALL(IF(ISNUMBER($AJ$1:$AW$1),COLUMN($AJ$1:$AW$1)-4),ROWS($1:44)))),"",INDEX($AJ$1:$AW$1,SMALL(IF(ISNUMBER($AJ$1:$AW$1),COLUMN($AJ$1:$AW$1)-4),ROWS($1:44))))}
F48: {=IF(ISERROR(INDEX($AJ$1:$AW$1,SMALL(IF(ISNUMBER($AJ$1:$AW$1),COLUMN($AJ$1:$AW$1)-4),ROWS($1:45)))),"",INDEX($AJ$1:$AW$1,SMALL(IF(ISNUMBER($AJ$1:$AW$1),COLUMN($AJ$1:$AW$1)-4),ROWS($1:45))))}
F49: {=IF(ISERROR(INDEX($AJ$1:$AW$1,SMALL(IF(ISNUMBER($AJ$1:$AW$1),COLUMN($AJ$1:$AW$1)-4),ROWS($1:46)))),"",INDEX($AJ$1:$AW$1,SMALL(IF(ISNUMBER($AJ$1:$AW$1),COLUMN($AJ$1:$AW$1)-4),ROWS($1:46))))}
F50: {=IF(ISERROR(INDEX($AJ$1:$AW$1,SMALL(IF(ISNUMBER($AJ$1:$AW$1),COLUMN($AJ$1:$AW$1)-4),ROWS($1:47)))),"",INDEX($AJ$1:$AW$1,SMALL(IF(ISNUMBER($AJ$1:$AW$1),COLUMN($AJ$1:$AW$1)-4),ROWS($1:47))))}
F51: {=IF(ISERROR(INDEX($AJ$1:$AW$1,SMALL(IF(ISNUMBER($AJ$1:$AW$1),COLUMN($AJ$1:$AW$1)-4),ROWS($1:48)))),"",INDEX($AJ$1:$AW$1,SMALL(IF(ISNUMBER($AJ$1:$AW$1),COLUMN($AJ$1:$AW$1)-4),ROWS($1:48))))}
F52: {=IF(ISERROR(INDEX($AJ$1:$AW$1,SMALL(IF(ISNUMBER($AJ$1:$AW$1),COLUMN($AJ$1:$AW$1)-4),ROWS($1:49)))),"",INDEX($AJ$1:$AW$1,SMALL(IF(ISNUMBER($AJ$1:$AW$1),COLUMN($AJ$1:$AW$1)-4),ROWS($1:49))))}
F53: {=IF(ISERROR(INDEX($AJ$1:$AW$1,SMALL(IF(ISNUMBER($AJ$1:$AW$1),COLUMN($AJ$1:$AW$1)-4),ROWS($1:50)))),"",INDEX($AJ$1:$AW$1,SMALL(IF(ISNUMBER($AJ$1:$AW$1),COLUMN($AJ$1:$AW$1)-4),ROWS($1:50))))}
F54: {=IF(ISERROR(INDEX($AJ$1:$AW$1,SMALL(IF(ISNUMBER($AJ$1:$AW$1),COLUMN($AJ$1:$AW$1)-4),ROWS($1:51)))),"",INDEX($AJ$1:$AW$1,SMALL(IF(ISNUMBER($AJ$1:$AW$1),COLUMN($AJ$1:$AW$1)-4),ROWS($1:51))))}
F55: {=IF(ISERROR(INDEX($AJ$1:$AW$1,SMALL(IF(ISNUMBER($AJ$1:$AW$1),COLUMN($AJ$1:$AW$1)-4),ROWS($1:52)))),"",INDEX($AJ$1:$AW$1,SMALL(IF(ISNUMBER($AJ$1:$AW$1),COLUMN($AJ$1:$AW$1)-4),ROWS($1:52))))}
F56: {=IF(ISERROR(INDEX($AJ$1:$AW$1,SMALL(IF(ISNUMBER($AJ$1:$AW$1),COLUMN($AJ$1:$AW$1)-4),ROWS($1:53)))),"",INDEX($AJ$1:$AW$1,SMALL(IF(ISNUMBER($AJ$1:$AW$1),COLUMN($AJ$1:$AW$1)-4),ROWS($1:53))))}
F57: {=IF(ISERROR(INDEX($AJ$1:$AW$1,SMALL(IF(ISNUMBER($AJ$1:$AW$1),COLUMN($AJ$1:$AW$1)-4),ROWS($1:54)))),"",INDEX($AJ$1:$AW$1,SMALL(IF(ISNUMBER($AJ$1:$AW$1),COLUMN($AJ$1:$AW$1)-4),ROWS($1:54))))}
F58: {=IF(ISERROR(INDEX($AJ$1:$AW$1,SMALL(IF(ISNUMBER($AJ$1:$AW$1),COLUMN($AJ$1:$AW$1)-4),ROWS($1:55)))),"",INDEX($AJ$1:$AW$1,SMALL(IF(ISNUMBER($AJ$1:$AW$1),COLUMN($AJ$1:$AW$1)-4),ROWS($1:55))))}
F59: {=IF(ISERROR(INDEX($AJ$1:$AW$1,SMALL(IF(ISNUMBER($AJ$1:$AW$1),COLUMN($AJ$1:$AW$1)-4),ROWS($1:56)))),"",INDEX($AJ$1:$AW$1,SMALL(IF(ISNUMBER($AJ$1:$AW$1),COLUMN($AJ$1:$AW$1)-4),ROWS($1:56))))}
F60: {=IF(ISERROR(INDEX($AJ$1:$AW$1,SMALL(IF(ISNUMBER($AJ$1:$AW$1),COLUMN($AJ$1:$AW$1)-4),ROWS($1:57)))),"",INDEX($AJ$1:$AW$1,SMALL(IF(ISNUMBER($AJ$1:$AW$1),COLUMN($AJ$1:$AW$1)-4),ROWS($1:57))))}
F61: {=IF(ISERROR(INDEX($AJ$1:$AW$1,SMALL(IF(ISNUMBER($AJ$1:$AW$1),COLUMN($AJ$1:$AW$1)-4),ROWS($1:58)))),"",INDEX($AJ$1:$AW$1,SMALL(IF(ISNUMBER($AJ$1:$AW$1),COLUMN($AJ$1:$AW$1)-4),ROWS($1:58))))}
F62: {=IF(ISERROR(INDEX($AJ$1:$AW$1,SMALL(IF(ISNUMBER($AJ$1:$AW$1),COLUMN($AJ$1:$AW$1)-4),ROWS($1:59)))),"",INDEX($AJ$1:$AW$1,SMALL(IF(ISNUMBER($AJ$1:$AW$1),COLUMN($AJ$1:$AW$1)-4),ROWS($1:59))))}
F63: {=IF(ISERROR(INDEX($AJ$1:$AW$1,SMALL(IF(ISNUMBER($AJ$1:$AW$1),COLUMN($AJ$1:$AW$1)-4),ROWS($1:60)))),"",INDEX($AJ$1:$AW$1,SMALL(IF(ISNUMBER($AJ$1:$AW$1),COLUMN($AJ$1:$AW$1)-4),ROWS($1:60))))}
F64: {=IF(ISERROR(INDEX($AJ$1:$AW$1,SMALL(IF(ISNUMBER($AJ$1:$AW$1),COLUMN($AJ$1:$AW$1)-4),ROWS($1:61)))),"",INDEX($AJ$1:$AW$1,SMALL(IF(ISNUMBER($AJ$1:$AW$1),COLUMN($AJ$1:$AW$1)-4),ROWS($1:61))))}
F65: {=IF(ISERROR(INDEX($AJ$1:$AW$1,SMALL(IF(ISNUMBER($AJ$1:$AW$1),COLUMN($AJ$1:$AW$1)-4),ROWS($1:62)))),"",INDEX($AJ$1:$AW$1,SMALL(IF(ISNUMBER($AJ$1:$AW$1),COLUMN($AJ$1:$AW$1)-4),ROWS($1:62))))}
F66: {=IF(ISERROR(INDEX($AJ$1:$AW$1,SMALL(IF(ISNUMBER($AJ$1:$AW$1),COLUMN($AJ$1:$AW$1)-4),ROWS($1:63)))),"",INDEX($AJ$1:$AW$1,SMALL(IF(ISNUMBER($AJ$1:$AW$1),COLUMN($AJ$1:$AW$1)-4),ROWS($1:63))))}
F67: {=IF(ISERROR(INDEX($AJ$1:$AW$1,SMALL(IF(ISNUMBER($AJ$1:$AW$1),COLUMN($AJ$1:$AW$1)-4),ROWS($1:64)))),"",INDEX($AJ$1:$AW$1,SMALL(IF(ISNUMBER($AJ$1:$AW$1),COLUMN($AJ$1:$AW$1)-4),ROWS($1:64))))}
F68: {=IF(ISERROR(INDEX($AJ$1:$AW$1,SMALL(IF(ISNUMBER($AJ$1:$AW$1),COLUMN($AJ$1:$AW$1)-4),ROWS($1:65)))),"",INDEX($AJ$1:$AW$1,SMALL(IF(ISNUMBER($AJ$1:$AW$1),COLUMN($AJ$1:$AW$1)-4),ROWS($1:65))))}
F69: {=IF(ISERROR(INDEX($AJ$1:$AW$1,SMALL(IF(ISNUMBER($AJ$1:$AW$1),COLUMN($AJ$1:$AW$1)-4),ROWS($1:66)))),"",INDEX($AJ$1:$AW$1,SMALL(IF(ISNUMBER($AJ$1:$AW$1),COLUMN($AJ$1:$AW$1)-4),ROWS($1:66))))}
F70: {=IF(ISERROR(INDEX($AJ$1:$AW$1,SMALL(IF(ISNUMBER($AJ$1:$AW$1),COLUMN($AJ$1:$AW$1)-4),ROWS($1:67)))),"",INDEX($AJ$1:$AW$1,SMALL(IF(ISNUMBER($AJ$1:$AW$1),COLUMN($AJ$1:$AW$1)-4),ROWS($1:67))))}
F71: {=IF(ISERROR(INDEX($AJ$1:$AW$1,SMALL(IF(ISNUMBER($AJ$1:$AW$1),COLUMN($AJ$1:$AW$1)-4),ROWS($1:68)))),"",INDEX($AJ$1:$AW$1,SMALL(IF(ISNUMBER($AJ$1:$AW$1),COLUMN($AJ$1:$AW$1)-4),ROWS($1:68))))}
F72: {=IF(ISERROR(INDEX($AJ$1:$AW$1,SMALL(IF(ISNUMBER($AJ$1:$AW$1),COLUMN($AJ$1:$AW$1)-4),ROWS($1:69)))),"",INDEX($AJ$1:$AW$1,SMALL(IF(ISNUMBER($AJ$1:$AW$1),COLUMN($AJ$1:$AW$1)-4),ROWS($1:69))))}
F73: {=IF(ISERROR(INDEX($AJ$1:$AW$1,SMALL(IF(ISNUMBER($AJ$1:$AW$1),COLUMN($AJ$1:$AW$1)-4),ROWS($1:70)))),"",INDEX($AJ$1:$AW$1,SMALL(IF(ISNUMBER($AJ$1:$AW$1),COLUMN($AJ$1:$AW$1)-4),ROWS($1:70))))}
F74: {=IF(ISERROR(INDEX($AJ$1:$AW$1,SMALL(IF(ISNUMBER($AJ$1:$AW$1),COLUMN($AJ$1:$AW$1)-4),ROWS($1:71)))),"",INDEX($AJ$1:$AW$1,SMALL(IF(ISNUMBER($AJ$1:$AW$1),COLUMN($AJ$1:$AW$1)-4),ROWS($1:71))))}
F75: {=IF(ISERROR(INDEX($AJ$1:$AW$1,SMALL(IF(ISNUMBER($AJ$1:$AW$1),COLUMN($AJ$1:$AW$1)-4),ROWS($1:72)))),"",INDEX($AJ$1:$AW$1,SMALL(IF(ISNUMBER($AJ$1:$AW$1),COLUMN($AJ$1:$AW$1)-4),ROWS($1:72))))}
F76: {=IF(ISERROR(INDEX($AJ$1:$AW$1,SMALL(IF(ISNUMBER($AJ$1:$AW$1),COLUMN($AJ$1:$AW$1)-4),ROWS($1:73)))),"",INDEX($AJ$1:$AW$1,SMALL(IF(ISNUMBER($AJ$1:$AW$1),COLUMN($AJ$1:$AW$1)-4),ROWS($1:73))))}
F77: {=IF(ISERROR(INDEX($AJ$1:$AW$1,SMALL(IF(ISNUMBER($AJ$1:$AW$1),COLUMN($AJ$1:$AW$1)-4),ROWS($1:74)))),"",INDEX($AJ$1:$AW$1,SMALL(IF(ISNUMBER($AJ$1:$AW$1),COLUMN($AJ$1:$AW$1)-4),ROWS($1:74))))}
F78: {=IF(ISERROR(INDEX($AJ$1:$AW$1,SMALL(IF(ISNUMBER($AJ$1:$AW$1),COLUMN($AJ$1:$AW$1)-4),ROWS($1:75)))),"",INDEX($AJ$1:$AW$1,SMALL(IF(ISNUMBER($AJ$1:$AW$1),COLUMN($AJ$1:$AW$1)-4),ROWS($1:75))))}
F79: {=IF(ISERROR(INDEX($AJ$1:$AW$1,SMALL(IF(ISNUMBER($AJ$1:$AW$1),COLUMN($AJ$1:$AW$1)-4),ROWS($1:76)))),"",INDEX($AJ$1:$AW$1,SMALL(IF(ISNUMBER($AJ$1:$AW$1),COLUMN($AJ$1:$AW$1)-4),ROWS($1:76))))}
F80: {=IF(ISERROR(INDEX($AJ$1:$AW$1,SMALL(IF(ISNUMBER($AJ$1:$AW$1),COLUMN($AJ$1:$AW$1)-4),ROWS($1:77)))),"",INDEX($AJ$1:$AW$1,SMALL(IF(ISNUMBER($AJ$1:$AW$1),COLUMN($AJ$1:$AW$1)-4),ROWS($1:77))))}
F81: {=IF(ISERROR(INDEX($AJ$1:$AW$1,SMALL(IF(ISNUMBER($AJ$1:$AW$1),COLUMN($AJ$1:$AW$1)-4),ROWS($1:78)))),"",INDEX($AJ$1:$AW$1,SMALL(IF(ISNUMBER($AJ$1:$AW$1),COLUMN($AJ$1:$AW$1)-4),ROWS($1:78))))}
F82: {=IF(ISERROR(INDEX($AJ$1:$AW$1,SMALL(IF(ISNUMBER($AJ$1:$AW$1),COLUMN($AJ$1:$AW$1)-4),ROWS($1:79)))),"",INDEX($AJ$1:$AW$1,SMALL(IF(ISNUMBER($AJ$1:$AW$1),COLUMN($AJ$1:$AW$1)-4),ROWS($1:79))))}
F83: {=IF(ISERROR(INDEX($AJ$1:$AW$1,SMALL(IF(ISNUMBER($AJ$1:$AW$1),COLUMN($AJ$1:$AW$1)-4),ROWS($1:80)))),"",INDEX($AJ$1:$AW$1,SMALL(IF(ISNUMBER($AJ$1:$AW$1),COLUMN($AJ$1:$AW$1)-4),ROWS($1:80))))}
F84: {=IF(ISERROR(INDEX($AJ$1:$AW$1,SMALL(IF(ISNUMBER($AJ$1:$AW$1),COLUMN($AJ$1:$AW$1)-4),ROWS($1:81)))),"",INDEX($AJ$1:$AW$1,SMALL(IF(ISNUMBER($AJ$1:$AW$1),COLUMN($AJ$1:$AW$1)-4),ROWS($1:81))))}
F85: {=IF(ISERROR(INDEX($AJ$1:$AW$1,SMALL(IF(ISNUMBER($AJ$1:$AW$1),COLUMN($AJ$1:$AW$1)-4),ROWS($1:82)))),"",INDEX($AJ$1:$AW$1,SMALL(IF(ISNUMBER($AJ$1:$AW$1),COLUMN($AJ$1:$AW$1)-4),ROWS($1:82))))}
F86: {=IF(ISERROR(INDEX($AJ$1:$AW$1,SMALL(IF(ISNUMBER($AJ$1:$AW$1),COLUMN($AJ$1:$AW$1)-4),ROWS($1:83)))),"",INDEX($AJ$1:$AW$1,SMALL(IF(ISNUMBER($AJ$1:$AW$1),COLUMN($AJ$1:$AW$1)-4),ROWS($1:83))))}

Sheet Planning Prévisionnel 2019
A2: 31/12/2018 au 31/12/2019 | B2: SEM 01 | W2: SEM 02 | AR2: SEM 03 | BM2: SEM 04 | CH2: SEM 05 | DC2: SEM 06 | DX2: SEM 07 | ES2: SEM 08 | FN2: SEM 09 | GI2: SEM 10 | HD2: SEM 11 | HY2: SEM 12 | IT2: SEM 13 | JO2: SEM 14 | KJ2: SEM 15 | LE2: SEM 16 | LZ2: SEM 17 | MU2: SEM 18 | NP2: SEM 19 | OK2: SEM 20 | PF2: SEM 21 | QA2: SEM 22 | QV2: SEM 23 | RQ2: SEM 24 | SL2: SEM 25 | TG2: SEM 26 | UB2: SEM 27 | UW2: SEM 28 | VR2: SEM 29 | WM2: SEM 30 | XH2: SEM 31 | YC2: SEM 32 | YX2: SEM 33 | ZS2: SEM 34 | AAN2: SEM 35 | ABI2: SEM 36 | ACD2: SEM 37 | ACY2: SEM 38 | ADT2: SEM 39 | AEO2: SEM 40 | AFJ2: SEM 41 | AGE2: SEM 42 | AGZ2: SEM 43 | AHU2: SEM 44 | AIP2: SEM 45 | AJK2: SEM 46 | AKF2: SEM 47 | ALA2: SEM 48 | ALV2: SEM 49 | AMQ2: SEM 50 | ANL2: SEM 51 | AOG2: SEM 52 | APB2: SEM 01 | APW2: SEM 02 | AQR2: SEM 03 | ARM2: SEM 04
B3: 42003 | E3: =B3+1 -> 42004 | H3: =E3+1 -> 42005 | K3: =H3+1 -> 42006 | N3: =K3+1 -> 42007 | Q3: =N3+1 -> 42008 | T3: =Q3+1 -> 42009 | W3: =T3+1 -> 42010 | Z3: =W3+1 -> 42011 | AC3: =Z3+1 -> 42012 | AF3: =AC3+1 -> 42013 | AI3: =AF3+1 -> 42014 | AL3: =AI3+1 -> 42015 | AO3: =AL3+1 -> 42016 | AR3: =AO3+1 -> 42017 | AU3: =AR3+1 -> 42018 | AX3: =AU3+1 -> 42019 | BA3: =AX3+1 -> 42020 | BD3: =BA3+1 -> 42021 | BG3: =BD3+1 -> 42022 | BJ3: =BG3+1 -> 42023 | BM3: =BJ3+1 -> 42024 | BP3: =BM3+1 -> 42025 | BS3: =BP3+1 -> 42026 | BV3: =BS3+1 -> 42027 | BY3: =BV3+1 -> 42028 | CB3: =BY3+1 -> 42029 | CE3: =CB3+1 -> 42030 | CH3: =CE3+1 -> 42031 | CK3: =CH3+1 -> 42032 | CN3: =CK3+1 -> 42033 | CQ3: =CN3+1 -> 42034 | CT3: =CQ3+1 -> 42035 | CW3: =CT3+1 -> 42036 | CZ3: =CW3+1 -> 42037 | DC3: =CZ3+1 -> 42038 | DF3: =DC3+1 -> 42039 | DI3: =DF3+1 -> 42040 | DL3: =DI3+1 -> 42041 | DO3: =DL3+1 -> 42042 | DR3: =DO3+1 -> 42043 | DU3: =DR3+1 -> 42044 | DX3: =DU3+1 -> 42045 | EA3: =DX3+1 -> 42046 | ED3: =EA3+1 -> 42047 | EG3: =ED3+1 -> 42048 | EJ3: =EG3+1 -> 42049 | EM3: =EJ3+1 -> 42050 | EP3: =EM3+1 -> 42051 | ES3: =EP3+1 -> 42052 | EV3: =ES3+1 -> 42053 | EY3: =EV3+1 -> 42054 | FB3: =EY3+1 -> 42055 | FE3: =FB3+1 -> 42056 | FH3: =FE3+1 -> 42057 | FK3: =FH3+1 -> 42058 | FN3: =FK3+1 -> 42059 | FQ3: =FN3+1 -> 42060 | FT3: =FQ3+1 -> 42061 | FW3: =FT3+1 -> 42062 | FZ3: =FW3+1 -> 42063 | GC3: =FZ3+1 -> 42064 | GF3: =GC3+1 -> 42065 | GI3: =GF3+1 -> 42066 | GL3: =GI3+1 -> 42067 | GO3: =GL3+1 -> 42068 | GR3: =GO3+1 -> 42069 | GU3: =GR3+1 -> 42070 | GX3: =GU3+1 -> 42071 | HA3: =GX3+1 -> 42072 | HD3: =HA3+1 -> 42073 | HG3: =HD3+1 -> 42074 | HJ3: =HG3+1 -> 42075 | HM3: =HJ3+1 -> 42076 | HP3: =HM3+1 -> 42077 | HS3: =HP3+1 -> 42078 | HV3: =HS3+1 -> 42079 | HY3: =HV3+1 -> 42080 | IB3: =HY3+1 -> 42081 | IE3: =IB3+1 -> 42082 | IH3: =IE3+1 -> 42083 | IK3: =IH3+1 -> 42084 | IN3: =IK3+1 -> 42085 | IQ3: =IN3+1 -> 42086 | IT3: =IQ3+1 -> 42087 | IW3: =IT3+1 -> 42088 | IZ3: =IW3+1 -> 42089 | JC3: =IZ3+1 -> 42090 | JF3: =JC3+1 -> 42091 | JI3: =JF3+1 -> 42092 | JL3: =JI3+1 -> 42093 | JO3: =JL3+1 -> 42094 | JR3: =JO3+1 -> 42095 | JU3: =JR3+1 -> 42096 | JX3: =JU3+1 -> 42097 | KA3: =JX3+1 -> 42098 | KD3: =KA3+1 -> 42099 | KG3: =KD3+1 -> 42100 | KJ3: =KG3+1 -> 42101 | KM3: =KJ3+1 -> 42102 | KP3: =KM3+1 -> 42103 | KS3: =KP3+1 -> 42104 | KV3: =KS3+1 -> 42105 | KY3: =KV3+1 -> 42106 | LB3: =KY3+1 -> 42107 | LE3: =LB3+1 -> 42108 | LH3: =LE3+1 -> 42109 | LK3: =LH3+1 -> 42110 | LN3: =LK3+1 -> 42111 | LQ3: =LN3+1 -> 42112 | LT3: =LQ3+1 -> 42113 | LW3: =LT3+1 -> 42114 | LZ3: =LW3+1 -> 42115 | MC3: =LZ3+1 -> 42116 | MF3: =MC3+1 -> 42117 | MI3: =MF3+1 -> 42118 | ML3: =MI3+1 -> 42119 | MO3: =ML3+1 -> 42120 | MR3: =MO3+1 -> 42121 | MU3: =MR3+1 -> 42122 | MX3: =MU3+1 -> 42123 | NA3: =MX3+1 -> 42124 | ND3: =NA3+1 -> 42125 | NG3: =ND3+1 -> 42126 | NJ3: =NG3+1 -> 42127 | NM3: =NJ3+1 -> 42128 | NP3: =NM3+1 -> 42129 | NS3: =NP3+1 -> 42130 | NV3: =NS3+1 -> 42131 | NY3: =NV3+1 -> 42132 | OB3: =NY3+1 -> 42133 | OE3: =OB3+1 -> 42134 | OH3: =OE3+1 -> 42135 | OK3: =OH3+1 -> 42136 | ON3: =OK3+1 -> 42137 | OQ3: =ON3+1 -> 42138 | OT3: =OQ3+1 -> 42139 | OW3: =OT3+1 -> 42140 | OZ3: =OW3+1 -> 42141 | PC3: =OZ3+1 -> 42142 | PF3: =PC3+1 -> 42143 | PI3: =PF3+1 -> 42144 | PL3: =PI3+1 -> 42145 | PO3: =PL3+1 -> 42146 | PR3: =PO3+1 -> 42147 | PU3: =PR3+1 -> 42148 | PX3: =PU3+1 -> 42149 | QA3: =PX3+1 -> 42150 | QD3: =QA3+1 -> 42151 | QG3: =QD3+1 -> 42152 | QJ3: =QG3+1 -> 42153 | QM3: =QJ3+1 -> 42154 | QP3: =QM3+1 -> 42155 | QS3: =QP3+1 -> 42156 | QV3: =QS3+1 -> 42157 | QY3: =QV3+1 -> 42158 | RB3: =QY3+1 -> 42159 | RE3: =RB3+1 -> 42160 | RH3: =RE3+1 -> 42161 | RK3: =RH3+1 -> 42162 | RN3: =RK3+1 -> 42163 | RQ3: =RN3+1 -> 42164 | RT3: =RQ3+1 -> 42165 | RW3: =RT3+1 -> 42166 | RZ3: =RW3+1 -> 42167 | SC3: =RZ3+1 -> 42168 | SF3: =SC3+1 -> 42169 | SI3: =SF3+1 -> 42170 | SL3: =SI3+1 -> 42171 | SO3: =SL3+1 -> 42172 | SR3: =SO3+1 -> 42173 | SU3: =SR3+1 -> 42174 | SX3: =SU3+1 -> 42175 | TA3: =SX3+1 -> 42176 | TD3: =TA3+1 -> 42177 | TG3: =TD3+1 -> 42178 | TJ3: =TG3+1 -> 42179 | TM3: =TJ3+1 -> 42180 | TP3: =TM3+1 -> 42181 | TS3: =TP3+1 -> 42182 | TV3: =TS3+1 -> 42183 | TY3: =TV3+1 -> 42184 | UB3: =TY3+1 -> 42185 | UE3: =UB3+1 -> 42186 | UH3: =UE3+1 -> 42187 | UK3: =UH3+1 -> 42188 | UN3: =UK3+1 -> 42189 | UQ3: =UN3+1 -> 42190 | UT3: =UQ3+1 -> 42191 | UW3: =UT3+1 -> 42192 | UZ3: =UW3+1 -> 42193 | VC3: =UZ3+1 -> 42194 | VF3: =VC3+1 -> 42195 | VI3: =VF3+1 -> 42196 | VL3: =VI3+1 -> 42197 | VO3: =VL3+1 -> 42198 | VR3: =VO3+1 -> 42199 | VU3: =VR3+1 -> 42200 | VX3: =VU3+1 -> 42201 | WA3: =VX3+1 -> 42202 | WD3: =WA3+1 -> 42203 | WG3: =WD3+1 -> 42204 | WJ3: =WG3+1 -> 42205 | WM3: =WJ3+1 -> 42206 | WP3: =WM3+1 -> 42207 | WS3: =WP3+1 -> 42208 | WV3: =WS3+1 -> 42209 | WY3: =WV3+1 -> 42210 | XB3: =WY3+1 -> 42211 | XE3: =XB3+1 -> 42212 | XH3: =XE3+1 -> 42213 | XK3: =XH3+1 -> 42214 | XN3: =XK3+1 -> 42215 | XQ3: =XN3+1 -> 42216 | XT3: =XQ3+1 -> 42217 | XW3: =XT3+1 -> 42218 | XZ3: =XW3+1 -> 42219 | YC3: =XZ3+1 -> 42220 | YF3: =YC3+1 -> 42221 | YI3: =YF3+1 -> 42222 | YL3: =YI3+1 -> 42223 | YO3: =YL3+1 -> 42224 | YR3: =YO3+1 -> 42225 | YU3: =YR3+1 -> 42226 | YX3: =YU3+1 -> 42227 | ZA3: =YX3+1 -> 42228 | ZD3: =ZA3+1 -> 42229 | ZG3: =ZD3+1 -> 42230 | ZJ3: =ZG3+1 -> 42231 | ZM3: =ZJ3+1 -> 42232 | ZP3: =ZM3+1 -> 42233 | ZS3: =ZP3+1 -> 42234 | ZV3: =ZS3+1 -> 42235 | ZY3: =ZV3+1 -> 42236 | AAB3: =ZY3+1 -> 42237 | AAE3: =AAB3+1 -> 42238 | AAH3: =AAE3+1 -> 42239 | AAK3: =AAH3+1 -> 42240 | AAN3: =AAK3+1 -> 42241 | AAQ3: =AAN3+1 -> 42242 | AAT3: =AAQ3+1 -> 42243 | AAW3: =AAT3+1 -> 42244 | AAZ3: =AAW3+1 -> 42245 | ABC3: =AAZ3+1 -> 42246 | ABF3: =ABC3+1 -> 42247 | ABI3: =ABF3+1 -> 42248 | ABL3: =ABI3+1 -> 42249 | ABO3: =ABL3+1 -> 42250 | ABR3: =ABO3+1 -> 42251 | ABU3: =ABR3+1 -> 42252 | ABX3: =ABU3+1 -> 42253 | ACA3: =ABX3+1 -> 42254 | ACD3: =ACA3+1 -> 42255 | ACG3: =ACD3+1 -> 42256 | ACJ3: =ACG3+1 -> 42257 | ACM3: =ACJ3+1 -> 42258 | ACP3: =ACM3+1 -> 42259 | ACS3: =ACP3+1 -> 42260 | ACV3: =ACS3+1 -> 42261 | ACY3: =ACV3+1 -> 42262 | ADB3: =ACY3+1 -> 42263 | ADE3: =ADB3+1 -> 42264 | ADH3: =ADE3+1 -> 42265 | ADK3: =ADH3+1 -> 42266 | ADN3: =ADK3+1 -> 42267 | ADQ3: =ADN3+1 -> 42268 | ADT3: =ADQ3+1 -> 42269 | ADW3: =ADT3+1 -> 42270 | ADZ3: =ADW3+1 -> 42271 | AEC3: =ADZ3+1 -> 42272 | AEF3: =AEC3+1 -> 42273 | AEI3: =AEF3+1 -> 42274 | AEL3: =AEI3+1 -> 42275 | AEO3: =AEL3+1 -> 42276 | AER3: =AEO3+1 -> 42277 | AEU3: =AER3+1 -> 42278 | AEX3: =AEU3+1 -> 42279 | AFA3: =AEX3+1 -> 42280 | AFD3: =AFA3+1 -> 42281 | AFG3: =AFD3+1 -> 42282 | AFJ3: =AFG3+1 -> 42283 | AFM3: =AFJ3+1 -> 42284 | AFP3: =AFM3+1 -> 42285 | AFS3: =AFP3+1 -> 42286 | AFV3: =AFS3+1 -> 42287 | AFY3: =AFV3+1 -> 42288 | AGB3: =AFY3+1 -> 42289 | AGE3: =AGB3+1 -> 42290 | AGH3: =AGE3+1 -> 42291 | AGK3: =AGH3+1 -> 42292 | AGN3: =AGK3+1 -> 42293 | AGQ3: =AGN3+1 -> 42294 | AGT3: =AGQ3+1 -> 42295 | AGW3: =AGT3+1 -> 42296 | AGZ3: =AGW3+1 -> 42297 | AHC3: =AGZ3+1 -> 42298 | AHF3: =AHC3+1 -> 42299 | AHI3: =AHF3+1 -> 42300 | AHL3: =AHI3+1 -> 42301 | AHO3: =AHL3+1 -> 42302 | AHR3: =AHO3+1 -> 42303 | AHU3: =AHR3+1 -> 42304 | AHX3: =AHU3+1 -> 42305 | AIA3: =AHX3+1 -> 42306 | AID3: =AIA3+1 -> 42307 | AIG3: =AID3+1 -> 42308 | AIJ3: =AIG3+1 -> 42309 | AIM3: =AIJ3+1 -> 42310 | AIP3: =AIM3+1 -> 42311 | AIS3: =AIP3+1 -> 42312 | AIV3: =AIS3+1 -> 42313 | AIY3: =AIV3+1 -> 42314 | AJB3: =AIY3+1 -> 42315 | AJE3: =AJB3+1 -> 42316 | AJH3: =AJE3+1 -> 42317 | AJK3: =AJH3+1 -> 42318 | AJN3: =AJK3+1 -> 42319 | AJQ3: =AJN3+1 -> 42320 | AJT3: =AJQ3+1 -> 42321 | AJW3: =AJT3+1 -> 42322 | AJZ3: =AJW3+1 -> 42323 | AKC3: =AJZ3+1 -> 42324 | AKF3: =AKC3+1 -> 42325 | AKI3: =AKF3+1 -> 42326 | AKL3: =AKI3+1 -> 42327 | AKO3: =AKL3+1 -> 42328 | AKR3: =AKO3+1 -> 42329 | AKU3: =AKR3+1 -> 42330 | AKX3: =AKU3+1 -> 42331 | ALA3: =AKX3+1 -> 42332 | ALD3: =ALA3+1 -> 42333 | ALG3: =ALD3+1 -> 42334 | ALJ3: =ALG3+1 -> 42335 | ALM3: =ALJ3+1 -> 42336 | ALP3: =ALM3+1 -> 42337 | ALS3: =ALP3+1 -> 42338 | ALV3: =ALS3+1 -> 42339 | ALY3: =ALV3+1 -> 42340 | AMB3: =ALY3+1 -> 42341 | AME3: =AMB3+1 -> 42342 | AMH3: =AME3+1 -> 42343 | AMK3: =AMH3+1 -> 42344 | AMN3: =AMK3+1 -> 42345 | AMQ3: =AMN3+1 -> 42346 | AMT3: =AMQ3+1 -> 42347 | AMW3: =AMT3+1 -> 42348 | AMZ3: =AMW3+1 -> 42349 | ANC3: =AMZ3+1 -> 42350 | ANF3: =ANC3+1 -> 42351 | ANI3: =ANF3+1 -> 42352 | ANL3: =ANI3+1 -> 42353 | ANO3: =ANL3+1 -> 42354 | ANR3: =ANO3+1 -> 42355 | ANU3: =ANR3+1 -> 42356 | ANX3: =ANU3+1 -> 42357 | AOA3: =ANX3+1 -> 42358 | AOD3: =AOA3+1 -> 42359 | AOG3: =AOD3+1 -> 42360 | AOJ3: =AOG3+1 -> 42361 | AOM3: =AOJ3+1 -> 42362 | AOP3: =AOM3+1 -> 42363 | AOS3: =AOP3+1 -> 42364 | AOV3: =AOS3+1 -> 42365 | AOY3: =AOV3+1 -> 42366 | APB3: =AOY3+1 -> 42367 | APE3: =APB3+1 -> 42368 | APH3: =APE3+1 -> 42369 | APK3: =APH3+1 -> 42370 | APN3: =APK3+1 -> 42371 | APQ3: =APN3+1 -> 42372 | APT3: =APQ3+1 -> 42373 | APW3: =APT3+1 -> 42374 | APZ3: =APW3+1 -> 42375 | AQC3: =APZ3+1 -> 42376 | AQF3: =AQC3+1 -> 42377 | AQI3: =AQF3+1 -> 42378 | AQL3: =AQI3+1 -> 42379 | AQO3: =AQL3+1 -> 42380 | AQR3: =AQO3+1 -> 42381 | AQU3: =AQR3+1 -> 42382 | AQX3: =AQU3+1 -> 42383 | ARA3: =AQX3+1 -> 42384 | ARD3: =ARA3+1 -> 42385 | ARG3: =ARD3+1 -> 42386 | ARJ3: =ARG3+1 -> 42387 | ARM3: =ARJ3+1 -> 42388 | ARP3: =ARM3+1 -> 42389 | ARS3: =ARP3+1 -> 42390 | ARV3: =ARS3+1 -> 42391 | ARY3: =ARV3+1 -> 42392 | ASB3: =ARY3+1 -> 42393 | ASE3: =ASB3+1 -> 42394
B4: =B3 -> 42003 | E4: =E3 -> 42004 | H4: =H3 -> 42005 | K4: =K3 -> 42006 | N4: =N3 -> 42007 | Q4: =Q3 -> 42008 | T4: =T3 -> 42009 | W4: =W3 -> 42010 | Z4: =Z3 -> 42011 | AC4: =AC3 -> 42012 | AF4: =AF3 -> 42013 | AI4: =AI3 -> 42014 | AL4: =AL3 -> 42015 | AO4: =AO3 -> 42016 | AR4: =AR3 -> 42017 | AU4: =AU3 -> 42018 | AX4: =AX3 -> 42019 | BA4: =BA3 -> 42020 | BD4: =BD3 -> 42021 | BG4: =BG3 -> 42022 | BJ4: =BJ3 -> 42023 | BM4: =BM3 -> 42024 | BP4: =BP3 -> 42025 | BS4: =BS3 -> 42026 | BV4: =BV3 -> 42027 | BY4: =BY3 -> 42028 | CB4: =CB3 -> 42029 | CE4: =CE3 -> 42030 | CH4: =CH3 -> 42031 | CK4: =CK3 -> 42032 | CN4: =CN3 -> 42033 | CQ4: =CQ3 -> 42034 | CT4: =CT3 -> 42035 | CW4: =CW3 -> 42036 | CZ4: =CZ3 -> 42037 | DC4: =DC3 -> 42038 | DF4: =DF3 -> 42039 | DI4: =DI3 -> 42040 | DL4: =DL3 -> 42041 | DO4: =DO3 -> 42042 | DR4: =DR3 -> 42043 | DU4: =DU3 -> 42044 | DX4: =DX3 -> 42045 | EA4: =EA3 -> 42046 | ED4: =ED3 -> 42047 | EG4: =EG3 -> 42048 | EJ4: =EJ3 -> 42049 | EM4: =EM3 -> 42050 | EP4: =EP3 -> 42051 | ES4: =ES3 -> 42052 | EV4: =EV3 -> 42053 | EY4: =EY3 -> 42054 | FB4: =FB3 -> 42055 | FE4: =FE3 -> 42056 | FH4: =FH3 -> 42057 | FK4: =FK3 -> 42058 | FN4: =FN3 -> 42059 | FQ4: =FQ3 -> 42060 | FT4: =FT3 -> 42061 | FW4: =FW3 -> 42062 | FZ4: =FZ3 -> 42063 | GC4: =GC3 -> 42064 | GF4: =GF3 -> 42065 | GI4: =GI3 -> 42066 | GL4: =GL3 -> 42067 | GO4: =GO3 -> 42068 | GR4: =GR3 -> 42069 | GU4: =GU3 -> 42070 | GX4: =GX3 -> 42071 | HA4: =HA3 -> 42072 | HD4: =HD3 -> 42073 | HG4: =HG3 -> 42074 | HJ4: =HJ3 -> 42075 | HM4: =HM3 -> 42076 | HP4: =HP3 -> 42077 | HS4: =HS3 -> 42078 | HV4: =HV3 -> 42079 | HY4: =HY3 -> 42080 | IB4: =IB3 -> 42081 | IE4: =IE3 -> 42082 | IH4: =IH3 -> 42083 | IK4: =IK3 -> 42084 | IN4: =IN3 -> 42085 | IQ4: =IQ3 -> 42086 | IT4: =IT3 -> 42087 | IW4: =IW3 -> 42088 | IZ4: =IZ3 -> 42089 | JC4: =JC3 -> 42090 | JF4: =JF3 -> 42091 | JI4: =JI3 -> 42092 | JL4: =JL3 -> 42093 | JO4: =JO3 -> 42094 | JR4: =JR3 -> 42095 | JU4: =JU3 -> 42096 | JX4: =JX3 -> 42097 | KA4: =KA3 -> 42098 | KD4: =KD3 -> 42099 | KG4: =KG3 -> 42100 | KJ4: =KJ3 -> 42101 | KM4: =KM3 -> 42102 | KP4: =KP3 -> 42103 | KS4: =KS3 -> 42104 | KV4: =KV3 -> 42105 | KY4: =KY3 -> 42106 | LB4: =LB3 -> 42107 | LE4: =LE3 -> 42108 | LH4: =LH3 -> 42109 | LK4: =LK3 -> 42110 | LN4: =LN3 -> 42111 | LQ4: =LQ3 -> 42112 | LT4: =LT3 -> 42113 | LW4: =LW3 -> 42114 | LZ4: =LZ3 -> 42115 | MC4: =MC3 -> 42116 | MF4: =MF3 -> 42117 | MI4: =MI3 -> 42118 | ML4: =ML3 -> 42119 | MO4: =MO3 -> 42120 | MR4: =MR3 -> 42121 | MU4: =MU3 -> 42122 | MX4: =MX3 -> 42123 | NA4: =NA3 -> 42124 | ND4: =ND3 -> 42125 | NG4: =NG3 -> 42126 | NJ4: =NJ3 -> 42127 | NM4: =NM3 -> 42128 | NP4: =NP3 -> 42129 | NS4: =NS3 -> 42130 | NV4: =NV3 -> 42131 | NY4: =NY3 -> 42132 | OB4: =OB3 -> 42133 | OE4: =OE3 -> 42134 | OH4: =OH3 -> 42135 | OK4: =OK3 -> 42136 | ON4: =ON3 -> 42137 | OQ4: =OQ3 -> 42138 | OT4: =OT3 -> 42139 | OW4: =OW3 -> 42140 | OZ4: =OZ3 -> 42141 | PC4: =PC3 -> 42142 | PF4: =PF3 -> 42143 | PI4: =PI3 -> 42144 | PL4: =PL3 -> 42145 | PO4: =PO3 -> 42146 | PR4: =PR3 -> 42147 | PU4: =PU3 -> 42148 | PX4: =PX3 -> 42149 | QA4: =QA3 -> 42150 | QD4: =QD3 -> 42151 | QG4: =QG3 -> 42152 | QJ4: =QJ3 -> 42153 | QM4: =QM3 -> 42154 | QP4: =QP3 -> 42155 | QS4: =QS3 -> 42156 | QV4: =QV3 -> 42157 | QY4: =QY3 -> 42158 | RB4: =RB3 -> 42159 | RE4: =RE3 -> 42160 | RH4: =RH3 -> 42161 | RK4: =RK3 -> 42162 | RN4: =RN3 -> 42163 | RQ4: =RQ3 -> 42164 | RT4: =RT3 -> 42165 | RW4: =RW3 -> 42166 | RZ4: =RZ3 -> 42167 | SC4: =SC3 -> 42168 | SF4: =SF3 -> 42169 | SI4: =SI3 -> 42170 | SL4: =SL3 -> 42171 | SO4: =SO3 -> 42172 | SR4: =SR3 -> 42173 | SU4: =SU3 -> 42174 | SX4: =SX3 -> 42175 | TA4: =TA3 -> 42176 | TD4: =TD3 -> 42177 | TG4: =TG3 -> 42178 | TJ4: =TJ3 -> 42179 | TM4: =TM3 -> 42180 | TP4: =TP3 -> 42181 | TS4: =TS3 -> 42182 | TV4: =TV3 -> 42183 | TY4: =TY3 -> 42184 | UB4: =UB3 -> 42185 | UE4: =UE3 -> 42186 | UH4: =UH3 -> 42187 | UK4: =UK3 -> 42188 | UN4: =UN3 -> 42189 | UQ4: =UQ3 -> 42190 | UT4: =UT3 -> 42191 | UW4: =UW3 -> 42192 | UZ4: =UZ3 -> 42193 | VC4: =VC3 -> 42194 | VF4: =VF3 -> 42195 | VI4: =VI3 -> 42196 | VL4: =VL3 -> 42197 | VO4: =VO3 -> 42198 | VR4: =VR3 -> 42199 | VU4: =VU3 -> 42200 | VX4: =VX3 -> 42201 | WA4: =WA3 -> 42202 | WD4: =WD3 -> 42203 | WG4: =WG3 -> 42204 | WJ4: =WJ3 -> 42205 | WM4: =WM3 -> 42206 | WP4: =WP3 -> 42207 | WS4: =WS3 -> 42208 | WV4: =WV3 -> 42209 | WY4: =WY3 -> 42210 | XB4: =XB3 -> 42211 | XE4: =XE3 -> 42212 | XH4: =XH3 -> 42213 | XK4: =XK3 -> 42214 | XN4: =XN3 -> 42215 | XQ4: =XQ3 -> 42216 | XT4: =XT3 -> 42217 | XW4: =XW3 -> 42218 | XZ4: =XZ3 -> 42219 | YC4: =YC3 -> 42220 | YF4: =YF3 -> 42221 | YI4: =YI3 -> 42222 | YL4: =YL3 -> 42223 | YO4: =YO3 -> 42224 | YR4: =YR3 -> 42225 | YU4: =YU3 -> 42226 | YX4: =YX3 -> 42227 | ZA4: =ZA3 -> 42228 | ZD4: =ZD3 -> 42229 | ZG4: =ZG3 -> 42230 | ZJ4: =ZJ3 -> 42231 | ZM4: =ZM3 -> 42232 | ZP4: =ZP3 -> 42233 | ZS4: =ZS3 -> 42234 | ZV4: =ZV3 -> 42235 | ZY4: =ZY3 -> 42236 | AAB4: =AAB3 -> 42237 | AAE4: =AAE3 -> 42238 | AAH4: =AAH3 -> 42239 | AAK4: =AAK3 -> 42240 | AAN4: =AAN3 -> 42241 | AAQ4: =AAQ3 -> 42242 | AAT4: =AAT3 -> 42243 | AAW4: =AAW3 -> 42244 | AAZ4: =AAZ3 -> 42245 | ABC4: =ABC3 -> 42246 | ABF4: =ABF3 -> 42247 | ABI4: =ABI3 -> 42248 | ABL4: =ABL3 -> 42249 | ABO4: =ABO3 -> 42250 | ABR4: =ABR3 -> 42251 | ABU4: =ABU3 -> 42252 | ABX4: =ABX3 -> 42253 | ACA4: =ACA3 -> 42254 | ACD4: =ACD3 -> 42255 | ACG4: =ACG3 -> 42256 | ACJ4: =ACJ3 -> 42257 | ACM4: =ACM3 -> 42258 | ACP4: =ACP3 -> 42259 | ACS4: =ACS3 -> 42260 | ACV4: =ACV3 -> 42261 | ACY4: =ACY3 -> 42262 | ADB4: =ADB3 -> 42263 | ADE4: =ADE3 -> 42264 | ADH4: =ADH3 -> 42265 | ADK4: =ADK3 -> 42266 | ADN4: =ADN3 -> 42267 | ADQ4: =ADQ3 -> 42268 | ADT4: =ADT3 -> 42269 | ADW4: =ADW3 -> 42270 | ADZ4: =ADZ3 -> 42271 | AEC4: =AEC3 -> 42272 | AEF4: =AEF3 -> 42273 | AEI4: =AEI3 -> 42274 | AEL4: =AEL3 -> 42275 | AEO4: =AEO3 -> 42276 | AER4: =AER3 -> 42277 | AEU4: =AEU3 -> 42278 | AEX4: =AEX3 -> 42279 | AFA4: =AFA3 -> 42280 | AFD4: =AFD3 -> 42281 | AFG4: =AFG3 -> 42282 | AFJ4: =AFJ3 -> 42283 | AFM4: =AFM3 -> 42284 | AFP4: =AFP3 -> 42285 | AFS4: =AFS3 -> 42286 | AFV4: =AFV3 -> 42287 | AFY4: =AFY3 -> 42288 | AGB4: =AGB3 -> 42289 | AGE4: =AGE3 -> 42290 | AGH4: =AGH3 -> 42291 | AGK4: =AGK3 -> 42292 | AGN4: =AGN3 -> 42293 | AGQ4: =AGQ3 -> 42294 | AGT4: =AGT3 -> 42295 | AGW4: =AGW3 -> 42296 | AGZ4: =AGZ3 -> 42297 | AHC4: =AHC3 -> 42298 | AHF4: =AHF3 -> 42299 | AHI4: =AHI3 -> 42300 | AHL4: =AHL3 -> 42301 | AHO4: =AHO3 -> 42302 | AHR4: =AHR3 -> 42303 | AHU4: =AHU3 -> 42304 | AHX4: =AHX3 -> 42305 | AIA4: =AIA3 -> 42306 | AID4: =AID3 -> 42307 | AIG4: =AIG3 -> 42308 | AIJ4: =AIJ3 -> 42309 | AIM4: =AIM3 -> 42310 | AIP4: =AIP3 -> 42311 | AIS4: =AIS3 -> 42312 | AIV4: =AIV3 -> 42313 | AIY4: =AIY3 -> 42314 | AJB4: =AJB3 -> 42315 | AJE4: =AJE3 -> 42316 | AJH4: =AJH3 -> 42317 | AJK4: =AJK3 -> 42318 | AJN4: =AJN3 -> 42319 | AJQ4: =AJQ3 -> 42320 | AJT4: =AJT3 -> 42321 | AJW4: =AJW3 -> 42322 | AJZ4: =AJZ3 -> 42323 | AKC4: =AKC3 -> 42324 | AKF4: =AKF3 -> 42325 | AKI4: =AKI3 -> 42326 | AKL4: =AKL3 -> 42327 | AKO4: =AKO3 -> 42328 | AKR4: =AKR3 -> 42329 | AKU4: =AKU3 -> 42330 | AKX4: =AKX3 -> 42331 | ALA4: =ALA3 -> 42332 | ALD4: =ALD3 -> 42333 | ALG4: =ALG3 -> 42334 | ALJ4: =ALJ3 -> 42335 | ALM4: =ALM3 -> 42336 | ALP4: =ALP3 -> 42337 | ALS4: =ALS3 -> 42338 | ALV4: =ALV3 -> 42339 | ALY4: =ALY3 -> 42340 | AMB4: =AMB3 -> 42341 | AME4: =AME3 -> 42342 | AMH4: =AMH3 -> 42343 | AMK4: =AMK3 -> 42344 | AMN4: =AMN3 -> 42345 | AMQ4: =AMQ3 -> 42346 | AMT4: =AMT3 -> 42347 | AMW4: =AMW3 -> 42348 | AMZ4: =AMZ3 -> 42349 | ANC4: =ANC3 -> 42350 | ANF4: =ANF3 -> 42351 | ANI4: =ANI3 -> 42352 | ANL4: =ANL3 -> 42353 | ANO4: =ANO3 -> 42354 | ANR4: =ANR3 -> 42355 | ANU4: =ANU3 -> 42356 | ANX4: =ANX3 -> 42357 | AOA4: =AOA3 -> 42358 | AOD4: =AOD3 -> 42359 | AOG4: =AOG3 -> 42360 | AOJ4: =AOJ3 -> 42361 | AOM4: =AOM3 -> 42362 | AOP4: =AOP3 -> 42363 | AOS4: =AOS3 -> 42364 | AOV4: =AOV3 -> 42365 | AOY4: =AOY3 -> 42366 | APB4: =APB3 -> 42367 | APE4: =APE3 -> 42368 | APH4: =APH3 -> 42369 | APK4: =APK3 -> 42370 | APN4: =APN3 -> 42371 | APQ4: =APQ3 -> 42372 | APT4: =APT3 -> 42373 | APW4: =APW3 -> 42374 | APZ4: =APZ3 -> 42375 | AQC4: =AQC3 -> 42376 | AQF4: =AQF3 -> 42377 | AQI4: =AQI3 -> 42378 | AQL4: =AQL3 -> 42379 | AQO4: =AQO3 -> 42380 | AQR4: =AQR3 -> 42381 | AQU4: =AQU3 -> 42382 | AQX4: =AQX3 -> 42383 | ARA4: =ARA3 -> 42384 | ARD4: =ARD3 -> 42385 | ARG4: =ARG3 -> 42386 | ARJ4: =ARJ3 -> 42387 | ARM4: =ARM3 -> 42388 | ARP4: =ARP3 -> 42389 | ARS4: =ARS3 -> 42390 | ARV4: =ARV3 -> 42391 | ARY4: =ARY3 -> 42392 | ASB4: =ASB3 -> 42393 | ASE4: =ASE3 -> 42394
A5: MANON | B5: Congé | E5: Férié | H5: Congé | K5: Congé | N5: Congé | AI5: 0.9375 | AJ5: - | AK5: 0.29166667 | AL5: 0.77083333 | AM5: - | AN5: 0.29166667 | AO5: 0.77083333 | AP5: - | AQ5: 0.29166667 | AX5: 0.41666667 | AY5: - | AZ5: 0.75 | BG5: 0.27083333 | BH5: - | BI5: 0.79166667 | BJ5: 0.27083333 | BK5: - | BL5: 0.79166667 | BP5: 0.27083333 | BQ5: - | BR5: 0.625 | BS5: 0.27083333 | BT5: - | BU5: 0.625 | BV5: 0.27083333 | BW5: - | BX5: 0.625 | BY5: 0.27083333 | BZ5: - | CA5: 0.625 | CH5: 0.375 | CI5: - | CJ5: 0.70833333 | CK5: 0.375 | CL5: - | CM5: 0.70833333 | CN5: 0.375 | CO5: - | CP5: 0.70833333 | CQ5: 0.41666667 | CR5: - | CS5: 0.75 | CT5: 0.375 | CU5: - | CV5: 0.70833333 | DC5: 0.27083333 | DD5: - | DE5: 0.625 | DF5: 0.27083333 | DG5: - | DH5: 0.625 | DI5: 0.45833333 | DJ5: - | DK5: 0.79166667 | DL5: 0.45833333 | DM5: - | DN5: 0.79166667 | DO5: 0.45833333 | DP5: - | DQ5: 0.79166667 | DX5: 0.60416667 | DY5: - | DZ5: 0.95833333 | EA5: 0.375 | EB5: - | EC5: 0.70833333 | ED5: 0.375 | EE5: - | EF5: 0.70833333 | EG5: Congé | EJ5: Congé | ES5: 0.60416667 | ET5: - | EU5: 0.95833333 | EV5: 0.60416667 | EW5: - | EX5: 0.95833333 | EY5: 0.60416667 | EZ5: - | FA5: 0.95833333 | FB5: 0.60416667 | FC5: - | FD5: 0.95833333 | FE5: 0.60416667 | FF5: - | FG5: 0.95833333 | FN5: 0.9375 | FO5: - | FP5: 0.29166667 | FQ5: 0.9375 | FR5: - | FS5: 0.29166667 | FT5: 0.9375 | FU5: - | FV5: 0.29166667 | FW5: 0.9375 | FX5: - | FY5: 0.29166667 | GI5: 0.41666667 | GJ5: - | GK5: 0.75 | GL5: 0.41666667 | GM5: - | GN5: 0.75 | GO5: 0.41666667 | GP5: - | GQ5: 0.75 | GR5: 0.41666667 | GS5: - | GT5: 0.75 | GU5: 0.41666667 | GV5: - | GW5: 0.75 | HD5: 0.375 | HE5: - | HF5: 0.70833333 | HG5: 0.375 | HH5: - | HI5: 0.70833333 | HJ5: 0.375 | HK5: - | HL5: 0.70833333 | HM5: 0.375 | HN5: - | HO5: 0.70833333 | HP5: 0.27083333 | HQ5: - | HR5: 0.625 | HY5: 0.45833333 | HZ5: - | IA5: 0.79166667 | IB5: 0.45833333 | IC5: - | ID5: 0.79166667 | IE5: 0.45833333 | IF5: - | IG5: 0.79166667 | IH5: 0.45833333 | II5: - | IJ5: 0.79166667 | IK5: 0.45833333 | IL5: - | IM5: 0.79166667 | IT5: 0.375 | IU5: - | IV5: 0.70833333 | IW5: 0.375 | IX5: - | IY5: 0.70833333 | IZ5: 0.375 | JA5: - | JB5: 0.70833333 | JC5: 0.375 | JD5: - | JE5: 0.70833333 | JF5: 0.375 | JG5: - | JH5: 0.70833333 | JO5: Congé | JR5: Congé | JU5: Congé | JX5: Congé | KA5: Congé | KY5: 0.27083333 | KZ5: - | LA5: 0.79166667 | LB5: 0.27083333 | LC5: - | LD5: 0.79166667 | LQ5: 0.9375 | LR5: - | LS5: 0.29166667 | LT5: 0.77083333 | LU5: - | LV5: 0.29166667 | LW5: 0.77083333 | LX5: - | LY5: 0.29166667 | LZ5: Férié | MC5: 0.375 | MD5: - | ME5: 0.70833333 | MF5: 0.375 | MG5: - | MH5: 0.70833333 | MI5: 0.375 | MJ5: - | MK5: 0.70833333 | ML5: 0.375 | MM5: - | MN5: 0.70833333 | MU5: 0.45833333 | MV5: - | MW5: 0.79166667 | MX5: 0.45833333 | MY5: - | MZ5: 0.79166667 | NA5: Férié | ND5: 0.45833333 | NE5: - | NF5: 0.79166667 | NG5: 0.45833333 | NH5: - | NI5: 0.79166667 | NP5: 0.375 | NQ5: - | NR5: 0.70833333 | NS5: 0.375 | NT5: - | NU5: 0.70833333 | NV5: Férié | NY5: 0.375 | NZ5: - | OA5: 0.70833333 | OB5: 0.375 | OC5: - | OD5: 0.70833333 | OK5: 0.45833333 | OL5: - | OM5: 0.79166667 | ON5: 0.45833333 | OO5: - | OP5: 0.79166667 | OQ5: 0.45833333 | OR5: - | OS5: 0.79166667 | OT5: 0.45833333 | OU5: - | OV5: 0.79166667 | OW5: 0.45833333 | OX5: - | OY5: 0.79166667 | PF5: 0.375 | PG5: - | PH5: 0.70833333 | PI5: 0.375 | PJ5: - | PK5: 0.70833333 | PR5: 0.9375 | PS5: - | PT5: 0.29166667 | PU5: 0.77083333 | PV5: - | PW5: 0.29166667 | PX5: 0.77083333 | PY5: - | PZ5: 0.29166667 | QD5: 0.45833333 | QE5: - | QF5: 0.79166667 | QG5: 0.45833333 | QH5: - | QI5: 0.79166667 | QJ5: Férié | QM5: 0.45833333 | QN5: - | QO5: 0.79166667 | QV5: 0.375 | QW5: - | QX5: 0.70833333 | QY5: 0.375 | QZ5: - | RA5: 0.70833333 | RB5: 0.375 | RC5: - | RD5: 0.70833333 | RE5: 0.375 | RF5: - | RG5: 0.70833333 | RH5: 0.375 | RI5: - | RJ5: 0.70833333 | RQ5: Férié | RT5: 0.45833333 | RU5: - | RV5: 0.79166667 | RW5: 0.45833333 | RX5: - | RY5: 0.79166667 | RZ5: 0.45833333 | SA5: - | SB5: 0.79166667 | SC5: 0.45833333 | SD5: - | SE5: 0.79166667 | SL5: 0.375 | SM5: - | SN5: 0.70833333 | SO5: 0.375 | SP5: - | SQ5: 0.70833333 | SR5: 0.375 | SS5: - | ST5: 0.70833333 | SU5: 0.375 | SV5: - | SW5: 0.70833333 | SX5: 0.375 | SY5: - | SZ5: 0.70833333 | TG5: 0.45833333 | TH5: - | TI5: 0.79166667 | TJ5: 0.45833333 | TK5: - | TL5: 0.79166667 | TM5: 0.45833333 | TN5: - | TO5: 0.79166667 | TP5: 0.45833333 | TQ5: - | TR5: 0.79166667 | TS5: 0.45833333 | TT5: - | TU5: 0.79166667 | UB5: 0.375 | UC5: - | UD5: 0.70833333 | UE5: 0.375 | UF5: - | UG5: 0.70833333 | UH5: 0.375 | UI5: - | UJ5: 0.70833333 | UK5: 0.375 | UL5: - | UM5: 0.70833333 | UN5: 0.375 | UO5: - | UP5: 0.70833333 | UW5: 0.45833333 | UX5: - | UY5: 0.79166667 | UZ5: 0.45833333 | VA5: - | VB5: 0.79166667 | VC5: 0.45833333 | VD5: - | VE5: 0.79166667 | VF5: 0.45833333 | VG5: - | VH5: 0.79166667 | VI5: 0.45833333 | VJ5: - | VK5: 0.79166667 | VR5: 0.375 | VS5: - | VT5: 0.70833333 | VU5: 0.375 | VV5: - | VW5: 0.70833333 | VX5: 0.375 | VY5: - | VZ5: 0.70833333 | WA5: 0.375 | WB5: - | WC5: 0.70833333 | WD5: 0.375 | WE5: - | WF5: 0.70833333 | WM5: 0.45833333 | WN5: - | WO5: 0.79166667 | WP5: 0.45833333 | WQ5: - | WR5: 0.79166667 | WS5: 0.45833333 | WT5: - | WU5: 0.79166667 | WV5: 0.45833333 | WW5: - | WX5: 0.79166667 | WY5: 0.45833333 | WZ5: - | XA5: 0.79166667 | XH5: 0.375 | XI5: - | XJ5: 0.70833333 | XK5: 0.375 | XL5: - | XM5: 0.70833333 | XN5: 0.375 | XO5: - | XP5: 0.70833333 | XQ5: 0.375 | XR5: - | XS5: 0.70833333 | XT5: 0.375 | XU5: - | XV5: 0.70833333 | YC5: 0.45833333 | YD5: - | YE5: 0.79166667 | YF5: 0.45833333 | YG5: - | YH5: 0.79166667 | YI5: 0.45833333 | YJ5: - | YK5: 0.79166667 | YL5: 0.45833333 | YM5: - | YN5: 0.79166667 | YO5: 0.45833333 | YP5: - | YQ5: 0.79166667 | YX5: 0.375 | YY5: - | YZ5: 0.70833333 | ZA5: 0.375 | ZB5: - | ZC5: 0.70833333 | ZD5: 0.375 | ZE5: - | ZF5: 0.70833333 | ZG5: Férié | ZJ5: 0.375 | ZK5: - | ZL5: 0.70833333 | ZS5: 0.45833333 | ZT5: - | ZU5: 0.79166667 | ZV5: 0.45833333 | ZW5: - | ZX5: 0.79166667 | ZY5: 0.45833333 | ZZ5: - | AAA5: 0.79166667 | AAB5: 0.45833333 | AAC5: - | AAD5: 0.79166667 | AAE5: 0.45833333 | AAF5: - | AAG5: 0.79166667 | AAN5: 0.375 | AAO5: - | AAP5: 0.70833333 | AAQ5: 0.375 | AAR5: - | AAS5: 0.70833333 | AAT5: 0.375 | AAU5: - | AAV5: 0.70833333 | AAW5: 0.375 | AAX5: - | AAY5: 0.70833333 | AAZ5: 0.375 | ABA5: - | ABB5: 0.70833333 | ABI5: 0.45833333 | ABJ5: - | ABK5: 0.79166667 | ABL5: 0.45833333 | ABM5: - | ABN5: 0.79166667 | ABO5: 0.45833333 | ABP5: - | ABQ5: 0.79166667 | ABR5: 0.45833333 | ABS5: - | ABT5: 0.79166667 | ABU5: 0.45833333 | ABV5: - | ABW5: 0.79166667 | ACD5: 0.375 | ACE5: - | ACF5: 0.70833333 | ACG5: 0.375 | ACH5: - | ACI5: 0.70833333 | ACJ5: 0.375 | ACK5: - | ACL5: 0.70833333 | ACM5: 0.375 | ACN5: - | ACO5: 0.70833333 | ACP5: 0.375 | ACQ5: - | ACR5: 0.70833333 | ACY5: 0.45833333 | ACZ5: - | ADA5: 0.79166667 | ADB5: 0.45833333 | ADC5: - | ADD5: 0.79166667 | ADE5: 0.45833333 | ADF5: - | ADG5: 0.79166667 | ADH5: 0.45833333 | ADI5: - | ADJ5: 0.79166667 | ADK5: 0.45833333 | ADL5: - | ADM5: 0.79166667 | ADT5: 0.375 | ADU5: - | ADV5: 0.70833333 | ADW5: 0.375 | ADX5: - | ADY5: 0.70833333 | ADZ5: 0.375 | AEA5: - | AEB5: 0.70833333 | AEC5: 0.375 | AED5: - | AEE5: 0.70833333 | AEF5: 0.375 | AEG5: - | AEH5: 0.70833333 | AEO5: 0.45833333 | AEP5: - | AEQ5: 0.79166667 | AER5: 0.45833333 | AES5: - | AET5: 0.79166667 | AEU5: 0.45833333 | AEV5: - | AEW5: 0.79166667 | AEX5: 0.45833333 | AEY5: - | AEZ5: 0.79166667 | AFA5: 0.45833333 | AFB5: - | AFC5: 0.79166667 | AFJ5: 0.375 | AFK5: - | AFL5: 0.70833333 | AFM5: 0.375 | AFN5: - | AFO5: 0.70833333 | AFP5: 0.375 | AFQ5: - | AFR5: 0.70833333 | AFS5: 0.375 | AFT5: - | AFU5: 0.70833333 | AFV5: 0.375 | AFW5: - | AFX5: 0.70833333 | AGE5: 0.45833333 | AGF5: - | AGG5: 0.79166667 | AGH5: 0.45833333 | AGI5: - | AGJ5: 0.79166667 | AGK5: 0.45833333 | AGL5: - | AGM5: 0.79166667 | AGN5: 0.45833333 | AGO5: - | AGP5: 0.79166667 | AGQ5: 0.45833333 | AGR5: - | AGS5: 0.79166667 | AGZ5: 0.375 | AHA5: - | AHB5: 0.70833333 | AHC5: 0.375 | AHD5: - | AHE5: 0.70833333 | AHF5: 0.375 | AHG5: - | AHH5: 0.70833333 | AHI5: 0.375 | AHJ5: - | AHK5: 0.70833333 | AHL5: 0.375 | AHM5: - | AHN5: 0.70833333 | AHU5: 0.45833333 | AHV5: - | AHW5: 0.79166667 | AHX5: 0.45833333 | AHY5: - | AHZ5: 0.79166667 | AIA5: 0.45833333 | AIB5: - | AIC5: 0.79166667 | AID5: 0.45833333 | AIE5: - | AIF5: 0.79166667 | AIG5: Férié | AIP5: 0.375 | AIQ5: - | AIR5: 0.70833333 | AIS5: 0.375 | AIT5: - | AIU5: 0.70833333 | AIV5: 0.375 | AIW5: - | AIX5: 0.70833333 | AIY5: 0.375 | AIZ5: - | AJA5: 0.70833333 | AJB5: 0.375 | AJC5: - | AJD5: 0.70833333 | AJK5: Férié | AJN5: 0.45833333 | AJO5: - | AJP5: 0.79166667 | AJQ5: 0.45833333 | AJR5: - | AJS5: 0.79166667 | AJT5: 0.45833333 | AJU5: - | AJV5: 0.79166667 | AJW5: 0.45833333 | AJX5: - | AJY5: 0.79166667 | AKF5: 0.375 | AKG5: - | AKH5: 0.70833333 | AKI5: 0.375 | AKJ5: - | AKK5: 0.70833333 | AKL5: 0.375 | AKM5: - | AKN5: 0.70833333 | AKO5: 0.375 | AKP5: - | AKQ5: 0.70833333 | AKR5: 0.375 | AKS5: - | AKT5: 0.70833333 | ALA5: 0.45833333 | ALB5: - | ALC5: 0.79166667 | ALD5: 0.45833333 | ALE5: - | ALF5: 0.79166667 | ALG5: 0.45833333 | ALH5: - | ALI5: 0.79166667 | ALJ5: 0.45833333 | ALK5: - | ALL5: 0.79166667 | ALM5: 0.45833333 | ALN5: - | ALO5: 0.79166667 | ALV5: 0.375 | ALW5: - | ALX5: 0.70833333 | ALY5: 0.375 | ALZ5: - | AMA5: 0.70833333 | AMB5: 0.375 | AMC5: - | AMD5: 0.70833333 | AME5: 0.375 | AMF5: - | AMG5: 0.70833333 | AMH5: 0.375 | AMI5: - | AMJ5: 0.70833333 | AMQ5: 0.45833333 | AMR5: - | AMS5: 0.79166667 | AMT5: 0.45833333 | AMU5: - | AMV5: 0.79166667 | AMW5: 0.45833333 | AMX5: - | AMY5: 0.79166667 | AMZ5: 0.45833333 | ANA5: - | ANB5: 0.79166667 | ANC5: 0.45833333 | AND5: - | ANE5: 0.79166667 | ANL5: 0.375 | ANM5: - | ANN5: 0.70833333 | ANO5: 0.375 | ANP5: - | ANQ5: 0.70833333 | ANR5: 0.375 | ANS5: - | ANT5: 0.70833333 | ANU5: 0.375 | ANV5: - | ANW5: 0.70833333 | ANX5: 0.375 | ANY5: - | ANZ5: 0.70833333 | AOG5: 0.45833333 | AOH5: - | AOI5: 0.79166667 | AOJ5: 0.45833333 | AOK5: - | AOL5: 0.79166667 | AOM5: Férié | AOP5: 0.45833333 | AOQ5: - | AOR5: 0.79166667 | AOS5: 0.45833333 | AOT5: - | AOU5: 0.79166667 | APB5: 0.375 | APC5: - | APD5: 0.70833333 | APE5: 0.375 | APF5: - | APG5: 0.70833333 | APH5: Férié | APK5: 0.375 | APL5: - | APM5: 0.70833333 | APN5: 0.375 | APO5: - | APP5: 0.70833333 | APW5: 0.45833333 | APX5: - | APY5: 0.79166667 | APZ5: 0.45833333 | AQA5: - | AQB5: 0.79166667 | AQC5: 0.45833333 | AQD5: - | AQE5: 0.79166667 | AQF5: 0.45833333 | AQG5: - | AQH5: 0.79166667 | AQI5: 0.45833333 | AQJ5: - | AQK5: 0.79166667 | AQR5: 0.375 | AQS5: - | AQT5: 0.70833333 | AQU5: 0.375 | AQV5: - | AQW5: 0.70833333 | AQX5: 0.375 | AQY5: - | AQZ5: 0.70833333 | ARA5: 0.375 | ARB5: - | ARC5: 0.70833333 | ARD5: 0.375 | ARE5: - | ARF5: 0.70833333 | ARM5: 0.45833333 | ARN5: - | ARO5: 0.79166667 | ARP5: 0.45833333 | ARQ5: - | ARR5: 0.79166667 | ARS5: 0.45833333 | ART5: - | ARU5: 0.79166667 | ARV5: 0.45833333 | ARW5: - | ARX5: 0.79166667 | ARY5: 0.45833333 | ARZ5: - | ASA5: 0.79166667
A6: EMILIE | B6: 0.9375 | C6: - | D6: 0.29166667 | E6: 0.9375 | F6: - | G6: 0.29166667 | H6: 0.9375 | I6: - | J6: 0.29166667 | K6: 0.9375 | L6: - | M6: 0.29166667 | W6: Public Sénat | Z6: 0.375 | AA6: - | AB6: 0.70833333 | AC6: Public Sénat | AF6: 0.375 | AG6: - | AH6: 0.70833333 | AI6: Public Sénat | AR6: Public Sénat | AU6: 0.45833333 | AV6: - | AW6: 0.79166667 | AX6: Public Sénat | BA6: 0.45833333 | BB6: - | BC6: 0.79166667 | BD6: Public Sénat | BM6: Public Sénat | BP6: 0.41666667 | BQ6: - | BR6: 0.75 | BS6: Public Sénat | BV6: 0.375 | BW6: - | BX6: 0.70833333 | BY6: Public Sénat | CH6: Public Sénat | CK6: 0.45833333 | CL6: - | CM6: 0.79166667 | CN6: Public Sénat | CQ6: 0.45833333 | CR6: - | CS6: 0.79166667 | CT6: Public Sénat | DC6: Public Sénat | DF6: 0.375 | DG6: - | DH6: 0.70833333 | DI6: Public Sénat | DL6: 0.375 | DM6: - | DN6: 0.70833333 | DO6: Public Sénat | DX6: Public Sénat | EA6: 0.45833333 | EB6: - | EC6: 0.79166667 | ED6: Public Sénat | EG6: 0.45833333 | EH6: - | EI6: 0.79166667 | EJ6: 0.45833333 | EK6: - | EL6: 0.79166667 | ES6: 0.375 | ET6: - | EU6: 0.70833333 | EV6: 0.375 | EW6: - | EX6: 0.70833333 | EY6: 0.375 | EZ6: - | FA6: 0.70833333 | FB6: 0.375 | FC6: - | FD6: 0.70833333 | FE6: Congé | FN6: 0.45833333 | FO6: - | FP6: 0.79166667 | FQ6: 0.45833333 | FR6: - | FS6: 0.79166667 | FT6: 0.45833333 | FU6: - | FV6: 0.79166667 | FW6: 0.375 | FX6: - | FY6: 0.64583333 | FZ6: 0.27083333 | GA6: - | GB6: 0.625 | GI6: 0.27083333 | GJ6: - | GK6: 0.625 | GL6: 0.27083333 | GM6: - | GN6: 0.625 | GO6: 0.27083333 | GP6: - | GQ6: 0.625 | GR6: 0.27083333 | GS6: - | GT6: 0.625 | GU6: 0.27083333 | GV6: - | GW6: 0.625 | HD6: 0.60416667 | HE6: - | HF6: 0.95833333 | HG6: 0.60416667 | HH6: - | HI6: 0.95833333 | HJ6: 0.60416667 | HK6: - | HL6: 0.95833333 | HM6: 0.60416667 | HN6: - | HO6: 0.95833333 | HP6: 0.60416667 | HQ6: - | HR6: 0.95833333 | HY6: 0.375 | HZ6: - | IA6: 0.70833333 | IB6: 0.375 | IC6: - | ID6: 0.70833333 | IE6: 0.375 | IF6: - | IG6: 0.70833333 | IH6: 0.375 | II6: - | IJ6: 0.70833333 | IK6: 0.375 | IL6: - | IM6: 0.70833333 | IT6: 0.45833333 | IU6: - | IV6: 0.79166667 | IW6: 0.45833333 | IX6: - | IY6: 0.79166667 | IZ6: 0.45833333 | JA6: - | JB6: 0.79166667 | JC6: 0.45833333 | JD6: - | JE6: 0.79166667 | JF6: 0.45833333 | JH6: 0.79166667 | JO6: 0.60416667 | JP6: - | JQ6: 0.95833333 | JR6: 0.60416667 | JS6: - | JT6: 0.95833333 | JU6: 0.60416667 | JV6: - | JW6: 0.95833333 | JX6: 0.60416667 | JY6: - | JZ6: 0.95833333 | KA6: 0.60416667 | KB6: - | KC6: 0.95833333 | KJ6: 0.27083333 | KK6: - | KL6: 0.625 | KM6: 0.27083333 | KN6: - | KO6: 0.625 | KP6: 0.27083333 | KQ6: - | KR6: 0.625 | KS6: 0.27083333 | KT6: - | KU6: 0.625 | KV6: 0.27083333 | KW6: - | KX6: 0.625 | LK6: 0.41666667 | LL6: - | LM6: 0.75 | LN6: 0.41666667 | LO6: - | LP6: 0.75 | LT6: 0.27083333 | LU6: - | LV6: 0.79166667 | LW6: 0.27083333 | LX6: - | LY6: 0.79166667 | LZ6: Férié | MC6: 0.45833333 | MD6: - | ME6: 0.79166667 | MF6: 0.45833333 | MG6: - | MH6: 0.79166667 | MI6: 0.45833333 | MJ6: - | MK6: 0.79166667 | ML6: 0.45833333 | MN6: 0.79166667 | MU6: 0.375 | MV6: - | MW6: 0.70833333 | MX6: 0.375 | MY6: - | MZ6: 0.70833333 | NA6: 0.60416667 | NB6: - | NC6: 0.95833333 | ND6: 0.60416667 | NE6: - | NF6: 0.95833333 | NG6: 0.60416667 | NH6: - | NI6: 0.95833333 | NP6: 0.9375 | NQ6: - | NR6: 0.29166667 | NS6: 0.9375 | NT6: - | NU6: 0.29166667 | NV6: 0.9375 | NW6: - | NX6: 0.29166667 | NY6: 0.9375 | NZ6: - | OA6: 0.29166667 | OK6: 0.375 | OL6: - | OM6: 0.70833333 | ON6: 0.375 | OO6: - | OP6: 0.70833333 | OQ6: 0.375 | OR6: - | OS6: 0.70833333 | OT6: 0.375 | OU6: - | OV6: 0.70833333 | OW6: 0.375 | OX6: - | OY6: 0.70833333 | PF6: 0.45833333 | PG6: - | PH6: 0.79166667 | PI6: 0.45833333 | PJ6: - | PK6: 0.79166667 | PL6: 0.45833333 | PM6: - | PN6: 0.79166667 | PO6: 0.45833333 | PP6: - | PQ6: 0.79166667 | PR6: 0.45833333 | PT6: 0.79166667 | QA6: 0.27083333 | QB6: - | QC6: 0.625 | QD6: 0.27083333 | QE6: - | QF6: 0.625 | QG6: 0.27083333 | QH6: - | QI6: 0.625 | QJ6: 0.27083333 | QK6: - | QL6: 0.625 | QM6: 0.27083333 | QN6: - | QO6: 0.625 | QV6: 0.45833333 | QW6: - | QX6: 0.79166667 | QY6: 0.45833333 | QZ6: - | RA6: 0.79166667 | RB6: 0.45833333 | RC6: - | RD6: 0.79166667 | RE6: 0.45833333 | RF6: - | RG6: 0.79166667 | RH6: 0.45833333 | RJ6: 0.79166667 | RQ6: Férié | RT6: 0.375 | RU6: - | RV6: 0.70833333 | RW6: 0.375 | RX6: - | RY6: 0.70833333 | RZ6: 0.375 | SA6: - | SB6: 0.70833333 | SC6: 0.375 | SD6: - | SE6: 0.70833333 | SL6: Congé | SO6: Congé | SR6: Congé | SU6: 0.45833333 | SV6: - | SW6: 0.79166667 | SX6: 0.45833333 | SZ6: 0.79166667 | TG6: 0.375 | TH6: - | TI6: 0.70833333 | TJ6: 0.375 | TK6: - | TL6: 0.70833333 | TM6: 0.375 | TN6: - | TO6: 0.70833333 | TP6: 0.375 | TQ6: - | TR6: 0.70833333 | TS6: 0.375 | TT6: - | TU6: 0.70833333 | UB6: 0.45833333 | UC6: - | UD6: 0.79166667 | UE6: 0.45833333 | UF6: - | UG6: 0.79166667 | UH6: 0.45833333 | UI6: - | UJ6: 0.79166667 | UK6: 0.45833333 | UL6: - | UM6: 0.79166667 | UN6: 0.45833333 | UP6: 0.79166667 | UW6: 0.375 | UX6: - | UY6: 0.70833333 | UZ6: 0.375 | VA6: - | VB6: 0.70833333 | VC6: 0.375 | VD6: - | VE6: 0.70833333 | VF6: 0.375 | VG6: - | VH6: 0.70833333 | VI6: 0.375 | VJ6: - | VK6: 0.70833333 | VR6: 0.45833333 | VS6: - | VT6: 0.79166667 | VU6: 0.45833333 | VV6: - | VW6: 0.79166667 | VX6: 0.45833333 | VY6: - | VZ6: 0.79166667 | WA6: 0.45833333 | WB6: - | WC6: 0.79166667 | WD6: 0.45833333 | WF6: 0.79166667 | WM6: 0.375 | WN6: - | WO6: 0.70833333 | WP6: 0.375 | WQ6: - | WR6: 0.70833333 | WS6: 0.375 | WT6: - | WU6: 0.70833333 | WV6: 0.375 | WW6: - | WX6: 0.70833333 | WY6: 0.375 | WZ6: - | XA6: 0.70833333 | XH6: 0.45833333 | XI6: - | XJ6: 0.79166667 | XK6: 0.45833333 | XL6: - | XM6: 0.79166667 | XN6: 0.45833333 | XO6: - | XP6: 0.79166667 | XQ6: 0.45833333 | XR6: - | XS6: 0.79166667 | XT6: 0.45833333 | XV6: 0.79166667 | YC6: 0.375 | YD6: - | YE6: 0.70833333 | YF6: 0.375 | YG6: - | YH6: 0.70833333 | YI6: 0.375 | YJ6: - | YK6: 0.70833333 | YL6: 0.375 | YM6: - | YN6: 0.70833333 | YO6: 0.375 | YP6: - | YQ6: 0.70833333 | YX6: 0.45833333 | YY6: - | YZ6: 0.79166667 | ZA6: 0.45833333 | ZB6: - | ZC6: 0.79166667 | ZD6: 0.45833333 | ZE6: - | ZF6: 0.79166667 | ZG6: Férié | ZJ6: 0.45833333 | ZL6: 0.79166667 | ZS6: 0.375 | ZT6: - | ZU6: 0.70833333 | ZV6: 0.375 | ZW6: - | ZX6: 0.70833333 | ZY6: 0.375 | ZZ6: - | AAA6: 0.70833333 | AAB6: 0.375 | AAC6: - | AAD6: 0.70833333 | AAE6: 0.375 | AAF6: - | AAG6: 0.70833333 | AAN6: 0.45833333 | AAO6: - | AAP6: 0.79166667 | AAQ6: 0.45833333 | AAR6: - | AAS6: 0.79166667 | AAT6: 0.45833333 | AAU6: - | AAV6: 0.79166667 | AAW6: 0.45833333 | AAX6: - | AAY6: 0.79166667 | AAZ6: 0.45833333 | ABB6: 0.79166667 | ABI6: 0.375 | ABJ6: - | ABK6: 0.70833333 | ABL6: 0.375 | ABM6: - | ABN6: 0.70833333 | ABO6: 0.375 | ABP6: - | ABQ6: 0.70833333 | ABR6: 0.375 | ABS6: - | ABT6: 0.70833333 | ABU6: 0.375 | ABV6: - | ABW6: 0.70833333 | ACD6: 0.45833333 | ACE6: - | ACF6: 0.79166667 | ACG6: 0.45833333 | ACH6: - | ACI6: 0.79166667 | ACJ6: 0.45833333 | ACK6: - | ACL6: 0.79166667 | ACM6: 0.45833333 | ACN6: - | ACO6: 0.79166667 | ACP6: 0.45833333 | ACR6: 0.79166667 | ACY6: 0.375 | ACZ6: - | ADA6: 0.70833333 | ADB6: 0.375 | ADC6: - | ADD6: 0.70833333 | ADE6: 0.375 | ADF6: - | ADG6: 0.70833333 | ADH6: 0.375 | ADI6: - | ADJ6: 0.70833333 | ADK6: 0.375 | ADL6: - | ADM6: 0.70833333 | ADT6: 0.45833333 | ADU6: - | ADV6: 0.79166667 | ADW6: 0.45833333 | ADX6: - | ADY6: 0.79166667 | ADZ6: 0.45833333 | AEA6: - | AEB6: 0.79166667 | AEC6: 0.45833333 | AED6: - | AEE6: 0.79166667 | AEF6: 0.45833333 | AEH6: 0.79166667 | AEO6: 0.375 | AEP6: - | AEQ6: 0.70833333 | AER6: 0.375 | AES6: - | AET6: 0.70833333 | AEU6: 0.375 | AEV6: - | AEW6: 0.70833333 | AEX6: 0.375 | AEY6: - | AEZ6: 0.70833333 | AFA6: 0.375 | AFB6: - | AFC6: 0.70833333 | AFJ6: 0.45833333 | AFK6: - | AFL6: 0.79166667 | AFM6: 0.45833333 | AFN6: - | AFO6: 0.79166667 | AFP6: 0.45833333 | AFQ6: - | AFR6: 0.79166667 | AFS6: 0.45833333 | AFT6: - | AFU6: 0.79166667 | AFV6: 0.45833333 | AFX6: 0.79166667 | AGE6: 0.375 | AGF6: - | AGG6: 0.70833333 | AGH6: 0.375 | AGI6: - | AGJ6: 0.70833333 | AGK6: 0.375 | AGL6: - | AGM6: 0.70833333 | AGN6: 0.375 | AGO6: - | AGP6: 0.70833333 | AGQ6: 0.375 | AGR6: - | AGS6: 0.70833333 | AGZ6: 0.45833333 | AHA6: - | AHB6: 0.79166667 | AHC6: 0.45833333 | AHD6: - | AHE6: 0.79166667 | AHF6: 0.45833333 | AHG6: - | AHH6: 0.79166667 | AHI6: 0.45833333 | AHJ6: - | AHK6: 0.79166667 | AHL6: 0.45833333 | AHN6: 0.79166667 | AHU6: 0.375 | AHV6: - | AHW6: 0.70833333 | AHX6: 0.375 | AHY6: - | AHZ6: 0.70833333 | AIA6: 0.375 | AIB6: - | AIC6: 0.70833333 | AID6: 0.375 | AIE6: - | AIF6: 0.70833333 | AIG6: Férié | AIP6: 0.45833333 | AIQ6: - | AIR6: 0.79166667 | AIS6: 0.45833333 | AIT6: - | AIU6: 0.79166667 | AIV6: 0.45833333 | AIW6: - | AIX6: 0.79166667 | AIY6: 0.45833333 | AIZ6: - | AJA6: 0.79166667 | AJB6: 0.45833333 | AJD6: 0.79166667 | AJK6: Férié | AJN6: 0.375 | AJO6: - | AJP6: 0.70833333 | AJQ6: 0.375 | AJR6: - | AJS6: 0.70833333 | AJT6: 0.375 | AJU6: - | AJV6: 0.70833333 | AJW6: 0.375 | AJX6: - | AJY6: 0.70833333 | AKF6: 0.45833333 | AKG6: - | AKH6: 0.79166667 | AKI6: 0.45833333 | AKJ6: - | AKK6: 0.79166667 | AKL6: 0.45833333 | AKM6: - | AKN6: 0.79166667 | AKO6: 0.45833333 | AKP6: - | AKQ6: 0.79166667 | AKR6: 0.45833333 | AKT6: 0.79166667 | ALA6: 0.375 | ALB6: - | ALC6: 0.70833333 | ALD6: 0.375 | ALE6: - | ALF6: 0.70833333 | ALG6: 0.375 | ALH6: - | ALI6: 0.70833333 | ALJ6: 0.375 | ALK6: - | ALL6: 0.70833333 | ALM6: 0.375 | ALN6: - | ALO6: 0.70833333 | ALV6: 0.45833333 | ALW6: - | ALX6: 0.79166667 | ALY6: 0.45833333 | ALZ6: - | AMA6: 0.79166667 | AMB6: 0.45833333 | AMC6: - | AMD6: 0.79166667 | AME6: 0.45833333 | AMF6: - | AMG6: 0.79166667 | AMH6: 0.45833333 | AMJ6: 0.79166667 | AMQ6: 0.375 | AMR6: - | AMS6: 0.70833333 | AMT6: 0.375 | AMU6: - | AMV6: 0.70833333 | AMW6: 0.375 | AMX6: - | AMY6: 0.70833333 | AMZ6: 0.375 | ANA6: - | ANB6: 0.70833333 | ANC6: 0.375 | AND6: - | ANE6: 0.70833333 | ANL6: 0.45833333 | ANM6: - | ANN6: 0.79166667 | ANO6: 0.45833333 | ANP6: - | ANQ6: 0.79166667 | ANR6: 0.45833333 | ANS6: - | ANT6: 0.79166667 | ANU6: 0.45833333 | ANV6: - | ANW6: 0.79166667 | ANX6: 0.45833333 | ANZ6: 0.79166667 | AOG6: 0.375 | AOH6: - | AOI6: 0.70833333 | AOJ6: 0.375 | AOK6: - | AOL6: 0.70833333 | AOM6: Férié | AOP6: 0.375 | AOQ6: - | AOR6: 0.70833333 | AOS6: 0.375 | AOT6: - | AOU6: 0.70833333 | APB6: 0.45833333 | APC6: - | APD6: 0.79166667 | APE6: 0.45833333 | APF6: - | APG6: 0.79166667 | APH6: Férié | APK6: 0.45833333 | APL6: - | APM6: 0.79166667 | APN6: 0.45833333 | APP6: 0.79166667 | APW6: 0.375 | APX6: - | APY6: 0.70833333 | APZ6: 0.375 | AQA6: - | AQB6: 0.70833333 | AQC6: 0.375 | AQD6: - | AQE6: 0.70833333 | AQF6: 0.375 | AQG6: - | AQH6: 0.70833333 | AQI6: 0.375 | AQJ6: - | AQK6: 0.70833333 | AQR6: 0.45833333 | AQS6: - | AQT6: 0.79166667 | AQU6: 0.45833333 | AQV6: - | AQW6: 0.79166667 | AQX6: 0.45833333 | AQY6: - | AQZ6: 0.79166667 | ARA6: 0.45833333 | ARB6: - | ARC6: 0.79166667 | ARD6: 0.45833333 | ARF6: 0.79166667 | ARM6: 0.375 | ARN6: - | ARO6: 0.70833333 | ARP6: 0.375 | ARQ6: - | ARR6: 0.70833333 | ARS6: 0.375 | ART6: - | ARU6: 0.70833333 | ARV6: 0.375 | ARW6: - | ARX6: 0.70833333 | ARY6: 0.375 | ARZ6: - | ASA6: 0.70833333
A7: THIBAULT | B7: 0.60416667 | C7: - | D7: 0.95833333 | E7: 0.60416667 | F7: - | G7: 0.95833333 | H7: 0.60416667 | I7: - | J7: 0.95833333 | K7: 0.60416667 | L7: - | M7: 0.95833333 | N7: 0.60416667 | O7: - | P7: 0.95833333 | W7: 0.9375 | X7: - | Y7: 0.29166667 | Z7: 0.9375 | AA7: - | AB7: 0.29166667 | AC7: 0.9375 | AD7: - | AE7: 0.29166667 | AF7: 0.9375 | AG7: - | AH7: 0.29166667 | BD7: 0.9375 | BE7: - | BF7: 0.29166667 | BG7: 0.77083333 | BH7: - | BI7: 0.29166667 | BJ7: 0.77083333 | BK7: - | BL7: 0.29166667 | BS7: 0.41666667 | BT7: - | BU7: 0.75 | BV7: 0.60416667 | BW7: - | BX7: 0.95833333 | CB7: 0.27083333 | CC7: - | CD7: 0.79166667 | CE7: 0.27083333 | CF7: - | CG7: 0.79166667 | CH7: REPOS | CK7: REPOS | CN7: REPOS | CQ7: REPOS | CT7: REPOS | DC7: Congé | DF7: Congé | DI7: 0.27083333 | DJ7: - | DK7: 0.625 | DL7: 0.27083333 | DM7: - | DN7: 0.625 | DO7: 0.27083333 | DP7: - | DQ7: 0.625 | DX7: Congé | EA7: 0.60416667 | EB7: - | EC7: 0.95833333 | ED7: 0.60416667 | EE7: - | EF7: 0.95833333 | EG7: 0.60416667 | EH7: - | EI7: 0.95833333 | EJ7: 0.60416667 | EK7: - | EL7: 0.95833333 | ES7: 0.9375 | ET7: - | EU7: 0.29166667 | EV7: 0.9375 | EW7: - | EX7: 0.29166667 | EY7: 0.9375 | EZ7: - | FA7: 0.29166667 | FB7: Congé | FZ7: Congé | GC7: Congé | GF7: Congé | GO7: Congé | GR7: Congé | GX7: 0.27083333 | GY7: - | GZ7: 0.79166667 | HA7: Congé | HD7: REPOS | HG7: REPOS | HJ7: REPOS | HM7: REPOS | HP7: REPOS | HY7: 0.27083333 | HZ7: - | IA7: 0.625 | IB7: 0.27083333 | IC7: - | ID7: 0.625 | IE7: 0.27083333 | IF7: - | IG7: 0.625 | IH7: 0.27083333 | II7: - | IJ7: 0.625 | IK7: 0.27083333 | IL7: - | IM7: 0.625 | IT7: 0.60416667 | IU7: - | IV7: 0.95833333 | IW7: 0.60416667 | IX7: - | IY7: 0.95833333 | IZ7: 0.60416667 | JA7: - | JB7: 0.95833333 | JC7: 0.60416667 | JD7: - | JE7: 0.95833333 | JF7: 0.60416667 | JG7: - | JH7: 0.95833333 | JO7: 0.9375 | JP7: - | JQ7: 0.29166667 | JR7: 0.9375 | JS7: - | JT7: 0.29166667 | JU7: 0.9375 | JV7: - | JW7: 0.29166667 | JX7: 0.9375 | JY7: - | JZ7: 0.29166667 | KV7: 0.9375 | KW7: - | KX7: 0.29166667 | KY7: 0.77083333 | KZ7: - | LA7: 0.29166667 | LB7: 0.77083333 | LC7: - | LD7: 0.29166667 | LK7: Congé | LN7: Congé | LT7: Congé | LW7: Congé | LZ7: REPOS | MC7: REPOS | MF7: REPOS | MI7: REPOS | ML7: REPOS | MU7: 0.27083333 | MV7: - | MW7: 0.625 | MX7: 0.27083333 | MY7: - | MZ7: 0.625 | NA7: 0.27083333 | NB7: - | NC7: 0.625 | ND7: 0.27083333 | NE7: - | NF7: 0.625 | NG7: 0.27083333 | NH7: - | NI7: 0.625 | NP7: 0.60416667 | NQ7: - | NR7: 0.95833333 | NS7: 0.60416667 | NT7: - | NU7: 0.95833333 | NV7: 0.60416667 | NW7: - | NX7: 0.95833333 | NY7: 0.60416667 | NZ7: - | OA7: 0.95833333 | OB7: 0.60416667 | OC7: - | OD7: 0.95833333 | OK7: 0.9375 | OL7: - | OM7: 0.29166667 | ON7: 0.9375 | OO7: - | OP7: 0.29166667 | OQ7: 0.9375 | OR7: - | OS7: 0.29166667 | OT7: 0.9375 | OU7: - | OV7: 0.29166667 | PR7: Congé | PU7: Congé | PX7: Congé | QG7: 0.41666667 | QH7: - | QI7: 0.75 | QM7: 0.41666667 | QN7: - | QO7: 0.75 | QP7: 0.27083333 | QQ7: - | QR7: 0.79166667 | QS7: 0.27083333 | QT7: - | QU7: 0.79166667 | QV7: REPOS | QY7: REPOS | RB7: REPOS | RE7: REPOS | RH7: REPOS | RQ7: 0.27083333 | RR7: - | RS7: 0.625 | RT7: 0.27083333 | RU7: - | RV7: 0.625 | RW7: 0.27083333 | RX7: - | RY7: 0.625 | RZ7: 0.27083333 | SA7: - | SB7: 0.625 | SC7: 0.27083333 | SD7: - | SE7: 0.625 | SL7: 0.60416667 | SM7: - | SN7: 0.95833333 | SO7: 0.60416667 | SP7: - | SQ7: 0.95833333 | SR7: 0.60416667 | SS7: - | ST7: 0.95833333 | SU7: 0.60416667 | SV7: - | SW7: 0.95833333 | SX7: 0.60416667 | SY7: - | SZ7: 0.95833333 | TG7: 0.9375 | TH7: - | TI7: 0.29166667 | TJ7: 0.9375 | TK7: - | TL7: 0.29166667 | TM7: 0.9375 | TN7: - | TO7: 0.29166667 | TP7: 0.9375 | TQ7: - | TR7: 0.29166667 | UN7: 0.9375 | UO7: - | UP7: 0.29166667 | UQ7: 0.77083333 | UR7: - | US7: 0.29166667 | UT7: 0.77083333 | UU7: - | UV7: 0.29166667 | VC7: 0.41666667 | VD7: - | VE7: 0.75 | VF7: 0.41666667 | VG7: - | VH7: 0.75 | VL7: 0.27083333 | VM7: - | VN7: 0.79166667 | VO7: 0.27083333 | VP7: - | VQ7: 0.79166667 | VR7: REPOS | VU7: REPOS | VX7: REPOS | WA7: REPOS | WD7: REPOS | WM7: 0.27083333 | WN7: - | WO7: 0.625 | WP7: 0.27083333 | WQ7: - | WR7: 0.625 | WS7: 0.27083333 | WT7: - | WU7: 0.625 | WV7: 0.27083333 | WW7: - | WX7: 0.625 | WY7: 0.27083333 | WZ7: - | XA7: 0.625 | XH7: 0.60416667 | XI7: - | XJ7: 0.95833333 | XK7: 0.60416667 | XL7: - | XM7: 0.95833333 | XN7: 0.60416667 | XO7: - | XP7: 0.95833333 | XQ7: 0.60416667 | XR7: - | XS7: 0.95833333 | XT7: 0.60416667 | XU7: - | XV7: 0.95833333 | YC7: 0.9375 | YD7: - | YE7: 0.29166667 | YF7: 0.9375 | YG7: - | YH7: 0.29166667 | YI7: 0.9375 | YJ7: - | YK7: 0.29166667 | YL7: 0.9375 | YM7: - | YN7: 0.29166667 | ZJ7: 0.9375 | ZK7: - | ZL7: 0.29166667 | ZM7: 0.77083333 | ZN7: - | ZO7: 0.29166667 | ZP7: 0.77083333 | ZQ7: - | ZR7: 0.29166667 | ZY7: 0.41666667 | ZZ7: - | AAA7: 0.75 | AAB7: 0.41666667 | AAC7: - | AAD7: 0.75 | AAH7: 0.27083333 | AAI7: - | AAJ7: 0.79166667 | AAK7: 0.27083333 | AAL7: - | AAM7: 0.79166667 | AAN7: REPOS | AAQ7: REPOS | AAT7: REPOS | AAW7: REPOS | AAZ7: REPOS | ABI7: 0.27083333 | ABJ7: - | ABK7: 0.625 | ABL7: 0.27083333 | ABM7: - | ABN7: 0.625 | ABO7: 0.27083333 | ABP7: - | ABQ7: 0.625 | ABR7: 0.27083333 | ABS7: - | ABT7: 0.625 | ABU7: 0.27083333 | ABV7: - | ABW7: 0.625 | ACD7: 0.60416667 | ACE7: - | ACF7: 0.95833333 | ACG7: 0.60416667 | ACH7: - | ACI7: 0.95833333 | ACJ7: 0.60416667 | ACK7: - | ACL7: 0.95833333 | ACM7: 0.60416667 | ACN7: - | ACO7: 0.95833333 | ACP7: 0.60416667 | ACQ7: - | ACR7: 0.95833333 | ACY7: 0.9375 | ACZ7: - | ADA7: 0.29166667 | ADB7: 0.9375 | ADC7: - | ADD7: 0.29166667 | ADE7: 0.9375 | ADF7: - | ADG7: 0.29166667 | ADH7: 0.9375 | ADI7: - | ADJ7: 0.29166667 | AEF7: 0.9375 | AEG7: - | AEH7: 0.29166667 | AEI7: 0.77083333 | AEJ7: - | AEK7: 0.29166667 | AEL7: 0.77083333 | AEM7: - | AEN7: 0.29166667 | AEU7: 0.41666667 | AEV7: - | AEW7: 0.75 | AEX7: 0.41666667 | AEY7: - | AEZ7: 0.75 | AFD7: 0.27083333 | AFE7: - | AFF7: 0.79166667 | AFG7: 0.27083333 | AFH7: - | AFI7: 0.79166667 | AFJ7: REPOS | AFM7: REPOS | AFP7: REPOS | AFS7: REPOS | AFV7: REPOS | AGE7: 0.27083333 | AGF7: - | AGG7: 0.625 | AGH7: 0.27083333 | AGI7: - | AGJ7: 0.625 | AGK7: 0.27083333 | AGL7: - | AGM7: 0.625 | AGN7: 0.27083333 | AGO7: - | AGP7: 0.625 | AGQ7: 0.27083333 | AGR7: - | AGS7: 0.625 | AGZ7: 0.60416667 | AHA7: - | AHB7: 0.95833333 | AHC7: 0.60416667 | AHD7: - | AHE7: 0.95833333 | AHF7: 0.60416667 | AHG7: - | AHH7: 0.95833333 | AHI7: 0.60416667 | AHJ7: - | AHK7: 0.95833333 | AHL7: 0.60416667 | AHM7: - | AHN7: 0.95833333 | AHU7: 0.9375 | AHV7: - | AHW7: 0.29166667 | AHX7: 0.9375 | AHY7: - | AHZ7: 0.29166667 | AIA7: 0.9375 | AIB7: - | AIC7: 0.29166667 | AID7: 0.9375 | AIE7: - | AIF7: 0.29166667 | AJB7: 0.9375 | AJC7: - | AJD7: 0.29166667 | AJE7: 0.77083333 | AJF7: - | AJG7: 0.29166667 | AJH7: 0.77083333 | AJI7: - | AJJ7: 0.29166667 | AJQ7: 0.41666667 | AJR7: - | AJS7: 0.75 | AJT7: 0.41666667 | AJU7: - | AJV7: 0.75 | AJZ7: 0.27083333 | AKA7: - | AKB7: 0.79166667 | AKC7: 0.27083333 | AKD7: - | AKE7: 0.79166667 | AKF7: REPOS | AKI7: REPOS | AKL7: REPOS | AKO7: REPOS | AKR7: REPOS | ALA7: 0.27083333 | ALB7: - | ALC7: 0.625 | ALD7: 0.27083333 | ALE7: - | ALF7: 0.625 | ALG7: 0.27083333 | ALH7: - | ALI7: 0.625 | ALJ7: 0.27083333 | ALK7: - | ALL7: 0.625 | ALM7: 0.27083333 | ALN7: - | ALO7: 0.625 | ALV7: 0.60416667 | ALW7: - | ALX7: 0.95833333 | ALY7: 0.60416667 | ALZ7: - | AMA7: 0.95833333 | AMB7: 0.60416667 | AMC7: - | AMD7: 0.95833333 | AME7: 0.60416667 | AMF7: - | AMG7: 0.95833333 | AMH7: 0.60416667 | AMI7: - | AMJ7: 0.95833333 | AMQ7: 0.9375 | AMR7: - | AMS7: 0.29166667 | AMT7: 0.9375 | AMU7: - | AMV7: 0.29166667 | AMW7: 0.9375 | AMX7: - | AMY7: 0.29166667 | AMZ7: 0.9375 | ANA7: - | ANB7: 0.29166667 | ANX7: 0.9375 | ANY7: - | ANZ7: 0.29166667 | AOA7: 0.77083333 | AOB7: - | AOC7: 0.29166667 | AOD7: 0.77083333 | AOE7: - | AOF7: 0.29166667 | AOJ7: 0.41666667 | AOK7: - | AOL7: 0.75 | AOP7: 0.41666667 | AOQ7: - | AOR7: 0.75 | AOV7: 0.27083333 | AOW7: - | AOX7: 0.79166667 | AOY7: 0.27083333 | AOZ7: - | APA7: 0.79166667 | APB7: REPOS | APE7: REPOS | APH7: REPOS | APK7: REPOS | APN7: REPOS | APW7: 0.27083333 | APX7: - | APY7: 0.625 | APZ7: 0.27083333 | AQA7: - | AQB7: 0.625 | AQC7: 0.27083333 | AQD7: - | AQE7: 0.625 | AQF7: 0.27083333 | AQG7: - | AQH7: 0.625 | AQI7: 0.27083333 | AQJ7: - | AQK7: 0.625 | AQR7: 0.60416667 | AQS7: - | AQT7: 0.95833333 | AQU7: 0.60416667 | AQV7: - | AQW7: 0.95833333 | AQX7: 0.60416667 | AQY7: - | AQZ7: 0.95833333 | ARA7: 0.60416667 | ARB7: - | ARC7: 0.95833333 | ARD7: 0.60416667 | ARE7: - | ARF7: 0.95833333 | ARM7: 0.9375 | ARN7: - | ARO7: 0.29166667 | ARP7: 0.9375 | ARQ7: - | ARR7: 0.29166667 | ARS7: 0.9375 | ART7: - | ARU7: 0.29166667 | ARV7: 0.9375 | ARW7: - | ARX7: 0.29166667
A8: DONATIEN | B8: Congé | E8: Congé | H8: Congé | K8: Congé | AI8: Congé | AL8: Congé | AO8: Congé | AX8: Congé | BA8: Congé | BG8: Congé | BJ8: Congé | BM8: REPOS | BP8: REPOS | BS8: REPOS | BV8: REPOS | BY8: REPOS | CH8: 0.27083333 | CI8: - | CJ8: 0.625 | CK8: 0.27083333 | CL8: - | CM8: 0.625 | CN8: 0.27083333 | CO8: - | CP8: 0.625 | CQ8: 0.27083333 | CR8: - | CS8: 0.625 | CT8: 0.27083333 | CU8: - | CV8: 0.625 | DC8: 0.60416667 | DD8: - | DE8: 0.95833333 | DF8: 0.60416667 | DG8: - | DH8: 0.95833333 | DI8: 0.60416667 | DJ8: - | DK8: 0.95833333 | DL8: 0.60416667 | DM8: - | DN8: 0.95833333 | DO8: 0.60416667 | DP8: - | DQ8: 0.95833333 | DX8: 0.9375 | DY8: - | DZ8: 0.29166667 | EA8: 0.9375 | EB8: - | EC8: 0.29166667 | ED8: 0.9375 | EE8: - | EF8: 0.29166667 | EG8: 0.9375 | EH8: - | EI8: 0.29166667 | FE8: 0.9375 | FF8: - | FG8: 0.29166667 | FH8: 0.77083333 | FI8: - | FJ8: 0.29166667 | FK8: 0.77083333 | FL8: - | FM8: 0.29166667 | FT8: 0.41666667 | FU8: - | FV8: 0.75 | FW8: 0.41666667 | FX8: - | FY8: 0.75 | GC8: 0.27083333 | GD8: - | GE8: 0.79166667 | GF8: 0.27083333 | GG8: - | GH8: 0.79166667 | GI8: REPOS | GL8: REPOS | GO8: REPOS | GR8: REPOS | GU8: REPOS | HA8: 0.27083333 | HB8: - | HC8: 0.79166667 | HD8: 0.27083333 | HE8: - | HF8: 0.58333333 | HG8: 0.27083333 | HH8: - | HI8: 0.58333333 | HJ8: 0.27083333 | HK8: - | HL8: 0.58333333 | HM8: 0.27083333 | HN8: - | HO8: 0.58333333 | HY8: 0.60416667 | HZ8: - | IA8: 0.95833333 | IB8: 0.60416667 | IC8: - | ID8: 0.95833333 | IE8: 0.60416667 | IF8: - | IG8: 0.95833333 | IH8: 0.60416667 | II8: - | IJ8: 0.95833333 | IK8: 0.60416667 | IL8: - | IM8: 0.95833333 | IT8: 0.9375 | IU8: - | IV8: 0.29166667 | IW8: 0.9375 | IX8: - | IY8: 0.29166667 | IZ8: 0.9375 | JA8: - | JB8: 0.29166667 | JC8: 0.9375 | JD8: - | JE8: 0.29166667 | KA8: 0.9375 | KB8: - | KC8: 0.29166667 | KD8: 0.77083333 | KE8: - | KF8: 0.29166667 | KG8: 0.77083333 | KH8: - | KI8: 0.29166667 | KP8: 0.41666667 | KQ8: - | KR8: 0.75 | KS8: 0.41666667 | KT8: - | KU8: 0.75 | KY8: Congé | LB8: Congé | LE8: REPOS | LH8: REPOS | LK8: REPOS | LN8: REPOS | LQ8: REPOS | LZ8: 0.27083333 | MA8: - | MB8: 0.625 | MC8: 0.27083333 | MD8: - | ME8: 0.625 | MF8: 0.27083333 | MG8: - | MH8: 0.625 | MI8: 0.27083333 | MJ8: - | MK8: 0.625 | ML8: 0.27083333 | MM8: - | MN8: 0.625 | MU8: 0.60416667 | MV8: - | MW8: 0.95833333 | MX8: 0.60416667 | MY8: - | MZ8: 0.95833333 | NA8: Congé | ND8: Congé | NG8: Congé | NP8: Congé | NS8: Congé | NV8: Congé | NY8: Congé | OW8: 0.9375 | OX8: - | OY8: 0.29166667 | OZ8: 0.77083333 | PA8: - | PB8: 0.29166667 | PC8: 0.77083333 | PD8: - | PE8: 0.29166667 | PL8: 0.41666667 | PM8: - | PN8: 0.75 | PO8: 0.41666667 | PP8: - | PQ8: 0.75 | PU8: 0.27083333 | PV8: - | PW8: 0.79166667 | PX8: 0.27083333 | PY8: - | PZ8: 0.79166667 | QA8: REPOS | QD8: REPOS | QG8: REPOS | QJ8: REPOS | QM8: REPOS | QV8: 0.27083333 | QW8: - | QX8: 0.625 | QY8: 0.27083333 | QZ8: - | RA8: 0.625 | RB8: 0.27083333 | RC8: - | RD8: 0.625 | RE8: 0.27083333 | RF8: - | RG8: 0.625 | RH8: 0.27083333 | RI8: - | RJ8: 0.625 | RQ8: 0.60416667 | RR8: - | RS8: 0.95833333 | RT8: 0.60416667 | RU8: - | RV8: 0.95833333 | RW8: 0.60416667 | RX8: - | RY8: 0.95833333 | RZ8: 0.60416667 | SA8: - | SB8: 0.95833333 | SC8: 0.60416667 | SD8: - | SE8: 0.95833333 | SL8: 0.9375 | SM8: - | SN8: 0.29166667 | SO8: 0.9375 | SP8: - | SQ8: 0.29166667 | SR8: 0.9375 | SS8: - | ST8: 0.29166667 | SU8: 0.9375 | SV8: - | SW8: 0.29166667 | TS8: 0.9375 | TT8: - | TU8: 0.29166667 | TV8: 0.77083333 | TW8: - | TX8: 0.29166667 | TY8: 0.77083333 | TZ8: - | UA8: 0.29166667 | UH8: 0.41666667 | UI8: - | UJ8: 0.75 | UK8: 0.41666667 | UL8: - | UM8: 0.75 | UQ8: 0.27083333 | UR8: - | US8: 0.79166667 | UT8: 0.27083333 | UU8: - | UV8: 0.79166667 | UW8: REPOS | UZ8: REPOS | VC8: REPOS | VF8: REPOS | VI8: REPOS | VR8: 0.27083333 | VS8: - | VT8: 0.625 | VU8: 0.27083333 | VV8: - | VW8: 0.625 | VX8: 0.27083333 | VY8: - | VZ8: 0.625 | WA8: 0.27083333 | WB8: - | WC8: 0.625 | WD8: 0.27083333 | WE8: - | WF8: 0.625 | WM8: 0.60416667 | WN8: - | WO8: 0.95833333 | WP8: 0.60416667 | WQ8: - | WR8: 0.95833333 | WS8: 0.60416667 | WT8: - | WU8: 0.95833333 | WV8: 0.60416667 | WW8: - | WX8: 0.95833333 | WY8: 0.60416667 | WZ8: - | XA8: 0.95833333 | XH8: 0.9375 | XI8: - | XJ8: 0.29166667 | XK8: 0.9375 | XL8: - | XM8: 0.29166667 | XN8: 0.9375 | XO8: - | XP8: 0.29166667 | XQ8: 0.9375 | XR8: - | XS8: 0.29166667 | YO8: 0.9375 | YP8: - | YQ8: 0.29166667 | YR8: 0.77083333 | YS8: - | YT8: 0.29166667 | YU8: 0.77083333 | YV8: - | YW8: 0.29166667 | ZD8: 0.41666667 | ZE8: - | ZF8: 0.75 | ZJ8: 0.41666667 | ZK8: - | ZL8: 0.75 | ZM8: 0.27083333 | ZN8: - | ZO8: 0.79166667 | ZP8: 0.27083333 | ZQ8: - | ZR8: 0.79166667 | ZS8: REPOS | ZV8: REPOS | ZY8: REPOS | AAB8: REPOS | AAE8: REPOS | AAN8: 0.27083333 | AAO8: - | AAP8: 0.625 | AAQ8: 0.27083333 | AAR8: - | AAS8: 0.625 | AAT8: 0.27083333 | AAU8: - | AAV8: 0.625 | AAW8: 0.27083333 | AAX8: - | AAY8: 0.625 | AAZ8: 0.27083333 | ABA8: - | ABB8: 0.625 | ABI8: 0.60416667 | ABJ8: - | ABK8: 0.95833333 | ABL8: 0.60416667 | ABM8: - | ABN8: 0.95833333 | ABO8: 0.60416667 | ABP8: - | ABQ8: 0.95833333 | ABR8: 0.60416667 | ABS8: - | ABT8: 0.95833333 | ABU8: 0.60416667 | ABV8: - | ABW8: 0.95833333 | ACD8: 0.9375 | ACE8: - | ACF8: 0.29166667 | ACG8: 0.9375 | ACH8: - | ACI8: 0.29166667 | ACJ8: 0.9375 | ACK8: - | ACL8: 0.29166667 | ACM8: 0.9375 | ACN8: - | ACO8: 0.29166667 | ADK8: 0.9375 | ADL8: - | ADM8: 0.29166667 | ADN8: 0.77083333 | ADO8: - | ADP8: 0.29166667 | ADQ8: 0.77083333 | ADR8: - | ADS8: 0.29166667 | ADZ8: 0.41666667 | AEA8: - | AEB8: 0.75 | AEC8: 0.41666667 | AED8: - | AEE8: 0.75 | AEI8: 0.27083333 | AEJ8: - | AEK8: 0.79166667 | AEL8: 0.27083333 | AEM8: - | AEN8: 0.79166667 | AEO8: REPOS | AER8: REPOS | AEU8: REPOS | AEX8: REPOS | AFA8: REPOS | AFJ8: 0.27083333 | AFK8: - | AFL8: 0.625 | AFM8: 0.27083333 | AFN8: - | AFO8: 0.625 | AFP8: 0.27083333 | AFQ8: - | AFR8: 0.625 | AFS8: 0.27083333 | AFT8: - | AFU8: 0.625 | AFV8: 0.27083333 | AFW8: - | AFX8: 0.625 | AGE8: 0.60416667 | AGF8: - | AGG8: 0.95833333 | AGH8: 0.60416667 | AGI8: - | AGJ8: 0.95833333 | AGK8: 0.60416667 | AGL8: - | AGM8: 0.95833333 | AGN8: 0.60416667 | AGO8: - | AGP8: 0.95833333 | AGQ8: 0.60416667 | AGR8: - | AGS8: 0.95833333 | AGZ8: 0.9375 | AHA8: - | AHB8: 0.29166667 | AHC8: 0.9375 | AHD8: - | AHE8: 0.29166667 | AHF8: 0.9375 | AHG8: - | AHH8: 0.29166667 | AHI8: 0.9375 | AHJ8: - | AHK8: 0.29166667 | AIG8: 0.9375 | AIH8: - | AII8: 0.29166667 | AIJ8: 0.77083333 | AIK8: - | AIL8: 0.29166667 | AIM8: 0.77083333 | AIN8: - | AIO8: 0.29166667 | AIV8: 0.41666667 | AIW8: - | AIX8: 0.75 | AIY8: 0.41666667 | AIZ8: - | AJA8: 0.75 | AJE8: 0.27083333 | AJF8: - | AJG8: 0.79166667 | AJH8: 0.27083333 | AJI8: - | AJJ8: 0.79166667 | AJK8: REPOS | AJN8: REPOS | AJQ8: REPOS | AJT8: REPOS | AJW8: REPOS | AKF8: 0.27083333 | AKG8: - | AKH8: 0.625 | AKI8: 0.27083333 | AKJ8: - | AKK8: 0.625 | AKL8: 0.27083333 | AKM8: - | AKN8: 0.625 | AKO8: 0.27083333 | AKP8: - | AKQ8: 0.625 | AKR8: 0.27083333 | AKS8: - | AKT8: 0.625 | ALA8: 0.60416667 | ALB8: - | ALC8: 0.95833333 | ALD8: 0.60416667 | ALE8: - | ALF8: 0.95833333 | ALG8: 0.60416667 | ALH8: - | ALI8: 0.95833333 | ALJ8: 0.60416667 | ALK8: - | ALL8: 0.95833333 | ALM8: 0.60416667 | ALN8: - | ALO8: 0.95833333 | ALV8: 0.9375 | ALW8: - | ALX8: 0.29166667 | ALY8: 0.9375 | ALZ8: - | AMA8: 0.29166667 | AMB8: 0.9375 | AMC8: - | AMD8: 0.29166667 | AME8: 0.9375 | AMF8: - | AMG8: 0.29166667 | ANC8: 0.9375 | AND8: - | ANE8: 0.29166667 | ANF8: 0.77083333 | ANG8: - | ANH8: 0.29166667 | ANI8: 0.77083333 | ANJ8: - | ANK8: 0.29166667 | ANR8: 0.41666667 | ANS8: - | ANT8: 0.75 | ANU8: 0.41666667 | ANV8: - | ANW8: 0.75 | AOA8: 0.27083333 | AOB8: - | AOC8: 0.79166667 | AOD8: 0.27083333 | AOE8: - | AOF8: 0.79166667 | AOG8: REPOS | AOJ8: REPOS | AOM8: REPOS | AOP8: REPOS | AOS8: REPOS | APB8: 0.27083333 | APC8: - | APD8: 0.625 | APE8: 0.27083333 | APF8: - | APG8: 0.625 | APH8: 0.27083333 | API8: - | APJ8: 0.625 | APK8: 0.27083333 | APL8: - | APM8: 0.625 | APN8: 0.27083333 | APO8: - | APP8: 0.625 | APW8: 0.60416667 | APX8: - | APY8: 0.95833333 | APZ8: 0.60416667 | AQA8: - | AQB8: 0.95833333 | AQC8: 0.60416667 | AQD8: - | AQE8: 0.95833333 | AQF8: 0.60416667 | AQG8: - | AQH8: 0.95833333 | AQI8: 0.60416667 | AQJ8: - | AQK8: 0.95833333 | AQR8: 0.9375 | AQS8: - | AQT8: 0.29166667 | AQU8: 0.9375 | AQV8: - | AQW8: 0.29166667 | AQX8: 0.9375 | AQY8: - | AQZ8: 0.29166667 | ARA8: 0.9375 | ARB8: - | ARC8: 0.29166667 | ARY8: 0.9375 | ARZ8: - | ASA8: 0.29166667 | ASB8: 0.77083333 | ASC8: - | ASD8: 0.29166667 | ASE8: 0.77083333 | ASF8: - | ASG8: 0.29166667
A9: JULIE | E9: Férié | H9: 0.41666667 | I9: - | J9: 0.75 | K9: 0.41666667 | L9: - | M9: 0.75 | Q9: 0.27083333 | R9: - | S9: 0.79166667 | T9: 0.27083333 | U9: - | V9: 0.79166667 | W9: REPOS | Z9: REPOS | AC9: REPOS | AF9: REPOS | AI9: REPOS | AR9: 0.27083333 | AS9: - | AT9: 0.625 | AU9: 0.27083333 | AV9: - | AW9: 0.625 | AX9: 0.27083333 | AY9: - | AZ9: 0.625 | BA9: 0.27083333 | BB9: - | BC9: 0.625 | BD9: 0.27083333 | BE9: - | BF9: 0.625 | BM9: 0.60416667 | BN9: - | BO9: 0.95833333 | BP9: 0.60416667 | BQ9: - | BR9: 0.95833333 | BS9: 0.60416667 | BT9: - | BU9: 0.95833333 | BV9: 0.375 | BW9: - | BX9: 0.70833333 | BY9: 0.60416667 | BZ9: - | CA9: 0.95833333 | CH9: 0.9375 | CI9: - | CJ9: 0.29166667 | CK9: 0.9375 | CL9: - | CM9: 0.29166667 | CN9: 0.9375 | CO9: - | CP9: 0.29166667 | CQ9: 0.9375 | CR9: - | CS9: 0.29166667 | DO9: 0.9375 | DP9: - | DQ9: 0.29166667 | DR9: 0.77083333 | DS9: - | DT9: 0.29166667 | DU9: 0.77083333 | DV9: - | DW9: 0.29166667 | ED9: 0.41666667 | EE9: - | EF9: 0.75 | EG9: 0.41666667 | EH9: - | EI9: 0.75 | EM9: 0.27083333 | EN9: - | EO9: 0.79166667 | EP9: 0.27083333 | EQ9: - | ER9: 0.79166667 | ES9: REPOS | EV9: REPOS | EY9: REPOS | FB9: REPOS | FE9: REPOS | FN9: 0.27083333 | FO9: - | FP9: 0.625 | FQ9: 0.27083333 | FR9: - | FS9: 0.625 | FT9: 0.27083333 | FU9: - | FV9: 0.625 | FW9: 0.27083333 | FX9: - | FY9: 0.625 | FZ9: 0.60416667 | GA9: - | GB9: 0.95833333 | GI9: 0.60416667 | GJ9: - | GK9: 0.95833333 | GL9: 0.60416667 | GM9: - | GN9: 0.95833333 | GO9: 0.60416667 | GP9: - | GQ9: 0.95833333 | GR9: 0.60416667 | GS9: - | GT9: 0.95833333 | GU9: 0.60416667 | GV9: - | GW9: 0.95833333 | HD9: 0.9375 | HE9: - | HF9: 0.29166667 | HG9: 0.9375 | HH9: - | HI9: 0.29166667 | HJ9: 0.9375 | HK9: - | HL9: 0.29166667 | HM9: 0.9375 | HN9: - | HO9: 0.29166667 | IK9: 0.9375 | IL9: - | IM9: 0.29166667 | IN9: 0.77083333 | IO9: - | IP9: 0.29166667 | IQ9: 0.77083333 | IR9: - | IS9: 0.29166667 | IZ9: 0.41666667 | JA9: - | JB9: 0.75 | JC9: 0.41666667 | JD9: - | JE9: 0.75 | JI9: 0.27083333 | JJ9: - | JK9: 0.79166667 | JL9: 0.27083333 | JM9: - | JN9: 0.79166667 | JO9: REPOS | JR9: REPOS | JU9: REPOS | JX9: REPOS | KA9: REPOS | KJ9: Congé | KM9: Congé | KP9: Congé | KS9: Congé | KV9: Congé | LE9: 0.60416667 | LF9: - | LG9: 0.95833333 | LH9: 0.60416667 | LI9: - | LJ9: 0.95833333 | LK9: 0.60416667 | LL9: - | LM9: 0.95833333 | LN9: 0.60416667 | LO9: - | LP9: 0.95833333 | LQ9: 0.60416667 | LR9: - | LS9: 0.95833333 | LZ9: 0.9375 | MA9: - | MB9: 0.29166667 | MC9: 0.9375 | MD9: - | ME9: 0.29166667 | MF9: 0.9375 | MG9: - | MH9: 0.29166667 | MI9: 0.9375 | MJ9: - | MK9: 0.29166667 | NG9: 0.9375 | NH9: - | NI9: 0.29166667 | NJ9: 0.77083333 | NK9: - | NL9: 0.29166667 | NM9: 0.77083333 | NN9: - | NO9: 0.29166667 | NS9: 0.41666667 | NT9: - | NU9: 0.75 | NY9: 0.41666667 | NZ9: - | OA9: 0.75 | OE9: 0.27083333 | OF9: - | OG9: 0.79166667 | OH9: 0.27083333 | OI9: - | OJ9: 0.79166667 | OK9: REPOS | ON9: REPOS | OQ9: REPOS | OT9: REPOS | OW9: REPOS | PF9: 0.27083333 | PG9: - | PH9: 0.625 | PI9: 0.27083333 | PJ9: - | PK9: 0.625 | PL9: 0.27083333 | PM9: - | PN9: 0.625 | PO9: 0.27083333 | PP9: - | PQ9: 0.625 | PR9: 0.27083333 | PS9: - | PT9: 0.625 | QA9: 0.60416667 | QB9: - | QC9: 0.95833333 | QD9: 0.60416667 | QE9: - | QF9: 0.95833333 | QG9: 0.60416667 | QH9: - | QI9: 0.95833333 | QJ9: 0.60416667 | QK9: - | QL9: 0.95833333 | QM9: 0.60416667 | QN9: - | QO9: 0.95833333 | QV9: 0.9375 | QW9: - | QX9: 0.29166667 | QY9: 0.9375 | QZ9: - | RA9: 0.29166667 | RB9: 0.9375 | RC9: - | RD9: 0.29166667 | RE9: 0.9375 | RF9: - | RG9: 0.29166667 | SC9: 0.9375 | SD9: - | SE9: 0.29166667 | SF9: 0.77083333 | SG9: - | SH9: 0.29166667 | SI9: 0.77083333 | SJ9: - | SK9: 0.29166667 | SR9: 0.41666667 | SS9: - | ST9: 0.75 | SU9: 0.41666667 | SV9: - | SW9: 0.75 | TA9: 0.27083333 | TB9: - | TC9: 0.79166667 | TD9: 0.27083333 | TE9: - | TF9: 0.79166667 | TG9: REPOS | TJ9: REPOS | TM9: REPOS | TP9: REPOS | TS9: REPOS | UB9: 0.27083333 | UC9: - | UD9: 0.625 | UE9: 0.27083333 | UF9: - | UG9: 0.625 | UH9: 0.27083333 | UI9: - | UJ9: 0.625 | UK9: 0.27083333 | UL9: - | UM9: 0.625 | UW9: 0.60416667 | UX9: - | UY9: 0.95833333 | UZ9: 0.60416667 | VA9: - | VB9: 0.95833333 | VC9: 0.60416667 | VD9: - | VE9: 0.95833333 | VF9: 0.60416667 | VG9: - | VH9: 0.95833333 | VI9: 0.60416667 | VJ9: - | VK9: 0.95833333 | WY9: 0.9375 | WZ9: - | XA9: 0.29166667 | XB9: 0.77083333 | XC9: - | XD9: 0.29166667 | XE9: 0.77083333 | XF9: - | XG9: 0.29166667 | XN9: 0.41666667 | XO9: - | XP9: 0.75 | XQ9: 0.41666667 | XR9: - | XS9: 0.75 | XW9: 0.27083333 | XX9: - | XY9: 0.79166667 | XZ9: 0.27083333 | YA9: - | YB9: 0.79166667 | YC9: REPOS | YF9: REPOS | YI9: REPOS | YL9: REPOS | YO9: REPOS | YX9: 0.27083333 | YY9: - | YZ9: 0.625 | ZA9: 0.27083333 | ZB9: - | ZC9: 0.625 | ZD9: 0.27083333 | ZE9: - | ZF9: 0.625 | ZG9: 0.27083333 | ZH9: - | ZI9: 0.625 | ZJ9: 0.27083333 | ZK9: - | ZL9: 0.625 | ZS9: 0.60416667 | ZT9: - | ZU9: 0.95833333 | ZV9: 0.60416667 | ZW9: - | ZX9: 0.95833333 | ZY9: 0.60416667 | ZZ9: - | AAA9: 0.95833333 | AAB9: 0.60416667 | AAC9: - | AAD9: 0.95833333 | AAE9: 0.60416667 | AAF9: - | AAG9: 0.95833333 | AAN9: 0.9375 | AAO9: - | AAP9: 0.29166667 | AAQ9: 0.9375 | AAR9: - | AAS9: 0.29166667 | AAT9: 0.9375 | AAU9: - | AAV9: 0.29166667 | AAW9: 0.9375 | AAX9: - | AAY9: 0.29166667 | ABU9: 0.9375 | ABV9: - | ABW9: 0.29166667 | ABX9: 0.77083333 | ABY9: - | ABZ9: 0.29166667 | ACA9: 0.77083333 | ACB9: - | ACC9: 0.29166667 | ACJ9: 0.41666667 | ACK9: - | ACL9: 0.75 | ACM9: 0.41666667 | ACN9: - | ACO9: 0.75 | ACS9: 0.27083333 | ACT9: - | ACU9: 0.79166667 | ACV9: 0.27083333 | ACW9: - | ACX9: 0.79166667 | ACY9: REPOS | ADB9: REPOS | ADE9: REPOS | ADH9: REPOS | ADK9: REPOS | ADT9: 0.27083333 | ADU9: - | ADV9: 0.625 | ADW9: 0.27083333 | ADX9: - | ADY9: 0.625 | ADZ9: 0.27083333 | AEA9: - | AEB9: 0.625 | AEC9: 0.27083333 | AED9: - | AEE9: 0.625 | AEF9: 0.27083333 | AEG9: - | AEH9: 0.625 | AEO9: 0.60416667 | AEP9: - | AEQ9: 0.95833333 | AER9: 0.60416667 | AES9: - | AET9: 0.95833333 | AEU9: 0.60416667 | AEV9: - | AEW9: 0.95833333 | AEX9: 0.60416667 | AEY9: - | AEZ9: 0.95833333 | AFA9: 0.60416667 | AFB9: - | AFC9: 0.95833333 | AFJ9: 0.9375 | AFK9: - | AFL9: 0.29166667 | AFM9: 0.9375 | AFN9: - | AFO9: 0.29166667 | AFP9: 0.9375 | AFQ9: - | AFR9: 0.29166667 | AFS9: 0.9375 | AFT9: - | AFU9: 0.29166667 | AGQ9: 0.9375 | AGR9: - | AGS9: 0.29166667 | AGT9: 0.77083333 | AGU9: - | AGV9: 0.29166667 | AGW9: 0.77083333 | AGX9: - | AGY9: 0.29166667 | AHF9: 0.41666667 | AHG9: - | AHH9: 0.75 | AHI9: 0.41666667 | AHJ9: - | AHK9: 0.75 | AHO9: 0.27083333 | AHP9: - | AHQ9: 0.79166667 | AHR9: 0.27083333 | AHS9: - | AHT9: 0.79166667 | AHU9: REPOS | AHX9: REPOS | AIA9: REPOS | AID9: REPOS | AIG9: REPOS | AIP9: 0.27083333 | AIQ9: - | AIR9: 0.625 | AIS9: 0.27083333 | AIT9: - | AIU9: 0.625 | AIV9: 0.27083333 | AIW9: - | AIX9: 0.625 | AIY9: 0.27083333 | AIZ9: - | AJA9: 0.625 | AJB9: 0.27083333 | AJC9: - | AJD9: 0.625 | AJK9: 0.60416667 | AJL9: - | AJM9: 0.95833333 | AJN9: 0.60416667 | AJO9: - | AJP9: 0.95833333 | AJQ9: 0.60416667 | AJR9: - | AJS9: 0.95833333 | AJT9: 0.60416667 | AJU9: - | AJV9: 0.95833333 | AJW9: 0.60416667 | AJX9: - | AJY9: 0.95833333 | AKF9: 0.9375 | AKG9: - | AKH9: 0.29166667 | AKI9: 0.9375 | AKJ9: - | AKK9: 0.29166667 | AKL9: 0.9375 | AKM9: - | AKN9: 0.29166667 | AKO9: 0.9375 | AKP9: - | AKQ9: 0.29166667 | ALM9: 0.9375 | ALN9: - | ALO9: 0.29166667 | ALP9: 0.77083333 | ALQ9: - | ALR9: 0.29166667 | ALS9: 0.77083333 | ALT9: - | ALU9: 0.29166667 | AMB9: 0.41666667 | AMC9: - | AMD9: 0.75 | AME9: 0.41666667 | AMF9: - | AMG9: 0.75 | AMK9: 0.27083333 | AML9: - | AMM9: 0.79166667 | AMN9: 0.27083333 | AMO9: - | AMP9: 0.79166667 | AMQ9: REPOS | AMT9: REPOS | AMW9: REPOS | AMZ9: REPOS | ANC9: REPOS | ANL9: 0.27083333 | ANM9: - | ANN9: 0.625 | ANO9: 0.27083333 | ANP9: - | ANQ9: 0.625 | ANR9: 0.27083333 | ANS9: - | ANT9: 0.625 | ANU9: 0.27083333 | ANV9: - | ANW9: 0.625 | ANX9: 0.27083333 | ANY9: - | ANZ9: 0.625 | AOG9: 0.60416667 | AOH9: - | AOI9: 0.95833333 | AOJ9: 0.60416667 | AOK9: - | AOL9: 0.95833333 | AOM9: 0.60416667 | AON9: - | AOO9: 0.95833333 | AOP9: 0.60416667 | AOQ9: - | AOR9: 0.95833333 | AOS9: 0.60416667 | AOT9: - | AOU9: 0.95833333 | APB9: 0.9375 | APC9: - | APD9: 0.29166667 | APE9: 0.9375 | APF9: - | APG9: 0.29166667 | APH9: 0.9375 | API9: - | APJ9: 0.29166667 | APK9: 0.9375 | APL9: - | APM9: 0.29166667 | AQI9: 0.9375 | AQJ9: - | AQK9: 0.29166667 | AQL9: 0.77083333 | AQM9: - | AQN9: 0.29166667 | AQO9: 0.77083333 | AQP9: - | AQQ9: 0.29166667 | AQX9: 0.41666667 | AQY9: - | AQZ9: 0.75 | ARA9: 0.41666667 | ARB9: - | ARC9: 0.75 | ARG9: 0.27083333 | ARH9: - | ARI9: 0.79166667 | ARJ9: 0.27083333 | ARK9: - | ARL9: 0.79166667 | ARM9: REPOS | ARP9: REPOS | ARS9: REPOS | ARV9: REPOS | ARY9: REPOS
A10: ELIE | E10: Férié | N10: 0.9375 | O10: - | P10: 0.29166667 | Q10: 0.77083333 | R10: - | S10: 0.29166667 | T10: 0.77083333 | U10: - | V10: 0.29166667 | AC10: 0.41666667 | AD10: - | AE10: 0.75 | AI10: 0.41666667 | AJ10: - | AK10: 0.75 | AL10: 0.27083333 | AM10: - | AN10: 0.79166667 | AO10: 0.27083333 | AP10: - | AQ10: 0.79166667 | AR10: REPOS | AU10: REPOS | AX10: REPOS | BA10: REPOS | BD10: REPOS | BM10: 0.27083333 | BN10: - | BO10: 0.625 | BP10: Congé | BS10: Congé | BV10: Congé | BY10: Congé | CH10: 0.60416667 | CI10: - | CJ10: 0.95833333 | CK10: 0.60416667 | CL10: - | CM10: 0.95833333 | CN10: 0.60416667 | CO10: - | CP10: 0.95833333 | CQ10: 0.60416667 | CR10: - | CS10: 0.95833333 | CT10: 0.60416667 | CU10: - | CV10: 0.95833333 | DC10: 0.9375 | DD10: - | DE10: 0.29166667 | DF10: 0.9375 | DG10: - | DH10: 0.29166667 | DI10: 0.9375 | DJ10: - | DK10: 0.29166667 | DL10: 0.9375 | DM10: - | DN10: 0.29166667 | EJ10: 0.9375 | EK10: - | EL10: 0.29166667 | EM10: 0.77083333 | EN10: - | EO10: 0.29166667 | EP10: 0.77083333 | EQ10: - | ER10: 0.29166667 | EY10: 0.41666667 | EZ10: - | FA10: 0.70833333 | FB10: 0.9375 | FC10: - | FD10: 0.29166667 | FH10: 0.27083333 | FI10: - | FJ10: 0.79166667 | FK10: 0.27083333 | FL10: - | FM10: 0.79166667 | FN10: REPOS | FQ10: REPOS | FT10: REPOS | FW10: REPOS | FZ10: REPOS | GI10: Congé | GL10: Congé | GO10: Congé | GR10: Congé | GU10: Congé | HD10: Congé | HG10: Congé | HJ10: Congé | HM10: Congé | HP10: Congé | HY10: 0.9375 | HZ10: - | IA10: 0.29166667 | IB10: 0.9375 | IC10: - | ID10: 0.29166667 | IE10: 0.9375 | IF10: - | IG10: 0.29166667 | IH10: 0.9375 | II10: - | IJ10: 0.29166667 | JF10: 0.9375 | JG10: - | JH10: 0.29166667 | JI10: 0.77083333 | JJ10: - | JK10: 0.29166667 | JL10: 0.77083333 | JM10: - | JN10: 0.29166667 | JU10: 0.41666667 | JV10: - | JW10: 0.75 | JX10: 0.41666667 | JY10: - | JZ10: 0.75 | KD10: 0.27083333 | KE10: - | KF10: 0.79166667 | KG10: 0.27083333 | KH10: - | KI10: 0.79166667 | KJ10: REPOS | KM10: REPOS | KP10: REPOS | KS10: REPOS | KV10: REPOS | LE10: 0.27083333 | LF10: - | LG10: 0.625 | LH10: 0.27083333 | LI10: - | LJ10: 0.625 | LK10: 0.27083333 | LL10: - | LM10: 0.625 | LN10: 0.27083333 | LO10: - | LP10: 0.625 | LQ10: 0.27083333 | LR10: - | LS10: 0.625 | LZ10: 0.60416667 | MA10: - | MB10: 0.95833333 | MC10: 0.60416667 | MD10: - | ME10: 0.95833333 | MF10: 0.60416667 | MG10: - | MH10: 0.95833333 | MI10: 0.60416667 | MJ10: - | MK10: 0.95833333 | ML10: 0.60416667 | MM10: - | MN10: 0.95833333 | MU10: 0.9375 | MV10: - | MW10: 0.29166667 | MX10: 0.9375 | MY10: - | MZ10: 0.29166667 | NA10: 0.9375 | NB10: - | NC10: 0.29166667 | ND10: 0.9375 | NE10: - | NF10: 0.29166667 | OB10: 0.9375 | OC10: - | OD10: 0.29166667 | OE10: 0.77083333 | OF10: - | OG10: 0.29166667 | OH10: 0.77083333 | OI10: - | OJ10: 0.29166667 | OQ10: 0.41666667 | OR10: - | OS10: 0.75 | OT10: 0.41666667 | OU10: - | OV10: 0.75 | OZ10: 0.27083333 | PA10: - | PB10: 0.79166667 | PC10: 0.27083333 | PD10: - | PE10: 0.79166667 | PF10: REPOS | PI10: REPOS | PL10: REPOS | PO10: REPOS | PR10: REPOS | QA10: Congé | QD10: Congé | QG10: Congé | QJ10: Congé | QM10: Congé | QV10: 0.60416667 | QW10: - | QX10: 0.95833333 | QY10: 0.60416667 | QZ10: - | RA10: 0.95833333 | RB10: 0.60416667 | RC10: - | RD10: 0.95833333 | RE10: 0.60416667 | RF10: - | RG10: 0.95833333 | RH10: 0.60416667 | RI10: - | RJ10: 0.95833333 | RQ10: 0.9375 | RR10: - | RS10: 0.29166667 | RT10: 0.9375 | RU10: - | RV10: 0.29166667 | RW10: 0.9375 | RX10: - | RY10: 0.29166667 | RZ10: 0.9375 | SA10: - | SB10: 0.29166667 | SX10: 0.9375 | SY10: - | SZ10: 0.29166667 | TA10: 0.77083333 | TB10: - | TC10: 0.29166667 | TD10: 0.77083333 | TE10: - | TF10: 0.29166667 | TM10: 0.41666667 | TN10: - | TO10: 0.75 | TP10: 0.41666667 | TQ10: - | TR10: 0.75 | TV10: 0.27083333 | TW10: - | TX10: 0.79166667 | TY10: 0.27083333 | TZ10: - | UA10: 0.79166667 | UB10: REPOS | UE10: REPOS | UH10: REPOS | UK10: REPOS | UN10: REPOS | UW10: 0.27083333 | UX10: - | UY10: 0.625 | UZ10: 0.27083333 | VA10: - | VB10: 0.625 | VC10: 0.27083333 | VD10: - | VE10: 0.625 | VF10: 0.27083333 | VG10: - | VH10: 0.625 | VI10: 0.27083333 | VJ10: - | VK10: 0.625 | VR10: 0.60416667 | VS10: - | VT10: 0.95833333 | VU10: 0.60416667 | VV10: - | VW10: 0.95833333 | VX10: 0.60416667 | VY10: - | VZ10: 0.95833333 | WA10: 0.60416667 | WB10: - | WC10: 0.95833333 | WD10: 0.60416667 | WE10: - | WF10: 0.95833333 | WM10: 0.9375 | WN10: - | WO10: 0.29166667 | WP10: 0.9375 | WQ10: - | WR10: 0.29166667 | WS10: 0.9375 | WT10: - | WU10: 0.29166667 | WV10: 0.9375 | WW10: - | WX10: 0.29166667 | XT10: 0.9375 | XU10: - | XV10: 0.29166667 | XW10: 0.77083333 | XX10: - | XY10: 0.29166667 | XZ10: 0.77083333 | YA10: - | YB10: 0.29166667 | YI10: 0.41666667 | YJ10: - | YK10: 0.75 | YL10: 0.41666667 | YM10: - | YN10: 0.75 | YR10: 0.27083333 | YS10: - | YT10: 0.79166667 | YU10: 0.27083333 | YV10: - | YW10: 0.79166667 | YX10: REPOS | ZA10: REPOS | ZD10: REPOS | ZG10: REPOS | ZJ10: REPOS | ZS10: 0.27083333 | ZT10: - | ZU10: 0.625 | ZV10: 0.27083333 | ZW10: - | ZX10: 0.625 | ZY10: 0.27083333 | ZZ10: - | AAA10: 0.625 | AAB10: 0.27083333 | AAC10: - | AAD10: 0.625 | AAE10: 0.27083333 | AAF10: - | AAG10: 0.625 | AAN10: 0.60416667 | AAO10: - | AAP10: 0.95833333 | AAQ10: 0.60416667 | AAR10: - | AAS10: 0.95833333 | AAT10: 0.60416667 | AAU10: - | AAV10: 0.95833333 | AAW10: 0.60416667 | AAX10: - | AAY10: 0.95833333 | AAZ10: 0.60416667 | ABA10: - | ABB10: 0.95833333 | ABI10: 0.9375 | ABJ10: - | ABK10: 0.29166667 | ABL10: 0.9375 | ABM10: - | ABN10: 0.29166667 | ABO10: 0.9375 | ABP10: - | ABQ10: 0.29166667 | ABR10: 0.9375 | ABS10: - | ABT10: 0.29166667 | ACP10: 0.9375 | ACQ10: - | ACR10: 0.29166667 | ACS10: 0.77083333 | ACT10: - | ACU10: 0.29166667 | ACV10: 0.77083333 | ACW10: - | ACX10: 0.29166667 | ADE10: 0.41666667 | ADF10: - | ADG10: 0.75 | ADH10: 0.41666667 | ADI10: - | ADJ10: 0.75 | ADN10: 0.27083333 | ADO10: - | ADP10: 0.79166667 | ADQ10: 0.27083333 | ADR10: - | ADS10: 0.79166667 | ADT10: REPOS | ADW10: REPOS | ADZ10: REPOS | AEC10: REPOS | AEF10: REPOS | AEO10: 0.27083333 | AEP10: - | AEQ10: 0.625 | AER10: 0.27083333 | AES10: - | AET10: 0.625 | AEU10: 0.27083333 | AEV10: - | AEW10: 0.625 | AEX10: 0.27083333 | AEY10: - | AEZ10: 0.625 | AFA10: 0.27083333 | AFB10: - | AFC10: 0.625 | AFJ10: 0.60416667 | AFK10: - | AFL10: 0.95833333 | AFM10: 0.60416667 | AFN10: - | AFO10: 0.95833333 | AFP10: 0.60416667 | AFQ10: - | AFR10: 0.95833333 | AFS10: 0.60416667 | AFT10: - | AFU10: 0.95833333 | AFV10: 0.60416667 | AFW10: - | AFX10: 0.95833333 | AGE10: 0.9375 | AGF10: - | AGG10: 0.29166667 | AGH10: 0.9375 | AGI10: - | AGJ10: 0.29166667 | AGK10: 0.9375 | AGL10: - | AGM10: 0.29166667 | AGN10: 0.9375 | AGO10: - | AGP10: 0.29166667 | AHL10: 0.9375 | AHM10: - | AHN10: 0.29166667 | AHO10: 0.77083333 | AHP10: - | AHQ10: 0.29166667 | AHR10: 0.77083333 | AHS10: - | AHT10: 0.29166667 | AIA10: 0.41666667 | AIB10: - | AIC10: 0.75 | AID10: 0.41666667 | AIE10: - | AIF10: 0.75 | AIJ10: 0.27083333 | AIK10: - | AIL10: 0.79166667 | AIM10: 0.27083333 | AIN10: - | AIO10: 0.79166667 | AIP10: REPOS | AIS10: REPOS | AIV10: REPOS | AIY10: REPOS | AJB10: REPOS | AJK10: 0.27083333 | AJL10: - | AJM10: 0.625 | AJN10: 0.27083333 | AJO10: - | AJP10: 0.625 | AJQ10: 0.27083333 | AJR10: - | AJS10: 0.625 | AJT10: 0.27083333 | AJU10: - | AJV10: 0.625 | AJW10: 0.27083333 | AJX10: - | AJY10: 0.625 | AKF10: 0.60416667 | AKG10: - | AKH10: 0.95833333 | AKI10: 0.60416667 | AKJ10: - | AKK10: 0.95833333 | AKL10: 0.60416667 | AKM10: - | AKN10: 0.95833333 | AKO10: 0.60416667 | AKP10: - | AKQ10: 0.95833333 | AKR10: 0.60416667 | AKS10: - | AKT10: 0.95833333 | ALA10: 0.9375 | ALB10: - | ALC10: 0.29166667 | ALD10: 0.9375 | ALE10: - | ALF10: 0.29166667 | ALG10: 0.9375 | ALH10: - | ALI10: 0.29166667 | ALJ10: 0.9375 | ALK10: - | ALL10: 0.29166667 | AMH10: 0.9375 | AMI10: - | AMJ10: 0.29166667 | AMK10: 0.77083333 | AML10: - | AMM10: 0.29166667 | AMN10: 0.77083333 | AMO10: - | AMP10: 0.29166667 | AMW10: 0.41666667 | AMX10: - | AMY10: 0.75 | AMZ10: 0.41666667 | ANA10: - | ANB10: 0.75 | ANF10: 0.27083333 | ANG10: - | ANH10: 0.79166667 | ANI10: 0.27083333 | ANJ10: - | ANK10: 0.79166667 | ANL10: REPOS | ANO10: REPOS | ANR10: REPOS | ANU10: REPOS | ANX10: REPOS | AOG10: 0.27083333 | AOH10: - | AOI10: 0.625 | AOJ10: 0.27083333 | AOK10: - | AOL10: 0.625 | AOM10: 0.27083333 | AON10: - | AOO10: 0.625 | AOP10: 0.27083333 | AOQ10: - | AOR10: 0.625 | AOS10: 0.27083333 | AOT10: - | AOU10: 0.625 | APB10: 0.60416667 | APC10: - | APD10: 0.95833333 | APE10: 0.60416667 | APF10: - | APG10: 0.95833333 | APH10: 0.60416667 | API10: - | APJ10: 0.95833333 | APK10: 0.60416667 | APL10: - | APM10: 0.95833333 | APN10: 0.60416667 | APO10: - | APP10: 0.95833333 | APW10: 0.9375 | APX10: - | APY10: 0.29166667 | APZ10: 0.9375 | AQA10: - | AQB10: 0.29166667 | AQC10: 0.9375 | AQD10: - | AQE10: 0.29166667 | AQF10: 0.9375 | AQG10: - | AQH10: 0.29166667 | ARD10: 0.9375 | ARE10: - | ARF10: 0.29166667 | ARG10: 0.77083333 | ARH10: - | ARI10: 0.29166667 | ARJ10: 0.77083333 | ARK10: - | ARL10: 0.29166667 | ARS10: 0.41666667 | ART10: - | ARU10: 0.75 | ARV10: 0.41666667 | ARW10: - | ARX10: 0.75 | ASB10: 0.27083333 | ASC10: - | ASD10: 0.79166667 | ASE10: 0.27083333 | ASF10: - | ASG10: 0.79166667
A11: LUCAS | B11: 0.27083333 | C11: - | D11: 0.625 | E11: 0.27083333 | F11: - | G11: 0.625 | H11: 0.27083333 | I11: - | J11: 0.625 | K11: 0.27083333 | L11: - | M11: 0.625 | N11: 0.27083333 | O11: - | P11: 0.625 | W11: 0.60416667 | X11: - | Y11: 0.95833333 | Z11: 0.60416667 | AA11: - | AB11: 0.95833333 | AC11: 0.60416667 | AD11: - | AE11: 0.95833333 | AF11: 0.60416667 | AG11: - | AH11: 0.95833333 | AI11: 0.60416667 | AJ11: - | AK11: 0.95833333 | AR11: 0.9375 | AS11: - | AT11: 0.29166667 | AU11: 0.9375 | AV11: - | AW11: 0.29166667 | AX11: 0.9375 | AY11: - | AZ11: 0.29166667 | BA11: 0.9375 | BB11: - | BC11: 0.29166667 | BY11: 0.9375 | BZ11: - | CA11: 0.29166667 | CB11: 0.77083333 | CC11: - | CD11: 0.29166667 | CE11: 0.77083333 | CF11: - | CG11: 0.29166667 | CQ11: 0.41666667 | CR11: - | CS11: 0.70833333 | CT11: 0.375 | CU11: - | CV11: 0.75 | CW11: 0.27083333 | CX11: - | CY11: 0.79166667 | CZ11: 0.27083333 | DA11: - | DB11: 0.79166667 | DC11: REPOS | DF11: REPOS | DI11: REPOS | DL11: REPOS | DO11: REPOS | DX11: 0.27083333 | DY11: - | DZ11: 0.625 | EA11: 0.27083333 | EB11: - | EC11: 0.625 | ED11: 0.27083333 | EE11: - | EF11: 0.625 | EG11: 0.27083333 | EH11: - | EI11: 0.625 | EJ11: 0.27083333 | EK11: - | EL11: 0.625 | ES11: Congé | EV11: Congé | EY11: Congé | FB11: Congé | FE11: Congé | FN11: Congé | FQ11: Congé | FT11: Congé | FW11: Congé | GU11: 0.9375 | GV11: - | GW11: 0.29166667 | GX11: 0.77083333 | GY11: - | GZ11: 0.29166667 | HA11: 0.77083333 | HB11: - | HC11: 0.29166667 | HJ11: Congé | HM11: Congé | HS11: 0.27083333 | HT11: - | HU11: 0.79166667 | HV11: 0.27083333 | HW11: - | HX11: 0.79166667 | HY11: REPOS | IB11: REPOS | IE11: REPOS | IH11: REPOS | IT11: 0.27083333 | IU11: - | IV11: 0.625 | IW11: 0.27083333 | IX11: - | IY11: 0.625 | IZ11: 0.27083333 | JA11: - | JB11: 0.625 | JC11: 0.27083333 | JD11: - | JE11: 0.625 | JF11: 0.27083333 | JG11: - | JH11: 0.625 | JO11: Congé | JR11: Congé | JU11: Congé | JX11: Congé | KA11: Congé | KJ11: 0.9375 | KK11: - | KL11: 0.29166667 | KM11: 0.9375 | KN11: - | KO11: 0.29166667 | KP11: 0.9375 | KQ11: - | KR11: 0.29166667 | KS11: 0.9375 | KT11: - | KU11: 0.29166667 | LQ11: Congé | LT11: Congé | LW11: Congé | MF11: Congé | MI11: Congé | MO11: 0.27083333 | MP11: - | MQ11: 0.79166667 | MR11: 0.27083333 | MS11: - | MT11: 0.79166667 | MU11: REPOS | MX11: REPOS | NA11: REPOS | ND11: REPOS | NG11: REPOS | NP11: 0.27083333 | NQ11: - | NR11: 0.625 | NS11: 0.27083333 | NT11: - | NU11: 0.625 | NV11: 0.27083333 | NW11: - | NX11: 0.625 | NY11: 0.27083333 | NZ11: - | OA11: 0.625 | OB11: 0.27083333 | OC11: - | OD11: 0.625 | OK11: 0.60416667 | OL11: - | OM11: 0.95833333 | ON11: 0.60416667 | OO11: - | OP11: 0.95833333 | OQ11: 0.60416667 | OR11: - | OS11: 0.95833333 | OT11: 0.60416667 | OU11: - | OV11: 0.95833333 | OW11: 0.60416667 | OX11: - | OY11: 0.95833333 | PF11: 0.9375 | PG11: - | PH11: 0.29166667 | PI11: 0.9375 | PJ11: - | PK11: 0.29166667 | PL11: 0.9375 | PM11: - | PN11: 0.29166667 | PO11: 0.9375 | PP11: - | PQ11: 0.29166667 | QM11: 0.9375 | QN11: - | QO11: 0.29166667 | QP11: 0.77083333 | QQ11: - | QR11: 0.29166667 | QS11: 0.77083333 | QT11: - | QU11: 0.29166667 | RB11: 0.41666667 | RC11: - | RD11: 0.75 | RE11: 0.41666667 | RF11: - | RG11: 0.75 | RK11: 0.27083333 | RL11: - | RM11: 0.79166667 | RN11: 0.27083333 | RO11: - | RP11: 0.79166667 | RQ11: REPOS | RT11: REPOS | RW11: REPOS | RZ11: REPOS | SC11: REPOS | SL11: 0.27083333 | SM11: - | SN11: 0.625 | SO11: 0.27083333 | SP11: - | SQ11: 0.625 | SR11: 0.27083333 | SS11: - | ST11: 0.625 | SU11: 0.27083333 | SV11: - | SW11: 0.625 | SX11: 0.27083333 | SY11: - | SZ11: 0.625 | TG11: 0.60416667 | TH11: - | TI11: 0.95833333 | TJ11: 0.60416667 | TK11: - | TL11: 0.95833333 | TM11: 0.60416667 | TN11: - | TO11: 0.95833333 | TP11: 0.60416667 | TQ11: - | TR11: 0.95833333 | TS11: 0.60416667 | TT11: - | TU11: 0.95833333 | UB11: 0.9375 | UC11: - | UD11: 0.29166667 | UE11: 0.9375 | UF11: - | UG11: 0.29166667 | UH11: 0.9375 | UI11: - | UJ11: 0.29166667 | UK11: 0.9375 | UL11: - | UM11: 0.29166667 | VI11: 0.9375 | VJ11: - | VK11: 0.29166667 | VL11: 0.77083333 | VM11: - | VN11: 0.29166667 | VO11: 0.77083333 | VP11: - | VQ11: 0.29166667 | VX11: 0.41666667 | VY11: - | VZ11: 0.75 | WA11: 0.41666667 | WB11: - | WC11: 0.75 | WG11: 0.27083333 | WH11: - | WI11: 0.79166667 | WJ11: 0.27083333 | WK11: - | WL11: 0.79166667 | WM11: REPOS | WP11: REPOS | WS11: REPOS | WV11: REPOS | WY11: REPOS | XH11: 0.27083333 | XI11: - | XJ11: 0.625 | XK11: 0.27083333 | XL11: - | XM11: 0.625 | XN11: 0.27083333 | XO11: - | XP11: 0.625 | XQ11: 0.27083333 | XR11: - | XS11: 0.625 | XT11: 0.27083333 | XU11: - | XV11: 0.625 | YC11: 0.60416667 | YD11: - | YE11: 0.95833333 | YF11: 0.60416667 | YG11: - | YH11: 0.95833333 | YI11: 0.60416667 | YJ11: - | YK11: 0.95833333 | YL11: 0.60416667 | YM11: - | YN11: 0.95833333 | YO11: 0.60416667 | YP11: - | YQ11: 0.95833333 | YX11: 0.9375 | YY11: - | YZ11: 0.29166667 | ZA11: 0.9375 | ZB11: - | ZC11: 0.29166667 | ZD11: 0.9375 | ZE11: - | ZF11: 0.29166667 | ZG11: 0.9375 | ZH11: - | ZI11: 0.29166667 | AAE11: 0.9375 | AAF11: - | AAG11: 0.29166667 | AAH11: 0.77083333 | AAI11: - | AAJ11: 0.29166667 | AAK11: 0.77083333 | AAL11: - | AAM11: 0.29166667 | AAT11: 0.41666667 | AAU11: - | AAV11: 0.75 | AAW11: 0.41666667 | AAX11: - | AAY11: 0.75 | ABC11: 0.27083333 | ABD11: - | ABE11: 0.79166667 | ABF11: 0.27083333 | ABG11: - | ABH11: 0.79166667 | ABI11: REPOS | ABL11: REPOS | ABO11: REPOS | ABR11: REPOS | ABU11: REPOS | ACD11: 0.27083333 | ACE11: - | ACF11: 0.625 | ACG11: 0.27083333 | ACH11: - | ACI11: 0.625 | ACJ11: 0.27083333 | ACK11: - | ACL11: 0.625 | ACM11: 0.27083333 | ACN11: - | ACO11: 0.625 | ACP11: 0.27083333 | ACQ11: - | ACR11: 0.625 | ACY11: 0.60416667 | ACZ11: - | ADA11: 0.95833333 | ADB11: 0.60416667 | ADC11: - | ADD11: 0.95833333 | ADE11: 0.60416667 | ADF11: - | ADG11: 0.95833333 | ADH11: 0.60416667 | ADI11: - | ADJ11: 0.95833333 | ADK11: 0.60416667 | ADL11: - | ADM11: 0.95833333 | ADT11: 0.9375 | ADU11: - | ADV11: 0.29166667 | ADW11: 0.9375 | ADX11: - | ADY11: 0.29166667 | ADZ11: 0.9375 | AEA11: - | AEB11: 0.29166667 | AEC11: 0.9375 | AED11: - | AEE11: 0.29166667 | AFA11: 0.9375 | AFB11: - | AFC11: 0.29166667 | AFD11: 0.77083333 | AFE11: - | AFF11: 0.29166667 | AFG11: 0.77083333 | AFH11: - | AFI11: 0.29166667 | AFP11: 0.41666667 | AFQ11: - | AFR11: 0.75 | AFS11: 0.41666667 | AFT11: - | AFU11: 0.75 | AFY11: 0.27083333 | AFZ11: - | AGA11: 0.79166667 | AGB11: 0.27083333 | AGC11: - | AGD11: 0.79166667 | AGE11: REPOS | AGH11: REPOS | AGK11: REPOS | AGN11: REPOS | AGQ11: REPOS | AGZ11: 0.27083333 | AHA11: - | AHB11: 0.625 | AHC11: 0.27083333 | AHD11: - | AHE11: 0.625 | AHF11: 0.27083333 | AHG11: - | AHH11: 0.625 | AHI11: 0.27083333 | AHJ11: - | AHK11: 0.625 | AHL11: 0.27083333 | AHM11: - | AHN11: 0.625 | AHU11: 0.60416667 | AHV11: - | AHW11: 0.95833333 | AHX11: 0.60416667 | AHY11: - | AHZ11: 0.95833333 | AIA11: 0.60416667 | AIB11: - | AIC11: 0.95833333 | AID11: 0.60416667 | AIE11: - | AIF11: 0.95833333 | AIG11: 0.60416667 | AIH11: - | AII11: 0.95833333 | AIP11: 0.9375 | AIQ11: - | AIR11: 0.29166667 | AIS11: 0.9375 | AIT11: - | AIU11: 0.29166667 | AIV11: 0.9375 | AIW11: - | AIX11: 0.29166667 | AIY11: 0.9375 | AIZ11: - | AJA11: 0.29166667 | AJW11: 0.9375 | AJX11: - | AJY11: 0.29166667 | AJZ11: 0.77083333 | AKA11: - | AKB11: 0.29166667 | AKC11: 0.77083333 | AKD11: - | AKE11: 0.29166667 | AKL11: 0.41666667 | AKM11: - | AKN11: 0.75 | AKO11: 0.41666667 | AKP11: - | AKQ11: 0.75 | AKU11: 0.27083333 | AKV11: - | AKW11: 0.79166667 | AKX11: 0.27083333 | AKY11: - | AKZ11: 0.79166667 | ALA11: REPOS | ALD11: REPOS | ALG11: REPOS | ALJ11: REPOS | ALM11: REPOS | ALV11: 0.27083333 | ALW11: - | ALX11: 0.625 | ALY11: 0.27083333 | ALZ11: - | AMA11: 0.625 | AMB11: 0.27083333 | AMC11: - | AMD11: 0.625 | AME11: 0.27083333 | AMF11: - | AMG11: 0.625 | AMH11: 0.27083333 | AMI11: - | AMJ11: 0.625 | AMQ11: 0.60416667 | AMR11: - | AMS11: 0.95833333 | AMT11: 0.60416667 | AMU11: - | AMV11: 0.95833333 | AMW11: 0.60416667 | AMX11: - | AMY11: 0.95833333 | AMZ11: 0.60416667 | ANA11: - | ANB11: 0.95833333 | ANC11: 0.60416667 | AND11: - | ANE11: 0.95833333 | ANL11: 0.9375 | ANM11: - | ANN11: 0.29166667 | ANO11: 0.9375 | ANP11: - | ANQ11: 0.29166667 | ANR11: 0.9375 | ANS11: - | ANT11: 0.29166667 | ANU11: 0.9375 | ANV11: - | ANW11: 0.29166667 | AOS11: 0.9375 | AOT11: - | AOU11: 0.29166667 | AOV11: 0.77083333 | AOW11: - | AOX11: 0.29166667 | AOY11: 0.77083333 | AOZ11: - | APA11: 0.29166667 | APE11: 0.41666667 | APF11: - | APG11: 0.75 | APK11: 0.41666667 | APL11: - | APM11: 0.75 | APQ11: 0.27083333 | APR11: - | APS11: 0.79166667 | APT11: 0.27083333 | APU11: - | APV11: 0.79166667 | APW11: REPOS | APZ11: REPOS | AQC11: REPOS | AQF11: REPOS | AQI11: REPOS | AQR11: 0.27083333 | AQS11: - | AQT11: 0.625 | AQU11: 0.27083333 | AQV11: - | AQW11: 0.625 | AQX11: 0.27083333 | AQY11: - | AQZ11: 0.625 | ARA11: 0.27083333 | ARB11: - | ARC11: 0.625 | ARD11: 0.27083333 | ARE11: - | ARF11: 0.625 | ARM11: 0.60416667 | ARN11: - | ARO11: 0.95833333 | ARP11: 0.60416667 | ARQ11: - | ARR11: 0.95833333 | ARS11: 0.60416667 | ART11: - | ARU11: 0.95833333 | ARV11: 0.60416667 | ARW11: - | ARX11: 0.95833333 | ARY11: 0.60416667 | ARZ11: - | ASA11: 0.95833333
A12: JEREMIE | B12: REPOS | E12: REPOS | H12: REPOS | K12: REPOS | N12: REPOS | W12: 0.27083333 | X12: - | Y12: 0.625 | Z12: 0.27083333 | AA12: - | AB12: 0.625 | AC12: 0.27083333 | AD12: - | AE12: 0.625 | AF12: 0.27083333 | AG12: - | AH12: 0.625 | AI12: 0.27083333 | AJ12: - | AK12: 0.625 | AR12: 0.60416667 | AS12: - | AT12: 0.95833333 | AU12: 0.60416667 | AV12: - | AW12: 0.95833333 | AX12: 0.60416667 | AY12: - | AZ12: 0.95833333 | BA12: 0.60416667 | BB12: - | BC12: 0.95833333 | BD12: 0.60416667 | BE12: - | BF12: 0.95833333 | BM12: 0.9375 | BN12: - | BO12: 0.29166667 | BP12: 0.9375 | BQ12: - | BR12: 0.29166667 | BS12: 0.9375 | BT12: - | BU12: 0.29166667 | BV12: 0.9375 | BW12: - | BX12: 0.29166667 | CT12: 0.9375 | CU12: - | CV12: 0.29166667 | CW12: 0.77083333 | CX12: - | CY12: 0.29166667 | CZ12: 0.77083333 | DA12: - | DB12: 0.29166667 | DI12: Congé | DL12: Congé | DR12: 0.27083333 | DS12: - | DT12: 0.79166667 | DU12: 0.27083333 | DV12: - | DW12: 0.79166667 | DX12: REPOS | EA12: REPOS | ED12: REPOS | EG12: REPOS | EJ12: REPOS | ES12: 0.27083333 | ET12: - | EU12: 0.625 | EV12: 0.27083333 | EW12: - | EX12: 0.625 | EY12: 0.27083333 | EZ12: - | FA12: 0.625 | FB12: 0.27083333 | FC12: - | FD12: 0.625 | FE12: 0.27083333 | FF12: - | FG12: 0.625 | FN12: 0.60416667 | FO12: - | FP12: 0.95833333 | FQ12: 0.60416667 | FR12: - | FS12: 0.95833333 | FT12: 0.60416667 | FU12: - | FV12: 0.95833333 | FW12: 0.60416667 | FX12: - | FY12: 0.95833333 | FZ12: 0.9375 | GA12: - | GB12: 0.29166667 | GI12: 0.9375 | GJ12: - | GK12: 0.29166667 | GL12: 0.9375 | GM12: - | GN12: 0.29166667 | GO12: 0.9375 | GP12: - | GQ12: 0.29166667 | GR12: 0.9375 | GS12: - | GT12: 0.29166667 | HP12: 0.9375 | HQ12: - | HR12: 0.29166667 | HS12: 0.77083333 | HT12: - | HU12: 0.29166667 | HV12: 0.77083333 | HW12: - | HX12: 0.29166667 | IE12: Congé | IH12: Congé | IN12: 0.27083333 | IO12: - | IP12: 0.79166667 | IQ12: 0.27083333 | IR12: - | IS12: 0.79166667 | IT12: REPOS | IW12: REPOS | IZ12: REPOS | JC12: REPOS | JF12: REPOS | JO12: 0.27083333 | JP12: - | JQ12: 0.625 | JR12: 0.27083333 | JS12: - | JT12: 0.625 | JU12: 0.27083333 | JV12: - | JW12: 0.625 | JX12: 0.27083333 | JY12: - | JZ12: 0.625 | KA12: 0.27083333 | KB12: - | KC12: 0.625 | KJ12: 0.60416667 | KK12: - | KL12: 0.95833333 | KM12: 0.60416667 | KN12: - | KO12: 0.95833333 | KP12: 0.60416667 | KQ12: - | KR12: 0.95833333 | KS12: 0.60416667 | KT12: - | KU12: 0.95833333 | KV12: 0.60416667 | KW12: - | KX12: 0.95833333 | LE12: 0.9375 | LF12: - | LG12: 0.29166667 | LH12: 0.9375 | LI12: - | LJ12: 0.29166667 | LK12: 0.9375 | LL12: - | LM12: 0.29166667 | LN12: 0.9375 | LO12: - | LP12: 0.29166667 | ML12: 0.9375 | MM12: - | MN12: 0.29166667 | MO12: 0.77083333 | MP12: - | MQ12: 0.29166667 | MR12: 0.77083333 | MS12: - | MT12: 0.29166667 | MX12: Congé | ND12: Congé | NJ12: 0.27083333 | NK12: - | NL12: 0.79166667 | NM12: 0.27083333 | NN12: - | NO12: 0.79166667 | NP12: REPOS | NS12: REPOS | NV12: REPOS | NY12: REPOS | OB12: REPOS | OK12: 0.27083333 | OL12: - | OM12: 0.625 | ON12: 0.27083333 | OO12: - | OP12: 0.625 | OQ12: 0.27083333 | OR12: - | OS12: 0.625 | OT12: 0.27083333 | OU12: - | OV12: 0.625 | OW12: 0.27083333 | OX12: - | OY12: 0.625 | PF12: 0.60416667 | PG12: - | PH12: 0.95833333 | PI12: 0.60416667 | PJ12: - | PK12: 0.95833333 | PL12: 0.60416667 | PM12: - | PN12: 0.95833333 | PO12: 0.60416667 | PP12: - | PQ12: 0.95833333 | PR12: 0.60416667 | PS12: - | PT12: 0.95833333 | QA12: 0.9375 | QB12: - | QC12: 0.29166667 | QD12: 0.9375 | QE12: - | QF12: 0.29166667 | QG12: 0.9375 | QH12: - | QI12: 0.29166667 | QJ12: 0.9375 | QK12: - | QL12: 0.29166667 | RH12: 0.9375 | RI12: - | RJ12: 0.29166667 | RK12: 0.77083333 | RL12: - | RM12: 0.29166667 | RN12: 0.77083333 | RO12: - | RP12: 0.29166667 | RW12: 0.41666667 | RX12: - | RY12: 0.75 | RZ12: 0.41666667 | SA12: - | SB12: 0.75 | SF12: 0.27083333 | SG12: - | SH12: 0.79166667 | SI12: 0.27083333 | SJ12: - | SK12: 0.79166667 | SL12: REPOS | SO12: REPOS | SR12: REPOS | SU12: REPOS | SX12: REPOS | TG12: 0.27083333 | TH12: - | TI12: 0.625 | TJ12: 0.27083333 | TK12: - | TL12: 0.625 | TM12: 0.27083333 | TN12: - | TO12: 0.625 | TP12: 0.27083333 | TQ12: - | TR12: 0.625 | TS12: 0.27083333 | TT12: - | TU12: 0.625 | UB12: 0.60416667 | UC12: - | UD12: 0.95833333 | UE12: 0.60416667 | UF12: - | UG12: 0.95833333 | UH12: 0.60416667 | UI12: - | UJ12: 0.95833333 | UK12: 0.60416667 | UL12: - | UM12: 0.95833333 | UN12: 0.60416667 | UO12: - | UP12: 0.95833333 | UW12: 0.9375 | UX12: - | UY12: 0.29166667 | UZ12: 0.9375 | VA12: - | VB12: 0.29166667 | VC12: 0.9375 | VD12: - | VE12: 0.29166667 | VF12: 0.9375 | VG12: - | VH12: 0.29166667 | WD12: 0.9375 | WE12: - | WF12: 0.29166667 | WG12: 0.77083333 | WH12: - | WI12: 0.29166667 | WJ12: 0.77083333 | WK12: - | WL12: 0.29166667 | WS12: 0.41666667 | WT12: - | WU12: 0.75 | WV12: 0.41666667 | WW12: - | WX12: 0.75 | XB12: 0.27083333 | XC12: - | XD12: 0.79166667 | XE12: 0.27083333 | XF12: - | XG12: 0.79166667 | XH12: REPOS | XK12: REPOS | XN12: REPOS | XQ12: REPOS | XT12: REPOS | YC12: 0.27083333 | YD12: - | YE12: 0.625 | YF12: 0.27083333 | YG12: - | YH12: 0.625 | YI12: 0.27083333 | YJ12: - | YK12: 0.625 | YL12: 0.27083333 | YM12: - | YN12: 0.625 | YO12: 0.27083333 | YP12: - | YQ12: 0.625 | YX12: 0.60416667 | YY12: - | YZ12: 0.95833333 | ZA12: 0.60416667 | ZB12: - | ZC12: 0.95833333 | ZD12: 0.60416667 | ZE12: - | ZF12: 0.95833333 | ZG12: 0.60416667 | ZH12: - | ZI12: 0.95833333 | ZJ12: 0.60416667 | ZK12: - | ZL12: 0.95833333 | ZS12: 0.9375 | ZT12: - | ZU12: 0.29166667 | ZV12: 0.9375 | ZW12: - | ZX12: 0.29166667 | ZY12: 0.9375 | ZZ12: - | AAA12: 0.29166667 | AAB12: 0.9375 | AAC12: - | AAD12: 0.29166667 | AAZ12: 0.9375 | ABA12: - | ABB12: 0.29166667 | ABC12: 0.77083333 | ABD12: - | ABE12: 0.29166667 | ABF12: 0.77083333 | ABG12: - | ABH12: 0.29166667 | ABO12: 0.41666667 | ABP12: - | ABQ12: 0.75 | ABR12: 0.41666667 | ABS12: - | ABT12: 0.75 | ABX12: 0.27083333 | ABY12: - | ABZ12: 0.79166667 | ACA12: 0.27083333 | ACB12: - | ACC12: 0.79166667 | ACD12: REPOS | ACG12: REPOS | ACJ12: REPOS | ACM12: REPOS | ACP12: REPOS | ACY12: 0.27083333 | ACZ12: - | ADA12: 0.625 | ADB12: 0.27083333 | ADC12: - | ADD12: 0.625 | ADE12: 0.27083333 | ADF12: - | ADG12: 0.625 | ADH12: 0.27083333 | ADI12: - | ADJ12: 0.625 | ADK12: 0.27083333 | ADL12: - | ADM12: 0.625 | ADT12: 0.60416667 | ADU12: - | ADV12: 0.95833333 | ADW12: 0.60416667 | ADX12: - | ADY12: 0.95833333 | ADZ12: 0.60416667 | AEA12: - | AEB12: 0.95833333 | AEC12: 0.60416667 | AED12: - | AEE12: 0.95833333 | AEF12: 0.60416667 | AEG12: - | AEH12: 0.95833333 | AEO12: 0.9375 | AEP12: - | AEQ12: 0.29166667 | AER12: 0.9375 | AES12: - | AET12: 0.29166667 | AEU12: 0.9375 | AEV12: - | AEW12: 0.29166667 | AEX12: 0.9375 | AEY12: - | AEZ12: 0.29166667 | AFV12: 0.9375 | AFW12: - | AFX12: 0.29166667 | AFY12: 0.77083333 | AFZ12: - | AGA12: 0.29166667 | AGB12: 0.77083333 | AGC12: - | AGD12: 0.29166667 | AGK12: 0.41666667 | AGL12: - | AGM12: 0.75 | AGN12: 0.41666667 | AGO12: - | AGP12: 0.75 | AGT12: 0.27083333 | AGU12: - | AGV12: 0.79166667 | AGW12: 0.27083333 | AGX12: - | AGY12: 0.79166667 | AGZ12: REPOS | AHC12: REPOS | AHF12: REPOS | AHI12: REPOS | AHL12: REPOS | AHU12: 0.27083333 | AHV12: - | AHW12: 0.625 | AHX12: 0.27083333 | AHY12: - | AHZ12: 0.625 | AIA12: 0.27083333 | AIB12: - | AIC12: 0.625 | AID12: 0.27083333 | AIE12: - | AIF12: 0.625 | AIG12: 0.27083333 | AIH12: - | AII12: 0.625 | AIP12: 0.60416667 | AIQ12: - | AIR12: 0.95833333 | AIS12: 0.60416667 | AIT12: - | AIU12: 0.95833333 | AIV12: 0.60416667 | AIW12: - | AIX12: 0.95833333 | AIY12: 0.60416667 | AIZ12: - | AJA12: 0.95833333 | AJB12: 0.60416667 | AJC12: - | AJD12: 0.95833333 | AJK12: 0.9375 | AJL12: - | AJM12: 0.29166667 | AJN12: 0.9375 | AJO12: - | AJP12: 0.29166667 | AJQ12: 0.9375 | AJR12: - | AJS12: 0.29166667 | AJT12: 0.9375 | AJU12: - | AJV12: 0.29166667 | AKR12: 0.9375 | AKS12: - | AKT12: 0.29166667 | AKU12: 0.77083333 | AKV12: - | AKW12: 0.29166667 | AKX12: 0.77083333 | AKY12: - | AKZ12: 0.29166667 | ALG12: 0.41666667 | ALH12: - | ALI12: 0.75 | ALJ12: 0.41666667 | ALK12: - | ALL12: 0.75 | ALP12: 0.27083333 | ALQ12: - | ALR12: 0.79166667 | ALS12: 0.27083333 | ALT12: - | ALU12: 0.79166667 | ALV12: REPOS | ALY12: REPOS | AMB12: REPOS | AME12: REPOS | AMH12: REPOS | AMQ12: 0.27083333 | AMR12: - | AMS12: 0.625 | AMT12: 0.27083333 | AMU12: - | AMV12: 0.625 | AMW12: 0.27083333 | AMX12: - | AMY12: 0.625 | AMZ12: 0.27083333 | ANA12: - | ANB12: 0.625 | ANC12: 0.27083333 | AND12: - | ANE12: 0.625 | ANL12: 0.60416667 | ANM12: - | ANN12: 0.95833333 | ANO12: 0.60416667 | ANP12: - | ANQ12: 0.95833333 | ANR12: 0.60416667 | ANS12: - | ANT12: 0.95833333 | ANU12: 0.60416667 | ANV12: - | ANW12: 0.95833333 | ANX12: 0.60416667 | ANY12: - | ANZ12: 0.95833333 | AOG12: 0.9375 | AOH12: - | AOI12: 0.29166667 | AOJ12: 0.9375 | AOK12: - | AOL12: 0.29166667 | AOM12: 0.9375 | AON12: - | AOO12: 0.29166667 | AOP12: 0.9375 | AOQ12: - | AOR12: 0.29166667 | APN12: 0.9375 | APO12: - | APP12: 0.29166667 | APQ12: 0.77083333 | APR12: - | APS12: 0.29166667 | APT12: 0.77083333 | APU12: - | APV12: 0.29166667 | APZ12: 0.41666667 | AQA12: - | AQB12: 0.75 | AQF12: 0.41666667 | AQG12: - | AQH12: 0.75 | AQL12: 0.27083333 | AQM12: - | AQN12: 0.79166667 | AQO12: 0.27083333 | AQP12: - | AQQ12: 0.79166667 | AQR12: REPOS | AQU12: REPOS | AQX12: REPOS | ARA12: REPOS | ARD12: REPOS | ARM12: 0.27083333 | ARN12: - | ARO12: 0.625 | ARP12: 0.27083333 | ARQ12: - | ARR12: 0.625 | ARS12: 0.27083333 | ART12: - | ARU12: 0.625 | ARV12: 0.27083333 | ARW12: - | ARX12: 0.625 | ARY12: 0.27083333 | ARZ12: - | ASA12: 0.625
A13: JORDAN | B13: Congé | E13: Férié | H13: X | K13: X | N13: X | W13: X | Z13: X | AC13: X | AF13: X | AI13: X | AR13: X | AU13: X | AX13: X | BA13: X | BD13: X | BM13: X | BP13: X | BS13: X | BV13: X | BY13: X | CH13: X | CK13: X | CN13: X | CQ13: X | CT13: X | DC13: X | DF13: X | DI13: X | DL13: X | DO13: X | DX13: X | EA13: X | ED13: X | EG13: X | EJ13: X | ES13: X | EV13: X | EY13: X | FB13: X | FE13: X | FN13: X | FQ13: X | FT13: X | FW13: X | FZ13: X | GC13: 0.77083333 | GD13: - | GE13: 0.29166667 | GF13: 0.77083333 | GG13: - | GH13: 0.29166667 | GL13: X | GO13: X | GR13: X | GU13: X | HD13: X | HG13: X | HJ13: X | HM13: X | HP13: X | HY13: X | IB13: X | IE13: X | IH13: X | IK13: X | IT13: Congé | IW13: Congé | IZ13: Congé | JC13: Congé | JF13: Congé | JO13: Congé | JR13: Congé | JU13: Congé | JX13: Congé | KA13: Congé | KJ13: Congé | KM13: X | KP13: X | KS13: X | KV13: X | LE13: X | LH13: X | LK13: X | LN13: X | LQ13: X | LZ13: Férié | MC13: X | MF13: X | MI13: X | ML13: X | MU13: X | MX13: X | NA13: Férié | ND13: X | NG13: X | NP13: X | NS13: X | NV13: Férié | NY13: X | OB13: X | OK13: X | ON13: X | OQ13: X | OT13: X | OW13: X | PF13: X | PI13: X | PL13: X | PO13: X | PR13: X | QA13: X | QD13: X | QG13: X | QJ13: Férié | QM13: X | QV13: X | QY13: X | RB13: X | RE13: X | RH13: X | RQ13: Férié | RT13: X | RW13: X | RZ13: X | SC13: X | SL13: X | SO13: X | SR13: X | SU13: X | SX13: X | TG13: X | TJ13: X | TM13: X | TP13: X | TS13: X | UB13: X | UE13: X | UH13: X | UK13: X | UN13: X | UW13: X | UZ13: X | VC13: X | VF13: X | VI13: X | VR13: X | VU13: X | VX13: X | WA13: X | WD13: X | WM13: X | WP13: X | WS13: X | WV13: X | WY13: X | XH13: X | XK13: X | XN13: X | XQ13: X | XT13: X | YC13: X | YF13: X | YI13: X | YL13: X | YO13: X | YX13: X | ZA13: X | ZD13: X | ZG13: Férié | ZJ13: X | ZS13: X | ZV13: X | ZY13: X | AAB13: X | AAE13: X | AAN13: X | AAQ13: X | AAT13: X | AAW13: X | AAZ13: X | ABI13: X | ABL13: X | ABO13: X | ABR13: X | ABU13: X | ACD13: X | ACG13: X | ACJ13: X | ACM13: X | ACP13: X | ACY13: X | ADB13: X | ADE13: X | ADH13: X | ADK13: X | ADT13: X | ADW13: X | ADZ13: X | AEC13: X | AEF13: X | AEO13: X | AER13: X | AEU13: X | AEX13: X | AFA13: X | AFJ13: X | AFM13: X | AFP13: X | AFS13: X | AFV13: X | AGE13: X | AGH13: X | AGK13: X | AGN13: X | AGQ13: X | AGZ13: X | AHC13: X | AHF13: X | AHI13: X | AHL13: X | AHU13: X | AHX13: X | AIA13: X | AID13: X | AIG13: Férié | AIP13: X | AIS13: X | AIV13: X | AIY13: X | AJB13: X | AJK13: Férié | AJN13: X | AJQ13: X | AJT13: X | AJW13: X | AKF13: X | AKI13: X | AKL13: X | AKO13: X | AKR13: X | ALA13: X | ALD13: X | ALG13: X | ALJ13: X | ALM13: X | ALV13: X | ALY13: X | AMB13: X | AME13: X | AMH13: X | AMQ13: X | AMT13: X | AMW13: X | AMZ13: X | ANC13: X | ANL13: X | ANO13: X | ANR13: X | ANU13: X | ANX13: X | AOG13: X | AOJ13: X | AOM13: Férié | AOP13: X | AOS13: X | APB13: X | APE13: X | APH13: Férié | APK13: X | APN13: X | APW13: X | APZ13: X | AQC13: X | AQF13: X | AQI13: X | AQR13: X | AQU13: X | AQX13: X | ARA13: X | ARD13: X | ARM13: X | ARP13: X | ARS13: X | ARV13: X | ARY13: X
E14: Férié | LZ14: Férié | NA14: Férié | NV14: Férié | QJ14: Férié | RQ14: Férié | VO14: Férié | ZG14: Férié | AIG14: Férié | AJK14: Férié | AOM14: Férié | APH14: Férié
A15: Nb de vacs OK ? | B15: =IF(C90=6,"OK","NOK") -> OK | E15: =IF(F90=6,"OK","NOK") -> OK | H15: =IF(I90=6,"OK","NOK") -> OK | K15: =IF(L90=6,"OK","NOK") -> OK | N15: =IF(O90=6,"OK","NOK") -> OK | Q15: =IF(R90=4,"OK","NOK") -> OK | T15: =IF(U90=4,"OK","NOK") -> OK | W15: =IF(X90=6,"OK","NOK") -> OK | Z15: =IF(AA90=6,"OK","NOK") -> OK | AC15: =IF(AD90=6,"OK","NOK") -> OK | AF15: =IF(AG90=6,"OK","NOK") -> OK | AI15: =IF(AJ90=6,"OK","NOK") -> OK | AL15: =IF(AM90=4,"OK","NOK") -> OK | AO15: =IF(AP90=4,"OK","NOK") -> OK | AR15: =IF(AS90=6,"OK","NOK") -> OK | AU15: =IF(AV90=6,"OK","NOK") -> OK | AX15: =IF(AY90=6,"OK","NOK") -> OK | BA15: =IF(BB90=6,"OK","NOK") -> OK | BD15: =IF(BE90=6,"OK","NOK") -> OK | BG15: =IF(BH90=4,"OK","NOK") -> OK | BJ15: =IF(BK90=4,"OK","NOK") -> OK | BM15: =IF(BN90=6,"OK","NOK") -> OK | BP15: =IF(BQ90=6,"OK","NOK") -> OK | BS15: =IF(BT90=6,"OK","NOK") -> OK | BV15: =IF(BW90=6,"OK","NOK") -> OK | BY15: =IF(BZ90=6,"OK","NOK") -> OK | CB15: =IF(CC90=4,"OK","NOK") -> OK | CE15: =IF(CF90=4,"OK","NOK") -> OK | CH15: =IF(CI90=6,"OK","NOK") -> OK | CK15: =IF(CL90=6,"OK","NOK") -> OK | CN15: =IF(CO90=6,"OK","NOK") -> OK | CQ15: =IF(CR90=6,"OK","NOK") -> OK | CT15: =IF(CU90=6,"OK","NOK") -> OK | CW15: =IF(CX90=4,"OK","NOK") -> OK | CZ15: =IF(DA90=4,"OK","NOK") -> OK | DC15: =IF(DD90=6,"OK","NOK") -> OK | DF15: =IF(DG90=6,"OK","NOK") -> OK | DI15: =IF(DJ90=6,"OK","NOK") -> OK | DL15: =IF(DM90=6,"OK","NOK") -> OK | DO15: =IF(DP90=6,"OK","NOK") -> OK | DR15: =IF(DS90=4,"OK","NOK") -> OK | DU15: =IF(DV90=4,"OK","NOK") -> OK | DX15: =IF(DY90=6,"OK","NOK") -> OK | EA15: =IF(EB90=6,"OK","NOK") -> OK | ED15: =IF(EE90=6,"OK","NOK") -> OK | EG15: =IF(EH90=6,"OK","NOK") -> OK | EJ15: =IF(EK90=6,"OK","NOK") -> OK | EM15: =IF(EN90=4,"OK","NOK") -> OK | EP15: =IF(EQ90=4,"OK","NOK") -> OK | ES15: =IF(ET90=6,"OK","NOK") -> OK | EV15: =IF(EW90=6,"OK","NOK") -> OK | EY15: =IF(EZ90=6,"OK","NOK") -> OK | FB15: =IF(FC90=6,"OK","NOK") -> OK | FE15: =IF(FF90=6,"OK","NOK") -> OK | FH15: =IF(FI90=4,"OK","NOK") -> OK | FK15: =IF(FL90=4,"OK","NOK") -> OK | FN15: =IF(FO90=6,"OK","NOK") -> OK | FQ15: =IF(FR90=6,"OK","NOK") -> OK | FT15: =IF(FU90=6,"OK","NOK") -> OK | FW15: =IF(FX90=6,"OK","NOK") -> OK | FZ15: =IF(GA90=6,"OK","NOK") -> OK | GC15: =IF(GD90=4,"OK","NOK") -> OK | GF15: =IF(GG90=4,"OK","NOK") -> OK | GI15: =IF(GJ90=6,"OK","NOK") -> OK | GL15: =IF(GM90=6,"OK","NOK") -> OK | GO15: =IF(GP90=6,"OK","NOK") -> OK | GR15: =IF(GS90=6,"OK","NOK") -> OK | GU15: =IF(GV90=6,"OK","NOK") -> OK | GX15: =IF(GY90=4,"OK","NOK") -> OK | HA15: =IF(HB90=4,"OK","NOK") -> OK | HD15: =IF(HE90=6,"OK","NOK") -> NOK | HG15: =IF(HH90=6,"OK","NOK") -> NOK | HJ15: =IF(HK90=6,"OK","NOK") -> NOK | HM15: =IF(HN90=6,"OK","NOK") -> NOK | HP15: =IF(HQ90=6,"OK","NOK") -> OK | HS15: =IF(HT90=4,"OK","NOK") -> OK | HV15: =IF(HW90=4,"OK","NOK") -> OK | HY15: =IF(HZ90=6,"OK","NOK") -> OK | IB15: =IF(IC90=6,"OK","NOK") -> OK | IE15: =IF(IF90=6,"OK","NOK") -> OK | IH15: =IF(II90=6,"OK","NOK") -> OK | IK15: =IF(IL90=6,"OK","NOK") -> OK | IN15: =IF(IO90=4,"OK","NOK") -> OK | IQ15: =IF(IR90=4,"OK","NOK") -> OK | IT15: =IF(IU90=6,"OK","NOK") -> OK | IW15: =IF(IX90=6,"OK","NOK") -> OK | IZ15: =IF(JA90=6,"OK","NOK") -> OK | JC15: =IF(JD90=6,"OK","NOK") -> OK | JF15: =IF(JG90=6,"OK","NOK") -> OK | JI15: =IF(JJ90=4,"OK","NOK") -> OK | JL15: =IF(JM90=4,"OK","NOK") -> OK | JO15: =IF(JP90=6,"OK","NOK") -> OK | JR15: =IF(JS90=6,"OK","NOK") -> OK | JU15: =IF(JV90=6,"OK","NOK") -> OK | JX15: =IF(JY90=6,"OK","NOK") -> OK | KA15: =IF(KB90=6,"OK","NOK") -> OK | KD15: =IF(KE90=4,"OK","NOK") -> OK | KG15: =IF(KH90=4,"OK","NOK") -> OK | KJ15: =IF(KK90=6,"OK","NOK") -> OK | KM15: =IF(KN90=6,"OK","NOK") -> OK | KP15: =IF(KQ90=6,"OK","NOK") -> OK | KS15: =IF(KT90=6,"OK","NOK") -> OK | KV15: =IF(KW90=6,"OK","NOK") -> OK | KY15: =IF(KZ90=4,"OK","NOK") -> OK | LB15: =IF(LC90=4,"OK","NOK") -> OK | LE15: =IF(LF90=6,"OK","NOK") -> OK | LH15: =IF(LI90=6,"OK","NOK") -> OK | LK15: =IF(LL90=6,"OK","NOK") -> OK | LN15: =IF(LO90=6,"OK","NOK") -> OK | LQ15: =IF(LR90=6,"OK","NOK") -> OK | LT15: =IF(LU90=4,"OK","NOK") -> OK | LW15: =IF(LX90=4,"OK","NOK") -> OK | LZ15: =IF(MA90=6,"OK","NOK") -> OK | MC15: =IF(MD90=6,"OK","NOK") -> OK | MF15: =IF(MG90=6,"OK","NOK") -> OK | MI15: =IF(MJ90=6,"OK","NOK") -> OK | ML15: =IF(MM90=6,"OK","NOK") -> OK | MO15: =IF(MP90=4,"OK","NOK") -> OK | MR15: =IF(MS90=4,"OK","NOK") -> OK | MU15: =IF(MV90=6,"OK","NOK") -> OK | MX15: =IF(MY90=6,"OK","NOK") -> OK | NA15: =IF(NB90=6,"OK","NOK") -> OK | ND15: =IF(NE90=6,"OK","NOK") -> OK | NG15: =IF(NH90=6,"OK","NOK") -> OK | NJ15: =IF(NK90=4,"OK","NOK") -> OK | NM15: =IF(NN90=4,"OK","NOK") -> OK | NP15: =IF(NQ90=6,"OK","NOK") -> OK | NS15: =IF(NT90=6,"OK","NOK") -> OK | NV15: =IF(NW90=6,"OK","NOK") -> OK | NY15: =IF(NZ90=6,"OK","NOK") -> OK | OB15: =IF(OC90=6,"OK","NOK") -> OK | OE15: =IF(OF90=4,"OK","NOK") -> OK | OH15: =IF(OI90=4,"OK","NOK") -> OK | OK15: =IF(OL90=6,"OK","NOK") -> OK | ON15: =IF(OO90=6,"OK","NOK") -> OK | OQ15: =IF(OR90=6,"OK","NOK") -> OK | OT15: =IF(OU90=6,"OK","NOK") -> OK | OW15: =IF(OX90=6,"OK","NOK") -> OK | OZ15: =IF(PA90=4,"OK","NOK") -> OK | PC15: =IF(PD90=4,"OK","NOK") -> OK | PF15: =IF(PG90=6,"OK","NOK") -> OK | PI15: =IF(PJ90=6,"OK","NOK") -> OK | PL15: =IF(PM90=6,"OK","NOK") -> OK | PO15: =IF(PP90=6,"OK","NOK") -> OK | PR15: =IF(PS90=6,"OK","NOK") -> OK | PU15: =IF(PV90=4,"OK","NOK") -> OK | PX15: =IF(PY90=4,"OK","NOK") -> OK | QA15: =IF(QB90=6,"OK","NOK") -> OK | QD15: =IF(QE90=6,"OK","NOK") -> OK | QG15: =IF(QH90=6,"OK","NOK") -> OK | QJ15: =IF(QK90=6,"OK","NOK") -> OK | QM15: =IF(QN90=6,"OK","NOK") -> OK | QP15: =IF(QQ90=4,"OK","NOK") -> OK | QS15: =IF(QT90=4,"OK","NOK") -> OK | QV15: =IF(QW90=6,"OK","NOK") -> OK | QY15: =IF(QZ90=6,"OK","NOK") -> OK | RB15: =IF(RC90=6,"OK","NOK") -> OK | RE15: =IF(RF90=6,"OK","NOK") -> OK | RH15: =IF(RI90=6,"OK","NOK") -> OK | RK15: =IF(RL90=4,"OK","NOK") -> OK | RN15: =IF(RO90=4,"OK","NOK") -> OK | RQ15: =IF(RR90=6,"OK","NOK") -> OK | RT15: =IF(RU90=6,"OK","NOK") -> OK | RW15: =IF(RX90=6,"OK","NOK") -> OK | RZ15: =IF(SA90=6,"OK","NOK") -> OK | SC15: =IF(SD90=6,"OK","NOK") -> OK | SF15: =IF(SG90=4,"OK","NOK") -> OK | SI15: =IF(SJ90=4,"OK","NOK") -> OK | SL15: =IF(SM90=6,"OK","NOK") -> OK | SO15: =IF(SP90=6,"OK","NOK") -> OK | SR15: =IF(SS90=6,"OK","NOK") -> OK | SU15: =IF(SV90=6,"OK","NOK") -> OK | SX15: =IF(SY90=6,"OK","NOK") -> OK | TA15: =IF(TB90=4,"OK","NOK") -> OK | TD15: =IF(TE90=4,"OK","NOK") -> OK | TG15: =IF(TH90=6,"OK","NOK") -> OK | TJ15: =IF(TK90=6,"OK","NOK") -> OK | TM15: =IF(TN90=6,"OK","NOK") -> OK | TP15: =IF(TQ90=6,"OK","NOK") -> OK | TS15: =IF(TT90=6,"OK","NOK") -> OK | TV15: =IF(TW90=4,"OK","NOK") -> OK | TY15: =IF(TZ90=4,"OK","NOK") -> OK | UB15: =IF(UC90=6,"OK","NOK") -> OK | UE15: =IF(UF90=6,"OK","NOK") -> OK | UH15: =IF(UI90=6,"OK","NOK") -> OK | UK15: =IF(UL90=6,"OK","NOK") -> OK | UN15: =IF(UO90=6,"OK","NOK") -> NOK | UQ15: =IF(UR90=4,"OK","NOK") -> OK | UT15: =IF(UU90=4,"OK","NOK") -> OK | UW15: =IF(UX90=6,"OK","NOK") -> OK | UZ15: =IF(VA90=6,"OK","NOK") -> OK | VC15: =IF(VD90=6,"OK","NOK") -> OK | VF15: =IF(VG90=6,"OK","NOK") -> OK | VI15: =IF(VJ90=6,"OK","NOK") -> OK | VL15: =IF(VM90=4,"OK","NOK") -> OK | VO15: =IF(VP90=4,"OK","NOK") -> OK | VR15: =IF(VS90=6,"OK","NOK") -> NOK | VU15: =IF(VV90=6,"OK","NOK") -> NOK | VX15: =IF(VY90=6,"OK","NOK") -> NOK | WA15: =IF(WB90=6,"OK","NOK") -> NOK | WD15: =IF(WE90=6,"OK","NOK") -> OK | WG15: =IF(WH90=4,"OK","NOK") -> OK | WJ15: =IF(WK90=4,"OK","NOK") -> OK | WM15: =IF(WN90=6,"OK","NOK") -> OK | WP15: =IF(WQ90=6,"OK","NOK") -> OK | WS15: =IF(WT90=6,"OK","NOK") -> OK | WV15: =IF(WW90=6,"OK","NOK") -> OK | WY15: =IF(WZ90=6,"OK","NOK") -> OK | XB15: =IF(XC90=4,"OK","NOK") -> OK | XE15: =IF(XF90=4,"OK","NOK") -> OK | XH15: =IF(XI90=6,"OK","NOK") -> OK | XK15: =IF(XL90=6,"OK","NOK") -> OK | XN15: =IF(XO90=6,"OK","NOK") -> OK | XQ15: =IF(XR90=6,"OK","NOK") -> OK | XT15: =IF(XU90=6,"OK","NOK") -> OK | XW15: =IF(XX90=4,"OK","NOK") -> OK | XZ15: =IF(YA90=4,"OK","NOK") -> OK | YC15: =IF(YD90=6,"OK","NOK") -> OK | YF15: =IF(YG90=6,"OK","NOK") -> OK | YI15: =IF(YJ90=6,"OK","NOK") -> OK | YL15: =IF(YM90=6,"OK","NOK") -> OK | YO15: =IF(YP90=6,"OK","NOK") -> OK | YR15: =IF(YS90=4,"OK","NOK") -> OK | YU15: =IF(YV90=4,"OK","NOK") -> OK | YX15: =IF(YY90=6,"OK","NOK") -> OK | ZA15: =IF(ZB90=6,"OK","NOK") -> OK | ZD15: =IF(ZE90=6,"OK","NOK") -> OK | ZG15: =IF(ZH90=6,"OK","NOK") -> OK | ZJ15: =IF(ZK90=6,"OK","NOK") -> OK | ZM15: =IF(ZN90=4,"OK","NOK") -> OK | ZP15: =IF(ZQ90=4,"OK","NOK") -> OK | ZS15: =IF(ZT90=6,"OK","NOK") -> OK | ZV15: =IF(ZW90=6,"OK","NOK") -> OK | ZY15: =IF(ZZ90=6,"OK","NOK") -> OK | AAB15: =IF(AAC90=6,"OK","NOK") -> OK | AAE15: =IF(AAF90=6,"OK","NOK") -> OK | AAH15: =IF(AAI90=4,"OK","NOK") -> OK | AAK15: =IF(AAL90=4,"OK","NOK") -> OK | AAN15: =IF(AAO90=6,"OK","NOK") -> OK | AAQ15: =IF(AAR90=6,"OK","NOK") -> OK | AAT15: =IF(AAU90=6,"OK","NOK") -> OK | AAW15: =IF(AAX90=6,"OK","NOK") -> OK | AAZ15: =IF(ABA90=6,"OK","NOK") -> OK | ABC15: =IF(ABD90=4,"OK","NOK") -> OK | ABF15: =IF(ABG90=4,"OK","NOK") -> OK | ABI15: =IF(ABJ90=6,"OK","NOK") -> OK | ABL15: =IF(ABM90=6,"OK","NOK") -> OK | ABO15: =IF(ABP90=6,"OK","NOK") -> OK | ABR15: =IF(ABS90=6,"OK","NOK") -> OK | ABU15: =IF(ABV90=6,"OK","NOK") -> OK | ABX15: =IF(ABY90=4,"OK","NOK") -> OK | ACA15: =IF(ACB90=4,"OK","NOK") -> OK | ACD15: =IF(ACE90=6,"OK","NOK") -> OK | ACG15: =IF(ACH90=6,"OK","NOK") -> OK | ACJ15: =IF(ACK90=6,"OK","NOK") -> OK | ACM15: =IF(ACN90=6,"OK","NOK") -> OK | ACP15: =IF(ACQ90=6,"OK","NOK") -> OK | ACS15: =IF(ACT90=4,"OK","NOK") -> OK | ACV15: =IF(ACW90=4,"OK","NOK") -> OK | ACY15: =IF(ACZ90=6,"OK","NOK") -> OK | ADB15: =IF(ADC90=6,"OK","NOK") -> OK | ADE15: =IF(ADF90=6,"OK","NOK") -> OK | ADH15: =IF(ADI90=6,"OK","NOK") -> OK | ADK15: =IF(ADL90=6,"OK","NOK") -> OK | ADN15: =IF(ADO90=4,"OK","NOK") -> OK | ADQ15: =IF(ADR90=4,"OK","NOK") -> OK | ADT15: =IF(ADU90=6,"OK","NOK") -> OK | ADW15: =IF(ADX90=6,"OK","NOK") -> OK | ADZ15: =IF(AEA90=6,"OK","NOK") -> OK | AEC15: =IF(AED90=6,"OK","NOK") -> OK | AEF15: =IF(AEG90=6,"OK","NOK") -> OK | AEI15: =IF(AEJ90=4,"OK","NOK") -> OK | AEL15: =IF(AEM90=4,"OK","NOK") -> OK | AEO15: =IF(AEP90=6,"OK","NOK") -> OK | AER15: =IF(AES90=6,"OK","NOK") -> OK | AEU15: =IF(AEV90=6,"OK","NOK") -> OK | AEX15: =IF(AEY90=6,"OK","NOK") -> OK | AFA15: =IF(AFB90=6,"OK","NOK") -> OK | AFD15: =IF(AFE90=4,"OK","NOK") -> OK | AFG15: =IF(AFH90=4,"OK","NOK") -> OK | AFJ15: =IF(AFK90=6,"OK","NOK") -> OK | AFM15: =IF(AFN90=6,"OK","NOK") -> OK | AFP15: =IF(AFQ90=6,"OK","NOK") -> OK | AFS15: =IF(AFT90=6,"OK","NOK") -> OK | AFV15: =IF(AFW90=6,"OK","NOK") -> OK | AFY15: =IF(AFZ90=4,"OK","NOK") -> OK | AGB15: =IF(AGC90=4,"OK","NOK") -> OK | AGE15: =IF(AGF90=6,"OK","NOK") -> OK | AGH15: =IF(AGI90=6,"OK","NOK") -> OK | AGK15: =IF(AGL90=6,"OK","NOK") -> OK | AGN15: =IF(AGO90=6,"OK","NOK") -> OK | AGQ15: =IF(AGR90=6,"OK","NOK") -> OK | AGT15: =IF(AGU90=4,"OK","NOK") -> OK | AGW15: =IF(AGX90=4,"OK","NOK") -> OK | AGZ15: =IF(AHA90=6,"OK","NOK") -> OK | AHC15: =IF(AHD90=6,"OK","NOK") -> OK | AHF15: =IF(AHG90=6,"OK","NOK") -> OK | AHI15: =IF(AHJ90=6,"OK","NOK") -> OK | AHL15: =IF(AHM90=6,"OK","NOK") -> OK | AHO15: =IF(AHP90=4,"OK","NOK") -> OK | AHR15: =IF(AHS90=4,"OK","NOK") -> OK | AHU15: =IF(AHV90=6,"OK","NOK") -> OK | AHX15: =IF(AHY90=6,"OK","NOK") -> OK | AIA15: =IF(AIB90=6,"OK","NOK") -> OK | AID15: =IF(AIE90=6,"OK","NOK") -> OK | AIG15: =IF(AIH90=6,"OK","NOK") -> OK | AIJ15: =IF(AIK90=4,"OK","NOK") -> OK | AIM15: =IF(AIN90=4,"OK","NOK") -> OK | AIP15: =IF(AIQ90=6,"OK","NOK") -> OK | AIS15: =IF(AIT90=6,"OK","NOK") -> OK | AIV15: =IF(AIW90=6,"OK","NOK") -> OK | AIY15: =IF(AIZ90=6,"OK","NOK") -> OK | AJB15: =IF(AJC90=6,"OK","NOK") -> OK | AJE15: =IF(AJF90=4,"OK","NOK") -> OK | AJH15: =IF(AJI90=4,"OK","NOK") -> OK | AJK15: =IF(AJL90=6,"OK","NOK") -> OK | AJN15: =IF(AJO90=6,"OK","NOK") -> OK | AJQ15: =IF(AJR90=6,"OK","NOK") -> OK | AJT15: =IF(AJU90=6,"OK","NOK") -> OK | AJW15: =IF(AJX90=6,"OK","NOK") -> OK | AJZ15: =IF(AKA90=4,"OK","NOK") -> OK | AKC15: =IF(AKD90=4,"OK","NOK") -> OK | AKF15: =IF(AKG90=6,"OK","NOK") -> OK | AKI15: =IF(AKJ90=6,"OK","NOK") -> OK | AKL15: =IF(AKM90=6,"OK","NOK") -> OK | AKO15: =IF(AKP90=6,"OK","NOK") -> OK | AKR15: =IF(AKS90=6,"OK","NOK") -> OK | AKU15: =IF(AKV90=4,"OK","NOK") -> OK | AKX15: =IF(AKY90=4,"OK","NOK") -> OK | ALA15: =IF(ALB90=6,"OK","NOK") -> OK | ALD15: =IF(ALE90=6,"OK","NOK") -> OK | ALG15: =IF(ALH90=6,"OK","NOK") -> OK | ALJ15: =IF(ALK90=6,"OK","NOK") -> OK | ALM15: =IF(ALN90=6,"OK","NOK") -> OK | ALP15: =IF(ALQ90=4,"OK","NOK") -> OK | ALS15: =IF(ALT90=4,"OK","NOK") -> OK | ALV15: =IF(ALW90=6,"OK","NOK") -> OK | ALY15: =IF(ALZ90=6,"OK","NOK") -> OK | AMB15: =IF(AMC90=6,"OK","NOK") -> OK | AME15: =IF(AMF90=6,"OK","NOK") -> OK | AMH15: =IF(AMI90=6,"OK","NOK") -> OK | AMK15: =IF(AML90=4,"OK","NOK") -> OK | AMN15: =IF(AMO90=4,"OK","NOK") -> OK | AMQ15: =IF(AMR90=6,"OK","NOK") -> OK | AMT15: =IF(AMU90=6,"OK","NOK") -> OK | AMW15: =IF(AMX90=6,"OK","NOK") -> OK | AMZ15: =IF(ANA90=6,"OK","NOK") -> OK | ANC15: =IF(AND90=6,"OK","NOK") -> OK | ANF15: =IF(ANG90=4,"OK","NOK") -> OK | ANI15: =IF(ANJ90=4,"OK","NOK") -> OK | ANL15: =IF(ANM90=6,"OK","NOK") -> OK | ANO15: =IF(ANP90=6,"OK","NOK") -> OK | ANR15: =IF(ANS90=6,"OK","NOK") -> OK | ANU15: =IF(ANV90=6,"OK","NOK") -> OK | ANX15: =IF(ANY90=6,"OK","NOK") -> OK | AOA15: =IF(AOB90=4,"OK","NOK") -> OK | AOD15: =IF(AOE90=4,"OK","NOK") -> OK | AOG15: =IF(AOH90=6,"OK","NOK") -> OK | AOJ15: =IF(AOK90=6,"OK","NOK") -> OK | AOM15: =IF(AON90=6,"OK","NOK") -> OK | AOP15: =IF(AOQ90=6,"OK","NOK") -> OK | AOS15: =IF(AOT90=6,"OK","NOK") -> OK | AOV15: =IF(AOW90=4,"OK","NOK") -> OK | AOY15: =IF(AOZ90=4,"OK","NOK") -> OK | APB15: =IF(APC90=6,"OK","NOK") -> OK | APE15: =IF(APF90=6,"OK","NOK") -> OK | APH15: =IF(API90=6,"OK","NOK") -> OK | APK15: =IF(APL90=6,"OK","NOK") -> OK | APN15: =IF(APO90=6,"OK","NOK") -> OK | APQ15: =IF(APR90=4,"OK","NOK") -> OK | APT15: =IF(APU90=4,"OK","NOK") -> OK | APW15: =IF(APX90=6,"OK","NOK") -> OK | APZ15: =IF(AQA90=6,"OK","NOK") -> OK | AQC15: =IF(AQD90=6,"OK","NOK") -> OK | AQF15: =IF(AQG90=6,"OK","NOK") -> OK | AQI15: =IF(AQJ90=6,"OK","NOK") -> OK | AQL15: =IF(AQM90=4,"OK","NOK") -> OK | AQO15: =IF(AQP90=4,"OK","NOK") -> OK | AQR15: =IF(AQS90=6,"OK","NOK") -> OK | AQU15: =IF(AQV90=6,"OK","NOK") -> OK | AQX15: =IF(AQY90=6,"OK","NOK") -> OK | ARA15: =IF(ARB90=6,"OK","NOK") -> OK | ARD15: =IF(ARE90=6,"OK","NOK") -> OK | ARG15: =IF(ARH90=4,"OK","NOK") -> OK | ARJ15: =IF(ARK90=4,"OK","NOK") -> OK | ARM15: =IF(ARN90=6,"OK","NOK") -> OK | ARP15: =IF(ARQ90=6,"OK","NOK") -> OK | ARS15: =IF(ART90=6,"OK","NOK") -> OK | ARV15: =IF(ARW90=6,"OK","NOK") -> OK | ARY15: =IF(ARZ90=6,"OK","NOK") -> OK | ASB15: =IF(ASC90=4,"OK","NOK") -> OK | ASE15: =IF(ASF90=4,"OK","NOK") -> OK
