Workbook

Sheet 54 67 68 70 88 90 
A1: raison_sociale | B1: siren | C1: adresse_postale_code_postal | D1: tel
A2: AJB FORMATION | B2: 529072738 | C2: 67100 | D2: =IFERROR(VLOOKUP(A2,Feuil1!$A$2:$B$33,2),"Pas de correspondance") -> 03 88 65 77 14 , 07 77 93 94 38
A3: CAMMAE | B3: 799298674 | C3: 70100 | D3: =IFERROR(VLOOKUP(A3,Feuil1!$A$2:$B$33,2),"Pas de correspondance") -> 03 88 65 77 14 , 07 77 93 94 38
A4: ACADEMY FORM & MOI | B4: 828634758 | C4: 68110 | D4: =IFERROR(VLOOKUP(A4,Feuil1!$A$2:$B$33,2),"Pas de correspondance") -> Pas de correspondance
A5: ACB SARL FORMATION | B5: 488114810 | C5: 68170 | D5: =IFERROR(VLOOKUP(A5,Feuil1!$A$2:$B$33,2),"Pas de correspondance") -> Pas de correspondance
A6: AETCI NORD EST | B6: 809200702 | C6: 68350 | D6: =IFERROR(VLOOKUP(A6,Feuil1!$A$2:$B$33,2),"Pas de correspondance") -> Pas de correspondance
A7: AJ SOLUTIONS | B7: 452339898 | C7: 68127 | D7: =IFERROR(VLOOKUP(A7,Feuil1!$A$2:$B$33,2),"Pas de correspondance") -> Pas de correspondance
A8: AKULOG INDUSTRIES | B8: 521364125 | C8: 68800 | D8: =IFERROR(VLOOKUP(A8,Feuil1!$A$2:$B$33,2),"Pas de correspondance") -> 03 88 65 77 14 , 07 77 93 94 38
A9: ALSAGO | B9: 824225668 | C9: 68440 | D9: =IFERROR(VLOOKUP(A9,Feuil1!$A$2:$B$33,2),"Pas de correspondance") -> 03 88 65 77 14 , 07 77 93 94 38
A10: APPUIFORMATION | B10: 822674552 | C10: 68200 | D10: =IFERROR(VLOOKUP(A10,Feuil1!$A$2:$B$33,2),"Pas de correspondance") -> 03 88 65 77 14 , 07 77 93 94 38
A11: ASSOCIATION DEPARTEMENTALE DE PROTECTION CIVILE DU HAUT-RHIN | B11: 350394987 | C11: 68870 | D11: =IFERROR(VLOOKUP(A11,Feuil1!$A$2:$B$33,2),"Pas de correspondance") -> 03 88 65 77 14 , 07 77 93 94 38
A12: ASSOCIATION G7 | B12: 378754907 | C12: 68100 | D12: =IFERROR(VLOOKUP(A12,Feuil1!$A$2:$B$33,2),"Pas de correspondance") -> 03 88 65 77 14 , 07 77 93 94 38
A13: ASSOCIATION LA CLEF | B13: 402263966 | C13: 68870 | D13: =IFERROR(VLOOKUP(A13,Feuil1!$A$2:$B$33,2),"Pas de correspondance") -> 03 88 65 77 14 , 07 77 93 94 38
... A15: ASSOCIATION OF ENGLISH DISCOVERY | B15: 822164901 | C15: 68440 | D15: =IFERROR(VLOOKUP(A15,Feuil1!$A$2:$B$33,2),"Pas de correspondance") -> 03 88 65 77 14 , 07 77 93 94 38
A16: ASSOCIATION POUR LA FETE DE L'EAU A WATTWILLER | B16: 421769647 | C16: 68700
A17: ASSOCIATION REAGIR | B17: 335231817 | C17: 68110
A18: Association R√©gionale pour l'Am√©lioration des Conditions de Travail - ARACT GRAND EST | B18: 824821789 | C18: 68000
A19: ATRISC | B19: 519288757 | C19: 68920
A20: AUTO ECOLE AVENIR | B20: 388135477 | C20: 68200
A21: AUTO ECOLE BARBERIO-FLIEG | B21: 434275186 | C21: 68500
A22: AUTO ECOLE SANDRA | B22: 509227724 | C22: 68470
A23: AUTO ECOLE VEGA | B23: 834503484 | C23: 68170
A24: AUTO MOTO BATEAU ECOLE VAUBAN | B24: 377995287 | C24: 68600
A25: BEATRICE FOUCAULT | B25: 510900392 | C25: 68000
A26: BE CONSEIL - BRUNO ESTEVE | B26: 527583785 | C26: 68127
A27: BELIMED SAS | B27: 434446514 | C27: 68390
... A194: ALSACE QUALITE | B194: 387507148 | C194: 67300
A195: ALSA COACHING ET CONSEIL GRAZIELLA TORNICELLI | B195: 452465909 | C195: 67205 OBERHAUSBERGEN
A196: ALSAFORMATIONSECURITE | B196: 529434995 | C196: 67230
A197: ANAKA CONSULTING | B197: 825021090 | C197: 67000
A198: ANIMAL'HOM | B198: 804785632 | C198: 67170
A199: ANNE MARIE DIOUF | B199: 752274068 | C199: 67000
A200: ANNICET MOUNTARO ANNICET M CONSULTANT | B200: 478690100 | C200: 67150
A201: ANTOINE GEORGES SADOWSKI | B201: 538461880 | C201: 67000
A202: A.P.M.S.A. Grand Est | B202: 501055941 | C202: 67200
A203: APOSTROPHE FLE Aline RAPP EIRL | B203: 788493237 | C203: 67200
A204: APPLIGOS | B204: 378440044 | C204: 67100
A205: APPYTECH INFORMATIQUE | B205: 842653396 | C205: 67118
A206: A PROPOS SAS | B206: 410692446 | C206: 67400
A207: AREAL | B207: 383068772 | C207: 67460
...

Sheet Feuil1
A1: Nom | B1: Numéro | C1: Numéro | D1: Code postale | E1: Type
A2: AJB FORMATION | B2: 03 88 65 77 14 , 07 77 93 94 38 | C2: 03 88 65 77 14 , 07 77 93 94 38 | D2: 67100STRASBOURG | E2: formation continue , ,Prestations : ,Formation CACES, sécurité au travail, developpement personnel, Chariots automoteurs √† conducteur porté R 389, Plates formes élévatrices mobiles de personnel (nacelles) R 386, Grue auxiliaire de chargement R 390, Engins de chantier R 372M, Conduite des ponts roulants, portiques et semi-portique √† commande, Sauveteur Secouriste du travail (S.S.T), Sécurité Incendie, manipulation d'extincteurs, Formation des membres du CHSCT, Habilitations électriques, Evaluation des risques professionnels, HACCP, formation de cariste, formation en sécurité, formation en sécurité incendie, formation caces | F2: [] | G2: https:https://www.pagesjaunes.fr/media/cviv/53277102-5ba1f7f799489026ef0c89950be4a8c9?w=140&h=140&crop=true | I2: [] | J2: https://www.pagesjaunes.fr/pros/detail?bloc_id=FCP53277102700002C0001&no_sequence=1&code_rubrique=64101300 | L2: https://www.pagesjaunes.fr/annuaire/region/alsace/formation?quoiqui=formation&ou=Alsace&univers=pagesjaunes&idOu=R42&ouSaisi=alsace&ouNbCar=6&quiQuoiNbCar=&acOuSollicitee=1&rangOu=2&sourceOu=TOP&typeOu=Region&nbPropositionOuTop=5&nbPropositionOuHisto=0&acQuiQuoiSollicitee=1&rangQuiQuoi=1&sourceQuiQuoi=HISTORIQUE&typeQuiQuoi=1&idQuiQuoi=7557d667d1b009608ae6f65adb67d363&nbPropositionQuiQuoiTop=0&nbPropositionQuiQuoiHisto=1&nbPropositionQuiQuoiGeo=0&page=1 | M2: https://www.ajbformation.com | N2: 2020-01-29T10:23:15.501702 | O2: pages-jaunes-search
A3: CENTRE DE FORMATION D'APPRENTIS DE L'ARTISANAT (CFAA) | B3: 03 89 33 18 90 , 03 89 42 16 43 , 03 89 33 22 98 | C3: 03 89 33 18 90 , 03 89 42 16 43 , 03 89 33 22 98 | D3: 68200MULHOUSE | E3: apprentissage , ,Prestations : ,Centre de formation d'apprentis (C.F.A.), Formation en apprentissage, Formation en alternance, Contrat de professionnalisation, Formation pour adultes | F3: [] | G3: https:https://www.pagesjaunes.fr/media/vignette/AAABBEQENOI0-C10003.gif?w=140&h=140&crop=true | I3: [] | J3: https://www.pagesjaunes.fr/pros/00270726 | L3: https://www.pagesjaunes.fr/annuaire/region/alsace/formation?quoiqui=formation&ou=Alsace&univers=pagesjaunes&idOu=R42&ouSaisi=alsace&ouNbCar=6&quiQuoiNbCar=&acOuSollicitee=1&rangOu=2&sourceOu=TOP&typeOu=Region&nbPropositionOuTop=5&nbPropositionOuHisto=0&acQuiQuoiSollicitee=1&rangQuiQuoi=1&sourceQuiQuoi=HISTORIQUE&typeQuiQuoi=1&idQuiQuoi=7557d667d1b009608ae6f65adb67d363&nbPropositionQuiQuoiTop=0&nbPropositionQuiQuoiHisto=1&nbPropositionQuiQuoiGeo=0&page=1 | M3: http://www.cfaa-mulhouse.fr | N3: 2020-01-29T10:23:15.571349 | O3: pages-jaunes-search
A4: IREPA | B4: 03 88 49 99 49 , 03 88 49 99 48 , 03 88 49 99 20 | C4: 03 88 49 99 49 , 03 88 49 99 48 , 03 88 49 99 20 | D4: CS 50203 | E4: 67212OBERNAI CEDEX | F4: formation professionnelle , ,Prestations : ,Enseignement public général, Enseignement public professionnel, Contrat d'apprentissage, Formation pour adultes, Formation dipl√¥mante, Production : agricole, viticole ou horticole, Paysage : espaces verts, Eau : gestion de l'eau, Cheval : équitation, centre équestre, Biodynamie : agriculture biodynamique | G4: [] | I4: Lycée Agricole | J4: 03 88 49 99 49 , 03 88 49 99 48 , 03 88 49 99 20 | M4: https://www.pagesjaunes.fr/annuaire/region/alsace/formation?quoiqui=formation&ou=Alsace&univers=pagesjaunes&idOu=R42&ouSaisi=alsace&ouNbCar=6&quiQuoiNbCar=&acOuSollicitee=1&rangOu=2&sourceOu=TOP&typeOu=Region&nbPropositionOuTop=5&nbPropositionOuHisto=0&acQuiQuoiSollicitee=1&rangQuiQuoi=1&sourceQuiQuoi=HISTORIQUE&typeQuiQuoi=1&idQuiQuoi=7557d667d1b009608ae6f65adb67d363&nbPropositionQuiQuoiTop=0&nbPropositionQuiQuoiHisto=1&nbPropositionQuiQuoiGeo=0&page=1 | N4: http://epl67.fr/ | O4: 2020-01-29T10:23:15.588610 | P4: pages-jaunes-search
A5: CCI CAMPUS | B5: 03 68 67 20 00 | C5: 03 68 67 20 00 | D5: 67021STRASBOURG CEDEX 1 | E5: formation professionnelle , ,Prestations : ,Formation continue, certifiante, courte, en alternance, Validation des Acquis de l'Expérience (VAE), individualisation des parcours, Ecole de managers, informatique, de gestion, de commerce, centre de formation en alternance, Apprentissage, centre de formation pour adulte, formation en alternance, formation en bureautique, formation en assurances, formation continue en comptabilité, formation continue en management, organisme de formation pour adulte, organisme de formation continue, formation professionnelle continue, organisme de formation professionnelle, formation en langue étrangère, formation en pao, formation qualifiante, formation en développement web, formation de web designer, formation en communication, formation en hygiène alimentaire, formation par correspondance, formation en ligne, bilan de compétence, maison familiale rurale, formation continue en marketing | F5: [] | G5: https:https://www.pagesjaunes.fr/media/vignette/AAASPDPM1ETB-C10003.gif?w=140&h=140&crop=true | I5: [] | J5: https://www.pagesjaunes.fr/pros/00525589 | L5: https://www.pagesjaunes.fr/annuaire/region/alsace/formation?quoiqui=formation&ou=Alsace&univers=pagesjaunes&idOu=R42&ouSaisi=alsace&ouNbCar=6&quiQuoiNbCar=&acOuSollicitee=1&rangOu=2&sourceOu=TOP&typeOu=Region&nbPropositionOuTop=5&nbPropositionOuHisto=0&acQuiQuoiSollicitee=1&rangQuiQuoi=1&sourceQuiQuoi=HISTORIQUE&typeQuiQuoi=1&idQuiQuoi=7557d667d1b009608ae6f65adb67d363&nbPropositionQuiQuoiTop=0&nbPropositionQuiQuoiHisto=1&nbPropositionQuiQuoiGeo=0&page=1 | M5: http://www.ccicampus.fr | N5: 2020-01-29T10:23:15.606081 | O5: pages-jaunes-search
A6: GO FORMATIONS | B6: 03 88 48 88 48 , 03 88 04 59 67 | C6: 03 88 48 88 48 , 03 88 04 59 67 | D6: 67210OBERNAI | E6: formation continue, formation professionnelle , ,Prestations : ,Certificat d'aptitude √† la conduite en sécurité (CACES), Sécurité au travail, Formation Sauveteur Secouriste du travail (SST), Formation continue, Formation professionnelle, Formation √† l'utilisation de ponts roulants, Formation transport, FIMO, permis poids lourds, FCO, Formation échafaudage, Devis gratuits | F6: [] | G6: https:https://www.pagesjaunes.fr/media/vignette/AAAKBERUUEK2-C10006.gif?w=140&h=140&crop=true | I6: [] | J6: https://www.pagesjaunes.fr/pros/54270243 | L6: https://www.pagesjaunes.fr/annuaire/region/alsace/formation?quoiqui=formation&ou=Alsace&univers=pagesjaunes&idOu=R42&ouSaisi=alsace&ouNbCar=6&quiQuoiNbCar=&acOuSollicitee=1&rangOu=2&sourceOu=TOP&typeOu=Region&nbPropositionOuTop=5&nbPropositionOuHisto=0&acQuiQuoiSollicitee=1&rangQuiQuoi=1&sourceQuiQuoi=HISTORIQUE&typeQuiQuoi=1&idQuiQuoi=7557d667d1b009608ae6f65adb67d363&nbPropositionQuiQuoiTop=0&nbPropositionQuiQuoiHisto=1&nbPropositionQuiQuoiGeo=0&page=1 | M6: [] | N6: 2020-01-29T10:23:15.623390 | O6: pages-jaunes-search
A7: I.R.F.A EST | B7: 03 89 43 99 50 , 03 89 43 99 51 , 03 67 35 17 41 | C7: 03 89 43 99 50 , 03 89 43 99 51 , 03 67 35 17 41 | D7: 68200MULHOUSE | E7: formation professionnelle , ,Prestations : ,Formation continue, formation en alternance, Formation pour adultes, Formation pour les demandeurs d'emploi, Formation dans l'aide √† la personne, Formation pour les infirmières libérales, Formation pour les structures d'insertion, Formation √† la retraite, BTS Négociation Digitalisation et Relation Clients, BTS Management des Unités Commerciales, BTS Manager des Unités Marchandes, Titre pro employé commercial en magasin, Titre pro vendeur conseil en magasin, Titre pro propreté, Contrat de Professionnalisation de Propreté, formation professionnelle continue, DEAES, BTS en alternance, compte personnel de formation | F7: [] | G7: https:https://www.pagesjaunes.fr/media/vignette/AAAFCFIX0G1D-C10002.gif?w=140&h=140&crop=true | I7: [] | J7: https://www.pagesjaunes.fr/pros/01872192 | L7: https://www.pagesjaunes.fr/annuaire/region/alsace/formation?quoiqui=formation&ou=Alsace&univers=pagesjaunes&idOu=R42&ouSaisi=alsace&ouNbCar=6&quiQuoiNbCar=&acOuSollicitee=1&rangOu=2&sourceOu=TOP&typeOu=Region&nbPropositionOuTop=5&nbPropositionOuHisto=0&acQuiQuoiSollicitee=1&rangQuiQuoi=1&sourceQuiQuoi=HISTORIQUE&typeQuiQuoi=1&idQuiQuoi=7557d667d1b009608ae6f65adb67d363&nbPropositionQuiQuoiTop=0&nbPropositionQuiQuoiHisto=1&nbPropositionQuiQuoiGeo=0&page=1 | M7: http://www.irfa-est.fr | N7: 2020-01-29T10:23:15.641500 | O7: pages-jaunes-search
A8: L'EDIAC FORMATIONS | B8: 03 88 14 42 90 | C8: 03 88 14 42 90 | D8: 67100STRASBOURG | E8: formation continue, formation professionnelle, enseignement : social, paramédical, apprentissage, cours par correspondance, enseignement √† distance , ,Prestations : ,formation en alternance, formation en petite enfance, formation pour adulte, centre de formation continue, formation sanitaire et sociale, centre de formation en alternance | F8: [] | G8: https:https://www.pagesjaunes.fr/media/cviv/07765226-d6ed518bd7d93d6394e77139c619912c?w=140&h=140&crop=true | I8: [] | J8: https://www.pagesjaunes.fr/pros/detail?bloc_id=FCP07765226700002C0001&no_sequence=1&code_rubrique=64101300 | L8: https://www.pagesjaunes.fr/annuaire/region/alsace/formation?quoiqui=formation&ou=Alsace&univers=pagesjaunes&idOu=R42&ouSaisi=alsace&ouNbCar=6&quiQuoiNbCar=&acOuSollicitee=1&rangOu=2&sourceOu=TOP&typeOu=Region&nbPropositionOuTop=5&nbPropositionOuHisto=0&acQuiQuoiSollicitee=1&rangQuiQuoi=1&sourceQuiQuoi=HISTORIQUE&typeQuiQuoi=1&idQuiQuoi=7557d667d1b009608ae6f65adb67d363&nbPropositionQuiQuoiTop=0&nbPropositionQuiQuoiHisto=1&nbPropositionQuiQuoiGeo=0&page=1 | M8: http://www.facebook.com/DIACONESSES | N8: 2020-01-29T10:23:15.659219 | O8: pages-jaunes-search
A9: ESEIS | B9: 03 88 18 61 31 , 03 88 18 61 30 | C9: 03 88 18 61 31 , 03 88 18 61 30 | D9: 67300SCHILTIGHEIM | E9: formation continue , ,Prestations : ,Formation au travail éducatif et social, Formation sanitaire, sociale et médico-sociale, Formation dipl√¥mante, Préparation aux concours, Apprentissage, VAE, Bilans de compétences, Stages de formation, formation pour adulte, centre de formation en alternance, formation en alternance, formation d'auxiliaire de vie, organisme de formation professionnelle, formation pour adulte handicapé, formation aide √† domicile | F9: [] | G9: https:https://www.pagesjaunes.fr/media/vignette/AAABBEPAVCOX-C10003.gif?w=140&h=140&crop=true | I9: [] | J9: https://www.pagesjaunes.fr/pros/detail?bloc_id=00705740000003C0001&no_sequence=1&code_rubrique=64101300 | L9: https://www.pagesjaunes.fr/annuaire/region/alsace/formation?quoiqui=formation&ou=Alsace&univers=pagesjaunes&idOu=R42&ouSaisi=alsace&ouNbCar=6&quiQuoiNbCar=&acOuSollicitee=1&rangOu=2&sourceOu=TOP&typeOu=Region&nbPropositionOuTop=5&nbPropositionOuHisto=0&acQuiQuoiSollicitee=1&rangQuiQuoi=1&sourceQuiQuoi=HISTORIQUE&typeQuiQuoi=1&idQuiQuoi=7557d667d1b009608ae6f65adb67d363&nbPropositionQuiQuoiTop=0&nbPropositionQuiQuoiHisto=1&nbPropositionQuiQuoiGeo=0&page=1 | M9: http://www.eseis-afris.eu | N9: 2020-01-29T10:23:15.676034 | O9: pages-jaunes-search
A10: HTTPS:HTTPS://WWW.PAGESJAUNES.FR/MEDIA/VIGNETTE/AAASPDPM1ETB-C10005.GIF?W=140&H=140&CROP=TRUE | B10: =L10 -> 03 68 67 20 00 | C10: =M10 -> https://www.pagesjaunes.fr/annuaire/region/alsace/formation?quoiqui=formation&ou=Alsace&univers=pagesjaunes&idOu=R42&ouSaisi=alsace&ouNbCar=6&quiQuoiNbCar=&acOuSollicitee=1&rangOu=2&sourceOu=TOP&typeOu=Region&nbPropositionOuTop=5&nbPropositionOuHisto=0&acQuiQuoiSollicitee=1&rangQuiQuoi=1&sourceQuiQuoi=HISTORIQUE&typeQuiQuoi=1&idQuiQuoi=7557d667d1b009608ae6f65adb67d363&nbPropositionQuiQuoiTop=0&nbPropositionQuiQuoiHisto=1&nbPropositionQuiQuoiGeo=0&page=1 | D10: CS 40007 | E10: 68001COLMAR CEDEX | F10: formation continue , ,Prestations : ,Apprentissage, formation en alternance, bilan de compétence, maison familiale rurale, formation continue en marketing, formation par correspondance, formation en hygiène alimentaire, formation en ligne, formation en communication, Validation des Acquis de l'Expérience (VAE), individualisation des parcours, école de managers, école de gestion, école de commerce , ,Réseaux : ,CCI | G10: [] | I10: CCI Campus | J10: =L10 -> 03 68 67 20 00 | L10: 03 68 67 20 00 | M10: https://www.pagesjaunes.fr/annuaire/region/alsace/formation?quoiqui=formation&ou=Alsace&univers=pagesjaunes&idOu=R42&ouSaisi=alsace&ouNbCar=6&quiQuoiNbCar=&acOuSollicitee=1&rangOu=2&sourceOu=TOP&typeOu=Region&nbPropositionOuTop=5&nbPropositionOuHisto=0&acQuiQuoiSollicitee=1&rangQuiQuoi=1&sourceQuiQuoi=HISTORIQUE&typeQuiQuoi=1&idQuiQuoi=7557d667d1b009608ae6f65adb67d363&nbPropositionQuiQuoiTop=0&nbPropositionQuiQuoiHisto=1&nbPropositionQuiQuoiGeo=0&page=1 | N10: http://www.ccicampus.fr | O10: 2020-01-29T10:23:15.693065 | P10: pages-jaunes-search
A11: COLLEGE DE PARIS | B11: 03 89 56 21 28 | C11: 03 89 56 21 28 | D11: 68390SAUSHEIM | E11: formation continue , ,Prestations : ,formation en linguistique, formation excel, formation en bureautique, centre de formation pour adulte, formation en langue étrangère, centre de formation continue, compte personnel de formation, formation pour adulte, formation continue √† distance, formation en anglais, formation fran√ßais langue étrangère, organisme de formation continue, centre de formation en anglais, formation en cours du soir, formation en espagnol, formation privée | F11: [] | G11: https:https://www.pagesjaunes.fr/media/cviv/59969271-33a2f4a0a61a1c6158df83f01293a24d?w=140&h=140&crop=true | I11: [] | J11: https://www.pagesjaunes.fr/pros/detail?bloc_id=FCP038956212859969271H001C0001&no_sequence=0&code_rubrique=64101300 | L11: https://www.pagesjaunes.fr/annuaire/region/alsace/formation?quoiqui=formation&ou=Alsace&univers=pagesjaunes&idOu=R42&ouSaisi=alsace&ouNbCar=6&quiQuoiNbCar=&acOuSollicitee=1&rangOu=2&sourceOu=TOP&typeOu=Region&nbPropositionOuTop=5&nbPropositionOuHisto=0&acQuiQuoiSollicitee=1&rangQuiQuoi=1&sourceQuiQuoi=HISTORIQUE&typeQuiQuoi=1&idQuiQuoi=7557d667d1b009608ae6f65adb67d363&nbPropositionQuiQuoiTop=0&nbPropositionQuiQuoiHisto=1&nbPropositionQuiQuoiGeo=0&page=1 | M11: [] | N11: 2020-01-29T10:23:15.717596 | O11: pages-jaunes-search
A12: ADELE DE GLAUBITZ FORMATION | B12: 03 88 21 10 40 | C12: 03 88 21 10 40 | D12: 67100STRASBOURG | E12: formation continue | F12: [] | G12: https:https://www.pagesjaunes.fr/media/vignette/AAAYADQZBKEK-C10003.gif?w=140&h=140&crop=true | I12: [] | J12: https://www.pagesjaunes.fr/pros/08085313 | L12: https://www.pagesjaunes.fr/annuaire/region/alsace/formation?quoiqui=formation&ou=Alsace&univers=pagesjaunes&idOu=R42&ouSaisi=alsace&ouNbCar=6&quiQuoiNbCar=&acOuSollicitee=1&rangOu=2&sourceOu=TOP&typeOu=Region&nbPropositionOuTop=5&nbPropositionOuHisto=0&acQuiQuoiSollicitee=1&rangQuiQuoi=1&sourceQuiQuoi=HISTORIQUE&typeQuiQuoi=1&idQuiQuoi=7557d667d1b009608ae6f65adb67d363&nbPropositionQuiQuoiTop=0&nbPropositionQuiQuoiHisto=1&nbPropositionQuiQuoiGeo=0&page=1 | M12: http://www.glaubitz.fr/formation | N12: 2020-01-29T10:23:15.734815 | O12: pages-jaunes-search
A13: FESIP PROFORMASEC | B13: 03 88 05 55 90 | C13: 03 88 05 55 90 | D13: 67240GRIES | E13: formation sécurité incendie , ,Prestations : ,gestes et postures, formations sécurité incendie, Equipier de Seconde Intervention, Travail en hauteur, Premiers Secours, mise en sécurité, Evacuation, Document unique, Equipier de Première Intervention, Sauveteur Secouriste du Travail, Port des EPI, SST, Equipement de Protection Individuelle, SSIAP, manipulation des extincteurs, PRAP, ARI, Formations sécurité environnement, formations sécurité du travail, Habilitation électrique , ,Marques : ,Proformasec, Esitek | F13: [] | G13: https:https://www.pagesjaunes.fr/media/vignette/AAA2BESYMVYS-C20003.gif?w=140&h=140&crop=true | I13: [] | J13: https://www.pagesjaunes.fr/pros/51425370 | L13: https://www.pagesjaunes.fr/annuaire/region/alsace/formation?quoiqui=formation&ou=Alsace&univers=pagesjaunes&idOu=R42&ouSaisi=alsace&ouNbCar=6&quiQuoiNbCar=&acOuSollicitee=1&rangOu=2&sourceOu=TOP&typeOu=Region&nbPropositionOuTop=5&nbPropositionOuHisto=0&acQuiQuoiSollicitee=1&rangQuiQuoi=1&sourceQuiQuoi=HISTORIQUE&typeQuiQuoi=1&idQuiQuoi=7557d667d1b009608ae6f65adb67d363&nbPropositionQuiQuoiTop=0&nbPropositionQuiQuoiHisto=1&nbPropositionQuiQuoiGeo=0&page=1 | M13: http://www.fesip.fr | N13: 2020-01-29T10:23:15.751436 | O13: pages-jaunes-search
A14: CECI FORMATION | B14: 03 67 10 37 14 | C14: 03 67 10 37 14 | D14: 67000STRASBOURG | E14: formation continue , ,Prestations : ,Formation informatique + Certification, Formation bureautique + Certification, Formation ressources humaines, Formation commercial Marketing, Formation Langues + Certification + centre TOEIC+ Centre TFI + Centre Widaf, Formation Droit, Formation Sécurité, Médico-social (gestion du stress enjeux et conséquences, gérer les tensions...), Traductions et interprétation de conférence, EBP paie & gestion commerciale + centre agréé, Ciel & Sage, cours de fran√ßais, cours de langue pour enfant, cours d'arabe, cours d'espagnol, cours d'allemand, cours de russe, cours de chinois, centre de formation pour adulte, formation en anglais, formation en bureautique, formation en communication, formation continue dipl√¥mante, formation excel, cours de langue pour entreprise, cours d'anglais individuel, cours d'anglais pour senior, cours d'anglais √† distance, cours d'anglais par téléphone, formation continue en finance, formation prise de parole, formation cohésion d'équipe, formation coaching, formation fran√ßais langue étrangère, compte personnel de formation, cours d'anglais, formation continue en rh, formation en ressources humaines, formation en naturopathe, cours d'anglais toeic , ,Réseaux : ,Adhara | F14: [] | G14: https:https://www.pagesjaunes.fr/media/vignette/AAARRFQZTLUI-C10001.gif?w=140&h=140&crop=true | I14: [] | J14: https://www.pagesjaunes.fr/pros/detail?bloc_id=55685263000001C0001&no_sequence=1&code_rubrique=64101300 | L14: https://www.pagesjaunes.fr/annuaire/region/alsace/formation?quoiqui=formation&ou=Alsace&univers=pagesjaunes&idOu=R42&ouSaisi=alsace&ouNbCar=6&quiQuoiNbCar=&acOuSollicitee=1&rangOu=2&sourceOu=TOP&typeOu=Region&nbPropositionOuTop=5&nbPropositionOuHisto=0&acQuiQuoiSollicitee=1&rangQuiQuoi=1&sourceQuiQuoi=HISTORIQUE&typeQuiQuoi=1&idQuiQuoi=7557d667d1b009608ae6f65adb67d363&nbPropositionQuiQuoiTop=0&nbPropositionQuiQuoiHisto=1&nbPropositionQuiQuoiGeo=0&page=1 | M14: http://www.ceci-formation.com/ | N14: 2020-01-29T10:23:15.768016 | O14: pages-jaunes-search
A15: CFA ARASSM | B15: 03 88 18 25 61 | C15: 03 88 18 25 61 | D15: 67300SCHILTIGHEIM | E15: apprentissage , ,Prestations : ,Apprentissage, Centre de formation, Formation en apprentissage, Formation dans le secteur médico-social, Formation dans le secteur sanitaire, Formation dans le secteur social | F15: [] | G15: https:https://www.pagesjaunes.fr/media/vignette/AAANQEFXUCC0-C10001.gif?w=140&h=140&crop=true | I15: [] | J15: https://www.pagesjaunes.fr/pros/54671800 | L15: https://www.pagesjaunes.fr/annuaire/region/alsace/formation?quoiqui=formation&ou=Alsace&univers=pagesjaunes&idOu=R42&ouSaisi=alsace&ouNbCar=6&quiQuoiNbCar=&acOuSollicitee=1&rangOu=2&sourceOu=TOP&typeOu=Region&nbPropositionOuTop=5&nbPropositionOuHisto=0&acQuiQuoiSollicitee=1&rangQuiQuoi=1&sourceQuiQuoi=HISTORIQUE&typeQuiQuoi=1&idQuiQuoi=7557d667d1b009608ae6f65adb67d363&nbPropositionQuiQuoiTop=0&nbPropositionQuiQuoiHisto=1&nbPropositionQuiQuoiGeo=0&page=1 | M15: http://www.arassm.fr | N15: 2020-01-29T10:23:15.785102 | O15: pages-jaunes-search
A16: LYCEE PRIVE SCHATTENMANN | B16: 03 88 70 70 64 | C16: 03 88 70 70 64 | D16: 67330BOUXWILLER | E16: enseignement : social, paramédical , ,Prestations : ,Possibilité d'obtenir une bourse, Accueils de services volontaires européens, Langues parlées : anglais et allemand, Mobilités √† l'étranger, Centre de formation professionnelle continue, Internat pour gar√ßons et filles, Organisation de séjours, Section d'accueil pour élèves DYS en classe de 4ème, Lycée 4.0, Section européenne en BAC Pro , ,Réseaux : ,UNREP | F16: [] | G16: https:https://www.pagesjaunes.fr/media/vignette/AAATBE3CIGSM-C10002.gif?w=140&h=140&crop=true | I16: [] | J16: https://www.pagesjaunes.fr/pros/06209462 | L16: https://www.pagesjaunes.fr/annuaire/region/alsace/formation?quoiqui=formation&ou=Alsace&univers=pagesjaunes&idOu=R42&ouSaisi=alsace&ouNbCar=6&quiQuoiNbCar=&acOuSollicitee=1&rangOu=2&sourceOu=TOP&typeOu=Region&nbPropositionOuTop=5&nbPropositionOuHisto=0&acQuiQuoiSollicitee=1&rangQuiQuoi=1&sourceQuiQuoi=HISTORIQUE&typeQuiQuoi=1&idQuiQuoi=7557d667d1b009608ae6f65adb67d363&nbPropositionQuiQuoiTop=0&nbPropositionQuiQuoiHisto=1&nbPropositionQuiQuoiGeo=0&page=1 | M16: http://www.lycee-schattenmann.org | N16: 2020-01-29T10:23:15.801742 | O16: pages-jaunes-search
A17: HTTPS:HTTPS://WWW.PAGESJAUNES.FR/MEDIA/VIGNETTE/AAASPDPM1ETB-C10005.GIF?W=140&H=140&CROP=TRUE | B17: =L17 -> 03 68 67 20 00 | C17: =M17 -> https://www.pagesjaunes.fr/annuaire/region/alsace/formation?quoiqui=formation&ou=Alsace&univers=pagesjaunes&idOu=R42&ouSaisi=alsace&ouNbCar=6&quiQuoiNbCar=&acOuSollicitee=1&rangOu=2&sourceOu=TOP&typeOu=Region&nbPropositionOuTop=5&nbPropositionOuHisto=0&acQuiQuoiSollicitee=1&rangQuiQuoi=1&sourceQuiQuoi=HISTORIQUE&typeQuiQuoi=1&idQuiQuoi=7557d667d1b009608ae6f65adb67d363&nbPropositionQuiQuoiTop=0&nbPropositionQuiQuoiHisto=1&nbPropositionQuiQuoiGeo=0&page=1 | D17: CS 42333 | E17: 68069MULHOUSE CEDEX 2 | F17: formation continue , ,Prestations : ,Apprentissage, formation en alternance, bilan de compétence, maison familiale rurale, formation continue en marketing, formation par correspondance, formation en hygiène alimentaire, formation en ligne, formation en communication, Validation des Acquis de l'Expérience (VAE), individualisation des parcours, école de managers, école de gestion, école de commerce , ,Réseaux : ,CCI | G17: [] | I17: CCI Campus | J17: =L17 -> 03 68 67 20 00 | L17: 03 68 67 20 00 | M17: https://www.pagesjaunes.fr/annuaire/region/alsace/formation?quoiqui=formation&ou=Alsace&univers=pagesjaunes&idOu=R42&ouSaisi=alsace&ouNbCar=6&quiQuoiNbCar=&acOuSollicitee=1&rangOu=2&sourceOu=TOP&typeOu=Region&nbPropositionOuTop=5&nbPropositionOuHisto=0&acQuiQuoiSollicitee=1&rangQuiQuoi=1&sourceQuiQuoi=HISTORIQUE&typeQuiQuoi=1&idQuiQuoi=7557d667d1b009608ae6f65adb67d363&nbPropositionQuiQuoiTop=0&nbPropositionQuiQuoiHisto=1&nbPropositionQuiQuoiGeo=0&page=1 | N17: http://www.alsace-eurometropole.cci.fr | O17: 2020-01-29T10:23:15.818271 | P17: pages-jaunes-search
A18: CCI CAMPUS | B18: 03 68 67 20 00 | C18: 03 68 67 20 00 | D18: 67021STRASBOURG CEDEX 1 | E18: formation continue , ,Prestations : ,Apprentissage, formation en alternance, bilan de compétence, maison familiale rurale, formation continue en marketing, formation par correspondance, formation en hygiène alimentaire, formation en ligne, formation en communication, Validation des Acquis de l'Expérience (VAE), individualisation des parcours, école de managers, école de gestion, école de commerce , ,Réseaux : ,CCI | F18: [] | G18: https:https://www.pagesjaunes.fr/media/vignette/AAASPDPM1ETB-C10005.gif?w=140&h=140&crop=true | I18: [] | J18: https://www.pagesjaunes.fr/pros/detail?bloc_id=0368672000569450610003C0001&no_sequence=0&code_rubrique=64101300 | L18: https://www.pagesjaunes.fr/annuaire/region/alsace/formation?quoiqui=formation&ou=Alsace&univers=pagesjaunes&idOu=R42&ouSaisi=alsace&ouNbCar=6&quiQuoiNbCar=&acOuSollicitee=1&rangOu=2&sourceOu=TOP&typeOu=Region&nbPropositionOuTop=5&nbPropositionOuHisto=0&acQuiQuoiSollicitee=1&rangQuiQuoi=1&sourceQuiQuoi=HISTORIQUE&typeQuiQuoi=1&idQuiQuoi=7557d667d1b009608ae6f65adb67d363&nbPropositionQuiQuoiTop=0&nbPropositionQuiQuoiHisto=1&nbPropositionQuiQuoiGeo=0&page=1 | M18: http://www.ccicampus.fr | N18: 2020-01-29T10:23:15.834781 | O18: pages-jaunes-search
A19: INSTITUTION SAINTE JEANNE D'ARC | B19: 03 89 45 36 31 | C19: 03 89 45 36 31 | D19: 68100MULHOUSE | E19: enseignement : commerce, gestion, informatique , ,Prestations : ,Ecole maternelle privée, Ecole primaire privée, Langues vivantes 1 et 2 : anglais et allemand, Langues vivantes 3 : espagnol et chinois, Enseignement supérieur privé, Gestion de la relation commerciale, Economie générale, Collège privé, Classe CHAM, école de commerce post-bac, école de commerce internationale, BTS commerce international, BTS négociation et relation client, école de gestion, DUT de technique de commercialisation, BTS secrétariat, BTS assistant de gestion pme pmi, école de marketing, BTS gestion, école de commerce, école de management, BTS action commerciale, BTS management des unités commerciales, BTS assistant manager | F19: [] | G19: https:https://www.pagesjaunes.fr/media/cviv/05744838-e5e34d6f669affbf07b83805cffaf8fc?w=140&h=140&crop=true | I19: 2 | J19: https://www.pagesjaunes.fr/pros/detail?bloc_id=FCP05744838700004C0001&no_sequence=1&code_rubrique=64050900 | L19: https://www.pagesjaunes.fr/annuaire/region/alsace/formation?quoiqui=formation&ou=Alsace&univers=pagesjaunes&idOu=R42&ouSaisi=alsace&ouNbCar=6&quiQuoiNbCar=&acOuSollicitee=1&rangOu=2&sourceOu=TOP&typeOu=Region&nbPropositionOuTop=5&nbPropositionOuHisto=0&acQuiQuoiSollicitee=1&rangQuiQuoi=1&sourceQuiQuoi=HISTORIQUE&typeQuiQuoi=1&idQuiQuoi=7557d667d1b009608ae6f65adb67d363&nbPropositionQuiQuoiTop=0&nbPropositionQuiQuoiHisto=1&nbPropositionQuiQuoiGeo=0&page=1 | M19: http://www.ejda.fr | N19: 2020-01-29T10:23:15.851287 | O19: pages-jaunes-search
A20: METAMORPHOSES | B20: 03 88 23 56 40 | C20: 03 88 23 56 40 | D20: 67000STRASBOURG | E20: enseignement : coiffure, esthétique , ,Prestations : ,Stages, Maquillage professionnel, Effets spéciaux de maquillage, Enseignement : coiffure esthétique, formation en maquillage permanent, école de maquillage, cours de maquillage, formation en maquillage, CAP maquillage, CAP cosmétique, CAP esthétique maquillage | F20: [] | G20: https:https://www.pagesjaunes.fr/media/cviv/09244468-8ca04335c45719c0b4a24297c59eac2f?w=140&h=140&crop=true | I20: [] | J20: https://www.pagesjaunes.fr/pros/detail?bloc_id=FCP09244468700001C0001&no_sequence=1&code_rubrique=64050800 | L20: https://www.pagesjaunes.fr/annuaire/region/alsace/formation?quoiqui=formation&ou=Alsace&univers=pagesjaunes&idOu=R42&ouSaisi=alsace&ouNbCar=6&quiQuoiNbCar=&acOuSollicitee=1&rangOu=2&sourceOu=TOP&typeOu=Region&nbPropositionOuTop=5&nbPropositionOuHisto=0&acQuiQuoiSollicitee=1&rangQuiQuoi=1&sourceQuiQuoi=HISTORIQUE&typeQuiQuoi=1&idQuiQuoi=7557d667d1b009608ae6f65adb67d363&nbPropositionQuiQuoiTop=0&nbPropositionQuiQuoiHisto=1&nbPropositionQuiQuoiGeo=0&page=1 | M20: http://www.metamake-up.com | N20: 2020-01-29T10:23:15.868818 | O20: pages-jaunes-search
A21: A.P.G. | B21: 03 88 87 05 29 | C21: 03 88 87 05 29 | D21: 67300SCHILTIGHEIM | E21: formation continue , ,Prestations : ,Conseil, Audit, Externalisation, Formation, bilan de compétence, formation pour adulte, formation en ressources humaines, organisme de formation pour adulte, accompagnement aux changements, insertion professionnelle, aide √† la création d'entreprise, test psychotechnique, cabinet de conseil en rh, cabinet de recrutement de cadre, mobilité professionnelle, accompagnement professionnel, gestion de carrière, bilan professionnel, reclassement professionnel, gestion des compétences, test de personnalité, bilan de carrières, test d'aptitude, analyse de CV, gestion administrative, gestion du stress, développement personnel, conseil en gestion de personnel, formation en management, gestion des ressources humaines, gestion sociale, accompagnement social, développement des ressources humaines, audit social, gestion de conflits, audit RH, évaluation des risques, accompagnement de projet, aide √† la décision, apprentissage en automobile | F21: [] | G21: https:https://www.pagesjaunes.fr/media/vignette/AAAYADF0RURU-C10003.gif?w=140&h=140&crop=true | I21: [] | J21: https://www.pagesjaunes.fr/pros/detail?bloc_id=08581656000001C0001&no_sequence=1&code_rubrique=64101300 | L21: https://www.pagesjaunes.fr/annuaire/region/alsace/formation?quoiqui=formation&ou=Alsace&univers=pagesjaunes&idOu=R42&ouSaisi=alsace&ouNbCar=6&quiQuoiNbCar=&acOuSollicitee=1&rangOu=2&sourceOu=TOP&typeOu=Region&nbPropositionOuTop=5&nbPropositionOuHisto=0&acQuiQuoiSollicitee=1&rangQuiQuoi=1&sourceQuiQuoi=HISTORIQUE&typeQuiQuoi=1&idQuiQuoi=7557d667d1b009608ae6f65adb67d363&nbPropositionQuiQuoiTop=0&nbPropositionQuiQuoiHisto=1&nbPropositionQuiQuoiGeo=0&page=1 | M21: http://www.apg-grandest.fr | N21: 2020-01-29T10:23:15.885509 | O21: pages-jaunes-search
A22: SALON DE COIFFURE SERGE COMTESSE | B22: 03 88 50 11 38 | C22: 03 88 50 11 38 | D22: 67190DINSHEIM SUR BRUCHE | E22: enseignement : coiffure, esthétique | F22: [] | G22: [] | I22: [] | J22: https://www.pagesjaunes.fr/pros/detail?bloc_id=FCP038850113806198624H001C0001&no_sequence=0&code_rubrique=64050800 | L22: https://www.pagesjaunes.fr/annuaire/region/alsace/formation?quoiqui=formation&ou=Alsace&univers=pagesjaunes&idOu=R42&ouSaisi=alsace&ouNbCar=6&quiQuoiNbCar=&acOuSollicitee=1&rangOu=2&sourceOu=TOP&typeOu=Region&nbPropositionOuTop=5&nbPropositionOuHisto=0&acQuiQuoiSollicitee=1&rangQuiQuoi=1&sourceQuiQuoi=HISTORIQUE&typeQuiQuoi=1&idQuiQuoi=7557d667d1b009608ae6f65adb67d363&nbPropositionQuiQuoiTop=0&nbPropositionQuiQuoiHisto=1&nbPropositionQuiQuoiGeo=0&page=22 | M22: http://www.sergecomtesse.fr/salon-de-coiffure-dinsheim | N22: 2020-01-29T10:23:17.632678 | O22: pages-jaunes-search
A23: DOGAN GULFEN | B23: 03 88 68 32 84 | C23: 03 88 68 32 84 | D23: 67117ITTENHEIM | E23: formation continue | F23: [] | G23: [] | I23: [] | J23: https://www.pagesjaunes.fr/pros/56113913 | L23: https://www.pagesjaunes.fr/annuaire/region/alsace/formation?quoiqui=formation&ou=Alsace&univers=pagesjaunes&idOu=R42&ouSaisi=alsace&ouNbCar=6&quiQuoiNbCar=&acOuSollicitee=1&rangOu=2&sourceOu=TOP&typeOu=Region&nbPropositionOuTop=5&nbPropositionOuHisto=0&acQuiQuoiSollicitee=1&rangQuiQuoi=1&sourceQuiQuoi=HISTORIQUE&typeQuiQuoi=1&idQuiQuoi=7557d667d1b009608ae6f65adb67d363&nbPropositionQuiQuoiTop=0&nbPropositionQuiQuoiHisto=1&nbPropositionQuiQuoiGeo=0&page=22 | M23: [] | N23: 2020-01-29T10:23:17.650123 | O23: pages-jaunes-search
A24: PLANCHENOT JEAN-MARC | B24: 03 88 54 09 18 | C24: 03 88 54 09 18 | D24: 67250SURBOURG | E24: formation continue | F24: [] | G24: [] | I24: [] | J24: https://www.pagesjaunes.fr/pros/detail?bloc_id=038854091852382064H001C0001&no_sequence=0&code_rubrique=64101300 | L24: https://www.pagesjaunes.fr/annuaire/region/alsace/formation?quoiqui=formation&ou=Alsace&univers=pagesjaunes&idOu=R42&ouSaisi=alsace&ouNbCar=6&quiQuoiNbCar=&acOuSollicitee=1&rangOu=2&sourceOu=TOP&typeOu=Region&nbPropositionOuTop=5&nbPropositionOuHisto=0&acQuiQuoiSollicitee=1&rangQuiQuoi=1&sourceQuiQuoi=HISTORIQUE&typeQuiQuoi=1&idQuiQuoi=7557d667d1b009608ae6f65adb67d363&nbPropositionQuiQuoiTop=0&nbPropositionQuiQuoiHisto=1&nbPropositionQuiQuoiGeo=0&page=22 | M24: [] | N24: 2020-01-29T10:23:17.666448 | O24: pages-jaunes-search
A25: RAPP ALINE | B25: 07 60 85 22 16 | C25: 07 60 85 22 16 | D25: 67000STRASBOURG | E25: formation continue | F25: [] | G25: [] | I25: [] | J25: https://www.pagesjaunes.fr/pros/55154184 | L25: https://www.pagesjaunes.fr/annuaire/region/alsace/formation?quoiqui=formation&ou=Alsace&univers=pagesjaunes&idOu=R42&ouSaisi=alsace&ouNbCar=6&quiQuoiNbCar=&acOuSollicitee=1&rangOu=2&sourceOu=TOP&typeOu=Region&nbPropositionOuTop=5&nbPropositionOuHisto=0&acQuiQuoiSollicitee=1&rangQuiQuoi=1&sourceQuiQuoi=HISTORIQUE&typeQuiQuoi=1&idQuiQuoi=7557d667d1b009608ae6f65adb67d363&nbPropositionQuiQuoiTop=0&nbPropositionQuiQuoiHisto=1&nbPropositionQuiQuoiGeo=0&page=22 | M25: [] | N25: 2020-01-29T10:23:17.682919 | O25: pages-jaunes-search
A26: [] | B26: =L26 -> 03 89 29 53 67 | C26: =M26 -> https://www.pagesjaunes.fr/annuaire/region/alsace/formation?quoiqui=formation&ou=Alsace&univers=pagesjaunes&idOu=R42&ouSaisi=alsace&ouNbCar=6&quiQuoiNbCar=&acOuSollicitee=1&rangOu=2&sourceOu=TOP&typeOu=Region&nbPropositionOuTop=5&nbPropositionOuHisto=0&acQuiQuoiSollicitee=1&rangQuiQuoi=1&sourceQuiQuoi=HISTORIQUE&typeQuiQuoi=1&idQuiQuoi=7557d667d1b009608ae6f65adb67d363&nbPropositionQuiQuoiTop=0&nbPropositionQuiQuoiHisto=1&nbPropositionQuiQuoiGeo=0&page=22 | D26: Kaysersberg | E26: 68240KAYSERSBERG VIGNOBLE | F26: enseignement : professions artistiques | G26: [] | I26: Dussort Estelle | J26: =L26 -> 03 89 29 53 67 | L26: 03 89 29 53 67 | M26: https://www.pagesjaunes.fr/annuaire/region/alsace/formation?quoiqui=formation&ou=Alsace&univers=pagesjaunes&idOu=R42&ouSaisi=alsace&ouNbCar=6&quiQuoiNbCar=&acOuSollicitee=1&rangOu=2&sourceOu=TOP&typeOu=Region&nbPropositionOuTop=5&nbPropositionOuHisto=0&acQuiQuoiSollicitee=1&rangQuiQuoi=1&sourceQuiQuoi=HISTORIQUE&typeQuiQuoi=1&idQuiQuoi=7557d667d1b009608ae6f65adb67d363&nbPropositionQuiQuoiTop=0&nbPropositionQuiQuoiHisto=1&nbPropositionQuiQuoiGeo=0&page=22 | N26: [] | O26: 2020-01-29T10:23:17.699441 | P26: pages-jaunes-search
A27: SCHMITT MARC | B27: 09 53 53 34 37 | C27: 09 53 53 34 37 | D27: 68000COLMAR | E27: formation continue | F27: [] | G27: [] | I27: [] | J27: https://www.pagesjaunes.fr/pros/detail?bloc_id=095353343756087778H001C0001&no_sequence=0&code_rubrique=64101300 | L27: https://www.pagesjaunes.fr/annuaire/region/alsace/formation?quoiqui=formation&ou=Alsace&univers=pagesjaunes&idOu=R42&ouSaisi=alsace&ouNbCar=6&quiQuoiNbCar=&acOuSollicitee=1&rangOu=2&sourceOu=TOP&typeOu=Region&nbPropositionOuTop=5&nbPropositionOuHisto=0&acQuiQuoiSollicitee=1&rangQuiQuoi=1&sourceQuiQuoi=HISTORIQUE&typeQuiQuoi=1&idQuiQuoi=7557d667d1b009608ae6f65adb67d363&nbPropositionQuiQuoiTop=0&nbPropositionQuiQuoiHisto=1&nbPropositionQuiQuoiGeo=0&page=22 | M27: [] | N27: 2020-01-29T10:23:17.715569 | O27: pages-jaunes-search
A28: HOSY GERALDINE | B28: 03 88 27 09 47 | C28: 03 88 27 09 47 | D28: 67200STRASBOURG | E28: formation continue | F28: [] | G28: [] | I28: [] | J28: https://www.pagesjaunes.fr/pros/detail?bloc_id=FCP038827094751010892H001C0001&no_sequence=0&code_rubrique=64101300 | L28: https://www.pagesjaunes.fr/annuaire/region/alsace/formation?quoiqui=formation&ou=Alsace&univers=pagesjaunes&idOu=R42&ouSaisi=alsace&ouNbCar=6&quiQuoiNbCar=&acOuSollicitee=1&rangOu=2&sourceOu=TOP&typeOu=Region&nbPropositionOuTop=5&nbPropositionOuHisto=0&acQuiQuoiSollicitee=1&rangQuiQuoi=1&sourceQuiQuoi=HISTORIQUE&typeQuiQuoi=1&idQuiQuoi=7557d667d1b009608ae6f65adb67d363&nbPropositionQuiQuoiTop=0&nbPropositionQuiQuoiHisto=1&nbPropositionQuiQuoiGeo=0&page=22 | M28: http://www.facebook.com/pages/Hosy-G%C3%A9raldine/437855393235436 | N28: 2020-01-29T10:23:17.731716 | O28: pages-jaunes-search
A29: EL HABACHI LAHCEN | B29: 03 88 61 48 64 | C29: 03 88 61 48 64 | D29: 67000STRASBOURG | E29: formation continue | F29: [] | G29: [] | I29: [] | J29: https://www.pagesjaunes.fr/pros/52566730 | L29: https://www.pagesjaunes.fr/annuaire/region/alsace/formation?quoiqui=formation&ou=Alsace&univers=pagesjaunes&idOu=R42&ouSaisi=alsace&ouNbCar=6&quiQuoiNbCar=&acOuSollicitee=1&rangOu=2&sourceOu=TOP&typeOu=Region&nbPropositionOuTop=5&nbPropositionOuHisto=0&acQuiQuoiSollicitee=1&rangQuiQuoi=1&sourceQuiQuoi=HISTORIQUE&typeQuiQuoi=1&idQuiQuoi=7557d667d1b009608ae6f65adb67d363&nbPropositionQuiQuoiTop=0&nbPropositionQuiQuoiHisto=1&nbPropositionQuiQuoiGeo=0&page=22 | M29: [] | N29: 2020-01-29T10:23:17.748062 | O29: pages-jaunes-search
A30: AP2S FORMATION CONSEIL | B30: 06 51 05 92 56 | C30: 06 51 05 92 56 | D30: 68126BENNWIHR | E30: formation continue | F30: [] | G30: [] | I30: [] | J30: https://www.pagesjaunes.fr/pros/detail?bloc_id=065105925657318839H001C0001&no_sequence=0&code_rubrique=64101300 | L30: https://www.pagesjaunes.fr/annuaire/region/alsace/formation?quoiqui=formation&ou=Alsace&univers=pagesjaunes&idOu=R42&ouSaisi=alsace&ouNbCar=6&quiQuoiNbCar=&acOuSollicitee=1&rangOu=2&sourceOu=TOP&typeOu=Region&nbPropositionOuTop=5&nbPropositionOuHisto=0&acQuiQuoiSollicitee=1&rangQuiQuoi=1&sourceQuiQuoi=HISTORIQUE&typeQuiQuoi=1&idQuiQuoi=7557d667d1b009608ae6f65adb67d363&nbPropositionQuiQuoiTop=0&nbPropositionQuiQuoiHisto=1&nbPropositionQuiQuoiGeo=0&page=22 | M30: http://ap2s-formation.com | N30: 2020-01-29T10:23:17.764649 | O30: pages-jaunes-search
A31: CLOR PASCALE | B31: 03 89 78 22 96 | C31: 03 89 78 22 96 | D31: 68240KAYSERSBERG VIGNOBLE | E31: enseignement : professions artistiques | F31: [] | G31: [] | I31: [] | J31: https://www.pagesjaunes.fr/pros/detail?bloc_id=038978229655693595H001C0001&no_sequence=0&code_rubrique=64053400 | L31: https://www.pagesjaunes.fr/annuaire/region/alsace/formation?quoiqui=formation&ou=Alsace&univers=pagesjaunes&idOu=R42&ouSaisi=alsace&ouNbCar=6&quiQuoiNbCar=&acOuSollicitee=1&rangOu=2&sourceOu=TOP&typeOu=Region&nbPropositionOuTop=5&nbPropositionOuHisto=0&acQuiQuoiSollicitee=1&rangQuiQuoi=1&sourceQuiQuoi=HISTORIQUE&typeQuiQuoi=1&idQuiQuoi=7557d667d1b009608ae6f65adb67d363&nbPropositionQuiQuoiTop=0&nbPropositionQuiQuoiHisto=1&nbPropositionQuiQuoiGeo=0&page=22 | M31: [] | N31: 2020-01-29T10:23:17.780766 | O31: pages-jaunes-search
A32: AFPA | B32: [] | C32: [] | D32: 68200MULHOUSE | E32: formation continue | F32: [] | G32: [] | I32: 1 | J32: https://www.pagesjaunes.fr/pros/detail?bloc_id=FCP05553544XX05553544H001C0001&no_sequence=0&code_rubrique=64101300 | L32: https://www.pagesjaunes.fr/annuaire/region/alsace/formation?quoiqui=formation&ou=Alsace&univers=pagesjaunes&idOu=R42&ouSaisi=alsace&ouNbCar=6&quiQuoiNbCar=&acOuSollicitee=1&rangOu=2&sourceOu=TOP&typeOu=Region&nbPropositionOuTop=5&nbPropositionOuHisto=0&acQuiQuoiSollicitee=1&rangQuiQuoi=1&sourceQuiQuoi=HISTORIQUE&typeQuiQuoi=1&idQuiQuoi=7557d667d1b009608ae6f65adb67d363&nbPropositionQuiQuoiTop=0&nbPropositionQuiQuoiHisto=1&nbPropositionQuiQuoiGeo=0&page=22 | M32: http://www.facebook.com/AFPA.JEUNES/ | N32: 2020-01-29T10:23:17.804302 | O32: pages-jaunes-search
A33: FRITSCH ERIC | B33: 03 89 79 81 13 | C33: 03 89 79 81 13 | D33: 68920WETTOLSHEIM | E33: enseignement : professions artistiques | F33: [] | G33: [] | I33: [] | J33: https://www.pagesjaunes.fr/pros/56242338 | L33: https://www.pagesjaunes.fr/annuaire/region/alsace/formation?quoiqui=formation&ou=Alsace&univers=pagesjaunes&idOu=R42&ouSaisi=alsace&ouNbCar=6&quiQuoiNbCar=&acOuSollicitee=1&rangOu=2&sourceOu=TOP&typeOu=Region&nbPropositionOuTop=5&nbPropositionOuHisto=0&acQuiQuoiSollicitee=1&rangQuiQuoi=1&sourceQuiQuoi=HISTORIQUE&typeQuiQuoi=1&idQuiQuoi=7557d667d1b009608ae6f65adb67d363&nbPropositionQuiQuoiTop=0&nbPropositionQuiQuoiHisto=1&nbPropositionQuiQuoiGeo=0&page=22 | M33: [] | N33: 2020-01-29T10:23:17.821403 | O33: pages-jaunes-search
A34: CARREAUD JEAN-PIERRE | B34: 03 88 65 00 57 | C34: 03 88 65 00 57 | D34: 67400ILLKIRCH GRAFFENSTADEN | E34: formation continue | F34: [] | G34: [] | I34: [] | J34: https://www.pagesjaunes.fr/pros/detail?bloc_id=038865005752566714H001C0001&no_sequence=0&code_rubrique=64101300 | L34: https://www.pagesjaunes.fr/annuaire/region/alsace/formation?quoiqui=formation&ou=Alsace&univers=pagesjaunes&idOu=R42&ouSaisi=alsace&ouNbCar=6&quiQuoiNbCar=&acOuSollicitee=1&rangOu=2&sourceOu=TOP&typeOu=Region&nbPropositionOuTop=5&nbPropositionOuHisto=0&acQuiQuoiSollicitee=1&rangQuiQuoi=1&sourceQuiQuoi=HISTORIQUE&typeQuiQuoi=1&idQuiQuoi=7557d667d1b009608ae6f65adb67d363&nbPropositionQuiQuoiTop=0&nbPropositionQuiQuoiHisto=1&nbPropositionQuiQuoiGeo=0&page=22 | M34: http://www.facebook.com/pages/Carreaud-Jean-Pierre/1324658470982067 | N34: 2020-01-29T10:23:17.837166 | O34: pages-jaunes-search
A35: CIGAVAP | B35: [] | C35: [] | D35: 67000STRASBOURG | E35: cours par correspondance, enseignement √† distance | F35: [] | G35: [] | I35: [] | J35: https://www.pagesjaunes.fr/pros/55702963 | L35: https://www.pagesjaunes.fr/annuaire/region/alsace/formation?quoiqui=formation&ou=Alsace&univers=pagesjaunes&idOu=R42&ouSaisi=alsace&ouNbCar=6&quiQuoiNbCar=&acOuSollicitee=1&rangOu=2&sourceOu=TOP&typeOu=Region&nbPropositionOuTop=5&nbPropositionOuHisto=0&acQuiQuoiSollicitee=1&rangQuiQuoi=1&sourceQuiQuoi=HISTORIQUE&typeQuiQuoi=1&idQuiQuoi=7557d667d1b009608ae6f65adb67d363&nbPropositionQuiQuoiTop=0&nbPropositionQuiQuoiHisto=1&nbPropositionQuiQuoiGeo=0&page=22 | M35: [] | N35: 2020-01-29T10:23:17.853663 | O35: pages-jaunes-search
A36: L'OREE | B36: 03 89 59 19 37 | C36: 03 89 59 19 37 | D36: 68100MULHOUSE | E36: formation continue | F36: [] | G36: [] | I36: [] | J36: https://www.pagesjaunes.fr/pros/01866481 | L36: https://www.pagesjaunes.fr/annuaire/region/alsace/formation?quoiqui=formation&ou=Alsace&univers=pagesjaunes&idOu=R42&ouSaisi=alsace&ouNbCar=6&quiQuoiNbCar=&acOuSollicitee=1&rangOu=2&sourceOu=TOP&typeOu=Region&nbPropositionOuTop=5&nbPropositionOuHisto=0&acQuiQuoiSollicitee=1&rangQuiQuoi=1&sourceQuiQuoi=HISTORIQUE&typeQuiQuoi=1&idQuiQuoi=7557d667d1b009608ae6f65adb67d363&nbPropositionQuiQuoiTop=0&nbPropositionQuiQuoiHisto=1&nbPropositionQuiQuoiGeo=0&page=22 | M36: [] | N36: 2020-01-29T10:23:17.870051 | O36: pages-jaunes-search
A37: INTER PRO FORMATION | B37: 03 89 74 07 42 | C37: 03 89 74 07 42 | D37: 68800VIEUX THANN | E37: formation professionnelle, enseignement : commerce, gestion, informatique , ,Prestations : ,formation professionnelle continue, formation pour adulte, formation en bureautique, formation excel, formation en sécurité | F37: [] | G37: [] | I37: [] | J37: https://www.pagesjaunes.fr/pros/detail?bloc_id=57806344700001C0001&no_sequence=1&code_rubrique=00000634 | L37: https://www.pagesjaunes.fr/annuaire/region/alsace/formation?quoiqui=formation&ou=Alsace&univers=pagesjaunes&idOu=R42&ouSaisi=alsace&ouNbCar=6&quiQuoiNbCar=&acOuSollicitee=1&rangOu=2&sourceOu=TOP&typeOu=Region&nbPropositionOuTop=5&nbPropositionOuHisto=0&acQuiQuoiSollicitee=1&rangQuiQuoi=1&sourceQuiQuoi=HISTORIQUE&typeQuiQuoi=1&idQuiQuoi=7557d667d1b009608ae6f65adb67d363&nbPropositionQuiQuoiTop=0&nbPropositionQuiQuoiHisto=1&nbPropositionQuiQuoiGeo=0&page=22 | M37: http://www.interpro-formation.com | N37: 2020-01-29T10:23:17.886262 | O37: pages-jaunes-search
A38: GEYER GILBERT | B38: 03 88 00 86 39 | C38: 03 88 00 86 39 | D38: 67970OERMINGEN | E38: formation continue | F38: [] | G38: [] | I38: [] | J38: https://www.pagesjaunes.fr/pros/53459283 | L38: https://www.pagesjaunes.fr/annuaire/region/alsace/formation?quoiqui=formation&ou=Alsace&univers=pagesjaunes&idOu=R42&ouSaisi=alsace&ouNbCar=6&quiQuoiNbCar=&acOuSollicitee=1&rangOu=2&sourceOu=TOP&typeOu=Region&nbPropositionOuTop=5&nbPropositionOuHisto=0&acQuiQuoiSollicitee=1&rangQuiQuoi=1&sourceQuiQuoi=HISTORIQUE&typeQuiQuoi=1&idQuiQuoi=7557d667d1b009608ae6f65adb67d363&nbPropositionQuiQuoiTop=0&nbPropositionQuiQuoiHisto=1&nbPropositionQuiQuoiGeo=0&page=22 | M38: [] | N38: 2020-01-29T10:23:17.902561 | O38: pages-jaunes-search
A39: COTHINK SAS | B39: 07 61 93 94 69 | C39: 07 61 93 94 69 | D39: 67000STRASBOURG | E39: enseignement : commerce, gestion, informatique | F39: [] | G39: [] | I39: [] | J39: https://www.pagesjaunes.fr/pros/detail?bloc_id=FCP56599199700001C0001&no_sequence=1&code_rubrique=64050900 | L39: https://www.pagesjaunes.fr/annuaire/region/alsace/formation?quoiqui=formation&ou=Alsace&univers=pagesjaunes&idOu=R42&ouSaisi=alsace&ouNbCar=6&quiQuoiNbCar=&acOuSollicitee=1&rangOu=2&sourceOu=TOP&typeOu=Region&nbPropositionOuTop=5&nbPropositionOuHisto=0&acQuiQuoiSollicitee=1&rangQuiQuoi=1&sourceQuiQuoi=HISTORIQUE&typeQuiQuoi=1&idQuiQuoi=7557d667d1b009608ae6f65adb67d363&nbPropositionQuiQuoiTop=0&nbPropositionQuiQuoiHisto=1&nbPropositionQuiQuoiGeo=0&page=22 | M39: [] | N39: 2020-01-29T10:23:17.918763 | O39: pages-jaunes-search
A40: ETP ALSACE | B40: 03 90 20 12 28 | C40: 03 90 20 12 28 | D40: 67200STRASBOURG | E40: formation continue | F40: [] | G40: [] | I40: [] | J40: https://www.pagesjaunes.fr/pros/55626455 | L40: https://www.pagesjaunes.fr/annuaire/region/alsace/formation?quoiqui=formation&ou=Alsace&univers=pagesjaunes&idOu=R42&ouSaisi=alsace&ouNbCar=6&quiQuoiNbCar=&acOuSollicitee=1&rangOu=2&sourceOu=TOP&typeOu=Region&nbPropositionOuTop=5&nbPropositionOuHisto=0&acQuiQuoiSollicitee=1&rangQuiQuoi=1&sourceQuiQuoi=HISTORIQUE&typeQuiQuoi=1&idQuiQuoi=7557d667d1b009608ae6f65adb67d363&nbPropositionQuiQuoiTop=0&nbPropositionQuiQuoiHisto=1&nbPropositionQuiQuoiGeo=0&page=22 | M40: [] | N40: 2020-01-29T10:23:17.934723 | O40: pages-jaunes-search
...
