Workbook

Sheet Liste des stagiaires
A1: Liste des stagiaires:
A3: Grade | B3: Nom | C3: Prénom | D3: Escadrille | E3: Numéro de matricule
H5: Noter toutes les informations sur ce tableau et cela remplira les autres onglets.

Sheet Classement des stagiaires
A1: Classement des stagiaires:
A3: Grade | B3: Nom | C3: Prénom | D3: Escadrille | E3: Numéro de matricule | F3: Total contrôle continue | G3: Total test final | H3: Moyenne FGE | I3: Classement | J3: Remarques
A4: ='Liste des stagiaires'!A4 -> 0 | B4: ='Liste des stagiaires'!B4 -> 0 | C4: ='Liste des stagiaires'!C4 -> 0 | D4: ='Liste des stagiaires'!D4 -> 0 | E4: ='Liste des stagiaires'!E4 -> 0 | F4: ='1'!C$40 -> 0 | G4: ='1'!D$40 -> 0 | H4: ='1'!D$41 -> 0 | I4: =RANK(H4,H4:H28,0) -> 1
A5: ='Liste des stagiaires'!A5 -> 0 | B5: ='Liste des stagiaires'!B5 -> 0 | C5: ='Liste des stagiaires'!C5 -> 0 | D5: ='Liste des stagiaires'!D5 -> 0 | E5: ='Liste des stagiaires'!E5 -> 0 | F5: ='2'!C$40 -> 0 | G5: ='2'!D$40 -> 0 | H5: ='2'!D$41 -> 0 | I5: =RANK(H5,H4:H28,0) -> 1
A6: ='Liste des stagiaires'!A6 -> 0 | B6: ='Liste des stagiaires'!B6 -> 0 | C6: ='Liste des stagiaires'!C6 -> 0 | D6: ='Liste des stagiaires'!D6 -> 0 | E6: ='Liste des stagiaires'!E6 -> 0 | F6: ='3'!C$40 -> 0 | G6: ='3'!D$40 -> 0 | H6: ='3'!D$41 -> 0 | I6: =RANK(H6,H4:H28,0) -> 1
A7: ='Liste des stagiaires'!A7 -> 0 | B7: ='Liste des stagiaires'!B7 -> 0 | C7: ='Liste des stagiaires'!C7 -> 0 | D7: ='Liste des stagiaires'!D7 -> 0 | E7: ='Liste des stagiaires'!E7 -> 0 | F7: ='4'!C$40 -> 0 | G7: ='4'!D$40 -> 0 | H7: ='4'!D$41 -> 0 | I7: =RANK(H7,H4:H28,0) -> 1
A8: ='Liste des stagiaires'!A8 -> 0 | B8: ='Liste des stagiaires'!B8 -> 0 | C8: ='Liste des stagiaires'!C8 -> 0 | D8: ='Liste des stagiaires'!D8 -> 0 | E8: ='Liste des stagiaires'!E8 -> 0 | F8: ='5'!C$40 -> 0 | G8: ='5'!D$40 -> 0 | H8: ='5'!D$41 -> 0 | I8: =RANK(H8,H4:H28,0) -> 1
A9: ='Liste des stagiaires'!A9 -> 0 | B9: ='Liste des stagiaires'!B9 -> 0 | C9: ='Liste des stagiaires'!C9 -> 0 | D9: ='Liste des stagiaires'!D9 -> 0 | E9: ='Liste des stagiaires'!E9 -> 0 | F9: ='6'!C$40 -> 0 | G9: ='6'!D$40 -> 0 | H9: ='6'!D$41 -> 0 | I9: =RANK(H9,H4:H28,0) -> 1
A10: ='Liste des stagiaires'!A10 -> 0 | B10: ='Liste des stagiaires'!B10 -> 0 | C10: ='Liste des stagiaires'!C10 -> 0 | D10: ='Liste des stagiaires'!D10 -> 0 | E10: ='Liste des stagiaires'!E10 -> 0 | F10: ='7'!C$40 -> 0 | G10: ='7'!D$40 -> 0 | H10: ='7'!D$41 -> 0 | I10: =RANK(H10,H4:H28,0) -> 1
A11: ='Liste des stagiaires'!A11 -> 0 | B11: ='Liste des stagiaires'!B11 -> 0 | C11: ='Liste des stagiaires'!C11 -> 0 | D11: ='Liste des stagiaires'!D11 -> 0 | E11: ='Liste des stagiaires'!E11 -> 0 | F11: ='8'!C$40 -> 0 | G11: ='8'!D$40 -> 0 | H11: ='8'!D$41 -> 0 | I11: =RANK(H11,H4:H28,0) -> 1
A12: ='Liste des stagiaires'!A12 -> 0 | B12: ='Liste des stagiaires'!B12 -> 0 | C12: ='Liste des stagiaires'!C12 -> 0 | D12: ='Liste des stagiaires'!D12 -> 0 | E12: ='Liste des stagiaires'!E12 -> 0 | F12: ='9'!C$40 -> 0 | G12: ='9'!D$40 -> 0 | H12: ='9'!D$41 -> 0 | I12: =RANK(H12,H4:H28,0) -> 1
A13: ='Liste des stagiaires'!A13 -> 0 | B13: ='Liste des stagiaires'!B13 -> 0 | C13: ='Liste des stagiaires'!C13 -> 0 | D13: ='Liste des stagiaires'!D13 -> 0 | E13: ='Liste des stagiaires'!E13 -> 0 | F13: ='10'!C$40 -> 0 | G13: ='10'!D$40 -> 0 | H13: ='10'!D$41 -> 0 | I13: =RANK(H13,H4:H28,0) -> 1
A14: ='Liste des stagiaires'!A14 -> 0 | B14: ='Liste des stagiaires'!B14 -> 0 | C14: ='Liste des stagiaires'!C14 -> 0 | D14: ='Liste des stagiaires'!D14 -> 0 | E14: ='Liste des stagiaires'!E14 -> 0 | F14: ='11'!C$40 -> 0 | G14: ='11'!D$40 -> 0 | H14: ='11'!D$41 -> 0 | I14: =RANK(H14,H4:H28,0) -> 1
A15: ='Liste des stagiaires'!A15 -> 0 | B15: ='Liste des stagiaires'!B15 -> 0 | C15: ='Liste des stagiaires'!C15 -> 0 | D15: ='Liste des stagiaires'!D15 -> 0 | E15: ='Liste des stagiaires'!E15 -> 0 | F15: ='12'!C$40 -> 0 | G15: ='12'!D$40 -> 0 | H15: ='12'!D$41 -> 0 | I15: =RANK(H15,H4:H28,0) -> 1
A16: ='Liste des stagiaires'!A16 -> 0 | B16: ='Liste des stagiaires'!B16 -> 0 | C16: ='Liste des stagiaires'!C16 -> 0 | D16: ='Liste des stagiaires'!D16 -> 0 | E16: ='Liste des stagiaires'!E16 -> 0 | F16: ='13'!C$40 -> 0 | G16: ='13'!D$40 -> 0 | H16: ='13'!D$41 -> 0 | I16: =RANK(H16,H4:H28,0) -> 1
A17: ='Liste des stagiaires'!A17 -> 0 | B17: ='Liste des stagiaires'!B17 -> 0 | C17: ='Liste des stagiaires'!C17 -> 0 | D17: ='Liste des stagiaires'!D17 -> 0 | E17: ='Liste des stagiaires'!E17 -> 0 | F17: ='14'!C$40 -> 0 | G17: ='14'!D$40 -> 0 | H17: ='14'!D$41 -> 0 | I17: =RANK(H17,H4:H28,0) -> 1
A18: ='Liste des stagiaires'!A18 -> 0 | B18: ='Liste des stagiaires'!B18 -> 0 | C18: ='Liste des stagiaires'!C18 -> 0 | D18: ='Liste des stagiaires'!D18 -> 0 | E18: ='Liste des stagiaires'!E18 -> 0 | F18: ='15'!C$40 -> 0 | G18: ='15'!D$40 -> 0 | H18: ='15'!D$41 -> 0 | I18: =RANK(H18,H4:H28,0) -> 1
A19: ='Liste des stagiaires'!A19 -> 0 | B19: ='Liste des stagiaires'!B19 -> 0 | C19: ='Liste des stagiaires'!C19 -> 0 | D19: ='Liste des stagiaires'!D19 -> 0 | E19: ='Liste des stagiaires'!E19 -> 0 | F19: ='16'!C$40 -> 0 | G19: ='16'!D$40 -> 0 | H19: ='16'!D$41 -> 0 | I19: =RANK(H19,H4:H28,0) -> 1
A20: ='Liste des stagiaires'!A20 -> 0 | B20: ='Liste des stagiaires'!B20 -> 0 | C20: ='Liste des stagiaires'!C20 -> 0 | D20: ='Liste des stagiaires'!D20 -> 0 | E20: ='Liste des stagiaires'!E20 -> 0 | F20: ='17'!C$40 -> 0 | G20: ='17'!D$40 -> 0 | H20: ='17'!D$41 -> 0 | I20: =RANK(H20,H4:H28,0) -> 1
A21: ='Liste des stagiaires'!A21 -> 0 | B21: ='Liste des stagiaires'!B21 -> 0 | C21: ='Liste des stagiaires'!C21 -> 0 | D21: ='Liste des stagiaires'!D21 -> 0 | E21: ='Liste des stagiaires'!E21 -> 0 | F21: ='18'!C$40 -> 0 | G21: ='18'!D$40 -> 0 | H21: ='18'!D$41 -> 0 | I21: =RANK(H21,H4:H28,0) -> 1
A22: ='Liste des stagiaires'!A22 -> 0 | B22: ='Liste des stagiaires'!B22 -> 0 | C22: ='Liste des stagiaires'!C22 -> 0 | D22: ='Liste des stagiaires'!D22 -> 0 | E22: ='Liste des stagiaires'!E22 -> 0 | F22: ='19'!C$40 -> 0 | G22: ='19'!D$40 -> 0 | H22: ='19'!D$41 -> 0 | I22: =RANK(H22,H4:H28,0) -> 1
A23: ='Liste des stagiaires'!A23 -> 0 | B23: ='Liste des stagiaires'!B23 -> 0 | C23: ='Liste des stagiaires'!C23 -> 0 | D23: ='Liste des stagiaires'!D23 -> 0 | E23: ='Liste des stagiaires'!E23 -> 0 | F23: ='20'!C$40 -> 0 | G23: ='20'!D$40 -> 0 | H23: ='20'!D$41 -> 0 | I23: =RANK(H23,H4:H28,0) -> 1
A24: ='Liste des stagiaires'!A24 -> 0 | B24: ='Liste des stagiaires'!B24 -> 0 | C24: ='Liste des stagiaires'!C24 -> 0 | D24: ='Liste des stagiaires'!D24 -> 0 | E24: ='Liste des stagiaires'!E24 -> 0 | F24: ='21'!C$40 -> 0 | G24: ='21'!D$40 -> 0 | H24: ='21'!D$41 -> 0 | I24: =RANK(H24,H4:H28,0) -> 1
A25: ='Liste des stagiaires'!A25 -> 0 | B25: ='Liste des stagiaires'!B25 -> 0 | C25: ='Liste des stagiaires'!C25 -> 0 | D25: ='Liste des stagiaires'!D25 -> 0 | E25: ='Liste des stagiaires'!E25 -> 0 | F25: ='22'!C$40 -> 0 | G25: ='22'!D$40 -> 0 | H25: ='22'!D$41 -> 0 | I25: =RANK(H25,H4:H28,0) -> 1
A26: ='Liste des stagiaires'!A26 -> 0 | B26: ='Liste des stagiaires'!B26 -> 0 | C26: ='Liste des stagiaires'!C26 -> 0 | D26: ='Liste des stagiaires'!D26 -> 0 | E26: ='Liste des stagiaires'!E26 -> 0 | F26: ='23'!C$40 -> 0 | G26: ='23'!D$40 -> 0 | H26: ='23'!D$41 -> 0 | I26: =RANK(H26,H4:H28,0) -> 1
A27: ='Liste des stagiaires'!A27 -> 0 | B27: ='Liste des stagiaires'!B27 -> 0 | C27: ='Liste des stagiaires'!C27 -> 0 | D27: ='Liste des stagiaires'!D27 -> 0 | E27: ='Liste des stagiaires'!E27 -> 0 | F27: ='24'!C$40 -> 0 | G27: ='24'!D$40 -> 0 | H27: ='24'!D$41 -> 0 | I27: =RANK(H27,H4:H28,0) -> 1
A28: ='Liste des stagiaires'!A28 -> 0 | B28: ='Liste des stagiaires'!B28 -> 0 | C28: ='Liste des stagiaires'!C28 -> 0 | D28: ='Liste des stagiaires'!D28 -> 0 | E28: ='Liste des stagiaires'!E28 -> 0 | F28: ='25'!C$40 -> 0 | G28: ='25'!D$40 -> 0 | H28: ='25'!D$41 -> 0 | I28: =RANK(H28,H4:H28,0) -> 1

Sheet Controle continu
E1: ='Liste des stagiaires'!B4 -> 0 | G1: ='Liste des stagiaires'!B5 -> 0 | I1: ='Liste des stagiaires'!B6 -> 0 | K1: ='Liste des stagiaires'!B7 -> 0 | M1: ='Liste des stagiaires'!B8 -> 0 | O1: ='Liste des stagiaires'!B9 -> 0 | Q1: ='Liste des stagiaires'!B10 -> 0 | S1: ='Liste des stagiaires'!B11 -> 0 | U1: ='Liste des stagiaires'!B12 -> 0 | W1: ='Liste des stagiaires'!B13 -> 0 | Y1: ='Liste des stagiaires'!B14 -> 0 | AA1: ='Liste des stagiaires'!B15 -> 0 | AC1: ='Liste des stagiaires'!B16 -> 0 | AE1: ='Liste des stagiaires'!B17 -> 0 | AG1: ='Liste des stagiaires'!B18 -> 0 | AI1: ='Liste des stagiaires'!B19 -> 0 | AK1: ='Liste des stagiaires'!B20 -> 0 | AM1: ='Liste des stagiaires'!B21 -> 0 | AO1: ='Liste des stagiaires'!B22 -> 0 | AQ1: ='Liste des stagiaires'!B23 -> 0 | AS1: ='Liste des stagiaires'!B24 -> 0 | AU1: ='Liste des stagiaires'!B25 -> 0 | AW1: ='Liste des stagiaires'!B26 -> 0 | AY1: ='Liste des stagiaires'!B27 -> 0 | BA1: ='Liste des stagiaires'!B28 -> 0
E2: ='Liste des stagiaires'!C4 -> 0 | G2: ='Liste des stagiaires'!C5 -> 0 | I2: ='Liste des stagiaires'!C6 -> 0 | K2: ='Liste des stagiaires'!C7 -> 0 | M2: ='Liste des stagiaires'!C8 -> 0 | O2: ='Liste des stagiaires'!C9 -> 0 | Q2: ='Liste des stagiaires'!C10 -> 0 | S2: ='Liste des stagiaires'!C11 -> 0 | U2: ='Liste des stagiaires'!C12 -> 0 | W2: ='Liste des stagiaires'!C13 -> 0 | Y2: ='Liste des stagiaires'!C14 -> 0 | AA2: ='Liste des stagiaires'!C15 -> 0 | AC2: ='Liste des stagiaires'!C16 -> 0 | AE2: ='Liste des stagiaires'!C17 -> 0 | AG2: ='Liste des stagiaires'!C18 -> 0 | AI2: ='Liste des stagiaires'!C19 -> 0 | AK2: ='Liste des stagiaires'!C20 -> 0 | AM2: ='Liste des stagiaires'!C21 -> 0 | AO2: ='Liste des stagiaires'!C22 -> 0 | AQ2: ='Liste des stagiaires'!C23 -> 0 | AS2: ='Liste des stagiaires'!C24 -> 0 | AU2: ='Liste des stagiaires'!C25 -> 0 | AW2: ='Liste des stagiaires'!C26 -> 0 | AY2: ='Liste des stagiaires'!C27 -> 0 | BA2: ='Liste des stagiaires'!C28 -> 0
C3: Nombre de points | D3: Total des points | E3: Nombre de points | F3: Note sur 20 | G3: Nombre de points | H3: Note sur 20 | I3: Nombre de points | J3: Note sur 20 | K3: Nombre de points | L3: Note sur 20 | M3: Nombre de points | N3: Note sur 20 | O3: Nombre de points | P3: Note sur 20 | Q3: Nombre de points | R3: Note sur 20 | S3: Nombre de points | T3: Note sur 20 | U3: Nombre de points | V3: Note sur 20 | W3: Nombre de points | X3: Note sur 20 | Y3: Nombre de points | Z3: Note sur 20 | AA3: Nombre de points | AB3: Note sur 20 | AC3: Nombre de points | AD3: Note sur 20 | AE3: Nombre de points | AF3: Note sur 20 | AG3: Nombre de points | AH3: Note sur 20 | AI3: Nombre de points | AJ3: Note sur 20 | AK3: Nombre de points | AL3: Note sur 20 | AM3: Nombre de points | AN3: Note sur 20 | AO3: Nombre de points | AP3: Note sur 20 | AQ3: Nombre de points | AR3: Note sur 20 | AS3: Nombre de points | AT3: Note sur 20 | AU3: Nombre de points | AV3: Note sur 20 | AW3: Nombre de points | AX3: Note sur 20 | AY3: Nombre de points | AZ3: Note sur 20 | BA3: Nombre de points | BB3: Note sur 20
A4: A. Formation au comportement militaire. | E4: A. Formation au comportement militaire.
A5: Instruction des subordonnés. | B5: Enseigner « les bonnes pratiques » au contact des subordonnés | C5: 0.8 | D5: =SUM(C5:C19) -> 34.2 | F5: =(20/$D5)*(SUM(E5:E19)) -> 0 | H5: =(20/$D5)*(SUM(G5:G19)) -> 0 | J5: =(20/$D5)*(SUM(I5:I19)) -> 0 | L5: =(20/$D5)*(SUM(K5:K19)) -> 0 | N5: =(20/$D5)*(SUM(M5:M19)) -> 0 | P5: =(20/$D5)*(SUM(O5:O19)) -> 0 | R5: =(20/$D5)*(SUM(Q5:Q19)) -> 0 | T5: =(20/$D5)*(SUM(S5:S19)) -> 0 | V5: =(20/$D5)*(SUM(U5:U19)) -> 0 | X5: =(20/$D5)*(SUM(W5:W19)) -> 0 | Z5: =(20/$D5)*(SUM(Y5:Y19)) -> 0 | AB5: =(20/$D5)*(SUM(AA5:AA19)) -> 0 | AD5: =(20/$D5)*(SUM(AC5:AC19)) -> 0 | AF5: =(20/$D5)*(SUM(AE5:AE19)) -> 0 | AH5: =(20/$D5)*(SUM(AG5:AG19)) -> 0 | AJ5: =(20/$D5)*(SUM(AI5:AI19)) -> 0 | AL5: =(20/$D5)*(SUM(AK5:AK19)) -> 0 | AN5: =(20/$D5)*(SUM(AM5:AM19)) -> 0 | AP5: =(20/$D5)*(SUM(AO5:AO19)) -> 0 | AR5: =(20/$D5)*(SUM(AQ5:AQ19)) -> 0 | AT5: =(20/$D5)*(SUM(AS5:AS19)) -> 0 | AV5: =(20/$D5)*(SUM(AU5:AU19)) -> 0 | AX5: =(20/$D5)*(SUM(AW5:AW19)) -> 0 | AZ5: =(20/$D5)*(SUM(AY5:AY19)) -> 0 | BB5: =(20/$D5)*(SUM(BA5:BA19)) -> 0
B6: Enseigner les règles de politesse militaire | C6: 1.2
B7: Enseigner le code du soldat à son équipe | C7: 0.8
B8: Enseigner l'esprit de corps et d'identité dans l'armée de terre | C8: 0.8
B9: Les règles du droit des conflits armés | C9: 1.2
B10: Rôle du chef d'équipe vis-à-vis de l'engagé volontaire en qualité de citoyen et de soldat | C10: 1.2
B11: Le comportement du chef d'équipe vis-à-vis du soldat dans l'exercice quotidien de son métier | C11: 1.2
B12: Le comportement exemplaire du chef d'équipe vis-à-vis du soldat dans le milieu civil | C12: 0.8
B13: Le comportement du chef d'équipe dans l'exécution de sa mission | C13: 1.2
B14: Les méthodes et les outils pédagogiques | C14: Non noté
B15: La préparation d'une séance d'instruction et la rédaction de la fiche de séance (Mise en situation pédagogique) | C15: 20
B16: Les relations de commandement | C16: 1
B17: Le chef d'équipe prépare ses hommes à partir en OPEX | C17: 1.5
B18: La gestion du stress en opération | C18: 1
B19: Le commandement dans la vie quotidienne | C19: 1.5
A20: Organisation générale de la défense. | B20: Les enjeux de la défense | C20: 1.2 | D20: =SUM(C20:C21) -> 2 | F20: =(20/$D5)*(SUM(E5:E19)) -> 0 | H20: =(20/D20)*(SUM(G20:G21)) -> 0 | J20: =(20/$D20)*(SUM(I20:I21)) -> 0 | L20: =(20/$D20)*(SUM(K20:K21)) -> 0 | N20: =(20/$D20)*(SUM(M20:M21)) -> 0 | P20: =(20/$D20)*(SUM(O20:O21)) -> 0 | R20: =(20/$D20)*(SUM(Q20:Q21)) -> 0 | T20: =(20/$D20)*(SUM(S20:S21)) -> 0 | V20: =(20/$D20)*(SUM(U20:U21)) -> 0 | X20: =(20/$D20)*(SUM(W20:W21)) -> 0 | Z20: =(20/$D20)*(SUM(Y20:Y21)) -> 0 | AB20: =(20/$D20)*(SUM(AA20:AA21)) -> 0 | AD20: =(20/$D20)*(SUM(AC20:AC21)) -> 0 | AF20: =(20/$D20)*(SUM(AE20:AE21)) -> 0 | AH20: =(20/$D20)*(SUM(AG20:AG21)) -> 0 | AJ20: =(20/$D20)*(SUM(AI20:AI21)) -> 0 | AL20: =(20/$D20)*(SUM(AK20:AK21)) -> 0 | AN20: =(20/$D20)*(SUM(AM20:AM21)) -> 0 | AP20: =(20/$D20)*(SUM(AO20:AO21)) -> 0 | AR20: =(20/$D20)*(SUM(AQ20:AQ21)) -> 0 | AT20: =(20/$D20)*(SUM(AS20:AS21)) -> 0 | AV20: =(20/$D20)*(SUM(AU20:AU21)) -> 0 | AX20: =(20/$D20)*(SUM(AW20:AW21)) -> 0 | AZ20: =(20/$D20)*(SUM(AY20:AY21)) -> 0 | BB20: =(20/$D20)*(SUM(BA20:BA21)) -> 0
B21: Les grandes instances internationales : organisation des Nations unies (ONU), organisation du traité de l'Atlantique Nord (OTAN), union européenne (UE) | C21: 0.8
A22: Connaissance des règlements. | B22: Le service de garde et/ou de permanence | C22: 0.8 | D22: =SUM(C22:C24) -> 3.2 | F22: =(20/$D22)*(SUM(E22:E24)) -> 0 | H22: =(20/$D22)*(SUM(G22:G24)) -> 0 | J22: =(20/$D22)*(SUM(I22:I24)) -> 0 | L22: =(20/$D22)*(SUM(K22:K24)) -> 0 | N22: =(20/$D22)*(SUM(M22:M24)) -> 0 | P22: =(20/$D22)*(SUM(O22:O24)) -> 0 | R22: =(20/$D22)*(SUM(Q22:Q24)) -> 0 | T22: =(20/$D22)*(SUM(S22:S24)) -> 0 | V22: =(20/$D22)*(SUM(U22:U24)) -> 0 | X22: =(20/$D22)*(SUM(W22:W24)) -> 0 | Z22: =(20/$D22)*(SUM(Y22:Y24)) -> 0 | AB22: =(20/$D22)*(SUM(AA22:AA24)) -> 0 | AD22: =(20/$D22)*(SUM(AC22:AC24)) -> 0 | AF22: =(20/$D22)*(SUM(AE22:AE24)) -> 0 | AH22: =(20/$D22)*(SUM(AG22:AG24)) -> 0 | AJ22: =(20/$D22)*(SUM(AI22:AI24)) -> 0 | AL22: =(20/$D22)*(SUM(AK22:AK24)) -> 0 | AN22: =(20/$D22)*(SUM(AM22:AM24)) -> 0 | AP22: =(20/$D22)*(SUM(AO22:AO24)) -> 0 | AR22: =(20/$D22)*(SUM(AQ22:AQ24)) -> 0 | AT22: =(20/$D22)*(SUM(AS22:AS24)) -> 0 | AV22: =(20/$D22)*(SUM(AU22:AU24)) -> 0 | AX22: =(20/$D22)*(SUM(AW22:AW24)) -> 0 | AZ22: =(20/$D22)*(SUM(AY22:AY24)) -> 0 | BB22: =(20/$D22)*(SUM(BA22:BA24)) -> 0
B23: Les fonctions au sein de l'unité élémentaire | C23: 1.2
B24: Discipline générale militaire: devoirs et responsabilités du chef d'équipe | C24: 1.2
A25: Notions de civisme. | B25: La place de la France dans le monde | C25: 1.2 | D25: =SUM(C25:C27) -> 4.4 | F25: ='[1]Controle continu'!$F$25:$F$27 -> 0 | H25: =(20/$D25)*(SUM(G25:G27)) -> 0 | J25: =(20/$D25)*(SUM(I25:I27)) -> 0 | L25: =(20/$D25)*(SUM(K25:K27)) -> 0 | N25: =(20/$D25)*(SUM(M25:M27)) -> 0 | P25: =(20/$D25)*(SUM(O25:O27)) -> 0 | R25: =(20/$D25)*(SUM(Q25:Q27)) -> 0 | T25: =(20/$D25)*(SUM(S25:S27)) -> 0 | V25: =(20/$D25)*(SUM(U25:U27)) -> 0 | X25: =(20/$D25)*(SUM(W25:W27)) -> 0 | Z25: =(20/$D25)*(SUM(Y25:Y27)) -> 0 | AB25: =(20/$D25)*(SUM(AA25:AA27)) -> 0 | AD25: =(20/$D25)*(SUM(AC25:AC27)) -> 0 | AF25: =(20/$D25)*(SUM(AE25:AE27)) -> 0 | AH25: =(20/$D25)*(SUM(AG25:AG27)) -> 0 | AJ25: =(20/$D25)*(SUM(AI25:AI27)) -> 0 | AL25: =(20/$D25)*(SUM(AK25:AK27)) -> 0 | AN25: =(20/$D25)*(SUM(AM25:AM27)) -> 0 | AP25: =(20/$D25)*(SUM(AO25:AO27)) -> 0 | AR25: =(20/$D25)*(SUM(AQ25:AQ27)) -> 0 | AT25: =(20/$D25)*(SUM(AS25:AS27)) -> 0 | AV25: =(20/$D25)*(SUM(AU25:AU27)) -> 0 | AX25: =(20/$D25)*(SUM(AW25:AW27)) -> 0 | AZ25: =(20/$D25)*(SUM(AY25:AY27)) -> 0 | BB25: =(20/$D25)*(SUM(BA25:BA27)) -> 0
B26: L'Afrique | C26: 2.4
B27: Le Proche-Orient | C27: 0.8
A28: Techniques d'expression écrite. | B28: Exercices pratiques sur le compte rendu et la demande | C28: 20 | D28: =SUM(C28:C28) -> 20 | F28: =(20/$D28)*(SUM(E28)) -> 0 | H28: =(20/$D28)*(SUM(G28)) -> 0 | J28: =(20/$D28)*(SUM(I28)) -> 0 | L28: =(20/$D28)*(SUM(K28)) -> 0 | N28: =(20/$D28)*(SUM(M28)) -> 0 | P28: =(20/$D28)*(SUM(O28)) -> 0 | R28: =(20/$D28)*(SUM(Q28)) -> 0 | T28: =(20/$D28)*(SUM(S28)) -> 0 | V28: =(20/$D28)*(SUM(U28)) -> 0 | X28: =(20/$D28)*(SUM(W28)) -> 0 | Z28: =(20/$D28)*(SUM(Y28)) -> 0 | AB28: =(20/$D28)*(SUM(AA28)) -> 0 | AD28: =(20/$D28)*(SUM(AC28)) -> 0 | AF28: =(20/$D28)*(SUM(AE28)) -> 0 | AH28: =(20/$D28)*(SUM(AG28)) -> 0 | AJ28: =(20/$D28)*(SUM(AI28)) -> 0 | AL28: =(20/$D28)*(SUM(AK28)) -> 0 | AN28: =(20/$D28)*(SUM(AM28)) -> 0 | AP28: =(20/$D28)*(SUM(AO28)) -> 0 | AR28: =(20/$D28)*(SUM(AQ28)) -> 0 | AT28: =(20/$D28)*(SUM(AS28)) -> 0 | AV28: =(20/$D28)*(SUM(AU28)) -> 0 | AX28: =(20/$D28)*(SUM(AW28)) -> 0 | AZ28: =(20/$D28)*(SUM(AY28)) -> 0 | BB28: =(20/$D28)*(SUM(BA28)) -> 0
A29: B. Formation à la mission opérationnelle. | E29: B. Formation à la mission opérationnelle.
A30: Formation PROTERRE. | B30: Rappel sur les actes réflexes et les actes élémentaires du combattant (théorique) | C30: 2.8 | D30: =SUM(C30:C33) -> 10 | F30: ='[1]Controle continu'!$F$30:$F$33 -> 0 | H30: =(20/$D30)*(SUM(G30:G33)) -> 0 | J30: =(20/$D30)*(SUM(I30:I33)) -> 0 | L30: =(20/$D30)*(SUM(K30:K33)) -> 0 | N30: =(20/$D30)*(SUM(M30:M33)) -> 0 | P30: =(20/$D30)*(SUM(O30:O33)) -> 0 | R30: =(20/$D30)*(SUM(Q30:Q33)) -> 0 | T30: =(20/$D30)*(SUM(S30:S33)) -> 0 | V30: =(20/$D30)*(SUM(U30:U33)) -> 0 | X30: =(20/$D30)*(SUM(W30:W33)) -> 0 | Z30: =(20/$D30)*(SUM(Y30:Y33)) -> 0 | AB30: =(20/$D30)*(SUM(AA30:AA33)) -> 0 | AD30: =(20/$D30)*(SUM(AC30:AC33)) -> 0 | AF30: =(20/$D30)*(SUM(AE30:AE33)) -> 0 | AH30: =(20/$D30)*(SUM(AG30:AG33)) -> 0 | AJ30: =(20/$D30)*(SUM(AI30:AI33)) -> 0 | AL30: =(20/$D30)*(SUM(AK30:AK33)) -> 0 | AN30: =(20/$D30)*(SUM(AM30:AM33)) -> 0 | AP30: =(20/$D30)*(SUM(AO30:AO33)) -> 0 | AR30: =(20/$D30)*(SUM(AQ30:AQ33)) -> 0 | AT30: =(20/$D30)*(SUM(AS30:AS33)) -> 0 | AV30: =(20/$D30)*(SUM(AU30:AU33)) -> 0 | AX30: =(20/$D30)*(SUM(AW30:AW33)) -> 0 | AZ30: =(20/$D30)*(SUM(AY30:AY33)) -> 0 | BB30: =(20/$D30)*(SUM(BA30:BA33)) -> 0
B31: Le trinôme : présentation, rôle du chef d'équipe, les actes élémentaires (se déplacer, s'arrêter et utiliser ses armes) et les commandements | C31: 2.4
B32: Conduite à tenir avec des prisonniers ou le personnel capturé | C32: 1.2
B33: Les missions du trinôme et les ordres | C33: 3.6
A34: Armement. | B34: Théorie | C34: 1.2 | D34: =SUM(C34:C35) -> 21.2 | F34: =(20/$D34)*(SUM(E34:E35)) -> 0 | H34: =(20/$D34)*(SUM(G34:G35)) -> 0 | J34: =(20/$D34)*(SUM(I34:I35)) -> 0 | L34: =(20/$D34)*(SUM(K34:K35)) -> 0 | N34: =(20/$D34)*(SUM(M34:M35)) -> 0 | P34: =(20/$D34)*(SUM(O34:O35)) -> 0 | R34: =(20/$D34)*(SUM(Q34:Q35)) -> 0 | T34: =(20/$D34)*(SUM(S34:S35)) -> 0 | V34: =(20/$D34)*(SUM(U34:U35)) -> 0 | X34: =(20/$D34)*(SUM(W34:W35)) -> 0 | Z34: =(20/$D34)*(SUM(Y34:Y35)) -> 0 | AB34: =(20/$D34)*(SUM(AA34:AA35)) -> 0 | AD34: =(20/$D34)*(SUM(AC34:AC35)) -> 0 | AF34: =(20/$D34)*(SUM(AE34:AE35)) -> 0 | AH34: =(20/$D34)*(SUM(AG34:AG35)) -> 0 | AJ34: =(20/$D34)*(SUM(AI34:AI35)) -> 0 | AL34: =(20/$D34)*(SUM(AK34:AK35)) -> 0 | AN34: =(20/$D34)*(SUM(AM34:AM35)) -> 0 | AP34: =(20/$D34)*(SUM(AO34:AO35)) -> 0 | AR34: =(20/$D34)*(SUM(AQ34:AQ35)) -> 0 | AT34: =(20/$D34)*(SUM(AS34:AS35)) -> 0 | AV34: =(20/$D34)*(SUM(AU34:AU35)) -> 0 | AX34: =(20/$D34)*(SUM(AW34:AW35)) -> 0 | AZ34: =(20/$D34)*(SUM(AY34:AY35)) -> 0 | BB34: =(20/$D34)*(SUM(BA34:BA35)) -> 0
B35: Démontage, manipulations et postures | C35: 20
A36: Tirs. | B36: Tirs FAMAS CCPS | C36: 20 | D36: =SUM(C36:C40) -> 100 | F36: =(20/$D36)*(SUM(E36:E40)) -> 0 | H36: =(20/$D36)*(SUM(G36:G40)) -> 0 | J36: =(20/$D36)*(SUM(I36:I40)) -> 0 | L36: =(20/$D36)*(SUM(K36:K40)) -> 0 | N36: =(20/$D36)*(SUM(M36:M40)) -> 0 | P36: =(20/$D36)*(SUM(O36:O40)) -> 0 | R36: =(20/$D36)*(SUM(Q36:Q40)) -> 0 | T36: =(20/$D36)*(SUM(S36:S40)) -> 0 | V36: =(20/$D36)*(SUM(U36:U40)) -> 0 | X36: =(20/$D36)*(SUM(W36:W40)) -> 0 | Z36: =(20/$D36)*(SUM(Y36:Y40)) -> 0 | AB36: =(20/$D36)*(SUM(AA36:AA40)) -> 0 | AD36: =(20/$D36)*(SUM(AC36:AC40)) -> 0 | AF36: =(20/$D36)*(SUM(AE36:AE40)) -> 0 | AH36: =(20/$D36)*(SUM(AG36:AG40)) -> 0 | AJ36: =(20/$D36)*(SUM(AI36:AI40)) -> 0 | AL36: =(20/$D36)*(SUM(AK36:AK40)) -> 0 | AN36: =(20/$D36)*(SUM(AM36:AM40)) -> 0 | AP36: =(20/$D36)*(SUM(AO36:AO40)) -> 0 | AR36: =(20/$D36)*(SUM(AQ36:AQ40)) -> 0 | AT36: =(20/$D36)*(SUM(AS36:AS40)) -> 0 | AV36: =(20/$D36)*(SUM(AU36:AU40)) -> 0 | AX36: =(20/$D36)*(SUM(AW36:AW40)) -> 0 | AZ36: =(20/$D36)*(SUM(AY36:AY40)) -> 0 | BB36: =(20/$D36)*(SUM(BA36:BA40)) -> 0
B37: Tirs FAMAS module D GPB | C37: 20
B38: Tirs FAMAS module D NBC | C38: 20
B39: Tirs FAMAS module D longue distance | C39: 20
B40: Tirs PAMAC | C40: 20
...

Sheet Examen final
C1: ='Liste des stagiaires'!B4 -> 0 | E1: ='Liste des stagiaires'!B5 -> 0 | G1: ='Liste des stagiaires'!B6 -> 0 | I1: ='Liste des stagiaires'!B7 -> 0 | K1: ='Liste des stagiaires'!B8 -> 0 | M1: ='Liste des stagiaires'!B9 -> 0 | O1: ='Liste des stagiaires'!B10 -> 0 | Q1: ='Liste des stagiaires'!B11 -> 0 | S1: ='Liste des stagiaires'!B12 -> 0 | U1: ='Liste des stagiaires'!B13 -> 0 | W1: ='Liste des stagiaires'!B14 -> 0 | Y1: ='Liste des stagiaires'!B15 -> 0 | AA1: ='Liste des stagiaires'!B16 -> 0 | AC1: ='Liste des stagiaires'!B17 -> 0 | AE1: ='Liste des stagiaires'!B18 -> 0 | AG1: ='Liste des stagiaires'!B19 -> 0 | AI1: ='Liste des stagiaires'!B20 -> 0 | AK1: ='Liste des stagiaires'!B21 -> 0 | AM1: ='Liste des stagiaires'!B22 -> 0 | AO1: ='Liste des stagiaires'!B23 -> 0 | AQ1: ='Liste des stagiaires'!B24 -> 0 | AS1: ='Liste des stagiaires'!B25 -> 0 | AU1: ='Liste des stagiaires'!B26 -> 0 | AW1: ='Liste des stagiaires'!B27 -> 0 | AY1: ='Liste des stagiaires'!A28 -> 0
C2: ='Liste des stagiaires'!C4 -> 0 | E2: ='Liste des stagiaires'!C5 -> 0 | G2: ='Liste des stagiaires'!C6 -> 0 | I2: ='Liste des stagiaires'!C7 -> 0 | K2: ='Liste des stagiaires'!C8 -> 0 | M2: ='Liste des stagiaires'!C9 -> 0 | O2: ='Liste des stagiaires'!C10 -> 0 | Q2: ='Liste des stagiaires'!C11 -> 0 | S2: ='Liste des stagiaires'!C12 -> 0 | U2: ='Liste des stagiaires'!C13 -> 0 | W2: ='Liste des stagiaires'!C14 -> 0 | Y2: ='Liste des stagiaires'!C15 -> 0 | AA2: ='Liste des stagiaires'!C16 -> 0 | AC2: ='Liste des stagiaires'!C17 -> 0 | AE2: ='Liste des stagiaires'!C18 -> 0 | AG2: ='Liste des stagiaires'!C19 -> 0 | AI2: ='Liste des stagiaires'!C20 -> 0 | AK2: ='Liste des stagiaires'!C21 -> 0 | AM2: ='Liste des stagiaires'!C22 -> 0 | AO2: ='Liste des stagiaires'!C23 -> 0 | AQ2: ='Liste des stagiaires'!C24 -> 0 | AS2: ='Liste des stagiaires'!C25 -> 0 | AU2: ='Liste des stagiaires'!C26 -> 0 | AW2: ='Liste des stagiaires'!C27 -> 0 | AY2: ='Liste des stagiaires'!B28 -> 0
A3: A. Formation au comportement militaire. | C3: A. Formation au comportement militaire.
A4: Instruction des subordonnés. | B4: Épreuves écrites (QCM).
A5: Organisation générale de la défense. | B5: Épreuves écrites (QCM).
A6: Connaissance des règlements. | B6: Épreuves écrites (QCM).
A7: Notions de civisme. | B7: Épreuves écrites (QCM).
A8: Techniques d'expression écrite. | B8: Rédaction d'un compte rendu.
A9: B. Formation à la mission opérationnelle. | C9: B. Formation à la mission opérationnelle.
A10: Formation PROTERRE. | B10: Épreuves pratiques au rallye.
A11: Armement. | B11: Épreuves pratiques au rallye.
A12: Tirs. | B12: Épreuves pratiques au rallye.
A13: Défense NRBC. | B13: Épreuves pratiques au rallye.
A14: Transmissions. | B14: Épreuves pratiques au rallye.
A15: Topographie. | B15: Épreuves pratiques au rallye.
A16: Prévention, secourisme. | B16: Épreuves pratiques au rallye.
A17: Génie. | B17: Épreuves pratiques au rallye.
A18: Renseignement, identification. | B18: Épreuves pratiques au rallye.
A19: C. Éducation et entraînement physiques militaires et sportifs. | C19: C. Éducation et entraînement physiques militaires et sportifs.
A20: Notation continue. | B20: Notation continue
A21: Épreuves du CCPG | B21: Aisance aquatique
B22: Cooper
B23: Corde
B24: Abdos
A25: Épreuves du CCPS. | B25: Marche course
A26: Épreuve spécifique. | B26: Parcours d'obstacles
A27: D. Formation académique.
A28: Mathématiques. | B28: Épreuves écrites.
A29: Français. | B29: Épreuves écrites.
A30: Anglais. | B30: Épreuves orales.
A31: E. Formation au management au sein d'une unité élémentaire.
A32: Entretien et gestion du matériel. | B32: Épreuves pratiques.
A33: Gestion et soutien du personnel. | B33: Épreuves écrites (QCM).
A34: Note d'aptitude.
A35: Note d'aptitude sur le raid

Sheet 1
A1: FEUILLE INDIVIDUELLE DES RÉSULTATS DE LA FGE.
A3: Corps: | B3: ='Liste des stagiaires'!D4 -> 0
A5: Nom: | B5: ='Liste des stagiaires'!B4 -> 0 | E5: Prénom: | F5: ='Liste des stagiaires'!C4 -> 0
A7: Matricule: | B7: ='Liste des stagiaires'!E4 -> 0
A9: COMPOSANTES. | C9: CONTRÔLE CONTINU. | D9: EXAMEN FINAL. | E9: MOYENNE. | F9: COEFFICIENTS. | G9: TOTAL.
C10: Note sur 20. | D10: Note sur 20. | E10: Note sur 20.
A11: A. Formation au comportement militaire.
A12: Instruction des subordonnés. | C12: ='Controle continu'!F5 -> 0 | D12: ='Examen final'!C4 -> 0 | E12: =AVERAGE(C12:D12) -> 0 | F12: 3 | G12: =E12*F12 -> 0
A13: Organisation générale de la défense. | C13: ='Controle continu'!F20 -> 0 | D13: ='Examen final'!C5 -> 0 | E13: =AVERAGE(C13:D13) -> 0 | F13: 1 | G13: =E13*F13 -> 0
A14: Connaissance des règlements. | C14: ='Controle continu'!F22 -> 0 | D14: ='Examen final'!C6 -> 0 | E14: =AVERAGE(C14:D14) -> 0 | F14: 3 | G14: =E14*F14 -> 0
A15: Notions de civisme. | C15: ='Controle continu'!F25 -> 0 | D15: ='Examen final'!C7 -> 0 | E15: =AVERAGE(C15:D15) -> 0 | F15: 1 | G15: =E15*F15 -> 0
A16: Techniques d'expression écrite. | C16: ='Controle continu'!F28 -> 0 | D16: ='Examen final'!C8 -> 0 | E16: =AVERAGE(C16:D16) -> 0 | F16: 2 | G16: =E16*F16 -> 0
A17: B. Formation à la mission opérationnelle.
A18: Formation PROTERRE. | C18: ='Controle continu'!F30 -> 0 | D18: ='Examen final'!C10 -> 0 | E18: =AVERAGE(C18:D18) -> 0 | F18: 7 | G18: =E18*F18 -> 0
A19: Armement. | C19: ='Controle continu'!F34 -> 0 | D19: ='Examen final'!C11 -> 0 | E19: =AVERAGE(C19:D19) -> 0 | F19: 3 | G19: =E19*F19 -> 0
A20: Tirs. | C20: ='Controle continu'!F36 -> 0 | D20: ='Examen final'!C12 -> 0 | E20: =AVERAGE(C20:D20) -> 0 | F20: 4 | G20: =E20*F20 -> 0
A21: Défense NRBC. | C21: ='Controle continu'!F41 -> 0 | D21: ='Examen final'!C13 -> 0 | E21: =AVERAGE(C21:D21) -> 0 | F21: 1 | G21: =E21*F21 -> 0
A22: Transmissions. | C22: ='Controle continu'!F44 -> 0 | D22: ='Examen final'!C14 -> 0 | E22: =AVERAGE(C22:D22) -> 0 | F22: 1 | G22: =E22*F22 -> 0
A23: Topographie. | C23: ='Controle continu'!F47 -> 0 | D23: ='Examen final'!C15 -> 0 | E23: =AVERAGE(C23:D23) -> 0 | F23: 2 | G23: =E23*F23 -> 0
A24: Prévention, secourisme. | C24: ='Controle continu'!F51 -> 0 | D24: ='Examen final'!C16 -> 0 | E24: =AVERAGE(C24:D24) -> 0 | F24: 1 | G24: =E24*F24 -> 0
A25: Génie. | C25: ='Controle continu'!F54 -> 0 | D25: ='Examen final'!C17 -> 0 | E25: =AVERAGE(C25:D25) -> 0 | F25: 1 | G25: =E25*F25 -> 0
A26: Renseignement, identification. | C26: ='Controle continu'!F56 -> 0 | D26: ='Examen final'!C18 -> 0 | E26: =AVERAGE(C26:D26) -> 0 | F26: 2 | G26: =E26*F26 -> 0
A27: C. Éducation et entraînement physiques militaires et sportifs.
A28: Notation continue. | C28: ='Controle continu'!F62 -> 0 | D28: ='Examen final'!C20 -> 0 | E28: =AVERAGE(C28:D28) -> 0 | F28: 1 | G28: =E28*F28 -> 0
A29: Épreuves du CCPG | C29: ='Controle continu'!F63 -> 0 | D29: ='Examen final'!D21 -> 0 | E29: =AVERAGE(C29:D29) -> 0 | F29: 2 | G29: =E29*F29 -> 0
A30: Épreuves du CCPS (Marche course) | C30: ='Controle continu'!F67 -> 0 | D30: ='Examen final'!C25 -> 0 | E30: =AVERAGE(C30:D30) -> 0 | F30: 2 | G30: =E30*F30 -> 0
A31: Épreuve spécifique (PO). | C31: ='Controle continu'!F68 -> 0 | D31: ='Examen final'!C26 -> 0 | E31: =AVERAGE(C31:D31) -> 0 | F31: 2 | G31: =E31*F31 -> 0
A32: D. Formation académique.
A33: Mathématiques. | C33: ='Controle continu'!F70 -> 0 | D33: ='Examen final'!C28 -> 0 | E33: =AVERAGE(C33:D33) -> 0 | F33: 1 | G33: =E33*F33 -> 0
A34: Français. | C34: ='Controle continu'!F73 -> 0 | D34: ='Examen final'!C29 -> 0 | E34: =AVERAGE(C34:D34) -> 0 | F34: 1 | G34: =E34*F34 -> 0
A35: Anglais. | C35: ='Controle continu'!F74 -> 0 | D35: ='Examen final'!C30 -> 0 | E35: =AVERAGE(C35:D35) -> 0 | F35: 1 | G35: =E35*F35 -> 0
A36: E. Formation au management au sein d'une unité élémentaire.
A37: Entretien et gestion du matériel. | C37: ='Controle continu'!F78 -> 0 | D37: ='Examen final'!C32 -> 0 | E37: =AVERAGE(C37:D37) -> 0 | F37: 1 | G37: =E37*F37 -> 0
A38: Gestion et soutien du personnel. | C38: ='Controle continu'!F79 -> 0 | D38: ='Examen final'!C33 -> 0 | E38: =AVERAGE(C38:D38) -> 0 | F38: 2 | G38: =E38*F38 -> 0
A39: Note d'aptitude. | C39: ='Controle continu'!E85 -> 0 | D39: ='Examen final'!C35 -> 0 | E39: =AVERAGE(C39:D39) -> 0 | F39: 5 | G39: =E39*F39 -> 0
A40: TOTAL. | C40: =(C12+C13+C14+C15+C16+C18+C19+C20+C21+C22+C23+C24+C25+C26+C28+C29+C30+C31+C33+C34+C35+C37+C38+C39)/24 -> 0 | D40: =(D12+D13+D14+D15+D16+D18+D19+D20+D21+D22+D23+D24+D25+D26+D28+D29+D30+D31+D33+D34+D35+D37+D38+D39)/24 -> 0 | E40: =AVERAGE(C40:D40) -> 0 | F40: 50 | G40: =E40*F40 -> 0
A41: Moyenne en formation générale élémentaire. | D41: =G40/F40 -> 0 | E41: Sur 20
A42: Observations :
A44: À Phalsbourg, | B44: =TODAY() -> 43504
A45: ADJ PICHENEL

Sheet 2
A1: FEUILLE INDIVIDUELLE DES RÉSULTATS DE LA FGE.
A3: Corps: | B3: ='Liste des stagiaires'!D5 -> 0
A5: Nom: | B5: ='Liste des stagiaires'!B5 -> 0 | E5: Prénom: | F5: ='Liste des stagiaires'!C5 -> 0
A7: Matricule: | B7: ='Liste des stagiaires'!E5 -> 0
A9: COMPOSANTES. | C9: CONTRÔLE CONTINU. | D9: EXAMEN FINAL. | E9: MOYENNE. | F9: COEFFICIENTS. | G9: TOTAL.
C10: Note sur 20. | D10: Note sur 20. | E10: Note sur 20.
A11: A. Formation au comportement militaire.
A12: Instruction des subordonnés. | C12: ='Controle continu'!H5 -> 0 | D12: ='Examen final'!E4 -> 0 | E12: =AVERAGE(C12:D12) -> 0 | F12: 3 | G12: =E12*F12 -> 0
A13: Organisation générale de la défense. | C13: ='Controle continu'!H20 -> 0 | D13: ='Examen final'!E5 -> 0 | E13: =AVERAGE(C13:D13) -> 0 | F13: 1 | G13: =E13*F13 -> 0
A14: Connaissance des règlements. | C14: ='Controle continu'!H22 -> 0 | D14: ='Examen final'!E6 -> 0 | E14: =AVERAGE(C14:D14) -> 0 | F14: 3 | G14: =E14*F14 -> 0
A15: Notions de civisme. | C15: ='Controle continu'!H25 -> 0 | D15: ='Examen final'!E7 -> 0 | E15: =AVERAGE(C15:D15) -> 0 | F15: 1 | G15: =E15*F15 -> 0
A16: Techniques d'expression écrite. | C16: ='Controle continu'!H28 -> 0 | D16: ='Examen final'!E8 -> 0 | E16: =AVERAGE(C16:D16) -> 0 | F16: 2 | G16: =E16*F16 -> 0
A17: B. Formation à la mission opérationnelle.
A18: Formation PROTERRE. | C18: ='Controle continu'!H30 -> 0 | D18: ='Examen final'!E10 -> 0 | E18: =AVERAGE(C18:D18) -> 0 | F18: 7 | G18: =E18*F18 -> 0
A19: Armement. | C19: ='Controle continu'!H34 -> 0 | D19: ='Examen final'!E11 -> 0 | E19: =AVERAGE(C19:D19) -> 0 | F19: 3 | G19: =E19*F19 -> 0
A20: Tirs. | C20: ='Controle continu'!H36 -> 0 | D20: ='Examen final'!E12 -> 0 | E20: =AVERAGE(C20:D20) -> 0 | F20: 4 | G20: =E20*F20 -> 0
A21: Défense NRBC. | C21: ='Controle continu'!H41 -> 0 | D21: ='Examen final'!E13 -> 0 | E21: =AVERAGE(C21:D21) -> 0 | F21: 1 | G21: =E21*F21 -> 0
A22: Transmissions. | C22: ='Controle continu'!H44 -> 0 | D22: ='Examen final'!E14 -> 0 | E22: =AVERAGE(C22:D22) -> 0 | F22: 1 | G22: =E22*F22 -> 0
A23: Topographie. | C23: ='Controle continu'!H47 -> 0 | D23: ='Examen final'!E15 -> 0 | E23: =AVERAGE(C23:D23) -> 0 | F23: 2 | G23: =E23*F23 -> 0
A24: Prévention, secourisme. | C24: ='Controle continu'!H51 -> 0 | D24: ='Examen final'!E16 -> 0 | E24: =AVERAGE(C24:D24) -> 0 | F24: 1 | G24: =E24*F24 -> 0
A25: Génie. | C25: ='Controle continu'!H54 -> 0 | D25: ='Examen final'!E17 -> 0 | E25: =AVERAGE(C25:D25) -> 0 | F25: 1 | G25: =E25*F25 -> 0
A26: Renseignement, identification. | C26: ='Controle continu'!H56 -> 0 | D26: ='Examen final'!E18 -> 0 | E26: =AVERAGE(C26:D26) -> 0 | F26: 2 | G26: =E26*F26 -> 0
A27: C. Éducation et entraînement physiques militaires et sportifs.
A28: Notation continue. | C28: ='Controle continu'!H62 -> 0 | D28: ='Examen final'!E20 -> 0 | E28: =AVERAGE(C28:D28) -> 0 | F28: 1 | G28: =E28*F28 -> 0
A29: Épreuves du CCPG | C29: ='Controle continu'!H63 -> 0 | D29: ='Examen final'!F21 -> 0 | E29: =AVERAGE(C29:D29) -> 0 | F29: 2 | G29: =E29*F29 -> 0
A30: Épreuves du CCPS (Marche course) | C30: ='Controle continu'!H67 -> 0 | D30: ='Examen final'!E25 -> 0 | E30: =AVERAGE(C30:D30) -> 0 | F30: 2 | G30: =E30*F30 -> 0
A31: Épreuve spécifique (PO). | C31: ='Controle continu'!H68 -> 0 | D31: ='Examen final'!E26 -> 0 | E31: =AVERAGE(C31:D31) -> 0 | F31: 2 | G31: =E31*F31 -> 0
A32: D. Formation académique.
A33: Mathématiques. | C33: ='Controle continu'!H70 -> 0 | D33: ='Examen final'!E28 -> 0 | E33: =AVERAGE(C33:D33) -> 0 | F33: 1 | G33: =E33*F33 -> 0
A34: Français. | C34: ='Controle continu'!H73 -> 0 | D34: ='Examen final'!E29 -> 0 | E34: =AVERAGE(C34:D34) -> 0 | F34: 1 | G34: =E34*F34 -> 0
A35: Anglais. | C35: ='Controle continu'!H74 -> 0 | D35: ='Examen final'!E30 -> 0 | E35: =AVERAGE(C35:D35) -> 0 | F35: 1 | G35: =E35*F35 -> 0
A36: E. Formation au management au sein d'une unité élémentaire.
A37: Entretien et gestion du matériel. | C37: ='Controle continu'!H78 -> 0 | D37: ='Examen final'!E32 -> 0 | E37: =AVERAGE(C37:D37) -> 0 | F37: 1 | G37: =E37*F37 -> 0
A38: Gestion et soutien du personnel. | C38: ='Controle continu'!H79 -> 0 | D38: ='Examen final'!E33 -> 0 | E38: =AVERAGE(C38:D38) -> 0 | F38: 2 | G38: =E38*F38 -> 0
A39: Note d'aptitude. | C39: ='Controle continu'!G85 -> 0 | D39: ='Examen final'!E35 -> 0 | E39: =AVERAGE(C39:D39) -> 0 | F39: 5 | G39: =E39*F39 -> 0
A40: TOTAL. | C40: =(C12+C13+C14+C15+C16+C18+C19+C20+C21+C22+C23+C24+C25+C26+C28+C29+C30+C31+C33+C34+C35+C37+C38+C39)/24 -> 0 | D40: =(D12+D13+D14+D15+D16+D18+D19+D20+D21+D22+D23+D24+D25+D26+D28+D29+D30+D31+D33+D34+D35+D37+D38+D39)/24 -> 0 | E40: =AVERAGE(C40:D40) -> 0 | F40: 50 | G40: =E40*F40 -> 0
A41: Moyenne en formation générale élémentaire. | D41: =G40/F40 -> 0 | E41: Sur 20
A42: Observations :
A44: À Phalsbourg, | B44: =TODAY() -> 43504
A45: ADJ PICHENEL

Sheet 3
A1: FEUILLE INDIVIDUELLE DES RÉSULTATS DE LA FGE.
A3: Corps: | B3: ='Liste des stagiaires'!D6 -> 0
A5: Nom: | B5: ='Liste des stagiaires'!B6 -> 0 | E5: Prénom: | F5: ='Liste des stagiaires'!C6 -> 0
A7: Matricule: | B7: ='Liste des stagiaires'!E6 -> 0
A9: COMPOSANTES. | C9: CONTRÔLE CONTINU. | D9: EXAMEN FINAL. | E9: MOYENNE. | F9: COEFFICIENTS. | G9: TOTAL.
C10: Note sur 20. | D10: Note sur 20. | E10: Note sur 20.
A11: A. Formation au comportement militaire.
A12: Instruction des subordonnés. | C12: ='Controle continu'!J5 -> 0 | D12: ='Examen final'!G4 -> 0 | E12: =AVERAGE(C12:D12) -> 0 | F12: 3 | G12: =E12*F12 -> 0
A13: Organisation générale de la défense. | C13: ='Controle continu'!J20 -> 0 | D13: ='Examen final'!G5 -> 0 | E13: =AVERAGE(C13:D13) -> 0 | F13: 1 | G13: =E13*F13 -> 0
A14: Connaissance des règlements. | C14: ='Controle continu'!J22 -> 0 | D14: ='Examen final'!G6 -> 0 | E14: =AVERAGE(C14:D14) -> 0 | F14: 3 | G14: =E14*F14 -> 0
A15: Notions de civisme. | C15: ='Controle continu'!J25 -> 0 | D15: ='Examen final'!G7 -> 0 | E15: =AVERAGE(C15:D15) -> 0 | F15: 1 | G15: =E15*F15 -> 0
A16: Techniques d'expression écrite. | C16: ='Controle continu'!J28 -> 0 | D16: ='Examen final'!G8 -> 0 | E16: =AVERAGE(C16:D16) -> 0 | F16: 2 | G16: =E16*F16 -> 0
A17: B. Formation à la mission opérationnelle.
A18: Formation PROTERRE. | C18: ='Controle continu'!J30 -> 0 | D18: ='Examen final'!G10 -> 0 | E18: =AVERAGE(C18:D18) -> 0 | F18: 7 | G18: =E18*F18 -> 0
A19: Armement. | C19: ='Controle continu'!J34 -> 0 | D19: ='Examen final'!G11 -> 0 | E19: =AVERAGE(C19:D19) -> 0 | F19: 3 | G19: =E19*F19 -> 0
A20: Tirs. | C20: ='Controle continu'!J36 -> 0 | D20: ='Examen final'!G12 -> 0 | E20: =AVERAGE(C20:D20) -> 0 | F20: 4 | G20: =E20*F20 -> 0
A21: Défense NRBC. | C21: ='Controle continu'!J41 -> 0 | D21: ='Examen final'!G13 -> 0 | E21: =AVERAGE(C21:D21) -> 0 | F21: 1 | G21: =E21*F21 -> 0
A22: Transmissions. | C22: ='Controle continu'!J44 -> 0 | D22: ='Examen final'!G14 -> 0 | E22: =AVERAGE(C22:D22) -> 0 | F22: 1 | G22: =E22*F22 -> 0
A23: Topographie. | C23: ='Controle continu'!J47 -> 0 | D23: ='Examen final'!G15 -> 0 | E23: =AVERAGE(C23:D23) -> 0 | F23: 2 | G23: =E23*F23 -> 0
A24: Prévention, secourisme. | C24: ='Controle continu'!J51 -> 0 | D24: ='Examen final'!G16 -> 0 | E24: =AVERAGE(C24:D24) -> 0 | F24: 1 | G24: =E24*F24 -> 0
A25: Génie. | C25: ='Controle continu'!J54 -> 0 | D25: ='Examen final'!G17 -> 0 | E25: =AVERAGE(C25:D25) -> 0 | F25: 1 | G25: =E25*F25 -> 0
A26: Renseignement, identification. | C26: ='Controle continu'!J56 -> 0 | D26: ='Examen final'!G18 -> 0 | E26: =AVERAGE(C26:D26) -> 0 | F26: 2 | G26: =E26*F26 -> 0
A27: C. Éducation et entraînement physiques militaires et sportifs.
A28: Notation continue. | C28: ='Controle continu'!J62 -> 0 | D28: ='Examen final'!G20 -> 0 | E28: =AVERAGE(C28:D28) -> 0 | F28: 1 | G28: =E28*F28 -> 0
A29: Épreuves du CCPG | C29: ='Controle continu'!J63 -> 0 | D29: ='Examen final'!H21 -> 0 | E29: =AVERAGE(C29:D29) -> 0 | F29: 2 | G29: =E29*F29 -> 0
A30: Épreuves du CCPS (Marche course) | C30: ='Controle continu'!J67 -> 0 | D30: ='Examen final'!G25 -> 0 | E30: =AVERAGE(C30:D30) -> 0 | F30: 2 | G30: =E30*F30 -> 0
A31: Épreuve spécifique (PO). | C31: ='Controle continu'!J68 -> 0 | D31: ='Examen final'!G26 -> 0 | E31: =AVERAGE(C31:D31) -> 0 | F31: 2 | G31: =E31*F31 -> 0
A32: D. Formation académique.
A33: Mathématiques. | C33: ='Controle continu'!J70 -> 0 | D33: ='Examen final'!G28 -> 0 | E33: =AVERAGE(C33:D33) -> 0 | F33: 1 | G33: =E33*F33 -> 0
A34: Français. | C34: ='Controle continu'!J73 -> 0 | D34: ='Examen final'!G29 -> 0 | E34: =AVERAGE(C34:D34) -> 0 | F34: 1 | G34: =E34*F34 -> 0
A35: Anglais. | C35: ='Controle continu'!J74 -> 0 | D35: ='Examen final'!G30 -> 0 | E35: =AVERAGE(C35:D35) -> 0 | F35: 1 | G35: =E35*F35 -> 0
A36: E. Formation au management au sein d'une unité élémentaire.
A37: Entretien et gestion du matériel. | C37: ='Controle continu'!J78 -> 0 | D37: ='Examen final'!G32 -> 0 | E37: =AVERAGE(C37:D37) -> 0 | F37: 1 | G37: =E37*F37 -> 0
A38: Gestion et soutien du personnel. | C38: ='Controle continu'!J79 -> 0 | D38: ='Examen final'!G33 -> 0 | E38: =AVERAGE(C38:D38) -> 0 | F38: 2 | G38: =E38*F38 -> 0
A39: Note d'aptitude. | C39: ='Controle continu'!I85 -> 0 | D39: ='Examen final'!G35 -> 0 | E39: =AVERAGE(C39:D39) -> 0 | F39: 5 | G39: =E39*F39 -> 0
A40: TOTAL. | C40: =(C12+C13+C14+C15+C16+C18+C19+C20+C21+C22+C23+C24+C25+C26+C28+C29+C30+C31+C33+C34+C35+C37+C38+C39)/24 -> 0 | D40: =(D12+D13+D14+D15+D16+D18+D19+D20+D21+D22+D23+D24+D25+D26+D28+D29+D30+D31+D33+D34+D35+D37+D38+D39)/24 -> 0 | E40: =AVERAGE(C40:D40) -> 0 | F40: 50 | G40: =E40*F40 -> 0
A41: Moyenne en formation générale élémentaire. | D41: =G40/F40 -> 0 | E41: Sur 20
A42: Observations :
A44: À Phalsbourg, | B44: =TODAY() -> 43504
A45: ADJ PICHENEL

Sheet 4
A1: FEUILLE INDIVIDUELLE DES RÉSULTATS DE LA FGE.
A3: Corps: | B3: ='Liste des stagiaires'!D7 -> 0
A5: Nom: | B5: ='Liste des stagiaires'!B7 -> 0 | E5: Prénom: | F5: ='Liste des stagiaires'!C7 -> 0
A7: Matricule: | B7: ='Liste des stagiaires'!E7 -> 0
A9: COMPOSANTES. | C9: CONTRÔLE CONTINU. | D9: EXAMEN FINAL. | E9: MOYENNE. | F9: COEFFICIENTS. | G9: TOTAL.
C10: Note sur 20. | D10: Note sur 20. | E10: Note sur 20.
A11: A. Formation au comportement militaire.
A12: Instruction des subordonnés. | C12: ='Controle continu'!L5 -> 0 | D12: ='Examen final'!I4 -> 0 | E12: =AVERAGE(C12:D12) -> 0 | F12: 3 | G12: =E12*F12 -> 0
A13: Organisation générale de la défense. | C13: ='Controle continu'!L20 -> 0 | D13: ='Examen final'!I5 -> 0 | E13: =AVERAGE(C13:D13) -> 0 | F13: 1 | G13: =E13*F13 -> 0
A14: Connaissance des règlements. | C14: ='Controle continu'!L22 -> 0 | D14: ='Examen final'!I6 -> 0 | E14: =AVERAGE(C14:D14) -> 0 | F14: 3 | G14: =E14*F14 -> 0
A15: Notions de civisme. | C15: ='Controle continu'!L25 -> 0 | D15: ='Examen final'!I7 -> 0 | E15: =AVERAGE(C15:D15) -> 0 | F15: 1 | G15: =E15*F15 -> 0
A16: Techniques d'expression écrite. | C16: ='Controle continu'!L28 -> 0 | D16: ='Examen final'!I8 -> 0 | E16: =AVERAGE(C16:D16) -> 0 | F16: 2 | G16: =E16*F16 -> 0
A17: B. Formation à la mission opérationnelle.
A18: Formation PROTERRE. | C18: ='Controle continu'!L30 -> 0 | D18: ='Examen final'!I10 -> 0 | E18: =AVERAGE(C18:D18) -> 0 | F18: 7 | G18: =E18*F18 -> 0
A19: Armement. | C19: ='Controle continu'!L34 -> 0 | D19: ='Examen final'!I11 -> 0 | E19: =AVERAGE(C19:D19) -> 0 | F19: 3 | G19: =E19*F19 -> 0
A20: Tirs. | C20: ='Controle continu'!L36 -> 0 | D20: ='Examen final'!I12 -> 0 | E20: =AVERAGE(C20:D20) -> 0 | F20: 4 | G20: =E20*F20 -> 0
A21: Défense NRBC. | C21: ='Controle continu'!L41 -> 0 | D21: ='Examen final'!I13 -> 0 | E21: =AVERAGE(C21:D21) -> 0 | F21: 1 | G21: =E21*F21 -> 0
A22: Transmissions. | C22: ='Controle continu'!L44 -> 0 | D22: ='Examen final'!I14 -> 0 | E22: =AVERAGE(C22:D22) -> 0 | F22: 1 | G22: =E22*F22 -> 0
A23: Topographie. | C23: ='Controle continu'!L47 -> 0 | D23: ='Examen final'!I15 -> 0 | E23: =AVERAGE(C23:D23) -> 0 | F23: 2 | G23: =E23*F23 -> 0
A24: Prévention, secourisme. | C24: ='Controle continu'!L51 -> 0 | D24: ='Examen final'!I16 -> 0 | E24: =AVERAGE(C24:D24) -> 0 | F24: 1 | G24: =E24*F24 -> 0
A25: Génie. | C25: ='Controle continu'!L54 -> 0 | D25: ='Examen final'!I17 -> 0 | E25: =AVERAGE(C25:D25) -> 0 | F25: 1 | G25: =E25*F25 -> 0
A26: Renseignement, identification. | C26: ='Controle continu'!L56 -> 0 | D26: ='Examen final'!I18 -> 0 | E26: =AVERAGE(C26:D26) -> 0 | F26: 2 | G26: =E26*F26 -> 0
A27: C. Éducation et entraînement physiques militaires et sportifs.
A28: Notation continue. | C28: ='Controle continu'!L62 -> 0 | D28: ='Examen final'!I20 -> 0 | E28: =AVERAGE(C28:D28) -> 0 | F28: 1 | G28: =E28*F28 -> 0
A29: Épreuves du CCPG | C29: ='Controle continu'!L63 -> 0 | D29: ='Examen final'!J21 -> 0 | E29: =AVERAGE(C29:D29) -> 0 | F29: 2 | G29: =E29*F29 -> 0
A30: Épreuves du CCPS (Marche course) | C30: ='Controle continu'!L67 -> 0 | D30: ='Examen final'!I25 -> 0 | E30: =AVERAGE(C30:D30) -> 0 | F30: 2 | G30: =E30*F30 -> 0
A31: Épreuve spécifique (PO). | C31: ='Controle continu'!L68 -> 0 | D31: ='Examen final'!I26 -> 0 | E31: =AVERAGE(C31:D31) -> 0 | F31: 2 | G31: =E31*F31 -> 0
A32: D. Formation académique.
A33: Mathématiques. | C33: ='Controle continu'!L70 -> 0 | D33: ='Examen final'!I28 -> 0 | E33: =AVERAGE(C33:D33) -> 0 | F33: 1 | G33: =E33*F33 -> 0
A34: Français. | C34: ='Controle continu'!L73 -> 0 | D34: ='Examen final'!I29 -> 0 | E34: =AVERAGE(C34:D34) -> 0 | F34: 1 | G34: =E34*F34 -> 0
A35: Anglais. | C35: ='Controle continu'!L74 -> 0 | D35: ='Examen final'!I30 -> 0 | E35: =AVERAGE(C35:D35) -> 0 | F35: 1 | G35: =E35*F35 -> 0
A36: E. Formation au management au sein d'une unité élémentaire.
A37: Entretien et gestion du matériel. | C37: ='Controle continu'!L78 -> 0 | D37: ='Examen final'!I32 -> 0 | E37: =AVERAGE(C37:D37) -> 0 | F37: 1 | G37: =E37*F37 -> 0
A38: Gestion et soutien du personnel. | C38: ='Controle continu'!L79 -> 0 | D38: ='Examen final'!I33 -> 0 | E38: =AVERAGE(C38:D38) -> 0 | F38: 2 | G38: =E38*F38 -> 0
A39: Note d'aptitude. | C39: ='Controle continu'!K85 -> 0 | D39: ='Examen final'!I35 -> 0 | E39: =AVERAGE(C39:D39) -> 0 | F39: 5 | G39: =E39*F39 -> 0
A40: TOTAL. | C40: =(C12+C13+C14+C15+C16+C18+C19+C20+C21+C22+C23+C24+C25+C26+C28+C29+C30+C31+C33+C34+C35+C37+C38+C39)/24 -> 0 | D40: =(D12+D13+D14+D15+D16+D18+D19+D20+D21+D22+D23+D24+D25+D26+D28+D29+D30+D31+D33+D34+D35+D37+D38+D39)/24 -> 0 | E40: =AVERAGE(C40:D40) -> 0 | F40: 50 | G40: =E40*F40 -> 0
A41: Moyenne en formation générale élémentaire. | D41: =G40/F40 -> 0 | E41: Sur 20
A42: Observations :
A44: À Phalsbourg, | B44: =TODAY() -> 43504
A45: ADJ PICHENEL

Sheet 5
A1: FEUILLE INDIVIDUELLE DES RÉSULTATS DE LA FGE.
A3: Corps: | B3: ='Liste des stagiaires'!D8 -> 0
A5: Nom: | B5: ='Liste des stagiaires'!B8 -> 0 | E5: Prénom: | F5: ='Liste des stagiaires'!C8 -> 0
A7: Matricule: | B7: ='Liste des stagiaires'!E8 -> 0
A9: COMPOSANTES. | C9: CONTRÔLE CONTINU. | D9: EXAMEN FINAL. | E9: MOYENNE. | F9: COEFFICIENTS. | G9: TOTAL.
C10: Note sur 20. | D10: Note sur 20. | E10: Note sur 20.
A11: A. Formation au comportement militaire.
A12: Instruction des subordonnés. | C12: ='Controle continu'!N5 -> 0 | D12: ='Examen final'!K4 -> 0 | E12: =AVERAGE(C12:D12) -> 0 | F12: 3 | G12: =E12*F12 -> 0
A13: Organisation générale de la défense. | C13: ='Controle continu'!N20 -> 0 | D13: ='Examen final'!K5 -> 0 | E13: =AVERAGE(C13:D13) -> 0 | F13: 1 | G13: =E13*F13 -> 0
A14: Connaissance des règlements. | C14: ='Controle continu'!N22 -> 0 | D14: ='Examen final'!K6 -> 0 | E14: =AVERAGE(C14:D14) -> 0 | F14: 3 | G14: =E14*F14 -> 0
A15: Notions de civisme. | C15: ='Controle continu'!N25 -> 0 | D15: ='Examen final'!K7 -> 0 | E15: =AVERAGE(C15:D15) -> 0 | F15: 1 | G15: =E15*F15 -> 0
A16: Techniques d'expression écrite. | C16: ='Controle continu'!N28 -> 0 | D16: ='Examen final'!K8 -> 0 | E16: =AVERAGE(C16:D16) -> 0 | F16: 2 | G16: =E16*F16 -> 0
A17: B. Formation à la mission opérationnelle.
A18: Formation PROTERRE. | C18: ='Controle continu'!N30 -> 0 | D18: ='Examen final'!K10 -> 0 | E18: =AVERAGE(C18:D18) -> 0 | F18: 7 | G18: =E18*F18 -> 0
A19: Armement. | C19: ='Controle continu'!N34 -> 0 | D19: ='Examen final'!K11 -> 0 | E19: =AVERAGE(C19:D19) -> 0 | F19: 3 | G19: =E19*F19 -> 0
A20: Tirs. | C20: ='Controle continu'!N36 -> 0 | D20: ='Examen final'!K12 -> 0 | E20: =AVERAGE(C20:D20) -> 0 | F20: 4 | G20: =E20*F20 -> 0
A21: Défense NRBC. | C21: ='Controle continu'!N41 -> 0 | D21: ='Examen final'!K13 -> 0 | E21: =AVERAGE(C21:D21) -> 0 | F21: 1 | G21: =E21*F21 -> 0
A22: Transmissions. | C22: ='Controle continu'!N44 -> 0 | D22: ='Examen final'!K14 -> 0 | E22: =AVERAGE(C22:D22) -> 0 | F22: 1 | G22: =E22*F22 -> 0
A23: Topographie. | C23: ='Controle continu'!N47 -> 0 | D23: ='Examen final'!K15 -> 0 | E23: =AVERAGE(C23:D23) -> 0 | F23: 2 | G23: =E23*F23 -> 0
A24: Prévention, secourisme. | C24: ='Controle continu'!N51 -> 0 | D24: ='Examen final'!K16 -> 0 | E24: =AVERAGE(C24:D24) -> 0 | F24: 1 | G24: =E24*F24 -> 0
A25: Génie. | C25: ='Controle continu'!N54 -> 0 | D25: ='Examen final'!K17 -> 0 | E25: =AVERAGE(C25:D25) -> 0 | F25: 1 | G25: =E25*F25 -> 0
A26: Renseignement, identification. | C26: ='Controle continu'!N56 -> 0 | D26: ='Examen final'!K18 -> 0 | E26: =AVERAGE(C26:D26) -> 0 | F26: 2 | G26: =E26*F26 -> 0
A27: C. Éducation et entraînement physiques militaires et sportifs.
A28: Notation continue. | C28: ='Controle continu'!N62 -> 0 | D28: ='Examen final'!K20 -> 0 | E28: =AVERAGE(C28:D28) -> 0 | F28: 1 | G28: =E28*F28 -> 0
A29: Épreuves du CCPG | C29: ='Controle continu'!N63 -> 0 | D29: ='Examen final'!L21 -> 0 | E29: =AVERAGE(C29:D29) -> 0 | F29: 2 | G29: =E29*F29 -> 0
A30: Épreuves du CCPS (Marche course) | C30: ='Controle continu'!N67 -> 0 | D30: ='Examen final'!K25 -> 0 | E30: =AVERAGE(C30:D30) -> 0 | F30: 2 | G30: =E30*F30 -> 0
A31: Épreuve spécifique (PO). | C31: ='Controle continu'!N68 -> 0 | D31: ='Examen final'!K26 -> 0 | E31: =AVERAGE(C31:D31) -> 0 | F31: 2 | G31: =E31*F31 -> 0
A32: D. Formation académique.
A33: Mathématiques. | C33: ='Controle continu'!N70 -> 0 | D33: ='Examen final'!K28 -> 0 | E33: =AVERAGE(C33:D33) -> 0 | F33: 1 | G33: =E33*F33 -> 0
A34: Français. | C34: ='Controle continu'!N73 -> 0 | D34: ='Examen final'!K29 -> 0 | E34: =AVERAGE(C34:D34) -> 0 | F34: 1 | G34: =E34*F34 -> 0
A35: Anglais. | C35: ='Controle continu'!N74 -> 0 | D35: ='Examen final'!K30 -> 0 | E35: =AVERAGE(C35:D35) -> 0 | F35: 1 | G35: =E35*F35 -> 0
A36: E. Formation au management au sein d'une unité élémentaire.
A37: Entretien et gestion du matériel. | C37: ='Controle continu'!N78 -> 0 | D37: ='Examen final'!K32 -> 0 | E37: =AVERAGE(C37:D37) -> 0 | F37: 1 | G37: =E37*F37 -> 0
A38: Gestion et soutien du personnel. | C38: ='Controle continu'!N79 -> 0 | D38: ='Examen final'!K33 -> 0 | E38: =AVERAGE(C38:D38) -> 0 | F38: 2 | G38: =E38*F38 -> 0
A39: Note d'aptitude. | C39: ='Controle continu'!M85 -> 0 | D39: ='Examen final'!K35 -> 0 | E39: =AVERAGE(C39:D39) -> 0 | F39: 5 | G39: =E39*F39 -> 0
A40: TOTAL. | C40: =(C12+C13+C14+C15+C16+C18+C19+C20+C21+C22+C23+C24+C25+C26+C28+C29+C30+C31+C33+C34+C35+C37+C38+C39)/24 -> 0 | D40: =(D12+D13+D14+D15+D16+D18+D19+D20+D21+D22+D23+D24+D25+D26+D28+D29+D30+D31+D33+D34+D35+D37+D38+D39)/24 -> 0 | E40: =AVERAGE(C40:D40) -> 0 | F40: 50 | G40: =E40*F40 -> 0
A41: Moyenne en formation générale élémentaire. | D41: =G40/F40 -> 0 | E41: Sur 20
A42: Observations :
A44: À Phalsbourg, | B44: =TODAY() -> 43504
A45: ADJ PICHENEL

Sheet 6
A1: FEUILLE INDIVIDUELLE DES RÉSULTATS DE LA FGE.
A3: Corps: | B3: ='Liste des stagiaires'!D9 -> 0
A5: Nom: | B5: ='Liste des stagiaires'!B9 -> 0 | E5: Prénom: | F5: ='Liste des stagiaires'!C9 -> 0
A7: Matricule: | B7: ='Liste des stagiaires'!E9 -> 0
A9: COMPOSANTES. | C9: CONTRÔLE CONTINU. | D9: EXAMEN FINAL. | E9: MOYENNE. | F9: COEFFICIENTS. | G9: TOTAL.
C10: Note sur 20. | D10: Note sur 20. | E10: Note sur 20.
A11: A. Formation au comportement militaire.
A12: Instruction des subordonnés. | C12: ='Controle continu'!P5 -> 0 | D12: ='Examen final'!M4 -> 0 | E12: =AVERAGE(C12:D12) -> 0 | F12: 3 | G12: =E12*F12 -> 0
A13: Organisation générale de la défense. | C13: ='Controle continu'!P20 -> 0 | D13: ='Examen final'!M5 -> 0 | E13: =AVERAGE(C13:D13) -> 0 | F13: 1 | G13: =E13*F13 -> 0
A14: Connaissance des règlements. | C14: ='Controle continu'!P22 -> 0 | D14: ='Examen final'!M6 -> 0 | E14: =AVERAGE(C14:D14) -> 0 | F14: 3 | G14: =E14*F14 -> 0
A15: Notions de civisme. | C15: ='Controle continu'!P25 -> 0 | D15: ='Examen final'!M7 -> 0 | E15: =AVERAGE(C15:D15) -> 0 | F15: 1 | G15: =E15*F15 -> 0
A16: Techniques d'expression écrite. | C16: ='Controle continu'!P28 -> 0 | D16: ='Examen final'!M8 -> 0 | E16: =AVERAGE(C16:D16) -> 0 | F16: 2 | G16: =E16*F16 -> 0
A17: B. Formation à la mission opérationnelle.
A18: Formation PROTERRE. | C18: ='Controle continu'!P30 -> 0 | D18: ='Examen final'!M10 -> 0 | E18: =AVERAGE(C18:D18) -> 0 | F18: 7 | G18: =E18*F18 -> 0
A19: Armement. | C19: ='Controle continu'!P34 -> 0 | D19: ='Examen final'!M11 -> 0 | E19: =AVERAGE(C19:D19) -> 0 | F19: 3 | G19: =E19*F19 -> 0
A20: Tirs. | C20: ='Controle continu'!P36 -> 0 | D20: ='Examen final'!M12 -> 0 | E20: =AVERAGE(C20:D20) -> 0 | F20: 4 | G20: =E20*F20 -> 0
A21: Défense NRBC. | C21: ='Controle continu'!P41 -> 0 | D21: ='Examen final'!M13 -> 0 | E21: =AVERAGE(C21:D21) -> 0 | F21: 1 | G21: =E21*F21 -> 0
A22: Transmissions. | C22: ='Controle continu'!P44 -> 0 | D22: ='Examen final'!M14 -> 0 | E22: =AVERAGE(C22:D22) -> 0 | F22: 1 | G22: =E22*F22 -> 0
A23: Topographie. | C23: ='Controle continu'!P47 -> 0 | D23: ='Examen final'!M15 -> 0 | E23: =AVERAGE(C23:D23) -> 0 | F23: 2 | G23: =E23*F23 -> 0
A24: Prévention, secourisme. | C24: ='Controle continu'!P51 -> 0 | D24: ='Examen final'!M16 -> 0 | E24: =AVERAGE(C24:D24) -> 0 | F24: 1 | G24: =E24*F24 -> 0
A25: Génie. | C25: ='Controle continu'!P54 -> 0 | D25: ='Examen final'!M17 -> 0 | E25: =AVERAGE(C25:D25) -> 0 | F25: 1 | G25: =E25*F25 -> 0
A26: Renseignement, identification. | C26: ='Controle continu'!P56 -> 0 | D26: ='Examen final'!M18 -> 0 | E26: =AVERAGE(C26:D26) -> 0 | F26: 2 | G26: =E26*F26 -> 0
A27: C. Éducation et entraînement physiques militaires et sportifs.
A28: Notation continue. | C28: ='Controle continu'!P62 -> 0 | D28: ='Examen final'!M20 -> 0 | E28: =AVERAGE(C28:D28) -> 0 | F28: 1 | G28: =E28*F28 -> 0
A29: Épreuves du CCPG | C29: ='Controle continu'!P63 -> 0 | D29: ='Examen final'!N21 -> 0 | E29: =AVERAGE(C29:D29) -> 0 | F29: 2 | G29: =E29*F29 -> 0
A30: Épreuves du CCPS (Marche course) | C30: ='Controle continu'!P67 -> 0 | D30: ='Examen final'!M25 -> 0 | E30: =AVERAGE(C30:D30) -> 0 | F30: 2 | G30: =E30*F30 -> 0
A31: Épreuve spécifique (PO). | C31: ='Controle continu'!P68 -> 0 | D31: ='Examen final'!M26 -> 0 | E31: =AVERAGE(C31:D31) -> 0 | F31: 2 | G31: =E31*F31 -> 0
A32: D. Formation académique.
A33: Mathématiques. | C33: ='Controle continu'!P70 -> 0 | D33: ='Examen final'!M28 -> 0 | E33: =AVERAGE(C33:D33) -> 0 | F33: 1 | G33: =E33*F33 -> 0
A34: Français. | C34: ='Controle continu'!P73 -> 0 | D34: ='Examen final'!M29 -> 0 | E34: =AVERAGE(C34:D34) -> 0 | F34: 1 | G34: =E34*F34 -> 0
A35: Anglais. | C35: ='Controle continu'!P74 -> 0 | D35: ='Examen final'!M30 -> 0 | E35: =AVERAGE(C35:D35) -> 0 | F35: 1 | G35: =E35*F35 -> 0
A36: E. Formation au management au sein d'une unité élémentaire.
A37: Entretien et gestion du matériel. | C37: ='Controle continu'!P78 -> 0 | D37: ='Examen final'!M32 -> 0 | E37: =AVERAGE(C37:D37) -> 0 | F37: 1 | G37: =E37*F37 -> 0
A38: Gestion et soutien du personnel. | C38: ='Controle continu'!P79 -> 0 | D38: ='Examen final'!M33 -> 0 | E38: =AVERAGE(C38:D38) -> 0 | F38: 2 | G38: =E38*F38 -> 0
A39: Note d'aptitude. | C39: ='Controle continu'!O85 -> 0 | D39: ='Examen final'!M35 -> 0 | E39: =AVERAGE(C39:D39) -> 0 | F39: 5 | G39: =E39*F39 -> 0
A40: TOTAL. | C40: =(C12+C13+C14+C15+C16+C18+C19+C20+C21+C22+C23+C24+C25+C26+C28+C29+C30+C31+C33+C34+C35+C37+C38+C39)/24 -> 0 | D40: =(D12+D13+D14+D15+D16+D18+D19+D20+D21+D22+D23+D24+D25+D26+D28+D29+D30+D31+D33+D34+D35+D37+D38+D39)/24 -> 0 | E40: =AVERAGE(C40:D40) -> 0 | F40: 50 | G40: =E40*F40 -> 0
A41: Moyenne en formation générale élémentaire. | D41: =G40/F40 -> 0 | E41: Sur 20
A42: Observations :
A44: À Phalsbourg, | B44: =TODAY() -> 43504
A45: ADJ PICHENEL

Sheet 7
A1: FEUILLE INDIVIDUELLE DES RÉSULTATS DE LA FGE.
A3: Corps: | B3: ='Liste des stagiaires'!D10 -> 0
A5: Nom: | B5: ='Liste des stagiaires'!B10 -> 0 | E5: Prénom: | F5: ='Liste des stagiaires'!C10 -> 0
A7: Matricule: | B7: ='Liste des stagiaires'!E10 -> 0
A9: COMPOSANTES. | C9: CONTRÔLE CONTINU. | D9: EXAMEN FINAL. | E9: MOYENNE. | F9: COEFFICIENTS. | G9: TOTAL.
C10: Note sur 20. | D10: Note sur 20. | E10: Note sur 20.
A11: A. Formation au comportement militaire.
A12: Instruction des subordonnés. | C12: ='Controle continu'!R5 -> 0 | D12: ='Examen final'!O4 -> 0 | E12: =AVERAGE(C12:D12) -> 0 | F12: 3 | G12: =E12*F12 -> 0
A13: Organisation générale de la défense. | C13: ='Controle continu'!R20 -> 0 | D13: ='Examen final'!O5 -> 0 | E13: =AVERAGE(C13:D13) -> 0 | F13: 1 | G13: =E13*F13 -> 0
A14: Connaissance des règlements. | C14: ='Controle continu'!R22 -> 0 | D14: ='Examen final'!O6 -> 0 | E14: =AVERAGE(C14:D14) -> 0 | F14: 3 | G14: =E14*F14 -> 0
A15: Notions de civisme. | C15: ='Controle continu'!R25 -> 0 | D15: ='Examen final'!O7 -> 0 | E15: =AVERAGE(C15:D15) -> 0 | F15: 1 | G15: =E15*F15 -> 0
A16: Techniques d'expression écrite. | C16: ='Controle continu'!R28 -> 0 | D16: ='Examen final'!O8 -> 0 | E16: =AVERAGE(C16:D16) -> 0 | F16: 2 | G16: =E16*F16 -> 0
A17: B. Formation à la mission opérationnelle.
A18: Formation PROTERRE. | C18: ='Controle continu'!R30 -> 0 | D18: ='Examen final'!O10 -> 0 | E18: =AVERAGE(C18:D18) -> 0 | F18: 7 | G18: =E18*F18 -> 0
A19: Armement. | C19: ='Controle continu'!R34 -> 0 | D19: ='Examen final'!O11 -> 0 | E19: =AVERAGE(C19:D19) -> 0 | F19: 3 | G19: =E19*F19 -> 0
A20: Tirs. | C20: ='Controle continu'!R36 -> 0 | D20: ='Examen final'!O12 -> 0 | E20: =AVERAGE(C20:D20) -> 0 | F20: 4 | G20: =E20*F20 -> 0
A21: Défense NRBC. | C21: ='Controle continu'!R41 -> 0 | D21: ='Examen final'!O13 -> 0 | E21: =AVERAGE(C21:D21) -> 0 | F21: 1 | G21: =E21*F21 -> 0
A22: Transmissions. | C22: ='Controle continu'!R44 -> 0 | D22: ='Examen final'!O14 -> 0 | E22: =AVERAGE(C22:D22) -> 0 | F22: 1 | G22: =E22*F22 -> 0
A23: Topographie. | C23: ='Controle continu'!R47 -> 0 | D23: ='Examen final'!O15 -> 0 | E23: =AVERAGE(C23:D23) -> 0 | F23: 2 | G23: =E23*F23 -> 0
A24: Prévention, secourisme. | C24: ='Controle continu'!R51 -> 0 | D24: ='Examen final'!O16 -> 0 | E24: =AVERAGE(C24:D24) -> 0 | F24: 1 | G24: =E24*F24 -> 0
A25: Génie. | C25: ='Controle continu'!R54 -> 0 | D25: ='Examen final'!O17 -> 0 | E25: =AVERAGE(C25:D25) -> 0 | F25: 1 | G25: =E25*F25 -> 0
A26: Renseignement, identification. | C26: ='Controle continu'!R56 -> 0 | D26: ='Examen final'!O18 -> 0 | E26: =AVERAGE(C26:D26) -> 0 | F26: 2 | G26: =E26*F26 -> 0
A27: C. Éducation et entraînement physiques militaires et sportifs.
A28: Notation continue. | C28: ='Controle continu'!R62 -> 0 | D28: ='Examen final'!O20 -> 0 | E28: =AVERAGE(C28:D28) -> 0 | F28: 1 | G28: =E28*F28 -> 0
A29: Épreuves du CCPG | C29: ='Controle continu'!R63 -> 0 | D29: ='Examen final'!P21 -> 0 | E29: =AVERAGE(C29:D29) -> 0 | F29: 2 | G29: =E29*F29 -> 0
A30: Épreuves du CCPS (Marche course) | C30: ='Controle continu'!R67 -> 0 | D30: ='Examen final'!O25 -> 0 | E30: =AVERAGE(C30:D30) -> 0 | F30: 2 | G30: =E30*F30 -> 0
A31: Épreuve spécifique (PO). | C31: ='Controle continu'!R68 -> 0 | D31: ='Examen final'!O26 -> 0 | E31: =AVERAGE(C31:D31) -> 0 | F31: 2 | G31: =E31*F31 -> 0
A32: D. Formation académique.
A33: Mathématiques. | C33: ='Controle continu'!R70 -> 0 | D33: ='Examen final'!O28 -> 0 | E33: =AVERAGE(C33:D33) -> 0 | F33: 1 | G33: =E33*F33 -> 0
A34: Français. | C34: ='Controle continu'!R73 -> 0 | D34: ='Examen final'!O29 -> 0 | E34: =AVERAGE(C34:D34) -> 0 | F34: 1 | G34: =E34*F34 -> 0
A35: Anglais. | C35: ='Controle continu'!R74 -> 0 | D35: ='Examen final'!O30 -> 0 | E35: =AVERAGE(C35:D35) -> 0 | F35: 1 | G35: =E35*F35 -> 0
A36: E. Formation au management au sein d'une unité élémentaire.
A37: Entretien et gestion du matériel. | C37: ='Controle continu'!R78 -> 0 | D37: ='Examen final'!O32 -> 0 | E37: =AVERAGE(C37:D37) -> 0 | F37: 1 | G37: =E37*F37 -> 0
A38: Gestion et soutien du personnel. | C38: ='Controle continu'!R79 -> 0 | D38: ='Examen final'!O33 -> 0 | E38: =AVERAGE(C38:D38) -> 0 | F38: 2 | G38: =E38*F38 -> 0
A39: Note d'aptitude. | C39: ='Controle continu'!Q85 -> 0 | D39: ='Examen final'!O35 -> 0 | E39: =AVERAGE(C39:D39) -> 0 | F39: 5 | G39: =E39*F39 -> 0
A40: TOTAL. | C40: =(C12+C13+C14+C15+C16+C18+C19+C20+C21+C22+C23+C24+C25+C26+C28+C29+C30+C31+C33+C34+C35+C37+C38+C39)/24 -> 0 | D40: =(D12+D13+D14+D15+D16+D18+D19+D20+D21+D22+D23+D24+D25+D26+D28+D29+D30+D31+D33+D34+D35+D37+D38+D39)/24 -> 0 | E40: =AVERAGE(C40:D40) -> 0 | F40: 50 | G40: =E40*F40 -> 0
A41: Moyenne en formation générale élémentaire. | D41: =G40/F40 -> 0 | E41: Sur 20
A42: Observations :
A44: À Phalsbourg, | B44: =TODAY() -> 43504
A45: ADJ PICHENEL

Sheet 8
A1: FEUILLE INDIVIDUELLE DES RÉSULTATS DE LA FGE.
A3: Corps: | B3: ='Liste des stagiaires'!D11 -> 0
A5: Nom: | B5: ='Liste des stagiaires'!B11 -> 0 | E5: Prénom: | F5: ='Liste des stagiaires'!C11 -> 0
A7: Matricule: | B7: ='Liste des stagiaires'!E11 -> 0
A9: COMPOSANTES. | C9: CONTRÔLE CONTINU. | D9: EXAMEN FINAL. | E9: MOYENNE. | F9: COEFFICIENTS. | G9: TOTAL.
C10: Note sur 20. | D10: Note sur 20. | E10: Note sur 20.
A11: A. Formation au comportement militaire.
A12: Instruction des subordonnés. | C12: ='Controle continu'!T5 -> 0 | D12: ='Examen final'!Q4 -> 0 | E12: =AVERAGE(C12:D12) -> 0 | F12: 3 | G12: =E12*F12 -> 0
