Workbook

Sheet Liste des stagiaires
A1: Liste des stagiaires:
A3: Grade | B3: Nom | C3: Prénom | D3: Escadrille | E3: Numéro de matricule
H5: Noter toutes les informations sur ce tableau et cela remplira les autres onglets.

Sheet Classement des stagiaires
A1: Classement des stagiaires:
A3: Grade | B3: Nom | C3: Prénom | D3: Escadrille | E3: Numéro de matricule | F3: Total contrôle continue | G3: Total test final | H3: Moyenne FGE | I3: Classement | J3: Remarques
A4: ='Liste des stagiaires'!A4 -> 0 | B4: ='Liste des stagiaires'!B4 -> 0 | C4: ='Liste des stagiaires'!C4 -> 0 | D4: ='Liste des stagiaires'!D4 -> 0 | E4: ='Liste des stagiaires'!E4 -> 0 | F4: ='1'!C$40 -> 0 | G4: ='1'!D$40 -> 0 | H4: ='1'!D$41 -> 0 | I4: =RANK(H4,H4:H28,0) -> 1
A5: ='Liste des stagiaires'!A5 -> 0 | B5: ='Liste des stagiaires'!B5 -> 0 | C5: ='Liste des stagiaires'!C5 -> 0 | D5: ='Liste des stagiaires'!D5 -> 0 | E5: ='Liste des stagiaires'!E5 -> 0 | F5: ='2'!C$40 -> 0 | G5: ='2'!D$40 -> 0 | H5: ='2'!D$41 -> 0 | I5: =RANK(H5,H4:H28,0) -> 1
A6: ='Liste des stagiaires'!A6 -> 0 | B6: ='Liste des stagiaires'!B6 -> 0 | C6: ='Liste des stagiaires'!C6 -> 0 | D6: ='Liste des stagiaires'!D6 -> 0 | E6: ='Liste des stagiaires'!E6 -> 0 | F6: ='3'!C$40 -> 0 | G6: ='3'!D$40 -> 0 | H6: ='3'!D$41 -> 0 | I6: =RANK(H6,H4:H28,0) -> 1
A7: ='Liste des stagiaires'!A7 -> 0 | B7: ='Liste des stagiaires'!B7 -> 0 | C7: ='Liste des stagiaires'!C7 -> 0 | D7: ='Liste des stagiaires'!D7 -> 0 | E7: ='Liste des stagiaires'!E7 -> 0 | F7: ='4'!C$40 -> 0 | G7: ='4'!D$40 -> 0 | H7: ='4'!D$41 -> 0 | I7: =RANK(H7,H4:H28,0) -> 1
A8: ='Liste des stagiaires'!A8 -> 0 | B8: ='Liste des stagiaires'!B8 -> 0 | C8: ='Liste des stagiaires'!C8 -> 0 | D8: ='Liste des stagiaires'!D8 -> 0 | E8: ='Liste des stagiaires'!E8 -> 0 | F8: ='5'!C$40 -> 0 | G8: ='5'!D$40 -> 0 | H8: ='5'!D$41 -> 0 | I8: =RANK(H8,H4:H28,0) -> 1
A9: ='Liste des stagiaires'!A9 -> 0 | B9: ='Liste des stagiaires'!B9 -> 0 | C9: ='Liste des stagiaires'!C9 -> 0 | D9: ='Liste des stagiaires'!D9 -> 0 | E9: ='Liste des stagiaires'!E9 -> 0 | F9: ='6'!C$40 -> 0 | G9: ='6'!D$40 -> 0 | H9: ='6'!D$41 -> 0 | I9: =RANK(H9,H4:H28,0) -> 1
A10: ='Liste des stagiaires'!A10 -> 0 | B10: ='Liste des stagiaires'!B10 -> 0 | C10: ='Liste des stagiaires'!C10 -> 0 | D10: ='Liste des stagiaires'!D10 -> 0 | E10: ='Liste des stagiaires'!E10 -> 0 | F10: ='7'!C$40 -> 0 | G10: ='7'!D$40 -> 0 | H10: ='7'!D$41 -> 0 | I10: =RANK(H10,H4:H28,0) -> 1
A11: ='Liste des stagiaires'!A11 -> 0 | B11: ='Liste des stagiaires'!B11 -> 0 | C11: ='Liste des stagiaires'!C11 -> 0 | D11: ='Liste des stagiaires'!D11 -> 0 | E11: ='Liste des stagiaires'!E11 -> 0 | F11: ='8'!C$40 -> 0 | G11: ='8'!D$40 -> 0 | H11: ='8'!D$41 -> 0 | I11: =RANK(H11,H4:H28,0) -> 1
A12: ='Liste des stagiaires'!A12 -> 0 | B12: ='Liste des stagiaires'!B12 -> 0 | C12: ='Liste des stagiaires'!C12 -> 0 | D12: ='Liste des stagiaires'!D12 -> 0 | E12: ='Liste des stagiaires'!E12 -> 0 | F12: ='9'!C$40 -> 0 | G12: ='9'!D$40 -> 0 | H12: ='9'!D$41 -> 0 | I12: =RANK(H12,H4:H28,0) -> 1
A13: ='Liste des stagiaires'!A13 -> 0 | B13: ='Liste des stagiaires'!B13 -> 0 | C13: ='Liste des stagiaires'!C13 -> 0 | D13: ='Liste des stagiaires'!D13 -> 0 | E13: ='Liste des stagiaires'!E13 -> 0 | F13: ='10'!C$40 -> 0 | G13: ='10'!D$40 -> 0 | H13: ='10'!D$41 -> 0 | I13: =RANK(H13,H4:H28,0) -> 1
A14: ='Liste des stagiaires'!A14 -> 0 | B14: ='Liste des stagiaires'!B14 -> 0 | C14: ='Liste des stagiaires'!C14 -> 0 | D14: ='Liste des stagiaires'!D14 -> 0 | E14: ='Liste des stagiaires'!E14 -> 0 | F14: ='11'!C$40 -> 0 | G14: ='11'!D$40 -> 0 | H14: ='11'!D$41 -> 0 | I14: =RANK(H14,H4:H28,0) -> 1
A15: ='Liste des stagiaires'!A15 -> 0 | B15: ='Liste des stagiaires'!B15 -> 0 | C15: ='Liste des stagiaires'!C15 -> 0 | D15: ='Liste des stagiaires'!D15 -> 0 | E15: ='Liste des stagiaires'!E15 -> 0 | F15: ='12'!C$40 -> 0 | G15: ='12'!D$40 -> 0 | H15: ='12'!D$41 -> 0 | I15: =RANK(H15,H4:H28,0) -> 1
A16: ='Liste des stagiaires'!A16 -> 0 | B16: ='Liste des stagiaires'!B16 -> 0 | C16: ='Liste des stagiaires'!C16 -> 0 | D16: ='Liste des stagiaires'!D16 -> 0 | E16: ='Liste des stagiaires'!E16 -> 0 | F16: ='13'!C$40 -> 0 | G16: ='13'!D$40 -> 0 | H16: ='13'!D$41 -> 0 | I16: =RANK(H16,H4:H28,0) -> 1
A17: ='Liste des stagiaires'!A17 -> 0 | B17: ='Liste des stagiaires'!B17 -> 0 | C17: ='Liste des stagiaires'!C17 -> 0 | D17: ='Liste des stagiaires'!D17 -> 0 | E17: ='Liste des stagiaires'!E17 -> 0 | F17: ='14'!C$40 -> 0 | G17: ='14'!D$40 -> 0 | H17: ='14'!D$41 -> 0 | I17: =RANK(H17,H4:H28,0) -> 1
A18: ='Liste des stagiaires'!A18 -> 0 | B18: ='Liste des stagiaires'!B18 -> 0 | C18: ='Liste des stagiaires'!C18 -> 0 | D18: ='Liste des stagiaires'!D18 -> 0 | E18: ='Liste des stagiaires'!E18 -> 0 | F18: ='15'!C$40 -> 0 | G18: ='15'!D$40 -> 0 | H18: ='15'!D$41 -> 0 | I18: =RANK(H18,H4:H28,0) -> 1
A19: ='Liste des stagiaires'!A19 -> 0 | B19: ='Liste des stagiaires'!B19 -> 0 | C19: ='Liste des stagiaires'!C19 -> 0 | D19: ='Liste des stagiaires'!D19 -> 0 | E19: ='Liste des stagiaires'!E19 -> 0 | F19: ='16'!C$40 -> 0 | G19: ='16'!D$40 -> 0 | H19: ='16'!D$41 -> 0 | I19: =RANK(H19,H4:H28,0) -> 1
A20: ='Liste des stagiaires'!A20 -> 0 | B20: ='Liste des stagiaires'!B20 -> 0 | C20: ='Liste des stagiaires'!C20 -> 0 | D20: ='Liste des stagiaires'!D20 -> 0 | E20: ='Liste des stagiaires'!E20 -> 0 | F20: ='17'!C$40 -> 0 | G20: ='17'!D$40 -> 0 | H20: ='17'!D$41 -> 0 | I20: =RANK(H20,H4:H28,0) -> 1
A21: ='Liste des stagiaires'!A21 -> 0 | B21: ='Liste des stagiaires'!B21 -> 0 | C21: ='Liste des stagiaires'!C21 -> 0 | D21: ='Liste des stagiaires'!D21 -> 0 | E21: ='Liste des stagiaires'!E21 -> 0 | F21: ='18'!C$40 -> 0 | G21: ='18'!D$40 -> 0 | H21: ='18'!D$41 -> 0 | I21: =RANK(H21,H4:H28,0) -> 1
A22: ='Liste des stagiaires'!A22 -> 0 | B22: ='Liste des stagiaires'!B22 -> 0 | C22: ='Liste des stagiaires'!C22 -> 0 | D22: ='Liste des stagiaires'!D22 -> 0 | E22: ='Liste des stagiaires'!E22 -> 0 | F22: ='19'!C$40 -> 0 | G22: ='19'!D$40 -> 0 | H22: ='19'!D$41 -> 0 | I22: =RANK(H22,H4:H28,0) -> 1
A23: ='Liste des stagiaires'!A23 -> 0 | B23: ='Liste des stagiaires'!B23 -> 0 | C23: ='Liste des stagiaires'!C23 -> 0 | D23: ='Liste des stagiaires'!D23 -> 0 | E23: ='Liste des stagiaires'!E23 -> 0 | F23: ='20'!C$40 -> 0 | G23: ='20'!D$40 -> 0 | H23: ='20'!D$41 -> 0 | I23: =RANK(H23,H4:H28,0) -> 1
A24: ='Liste des stagiaires'!A24 -> 0 | B24: ='Liste des stagiaires'!B24 -> 0 | C24: ='Liste des stagiaires'!C24 -> 0 | D24: ='Liste des stagiaires'!D24 -> 0 | E24: ='Liste des stagiaires'!E24 -> 0 | F24: ='21'!C$40 -> 0 | G24: ='21'!D$40 -> 0 | H24: ='21'!D$41 -> 0 | I24: =RANK(H24,H4:H28,0) -> 1
A25: ='Liste des stagiaires'!A25 -> 0 | B25: ='Liste des stagiaires'!B25 -> 0 | C25: ='Liste des stagiaires'!C25 -> 0 | D25: ='Liste des stagiaires'!D25 -> 0 | E25: ='Liste des stagiaires'!E25 -> 0 | F25: ='22'!C$40 -> 0 | G25: ='22'!D$40 -> 0 | H25: ='22'!D$41 -> 0 | I25: =RANK(H25,H4:H28,0) -> 1
A26: ='Liste des stagiaires'!A26 -> 0 | B26: ='Liste des stagiaires'!B26 -> 0 | C26: ='Liste des stagiaires'!C26 -> 0 | D26: ='Liste des stagiaires'!D26 -> 0 | E26: ='Liste des stagiaires'!E26 -> 0 | F26: ='23'!C$40 -> 0 | G26: ='23'!D$40 -> 0 | H26: ='23'!D$41 -> 0 | I26: =RANK(H26,H4:H28,0) -> 1
A27: ='Liste des stagiaires'!A27 -> 0 | B27: ='Liste des stagiaires'!B27 -> 0 | C27: ='Liste des stagiaires'!C27 -> 0 | D27: ='Liste des stagiaires'!D27 -> 0 | E27: ='Liste des stagiaires'!E27 -> 0 | F27: ='24'!C$40 -> 0 | G27: ='24'!D$40 -> 0 | H27: ='24'!D$41 -> 0 | I27: =RANK(H27,H4:H28,0) -> 1
A28: ='Liste des stagiaires'!A28 -> 0 | B28: ='Liste des stagiaires'!B28 -> 0 | C28: ='Liste des stagiaires'!C28 -> 0 | D28: ='Liste des stagiaires'!D28 -> 0 | E28: ='Liste des stagiaires'!E28 -> 0 | F28: ='25'!C$40 -> 0 | G28: ='25'!D$40 -> 0 | H28: ='25'!D$41 -> 0 | I28: =RANK(H28,H4:H28,0) -> 1

Sheet Controle continu
E1: ='Liste des stagiaires'!B4 -> 0 | G1: ='Liste des stagiaires'!B5 -> 0 | I1: ='Liste des stagiaires'!B6 -> 0 | K1: ='Liste des stagiaires'!B7 -> 0 | M1: ='Liste des stagiaires'!B8 -> 0 | O1: ='Liste des stagiaires'!B9 -> 0 | Q1: ='Liste des stagiaires'!B10 -> 0 | S1: ='Liste des stagiaires'!B11 -> 0 | U1: ='Liste des stagiaires'!B12 -> 0 | W1: ='Liste des stagiaires'!B13 -> 0 | Y1: ='Liste des stagiaires'!B14 -> 0 | AA1: ='Liste des stagiaires'!B15 -> 0 | AC1: ='Liste des stagiaires'!B16 -> 0 | AE1: ='Liste des stagiaires'!B17 -> 0 | AG1: ='Liste des stagiaires'!B18 -> 0 | AI1: ='Liste des stagiaires'!B19 -> 0 | AK1: ='Liste des stagiaires'!B20 -> 0 | AM1: ='Liste des stagiaires'!B21 -> 0 | AO1: ='Liste des stagiaires'!B22 -> 0 | AQ1: ='Liste des stagiaires'!B23 -> 0 | AS1: ='Liste des stagiaires'!B24 -> 0 | AU1: ='Liste des stagiaires'!B25 -> 0 | AW1: ='Liste des stagiaires'!B26 -> 0 | AY1: ='Liste des stagiaires'!B27 -> 0 | BA1: ='Liste des stagiaires'!B28 -> 0
E2: ='Liste des stagiaires'!C4 -> 0 | G2: ='Liste des stagiaires'!C5 -> 0 | I2: ='Liste des stagiaires'!C6 -> 0 | K2: ='Liste des stagiaires'!C7 -> 0 | M2: ='Liste des stagiaires'!C8 -> 0 | O2: ='Liste des stagiaires'!C9 -> 0 | Q2: ='Liste des stagiaires'!C10 -> 0 | S2: ='Liste des stagiaires'!C11 -> 0 | U2: ='Liste des stagiaires'!C12 -> 0 | W2: ='Liste des stagiaires'!C13 -> 0 | Y2: ='Liste des stagiaires'!C14 -> 0 | AA2: ='Liste des stagiaires'!C15 -> 0 | AC2: ='Liste des stagiaires'!C16 -> 0 | AE2: ='Liste des stagiaires'!C17 -> 0 | AG2: ='Liste des stagiaires'!C18 -> 0 | AI2: ='Liste des stagiaires'!C19 -> 0 | AK2: ='Liste des stagiaires'!C20 -> 0 | AM2: ='Liste des stagiaires'!C21 -> 0 | AO2: ='Liste des stagiaires'!C22 -> 0 | AQ2: ='Liste des stagiaires'!C23 -> 0 | AS2: ='Liste des stagiaires'!C24 -> 0 | AU2: ='Liste des stagiaires'!C25 -> 0 | AW2: ='Liste des stagiaires'!C26 -> 0 | AY2: ='Liste des stagiaires'!C27 -> 0 | BA2: ='Liste des stagiaires'!C28 -> 0
C3: Nombre de points | D3: Total des points | E3: Nombre de points | F3: Note sur 20 | G3: Nombre de points | H3: Note sur 20 | I3: Nombre de points | J3: Note sur 20 | K3: Nombre de points | L3: Note sur 20 | M3: Nombre de points | N3: Note sur 20 | O3: Nombre de points | P3: Note sur 20 | Q3: Nombre de points | R3: Note sur 20 | S3: Nombre de points | T3: Note sur 20 | U3: Nombre de points | V3: Note sur 20 | W3: Nombre de points | X3: Note sur 20 | Y3: Nombre de points | Z3: Note sur 20 | AA3: Nombre de points | AB3: Note sur 20 | AC3: Nombre de points | AD3: Note sur 20 | AE3: Nombre de points | AF3: Note sur 20 | AG3: Nombre de points | AH3: Note sur 20 | AI3: Nombre de points | AJ3: Note sur 20 | AK3: Nombre de points | AL3: Note sur 20 | AM3: Nombre de points | AN3: Note sur 20 | AO3: Nombre de points | AP3: Note sur 20 | AQ3: Nombre de points | AR3: Note sur 20 | AS3: Nombre de points | AT3: Note sur 20 | AU3: Nombre de points | AV3: Note sur 20 | AW3: Nombre de points | AX3: Note sur 20 | AY3: Nombre de points | AZ3: Note sur 20 | BA3: Nombre de points | BB3: Note sur 20
A4: A. Formation au comportement militaire. | E4: A. Formation au comportement militaire.
A5: Instruction des subordonnés. | B5: Enseigner « les bonnes pratiques » au contact des subordonnés | C5: 0.8 | D5: =SUM(C5:C19) -> 34.2 | F5: =(20/$D5)*(SUM(E5:E19)) -> 0 | H5: =(20/$D5)*(SUM(G5:G19)) -> 0 | J5: =(20/$D5)*(SUM(I5:I19)) -> 0 | L5: =(20/$D5)*(SUM(K5:K19)) -> 0 | N5: =(20/$D5)*(SUM(M5:M19)) -> 0 | P5: =(20/$D5)*(SUM(O5:O19)) -> 0 | R5: =(20/$D5)*(SUM(Q5:Q19)) -> 0 | T5: =(20/$D5)*(SUM(S5:S19)) -> 0 | V5: =(20/$D5)*(SUM(U5:U19)) -> 0 | X5: =(20/$D5)*(SUM(W5:W19)) -> 0 | Z5: =(20/$D5)*(SUM(Y5:Y19)) -> 0 | AB5: =(20/$D5)*(SUM(AA5:AA19)) -> 0 | AD5: =(20/$D5)*(SUM(AC5:AC19)) -> 0 | AF5: =(20/$D5)*(SUM(AE5:AE19)) -> 0 | AH5: =(20/$D5)*(SUM(AG5:AG19)) -> 0 | AJ5: =(20/$D5)*(SUM(AI5:AI19)) -> 0 | AL5: =(20/$D5)*(SUM(AK5:AK19)) -> 0 | AN5: =(20/$D5)*(SUM(AM5:AM19)) -> 0 | AP5: =(20/$D5)*(SUM(AO5:AO19)) -> 0 | AR5: =(20/$D5)*(SUM(AQ5:AQ19)) -> 0 | AT5: =(20/$D5)*(SUM(AS5:AS19)) -> 0 | AV5: =(20/$D5)*(SUM(AU5:AU19)) -> 0 | AX5: =(20/$D5)*(SUM(AW5:AW19)) -> 0 | AZ5: =(20/$D5)*(SUM(AY5:AY19)) -> 0 | BB5: =(20/$D5)*(SUM(BA5:BA19)) -> 0
B6: Enseigner les règles de politesse militaire | C6: 1.2
B7: Enseigner le code du soldat à son équipe | C7: 0.8
B8: Enseigner l'esprit de corps et d'identité dans l'armée de terre | C8: 0.8
B9: Les règles du droit des conflits armés | C9: 1.2
B10: Rôle du chef d'équipe vis-à-vis de l'engagé volontaire en qualité de citoyen et de soldat | C10: 1.2
B11: Le comportement du chef d'équipe vis-à-vis du soldat dans l'exercice quotidien de son métier | C11: 1.2
B12: Le comportement exemplaire du chef d'équipe vis-à-vis du soldat dans le milieu civil | C12: 0.8
B13: Le comportement du chef d'équipe dans l'exécution de sa mission | C13: 1.2
B14: Les méthodes et les outils pédagogiques | C14: Non noté
B15: La préparation d'une séance d'instruction et la rédaction de la fiche de séance (Mise en situation pédagogique) | C15: 20
B16: Les relations de commandement | C16: 1
B17: Le chef d'équipe prépare ses hommes à partir en OPEX | C17: 1.5
B18: La gestion du stress en opération | C18: 1
B19: Le commandement dans la vie quotidienne | C19: 1.5
A20: Organisation générale de la défense. | B20: Les enjeux de la défense | C20: 1.2 | D20: =SUM(C20:C21) -> 2 | F20: =(20/$D5)*(SUM(E5:E19)) -> 0 | H20: =(20/D20)*(SUM(G20:G21)) -> 0 | J20: =(20/$D20)*(SUM(I20:I21)) -> 0 | L20: =(20/$D20)*(SUM(K20:K21)) -> 0 | N20: =(20/$D20)*(SUM(M20:M21)) -> 0 | P20: =(20/$D20)*(SUM(O20:O21)) -> 0 | R20: =(20/$D20)*(SUM(Q20:Q21)) -> 0 | T20: =(20/$D20)*(SUM(S20:S21)) -> 0 | V20: =(20/$D20)*(SUM(U20:U21)) -> 0 | X20: =(20/$D20)*(SUM(W20:W21)) -> 0 | Z20: =(20/$D20)*(SUM(Y20:Y21)) -> 0 | AB20: =(20/$D20)*(SUM(AA20:AA21)) -> 0 | AD20: =(20/$D20)*(SUM(AC20:AC21)) -> 0 | AF20: =(20/$D20)*(SUM(AE20:AE21)) -> 0 | AH20: =(20/$D20)*(SUM(AG20:AG21)) -> 0 | AJ20: =(20/$D20)*(SUM(AI20:AI21)) -> 0 | AL20: =(20/$D20)*(SUM(AK20:AK21)) -> 0 | AN20: =(20/$D20)*(SUM(AM20:AM21)) -> 0 | AP20: =(20/$D20)*(SUM(AO20:AO21)) -> 0 | AR20: =(20/$D20)*(SUM(AQ20:AQ21)) -> 0 | AT20: =(20/$D20)*(SUM(AS20:AS21)) -> 0 | AV20: =(20/$D20)*(SUM(AU20:AU21)) -> 0 | AX20: =(20/$D20)*(SUM(AW20:AW21)) -> 0 | AZ20: =(20/$D20)*(SUM(AY20:AY21)) -> 0 | BB20: =(20/$D20)*(SUM(BA20:BA21)) -> 0
B21: Les grandes instances internationales : organisation des Nations unies (ONU), organisation du traité de l'Atlantique Nord (OTAN), union européenne (UE) | C21: 0.8
A22: Connaissance des règlements. | B22: Le service de garde et/ou de permanence | C22: 0.8 | D22: =SUM(C22:C24) -> 3.2 | F22: =(20/$D22)*(SUM(E22:E24)) -> 0 | H22: =(20/$D22)*(SUM(G22:G24)) -> 0 | J22: =(20/$D22)*(SUM(I22:I24)) -> 0 | L22: =(20/$D22)*(SUM(K22:K24)) -> 0 | N22: =(20/$D22)*(SUM(M22:M24)) -> 0 | P22: =(20/$D22)*(SUM(O22:O24)) -> 0 | R22: =(20/$D22)*(SUM(Q22:Q24)) -> 0 | T22: =(20/$D22)*(SUM(S22:S24)) -> 0 | V22: =(20/$D22)*(SUM(U22:U24)) -> 0 | X22: =(20/$D22)*(SUM(W22:W24)) -> 0 | Z22: =(20/$D22)*(SUM(Y22:Y24)) -> 0 | AB22: =(20/$D22)*(SUM(AA22:AA24)) -> 0 | AD22: =(20/$D22)*(SUM(AC22:AC24)) -> 0 | AF22: =(20/$D22)*(SUM(AE22:AE24)) -> 0 | AH22: =(20/$D22)*(SUM(AG22:AG24)) -> 0 | AJ22: =(20/$D22)*(SUM(AI22:AI24)) -> 0 | AL22: =(20/$D22)*(SUM(AK22:AK24)) -> 0 | AN22: =(20/$D22)*(SUM(AM22:AM24)) -> 0 | AP22: =(20/$D22)*(SUM(AO22:AO24)) -> 0 | AR22: =(20/$D22)*(SUM(AQ22:AQ24)) -> 0 | AT22: =(20/$D22)*(SUM(AS22:AS24)) -> 0 | AV22: =(20/$D22)*(SUM(AU22:AU24)) -> 0 | AX22: =(20/$D22)*(SUM(AW22:AW24)) -> 0 | AZ22: =(20/$D22)*(SUM(AY22:AY24)) -> 0 | BB22: =(20/$D22)*(SUM(BA22:BA24)) -> 0
B23: Les fonctions au sein de l'unité élémentaire | C23: 1.2
B24: Discipline générale militaire: devoirs et responsabilités du chef d'équipe | C24: 1.2
A25: Notions de civisme. | B25: La place de la France dans le monde | C25: 1.2 | D25: =SUM(C25:C27) -> 4.4 | F25: ='[1]Controle continu'!$F$25:$F$27 -> 0 | H25: =(20/$D25)*(SUM(G25:G27)) -> 0 | J25: =(20/$D25)*(SUM(I25:I27)) -> 0 | L25: =(20/$D25)*(SUM(K25:K27)) -> 0 | N25: =(20/$D25)*(SUM(M25:M27)) -> 0 | P25: =(20/$D25)*(SUM(O25:O27)) -> 0 | R25: =(20/$D25)*(SUM(Q25:Q27)) -> 0 | T25: =(20/$D25)*(SUM(S25:S27)) -> 0 | V25: =(20/$D25)*(SUM(U25:U27)) -> 0 | X25: =(20/$D25)*(SUM(W25:W27)) -> 0 | Z25: =(20/$D25)*(SUM(Y25:Y27)) -> 0 | AB25: =(20/$D25)*(SUM(AA25:AA27)) -> 0 | AD25: =(20/$D25)*(SUM(AC25:AC27)) -> 0 | AF25: =(20/$D25)*(SUM(AE25:AE27)) -> 0 | AH25: =(20/$D25)*(SUM(AG25:AG27)) -> 0 | AJ25: =(20/$D25)*(SUM(AI25:AI27)) -> 0 | AL25: =(20/$D25)*(SUM(AK25:AK27)) -> 0 | AN25: =(20/$D25)*(SUM(AM25:AM27)) -> 0 | AP25: =(20/$D25)*(SUM(AO25:AO27)) -> 0 | AR25: =(20/$D25)*(SUM(AQ25:AQ27)) -> 0 | AT25: =(20/$D25)*(SUM(AS25:AS27)) -> 0 | AV25: =(20/$D25)*(SUM(AU25:AU27)) -> 0 | AX25: =(20/$D25)*(SUM(AW25:AW27)) -> 0 | AZ25: =(20/$D25)*(SUM(AY25:AY27)) -> 0 | BB25: =(20/$D25)*(SUM(BA25:BA27)) -> 0
B26: L'Afrique | C26: 2.4
B27: Le Proche-Orient | C27: 0.8
A28: Techniques d'expression écrite. | B28: Exercices pratiques sur le compte rendu et la demande | C28: 20 | D28: =SUM(C28:C28) -> 20 | F28: =(20/$D28)*(SUM(E28)) -> 0 | H28: =(20/$D28)*(SUM(G28)) -> 0 | J28: =(20/$D28)*(SUM(I28)) -> 0 | L28: =(20/$D28)*(SUM(K28)) -> 0 | N28: =(20/$D28)*(SUM(M28)) -> 0 | P28: =(20/$D28)*(SUM(O28)) -> 0 | R28: =(20/$D28)*(SUM(Q28)) -> 0 | T28: =(20/$D28)*(SUM(S28)) -> 0 | V28: =(20/$D28)*(SUM(U28)) -> 0 | X28: =(20/$D28)*(SUM(W28)) -> 0 | Z28: =(20/$D28)*(SUM(Y28)) -> 0 | AB28: =(20/$D28)*(SUM(AA28)) -> 0 | AD28: =(20/$D28)*(SUM(AC28)) -> 0 | AF28: =(20/$D28)*(SUM(AE28)) -> 0 | AH28: =(20/$D28)*(SUM(AG28)) -> 0 | AJ28: =(20/$D28)*(SUM(AI28)) -> 0 | AL28: =(20/$D28)*(SUM(AK28)) -> 0 | AN28: =(20/$D28)*(SUM(AM28)) -> 0 | AP28: =(20/$D28)*(SUM(AO28)) -> 0 | AR28: =(20/$D28)*(SUM(AQ28)) -> 0 | AT28: =(20/$D28)*(SUM(AS28)) -> 0 | AV28: =(20/$D28)*(SUM(AU28)) -> 0 | AX28: =(20/$D28)*(SUM(AW28)) -> 0 | AZ28: =(20/$D28)*(SUM(AY28)) -> 0 | BB28: =(20/$D28)*(SUM(BA28)) -> 0
A29: B. Formation à la mission opérationnelle. | E29: B. Formation à la mission opérationnelle.
A30: Formation PROTERRE. | B30: Rappel sur les actes réflexes et les actes élémentaires du combattant (théorique) | C30: 2.8 | D30: =SUM(C30:C33) -> 10 | F30: ='[1]Controle continu'!$F$30:$F$33 -> 0 | H30: =(20/$D30)*(SUM(G30:G33)) -> 0 | J30: =(20/$D30)*(SUM(I30:I33)) -> 0 | L30: =(20/$D30)*(SUM(K30:K33)) -> 0 | N30: =(20/$D30)*(SUM(M30:M33)) -> 0 | P30: =(20/$D30)*(SUM(O30:O33)) -> 0 | R30: =(20/$D30)*(SUM(Q30:Q33)) -> 0 | T30: =(20/$D30)*(SUM(S30:S33)) -> 0 | V30: =(20/$D30)*(SUM(U30:U33)) -> 0 | X30: =(20/$D30)*(SUM(W30:W33)) -> 0 | Z30: =(20/$D30)*(SUM(Y30:Y33)) -> 0 | AB30: =(20/$D30)*(SUM(AA30:AA33)) -> 0 | AD30: =(20/$D30)*(SUM(AC30:AC33)) -> 0 | AF30: =(20/$D30)*(SUM(AE30:AE33)) -> 0 | AH30: =(20/$D30)*(SUM(AG30:AG33)) -> 0 | AJ30: =(20/$D30)*(SUM(AI30:AI33)) -> 0 | AL30: =(20/$D30)*(SUM(AK30:AK33)) -> 0 | AN30: =(20/$D30)*(SUM(AM30:AM33)) -> 0 | AP30: =(20/$D30)*(SUM(AO30:AO33)) -> 0 | AR30: =(20/$D30)*(SUM(AQ30:AQ33)) -> 0 | AT30: =(20/$D30)*(SUM(AS30:AS33)) -> 0 | AV30: =(20/$D30)*(SUM(AU30:AU33)) -> 0 | AX30: =(20/$D30)*(SUM(AW30:AW33)) -> 0 | AZ30: =(20/$D30)*(SUM(AY30:AY33)) -> 0 | BB30: =(20/$D30)*(SUM(BA30:BA33)) -> 0
B31: Le trinôme : présentation, rôle du chef d'équipe, les actes élémentaires (se déplacer, s'arrêter et utiliser ses armes) et les commandements | C31: 2.4
B32: Conduite à tenir avec des prisonniers ou le personnel capturé | C32: 1.2
B33: Les missions du trinôme et les ordres | C33: 3.6
A34: Armement. | B34: Théorie | C34: 1.2 | D34: =SUM(C34:C35) -> 21.2 | F34: =(20/$D34)*(SUM(E34:E35)) -> 0 | H34: =(20/$D34)*(SUM(G34:G35)) -> 0 | J34: =(20/$D34)*(SUM(I34:I35)) -> 0 | L34: =(20/$D34)*(SUM(K34:K35)) -> 0 | N34: =(20/$D34)*(SUM(M34:M35)) -> 0 | P34: =(20/$D34)*(SUM(O34:O35)) -> 0 | R34: =(20/$D34)*(SUM(Q34:Q35)) -> 0 | T34: =(20/$D34)*(SUM(S34:S35)) -> 0 | V34: =(20/$D34)*(SUM(U34:U35)) -> 0 | X34: =(20/$D34)*(SUM(W34:W35)) -> 0 | Z34: =(20/$D34)*(SUM(Y34:Y35)) -> 0 | AB34: =(20/$D34)*(SUM(AA34:AA35)) -> 0 | AD34: =(20/$D34)*(SUM(AC34:AC35)) -> 0 | AF34: =(20/$D34)*(SUM(AE34:AE35)) -> 0 | AH34: =(20/$D34)*(SUM(AG34:AG35)) -> 0 | AJ34: =(20/$D34)*(SUM(AI34:AI35)) -> 0 | AL34: =(20/$D34)*(SUM(AK34:AK35)) -> 0 | AN34: =(20/$D34)*(SUM(AM34:AM35)) -> 0 | AP34: =(20/$D34)*(SUM(AO34:AO35)) -> 0 | AR34: =(20/$D34)*(SUM(AQ34:AQ35)) -> 0 | AT34: =(20/$D34)*(SUM(AS34:AS35)) -> 0 | AV34: =(20/$D34)*(SUM(AU34:AU35)) -> 0 | AX34: =(20/$D34)*(SUM(AW34:AW35)) -> 0 | AZ34: =(20/$D34)*(SUM(AY34:AY35)) -> 0 | BB34: =(20/$D34)*(SUM(BA34:BA35)) -> 0
B35: Démontage, manipulations et postures | C35: 20
A36: Tirs. | B36: Tirs FAMAS CCPS | C36: 20 | D36: =SUM(C36:C40) -> 100 | F36: =(20/$D36)*(SUM(E36:E40)) -> 0 | H36: =(20/$D36)*(SUM(G36:G40)) -> 0 | J36: =(20/$D36)*(SUM(I36:I40)) -> 0 | L36: =(20/$D36)*(SUM(K36:K40)) -> 0 | N36: =(20/$D36)*(SUM(M36:M40)) -> 0 | P36: =(20/$D36)*(SUM(O36:O40)) -> 0 | R36: =(20/$D36)*(SUM(Q36:Q40)) -> 0 | T36: =(20/$D36)*(SUM(S36:S40)) -> 0 | V36: =(20/$D36)*(SUM(U36:U40)) -> 0 | X36: =(20/$D36)*(SUM(W36:W40)) -> 0 | Z36: =(20/$D36)*(SUM(Y36:Y40)) -> 0 | AB36: =(20/$D36)*(SUM(AA36:AA40)) -> 0 | AD36: =(20/$D36)*(SUM(AC36:AC40)) -> 0 | AF36: =(20/$D36)*(SUM(AE36:AE40)) -> 0 | AH36: =(20/$D36)*(SUM(AG36:AG40)) -> 0 | AJ36: =(20/$D36)*(SUM(AI36:AI40)) -> 0 | AL36: =(20/$D36)*(SUM(AK36:AK40)) -> 0 | AN36: =(20/$D36)*(SUM(AM36:AM40)) -> 0 | AP36: =(20/$D36)*(SUM(AO36:AO40)) -> 0 | AR36: =(20/$D36)*(SUM(AQ36:AQ40)) -> 0 | AT36: =(20/$D36)*(SUM(AS36:AS40)) -> 0 | AV36: =(20/$D36)*(SUM(AU36:AU40)) -> 0 | AX36: =(20/$D36)*(SUM(AW36:AW40)) -> 0 | AZ36: =(20/$D36)*(SUM(AY36:AY40)) -> 0 | BB36: =(20/$D36)*(SUM(BA36:BA40)) -> 0
B37: Tirs FAMAS module D GPB | C37: 20
B38: Tirs FAMAS module D NBC | C38: 20
B39: Tirs FAMAS module D longue distance | C39: 20
B40: Tirs PAMAC | C40: 20
A41: Défense NRBC. | B41: Les matériels de protection : appareil normal de protection à visière panoramique (ANP VP), seringue auto-injectante (SAI), tenue de protection à port permanent (T3P) | C41: 0.8 | D41: =SUM(C41:C43) -> 6 | F41: =(20/$D41)*(SUM(E41:E43)) -> 0 | H41: =(20/$D41)*(SUM(G41:G43)) -> 0 | J41: =(20/$D41)*(SUM(I41:I43)) -> 0 | L41: =(20/$D41)*(SUM(K41:K43)) -> 0 | N41: =(20/$D41)*(SUM(M41:M43)) -> 0 | P41: =(20/$D41)*(SUM(O41:O43)) -> 0 | R41: =(20/$D41)*(SUM(Q41:Q43)) -> 0 | T41: =(20/$D41)*(SUM(S41:S43)) -> 0 | V41: =(20/$D41)*(SUM(U41:U43)) -> 0 | X41: =(20/$D41)*(SUM(W41:W43)) -> 0 | Z41: =(20/$D41)*(SUM(Y41:Y43)) -> 0 | AB41: =(20/$D41)*(SUM(AA41:AA43)) -> 0 | AD41: =(20/$D41)*(SUM(AC41:AC43)) -> 0 | AF41: =(20/$D41)*(SUM(AE41:AE43)) -> 0 | AH41: =(20/$D41)*(SUM(AG41:AG43)) -> 0 | AJ41: =(20/$D41)*(SUM(AI41:AI43)) -> 0 | AL41: =(20/$D41)*(SUM(AK41:AK43)) -> 0 | AN41: =(20/$D41)*(SUM(AM41:AM43)) -> 0 | AP41: =(20/$D41)*(SUM(AO41:AO43)) -> 0 | AR41: =(20/$D41)*(SUM(AQ41:AQ43)) -> 0 | AT41: =(20/$D41)*(SUM(AS41:AS43)) -> 0 | AV41: =(20/$D41)*(SUM(AU41:AU43)) -> 0 | AX41: =(20/$D41)*(SUM(AW41:AW43)) -> 0 | AZ41: =(20/$D41)*(SUM(AY41:AY43)) -> 0 | BB41: =(20/$D41)*(SUM(BA41:BA43)) -> 0
B42: Mise en application | C42: 4
B43: Réactions sous attaque NRBC | C43: 1.2
A44: Transmissions. | B44: Présentation et mise en œuvre des moyens de transmission individuels et collectifs en dotation au sein du groupe de combat PROTERRE | C44: 1.2 | D44: =SUM(C44:C46) -> 4.4 | F44: =(20/$D44)*(SUM(E44:E46)) -> 0 | H44: =(20/$D44)*(SUM(G44:G46)) -> 0 | J44: =(20/$D44)*(SUM(I44:I46)) -> 0 | L44: =(20/$D44)*(SUM(K44:K46)) -> 0 | N44: =(20/$D44)*(SUM(M44:M46)) -> 0 | P44: =(20/$D44)*(SUM(O44:O46)) -> 0 | R44: =(20/$D44)*(SUM(Q44:Q46)) -> 0 | T44: =(20/$D44)*(SUM(S44:S46)) -> 0 | V44: =(20/$D44)*(SUM(U44:U46)) -> 0 | X44: =(20/$D44)*(SUM(W44:W46)) -> 0 | Z44: =(20/$D44)*(SUM(Y44:Y46)) -> 0 | AB44: =(20/$D44)*(SUM(AA44:AA46)) -> 0 | AD44: =(20/$D44)*(SUM(AC44:AC46)) -> 0 | AF44: =(20/$D44)*(SUM(AE44:AE46)) -> 0 | AH44: =(20/$D44)*(SUM(AG44:AG46)) -> 0 | AJ44: =(20/$D44)*(SUM(AI44:AI46)) -> 0 | AL44: =(20/$D44)*(SUM(AK44:AK46)) -> 0 | AN44: =(20/$D44)*(SUM(AM44:AM46)) -> 0 | AP44: =(20/$D44)*(SUM(AO44:AO46)) -> 0 | AR44: =(20/$D44)*(SUM(AQ44:AQ46)) -> 0 | AT44: =(20/$D44)*(SUM(AS44:AS46)) -> 0 | AV44: =(20/$D44)*(SUM(AU44:AU46)) -> 0 | AX44: =(20/$D44)*(SUM(AW44:AW46)) -> 0 | AZ44: =(20/$D44)*(SUM(AY44:AY46)) -> 0 | BB44: =(20/$D44)*(SUM(BA44:BA46)) -> 0
B45: Le message, annonce, abrégé | C45: 2.4
B46: Définition et caractéristiques d'un réseau, sécurité | C46: 0.8
A47: Topographie. | B47: Les cartes : planimétrie, nivellement, les échelles | C47: 2.4 | D47: =SUM(C47:C50) -> 30.8 | F47: =(20/$D47)*(SUM(E47:E50)) -> 0 | H47: =(20/$D47)*(SUM(G47:G50)) -> 0 | J47: =(20/$D47)*(SUM(I47:I50)) -> 0 | L47: =(20/$D47)*(SUM(K47:K50)) -> 0 | N47: =(20/$D47)*(SUM(M47:M50)) -> 0 | P47: =(20/$D47)*(SUM(O47:O50)) -> 0 | R47: =(20/$D47)*(SUM(Q47:Q50)) -> 0 | T47: =(20/$D47)*(SUM(S47:S50)) -> 0 | V47: =(20/$D47)*(SUM(U47:U50)) -> 0 | X47: =(20/$D47)*(SUM(W47:W50)) -> 0 | Z47: =(20/$D47)*(SUM(Y47:Y50)) -> 0 | AB47: =(20/$D47)*(SUM(AA47:AA50)) -> 0 | AD47: =(20/$D47)*(SUM(AC47:AC50)) -> 0 | AF47: =(20/$D47)*(SUM(AE47:AE50)) -> 0 | AH47: =(20/$D47)*(SUM(AG47:AG50)) -> 0 | AJ47: =(20/$D47)*(SUM(AI47:AI50)) -> 0 | AL47: =(20/$D47)*(SUM(AK47:AK50)) -> 0 | AN47: =(20/$D47)*(SUM(AM47:AM50)) -> 0 | AP47: =(20/$D47)*(SUM(AO47:AO50)) -> 0 | AR47: =(20/$D47)*(SUM(AQ47:AQ50)) -> 0 | AT47: =(20/$D47)*(SUM(AS47:AS50)) -> 0 | AV47: =(20/$D47)*(SUM(AU47:AU50)) -> 0 | AX47: =(20/$D47)*(SUM(AW47:AW50)) -> 0 | AZ47: =(20/$D47)*(SUM(AY47:AY50)) -> 0 | BB47: =(20/$D47)*(SUM(BA47:BA50)) -> 0
B48: La boussole/les jumelles : orienter la carte, formule du millième, prendre un azimut | C48: 2.4
B49: Topographie (avec la boussole) | C49: 6
B50: Exercice d'application (Course d'orientation) | C50: 20
A51: Prévention, secourisme. | B51: Les grands fléaux de notre société | C51: 0.5 | D51: =SUM(C51:C53) -> 2.7 | F51: =(20/$D51)*(SUM(E51:E53)) -> 0 | H51: =(20/$D51)*(SUM(G51:G53)) -> 0 | J51: =(20/$D51)*(SUM(I51:I53)) -> 0 | L51: =(20/$D51)*(SUM(K51:K53)) -> 0 | N51: =(20/$D51)*(SUM(M51:M53)) -> 0 | P51: =(20/$D51)*(SUM(O51:O53)) -> 0 | R51: =(20/$D51)*(SUM(Q51:Q53)) -> 0 | T51: =(20/$D51)*(SUM(S51:S53)) -> 0 | V51: =(20/$D51)*(SUM(U51:U53)) -> 0 | X51: =(20/$D51)*(SUM(W51:W53)) -> 0 | Z51: =(20/$D51)*(SUM(Y51:Y53)) -> 0 | AB51: =(20/$D51)*(SUM(AA51:AA53)) -> 0 | AD51: =(20/$D51)*(SUM(AC51:AC53)) -> 0 | AF51: =(20/$D51)*(SUM(AE51:AE53)) -> 0 | AH51: =(20/$D51)*(SUM(AG51:AG53)) -> 0 | AJ51: =(20/$D51)*(SUM(AI51:AI53)) -> 0 | AL51: =(20/$D51)*(SUM(AK51:AK53)) -> 0 | AN51: =(20/$D51)*(SUM(AM51:AM53)) -> 0 | AP51: =(20/$D51)*(SUM(AO51:AO53)) -> 0 | AR51: =(20/$D51)*(SUM(AQ51:AQ53)) -> 0 | AT51: =(20/$D51)*(SUM(AS51:AS53)) -> 0 | AV51: =(20/$D51)*(SUM(AU51:AU53)) -> 0 | AX51: =(20/$D51)*(SUM(AW51:AW53)) -> 0 | AZ51: =(20/$D51)*(SUM(AY51:AY53)) -> 0 | BB51: =(20/$D51)*(SUM(BA51:BA53)) -> 0
B52: Hygiène individuelle et collective en campagne | C52: 1
B53: SC1 | C53: 1.2
A54: Génie. | B54: Généralités sur les mines | C54: 1.2 | D54: =SUM(C54:C55) -> 2.4 | F54: =(20/$D54)*(SUM(E54:E55)) -> 0 | H54: =(20/$D54)*(SUM(G54:G55)) -> 0 | J54: =(20/$D54)*(SUM(I54:I55)) -> 0 | L54: =(20/$D54)*(SUM(K54:K55)) -> 0 | N54: =(20/$D54)*(SUM(M54:M55)) -> 0 | P54: =(20/$D54)*(SUM(O54:O55)) -> 0 | R54: =(20/$D54)*(SUM(Q54:Q55)) -> 0 | T54: =(20/$D54)*(SUM(S54:S55)) -> 0 | V54: =(20/$D54)*(SUM(U54:U55)) -> 0 | X54: =(20/$D54)*(SUM(W54:W55)) -> 0 | Z54: =(20/$D54)*(SUM(Y54:Y55)) -> 0 | AB54: =(20/$D54)*(SUM(AA54:AA55)) -> 0 | AD54: =(20/$D54)*(SUM(AC54:AC55)) -> 0 | AF54: =(20/$D54)*(SUM(AE54:AE55)) -> 0 | AH54: =(20/$D54)*(SUM(AG54:AG55)) -> 0 | AJ54: =(20/$D54)*(SUM(AI54:AI55)) -> 0 | AL54: =(20/$D54)*(SUM(AK54:AK55)) -> 0 | AN54: =(20/$D54)*(SUM(AM54:AM55)) -> 0 | AP54: =(20/$D54)*(SUM(AO54:AO55)) -> 0 | AR54: =(20/$D54)*(SUM(AQ54:AQ55)) -> 0 | AT54: =(20/$D54)*(SUM(AS54:AS55)) -> 0 | AV54: =(20/$D54)*(SUM(AU54:AU55)) -> 0 | AX54: =(20/$D54)*(SUM(AW54:AW55)) -> 0 | AZ54: =(20/$D54)*(SUM(AY54:AY55)) -> 0 | BB54: =(20/$D54)*(SUM(BA54:BA55)) -> 0
B55: Les mines en dotation dans l'unité | C55: 1.2
A56: Renseignement, identification. | B56: Le compte-rendu | C56: 3.6 | D56: =SUM(C56:C60) -> 9.6 | F56: =(20/$D56)*(SUM(E56:E60)) -> 0 | H56: =(20/$D56)*(SUM(G56:G60)) -> 0 | J56: =(20/$D56)*(SUM(I56:I60)) -> 0 | L56: =(20/$D56)*(SUM(K56:K60)) -> 0 | N56: =(20/$D56)*(SUM(M56:M60)) -> 0 | P56: =(20/$D56)*(SUM(O56:O60)) -> 0 | R56: =(20/$D56)*(SUM(Q56:Q60)) -> 0 | T56: =(20/$D56)*(SUM(S56:S60)) -> 0 | V56: =(20/$D56)*(SUM(U56:U60)) -> 0 | X56: =(20/$D56)*(SUM(W56:W60)) -> 0 | Z56: =(20/$D56)*(SUM(Y56:Y60)) -> 0 | AB56: =(20/$D56)*(SUM(AA56:AA60)) -> 0 | AD56: =(20/$D56)*(SUM(AC56:AC60)) -> 0 | AF56: =(20/$D56)*(SUM(AE56:AE60)) -> 0 | AH56: =(20/$D56)*(SUM(AG56:AG60)) -> 0 | AJ56: =(20/$D56)*(SUM(AI56:AI60)) -> 0 | AL56: =(20/$D56)*(SUM(AK56:AK60)) -> 0 | AN56: =(20/$D56)*(SUM(AM56:AM60)) -> 0 | AP56: =(20/$D56)*(SUM(AO56:AO60)) -> 0 | AR56: =(20/$D56)*(SUM(AQ56:AQ60)) -> 0 | AT56: =(20/$D56)*(SUM(AS56:AS60)) -> 0 | AV56: =(20/$D56)*(SUM(AU56:AU60)) -> 0 | AX56: =(20/$D56)*(SUM(AW56:AW60)) -> 0 | AZ56: =(20/$D56)*(SUM(AY56:AY60)) -> 0 | BB56: =(20/$D56)*(SUM(BA56:BA60)) -> 0
B57: Règles comportementales dans l'acquisition du renseignement | C57: 1.2
B58: Présentation du cycle de renseignement (la chaîne renseignement) | C58: 1.2
B59: Connaissance des matériels terrestres | C59: 2
B60: Les règles de sécurité en milieu étranger | C60: 1.6
A61: C. Éducation et entraînement physiques militaires et sportifs. | E61: C. Éducation et entraînement physiques militaires et sportifs.
A62: Notation continue. | B62: Notation continue | C62: 20 | D62: =C62 -> 20 | F62: =(20/$D62)*(SUM(E62)) -> 0 | H62: =(20/$D62)*(SUM(G62)) -> 0 | J62: =(20/$D62)*(SUM(I62)) -> 0 | L62: =(20/$D62)*(SUM(K62)) -> 0 | N62: =(20/$D62)*(SUM(M62)) -> 0 | P62: =(20/$D62)*(SUM(O62)) -> 0 | R62: =(20/$D62)*(SUM(Q62)) -> 0 | T62: =(20/$D62)*(SUM(S62)) -> 0 | V62: =(20/$D62)*(SUM(U62)) -> 0 | X62: =(20/$D62)*(SUM(W62)) -> 0 | Z62: =(20/$D62)*(SUM(Y62)) -> 0 | AB62: =(20/$D62)*(SUM(AA62)) -> 0 | AD62: =(20/$D62)*(SUM(AC62)) -> 0 | AF62: =(20/$D62)*(SUM(AE62)) -> 0 | AH62: =(20/$D62)*(SUM(AG62)) -> 0 | AJ62: =(20/$D62)*(SUM(AI62)) -> 0 | AL62: =(20/$D62)*(SUM(AK62)) -> 0 | AN62: =(20/$D62)*(SUM(AM62)) -> 0 | AP62: =(20/$D62)*(SUM(AO62)) -> 0 | AR62: =(20/$D62)*(SUM(AQ62)) -> 0 | AT62: =(20/$D62)*(SUM(AS62)) -> 0 | AV62: =(20/$D62)*(SUM(AU62)) -> 0 | AX62: =(20/$D62)*(SUM(AW62)) -> 0 | AZ62: =(20/$D62)*(SUM(AY62)) -> 0 | BB62: =(20/$D62)*(SUM(BA62)) -> 0
A63: Épreuves du CCPG | B63: Aisance aquatique | C63: 20 | D63: =SUM(C63:C66) -> 60 | F63: =(20/$D63)*(SUM(E63:E66)) -> 0 | H63: =(20/$D63)*(SUM(G63:G66)) -> 0 | J63: =(20/$D63)*(SUM(I63:I66)) -> 0 | L63: =(20/$D63)*(SUM(K63:K66)) -> 0 | N63: =(20/$D63)*(SUM(M63:M66)) -> 0 | P63: =(20/$D63)*(SUM(O63:O66)) -> 0 | R63: =(20/$D63)*(SUM(Q63:Q66)) -> 0 | T63: =(20/$D63)*(SUM(S63:S66)) -> 0 | V63: =(20/$D63)*(SUM(U63:U66)) -> 0 | X63: =(20/$D63)*(SUM(W63:W66)) -> 0 | Z63: =(20/$D63)*(SUM(Y63:Y66)) -> 0 | AB63: =(20/$D63)*(SUM(AA63:AA66)) -> 0 | AD63: =(20/$D63)*(SUM(AC63:AC66)) -> 0 | AF63: =(20/$D63)*(SUM(AE63:AE66)) -> 0 | AH63: =(20/$D63)*(SUM(AG63:AG66)) -> 0 | AJ63: =(20/$D63)*(SUM(AI63:AI66)) -> 0 | AL63: =(20/$D63)*(SUM(AK63:AK66)) -> 0 | AN63: =(20/$D63)*(SUM(AM63:AM66)) -> 0 | AP63: =(20/$D63)*(SUM(AO63:AO66)) -> 0 | AR63: =(20/$D63)*(SUM(AQ63:AQ66)) -> 0 | AT63: =(20/$D63)*(SUM(AS63:AS66)) -> 0 | AV63: =(20/$D63)*(SUM(AU63:AU66)) -> 0 | AX63: =(20/$D63)*(SUM(AW63:AW66)) -> 0 | AZ63: =(20/$D63)*(SUM(AY63:AY66)) -> 0 | BB63: =(20/$D63)*(SUM(BA63:BA66)) -> 0
B64: Cooper | C64: 20
B65: Corde | C65: 10
B66: Abdos | C66: 10
A67: Épreuves du CCPS. | B67: Marche course | C67: 20 | D67: =C67 -> 20 | F67: =(20/$D67)*(SUM(E67)) -> 0 | H67: =(20/$D67)*(SUM(G67)) -> 0 | J67: =(20/$D67)*(SUM(I67)) -> 0 | L67: =(20/$D67)*(SUM(K67)) -> 0 | N67: =(20/$D67)*(SUM(M67)) -> 0 | P67: =(20/$D67)*(SUM(O67)) -> 0 | R67: =(20/$D67)*(SUM(Q67)) -> 0 | T67: =(20/$D67)*(SUM(S67)) -> 0 | V67: =(20/$D67)*(SUM(U67)) -> 0 | X67: =(20/$D67)*(SUM(W67)) -> 0 | Z67: =(20/$D67)*(SUM(Y67)) -> 0 | AB67: =(20/$D67)*(SUM(AA67)) -> 0 | AD67: =(20/$D67)*(SUM(AC67)) -> 0 | AF67: =(20/$D67)*(SUM(AE67)) -> 0 | AH67: =(20/$D67)*(SUM(AG67)) -> 0 | AJ67: =(20/$D67)*(SUM(AI67)) -> 0 | AL67: =(20/$D67)*(SUM(AK67)) -> 0 | AN67: =(20/$D67)*(SUM(AM67)) -> 0 | AP67: =(20/$D67)*(SUM(AO67)) -> 0 | AR67: =(20/$D67)*(SUM(AQ67)) -> 0 | AT67: =(20/$D67)*(SUM(AS67)) -> 0 | AV67: =(20/$D67)*(SUM(AU67)) -> 0 | AX67: =(20/$D67)*(SUM(AW67)) -> 0 | AZ67: =(20/$D67)*(SUM(AY67)) -> 0 | BB67: =(20/$D67)*(SUM(BA67)) -> 0
A68: Épreuve spécifique. | B68: Parcours d'obstacles | C68: 20 | D68: =C68 -> 20 | F68: =(20/$D68)*(SUM(E68)) -> 0 | H68: =(20/$D68)*(SUM(G68)) -> 0 | J68: =(20/$D68)*(SUM(I68)) -> 0 | L68: =(20/$D68)*(SUM(K68)) -> 0 | N68: =(20/$D68)*(SUM(M68)) -> 0 | P68: =(20/$D68)*(SUM(O68)) -> 0 | R68: =(20/$D68)*(SUM(Q68)) -> 0 | T68: =(20/$D68)*(SUM(S68)) -> 0 | V68: =(20/$D68)*(SUM(U68)) -> 0 | X68: =(20/$D68)*(SUM(W68)) -> 0 | Z68: =(20/$D68)*(SUM(Y68)) -> 0 | AB68: =(20/$D68)*(SUM(AA68)) -> 0 | AD68: =(20/$D68)*(SUM(AC68)) -> 0 | AF68: =(20/$D68)*(SUM(AE68)) -> 0 | AH68: =(20/$D68)*(SUM(AG68)) -> 0 | AJ68: =(20/$D68)*(SUM(AI68)) -> 0 | AL68: =(20/$D68)*(SUM(AK68)) -> 0 | AN68: =(20/$D68)*(SUM(AM68)) -> 0 | AP68: =(20/$D68)*(SUM(AO68)) -> 0 | AR68: =(20/$D68)*(SUM(AQ68)) -> 0 | AT68: =(20/$D68)*(SUM(AS68)) -> 0 | AV68: =(20/$D68)*(SUM(AU68)) -> 0 | AX68: =(20/$D68)*(SUM(AW68)) -> 0 | AZ68: =(20/$D68)*(SUM(AY68)) -> 0 | BB68: =(20/$D68)*(SUM(BA68)) -> 0
A69: D. Formation académique.
A70: Mathématiques. | B70: Les unités de longueur | C70: 1.2 | D70: =SUM(C70:C72) -> 3.6 | F70: =(20/$D70)*(SUM(E70:E72)) -> 0 | H70: =(20/$D70)*(SUM(G70:G72)) -> 0 | J70: =(20/$D70)*(SUM(I70:I72)) -> 0 | L70: =(20/$D70)*(SUM(K70:K72)) -> 0 | N70: =(20/$D70)*(SUM(M70:M72)) -> 0 | P70: =(20/$D70)*(SUM(O70:O72)) -> 0 | R70: =(20/$D70)*(SUM(Q70:Q72)) -> 0 | T70: =(20/$D70)*(SUM(S70:S72)) -> 0 | V70: =(20/$D70)*(SUM(U70:U72)) -> 0 | X70: =(20/$D70)*(SUM(W70:W72)) -> 0 | Z70: =(20/$D70)*(SUM(Y70:Y72)) -> 0 | AB70: =(20/$D70)*(SUM(AA70:AA72)) -> 0 | AD70: =(20/$D70)*(SUM(AC70:AC72)) -> 0 | AF70: =(20/$D70)*(SUM(AE70:AE72)) -> 0 | AH70: =(20/$D70)*(SUM(AG70:AG72)) -> 0 | AJ70: =(20/$D70)*(SUM(AI70:AI72)) -> 0 | AL70: =(20/$D70)*(SUM(AK70:AK72)) -> 0 | AN70: =(20/$D70)*(SUM(AM70:AM72)) -> 0 | AP70: =(20/$D70)*(SUM(AO70:AO72)) -> 0 | AR70: =(20/$D70)*(SUM(AQ70:AQ72)) -> 0 | AT70: =(20/$D70)*(SUM(AS70:AS72)) -> 0 | AV70: =(20/$D70)*(SUM(AU70:AU72)) -> 0 | AX70: =(20/$D70)*(SUM(AW70:AW72)) -> 0 | AZ70: =(20/$D70)*(SUM(AY70:AY72)) -> 0 | BB70: =(20/$D70)*(SUM(BA70:BA72)) -> 0
B71: La règle de trois | C71: 1.2
B72: Les multiplications | C72: 1.2
A73: Français. | B73: La structure de la phrase | C73: 2.4 | D73: =C73 -> 2.4 | F73: =(20/$D73)*(SUM(E73)) -> 0 | H73: =(20/$D73)*(SUM(G73)) -> 0 | J73: =(20/$D73)*(SUM(I73)) -> 0 | L73: =(20/$D73)*(SUM(K73)) -> 0 | N73: =(20/$D73)*(SUM(M73)) -> 0 | P73: =(20/$D73)*(SUM(O73)) -> 0 | R73: =(20/$D73)*(SUM(Q73)) -> 0 | T73: =(20/$D73)*(SUM(S73)) -> 0 | V73: =(20/$D73)*(SUM(U73)) -> 0 | X73: =(20/$D73)*(SUM(W73)) -> 0 | Z73: =(20/$D73)*(SUM(Y73)) -> 0 | AB73: =(20/$D73)*(SUM(AA73)) -> 0 | AD73: =(20/$D73)*(SUM(AC73)) -> 0 | AF73: =(20/$D73)*(SUM(AE73)) -> 0 | AH73: =(20/$D73)*(SUM(AG73)) -> 0 | AJ73: =(20/$D73)*(SUM(AI73)) -> 0 | AL73: =(20/$D73)*(SUM(AK73)) -> 0 | AN73: =(20/$D73)*(SUM(AM73)) -> 0 | AP73: =(20/$D73)*(SUM(AO73)) -> 0 | AR73: =(20/$D73)*(SUM(AQ73)) -> 0 | AT73: =(20/$D73)*(SUM(AS73)) -> 0 | AV73: =(20/$D73)*(SUM(AU73)) -> 0 | AX73: =(20/$D73)*(SUM(AW73)) -> 0 | AZ73: =(20/$D73)*(SUM(AY73)) -> 0 | BB73: =(20/$D73)*(SUM(BA73)) -> 0
A74: Anglais. | B74: Accueillir quelqu'un | C74: 2 | D74: =SUM(C74:C76) -> 7.4 | F74: =(20/$D74)*(SUM(E74:E76)) -> 0 | H74: =(20/$D74)*(SUM(G74:G76)) -> 0 | J74: =(20/$D74)*(SUM(I74:I76)) -> 0 | L74: =(20/$D74)*(SUM(K74:K76)) -> 0 | N74: =(20/$D74)*(SUM(M74:M76)) -> 0 | P74: =(20/$D74)*(SUM(O74:O76)) -> 0 | R74: =(20/$D74)*(SUM(Q74:Q76)) -> 0 | T74: =(20/$D74)*(SUM(S74:S76)) -> 0 | V74: =(20/$D74)*(SUM(U74:U76)) -> 0 | X74: =(20/$D74)*(SUM(W74:W76)) -> 0 | Z74: =(20/$D74)*(SUM(Y74:Y76)) -> 0 | AB74: =(20/$D74)*(SUM(AA74:AA76)) -> 0 | AD74: =(20/$D74)*(SUM(AC74:AC76)) -> 0 | AF74: =(20/$D74)*(SUM(AE74:AE76)) -> 0 | AH74: =(20/$D74)*(SUM(AG74:AG76)) -> 0 | AJ74: =(20/$D74)*(SUM(AI74:AI76)) -> 0 | AL74: =(20/$D74)*(SUM(AK74:AK76)) -> 0 | AN74: =(20/$D74)*(SUM(AM74:AM76)) -> 0 | AP74: =(20/$D74)*(SUM(AO74:AO76)) -> 0 | AR74: =(20/$D74)*(SUM(AQ74:AQ76)) -> 0 | AT74: =(20/$D74)*(SUM(AS74:AS76)) -> 0 | AV74: =(20/$D74)*(SUM(AU74:AU76)) -> 0 | AX74: =(20/$D74)*(SUM(AW74:AW76)) -> 0 | AZ74: =(20/$D74)*(SUM(AY74:AY76)) -> 0 | BB74: =(20/$D74)*(SUM(BA74:BA76)) -> 0
B75: Se déplacer seul | C75: 3
B76: Connaître l'alerte immédiate | C76: 2.4
A77: E. Formation au management au sein d'une unité élémentaire.
A78: Entretien et gestion du matériel. | B78: La gestion des matériels au sein du corps de troupe (préparer son équipe pour une revue) | C78: 1.2 | D78: =SUM(C78:C78) -> 1.2 | F78: =(20/$D78)*(SUM(E78)) -> 0 | H78: =(20/$D78)*(SUM(G78)) -> 0 | J78: =(20/$D78)*(SUM(I78)) -> 0 | L78: =(20/$D78)*(SUM(K78)) -> 0 | N78: =(20/$D78)*(SUM(M78)) -> 0 | P78: =(20/$D78)*(SUM(O78)) -> 0 | R78: =(20/$D78)*(SUM(Q78)) -> 0 | T78: =(20/$D78)*(SUM(S78)) -> 0 | V78: =(20/$D78)*(SUM(U78)) -> 0 | X78: =(20/$D78)*(SUM(W78)) -> 0 | Z78: =(20/$D78)*(SUM(Y78)) -> 0 | AB78: =(20/$D78)*(SUM(AA78)) -> 0 | AD78: =(20/$D78)*(SUM(AC78)) -> 0 | AF78: =(20/$D78)*(SUM(AE78)) -> 0 | AH78: =(20/$D78)*(SUM(AG78)) -> 0 | AJ78: =(20/$D78)*(SUM(AI78)) -> 0 | AL78: =(20/$D78)*(SUM(AK78)) -> 0 | AN78: =(20/$D78)*(SUM(AM78)) -> 0 | AP78: =(20/$D78)*(SUM(AO78)) -> 0 | AR78: =(20/$D78)*(SUM(AQ78)) -> 0 | AT78: =(20/$D78)*(SUM(AS78)) -> 0 | AV78: =(20/$D78)*(SUM(AU78)) -> 0 | AX78: =(20/$D78)*(SUM(AW78)) -> 0 | AZ78: =(20/$D78)*(SUM(AY78)) -> 0 | BB78: =(20/$D78)*(SUM(BA78)) -> 0
A79: Gestion et soutien du personnel. | B79: Statut, déroulement de carrière | C79: 2 | D79: =SUM(C79:C83) -> 4.4 | F79: =(20/$D79)*(SUM(E79:E83)) -> 0 | H79: =(20/$D79)*(SUM(G79:G83)) -> 0 | J79: =(20/$D79)*(SUM(I79:I83)) -> 0 | L79: =(20/$D79)*(SUM(K79:K83)) -> 0 | N79: =(20/$D79)*(SUM(M79:M83)) -> 0 | P79: =(20/$D79)*(SUM(O79:O83)) -> 0 | R79: =(20/$D79)*(SUM(Q79:Q83)) -> 0 | T79: =(20/$D79)*(SUM(S79:S83)) -> 0 | V79: =(20/$D79)*(SUM(U79:U83)) -> 0 | X79: =(20/$D79)*(SUM(W79:W83)) -> 0 | Z79: =(20/$D79)*(SUM(Y79:Y83)) -> 0 | AB79: =(20/$D79)*(SUM(AA79:AA83)) -> 0 | AD79: =(20/$D79)*(SUM(AC79:AC83)) -> 0 | AF79: =(20/$D79)*(SUM(AE79:AE83)) -> 0 | AH79: =(20/$D79)*(SUM(AG79:AG83)) -> 0 | AJ79: =(20/$D79)*(SUM(AI79:AI83)) -> 0 | AL79: =(20/$D79)*(SUM(AK79:AK83)) -> 0 | AN79: =(20/$D79)*(SUM(AM79:AM83)) -> 0 | AP79: =(20/$D79)*(SUM(AO79:AO83)) -> 0 | AR79: =(20/$D79)*(SUM(AQ79:AQ83)) -> 0 | AT79: =(20/$D79)*(SUM(AS79:AS83)) -> 0 | AV79: =(20/$D79)*(SUM(AU79:AU83)) -> 0 | AX79: =(20/$D79)*(SUM(AW79:AW83)) -> 0 | AZ79: =(20/$D79)*(SUM(AY79:AY83)) -> 0 | BB79: =(20/$D79)*(SUM(BA79:BA83)) -> 0
B80: Notation, avancement | C80: 1.2
B81: Apprendre à gérer son budget | C81: Non noté
B82: La protection sociale/assurances/mutuelle nationale militaire | C82: Non noté
B83: La solde (lecture de son bulletin de solde) | C83: 1.2
A84: Note d'aptitude.
A85: Note d'aptitude générale durant la FGE

Sheet Examen final
C1: ='Liste des stagiaires'!B4 -> 0 | E1: ='Liste des stagiaires'!B5 -> 0 | G1: ='Liste des stagiaires'!B6 -> 0 | I1: ='Liste des stagiaires'!B7 -> 0 | K1: ='Liste des stagiaires'!B8 -> 0 | M1: ='Liste des stagiaires'!B9 -> 0 | O1: ='Liste des stagiaires'!B10 -> 0 | Q1: ='Liste des stagiaires'!B11 -> 0 | S1: ='Liste des stagiaires'!B12 -> 0 | U1: ='Liste des stagiaires'!B13 -> 0 | W1: ='Liste des stagiaires'!B14 -> 0 | Y1: ='Liste des stagiaires'!B15 -> 0 | AA1: ='Liste des stagiaires'!B16 -> 0 | AC1: ='Liste des stagiaires'!B17 -> 0 | AE1: ='Liste des stagiaires'!B18 -> 0 | AG1: ='Liste des stagiaires'!B19 -> 0 | AI1: ='Liste des stagiaires'!B20 -> 0 | AK1: ='Liste des stagiaires'!B21 -> 0 | AM1: ='Liste des stagiaires'!B22 -> 0 | AO1: ='Liste des stagiaires'!B23 -> 0 | AQ1: ='Liste des stagiaires'!B24 -> 0 | AS1: ='Liste des stagiaires'!B25 -> 0 | AU1: ='Liste des stagiaires'!B26 -> 0 | AW1: ='Liste des stagiaires'!B27 -> 0 | AY1: ='Liste des stagiaires'!A28 -> 0
C2: ='Liste des stagiaires'!C4 -> 0 | E2: ='Liste des stagiaires'!C5 -> 0 | G2: ='Liste des stagiaires'!C6 -> 0 | I2: ='Liste des stagiaires'!C7 -> 0 | K2: ='Liste des stagiaires'!C8 -> 0 | M2: ='Liste des stagiaires'!C9 -> 0 | O2: ='Liste des stagiaires'!C10 -> 0 | Q2: ='Liste des stagiaires'!C11 -> 0 | S2: ='Liste des stagiaires'!C12 -> 0 | U2: ='Liste des stagiaires'!C13 -> 0 | W2: ='Liste des stagiaires'!C14 -> 0 | Y2: ='Liste des stagiaires'!C15 -> 0 | AA2: ='Liste des stagiaires'!C16 -> 0 | AC2: ='Liste des stagiaires'!C17 -> 0 | AE2: ='Liste des stagiaires'!C18 -> 0 | AG2: ='Liste des stagiaires'!C19 -> 0 | AI2: ='Liste des stagiaires'!C20 -> 0 | AK2: ='Liste des stagiaires'!C21 -> 0 | AM2: ='Liste des stagiaires'!C22 -> 0 | AO2: ='Liste des stagiaires'!C23 -> 0 | AQ2: ='Liste des stagiaires'!C24 -> 0 | AS2: ='Liste des stagiaires'!C25 -> 0 | AU2: ='Liste des stagiaires'!C26 -> 0 | AW2: ='Liste des stagiaires'!C27 -> 0 | AY2: ='Liste des stagiaires'!B28 -> 0
A3: A. Formation au comportement militaire. | C3: A. Formation au comportement militaire.
A4: Instruction des subordonnés. | B4: Épreuves écrites (QCM).
A5: Organisation générale de la défense. | B5: Épreuves écrites (QCM).
A6: Connaissance des règlements. | B6: Épreuves écrites (QCM).
A7: Notions de civisme. | B7: Épreuves écrites (QCM).
A8: Techniques d'expression écrite. | B8: Rédaction d'un compte rendu.
A9: B. Formation à la mission opérationnelle. | C9: B. Formation à la mission opérationnelle.
A10: Formation PROTERRE. | B10: Épreuves pratiques au rallye.
A11: Armement. | B11: Épreuves pratiques au rallye.
A12: Tirs. | B12: Épreuves pratiques au rallye.
A13: Défense NRBC. | B13: Épreuves pratiques au rallye.
A14: Transmissions. | B14: Épreuves pratiques au rallye.
A15: Topographie. | B15: Épreuves pratiques au rallye.
A16: Prévention, secourisme. | B16: Épreuves pratiques au rallye.
A17: Génie. | B17: Épreuves pratiques au rallye.
A18: Renseignement, identification. | B18: Épreuves pratiques au rallye.
A19: C. Éducation et entraînement physiques militaires et sportifs. | C19: C. Éducation et entraînement physiques militaires et sportifs.
A20: Notation continue. | B20: Notation continue
A21: Épreuves du CCPG | B21: Aisance aquatique
B22: Cooper
B23: Corde
B24: Abdos
A25: Épreuves du CCPS. | B25: Marche course
A26: Épreuve spécifique. | B26: Parcours d'obstacles
A27: D. Formation académique.
A28: Mathématiques. | B28: Épreuves écrites.
A29: Français. | B29: Épreuves écrites.
A30: Anglais. | B30: Épreuves orales.
A31: E. Formation au management au sein d'une unité élémentaire.
A32: Entretien et gestion du matériel. | B32: Épreuves pratiques.
A33: Gestion et soutien du personnel. | B33: Épreuves écrites (QCM).
A34: Note d'aptitude.
A35: Note d'aptitude sur le raid

Sheet 1
A1: FEUILLE INDIVIDUELLE DES RÉSULTATS DE LA FGE.
A3: Corps: | B3: ='Liste des stagiaires'!D4 -> 0
A5: Nom: | B5: ='Liste des stagiaires'!B4 -> 0 | E5: Prénom: | F5: ='Liste des stagiaires'!C4 -> 0
A7: Matricule: | B7: ='Liste des stagiaires'!E4 -> 0
A9: COMPOSANTES. | C9: CONTRÔLE CONTINU. | D9: EXAMEN FINAL. | E9: MOYENNE. | F9: COEFFICIENTS. | G9: TOTAL.
C10: Note sur 20. | D10: Note sur 20. | E10: Note sur 20.
A11: A. Formation au comportement militaire.
A12: Instruction des subordonnés. | C12: ='Controle continu'!F5 -> 0 | D12: ='Examen final'!C4 -> 0 | E12: =AVERAGE(C12:D12) -> 0 | F12: 3 | G12: =E12*F12 -> 0
A13: Organisation générale de la défense. | C13: ='Controle continu'!F20 -> 0 | D13: ='Examen final'!C5 -> 0 | E13: =AVERAGE(C13:D13) -> 0 | F13: 1 | G13: =E13*F13 -> 0
A14: Connaissance des règlements. | C14: ='Controle continu'!F22 -> 0 | D14: ='Examen final'!C6 -> 0 | E14: =AVERAGE(C14:D14) -> 0 | F14: 3 | G14: =E14*F14 -> 0
A15: Notions de civisme. | C15: ='Controle continu'!F25 -> 0 | D15: ='Examen final'!C7 -> 0 | E15: =AVERAGE(C15:D15) -> 0 | F15: 1 | G15: =E15*F15 -> 0
A16: Techniques d'expression écrite. | C16: ='Controle continu'!F28 -> 0 | D16: ='Examen final'!C8 -> 0 | E16: =AVERAGE(C16:D16) -> 0 | F16: 2 | G16: =E16*F16 -> 0
A17: B. Formation à la mission opérationnelle.
A18: Formation PROTERRE. | C18: ='Controle continu'!F30 -> 0 | D18: ='Examen final'!C10 -> 0 | E18: =AVERAGE(C18:D18) -> 0 | F18: 7 | G18: =E18*F18 -> 0
A19: Armement. | C19: ='Controle continu'!F34 -> 0 | D19: ='Examen final'!C11 -> 0 | E19: =AVERAGE(C19:D19) -> 0 | F19: 3 | G19: =E19*F19 -> 0
A20: Tirs. | C20: ='Controle continu'!F36 -> 0 | D20: ='Examen final'!C12 -> 0 | E20: =AVERAGE(C20:D20) -> 0 | F20: 4 | G20: =E20*F20 -> 0
A21: Défense NRBC. | C21: ='Controle continu'!F41 -> 0 | D21: ='Examen final'!C13 -> 0 | E21: =AVERAGE(C21:D21) -> 0 | F21: 1 | G21: =E21*F21 -> 0
A22: Transmissions. | C22: ='Controle continu'!F44 -> 0 | D22: ='Examen final'!C14 -> 0 | E22: =AVERAGE(C22:D22) -> 0 | F22: 1 | G22: =E22*F22 -> 0
A23: Topographie. | C23: ='Controle continu'!F47 -> 0 | D23: ='Examen final'!C15 -> 0 | E23: =AVERAGE(C23:D23) -> 0 | F23: 2 | G23: =E23*F23 -> 0
A24: Prévention, secourisme. | C24: ='Controle continu'!F51 -> 0 | D24: ='Examen final'!C16 -> 0 | E24: =AVERAGE(C24:D24) -> 0 | F24: 1 | G24: =E24*F24 -> 0
A25: Génie. | C25: ='Controle continu'!F54 -> 0 | D25: ='Examen final'!C17 -> 0 | E25: =AVERAGE(C25:D25) -> 0 | F25: 1 | G25: =E25*F25 -> 0
A26: Renseignement, identification. | C26: ='Controle continu'!F56 -> 0 | D26: ='Examen final'!C18 -> 0 | E26: =AVERAGE(C26:D26) -> 0 | F26: 2 | G26: =E26*F26 -> 0
A27: C. Éducation et entraînement physiques militaires et sportifs.
A28: Notation continue. | C28: ='Controle continu'!F62 -> 0 | D28: ='Examen final'!C20 -> 0 | E28: =AVERAGE(C28:D28) -> 0 | F28: 1 | G28: =E28*F28 -> 0
A29: Épreuves du CCPG | C29: ='Controle continu'!F63 -> 0 | D29: ='Examen final'!D21 -> 0 | E29: =AVERAGE(C29:D29) -> 0 | F29: 2 | G29: =E29*F29 -> 0
A30: Épreuves du CCPS (Marche course) | C30: ='Controle continu'!F67 -> 0 | D30: ='Examen final'!C25 -> 0 | E30: =AVERAGE(C30:D30) -> 0 | F30: 2 | G30: =E30*F30 -> 0
A31: Épreuve spécifique (PO). | C31: ='Controle continu'!F68 -> 0 | D31: ='Examen final'!C26 -> 0 | E31: =AVERAGE(C31:D31) -> 0 | F31: 2 | G31: =E31*F31 -> 0
A32: D. Formation académique.
A33: Mathématiques. | C33: ='Controle continu'!F70 -> 0 | D33: ='Examen final'!C28 -> 0 | E33: =AVERAGE(C33:D33) -> 0 | F33: 1 | G33: =E33*F33 -> 0
A34: Français. | C34: ='Controle continu'!F73 -> 0 | D34: ='Examen final'!C29 -> 0 | E34: =AVERAGE(C34:D34) -> 0 | F34: 1 | G34: =E34*F34 -> 0
A35: Anglais. | C35: ='Controle continu'!F74 -> 0 | D35: ='Examen final'!C30 -> 0 | E35: =AVERAGE(C35:D35) -> 0 | F35: 1 | G35: =E35*F35 -> 0
A36: E. Formation au management au sein d'une unité élémentaire.
A37: Entretien et gestion du matériel. | C37: ='Controle continu'!F78 -> 0 | D37: ='Examen final'!C32 -> 0 | E37: =AVERAGE(C37:D37) -> 0 | F37: 1 | G37: =E37*F37 -> 0
A38: Gestion et soutien du personnel. | C38: ='Controle continu'!F79 -> 0 | D38: ='Examen final'!C33 -> 0 | E38: =AVERAGE(C38:D38) -> 0 | F38: 2 | G38: =E38*F38 -> 0
A39: Note d'aptitude. | C39: ='Controle continu'!E85 -> 0 | D39: ='Examen final'!C35 -> 0 | E39: =AVERAGE(C39:D39) -> 0 | F39: 5 | G39: =E39*F39 -> 0
A40: TOTAL. | C40: =(C12+C13+C14+C15+C16+C18+C19+C20+C21+C22+C23+C24+C25+C26+C28+C29+C30+C31+C33+C34+C35+C37+C38+C39)/24 -> 0 | D40: =(D12+D13+D14+D15+D16+D18+D19+D20+D21+D22+D23+D24+D25+D26+D28+D29+D30+D31+D33+D34+D35+D37+D38+D39)/24 -> 0 | E40: =AVERAGE(C40:D40) -> 0 | F40: 50 | G40: =E40*F40 -> 0
A41: Moyenne en formation générale élémentaire. | D41: =G40/F40 -> 0 | E41: Sur 20
A42: Observations :
A44: À Phalsbourg, | B44: =TODAY() -> 43504
A45: ADJ PICHENEL

Sheet 2
A1: FEUILLE INDIVIDUELLE DES RÉSULTATS DE LA FGE.
A3: Corps: | B3: ='Liste des stagiaires'!D5 -> 0
A5: Nom: | B5: ='Liste des stagiaires'!B5 -> 0 | E5: Prénom: | F5: ='Liste des stagiaires'!C5 -> 0
A7: Matricule: | B7: ='Liste des stagiaires'!E5 -> 0
A9: COMPOSANTES. | C9: CONTRÔLE CONTINU. | D9: EXAMEN FINAL. | E9: MOYENNE. | F9: COEFFICIENTS. | G9: TOTAL.
C10: Note sur 20. | D10: Note sur 20. | E10: Note sur 20.
A11: A. Formation au comportement militaire.
A12: Instruction des subordonnés. | C12: ='Controle continu'!H5 -> 0 | D12: ='Examen final'!E4 -> 0 | E12: =AVERAGE(C12:D12) -> 0 | F12: 3 | G12: =E12*F12 -> 0
A13: Organisation générale de la défense. | C13: ='Controle continu'!H20 -> 0 | D13: ='Examen final'!E5 -> 0 | E13: =AVERAGE(C13:D13) -> 0 | F13: 1 | G13: =E13*F13 -> 0
A14: Connaissance des règlements. | C14: ='Controle continu'!H22 -> 0 | D14: ='Examen final'!E6 -> 0 | E14: =AVERAGE(C14:D14) -> 0 | F14: 3 | G14: =E14*F14 -> 0
A15: Notions de civisme. | C15: ='Controle continu'!H25 -> 0 | D15: ='Examen final'!E7 -> 0 | E15: =AVERAGE(C15:D15) -> 0 | F15: 1 | G15: =E15*F15 -> 0
A16: Techniques d'expression écrite. | C16: ='Controle continu'!H28 -> 0 | D16: ='Examen final'!E8 -> 0 | E16: =AVERAGE(C16:D16) -> 0 | F16: 2 | G16: =E16*F16 -> 0
A17: B. Formation à la mission opérationnelle.
A18: Formation PROTERRE. | C18: ='Controle continu'!H30 -> 0 | D18: ='Examen final'!E10 -> 0 | E18: =AVERAGE(C18:D18) -> 0 | F18: 7 | G18: =E18*F18 -> 0
A19: Armement. | C19: ='Controle continu'!H34 -> 0 | D19: ='Examen final'!E11 -> 0 | E19: =AVERAGE(C19:D19) -> 0 | F19: 3 | G19: =E19*F19 -> 0
A20: Tirs. | C20: ='Controle continu'!H36 -> 0 | D20: ='Examen final'!E12 -> 0 | E20: =AVERAGE(C20:D20) -> 0 | F20: 4 | G20: =E20*F20 -> 0
A21: Défense NRBC. | C21: ='Controle continu'!H41 -> 0 | D21: ='Examen final'!E13 -> 0 | E21: =AVERAGE(C21:D21) -> 0 | F21: 1 | G21: =E21*F21 -> 0
A22: Transmissions. | C22: ='Controle continu'!H44 -> 0 | D22: ='Examen final'!E14 -> 0 | E22: =AVERAGE(C22:D22) -> 0 | F22: 1 | G22: =E22*F22 -> 0
A23: Topographie. | C23: ='Controle continu'!H47 -> 0 | D23: ='Examen final'!E15 -> 0 | E23: =AVERAGE(C23:D23) -> 0 | F23: 2 | G23: =E23*F23 -> 0
A24: Prévention, secourisme. | C24: ='Controle continu'!H51 -> 0 | D24: ='Examen final'!E16 -> 0 | E24: =AVERAGE(C24:D24) -> 0 | F24: 1 | G24: =E24*F24 -> 0
A25: Génie. | C25: ='Controle continu'!H54 -> 0 | D25: ='Examen final'!E17 -> 0 | E25: =AVERAGE(C25:D25) -> 0 | F25: 1 | G25: =E25*F25 -> 0
A26: Renseignement, identification. | C26: ='Controle continu'!H56 -> 0 | D26: ='Examen final'!E18 -> 0 | E26: =AVERAGE(C26:D26) -> 0 | F26: 2 | G26: =E26*F26 -> 0
A27: C. Éducation et entraînement physiques militaires et sportifs.
A28: Notation continue. | C28: ='Controle continu'!H62 -> 0 | D28: ='Examen final'!E20 -> 0 | E28: =AVERAGE(C28:D28) -> 0 | F28: 1 | G28: =E28*F28 -> 0
A29: Épreuves du CCPG | C29: ='Controle continu'!H63 -> 0 | D29: ='Examen final'!F21 -> 0 | E29: =AVERAGE(C29:D29) -> 0 | F29: 2 | G29: =E29*F29 -> 0
A30: Épreuves du CCPS (Marche course) | C30: ='Controle continu'!H67 -> 0 | D30: ='Examen final'!E25 -> 0 | E30: =AVERAGE(C30:D30) -> 0 | F30: 2 | G30: =E30*F30 -> 0
A31: Épreuve spécifique (PO). | C31: ='Controle continu'!H68 -> 0 | D31: ='Examen final'!E26 -> 0 | E31: =AVERAGE(C31:D31) -> 0 | F31: 2 | G31: =E31*F31 -> 0
A32: D. Formation académique.
A33: Mathématiques. | C33: ='Controle continu'!H70 -> 0 | D33: ='Examen final'!E28 -> 0 | E33: =AVERAGE(C33:D33) -> 0 | F33: 1 | G33: =E33*F33 -> 0
A34: Français. | C34: ='Controle continu'!H73 -> 0 | D34: ='Examen final'!E29 -> 0 | E34: =AVERAGE(C34:D34) -> 0 | F34: 1 | G34: =E34*F34 -> 0
A35: Anglais. | C35: ='Controle continu'!H74 -> 0 | D35: ='Examen final'!E30 -> 0 | E35: =AVERAGE(C35:D35) -> 0 | F35: 1 | G35: =E35*F35 -> 0
A36: E. Formation au management au sein d'une unité élémentaire.
A37: Entretien et gestion du matériel. | C37: ='Controle continu'!H78 -> 0 | D37: ='Examen final'!E32 -> 0 | E37: =AVERAGE(C37:D37) -> 0 | F37: 1 | G37: =E37*F37 -> 0
A38: Gestion et soutien du personnel. | C38: ='Controle continu'!H79 -> 0 | D38: ='Examen final'!E33 -> 0 | E38: =AVERAGE(C38:D38) -> 0 | F38: 2 | G38: =E38*F38 -> 0
A39: Note d'aptitude. | C39: ='Controle continu'!G85 -> 0 | D39: ='Examen final'!E35 -> 0 | E39: =AVERAGE(C39:D39) -> 0 | F39: 5 | G39: =E39*F39 -> 0
A40: TOTAL. | C40: =(C12+C13+C14+C15+C16+C18+C19+C20+C21+C22+C23+C24+C25+C26+C28+C29+C30+C31+C33+C34+C35+C37+C38+C39)/24 -> 0 | D40: =(D12+D13+D14+D15+D16+D18+D19+D20+D21+D22+D23+D24+D25+D26+D28+D29+D30+D31+D33+D34+D35+D37+D38+D39)/24 -> 0 | E40: =AVERAGE(C40:D40) -> 0 | F40: 50 | G40: =E40*F40 -> 0
A41: Moyenne en formation générale élémentaire. | D41: =G40/F40 -> 0 | E41: Sur 20
A42: Observations :
A44: À Phalsbourg, | B44: =TODAY() -> 43504
A45: ADJ PICHENEL

Sheet 3
A1: FEUILLE INDIVIDUELLE DES RÉSULTATS DE LA FGE.
A3: Corps: | B3: ='Liste des stagiaires'!D6 -> 0
A5: Nom: | B5: ='Liste des stagiaires'!B6 -> 0 | E5: Prénom: | F5: ='Liste des stagiaires'!C6 -> 0
A7: Matricule: | B7: ='Liste des stagiaires'!E6 -> 0
A9: COMPOSANTES. | C9: CONTRÔLE CONTINU. | D9: EXAMEN FINAL. | E9: MOYENNE. | F9: COEFFICIENTS. | G9: TOTAL.
C10: Note sur 20. | D10: Note sur 20. | E10: Note sur 20.
A11: A. Formation au comportement militaire.
A12: Instruction des subordonnés. | C12: ='Controle continu'!J5 -> 0 | D12: ='Examen final'!G4 -> 0 | E12: =AVERAGE(C12:D12) -> 0 | F12: 3 | G12: =E12*F12 -> 0
A13: Organisation générale de la défense. | C13: ='Controle continu'!J20 -> 0 | D13: ='Examen final'!G5 -> 0 | E13: =AVERAGE(C13:D13) -> 0 | F13: 1 | G13: =E13*F13 -> 0
A14: Connaissance des règlements. | C14: ='Controle continu'!J22 -> 0 | D14: ='Examen final'!G6 -> 0 | E14: =AVERAGE(C14:D14) -> 0 | F14: 3 | G14: =E14*F14 -> 0
A15: Notions de civisme. | C15: ='Controle continu'!J25 -> 0 | D15: ='Examen final'!G7 -> 0 | E15: =AVERAGE(C15:D15) -> 0 | F15: 1 | G15: =E15*F15 -> 0
A16: Techniques d'expression écrite. | C16: ='Controle continu'!J28 -> 0 | D16: ='Examen final'!G8 -> 0 | E16: =AVERAGE(C16:D16) -> 0 | F16: 2 | G16: =E16*F16 -> 0
A17: B. Formation à la mission opérationnelle.
A18: Formation PROTERRE. | C18: ='Controle continu'!J30 -> 0 | D18: ='Examen final'!G10 -> 0 | E18: =AVERAGE(C18:D18) -> 0 | F18: 7 | G18: =E18*F18 -> 0
A19: Armement. | C19: ='Controle continu'!J34 -> 0 | D19: ='Examen final'!G11 -> 0 | E19: =AVERAGE(C19:D19) -> 0 | F19: 3 | G19: =E19*F19 -> 0
A20: Tirs. | C20: ='Controle continu'!J36 -> 0 | D20: ='Examen final'!G12 -> 0 | E20: =AVERAGE(C20:D20) -> 0 | F20: 4 | G20: =E20*F20 -> 0
A21: Défense NRBC. | C21: ='Controle continu'!J41 -> 0 | D21: ='Examen final'!G13 -> 0 | E21: =AVERAGE(C21:D21) -> 0 | F21: 1 | G21: =E21*F21 -> 0
A22: Transmissions. | C22: ='Controle continu'!J44 -> 0 | D22: ='Examen final'!G14 -> 0 | E22: =AVERAGE(C22:D22) -> 0 | F22: 1 | G22: =E22*F22 -> 0
A23: Topographie. | C23: ='Controle continu'!J47 -> 0 | D23: ='Examen final'!G15 -> 0 | E23: =AVERAGE(C23:D23) -> 0 | F23: 2 | G23: =E23*F23 -> 0
A24: Prévention, secourisme. | C24: ='Controle continu'!J51 -> 0 | D24: ='Examen final'!G16 -> 0 | E24: =AVERAGE(C24:D24) -> 0 | F24: 1 | G24: =E24*F24 -> 0
A25: Génie. | C25: ='Controle continu'!J54 -> 0 | D25: ='Examen final'!G17 -> 0 | E25: =AVERAGE(C25:D25) -> 0 | F25: 1 | G25: =E25*F25 -> 0
A26: Renseignement, identification. | C26: ='Controle continu'!J56 -> 0 | D26: ='Examen final'!G18 -> 0 | E26: =AVERAGE(C26:D26) -> 0 | F26: 2 | G26: =E26*F26 -> 0
A27: C. Éducation et entraînement physiques militaires et sportifs.
A28: Notation continue. | C28: ='Controle continu'!J62 -> 0 | D28: ='Examen final'!G20 -> 0 | E28: =AVERAGE(C28:D28) -> 0 | F28: 1 | G28: =E28*F28 -> 0
A29: Épreuves du CCPG | C29: ='Controle continu'!J63 -> 0 | D29: ='Examen final'!H21 -> 0 | E29: =AVERAGE(C29:D29) -> 0 | F29: 2 | G29: =E29*F29 -> 0
A30: Épreuves du CCPS (Marche course) | C30: ='Controle continu'!J67 -> 0 | D30: ='Examen final'!G25 -> 0 | E30: =AVERAGE(C30:D30) -> 0 | F30: 2 | G30: =E30*F30 -> 0
A31: Épreuve spécifique (PO). | C31: ='Controle continu'!J68 -> 0 | D31: ='Examen final'!G26 -> 0 | E31: =AVERAGE(C31:D31) -> 0 | F31: 2 | G31: =E31*F31 -> 0
A32: D. Formation académique.
A33: Mathématiques. | C33: ='Controle continu'!J70 -> 0 | D33: ='Examen final'!G28 -> 0 | E33: =AVERAGE(C33:D33) -> 0 | F33: 1 | G33: =E33*F33 -> 0
A34: Français. | C34: ='Controle continu'!J73 -> 0 | D34: ='Examen final'!G29 -> 0 | E34: =AVERAGE(C34:D34) -> 0 | F34: 1 | G34: =E34*F34 -> 0
A35: Anglais. | C35: ='Controle continu'!J74 -> 0 | D35: ='Examen final'!G30 -> 0 | E35: =AVERAGE(C35:D35) -> 0 | F35: 1 | G35: =E35*F35 -> 0
A36: E. Formation au management au sein d'une unité élémentaire.
A37: Entretien et gestion du matériel. | C37: ='Controle continu'!J78 -> 0 | D37: ='Examen final'!G32 -> 0 | E37: =AVERAGE(C37:D37) -> 0 | F37: 1 | G37: =E37*F37 -> 0
A38: Gestion et soutien du personnel. | C38: ='Controle continu'!J79 -> 0 | D38: ='Examen final'!G33 -> 0 | E38: =AVERAGE(C38:D38) -> 0 | F38: 2 | G38: =E38*F38 -> 0
A39: Note d'aptitude. | C39: ='Controle continu'!I85 -> 0 | D39: ='Examen final'!G35 -> 0 | E39: =AVERAGE(C39:D39) -> 0 | F39: 5 | G39: =E39*F39 -> 0
A40: TOTAL. | C40: =(C12+C13+C14+C15+C16+C18+C19+C20+C21+C22+C23+C24+C25+C26+C28+C29+C30+C31+C33+C34+C35+C37+C38+C39)/24 -> 0 | D40: =(D12+D13+D14+D15+D16+D18+D19+D20+D21+D22+D23+D24+D25+D26+D28+D29+D30+D31+D33+D34+D35+D37+D38+D39)/24 -> 0 | E40: =AVERAGE(C40:D40) -> 0 | F40: 50 | G40: =E40*F40 -> 0
A41: Moyenne en formation générale élémentaire. | D41: =G40/F40 -> 0 | E41: Sur 20
A42: Observations :
A44: À Phalsbourg, | B44: =TODAY() -> 43504
A45: ADJ PICHENEL

Sheet 4
A1: FEUILLE INDIVIDUELLE DES RÉSULTATS DE LA FGE.
A3: Corps: | B3: ='Liste des stagiaires'!D7 -> 0
A5: Nom: | B5: ='Liste des stagiaires'!B7 -> 0 | E5: Prénom: | F5: ='Liste des stagiaires'!C7 -> 0
A7: Matricule: | B7: ='Liste des stagiaires'!E7 -> 0
A9: COMPOSANTES. | C9: CONTRÔLE CONTINU. | D9: EXAMEN FINAL. | E9: MOYENNE. | F9: COEFFICIENTS. | G9: TOTAL.
C10: Note sur 20. | D10: Note sur 20. | E10: Note sur 20.
A11: A. Formation au comportement militaire.
A12: Instruction des subordonnés. | C12: ='Controle continu'!L5 -> 0 | D12: ='Examen final'!I4 -> 0 | E12: =AVERAGE(C12:D12) -> 0 | F12: 3 | G12: =E12*F12 -> 0
A13: Organisation générale de la défense. | C13: ='Controle continu'!L20 -> 0 | D13: ='Examen final'!I5 -> 0 | E13: =AVERAGE(C13:D13) -> 0 | F13: 1 | G13: =E13*F13 -> 0
A14: Connaissance des règlements. | C14: ='Controle continu'!L22 -> 0 | D14: ='Examen final'!I6 -> 0 | E14: =AVERAGE(C14:D14) -> 0 | F14: 3 | G14: =E14*F14 -> 0
A15: Notions de civisme. | C15: ='Controle continu'!L25 -> 0 | D15: ='Examen final'!I7 -> 0 | E15: =AVERAGE(C15:D15) -> 0 | F15: 1 | G15: =E15*F15 -> 0
A16: Techniques d'expression écrite. | C16: ='Controle continu'!L28 -> 0 | D16: ='Examen final'!I8 -> 0 | E16: =AVERAGE(C16:D16) -> 0 | F16: 2 | G16: =E16*F16 -> 0
A17: B. Formation à la mission opérationnelle.
A18: Formation PROTERRE. | C18: ='Controle continu'!L30 -> 0 | D18: ='Examen final'!I10 -> 0 | E18: =AVERAGE(C18:D18) -> 0 | F18: 7 | G18: =E18*F18 -> 0
A19: Armement. | C19: ='Controle continu'!L34 -> 0 | D19: ='Examen final'!I11 -> 0 | E19: =AVERAGE(C19:D19) -> 0 | F19: 3 | G19: =E19*F19 -> 0
A20: Tirs. | C20: ='Controle continu'!L36 -> 0 | D20: ='Examen final'!I12 -> 0 | E20: =AVERAGE(C20:D20) -> 0 | F20: 4 | G20: =E20*F20 -> 0
A21: Défense NRBC. | C21: ='Controle continu'!L41 -> 0 | D21: ='Examen final'!I13 -> 0 | E21: =AVERAGE(C21:D21) -> 0 | F21: 1 | G21: =E21*F21 -> 0
A22: Transmissions. | C22: ='Controle continu'!L44 -> 0 | D22: ='Examen final'!I14 -> 0 | E22: =AVERAGE(C22:D22) -> 0 | F22: 1 | G22: =E22*F22 -> 0
A23: Topographie. | C23: ='Controle continu'!L47 -> 0 | D23: ='Examen final'!I15 -> 0 | E23: =AVERAGE(C23:D23) -> 0 | F23: 2 | G23: =E23*F23 -> 0
A24: Prévention, secourisme. | C24: ='Controle continu'!L51 -> 0 | D24: ='Examen final'!I16 -> 0 | E24: =AVERAGE(C24:D24) -> 0 | F24: 1 | G24: =E24*F24 -> 0
A25: Génie. | C25: ='Controle continu'!L54 -> 0 | D25: ='Examen final'!I17 -> 0 | E25: =AVERAGE(C25:D25) -> 0 | F25: 1 | G25: =E25*F25 -> 0
A26: Renseignement, identification. | C26: ='Controle continu'!L56 -> 0 | D26: ='Examen final'!I18 -> 0 | E26: =AVERAGE(C26:D26) -> 0 | F26: 2 | G26: =E26*F26 -> 0
A27: C. Éducation et entraînement physiques militaires et sportifs.
A28: Notation continue. | C28: ='Controle continu'!L62 -> 0 | D28: ='Examen final'!I20 -> 0 | E28: =AVERAGE(C28:D28) -> 0 | F28: 1 | G28: =E28*F28 -> 0
A29: Épreuves du CCPG | C29: ='Controle continu'!L63 -> 0 | D29: ='Examen final'!J21 -> 0 | E29: =AVERAGE(C29:D29) -> 0 | F29: 2 | G29: =E29*F29 -> 0
A30: Épreuves du CCPS (Marche course) | C30: ='Controle continu'!L67 -> 0 | D30: ='Examen final'!I25 -> 0 | E30: =AVERAGE(C30:D30) -> 0 | F30: 2 | G30: =E30*F30 -> 0
A31: Épreuve spécifique (PO). | C31: ='Controle continu'!L68 -> 0 | D31: ='Examen final'!I26 -> 0 | E31: =AVERAGE(C31:D31) -> 0 | F31: 2 | G31: =E31*F31 -> 0
A32: D. Formation académique.
A33: Mathématiques. | C33: ='Controle continu'!L70 -> 0 | D33: ='Examen final'!I28 -> 0 | E33: =AVERAGE(C33:D33) -> 0 | F33: 1 | G33: =E33*F33 -> 0
A34: Français. | C34: ='Controle continu'!L73 -> 0 | D34: ='Examen final'!I29 -> 0 | E34: =AVERAGE(C34:D34) -> 0 | F34: 1 | G34: =E34*F34 -> 0
A35: Anglais. | C35: ='Controle continu'!L74 -> 0 | D35: ='Examen final'!I30 -> 0 | E35: =AVERAGE(C35:D35) -> 0 | F35: 1 | G35: =E35*F35 -> 0
A36: E. Formation au management au sein d'une unité élémentaire.
A37: Entretien et gestion du matériel. | C37: ='Controle continu'!L78 -> 0 | D37: ='Examen final'!I32 -> 0 | E37: =AVERAGE(C37:D37) -> 0 | F37: 1 | G37: =E37*F37 -> 0
A38: Gestion et soutien du personnel. | C38: ='Controle continu'!L79 -> 0 | D38: ='Examen final'!I33 -> 0 | E38: =AVERAGE(C38:D38) -> 0 | F38: 2 | G38: =E38*F38 -> 0
A39: Note d'aptitude. | C39: ='Controle continu'!K85 -> 0 | D39: ='Examen final'!I35 -> 0 | E39: =AVERAGE(C39:D39) -> 0 | F39: 5 | G39: =E39*F39 -> 0
A40: TOTAL. | C40: =(C12+C13+C14+C15+C16+C18+C19+C20+C21+C22+C23+C24+C25+C26+C28+C29+C30+C31+C33+C34+C35+C37+C38+C39)/24 -> 0 | D40: =(D12+D13+D14+D15+D16+D18+D19+D20+D21+D22+D23+D24+D25+D26+D28+D29+D30+D31+D33+D34+D35+D37+D38+D39)/24 -> 0 | E40: =AVERAGE(C40:D40) -> 0 | F40: 50 | G40: =E40*F40 -> 0
A41: Moyenne en formation générale élémentaire. | D41: =G40/F40 -> 0 | E41: Sur 20
A42: Observations :
A44: À Phalsbourg, | B44: =TODAY() -> 43504
A45: ADJ PICHENEL

Sheet 5
A1: FEUILLE INDIVIDUELLE DES RÉSULTATS DE LA FGE.
A3: Corps: | B3: ='Liste des stagiaires'!D8 -> 0
A5: Nom: | B5: ='Liste des stagiaires'!B8 -> 0 | E5: Prénom: | F5: ='Liste des stagiaires'!C8 -> 0
A7: Matricule: | B7: ='Liste des stagiaires'!E8 -> 0
A9: COMPOSANTES. | C9: CONTRÔLE CONTINU. | D9: EXAMEN FINAL. | E9: MOYENNE. | F9: COEFFICIENTS. | G9: TOTAL.
C10: Note sur 20. | D10: Note sur 20. | E10: Note sur 20.
A11: A. Formation au comportement militaire.
A12: Instruction des subordonnés. | C12: ='Controle continu'!N5 -> 0 | D12: ='Examen final'!K4 -> 0 | E12: =AVERAGE(C12:D12) -> 0 | F12: 3 | G12: =E12*F12 -> 0
A13: Organisation générale de la défense. | C13: ='Controle continu'!N20 -> 0 | D13: ='Examen final'!K5 -> 0 | E13: =AVERAGE(C13:D13) -> 0 | F13: 1 | G13: =E13*F13 -> 0
A14: Connaissance des règlements. | C14: ='Controle continu'!N22 -> 0 | D14: ='Examen final'!K6 -> 0 | E14: =AVERAGE(C14:D14) -> 0 | F14: 3 | G14: =E14*F14 -> 0
A15: Notions de civisme. | C15: ='Controle continu'!N25 -> 0 | D15: ='Examen final'!K7 -> 0 | E15: =AVERAGE(C15:D15) -> 0 | F15: 1 | G15: =E15*F15 -> 0
A16: Techniques d'expression écrite. | C16: ='Controle continu'!N28 -> 0 | D16: ='Examen final'!K8 -> 0 | E16: =AVERAGE(C16:D16) -> 0 | F16: 2 | G16: =E16*F16 -> 0
A17: B. Formation à la mission opérationnelle.
A18: Formation PROTERRE. | C18: ='Controle continu'!N30 -> 0 | D18: ='Examen final'!K10 -> 0 | E18: =AVERAGE(C18:D18) -> 0 | F18: 7 | G18: =E18*F18 -> 0
A19: Armement. | C19: ='Controle continu'!N34 -> 0 | D19: ='Examen final'!K11 -> 0 | E19: =AVERAGE(C19:D19) -> 0 | F19: 3 | G19: =E19*F19 -> 0
A20: Tirs. | C20: ='Controle continu'!N36 -> 0 | D20: ='Examen final'!K12 -> 0 | E20: =AVERAGE(C20:D20) -> 0 | F20: 4 | G20: =E20*F20 -> 0
A21: Défense NRBC. | C21: ='Controle continu'!N41 -> 0 | D21: ='Examen final'!K13 -> 0 | E21: =AVERAGE(C21:D21) -> 0 | F21: 1 | G21: =E21*F21 -> 0
A22: Transmissions. | C22: ='Controle continu'!N44 -> 0 | D22: ='Examen final'!K14 -> 0 | E22: =AVERAGE(C22:D22) -> 0 | F22: 1 | G22: =E22*F22 -> 0
A23: Topographie. | C23: ='Controle continu'!N47 -> 0 | D23: ='Examen final'!K15 -> 0 | E23: =AVERAGE(C23:D23) -> 0 | F23: 2 | G23: =E23*F23 -> 0
A24: Prévention, secourisme. | C24: ='Controle continu'!N51 -> 0 | D24: ='Examen final'!K16 -> 0 | E24: =AVERAGE(C24:D24) -> 0 | F24: 1 | G24: =E24*F24 -> 0
A25: Génie. | C25: ='Controle continu'!N54 -> 0 | D25: ='Examen final'!K17 -> 0 | E25: =AVERAGE(C25:D25) -> 0 | F25: 1 | G25: =E25*F25 -> 0
A26: Renseignement, identification. | C26: ='Controle continu'!N56 -> 0 | D26: ='Examen final'!K18 -> 0 | E26: =AVERAGE(C26:D26) -> 0 | F26: 2 | G26: =E26*F26 -> 0
A27: C. Éducation et entraînement physiques militaires et sportifs.
A28: Notation continue. | C28: ='Controle continu'!N62 -> 0 | D28: ='Examen final'!K20 -> 0 | E28: =AVERAGE(C28:D28) -> 0 | F28: 1 | G28: =E28*F28 -> 0
A29: Épreuves du CCPG | C29: ='Controle continu'!N63 -> 0 | D29: ='Examen final'!L21 -> 0 | E29: =AVERAGE(C29:D29) -> 0 | F29: 2 | G29: =E29*F29 -> 0
A30: Épreuves du CCPS (Marche course) | C30: ='Controle continu'!N67 -> 0 | D30: ='Examen final'!K25 -> 0 | E30: =AVERAGE(C30:D30) -> 0 | F30: 2 | G30: =E30*F30 -> 0
A31: Épreuve spécifique (PO). | C31: ='Controle continu'!N68 -> 0 | D31: ='Examen final'!K26 -> 0 | E31: =AVERAGE(C31:D31) -> 0 | F31: 2 | G31: =E31*F31 -> 0
A32: D. Formation académique.
A33: Mathématiques. | C33: ='Controle continu'!N70 -> 0 | D33: ='Examen final'!K28 -> 0 | E33: =AVERAGE(C33:D33) -> 0 | F33: 1 | G33: =E33*F33 -> 0
A34: Français. | C34: ='Controle continu'!N73 -> 0 | D34: ='Examen final'!K29 -> 0 | E34: =AVERAGE(C34:D34) -> 0 | F34: 1 | G34: =E34*F34 -> 0
A35: Anglais. | C35: ='Controle continu'!N74 -> 0 | D35: ='Examen final'!K30 -> 0 | E35: =AVERAGE(C35:D35) -> 0 | F35: 1 | G35: =E35*F35 -> 0
A36: E. Formation au management au sein d'une unité élémentaire.
A37: Entretien et gestion du matériel. | C37: ='Controle continu'!N78 -> 0 | D37: ='Examen final'!K32 -> 0 | E37: =AVERAGE(C37:D37) -> 0 | F37: 1 | G37: =E37*F37 -> 0
A38: Gestion et soutien du personnel. | C38: ='Controle continu'!N79 -> 0 | D38: ='Examen final'!K33 -> 0 | E38: =AVERAGE(C38:D38) -> 0 | F38: 2 | G38: =E38*F38 -> 0
A39: Note d'aptitude. | C39: ='Controle continu'!M85 -> 0 | D39: ='Examen final'!K35 -> 0 | E39: =AVERAGE(C39:D39) -> 0 | F39: 5 | G39: =E39*F39 -> 0
A40: TOTAL. | C40: =(C12+C13+C14+C15+C16+C18+C19+C20+C21+C22+C23+C24+C25+C26+C28+C29+C30+C31+C33+C34+C35+C37+C38+C39)/24 -> 0 | D40: =(D12+D13+D14+D15+D16+D18+D19+D20+D21+D22+D23+D24+D25+D26+D28+D29+D30+D31+D33+D34+D35+D37+D38+D39)/24 -> 0 | E40: =AVERAGE(C40:D40) -> 0 | F40: 50 | G40: =E40*F40 -> 0
A41: Moyenne en formation générale élémentaire. | D41: =G40/F40 -> 0 | E41: Sur 20
A42: Observations :
A44: À Phalsbourg, | B44: =TODAY() -> 43504
A45: ADJ PICHENEL

Sheet 6
A1: FEUILLE INDIVIDUELLE DES RÉSULTATS DE LA FGE.
A3: Corps: | B3: ='Liste des stagiaires'!D9 -> 0
A5: Nom: | B5: ='Liste des stagiaires'!B9 -> 0 | E5: Prénom: | F5: ='Liste des stagiaires'!C9 -> 0
A7: Matricule: | B7: ='Liste des stagiaires'!E9 -> 0
A9: COMPOSANTES. | C9: CONTRÔLE CONTINU. | D9: EXAMEN FINAL. | E9: MOYENNE. | F9: COEFFICIENTS. | G9: TOTAL.
C10: Note sur 20. | D10: Note sur 20. | E10: Note sur 20.
A11: A. Formation au comportement militaire.
A12: Instruction des subordonnés. | C12: ='Controle continu'!P5 -> 0 | D12: ='Examen final'!M4 -> 0 | E12: =AVERAGE(C12:D12) -> 0 | F12: 3 | G12: =E12*F12 -> 0
A13: Organisation générale de la défense. | C13: ='Controle continu'!P20 -> 0 | D13: ='Examen final'!M5 -> 0 | E13: =AVERAGE(C13:D13) -> 0 | F13: 1 | G13: =E13*F13 -> 0
A14: Connaissance des règlements. | C14: ='Controle continu'!P22 -> 0 | D14: ='Examen final'!M6 -> 0 | E14: =AVERAGE(C14:D14) -> 0 | F14: 3 | G14: =E14*F14 -> 0
A15: Notions de civisme. | C15: ='Controle continu'!P25 -> 0 | D15: ='Examen final'!M7 -> 0 | E15: =AVERAGE(C15:D15) -> 0 | F15: 1 | G15: =E15*F15 -> 0
A16: Techniques d'expression écrite. | C16: ='Controle continu'!P28 -> 0 | D16: ='Examen final'!M8 -> 0 | E16: =AVERAGE(C16:D16) -> 0 | F16: 2 | G16: =E16*F16 -> 0
A17: B. Formation à la mission opérationnelle.
A18: Formation PROTERRE. | C18: ='Controle continu'!P30 -> 0 | D18: ='Examen final'!M10 -> 0 | E18: =AVERAGE(C18:D18) -> 0 | F18: 7 | G18: =E18*F18 -> 0
A19: Armement. | C19: ='Controle continu'!P34 -> 0 | D19: ='Examen final'!M11 -> 0 | E19: =AVERAGE(C19:D19) -> 0 | F19: 3 | G19: =E19*F19 -> 0
A20: Tirs. | C20: ='Controle continu'!P36 -> 0 | D20: ='Examen final'!M12 -> 0 | E20: =AVERAGE(C20:D20) -> 0 | F20: 4 | G20: =E20*F20 -> 0
A21: Défense NRBC. | C21: ='Controle continu'!P41 -> 0 | D21: ='Examen final'!M13 -> 0 | E21: =AVERAGE(C21:D21) -> 0 | F21: 1 | G21: =E21*F21 -> 0
A22: Transmissions. | C22: ='Controle continu'!P44 -> 0 | D22: ='Examen final'!M14 -> 0 | E22: =AVERAGE(C22:D22) -> 0 | F22: 1 | G22: =E22*F22 -> 0
A23: Topographie. | C23: ='Controle continu'!P47 -> 0 | D23: ='Examen final'!M15 -> 0 | E23: =AVERAGE(C23:D23) -> 0 | F23: 2 | G23: =E23*F23 -> 0
A24: Prévention, secourisme. | C24: ='Controle continu'!P51 -> 0 | D24: ='Examen final'!M16 -> 0 | E24: =AVERAGE(C24:D24) -> 0 | F24: 1 | G24: =E24*F24 -> 0
A25: Génie. | C25: ='Controle continu'!P54 -> 0 | D25: ='Examen final'!M17 -> 0 | E25: =AVERAGE(C25:D25) -> 0 | F25: 1 | G25: =E25*F25 -> 0
A26: Renseignement, identification. | C26: ='Controle continu'!P56 -> 0 | D26: ='Examen final'!M18 -> 0 | E26: =AVERAGE(C26:D26) -> 0 | F26: 2 | G26: =E26*F26 -> 0
A27: C. Éducation et entraînement physiques militaires et sportifs.
A28: Notation continue. | C28: ='Controle continu'!P62 -> 0 | D28: ='Examen final'!M20 -> 0 | E28: =AVERAGE(C28:D28) -> 0 | F28: 1 | G28: =E28*F28 -> 0
A29: Épreuves du CCPG | C29: ='Controle continu'!P63 -> 0 | D29: ='Examen final'!N21 -> 0 | E29: =AVERAGE(C29:D29) -> 0 | F29: 2 | G29: =E29*F29 -> 0
A30: Épreuves du CCPS (Marche course) | C30: ='Controle continu'!P67 -> 0 | D30: ='Examen final'!M25 -> 0 | E30: =AVERAGE(C30:D30) -> 0 | F30: 2 | G30: =E30*F30 -> 0
A31: Épreuve spécifique (PO). | C31: ='Controle continu'!P68 -> 0 | D31: ='Examen final'!M26 -> 0 | E31: =AVERAGE(C31:D31) -> 0 | F31: 2 | G31: =E31*F31 -> 0
A32: D. Formation académique.
A33: Mathématiques. | C33: ='Controle continu'!P70 -> 0 | D33: ='Examen final'!M28 -> 0 | E33: =AVERAGE(C33:D33) -> 0 | F33: 1 | G33: =E33*F33 -> 0
A34: Français. | C34: ='Controle continu'!P73 -> 0 | D34: ='Examen final'!M29 -> 0 | E34: =AVERAGE(C34:D34) -> 0 | F34: 1 | G34: =E34*F34 -> 0
A35: Anglais. | C35: ='Controle continu'!P74 -> 0 | D35: ='Examen final'!M30 -> 0 | E35: =AVERAGE(C35:D35) -> 0 | F35: 1 | G35: =E35*F35 -> 0
A36: E. Formation au management au sein d'une unité élémentaire.
A37: Entretien et gestion du matériel. | C37: ='Controle continu'!P78 -> 0 | D37: ='Examen final'!M32 -> 0 | E37: =AVERAGE(C37:D37) -> 0 | F37: 1 | G37: =E37*F37 -> 0
A38: Gestion et soutien du personnel. | C38: ='Controle continu'!P79 -> 0 | D38: ='Examen final'!M33 -> 0 | E38: =AVERAGE(C38:D38) -> 0 | F38: 2 | G38: =E38*F38 -> 0
A39: Note d'aptitude. | C39: ='Controle continu'!O85 -> 0 | D39: ='Examen final'!M35 -> 0 | E39: =AVERAGE(C39:D39) -> 0 | F39: 5 | G39: =E39*F39 -> 0
A40: TOTAL. | C40: =(C12+C13+C14+C15+C16+C18+C19+C20+C21+C22+C23+C24+C25+C26+C28+C29+C30+C31+C33+C34+C35+C37+C38+C39)/24 -> 0 | D40: =(D12+D13+D14+D15+D16+D18+D19+D20+D21+D22+D23+D24+D25+D26+D28+D29+D30+D31+D33+D34+D35+D37+D38+D39)/24 -> 0 | E40: =AVERAGE(C40:D40) -> 0 | F40: 50 | G40: =E40*F40 -> 0
A41: Moyenne en formation générale élémentaire. | D41: =G40/F40 -> 0 | E41: Sur 20
A42: Observations :
A44: À Phalsbourg, | B44: =TODAY() -> 43504
A45: ADJ PICHENEL

Sheet 7
A1: FEUILLE INDIVIDUELLE DES RÉSULTATS DE LA FGE.
A3: Corps: | B3: ='Liste des stagiaires'!D10 -> 0
A5: Nom: | B5: ='Liste des stagiaires'!B10 -> 0 | E5: Prénom: | F5: ='Liste des stagiaires'!C10 -> 0
A7: Matricule: | B7: ='Liste des stagiaires'!E10 -> 0
A9: COMPOSANTES. | C9: CONTRÔLE CONTINU. | D9: EXAMEN FINAL. | E9: MOYENNE. | F9: COEFFICIENTS. | G9: TOTAL.
C10: Note sur 20. | D10: Note sur 20. | E10: Note sur 20.
A11: A. Formation au comportement militaire.
A12: Instruction des subordonnés. | C12: ='Controle continu'!R5 -> 0 | D12: ='Examen final'!O4 -> 0 | E12: =AVERAGE(C12:D12) -> 0 | F12: 3 | G12: =E12*F12 -> 0
A13: Organisation générale de la défense. | C13: ='Controle continu'!R20 -> 0 | D13: ='Examen final'!O5 -> 0 | E13: =AVERAGE(C13:D13) -> 0 | F13: 1 | G13: =E13*F13 -> 0
A14: Connaissance des règlements. | C14: ='Controle continu'!R22 -> 0 | D14: ='Examen final'!O6 -> 0 | E14: =AVERAGE(C14:D14) -> 0 | F14: 3 | G14: =E14*F14 -> 0
A15: Notions de civisme. | C15: ='Controle continu'!R25 -> 0 | D15: ='Examen final'!O7 -> 0 | E15: =AVERAGE(C15:D15) -> 0 | F15: 1 | G15: =E15*F15 -> 0
A16: Techniques d'expression écrite. | C16: ='Controle continu'!R28 -> 0 | D16: ='Examen final'!O8 -> 0 | E16: =AVERAGE(C16:D16) -> 0 | F16: 2 | G16: =E16*F16 -> 0
A17: B. Formation à la mission opérationnelle.
A18: Formation PROTERRE. | C18: ='Controle continu'!R30 -> 0 | D18: ='Examen final'!O10 -> 0 | E18: =AVERAGE(C18:D18) -> 0 | F18: 7 | G18: =E18*F18 -> 0
A19: Armement. | C19: ='Controle continu'!R34 -> 0 | D19: ='Examen final'!O11 -> 0 | E19: =AVERAGE(C19:D19) -> 0 | F19: 3 | G19: =E19*F19 -> 0
A20: Tirs. | C20: ='Controle continu'!R36 -> 0 | D20: ='Examen final'!O12 -> 0 | E20: =AVERAGE(C20:D20) -> 0 | F20: 4 | G20: =E20*F20 -> 0
A21: Défense NRBC. | C21: ='Controle continu'!R41 -> 0 | D21: ='Examen final'!O13 -> 0 | E21: =AVERAGE(C21:D21) -> 0 | F21: 1 | G21: =E21*F21 -> 0
A22: Transmissions. | C22: ='Controle continu'!R44 -> 0 | D22: ='Examen final'!O14 -> 0 | E22: =AVERAGE(C22:D22) -> 0 | F22: 1 | G22: =E22*F22 -> 0
A23: Topographie. | C23: ='Controle continu'!R47 -> 0 | D23: ='Examen final'!O15 -> 0 | E23: =AVERAGE(C23:D23) -> 0 | F23: 2 | G23: =E23*F23 -> 0
A24: Prévention, secourisme. | C24: ='Controle continu'!R51 -> 0 | D24: ='Examen final'!O16 -> 0 | E24: =AVERAGE(C24:D24) -> 0 | F24: 1 | G24: =E24*F24 -> 0
A25: Génie. | C25: ='Controle continu'!R54 -> 0 | D25: ='Examen final'!O17 -> 0 | E25: =AVERAGE(C25:D25) -> 0 | F25: 1 | G25: =E25*F25 -> 0
A26: Renseignement, identification. | C26: ='Controle continu'!R56 -> 0 | D26: ='Examen final'!O18 -> 0 | E26: =AVERAGE(C26:D26) -> 0 | F26: 2 | G26: =E26*F26 -> 0
A27: C. Éducation et entraînement physiques militaires et sportifs.
A28: Notation continue. | C28: ='Controle continu'!R62 -> 0 | D28: ='Examen final'!O20 -> 0 | E28: =AVERAGE(C28:D28) -> 0 | F28: 1 | G28: =E28*F28 -> 0
A29: Épreuves du CCPG | C29: ='Controle continu'!R63 -> 0 | D29: ='Examen final'!P21 -> 0 | E29: =AVERAGE(C29:D29) -> 0 | F29: 2 | G29: =E29*F29 -> 0
A30: Épreuves du CCPS (Marche course) | C30: ='Controle continu'!R67 -> 0 | D30: ='Examen final'!O25 -> 0 | E30: =AVERAGE(C30:D30) -> 0 | F30: 2 | G30: =E30*F30 -> 0
A31: Épreuve spécifique (PO). | C31: ='Controle continu'!R68 -> 0 | D31: ='Examen final'!O26 -> 0 | E31: =AVERAGE(C31:D31) -> 0 | F31: 2 | G31: =E31*F31 -> 0
A32: D. Formation académique.
A33: Mathématiques. | C33: ='Controle continu'!R70 -> 0 | D33: ='Examen final'!O28 -> 0 | E33: =AVERAGE(C33:D33) -> 0 | F33: 1 | G33: =E33*F33 -> 0
A34: Français. | C34: ='Controle continu'!R73 -> 0 | D34: ='Examen final'!O29 -> 0 | E34: =AVERAGE(C34:D34) -> 0 | F34: 1 | G34: =E34*F34 -> 0
A35: Anglais. | C35: ='Controle continu'!R74 -> 0 | D35: ='Examen final'!O30 -> 0 | E35: =AVERAGE(C35:D35) -> 0 | F35: 1 | G35: =E35*F35 -> 0
A36: E. Formation au management au sein d'une unité élémentaire.
A37: Entretien et gestion du matériel. | C37: ='Controle continu'!R78 -> 0 | D37: ='Examen final'!O32 -> 0 | E37: =AVERAGE(C37:D37) -> 0 | F37: 1 | G37: =E37*F37 -> 0
A38: Gestion et soutien du personnel. | C38: ='Controle continu'!R79 -> 0 | D38: ='Examen final'!O33 -> 0 | E38: =AVERAGE(C38:D38) -> 0 | F38: 2 | G38: =E38*F38 -> 0
A39: Note d'aptitude. | C39: ='Controle continu'!Q85 -> 0 | D39: ='Examen final'!O35 -> 0 | E39: =AVERAGE(C39:D39) -> 0 | F39: 5 | G39: =E39*F39 -> 0
A40: TOTAL. | C40: =(C12+C13+C14+C15+C16+C18+C19+C20+C21+C22+C23+C24+C25+C26+C28+C29+C30+C31+C33+C34+C35+C37+C38+C39)/24 -> 0 | D40: =(D12+D13+D14+D15+D16+D18+D19+D20+D21+D22+D23+D24+D25+D26+D28+D29+D30+D31+D33+D34+D35+D37+D38+D39)/24 -> 0 | E40: =AVERAGE(C40:D40) -> 0 | F40: 50 | G40: =E40*F40 -> 0
A41: Moyenne en formation générale élémentaire. | D41: =G40/F40 -> 0 | E41: Sur 20
A42: Observations :
A44: À Phalsbourg, | B44: =TODAY() -> 43504
A45: ADJ PICHENEL

Sheet 8
A1: FEUILLE INDIVIDUELLE DES RÉSULTATS DE LA FGE.
A3: Corps: | B3: ='Liste des stagiaires'!D11 -> 0
A5: Nom: | B5: ='Liste des stagiaires'!B11 -> 0 | E5: Prénom: | F5: ='Liste des stagiaires'!C11 -> 0
A7: Matricule: | B7: ='Liste des stagiaires'!E11 -> 0
A9: COMPOSANTES. | C9: CONTRÔLE CONTINU. | D9: EXAMEN FINAL. | E9: MOYENNE. | F9: COEFFICIENTS. | G9: TOTAL.
C10: Note sur 20. | D10: Note sur 20. | E10: Note sur 20.
A11: A. Formation au comportement militaire.
A12: Instruction des subordonnés. | C12: ='Controle continu'!T5 -> 0 | D12: ='Examen final'!Q4 -> 0 | E12: =AVERAGE(C12:D12) -> 0 | F12: 3 | G12: =E12*F12 -> 0
A13: Organisation générale de la défense. | C13: ='Controle continu'!T20 -> 0 | D13: ='Examen final'!Q5 -> 0 | E13: =AVERAGE(C13:D13) -> 0 | F13: 1 | G13: =E13*F13 -> 0
A14: Connaissance des règlements. | C14: ='Controle continu'!T22 -> 0 | D14: ='Examen final'!Q6 -> 0 | E14: =AVERAGE(C14:D14) -> 0 | F14: 3 | G14: =E14*F14 -> 0
A15: Notions de civisme. | C15: ='Controle continu'!T25 -> 0 | D15: ='Examen final'!Q7 -> 0 | E15: =AVERAGE(C15:D15) -> 0 | F15: 1 | G15: =E15*F15 -> 0
A16: Techniques d'expression écrite. | C16: ='Controle continu'!T28 -> 0 | D16: ='Examen final'!Q8 -> 0 | E16: =AVERAGE(C16:D16) -> 0 | F16: 2 | G16: =E16*F16 -> 0
A17: B. Formation à la mission opérationnelle.
A18: Formation PROTERRE. | C18: ='Controle continu'!T30 -> 0 | D18: ='Examen final'!Q10 -> 0 | E18: =AVERAGE(C18:D18) -> 0 | F18: 7 | G18: =E18*F18 -> 0
A19: Armement. | C19: ='Controle continu'!T34 -> 0 | D19: ='Examen final'!Q11 -> 0 | E19: =AVERAGE(C19:D19) -> 0 | F19: 3 | G19: =E19*F19 -> 0
A20: Tirs. | C20: ='Controle continu'!T36 -> 0 | D20: ='Examen final'!Q12 -> 0 | E20: =AVERAGE(C20:D20) -> 0 | F20: 4 | G20: =E20*F20 -> 0
A21: Défense NRBC. | C21: ='Controle continu'!T41 -> 0 | D21: ='Examen final'!Q13 -> 0 | E21: =AVERAGE(C21:D21) -> 0 | F21: 1 | G21: =E21*F21 -> 0
A22: Transmissions. | C22: ='Controle continu'!T44 -> 0 | D22: ='Examen final'!Q14 -> 0 | E22: =AVERAGE(C22:D22) -> 0 | F22: 1 | G22: =E22*F22 -> 0
A23: Topographie. | C23: ='Controle continu'!T47 -> 0 | D23: ='Examen final'!Q15 -> 0 | E23: =AVERAGE(C23:D23) -> 0 | F23: 2 | G23: =E23*F23 -> 0
A24: Prévention, secourisme. | C24: ='Controle continu'!T51 -> 0 | D24: ='Examen final'!Q16 -> 0 | E24: =AVERAGE(C24:D24) -> 0 | F24: 1 | G24: =E24*F24 -> 0
A25: Génie. | C25: ='Controle continu'!T54 -> 0 | D25: ='Examen final'!Q17 -> 0 | E25: =AVERAGE(C25:D25) -> 0 | F25: 1 | G25: =E25*F25 -> 0
A26: Renseignement, identification. | C26: ='Controle continu'!T56 -> 0 | D26: ='Examen final'!Q18 -> 0 | E26: =AVERAGE(C26:D26) -> 0 | F26: 2 | G26: =E26*F26 -> 0
A27: C. Éducation et entraînement physiques militaires et sportifs.
A28: Notation continue. | C28: ='Controle continu'!T62 -> 0 | D28: ='Examen final'!Q20 -> 0 | E28: =AVERAGE(C28:D28) -> 0 | F28: 1 | G28: =E28*F28 -> 0
A29: Épreuves du CCPG | C29: ='Controle continu'!T63 -> 0 | D29: ='Examen final'!R21 -> 0 | E29: =AVERAGE(C29:D29) -> 0 | F29: 2 | G29: =E29*F29 -> 0
A30: Épreuves du CCPS (Marche course) | C30: ='Controle continu'!T67 -> 0 | D30: ='Examen final'!Q25 -> 0 | E30: =AVERAGE(C30:D30) -> 0 | F30: 2 | G30: =E30*F30 -> 0
A31: Épreuve spécifique (PO). | C31: ='Controle continu'!T68 -> 0 | D31: ='Examen final'!Q26 -> 0 | E31: =AVERAGE(C31:D31) -> 0 | F31: 2 | G31: =E31*F31 -> 0
A32: D. Formation académique.
A33: Mathématiques. | C33: ='Controle continu'!T70 -> 0 | D33: ='Examen final'!Q28 -> 0 | E33: =AVERAGE(C33:D33) -> 0 | F33: 1 | G33: =E33*F33 -> 0
A34: Français. | C34: ='Controle continu'!T73 -> 0 | D34: ='Examen final'!Q29 -> 0 | E34: =AVERAGE(C34:D34) -> 0 | F34: 1 | G34: =E34*F34 -> 0
A35: Anglais. | C35: ='Controle continu'!T74 -> 0 | D35: ='Examen final'!Q30 -> 0 | E35: =AVERAGE(C35:D35) -> 0 | F35: 1 | G35: =E35*F35 -> 0
A36: E. Formation au management au sein d'une unité élémentaire.
A37: Entretien et gestion du matériel. | C37: ='Controle continu'!T78 -> 0 | D37: ='Examen final'!Q32 -> 0 | E37: =AVERAGE(C37:D37) -> 0 | F37: 1 | G37: =E37*F37 -> 0
A38: Gestion et soutien du personnel. | C38: ='Controle continu'!T79 -> 0 | D38: ='Examen final'!Q33 -> 0 | E38: =AVERAGE(C38:D38) -> 0 | F38: 2 | G38: =E38*F38 -> 0
A39: Note d'aptitude. | C39: ='Controle continu'!S85 -> 0 | D39: ='Examen final'!Q35 -> 0 | E39: =AVERAGE(C39:D39) -> 0 | F39: 5 | G39: =E39*F39 -> 0
A40: TOTAL. | C40: =(C12+C13+C14+C15+C16+C18+C19+C20+C21+C22+C23+C24+C25+C26+C28+C29+C30+C31+C33+C34+C35+C37+C38+C39)/24 -> 0 | D40: =(D12+D13+D14+D15+D16+D18+D19+D20+D21+D22+D23+D24+D25+D26+D28+D29+D30+D31+D33+D34+D35+D37+D38+D39)/24 -> 0 | E40: =AVERAGE(C40:D40) -> 0 | F40: 50 | G40: =E40*F40 -> 0
A41: Moyenne en formation générale élémentaire. | D41: =G40/F40 -> 0 | E41: Sur 20
A42: Observations :
A44: À Phalsbourg, | B44: =TODAY() -> 43504
A45: ADJ PICHENEL

Sheet 9
A1: FEUILLE INDIVIDUELLE DES RÉSULTATS DE LA FGE.
A3: Corps: | B3: ='Liste des stagiaires'!D12 -> 0
A5: Nom: | B5: ='Liste des stagiaires'!B12 -> 0 | E5: Prénom: | F5: ='Liste des stagiaires'!C12 -> 0
A7: Matricule: | B7: ='Liste des stagiaires'!E12 -> 0
A9: COMPOSANTES. | C9: CONTRÔLE CONTINU. | D9: EXAMEN FINAL. | E9: MOYENNE. | F9: COEFFICIENTS. | G9: TOTAL.
C10: Note sur 20. | D10: Note sur 20. | E10: Note sur 20.
A11: A. Formation au comportement militaire.
A12: Instruction des subordonnés. | C12: ='Controle continu'!V5 -> 0 | D12: ='Examen final'!S4 -> 0 | E12: =AVERAGE(C12:D12) -> 0 | F12: 3 | G12: =E12*F12 -> 0
A13: Organisation générale de la défense. | C13: ='Controle continu'!V20 -> 0 | D13: ='Examen final'!S5 -> 0 | E13: =AVERAGE(C13:D13) -> 0 | F13: 1 | G13: =E13*F13 -> 0
A14: Connaissance des règlements. | C14: ='Controle continu'!V22 -> 0 | D14: ='Examen final'!S6 -> 0 | E14: =AVERAGE(C14:D14) -> 0 | F14: 3 | G14: =E14*F14 -> 0
A15: Notions de civisme. | C15: ='Controle continu'!V25 -> 0 | D15: ='Examen final'!S7 -> 0 | E15: =AVERAGE(C15:D15) -> 0 | F15: 1 | G15: =E15*F15 -> 0
A16: Techniques d'expression écrite. | C16: ='Controle continu'!V28 -> 0 | D16: ='Examen final'!S8 -> 0 | E16: =AVERAGE(C16:D16) -> 0 | F16: 2 | G16: =E16*F16 -> 0
A17: B. Formation à la mission opérationnelle.
A18: Formation PROTERRE. | C18: ='Controle continu'!V30 -> 0 | D18: ='Examen final'!S10 -> 0 | E18: =AVERAGE(C18:D18) -> 0 | F18: 7 | G18: =E18*F18 -> 0
A19: Armement. | C19: ='Controle continu'!V34 -> 0 | D19: ='Examen final'!S11 -> 0 | E19: =AVERAGE(C19:D19) -> 0 | F19: 3 | G19: =E19*F19 -> 0
A20: Tirs. | C20: ='Controle continu'!V36 -> 0 | D20: ='Examen final'!S12 -> 0 | E20: =AVERAGE(C20:D20) -> 0 | F20: 4 | G20: =E20*F20 -> 0
A21: Défense NRBC. | C21: ='Controle continu'!V41 -> 0 | D21: ='Examen final'!S13 -> 0 | E21: =AVERAGE(C21:D21) -> 0 | F21: 1 | G21: =E21*F21 -> 0
A22: Transmissions. | C22: ='Controle continu'!V44 -> 0 | D22: ='Examen final'!S14 -> 0 | E22: =AVERAGE(C22:D22) -> 0 | F22: 1 | G22: =E22*F22 -> 0
A23: Topographie. | C23: ='Controle continu'!V47 -> 0 | D23: ='Examen final'!S15 -> 0 | E23: =AVERAGE(C23:D23) -> 0 | F23: 2 | G23: =E23*F23 -> 0
A24: Prévention, secourisme. | C24: ='Controle continu'!V51 -> 0 | D24: ='Examen final'!S16 -> 0 | E24: =AVERAGE(C24:D24) -> 0 | F24: 1 | G24: =E24*F24 -> 0
A25: Génie. | C25: ='Controle continu'!V54 -> 0 | D25: ='Examen final'!S17 -> 0 | E25: =AVERAGE(C25:D25) -> 0 | F25: 1 | G25: =E25*F25 -> 0
A26: Renseignement, identification. | C26: ='Controle continu'!V56 -> 0 | D26: ='Examen final'!S18 -> 0 | E26: =AVERAGE(C26:D26) -> 0 | F26: 2 | G26: =E26*F26 -> 0
A27: C. Éducation et entraînement physiques militaires et sportifs.
A28: Notation continue. | C28: ='Controle continu'!V62 -> 0 | D28: ='Examen final'!S20 -> 0 | E28: =AVERAGE(C28:D28) -> 0 | F28: 1 | G28: =E28*F28 -> 0
A29: Épreuves du CCPG | C29: ='Controle continu'!V63 -> 0 | D29: ='Examen final'!T21 -> 0 | E29: =AVERAGE(C29:D29) -> 0 | F29: 2 | G29: =E29*F29 -> 0
A30: Épreuves du CCPS (Marche course) | C30: ='Controle continu'!V67 -> 0 | D30: ='Examen final'!S25 -> 0 | E30: =AVERAGE(C30:D30) -> 0 | F30: 2 | G30: =E30*F30 -> 0
A31: Épreuve spécifique (PO). | C31: ='Controle continu'!V68 -> 0 | D31: ='Examen final'!S26 -> 0 | E31: =AVERAGE(C31:D31) -> 0 | F31: 2 | G31: =E31*F31 -> 0
A32: D. Formation académique.
A33: Mathématiques. | C33: ='Controle continu'!V70 -> 0 | D33: ='Examen final'!S28 -> 0 | E33: =AVERAGE(C33:D33) -> 0 | F33: 1 | G33: =E33*F33 -> 0
A34: Français. | C34: ='Controle continu'!V73 -> 0 | D34: ='Examen final'!S29 -> 0 | E34: =AVERAGE(C34:D34) -> 0 | F34: 1 | G34: =E34*F34 -> 0
A35: Anglais. | C35: ='Controle continu'!V74 -> 0 | D35: ='Examen final'!S30 -> 0 | E35: =AVERAGE(C35:D35) -> 0 | F35: 1 | G35: =E35*F35 -> 0
A36: E. Formation au management au sein d'une unité élémentaire.
A37: Entretien et gestion du matériel. | C37: ='Controle continu'!V78 -> 0 | D37: ='Examen final'!S32 -> 0 | E37: =AVERAGE(C37:D37) -> 0 | F37: 1 | G37: =E37*F37 -> 0
A38: Gestion et soutien du personnel. | C38: ='Controle continu'!V79 -> 0 | D38: ='Examen final'!S33 -> 0 | E38: =AVERAGE(C38:D38) -> 0 | F38: 2 | G38: =E38*F38 -> 0
A39: Note d'aptitude. | C39: ='Controle continu'!U85 -> 0 | D39: ='Examen final'!S35 -> 0 | E39: =AVERAGE(C39:D39) -> 0 | F39: 5 | G39: =E39*F39 -> 0
A40: TOTAL. | C40: =(C12+C13+C14+C15+C16+C18+C19+C20+C21+C22+C23+C24+C25+C26+C28+C29+C30+C31+C33+C34+C35+C37+C38+C39)/24 -> 0 | D40: =(D12+D13+D14+D15+D16+D18+D19+D20+D21+D22+D23+D24+D25+D26+D28+D29+D30+D31+D33+D34+D35+D37+D38+D39)/24 -> 0 | E40: =AVERAGE(C40:D40) -> 0 | F40: 50 | G40: =E40*F40 -> 0
A41: Moyenne en formation générale élémentaire. | D41: =G40/F40 -> 0 | E41: Sur 20
A42: Observations :
A44: À Phalsbourg, | B44: =TODAY() -> 43504
A45: ADJ PICHENEL

Sheet 10
A1: FEUILLE INDIVIDUELLE DES RÉSULTATS DE LA FGE.
A3: Corps: | B3: ='Liste des stagiaires'!D13 -> 0
A5: Nom: | B5: ='Liste des stagiaires'!B13 -> 0 | E5: Prénom: | F5: ='Liste des stagiaires'!C13 -> 0
A7: Matricule: | B7: ='Liste des stagiaires'!E13 -> 0
A9: COMPOSANTES. | C9: CONTRÔLE CONTINU. | D9: EXAMEN FINAL. | E9: MOYENNE. | F9: COEFFICIENTS. | G9: TOTAL.
C10: Note sur 20. | D10: Note sur 20. | E10: Note sur 20.
A11: A. Formation au comportement militaire.
A12: Instruction des subordonnés. | C12: ='Controle continu'!X5 -> 0 | D12: ='Examen final'!U4 -> 0 | E12: =AVERAGE(C12:D12) -> 0 | F12: 3 | G12: =E12*F12 -> 0
A13: Organisation générale de la défense. | C13: ='Controle continu'!X20 -> 0 | D13: ='Examen final'!U5 -> 0 | E13: =AVERAGE(C13:D13) -> 0 | F13: 1 | G13: =E13*F13 -> 0
A14: Connaissance des règlements. | C14: ='Controle continu'!X22 -> 0 | D14: ='Examen final'!U6 -> 0 | E14: =AVERAGE(C14:D14) -> 0 | F14: 3 | G14: =E14*F14 -> 0
A15: Notions de civisme. | C15: ='Controle continu'!X25 -> 0 | D15: ='Examen final'!U7 -> 0 | E15: =AVERAGE(C15:D15) -> 0 | F15: 1 | G15: =E15*F15 -> 0
A16: Techniques d'expression écrite. | C16: ='Controle continu'!X28 -> 0 | D16: ='Examen final'!U8 -> 0 | E16: =AVERAGE(C16:D16) -> 0 | F16: 2 | G16: =E16*F16 -> 0
A17: B. Formation à la mission opérationnelle.
A18: Formation PROTERRE. | C18: ='Controle continu'!X30 -> 0 | D18: ='Examen final'!U10 -> 0 | E18: =AVERAGE(C18:D18) -> 0 | F18: 7 | G18: =E18*F18 -> 0
A19: Armement. | C19: ='Controle continu'!X34 -> 0 | D19: ='Examen final'!U11 -> 0 | E19: =AVERAGE(C19:D19) -> 0 | F19: 3 | G19: =E19*F19 -> 0
A20: Tirs. | C20: ='Controle continu'!X36 -> 0 | D20: ='Examen final'!U12 -> 0 | E20: =AVERAGE(C20:D20) -> 0 | F20: 4 | G20: =E20*F20 -> 0
A21: Défense NRBC. | C21: ='Controle continu'!X41 -> 0 | D21: ='Examen final'!U13 -> 0 | E21: =AVERAGE(C21:D21) -> 0 | F21: 1 | G21: =E21*F21 -> 0
A22: Transmissions. | C22: ='Controle continu'!X44 -> 0 | D22: ='Examen final'!U14 -> 0 | E22: =AVERAGE(C22:D22) -> 0 | F22: 1 | G22: =E22*F22 -> 0
A23: Topographie. | C23: ='Controle continu'!X47 -> 0 | D23: ='Examen final'!U15 -> 0 | E23: =AVERAGE(C23:D23) -> 0 | F23: 2 | G23: =E23*F23 -> 0
A24: Prévention, secourisme. | C24: ='Controle continu'!X51 -> 0 | D24: ='Examen final'!U16 -> 0 | E24: =AVERAGE(C24:D24) -> 0 | F24: 1 | G24: =E24*F24 -> 0
A25: Génie. | C25: ='Controle continu'!X54 -> 0 | D25: ='Examen final'!U17 -> 0 | E25: =AVERAGE(C25:D25) -> 0 | F25: 1 | G25: =E25*F25 -> 0
A26: Renseignement, identification. | C26: ='Controle continu'!X56 -> 0 | D26: ='Examen final'!U18 -> 0 | E26: =AVERAGE(C26:D26) -> 0 | F26: 2 | G26: =E26*F26 -> 0
A27: C. Éducation et entraînement physiques militaires et sportifs.
A28: Notation continue. | C28: ='Controle continu'!X62 -> 0 | D28: ='Examen final'!U20 -> 0 | E28: =AVERAGE(C28:D28) -> 0 | F28: 1 | G28: =E28*F28 -> 0
A29: Épreuves du CCPG | C29: ='Controle continu'!X63 -> 0 | D29: ='Examen final'!V21 -> 0 | E29: =AVERAGE(C29:D29) -> 0 | F29: 2 | G29: =E29*F29 -> 0
A30: Épreuves du CCPS (Marche course) | C30: ='Controle continu'!X67 -> 0 | D30: ='Examen final'!U25 -> 0 | E30: =AVERAGE(C30:D30) -> 0 | F30: 2 | G30: =E30*F30 -> 0
A31: Épreuve spécifique (PO). | C31: ='Controle continu'!X68 -> 0 | D31: ='Examen final'!U26 -> 0 | E31: =AVERAGE(C31:D31) -> 0 | F31: 2 | G31: =E31*F31 -> 0
A32: D. Formation académique.
A33: Mathématiques. | C33: ='Controle continu'!X70 -> 0 | D33: ='Examen final'!U28 -> 0 | E33: =AVERAGE(C33:D33) -> 0 | F33: 1 | G33: =E33*F33 -> 0
A34: Français. | C34: ='Controle continu'!X73 -> 0 | D34: ='Examen final'!U29 -> 0 | E34: =AVERAGE(C34:D34) -> 0 | F34: 1 | G34: =E34*F34 -> 0
A35: Anglais. | C35: ='Controle continu'!X74 -> 0 | D35: ='Examen final'!U30 -> 0 | E35: =AVERAGE(C35:D35) -> 0 | F35: 1 | G35: =E35*F35 -> 0
A36: E. Formation au management au sein d'une unité élémentaire.
A37: Entretien et gestion du matériel. | C37: ='Controle continu'!X78 -> 0 | D37: ='Examen final'!U32 -> 0 | E37: =AVERAGE(C37:D37) -> 0 | F37: 1 | G37: =E37*F37 -> 0
A38: Gestion et soutien du personnel. | C38: ='Controle continu'!X79 -> 0 | D38: ='Examen final'!U33 -> 0 | E38: =AVERAGE(C38:D38) -> 0 | F38: 2 | G38: =E38*F38 -> 0
A39: Note d'aptitude. | C39: ='Controle continu'!W85 -> 0 | D39: ='Examen final'!U35 -> 0 | E39: =AVERAGE(C39:D39) -> 0 | F39: 5 | G39: =E39*F39 -> 0
A40: TOTAL. | C40: =(C12+C13+C14+C15+C16+C18+C19+C20+C21+C22+C23+C24+C25+C26+C28+C29+C30+C31+C33+C34+C35+C37+C38+C39)/24 -> 0 | D40: =(D12+D13+D14+D15+D16+D18+D19+D20+D21+D22+D23+D24+D25+D26+D28+D29+D30+D31+D33+D34+D35+D37+D38+D39)/24 -> 0 | E40: =AVERAGE(C40:D40) -> 0 | F40: 50 | G40: =E40*F40 -> 0
A41: Moyenne en formation générale élémentaire. | D41: =G40/F40 -> 0 | E41: Sur 20
A42: Observations :
A44: À Phalsbourg, | B44: =TODAY() -> 43504
A45: ADJ PICHENEL

Sheet 11
A1: FEUILLE INDIVIDUELLE DES RÉSULTATS DE LA FGE.
A3: Corps: | B3: ='Liste des stagiaires'!D14 -> 0
A5: Nom: | B5: ='Liste des stagiaires'!B14 -> 0 | E5: Prénom: | F5: ='Liste des stagiaires'!C14 -> 0
A7: Matricule: | B7: ='Liste des stagiaires'!E14 -> 0
A9: COMPOSANTES. | C9: CONTRÔLE CONTINU. | D9: EXAMEN FINAL. | E9: MOYENNE. | F9: COEFFICIENTS. | G9: TOTAL.
C10: Note sur 20. | D10: Note sur 20. | E10: Note sur 20.
A11: A. Formation au comportement militaire.
A12: Instruction des subordonnés. | C12: ='Controle continu'!Z5 -> 0 | D12: ='Examen final'!W4 -> 0 | E12: =AVERAGE(C12:D12) -> 0 | F12: 3 | G12: =E12*F12 -> 0
A13: Organisation générale de la défense. | C13: ='Controle continu'!Z20 -> 0 | D13: ='Examen final'!W5 -> 0 | E13: =AVERAGE(C13:D13) -> 0 | F13: 1 | G13: =E13*F13 -> 0
A14: Connaissance des règlements. | C14: ='Controle continu'!Z22 -> 0 | D14: ='Examen final'!W6 -> 0 | E14: =AVERAGE(C14:D14) -> 0 | F14: 3 | G14: =E14*F14 -> 0
A15: Notions de civisme. | C15: ='Controle continu'!Z25 -> 0 | D15: ='Examen final'!W7 -> 0 | E15: =AVERAGE(C15:D15) -> 0 | F15: 1 | G15: =E15*F15 -> 0
A16: Techniques d'expression écrite. | C16: ='Controle continu'!Z28 -> 0 | D16: ='Examen final'!W8 -> 0 | E16: =AVERAGE(C16:D16) -> 0 | F16: 2 | G16: =E16*F16 -> 0
A17: B. Formation à la mission opérationnelle.
A18: Formation PROTERRE. | C18: ='Controle continu'!Z30 -> 0 | D18: ='Examen final'!W10 -> 0 | E18: =AVERAGE(C18:D18) -> 0 | F18: 7 | G18: =E18*F18 -> 0
A19: Armement. | C19: ='Controle continu'!Z34 -> 0 | D19: ='Examen final'!W11 -> 0 | E19: =AVERAGE(C19:D19) -> 0 | F19: 3 | G19: =E19*F19 -> 0
A20: Tirs. | C20: ='Controle continu'!Z36 -> 0 | D20: ='Examen final'!W12 -> 0 | E20: =AVERAGE(C20:D20) -> 0 | F20: 4 | G20: =E20*F20 -> 0
A21: Défense NRBC. | C21: ='Controle continu'!Z41 -> 0 | D21: ='Examen final'!W13 -> 0 | E21: =AVERAGE(C21:D21) -> 0 | F21: 1 | G21: =E21*F21 -> 0
A22: Transmissions. | C22: ='Controle continu'!Z44 -> 0 | D22: ='Examen final'!W14 -> 0 | E22: =AVERAGE(C22:D22) -> 0 | F22: 1 | G22: =E22*F22 -> 0
A23: Topographie. | C23: ='Controle continu'!Z47 -> 0 | D23: ='Examen final'!W15 -> 0 | E23: =AVERAGE(C23:D23) -> 0 | F23: 2 | G23: =E23*F23 -> 0
A24: Prévention, secourisme. | C24: ='Controle continu'!Z51 -> 0 | D24: ='Examen final'!W16 -> 0 | E24: =AVERAGE(C24:D24) -> 0 | F24: 1 | G24: =E24*F24 -> 0
A25: Génie. | C25: ='Controle continu'!Z54 -> 0 | D25: ='Examen final'!W17 -> 0 | E25: =AVERAGE(C25:D25) -> 0 | F25: 1 | G25: =E25*F25 -> 0
A26: Renseignement, identification. | C26: ='Controle continu'!Z56 -> 0 | D26: ='Examen final'!W18 -> 0 | E26: =AVERAGE(C26:D26) -> 0 | F26: 2 | G26: =E26*F26 -> 0
A27: C. Éducation et entraînement physiques militaires et sportifs.
A28: Notation continue. | C28: ='Controle continu'!Z62 -> 0 | D28: ='Examen final'!W20 -> 0 | E28: =AVERAGE(C28:D28) -> 0 | F28: 1 | G28: =E28*F28 -> 0
A29: Épreuves du CCPG | C29: ='Controle continu'!Z63 -> 0 | D29: ='Examen final'!X21 -> 0 | E29: =AVERAGE(C29:D29) -> 0 | F29: 2 | G29: =E29*F29 -> 0
A30: Épreuves du CCPS (Marche course) | C30: ='Controle continu'!Z67 -> 0 | D30: ='Examen final'!W25 -> 0 | E30: =AVERAGE(C30:D30) -> 0 | F30: 2 | G30: =E30*F30 -> 0
A31: Épreuve spécifique (PO). | C31: ='Controle continu'!Z68 -> 0 | D31: ='Examen final'!W26 -> 0 | E31: =AVERAGE(C31:D31) -> 0 | F31: 2 | G31: =E31*F31 -> 0
A32: D. Formation académique.
A33: Mathématiques. | C33: ='Controle continu'!Z70 -> 0 | D33: ='Examen final'!W28 -> 0 | E33: =AVERAGE(C33:D33) -> 0 | F33: 1 | G33: =E33*F33 -> 0
A34: Français. | C34: ='Controle continu'!Z73 -> 0 | D34: ='Examen final'!W29 -> 0 | E34: =AVERAGE(C34:D34) -> 0 | F34: 1 | G34: =E34*F34 -> 0
A35: Anglais. | C35: ='Controle continu'!Z74 -> 0 | D35: ='Examen final'!W30 -> 0 | E35: =AVERAGE(C35:D35) -> 0 | F35: 1 | G35: =E35*F35 -> 0
A36: E. Formation au management au sein d'une unité élémentaire.
A37: Entretien et gestion du matériel. | C37: ='Controle continu'!Z78 -> 0 | D37: ='Examen final'!W32 -> 0 | E37: =AVERAGE(C37:D37) -> 0 | F37: 1 | G37: =E37*F37 -> 0
A38: Gestion et soutien du personnel. | C38: ='Controle continu'!Z79 -> 0 | D38: ='Examen final'!W33 -> 0 | E38: =AVERAGE(C38:D38) -> 0 | F38: 2 | G38: =E38*F38 -> 0
A39: Note d'aptitude. | C39: ='Controle continu'!Y85 -> 0 | D39: ='Examen final'!W35 -> 0 | E39: =AVERAGE(C39:D39) -> 0 | F39: 5 | G39: =E39*F39 -> 0
A40: TOTAL. | C40: =(C12+C13+C14+C15+C16+C18+C19+C20+C21+C22+C23+C24+C25+C26+C28+C29+C30+C31+C33+C34+C35+C37+C38+C39)/24 -> 0 | D40: =(D12+D13+D14+D15+D16+D18+D19+D20+D21+D22+D23+D24+D25+D26+D28+D29+D30+D31+D33+D34+D35+D37+D38+D39)/24 -> 0 | E40: =AVERAGE(C40:D40) -> 0 | F40: 50 | G40: =E40*F40 -> 0
A41: Moyenne en formation générale élémentaire. | D41: =G40/F40 -> 0 | E41: Sur 20
A42: Observations :
A44: À Phalsbourg, | B44: =TODAY() -> 43504
A45: ADJ PICHENEL

Sheet 12
A1: FEUILLE INDIVIDUELLE DES RÉSULTATS DE LA FGE.
A3: Corps: | B3: ='Liste des stagiaires'!D15 -> 0
A5: Nom: | B5: ='Liste des stagiaires'!B15 -> 0 | E5: Prénom: | F5: ='Liste des stagiaires'!C15 -> 0
A7: Matricule: | B7: ='Liste des stagiaires'!E15 -> 0
A9: COMPOSANTES. | C9: CONTRÔLE CONTINU. | D9: EXAMEN FINAL. | E9: MOYENNE. | F9: COEFFICIENTS. | G9: TOTAL.
C10: Note sur 20. | D10: Note sur 20. | E10: Note sur 20.
A11: A. Formation au comportement militaire.
A12: Instruction des subordonnés. | C12: ='Controle continu'!AB5 -> 0 | D12: ='Examen final'!Y4 -> 0 | E12: =AVERAGE(C12:D12) -> 0 | F12: 3 | G12: =E12*F12 -> 0
A13: Organisation générale de la défense. | C13: ='Controle continu'!AB20 -> 0 | D13: ='Examen final'!Y5 -> 0 | E13: =AVERAGE(C13:D13) -> 0 | F13: 1 | G13: =E13*F13 -> 0
A14: Connaissance des règlements. | C14: ='Controle continu'!AB22 -> 0 | D14: ='Examen final'!Y6 -> 0 | E14: =AVERAGE(C14:D14) -> 0 | F14: 3 | G14: =E14*F14 -> 0
A15: Notions de civisme. | C15: ='Controle continu'!AB25 -> 0 | D15: ='Examen final'!Y7 -> 0 | E15: =AVERAGE(C15:D15) -> 0 | F15: 1 | G15: =E15*F15 -> 0
A16: Techniques d'expression écrite. | C16: ='Controle continu'!AB28 -> 0 | D16: ='Examen final'!Y8 -> 0 | E16: =AVERAGE(C16:D16) -> 0 | F16: 2 | G16: =E16*F16 -> 0
A17: B. Formation à la mission opérationnelle.
A18: Formation PROTERRE. | C18: ='Controle continu'!AB30 -> 0 | D18: ='Examen final'!Y10 -> 0 | E18: =AVERAGE(C18:D18) -> 0 | F18: 7 | G18: =E18*F18 -> 0
A19: Armement. | C19: ='Controle continu'!AB34 -> 0 | D19: ='Examen final'!Y11 -> 0 | E19: =AVERAGE(C19:D19) -> 0 | F19: 3 | G19: =E19*F19 -> 0
A20: Tirs. | C20: ='Controle continu'!AB36 -> 0 | D20: ='Examen final'!Y12 -> 0 | E20: =AVERAGE(C20:D20) -> 0 | F20: 4 | G20: =E20*F20 -> 0
A21: Défense NRBC. | C21: ='Controle continu'!AB41 -> 0 | D21: ='Examen final'!Y13 -> 0 | E21: =AVERAGE(C21:D21) -> 0 | F21: 1 | G21: =E21*F21 -> 0
A22: Transmissions. | C22: ='Controle continu'!AB44 -> 0 | D22: ='Examen final'!Y14 -> 0 | E22: =AVERAGE(C22:D22) -> 0 | F22: 1 | G22: =E22*F22 -> 0
A23: Topographie. | C23: ='Controle continu'!AB47 -> 0 | D23: ='Examen final'!Y15 -> 0 | E23: =AVERAGE(C23:D23) -> 0 | F23: 2 | G23: =E23*F23 -> 0
A24: Prévention, secourisme. | C24: ='Controle continu'!AB51 -> 0 | D24: ='Examen final'!Y16 -> 0 | E24: =AVERAGE(C24:D24) -> 0 | F24: 1 | G24: =E24*F24 -> 0
A25: Génie. | C25: ='Controle continu'!AB54 -> 0 | D25: ='Examen final'!Y17 -> 0 | E25: =AVERAGE(C25:D25) -> 0 | F25: 1 | G25: =E25*F25 -> 0
A26: Renseignement, identification. | C26: ='Controle continu'!AB56 -> 0 | D26: ='Examen final'!Y18 -> 0 | E26: =AVERAGE(C26:D26) -> 0 | F26: 2 | G26: =E26*F26 -> 0
A27: C. Éducation et entraînement physiques militaires et sportifs.
A28: Notation continue. | C28: ='Controle continu'!AB62 -> 0 | D28: ='Examen final'!Y20 -> 0 | E28: =AVERAGE(C28:D28) -> 0 | F28: 1 | G28: =E28*F28 -> 0
A29: Épreuves du CCPG | C29: ='Controle continu'!AB63 -> 0 | D29: ='Examen final'!Z21 -> 0 | E29: =AVERAGE(C29:D29) -> 0 | F29: 2 | G29: =E29*F29 -> 0
A30: Épreuves du CCPS (Marche course) | C30: ='Controle continu'!AB67 -> 0 | D30: ='Examen final'!Y25 -> 0 | E30: =AVERAGE(C30:D30) -> 0 | F30: 2 | G30: =E30*F30 -> 0
A31: Épreuve spécifique (PO). | C31: ='Controle continu'!AB68 -> 0 | D31: ='Examen final'!Y26 -> 0 | E31: =AVERAGE(C31:D31) -> 0 | F31: 2 | G31: =E31*F31 -> 0
A32: D. Formation académique.
A33: Mathématiques. | C33: ='Controle continu'!AB70 -> 0 | D33: ='Examen final'!Y28 -> 0 | E33: =AVERAGE(C33:D33) -> 0 | F33: 1 | G33: =E33*F33 -> 0
A34: Français. | C34: ='Controle continu'!AB73 -> 0 | D34: ='Examen final'!Y29 -> 0 | E34: =AVERAGE(C34:D34) -> 0 | F34: 1 | G34: =E34*F34 -> 0
A35: Anglais. | C35: ='Controle continu'!AB74 -> 0 | D35: ='Examen final'!Y30 -> 0 | E35: =AVERAGE(C35:D35) -> 0 | F35: 1 | G35: =E35*F35 -> 0
A36: E. Formation au management au sein d'une unité élémentaire.
A37: Entretien et gestion du matériel. | C37: ='Controle continu'!AB78 -> 0 | D37: ='Examen final'!Y32 -> 0 | E37: =AVERAGE(C37:D37) -> 0 | F37: 1 | G37: =E37*F37 -> 0
A38: Gestion et soutien du personnel. | C38: ='Controle continu'!AB79 -> 0 | D38: ='Examen final'!Y33 -> 0 | E38: =AVERAGE(C38:D38) -> 0 | F38: 2 | G38: =E38*F38 -> 0
A39: Note d'aptitude. | C39: ='Controle continu'!AA85 -> 0 | D39: ='Examen final'!Y35 -> 0 | E39: =AVERAGE(C39:D39) -> 0 | F39: 5 | G39: =E39*F39 -> 0
A40: TOTAL. | C40: =(C12+C13+C14+C15+C16+C18+C19+C20+C21+C22+C23+C24+C25+C26+C28+C29+C30+C31+C33+C34+C35+C37+C38+C39)/24 -> 0 | D40: =(D12+D13+D14+D15+D16+D18+D19+D20+D21+D22+D23+D24+D25+D26+D28+D29+D30+D31+D33+D34+D35+D37+D38+D39)/24 -> 0 | E40: =AVERAGE(C40:D40) -> 0 | F40: 50 | G40: =E40*F40 -> 0
A41: Moyenne en formation générale élémentaire. | D41: =G40/F40 -> 0 | E41: Sur 20
A42: Observations :
A44: À Phalsbourg, | B44: =TODAY() -> 43504
A45: ADJ PICHENEL

Sheet 13
A1: FEUILLE INDIVIDUELLE DES RÉSULTATS DE LA FGE.
A3: Corps: | B3: ='Liste des stagiaires'!D16 -> 0
A5: Nom: | B5: ='Liste des stagiaires'!B16 -> 0 | E5: Prénom: | F5: ='Liste des stagiaires'!C16 -> 0
A7: Matricule: | B7: ='Liste des stagiaires'!E16 -> 0
A9: COMPOSANTES. | C9: CONTRÔLE CONTINU. | D9: EXAMEN FINAL. | E9: MOYENNE. | F9: COEFFICIENTS. | G9: TOTAL.
C10: Note sur 20. | D10: Note sur 20. | E10: Note sur 20.
A11: A. Formation au comportement militaire.
A12: Instruction des subordonnés. | C12: ='Controle continu'!AD5 -> 0 | D12: ='Examen final'!AA4 -> 0 | E12: =AVERAGE(C12:D12) -> 0 | F12: 3 | G12: =E12*F12 -> 0
A13: Organisation générale de la défense. | C13: ='Controle continu'!AD20 -> 0 | D13: ='Examen final'!AA5 -> 0 | E13: =AVERAGE(C13:D13) -> 0 | F13: 1 | G13: =E13*F13 -> 0
A14: Connaissance des règlements. | C14: ='Controle continu'!AD22 -> 0 | D14: ='Examen final'!AA6 -> 0 | E14: =AVERAGE(C14:D14) -> 0 | F14: 3 | G14: =E14*F14 -> 0
A15: Notions de civisme. | C15: ='Controle continu'!AD25 -> 0 | D15: ='Examen final'!AA7 -> 0 | E15: =AVERAGE(C15:D15) -> 0 | F15: 1 | G15: =E15*F15 -> 0
A16: Techniques d'expression écrite. | C16: ='Controle continu'!AD28 -> 0 | D16: ='Examen final'!AA8 -> 0 | E16: =AVERAGE(C16:D16) -> 0 | F16: 2 | G16: =E16*F16 -> 0
A17: B. Formation à la mission opérationnelle.
A18: Formation PROTERRE. | C18: ='Controle continu'!AD30 -> 0 | D18: ='Examen final'!AA10 -> 0 | E18: =AVERAGE(C18:D18) -> 0 | F18: 7 | G18: =E18*F18 -> 0
A19: Armement. | C19: ='Controle continu'!AD34 -> 0 | D19: ='Examen final'!AA11 -> 0 | E19: =AVERAGE(C19:D19) -> 0 | F19: 3 | G19: =E19*F19 -> 0
A20: Tirs. | C20: ='Controle continu'!AD36 -> 0 | D20: ='Examen final'!AA12 -> 0 | E20: =AVERAGE(C20:D20) -> 0 | F20: 4 | G20: =E20*F20 -> 0
A21: Défense NRBC. | C21: ='Controle continu'!AD41 -> 0 | D21: ='Examen final'!AA13 -> 0 | E21: =AVERAGE(C21:D21) -> 0 | F21: 1 | G21: =E21*F21 -> 0
A22: Transmissions. | C22: ='Controle continu'!AD44 -> 0 | D22: ='Examen final'!AA14 -> 0 | E22: =AVERAGE(C22:D22) -> 0 | F22: 1 | G22: =E22*F22 -> 0
A23: Topographie. | C23: ='Controle continu'!AD47 -> 0 | D23: ='Examen final'!AA15 -> 0 | E23: =AVERAGE(C23:D23) -> 0 | F23: 2 | G23: =E23*F23 -> 0
A24: Prévention, secourisme. | C24: ='Controle continu'!AD51 -> 0 | D24: ='Examen final'!AA16 -> 0 | E24: =AVERAGE(C24:D24) -> 0 | F24: 1 | G24: =E24*F24 -> 0
A25: Génie. | C25: ='Controle continu'!AD54 -> 0 | D25: ='Examen final'!AA17 -> 0 | E25: =AVERAGE(C25:D25) -> 0 | F25: 1 | G25: =E25*F25 -> 0
A26: Renseignement, identification. | C26: ='Controle continu'!AD56 -> 0 | D26: ='Examen final'!AA18 -> 0 | E26: =AVERAGE(C26:D26) -> 0 | F26: 2 | G26: =E26*F26 -> 0
A27: C. Éducation et entraînement physiques militaires et sportifs.
A28: Notation continue. | C28: ='Controle continu'!AD62 -> 0 | D28: ='Examen final'!AA20 -> 0 | E28: =AVERAGE(C28:D28) -> 0 | F28: 1 | G28: =E28*F28 -> 0
A29: Épreuves du CCPG | C29: ='Controle continu'!AD63 -> 0 | D29: ='Examen final'!AB21 -> 0 | E29: =AVERAGE(C29:D29) -> 0 | F29: 2 | G29: =E29*F29 -> 0
A30: Épreuves du CCPS (Marche course) | C30: ='Controle continu'!AD67 -> 0 | D30: ='Examen final'!AA25 -> 0 | E30: =AVERAGE(C30:D30) -> 0 | F30: 2 | G30: =E30*F30 -> 0
A31: Épreuve spécifique (PO). | C31: ='Controle continu'!AD68 -> 0 | D31: ='Examen final'!AA26 -> 0 | E31: =AVERAGE(C31:D31) -> 0 | F31: 2 | G31: =E31*F31 -> 0
A32: D. Formation académique.
A33: Mathématiques. | C33: ='Controle continu'!AD70 -> 0 | D33: ='Examen final'!AA28 -> 0 | E33: =AVERAGE(C33:D33) -> 0 | F33: 1 | G33: =E33*F33 -> 0
A34: Français. | C34: ='Controle continu'!AD73 -> 0 | D34: ='Examen final'!AA29 -> 0 | E34: =AVERAGE(C34:D34) -> 0 | F34: 1 | G34: =E34*F34 -> 0
A35: Anglais. | C35: ='Controle continu'!AD74 -> 0 | D35: ='Examen final'!AA30 -> 0 | E35: =AVERAGE(C35:D35) -> 0 | F35: 1 | G35: =E35*F35 -> 0
A36: E. Formation au management au sein d'une unité élémentaire.
A37: Entretien et gestion du matériel. | C37: ='Controle continu'!AD78 -> 0 | D37: ='Examen final'!AA32 -> 0 | E37: =AVERAGE(C37:D37) -> 0 | F37: 1 | G37: =E37*F37 -> 0
A38: Gestion et soutien du personnel. | C38: ='Controle continu'!AD79 -> 0 | D38: ='Examen final'!AA33 -> 0 | E38: =AVERAGE(C38:D38) -> 0 | F38: 2 | G38: =E38*F38 -> 0
A39: Note d'aptitude. | C39: ='Controle continu'!AC85 -> 0 | D39: ='Examen final'!AA35 -> 0 | E39: =AVERAGE(C39:D39) -> 0 | F39: 5 | G39: =E39*F39 -> 0
A40: TOTAL. | C40: =(C12+C13+C14+C15+C16+C18+C19+C20+C21+C22+C23+C24+C25+C26+C28+C29+C30+C31+C33+C34+C35+C37+C38+C39)/24 -> 0 | D40: =(D12+D13+D14+D15+D16+D18+D19+D20+D21+D22+D23+D24+D25+D26+D28+D29+D30+D31+D33+D34+D35+D37+D38+D39)/24 -> 0 | E40: =AVERAGE(C40:D40) -> 0 | F40: 50 | G40: =E40*F40 -> 0
A41: Moyenne en formation générale élémentaire. | D41: =G40/F40 -> 0 | E41: Sur 20
A42: Observations :
A44: À Phalsbourg, | B44: =TODAY() -> 43504
A45: ADJ PICHENEL

Sheet 14
A1: FEUILLE INDIVIDUELLE DES RÉSULTATS DE LA FGE.
A3: Corps: | B3: ='Liste des stagiaires'!D17 -> 0
A5: Nom: | B5: ='Liste des stagiaires'!B17 -> 0 | E5: Prénom: | F5: ='Liste des stagiaires'!C17 -> 0
A7: Matricule: | B7: ='Liste des stagiaires'!E17 -> 0
A9: COMPOSANTES. | C9: CONTRÔLE CONTINU. | D9: EXAMEN FINAL. | E9: MOYENNE. | F9: COEFFICIENTS. | G9: TOTAL.
C10: Note sur 20. | D10: Note sur 20. | E10: Note sur 20.
A11: A. Formation au comportement militaire.
A12: Instruction des subordonnés. | C12: ='Controle continu'!AF5 -> 0 | D12: ='Examen final'!AC4 -> 0 | E12: =AVERAGE(C12:D12) -> 0 | F12: 3 | G12: =E12*F12 -> 0
A13: Organisation générale de la défense. | C13: ='Controle continu'!AF20 -> 0 | D13: ='Examen final'!AC5 -> 0 | E13: =AVERAGE(C13:D13) -> 0 | F13: 1 | G13: =E13*F13 -> 0
A14: Connaissance des règlements. | C14: ='Controle continu'!AF22 -> 0 | D14: ='Examen final'!AC6 -> 0 | E14: =AVERAGE(C14:D14) -> 0 | F14: 3 | G14: =E14*F14 -> 0
A15: Notions de civisme. | C15: ='Controle continu'!AF25 -> 0 | D15: ='Examen final'!AC7 -> 0 | E15: =AVERAGE(C15:D15) -> 0 | F15: 1 | G15: =E15*F15 -> 0
A16: Techniques d'expression écrite. | C16: ='Controle continu'!AF28 -> 0 | D16: ='Examen final'!AC8 -> 0 | E16: =AVERAGE(C16:D16) -> 0 | F16: 2 | G16: =E16*F16 -> 0
A17: B. Formation à la mission opérationnelle.
A18: Formation PROTERRE. | C18: ='Controle continu'!AF30 -> 0 | D18: ='Examen final'!AC10 -> 0 | E18: =AVERAGE(C18:D18) -> 0 | F18: 7 | G18: =E18*F18 -> 0
A19: Armement. | C19: ='Controle continu'!AF34 -> 0 | D19: ='Examen final'!AC11 -> 0 | E19: =AVERAGE(C19:D19) -> 0 | F19: 3 | G19: =E19*F19 -> 0
A20: Tirs. | C20: ='Controle continu'!AF36 -> 0 | D20: ='Examen final'!AC12 -> 0 | E20: =AVERAGE(C20:D20) -> 0 | F20: 4 | G20: =E20*F20 -> 0
A21: Défense NRBC. | C21: ='Controle continu'!AF41 -> 0 | D21: ='Examen final'!AC13 -> 0 | E21: =AVERAGE(C21:D21) -> 0 | F21: 1 | G21: =E21*F21 -> 0
A22: Transmissions. | C22: ='Controle continu'!AF44 -> 0 | D22: ='Examen final'!AC14 -> 0 | E22: =AVERAGE(C22:D22) -> 0 | F22: 1 | G22: =E22*F22 -> 0
A23: Topographie. | C23: ='Controle continu'!AF47 -> 0 | D23: ='Examen final'!AC15 -> 0 | E23: =AVERAGE(C23:D23) -> 0 | F23: 2 | G23: =E23*F23 -> 0
A24: Prévention, secourisme. | C24: ='Controle continu'!AF51 -> 0 | D24: ='Examen final'!AC16 -> 0 | E24: =AVERAGE(C24:D24) -> 0 | F24: 1 | G24: =E24*F24 -> 0
A25: Génie. | C25: ='Controle continu'!AF54 -> 0 | D25: ='Examen final'!AC17 -> 0 | E25: =AVERAGE(C25:D25) -> 0 | F25: 1 | G25: =E25*F25 -> 0
A26: Renseignement, identification. | C26: ='Controle continu'!AF56 -> 0 | D26: ='Examen final'!AC18 -> 0 | E26: =AVERAGE(C26:D26) -> 0 | F26: 2 | G26: =E26*F26 -> 0
A27: C. Éducation et entraînement physiques militaires et sportifs.
A28: Notation continue. | C28: ='Controle continu'!AF62 -> 0 | D28: ='Examen final'!AC20 -> 0 | E28: =AVERAGE(C28:D28) -> 0 | F28: 1 | G28: =E28*F28 -> 0
A29: Épreuves du CCPG | C29: ='Controle continu'!AF63 -> 0 | D29: ='Examen final'!AD21 -> 0 | E29: =AVERAGE(C29:D29) -> 0 | F29: 2 | G29: =E29*F29 -> 0
A30: Épreuves du CCPS (Marche course) | C30: ='Controle continu'!AF67 -> 0 | D30: ='Examen final'!AC25 -> 0 | E30: =AVERAGE(C30:D30) -> 0 | F30: 2 | G30: =E30*F30 -> 0
A31: Épreuve spécifique (PO). | C31: ='Controle continu'!AF68 -> 0 | D31: ='Examen final'!AC26 -> 0 | E31: =AVERAGE(C31:D31) -> 0 | F31: 2 | G31: =E31*F31 -> 0
A32: D. Formation académique.
A33: Mathématiques. | C33: ='Controle continu'!AF70 -> 0 | D33: ='Examen final'!AC28 -> 0 | E33: =AVERAGE(C33:D33) -> 0 | F33: 1 | G33: =E33*F33 -> 0
A34: Français. | C34: ='Controle continu'!AF73 -> 0 | D34: ='Examen final'!AC29 -> 0 | E34: =AVERAGE(C34:D34) -> 0 | F34: 1 | G34: =E34*F34 -> 0
A35: Anglais. | C35: ='Controle continu'!AF74 -> 0 | D35: ='Examen final'!AC30 -> 0 | E35: =AVERAGE(C35:D35) -> 0 | F35: 1 | G35: =E35*F35 -> 0
A36: E. Formation au management au sein d'une unité élémentaire.
A37: Entretien et gestion du matériel. | C37: ='Controle continu'!AF78 -> 0 | D37: ='Examen final'!AC32 -> 0 | E37: =AVERAGE(C37:D37) -> 0 | F37: 1 | G37: =E37*F37 -> 0
A38: Gestion et soutien du personnel. | C38: ='Controle continu'!AF79 -> 0 | D38: ='Examen final'!AC33 -> 0 | E38: =AVERAGE(C38:D38) -> 0 | F38: 2 | G38: =E38*F38 -> 0
A39: Note d'aptitude. | C39: ='Controle continu'!AE85 -> 0 | D39: ='Examen final'!AC35 -> 0 | E39: =AVERAGE(C39:D39) -> 0 | F39: 5 | G39: =E39*F39 -> 0
A40: TOTAL. | C40: =(C12+C13+C14+C15+C16+C18+C19+C20+C21+C22+C23+C24+C25+C26+C28+C29+C30+C31+C33+C34+C35+C37+C38+C39)/24 -> 0 | D40: =(D12+D13+D14+D15+D16+D18+D19+D20+D21+D22+D23+D24+D25+D26+D28+D29+D30+D31+D33+D34+D35+D37+D38+D39)/24 -> 0 | E40: =AVERAGE(C40:D40) -> 0 | F40: 50 | G40: =E40*F40 -> 0
A41: Moyenne en formation générale élémentaire. | D41: =G40/F40 -> 0 | E41: Sur 20
A42: Observations :
A44: À Phalsbourg, | B44: =TODAY() -> 43504
A45: ADJ PICHENEL

Sheet 15
A1: FEUILLE INDIVIDUELLE DES RÉSULTATS DE LA FGE.
A3: Corps: | B3: ='Liste des stagiaires'!D18 -> 0
A5: Nom: | B5: ='Liste des stagiaires'!B18 -> 0 | E5: Prénom: | F5: ='Liste des stagiaires'!C18 -> 0
A7: Matricule: | B7: ='Liste des stagiaires'!E18 -> 0
A9: COMPOSANTES. | C9: CONTRÔLE CONTINU. | D9: EXAMEN FINAL. | E9: MOYENNE. | F9: COEFFICIENTS. | G9: TOTAL.
C10: Note sur 20. | D10: Note sur 20. | E10: Note sur 20.
A11: A. Formation au comportement militaire.
A12: Instruction des subordonnés. | C12: ='Controle continu'!AH5 -> 0 | D12: ='Examen final'!AE4 -> 0 | E12: =AVERAGE(C12:D12) -> 0 | F12: 3 | G12: =E12*F12 -> 0
A13: Organisation générale de la défense. | C13: ='Controle continu'!AH20 -> 0 | D13: ='Examen final'!AE5 -> 0 | E13: =AVERAGE(C13:D13) -> 0 | F13: 1 | G13: =E13*F13 -> 0
A14: Connaissance des règlements. | C14: ='Controle continu'!AH22 -> 0 | D14: ='Examen final'!AE6 -> 0 | E14: =AVERAGE(C14:D14) -> 0 | F14: 3 | G14: =E14*F14 -> 0
A15: Notions de civisme. | C15: ='Controle continu'!AH25 -> 0 | D15: ='Examen final'!AE7 -> 0 | E15: =AVERAGE(C15:D15) -> 0 | F15: 1 | G15: =E15*F15 -> 0
A16: Techniques d'expression écrite. | C16: ='Controle continu'!AH28 -> 0 | D16: ='Examen final'!AE8 -> 0 | E16: =AVERAGE(C16:D16) -> 0 | F16: 2 | G16: =E16*F16 -> 0
A17: B. Formation à la mission opérationnelle.
A18: Formation PROTERRE. | C18: ='Controle continu'!AH30 -> 0 | D18: ='Examen final'!AE10 -> 0 | E18: =AVERAGE(C18:D18) -> 0 | F18: 7 | G18: =E18*F18 -> 0
A19: Armement. | C19: ='Controle continu'!AH34 -> 0 | D19: ='Examen final'!AE11 -> 0 | E19: =AVERAGE(C19:D19) -> 0 | F19: 3 | G19: =E19*F19 -> 0
A20: Tirs. | C20: ='Controle continu'!AH36 -> 0 | D20: ='Examen final'!AE12 -> 0 | E20: =AVERAGE(C20:D20) -> 0 | F20: 4 | G20: =E20*F20 -> 0
A21: Défense NRBC. | C21: ='Controle continu'!AH41 -> 0 | D21: ='Examen final'!AE13 -> 0 | E21: =AVERAGE(C21:D21) -> 0 | F21: 1 | G21: =E21*F21 -> 0
A22: Transmissions. | C22: ='Controle continu'!AH44 -> 0 | D22: ='Examen final'!AE14 -> 0 | E22: =AVERAGE(C22:D22) -> 0 | F22: 1 | G22: =E22*F22 -> 0
A23: Topographie. | C23: ='Controle continu'!AH47 -> 0 | D23: ='Examen final'!AE15 -> 0 | E23: =AVERAGE(C23:D23) -> 0 | F23: 2 | G23: =E23*F23 -> 0
A24: Prévention, secourisme. | C24: ='Controle continu'!AH51 -> 0 | D24: ='Examen final'!AE16 -> 0 | E24: =AVERAGE(C24:D24) -> 0 | F24: 1 | G24: =E24*F24 -> 0
A25: Génie. | C25: ='Controle continu'!AH54 -> 0 | D25: ='Examen final'!AE17 -> 0 | E25: =AVERAGE(C25:D25) -> 0 | F25: 1 | G25: =E25*F25 -> 0
A26: Renseignement, identification. | C26: ='Controle continu'!AH56 -> 0 | D26: ='Examen final'!AE18 -> 0 | E26: =AVERAGE(C26:D26) -> 0 | F26: 2 | G26: =E26*F26 -> 0
A27: C. Éducation et entraînement physiques militaires et sportifs.
A28: Notation continue. | C28: ='Controle continu'!AH62 -> 0 | D28: ='Examen final'!AE20 -> 0 | E28: =AVERAGE(C28:D28) -> 0 | F28: 1 | G28: =E28*F28 -> 0
A29: Épreuves du CCPG | C29: ='Controle continu'!AH63 -> 0 | D29: ='Examen final'!AF21 -> 0 | E29: =AVERAGE(C29:D29) -> 0 | F29: 2 | G29: =E29*F29 -> 0
A30: Épreuves du CCPS (Marche course) | C30: ='Controle continu'!AH67 -> 0 | D30: ='Examen final'!AE25 -> 0 | E30: =AVERAGE(C30:D30) -> 0 | F30: 2 | G30: =E30*F30 -> 0
A31: Épreuve spécifique (PO). | C31: ='Controle continu'!AH68 -> 0 | D31: ='Examen final'!AE26 -> 0 | E31: =AVERAGE(C31:D31) -> 0 | F31: 2 | G31: =E31*F31 -> 0
A32: D. Formation académique.
A33: Mathématiques. | C33: ='Controle continu'!AH70 -> 0 | D33: ='Examen final'!AE28 -> 0 | E33: =AVERAGE(C33:D33) -> 0 | F33: 1 | G33: =E33*F33 -> 0
A34: Français. | C34: ='Controle continu'!AH73 -> 0 | D34: ='Examen final'!AE29 -> 0 | E34: =AVERAGE(C34:D34) -> 0 | F34: 1 | G34: =E34*F34 -> 0
A35: Anglais. | C35: ='Controle continu'!AH74 -> 0 | D35: ='Examen final'!AE30 -> 0 | E35: =AVERAGE(C35:D35) -> 0 | F35: 1 | G35: =E35*F35 -> 0
A36: E. Formation au management au sein d'une unité élémentaire.
A37: Entretien et gestion du matériel. | C37: ='Controle continu'!AH78 -> 0 | D37: ='Examen final'!AE32 -> 0 | E37: =AVERAGE(C37:D37) -> 0 | F37: 1 | G37: =E37*F37 -> 0
A38: Gestion et soutien du personnel. | C38: ='Controle continu'!AH79 -> 0 | D38: ='Examen final'!AE33 -> 0 | E38: =AVERAGE(C38:D38) -> 0 | F38: 2 | G38: =E38*F38 -> 0
A39: Note d'aptitude. | C39: ='Controle continu'!AG85 -> 0 | D39: ='Examen final'!AE35 -> 0 | E39: =AVERAGE(C39:D39) -> 0 | F39: 5 | G39: =E39*F39 -> 0
A40: TOTAL. | C40: =(C12+C13+C14+C15+C16+C18+C19+C20+C21+C22+C23+C24+C25+C26+C28+C29+C30+C31+C33+C34+C35+C37+C38+C39)/24 -> 0 | D40: =(D12+D13+D14+D15+D16+D18+D19+D20+D21+D22+D23+D24+D25+D26+D28+D29+D30+D31+D33+D34+D35+D37+D38+D39)/24 -> 0 | E40: =AVERAGE(C40:D40) -> 0 | F40: 50 | G40: =E40*F40 -> 0
A41: Moyenne en formation générale élémentaire. | D41: =G40/F40 -> 0 | E41: Sur 20
A42: Observations :
A44: À Phalsbourg, | B44: =TODAY() -> 43504
A45: ADJ PICHENEL

Sheet 16
A1: FEUILLE INDIVIDUELLE DES RÉSULTATS DE LA FGE.
A3: Corps: | B3: ='Liste des stagiaires'!D19 -> 0
A5: Nom: | B5: ='Liste des stagiaires'!B19 -> 0 | E5: Prénom: | F5: ='Liste des stagiaires'!C19 -> 0
A7: Matricule: | B7: ='Liste des stagiaires'!E19 -> 0
A9: COMPOSANTES. | C9: CONTRÔLE CONTINU. | D9: EXAMEN FINAL. | E9: MOYENNE. | F9: COEFFICIENTS. | G9: TOTAL.
C10: Note sur 20. | D10: Note sur 20. | E10: Note sur 20.
A11: A. Formation au comportement militaire.
A12: Instruction des subordonnés. | C12: ='Controle continu'!AJ5 -> 0 | D12: ='Examen final'!AG4 -> 0 | E12: =AVERAGE(C12:D12) -> 0 | F12: 3 | G12: =E12*F12 -> 0
A13: Organisation générale de la défense. | C13: ='Controle continu'!AJ20 -> 0 | D13: ='Examen final'!AG5 -> 0 | E13: =AVERAGE(C13:D13) -> 0 | F13: 1 | G13: =E13*F13 -> 0
A14: Connaissance des règlements. | C14: ='Controle continu'!AJ22 -> 0 | D14: ='Examen final'!AG6 -> 0 | E14: =AVERAGE(C14:D14) -> 0 | F14: 3 | G14: =E14*F14 -> 0
A15: Notions de civisme. | C15: ='Controle continu'!AJ25 -> 0 | D15: ='Examen final'!AG7 -> 0 | E15: =AVERAGE(C15:D15) -> 0 | F15: 1 | G15: =E15*F15 -> 0
A16: Techniques d'expression écrite. | C16: ='Controle continu'!AJ28 -> 0 | D16: ='Examen final'!AG8 -> 0 | E16: =AVERAGE(C16:D16) -> 0 | F16: 2 | G16: =E16*F16 -> 0
A17: B. Formation à la mission opérationnelle.
A18: Formation PROTERRE. | C18: ='Controle continu'!AJ30 -> 0 | D18: ='Examen final'!AG10 -> 0 | E18: =AVERAGE(C18:D18) -> 0 | F18: 7 | G18: =E18*F18 -> 0
A19: Armement. | C19: ='Controle continu'!AJ34 -> 0 | D19: ='Examen final'!AG11 -> 0 | E19: =AVERAGE(C19:D19) -> 0 | F19: 3 | G19: =E19*F19 -> 0
A20: Tirs. | C20: ='Controle continu'!AJ36 -> 0 | D20: ='Examen final'!AG12 -> 0 | E20: =AVERAGE(C20:D20) -> 0 | F20: 4 | G20: =E20*F20 -> 0
A21: Défense NRBC. | C21: ='Controle continu'!AJ41 -> 0 | D21: ='Examen final'!AG13 -> 0 | E21: =AVERAGE(C21:D21) -> 0 | F21: 1 | G21: =E21*F21 -> 0
A22: Transmissions. | C22: ='Controle continu'!AJ44 -> 0 | D22: ='Examen final'!AG14 -> 0 | E22: =AVERAGE(C22:D22) -> 0 | F22: 1 | G22: =E22*F22 -> 0
A23: Topographie. | C23: ='Controle continu'!AJ47 -> 0 | D23: ='Examen final'!AG15 -> 0 | E23: =AVERAGE(C23:D23) -> 0 | F23: 2 | G23: =E23*F23 -> 0
A24: Prévention, secourisme. | C24: ='Controle continu'!AJ51 -> 0 | D24: ='Examen final'!AG16 -> 0 | E24: =AVERAGE(C24:D24) -> 0 | F24: 1 | G24: =E24*F24 -> 0
A25: Génie. | C25: ='Controle continu'!AJ54 -> 0 | D25: ='Examen final'!AG17 -> 0 | E25: =AVERAGE(C25:D25) -> 0 | F25: 1 | G25: =E25*F25 -> 0
A26: Renseignement, identification. | C26: ='Controle continu'!AJ56 -> 0 | D26: ='Examen final'!AG18 -> 0 | E26: =AVERAGE(C26:D26) -> 0 | F26: 2 | G26: =E26*F26 -> 0
A27: C. Éducation et entraînement physiques militaires et sportifs.
A28: Notation continue. | C28: ='Controle continu'!AJ62 -> 0 | D28: ='Examen final'!AG20 -> 0 | E28: =AVERAGE(C28:D28) -> 0 | F28: 1 | G28: =E28*F28 -> 0
A29: Épreuves du CCPG | C29: ='Controle continu'!AJ63 -> 0 | D29: ='Examen final'!AH21 -> 0 | E29: =AVERAGE(C29:D29) -> 0 | F29: 2 | G29: =E29*F29 -> 0
A30: Épreuves du CCPS (Marche course) | C30: ='Controle continu'!AJ67 -> 0 | D30: ='Examen final'!AG25 -> 0 | E30: =AVERAGE(C30:D30) -> 0 | F30: 2 | G30: =E30*F30 -> 0
A31: Épreuve spécifique (PO). | C31: ='Controle continu'!AJ68 -> 0 | D31: ='Examen final'!AG26 -> 0 | E31: =AVERAGE(C31:D31) -> 0 | F31: 2 | G31: =E31*F31 -> 0
A32: D. Formation académique.
A33: Mathématiques. | C33: ='Controle continu'!AJ70 -> 0 | D33: ='Examen final'!AG28 -> 0 | E33: =AVERAGE(C33:D33) -> 0 | F33: 1 | G33: =E33*F33 -> 0
A34: Français. | C34: ='Controle continu'!AJ73 -> 0 | D34: ='Examen final'!AG29 -> 0 | E34: =AVERAGE(C34:D34) -> 0 | F34: 1 | G34: =E34*F34 -> 0
A35: Anglais. | C35: ='Controle continu'!AJ74 -> 0 | D35: ='Examen final'!AG30 -> 0 | E35: =AVERAGE(C35:D35) -> 0 | F35: 1 | G35: =E35*F35 -> 0
A36: E. Formation au management au sein d'une unité élémentaire.
A37: Entretien et gestion du matériel. | C37: ='Controle continu'!AJ78 -> 0 | D37: ='Examen final'!AG32 -> 0 | E37: =AVERAGE(C37:D37) -> 0 | F37: 1 | G37: =E37*F37 -> 0
A38: Gestion et soutien du personnel. | C38: ='Controle continu'!AJ79 -> 0 | D38: ='Examen final'!AG33 -> 0 | E38: =AVERAGE(C38:D38) -> 0 | F38: 2 | G38: =E38*F38 -> 0
A39: Note d'aptitude. | C39: ='Controle continu'!AI85 -> 0 | D39: ='Examen final'!AG35 -> 0 | E39: =AVERAGE(C39:D39) -> 0 | F39: 5 | G39: =E39*F39 -> 0
A40: TOTAL. | C40: =(C12+C13+C14+C15+C16+C18+C19+C20+C21+C22+C23+C24+C25+C26+C28+C29+C30+C31+C33+C34+C35+C37+C38+C39)/24 -> 0 | D40: =(D12+D13+D14+D15+D16+D18+D19+D20+D21+D22+D23+D24+D25+D26+D28+D29+D30+D31+D33+D34+D35+D37+D38+D39)/24 -> 0 | E40: =AVERAGE(C40:D40) -> 0 | F40: 50 | G40: =E40*F40 -> 0
A41: Moyenne en formation générale élémentaire. | D41: =G40/F40 -> 0 | E41: Sur 20
A42: Observations :
A44: À Phalsbourg, | B44: =TODAY() -> 43504
A45: ADJ PICHENEL

Sheet 17
A1: FEUILLE INDIVIDUELLE DES RÉSULTATS DE LA FGE.
A3: Corps: | B3: ='Liste des stagiaires'!D20 -> 0
A5: Nom: | B5: ='Liste des stagiaires'!B20 -> 0 | E5: Prénom: | F5: ='Liste des stagiaires'!C20 -> 0
A7: Matricule: | B7: ='Liste des stagiaires'!E20 -> 0
A9: COMPOSANTES. | C9: CONTRÔLE CONTINU. | D9: EXAMEN FINAL. | E9: MOYENNE. | F9: COEFFICIENTS. | G9: TOTAL.
C10: Note sur 20. | D10: Note sur 20. | E10: Note sur 20.
A11: A. Formation au comportement militaire.
A12: Instruction des subordonnés. | C12: ='Controle continu'!AL5 -> 0 | D12: ='Examen final'!AI4 -> 0 | E12: =AVERAGE(C12:D12) -> 0 | F12: 3 | G12: =E12*F12 -> 0
A13: Organisation générale de la défense. | C13: ='Controle continu'!AL20 -> 0 | D13: ='Examen final'!AI5 -> 0 | E13: =AVERAGE(C13:D13) -> 0 | F13: 1 | G13: =E13*F13 -> 0
A14: Connaissance des règlements. | C14: ='Controle continu'!AL22 -> 0 | D14: ='Examen final'!AI6 -> 0 | E14: =AVERAGE(C14:D14) -> 0 | F14: 3 | G14: =E14*F14 -> 0
A15: Notions de civisme. | C15: ='Controle continu'!AL25 -> 0 | D15: ='Examen final'!AI7 -> 0 | E15: =AVERAGE(C15:D15) -> 0 | F15: 1 | G15: =E15*F15 -> 0
A16: Techniques d'expression écrite. | C16: ='Controle continu'!AL28 -> 0 | D16: ='Examen final'!AI8 -> 0 | E16: =AVERAGE(C16:D16) -> 0 | F16: 2 | G16: =E16*F16 -> 0
A17: B. Formation à la mission opérationnelle.
A18: Formation PROTERRE. | C18: ='Controle continu'!AL30 -> 0 | D18: ='Examen final'!AI10 -> 0 | E18: =AVERAGE(C18:D18) -> 0 | F18: 7 | G18: =E18*F18 -> 0
A19: Armement. | C19: ='Controle continu'!AL34 -> 0 | D19: ='Examen final'!AI11 -> 0 | E19: =AVERAGE(C19:D19) -> 0 | F19: 3 | G19: =E19*F19 -> 0
A20: Tirs. | C20: ='Controle continu'!AL36 -> 0 | D20: ='Examen final'!AI12 -> 0 | E20: =AVERAGE(C20:D20) -> 0 | F20: 4 | G20: =E20*F20 -> 0
A21: Défense NRBC. | C21: ='Controle continu'!AL41 -> 0 | D21: ='Examen final'!AI13 -> 0 | E21: =AVERAGE(C21:D21) -> 0 | F21: 1 | G21: =E21*F21 -> 0
A22: Transmissions. | C22: ='Controle continu'!AL44 -> 0 | D22: ='Examen final'!AI14 -> 0 | E22: =AVERAGE(C22:D22) -> 0 | F22: 1 | G22: =E22*F22 -> 0
A23: Topographie. | C23: ='Controle continu'!AL47 -> 0 | D23: ='Examen final'!AI15 -> 0 | E23: =AVERAGE(C23:D23) -> 0 | F23: 2 | G23: =E23*F23 -> 0
A24: Prévention, secourisme. | C24: ='Controle continu'!AL51 -> 0 | D24: ='Examen final'!AI16 -> 0 | E24: =AVERAGE(C24:D24) -> 0 | F24: 1 | G24: =E24*F24 -> 0
A25: Génie. | C25: ='Controle continu'!AL54 -> 0 | D25: ='Examen final'!AI17 -> 0 | E25: =AVERAGE(C25:D25) -> 0 | F25: 1 | G25: =E25*F25 -> 0
A26: Renseignement, identification. | C26: ='Controle continu'!AL56 -> 0 | D26: ='Examen final'!AI18 -> 0 | E26: =AVERAGE(C26:D26) -> 0 | F26: 2 | G26: =E26*F26 -> 0
A27: C. Éducation et entraînement physiques militaires et sportifs.
A28: Notation continue. | C28: ='Controle continu'!AL62 -> 0 | D28: ='Examen final'!AI20 -> 0 | E28: =AVERAGE(C28:D28) -> 0 | F28: 1 | G28: =E28*F28 -> 0
A29: Épreuves du CCPG | C29: ='Controle continu'!AL63 -> 0 | D29: ='Examen final'!AJ21 -> 0 | E29: =AVERAGE(C29:D29) -> 0 | F29: 2 | G29: =E29*F29 -> 0
A30: Épreuves du CCPS (Marche course) | C30: ='Controle continu'!AL67 -> 0 | D30: ='Examen final'!AI25 -> 0 | E30: =AVERAGE(C30:D30) -> 0 | F30: 2 | G30: =E30*F30 -> 0
A31: Épreuve spécifique (PO). | C31: ='Controle continu'!AL68 -> 0 | D31: ='Examen final'!AI26 -> 0 | E31: =AVERAGE(C31:D31) -> 0 | F31: 2 | G31: =E31*F31 -> 0
A32: D. Formation académique.
A33: Mathématiques. | C33: ='Controle continu'!AL70 -> 0 | D33: ='Examen final'!AI28 -> 0 | E33: =AVERAGE(C33:D33) -> 0 | F33: 1 | G33: =E33*F33 -> 0
A34: Français. | C34: ='Controle continu'!AL73 -> 0 | D34: ='Examen final'!AI29 -> 0 | E34: =AVERAGE(C34:D34) -> 0 | F34: 1 | G34: =E34*F34 -> 0
A35: Anglais. | C35: ='Controle continu'!AL74 -> 0 | D35: ='Examen final'!AI30 -> 0 | E35: =AVERAGE(C35:D35) -> 0 | F35: 1 | G35: =E35*F35 -> 0
A36: E. Formation au management au sein d'une unité élémentaire.
A37: Entretien et gestion du matériel. | C37: ='Controle continu'!AL78 -> 0 | D37: ='Examen final'!AI32 -> 0 | E37: =AVERAGE(C37:D37) -> 0 | F37: 1 | G37: =E37*F37 -> 0
A38: Gestion et soutien du personnel. | C38: ='Controle continu'!AL79 -> 0 | D38: ='Examen final'!AI33 -> 0 | E38: =AVERAGE(C38:D38) -> 0 | F38: 2 | G38: =E38*F38 -> 0
A39: Note d'aptitude. | C39: ='Controle continu'!AK85 -> 0 | D39: ='Examen final'!AI35 -> 0 | E39: =AVERAGE(C39:D39) -> 0 | F39: 5 | G39: =E39*F39 -> 0
A40: TOTAL. | C40: =(C12+C13+C14+C15+C16+C18+C19+C20+C21+C22+C23+C24+C25+C26+C28+C29+C30+C31+C33+C34+C35+C37+C38+C39)/24 -> 0 | D40: =(D12+D13+D14+D15+D16+D18+D19+D20+D21+D22+D23+D24+D25+D26+D28+D29+D30+D31+D33+D34+D35+D37+D38+D39)/24 -> 0 | E40: =AVERAGE(C40:D40) -> 0 | F40: 50 | G40: =E40*F40 -> 0
A41: Moyenne en formation générale élémentaire. | D41: =G40/F40 -> 0 | E41: Sur 20
A42: Observations :
A44: À Phalsbourg, | B44: =TODAY() -> 43504
A45: ADJ PICHENEL

Sheet 18
A1: FEUILLE INDIVIDUELLE DES RÉSULTATS DE LA FGE.
A3: Corps: | B3: ='Liste des stagiaires'!D21 -> 0
A5: Nom: | B5: ='Liste des stagiaires'!B21 -> 0 | E5: Prénom: | F5: ='Liste des stagiaires'!C21 -> 0
A7: Matricule: | B7: ='Liste des stagiaires'!E21 -> 0
A9: COMPOSANTES. | C9: CONTRÔLE CONTINU. | D9: EXAMEN FINAL. | E9: MOYENNE. | F9: COEFFICIENTS. | G9: TOTAL.
C10: Note sur 20. | D10: Note sur 20. | E10: Note sur 20.
A11: A. Formation au comportement militaire.
A12: Instruction des subordonnés. | C12: ='Controle continu'!AN5 -> 0 | D12: ='Examen final'!AK4 -> 0 | E12: =AVERAGE(C12:D12) -> 0 | F12: 3 | G12: =E12*F12 -> 0
A13: Organisation générale de la défense. | C13: ='Controle continu'!AN20 -> 0 | D13: ='Examen final'!AK5 -> 0 | E13: =AVERAGE(C13:D13) -> 0 | F13: 1 | G13: =E13*F13 -> 0
A14: Connaissance des règlements. | C14: ='Controle continu'!AN22 -> 0 | D14: ='Examen final'!AK6 -> 0 | E14: =AVERAGE(C14:D14) -> 0 | F14: 3 | G14: =E14*F14 -> 0
A15: Notions de civisme. | C15: ='Controle continu'!AN25 -> 0 | D15: ='Examen final'!AK7 -> 0 | E15: =AVERAGE(C15:D15) -> 0 | F15: 1 | G15: =E15*F15 -> 0
A16: Techniques d'expression écrite. | C16: ='Controle continu'!AN28 -> 0 | D16: ='Examen final'!AK8 -> 0 | E16: =AVERAGE(C16:D16) -> 0 | F16: 2 | G16: =E16*F16 -> 0
A17: B. Formation à la mission opérationnelle.
A18: Formation PROTERRE. | C18: ='Controle continu'!AN30 -> 0 | D18: ='Examen final'!AK10 -> 0 | E18: =AVERAGE(C18:D18) -> 0 | F18: 7 | G18: =E18*F18 -> 0
A19: Armement. | C19: ='Controle continu'!AN34 -> 0 | D19: ='Examen final'!AK11 -> 0 | E19: =AVERAGE(C19:D19) -> 0 | F19: 3 | G19: =E19*F19 -> 0
A20: Tirs. | C20: ='Controle continu'!AN36 -> 0 | D20: ='Examen final'!AK12 -> 0 | E20: =AVERAGE(C20:D20) -> 0 | F20: 4 | G20: =E20*F20 -> 0
A21: Défense NRBC. | C21: ='Controle continu'!AN41 -> 0 | D21: ='Examen final'!AK13 -> 0 | E21: =AVERAGE(C21:D21) -> 0 | F21: 1 | G21: =E21*F21 -> 0
A22: Transmissions. | C22: ='Controle continu'!AN44 -> 0 | D22: ='Examen final'!AK14 -> 0 | E22: =AVERAGE(C22:D22) -> 0 | F22: 1 | G22: =E22*F22 -> 0
A23: Topographie. | C23: ='Controle continu'!AN47 -> 0 | D23: ='Examen final'!AK15 -> 0 | E23: =AVERAGE(C23:D23) -> 0 | F23: 2 | G23: =E23*F23 -> 0
A24: Prévention, secourisme. | C24: ='Controle continu'!AN51 -> 0 | D24: ='Examen final'!AK16 -> 0 | E24: =AVERAGE(C24:D24) -> 0 | F24: 1 | G24: =E24*F24 -> 0
A25: Génie. | C25: ='Controle continu'!AN54 -> 0 | D25: ='Examen final'!AK17 -> 0 | E25: =AVERAGE(C25:D25) -> 0 | F25: 1 | G25: =E25*F25 -> 0
A26: Renseignement, identification. | C26: ='Controle continu'!AN56 -> 0 | D26: ='Examen final'!AK18 -> 0 | E26: =AVERAGE(C26:D26) -> 0 | F26: 2 | G26: =E26*F26 -> 0
A27: C. Éducation et entraînement physiques militaires et sportifs.
A28: Notation continue. | C28: ='Controle continu'!AN62 -> 0 | D28: ='Examen final'!AK20 -> 0 | E28: =AVERAGE(C28:D28) -> 0 | F28: 1 | G28: =E28*F28 -> 0
A29: Épreuves du CCPG | C29: ='Controle continu'!AN63 -> 0 | D29: ='Examen final'!AL21 -> 0 | E29: =AVERAGE(C29:D29) -> 0 | F29: 2 | G29: =E29*F29 -> 0
A30: Épreuves du CCPS (Marche course) | C30: ='Controle continu'!AN67 -> 0 | D30: ='Examen final'!AK25 -> 0 | E30: =AVERAGE(C30:D30) -> 0 | F30: 2 | G30: =E30*F30 -> 0
A31: Épreuve spécifique (PO). | C31: ='Controle continu'!AN68 -> 0 | D31: ='Examen final'!AK26 -> 0 | E31: =AVERAGE(C31:D31) -> 0 | F31: 2 | G31: =E31*F31 -> 0
A32: D. Formation académique.
A33: Mathématiques. | C33: ='Controle continu'!AN70 -> 0 | D33: ='Examen final'!AK28 -> 0 | E33: =AVERAGE(C33:D33) -> 0 | F33: 1 | G33: =E33*F33 -> 0
A34: Français. | C34: ='Controle continu'!AN73 -> 0 | D34: ='Examen final'!AK29 -> 0 | E34: =AVERAGE(C34:D34) -> 0 | F34: 1 | G34: =E34*F34 -> 0
A35: Anglais. | C35: ='Controle continu'!AN74 -> 0 | D35: ='Examen final'!AK30 -> 0 | E35: =AVERAGE(C35:D35) -> 0 | F35: 1 | G35: =E35*F35 -> 0
A36: E. Formation au management au sein d'une unité élémentaire.
A37: Entretien et gestion du matériel. | C37: ='Controle continu'!AN78 -> 0 | D37: ='Examen final'!AK32 -> 0 | E37: =AVERAGE(C37:D37) -> 0 | F37: 1 | G37: =E37*F37 -> 0
A38: Gestion et soutien du personnel. | C38: ='Controle continu'!AN79 -> 0 | D38: ='Examen final'!AK33 -> 0 | E38: =AVERAGE(C38:D38) -> 0 | F38: 2 | G38: =E38*F38 -> 0
A39: Note d'aptitude. | C39: ='Controle continu'!AM85 -> 0 | D39: ='Examen final'!AK35 -> 0 | E39: =AVERAGE(C39:D39) -> 0 | F39: 5 | G39: =E39*F39 -> 0
A40: TOTAL. | C40: =(C12+C13+C14+C15+C16+C18+C19+C20+C21+C22+C23+C24+C25+C26+C28+C29+C30+C31+C33+C34+C35+C37+C38+C39)/24 -> 0 | D40: =(D12+D13+D14+D15+D16+D18+D19+D20+D21+D22+D23+D24+D25+D26+D28+D29+D30+D31+D33+D34+D35+D37+D38+D39)/24 -> 0 | E40: =AVERAGE(C40:D40) -> 0 | F40: 50 | G40: =E40*F40 -> 0
A41: Moyenne en formation générale élémentaire. | D41: =G40/F40 -> 0 | E41: Sur 20
A42: Observations :
A44: À Phalsbourg, | B44: =TODAY() -> 43504
A45: ADJ PICHENEL

Sheet 19
A1: FEUILLE INDIVIDUELLE DES RÉSULTATS DE LA FGE.
A3: Corps: | B3: ='Liste des stagiaires'!D22 -> 0
A5: Nom: | B5: ='Liste des stagiaires'!B22 -> 0 | E5: Prénom: | F5: ='Liste des stagiaires'!C22 -> 0
A7: Matricule: | B7: ='Liste des stagiaires'!E22 -> 0
A9: COMPOSANTES. | C9: CONTRÔLE CONTINU. | D9: EXAMEN FINAL. | E9: MOYENNE. | F9: COEFFICIENTS. | G9: TOTAL.
C10: Note sur 20. | D10: Note sur 20. | E10: Note sur 20.
A11: A. Formation au comportement militaire.
A12: Instruction des subordonnés. | C12: ='Controle continu'!AP5 -> 0 | D12: ='Examen final'!AM4 -> 0 | E12: =AVERAGE(C12:D12) -> 0 | F12: 3 | G12: =E12*F12 -> 0
A13: Organisation générale de la défense. | C13: ='Controle continu'!AP20 -> 0 | D13: ='Examen final'!AM5 -> 0 | E13: =AVERAGE(C13:D13) -> 0 | F13: 1 | G13: =E13*F13 -> 0
A14: Connaissance des règlements. | C14: ='Controle continu'!AP22 -> 0 | D14: ='Examen final'!AM6 -> 0 | E14: =AVERAGE(C14:D14) -> 0 | F14: 3 | G14: =E14*F14 -> 0
A15: Notions de civisme. | C15: ='Controle continu'!AP25 -> 0 | D15: ='Examen final'!AM7 -> 0 | E15: =AVERAGE(C15:D15) -> 0 | F15: 1 | G15: =E15*F15 -> 0
A16: Techniques d'expression écrite. | C16: ='Controle continu'!AP28 -> 0 | D16: ='Examen final'!AM8 -> 0 | E16: =AVERAGE(C16:D16) -> 0 | F16: 2 | G16: =E16*F16 -> 0
A17: B. Formation à la mission opérationnelle.
A18: Formation PROTERRE. | C18: ='Controle continu'!AP30 -> 0 | D18: ='Examen final'!AM10 -> 0 | E18: =AVERAGE(C18:D18) -> 0 | F18: 7 | G18: =E18*F18 -> 0
A19: Armement. | C19: ='Controle continu'!AP34 -> 0 | D19: ='Examen final'!AM11 -> 0 | E19: =AVERAGE(C19:D19) -> 0 | F19: 3 | G19: =E19*F19 -> 0
A20: Tirs. | C20: ='Controle continu'!AP36 -> 0 | D20: ='Examen final'!AM12 -> 0 | E20: =AVERAGE(C20:D20) -> 0 | F20: 4 | G20: =E20*F20 -> 0
A21: Défense NRBC. | C21: ='Controle continu'!AP41 -> 0 | D21: ='Examen final'!AM13 -> 0 | E21: =AVERAGE(C21:D21) -> 0 | F21: 1 | G21: =E21*F21 -> 0
A22: Transmissions. | C22: ='Controle continu'!AP44 -> 0 | D22: ='Examen final'!AM14 -> 0 | E22: =AVERAGE(C22:D22) -> 0 | F22: 1 | G22: =E22*F22 -> 0
A23: Topographie. | C23: ='Controle continu'!AP47 -> 0 | D23: ='Examen final'!AM15 -> 0 | E23: =AVERAGE(C23:D23) -> 0 | F23: 2 | G23: =E23*F23 -> 0
A24: Prévention, secourisme. | C24: ='Controle continu'!AP51 -> 0 | D24: ='Examen final'!AM16 -> 0 | E24: =AVERAGE(C24:D24) -> 0 | F24: 1 | G24: =E24*F24 -> 0
A25: Génie. | C25: ='Controle continu'!AP54 -> 0 | D25: ='Examen final'!AM17 -> 0 | E25: =AVERAGE(C25:D25) -> 0 | F25: 1 | G25: =E25*F25 -> 0
A26: Renseignement, identification. | C26: ='Controle continu'!AP56 -> 0 | D26: ='Examen final'!AM18 -> 0 | E26: =AVERAGE(C26:D26) -> 0 | F26: 2 | G26: =E26*F26 -> 0
A27: C. Éducation et entraînement physiques militaires et sportifs.
A28: Notation continue. | C28: ='Controle continu'!AP62 -> 0 | D28: ='Examen final'!AM20 -> 0 | E28: =AVERAGE(C28:D28) -> 0 | F28: 1 | G28: =E28*F28 -> 0
A29: Épreuves du CCPG | C29: ='Controle continu'!AP63 -> 0 | D29: ='Examen final'!AN21 -> 0 | E29: =AVERAGE(C29:D29) -> 0 | F29: 2 | G29: =E29*F29 -> 0
A30: Épreuves du CCPS (Marche course) | C30: ='Controle continu'!AP67 -> 0 | D30: ='Examen final'!AM25 -> 0 | E30: =AVERAGE(C30:D30) -> 0 | F30: 2 | G30: =E30*F30 -> 0
A31: Épreuve spécifique (PO). | C31: ='Controle continu'!AP68 -> 0 | D31: ='Examen final'!AM26 -> 0 | E31: =AVERAGE(C31:D31) -> 0 | F31: 2 | G31: =E31*F31 -> 0
A32: D. Formation académique.
A33: Mathématiques. | C33: ='Controle continu'!AP70 -> 0 | D33: ='Examen final'!AM28 -> 0 | E33: =AVERAGE(C33:D33) -> 0 | F33: 1 | G33: =E33*F33 -> 0
A34: Français. | C34: ='Controle continu'!AP73 -> 0 | D34: ='Examen final'!AM29 -> 0 | E34: =AVERAGE(C34:D34) -> 0 | F34: 1 | G34: =E34*F34 -> 0
A35: Anglais. | C35: ='Controle continu'!AP74 -> 0 | D35: ='Examen final'!AM30 -> 0 | E35: =AVERAGE(C35:D35) -> 0 | F35: 1 | G35: =E35*F35 -> 0
A36: E. Formation au management au sein d'une unité élémentaire.
A37: Entretien et gestion du matériel. | C37: ='Controle continu'!AP78 -> 0 | D37: ='Examen final'!AM32 -> 0 | E37: =AVERAGE(C37:D37) -> 0 | F37: 1 | G37: =E37*F37 -> 0
A38: Gestion et soutien du personnel. | C38: ='Controle continu'!AP79 -> 0 | D38: ='Examen final'!AM33 -> 0 | E38: =AVERAGE(C38:D38) -> 0 | F38: 2 | G38: =E38*F38 -> 0
A39: Note d'aptitude. | C39: ='Controle continu'!AO85 -> 0 | D39: ='Examen final'!AM35 -> 0 | E39: =AVERAGE(C39:D39) -> 0 | F39: 5 | G39: =E39*F39 -> 0
A40: TOTAL. | C40: =(C12+C13+C14+C15+C16+C18+C19+C20+C21+C22+C23+C24+C25+C26+C28+C29+C30+C31+C33+C34+C35+C37+C38+C39)/24 -> 0 | D40: =(D12+D13+D14+D15+D16+D18+D19+D20+D21+D22+D23+D24+D25+D26+D28+D29+D30+D31+D33+D34+D35+D37+D38+D39)/24 -> 0 | E40: =AVERAGE(C40:D40) -> 0 | F40: 50 | G40: =E40*F40 -> 0
A41: Moyenne en formation générale élémentaire. | D41: =G40/F40 -> 0 | E41: Sur 20
A42: Observations :
A44: À Phalsbourg, | B44: =TODAY() -> 43504
A45: ADJ PICHENEL

Sheet 20
A1: FEUILLE INDIVIDUELLE DES RÉSULTATS DE LA FGE.
A3: Corps: | B3: ='Liste des stagiaires'!D23 -> 0
A5: Nom: | B5: ='Liste des stagiaires'!B23 -> 0 | E5: Prénom: | F5: ='Liste des stagiaires'!C23 -> 0
A7: Matricule: | B7: ='Liste des stagiaires'!E23 -> 0
A9: COMPOSANTES. | C9: CONTRÔLE CONTINU. | D9: EXAMEN FINAL. | E9: MOYENNE. | F9: COEFFICIENTS. | G9: TOTAL.
C10: Note sur 20. | D10: Note sur 20. | E10: Note sur 20.
A11: A. Formation au comportement militaire.
A12: Instruction des subordonnés. | C12: ='Controle continu'!AR5 -> 0 | D12: ='Examen final'!AO4 -> 0 | E12: =AVERAGE(C12:D12) -> 0 | F12: 3 | G12: =E12*F12 -> 0
A13: Organisation générale de la défense. | C13: ='Controle continu'!AR20 -> 0 | D13: ='Examen final'!AO5 -> 0 | E13: =AVERAGE(C13:D13) -> 0 | F13: 1 | G13: =E13*F13 -> 0
A14: Connaissance des règlements. | C14: ='Controle continu'!AR22 -> 0 | D14: ='Examen final'!AO6 -> 0 | E14: =AVERAGE(C14:D14) -> 0 | F14: 3 | G14: =E14*F14 -> 0
A15: Notions de civisme. | C15: ='Controle continu'!AR25 -> 0 | D15: ='Examen final'!AO7 -> 0 | E15: =AVERAGE(C15:D15) -> 0 | F15: 1 | G15: =E15*F15 -> 0
A16: Techniques d'expression écrite. | C16: ='Controle continu'!AR28 -> 0 | D16: ='Examen final'!AO8 -> 0 | E16: =AVERAGE(C16:D16) -> 0 | F16: 2 | G16: =E16*F16 -> 0
A17: B. Formation à la mission opérationnelle.
A18: Formation PROTERRE. | C18: ='Controle continu'!AR30 -> 0 | D18: ='Examen final'!AO10 -> 0 | E18: =AVERAGE(C18:D18) -> 0 | F18: 7 | G18: =E18*F18 -> 0
A19: Armement. | C19: ='Controle continu'!AR34 -> 0 | D19: ='Examen final'!AO11 -> 0 | E19: =AVERAGE(C19:D19) -> 0 | F19: 3 | G19: =E19*F19 -> 0
A20: Tirs. | C20: ='Controle continu'!AR36 -> 0 | D20: ='Examen final'!AO12 -> 0 | E20: =AVERAGE(C20:D20) -> 0 | F20: 4 | G20: =E20*F20 -> 0
A21: Défense NRBC. | C21: ='Controle continu'!AR41 -> 0 | D21: ='Examen final'!AO13 -> 0 | E21: =AVERAGE(C21:D21) -> 0 | F21: 1 | G21: =E21*F21 -> 0
A22: Transmissions. | C22: ='Controle continu'!AR44 -> 0 | D22: ='Examen final'!AO14 -> 0 | E22: =AVERAGE(C22:D22) -> 0 | F22: 1 | G22: =E22*F22 -> 0
A23: Topographie. | C23: ='Controle continu'!AR47 -> 0 | D23: ='Examen final'!AO15 -> 0 | E23: =AVERAGE(C23:D23) -> 0 | F23: 2 | G23: =E23*F23 -> 0
A24: Prévention, secourisme. | C24: ='Controle continu'!AR51 -> 0 | D24: ='Examen final'!AO16 -> 0 | E24: =AVERAGE(C24:D24) -> 0 | F24: 1 | G24: =E24*F24 -> 0
A25: Génie. | C25: ='Controle continu'!AR54 -> 0 | D25: ='Examen final'!AO17 -> 0 | E25: =AVERAGE(C25:D25) -> 0 | F25: 1 | G25: =E25*F25 -> 0
A26: Renseignement, identification. | C26: ='Controle continu'!AR56 -> 0 | D26: ='Examen final'!AO18 -> 0 | E26: =AVERAGE(C26:D26) -> 0 | F26: 2 | G26: =E26*F26 -> 0
A27: C. Éducation et entraînement physiques militaires et sportifs.
A28: Notation continue. | C28: ='Controle continu'!AR62 -> 0 | D28: ='Examen final'!AO20 -> 0 | E28: =AVERAGE(C28:D28) -> 0 | F28: 1 | G28: =E28*F28 -> 0
A29: Épreuves du CCPG | C29: ='Controle continu'!AR63 -> 0 | D29: ='Examen final'!AP21 -> 0 | E29: =AVERAGE(C29:D29) -> 0 | F29: 2 | G29: =E29*F29 -> 0
A30: Épreuves du CCPS (Marche course) | C30: ='Controle continu'!AR67 -> 0 | D30: ='Examen final'!AO25 -> 0 | E30: =AVERAGE(C30:D30) -> 0 | F30: 2 | G30: =E30*F30 -> 0
A31: Épreuve spécifique (PO). | C31: ='Controle continu'!AR68 -> 0 | D31: ='Examen final'!AO26 -> 0 | E31: =AVERAGE(C31:D31) -> 0 | F31: 2 | G31: =E31*F31 -> 0
A32: D. Formation académique.
A33: Mathématiques. | C33: ='Controle continu'!AR70 -> 0 | D33: ='Examen final'!AO28 -> 0 | E33: =AVERAGE(C33:D33) -> 0 | F33: 1 | G33: =E33*F33 -> 0
A34: Français. | C34: ='Controle continu'!AR73 -> 0 | D34: ='Examen final'!AO29 -> 0 | E34: =AVERAGE(C34:D34) -> 0 | F34: 1 | G34: =E34*F34 -> 0
A35: Anglais. | C35: ='Controle continu'!AR74 -> 0 | D35: ='Examen final'!AO30 -> 0 | E35: =AVERAGE(C35:D35) -> 0 | F35: 1 | G35: =E35*F35 -> 0
A36: E. Formation au management au sein d'une unité élémentaire.
A37: Entretien et gestion du matériel. | C37: ='Controle continu'!AR78 -> 0 | D37: ='Examen final'!AO32 -> 0 | E37: =AVERAGE(C37:D37) -> 0 | F37: 1 | G37: =E37*F37 -> 0
A38: Gestion et soutien du personnel. | C38: ='Controle continu'!AR79 -> 0 | D38: ='Examen final'!AO33 -> 0 | E38: =AVERAGE(C38:D38) -> 0 | F38: 2 | G38: =E38*F38 -> 0
A39: Note d'aptitude. | C39: ='Controle continu'!AQ85 -> 0 | D39: ='Examen final'!AO35 -> 0 | E39: =AVERAGE(C39:D39) -> 0 | F39: 5 | G39: =E39*F39 -> 0
A40: TOTAL. | C40: =(C12+C13+C14+C15+C16+C18+C19+C20+C21+C22+C23+C24+C25+C26+C28+C29+C30+C31+C33+C34+C35+C37+C38+C39)/24 -> 0 | D40: =(D12+D13+D14+D15+D16+D18+D19+D20+D21+D22+D23+D24+D25+D26+D28+D29+D30+D31+D33+D34+D35+D37+D38+D39)/24 -> 0 | E40: =AVERAGE(C40:D40) -> 0 | F40: 50 | G40: =E40*F40 -> 0
A41: Moyenne en formation générale élémentaire. | D41: =G40/F40 -> 0 | E41: Sur 20
A42: Observations :
A44: À Phalsbourg, | B44: =TODAY() -> 43504
A45: ADJ PICHENEL

Sheet 21
A1: FEUILLE INDIVIDUELLE DES RÉSULTATS DE LA FGE.
A3: Corps: | B3: ='Liste des stagiaires'!D24 -> 0
A5: Nom: | B5: ='Liste des stagiaires'!B24 -> 0 | E5: Prénom: | F5: ='Liste des stagiaires'!C24 -> 0
A7: Matricule: | B7: ='Liste des stagiaires'!E24 -> 0
A9: COMPOSANTES. | C9: CONTRÔLE CONTINU. | D9: EXAMEN FINAL. | E9: MOYENNE. | F9: COEFFICIENTS. | G9: TOTAL.
C10: Note sur 20. | D10: Note sur 20. | E10: Note sur 20.
A11: A. Formation au comportement militaire.
A12: Instruction des subordonnés. | C12: ='Controle continu'!AT5 -> 0 | D12: ='Examen final'!AQ4 -> 0 | E12: =AVERAGE(C12:D12) -> 0 | F12: 3 | G12: =E12*F12 -> 0
A13: Organisation générale de la défense. | C13: ='Controle continu'!AT20 -> 0 | D13: ='Examen final'!AQ5 -> 0 | E13: =AVERAGE(C13:D13) -> 0 | F13: 1 | G13: =E13*F13 -> 0
A14: Connaissance des règlements. | C14: ='Controle continu'!AT22 -> 0 | D14: ='Examen final'!AQ6 -> 0 | E14: =AVERAGE(C14:D14) -> 0 | F14: 3 | G14: =E14*F14 -> 0
A15: Notions de civisme. | C15: ='Controle continu'!AT25 -> 0 | D15: ='Examen final'!AQ7 -> 0 | E15: =AVERAGE(C15:D15) -> 0 | F15: 1 | G15: =E15*F15 -> 0
A16: Techniques d'expression écrite. | C16: ='Controle continu'!AT28 -> 0 | D16: ='Examen final'!AQ8 -> 0 | E16: =AVERAGE(C16:D16) -> 0 | F16: 2 | G16: =E16*F16 -> 0
A17: B. Formation à la mission opérationnelle.
A18: Formation PROTERRE. | C18: ='Controle continu'!AT30 -> 0 | D18: ='Examen final'!AQ10 -> 0 | E18: =AVERAGE(C18:D18) -> 0 | F18: 7 | G18: =E18*F18 -> 0
A19: Armement. | C19: ='Controle continu'!AT34 -> 0 | D19: ='Examen final'!AQ11 -> 0 | E19: =AVERAGE(C19:D19) -> 0 | F19: 3 | G19: =E19*F19 -> 0
A20: Tirs. | C20: ='Controle continu'!AT36 -> 0 | D20: ='Examen final'!AQ12 -> 0 | E20: =AVERAGE(C20:D20) -> 0 | F20: 4 | G20: =E20*F20 -> 0
A21: Défense NRBC. | C21: ='Controle continu'!AT41 -> 0 | D21: ='Examen final'!AQ13 -> 0 | E21: =AVERAGE(C21:D21) -> 0 | F21: 1 | G21: =E21*F21 -> 0
A22: Transmissions. | C22: ='Controle continu'!AT44 -> 0 | D22: ='Examen final'!AQ14 -> 0 | E22: =AVERAGE(C22:D22) -> 0 | F22: 1 | G22: =E22*F22 -> 0
A23: Topographie. | C23: ='Controle continu'!AT47 -> 0 | D23: ='Examen final'!AQ15 -> 0 | E23: =AVERAGE(C23:D23) -> 0 | F23: 2 | G23: =E23*F23 -> 0
A24: Prévention, secourisme. | C24: ='Controle continu'!AT51 -> 0 | D24: ='Examen final'!AQ16 -> 0 | E24: =AVERAGE(C24:D24) -> 0 | F24: 1 | G24: =E24*F24 -> 0
A25: Génie. | C25: ='Controle continu'!AT54 -> 0 | D25: ='Examen final'!AQ17 -> 0 | E25: =AVERAGE(C25:D25) -> 0 | F25: 1 | G25: =E25*F25 -> 0
A26: Renseignement, identification. | C26: ='Controle continu'!AT56 -> 0 | D26: ='Examen final'!AQ18 -> 0 | E26: =AVERAGE(C26:D26) -> 0 | F26: 2 | G26: =E26*F26 -> 0
A27: C. Éducation et entraînement physiques militaires et sportifs.
A28: Notation continue. | C28: ='Controle continu'!AT62 -> 0 | D28: ='Examen final'!AQ20 -> 0 | E28: =AVERAGE(C28:D28) -> 0 | F28: 1 | G28: =E28*F28 -> 0
A29: Épreuves du CCPG | C29: ='Controle continu'!AT63 -> 0 | D29: ='Examen final'!AR21 -> 0 | E29: =AVERAGE(C29:D29) -> 0 | F29: 2 | G29: =E29*F29 -> 0
A30: Épreuves du CCPS (Marche course) | C30: ='Controle continu'!AT67 -> 0 | D30: ='Examen final'!AQ25 -> 0 | E30: =AVERAGE(C30:D30) -> 0 | F30: 2 | G30: =E30*F30 -> 0
A31: Épreuve spécifique (PO). | C31: ='Controle continu'!AT68 -> 0 | D31: ='Examen final'!AQ26 -> 0 | E31: =AVERAGE(C31:D31) -> 0 | F31: 2 | G31: =E31*F31 -> 0
A32: D. Formation académique.
A33: Mathématiques. | C33: ='Controle continu'!AT70 -> 0 | D33: ='Examen final'!AQ28 -> 0 | E33: =AVERAGE(C33:D33) -> 0 | F33: 1 | G33: =E33*F33 -> 0
A34: Français. | C34: ='Controle continu'!AT73 -> 0 | D34: ='Examen final'!AQ29 -> 0 | E34: =AVERAGE(C34:D34) -> 0 | F34: 1 | G34: =E34*F34 -> 0
A35: Anglais. | C35: ='Controle continu'!AT74 -> 0 | D35: ='Examen final'!AQ30 -> 0 | E35: =AVERAGE(C35:D35) -> 0 | F35: 1 | G35: =E35*F35 -> 0
A36: E. Formation au management au sein d'une unité élémentaire.
A37: Entretien et gestion du matériel. | C37: ='Controle continu'!AT78 -> 0 | D37: ='Examen final'!AQ32 -> 0 | E37: =AVERAGE(C37:D37) -> 0 | F37: 1 | G37: =E37*F37 -> 0
A38: Gestion et soutien du personnel. | C38: ='Controle continu'!AT79 -> 0 | D38: ='Examen final'!AQ33 -> 0 | E38: =AVERAGE(C38:D38) -> 0 | F38: 2 | G38: =E38*F38 -> 0
A39: Note d'aptitude. | C39: ='Controle continu'!AS85 -> 0 | D39: ='Examen final'!AQ35 -> 0 | E39: =AVERAGE(C39:D39) -> 0 | F39: 5 | G39: =E39*F39 -> 0
A40: TOTAL. | C40: =(C12+C13+C14+C15+C16+C18+C19+C20+C21+C22+C23+C24+C25+C26+C28+C29+C30+C31+C33+C34+C35+C37+C38+C39)/24 -> 0 | D40: =(D12+D13+D14+D15+D16+D18+D19+D20+D21+D22+D23+D24+D25+D26+D28+D29+D30+D31+D33+D34+D35+D37+D38+D39)/24 -> 0 | E40: =AVERAGE(C40:D40) -> 0 | F40: 50 | G40: =E40*F40 -> 0
A41: Moyenne en formation générale élémentaire. | D41: =G40/F40 -> 0 | E41: Sur 20
A42: Observations :
A44: À Phalsbourg, | B44: =TODAY() -> 43504
A45: ADJ PICHENEL

Sheet 22
A1: FEUILLE INDIVIDUELLE DES RÉSULTATS DE LA FGE.
A3: Corps: | B3: ='Liste des stagiaires'!D25 -> 0
A5: Nom: | B5: ='Liste des stagiaires'!B25 -> 0 | E5: Prénom: | F5: ='Liste des stagiaires'!C25 -> 0
A7: Matricule: | B7: ='Liste des stagiaires'!E25 -> 0
A9: COMPOSANTES. | C9: CONTRÔLE CONTINU. | D9: EXAMEN FINAL. | E9: MOYENNE. | F9: COEFFICIENTS. | G9: TOTAL.
C10: Note sur 20. | D10: Note sur 20. | E10: Note sur 20.
A11: A. Formation au comportement militaire.
A12: Instruction des subordonnés. | C12: ='Controle continu'!AV5 -> 0 | D12: ='Examen final'!AS4 -> 0 | E12: =AVERAGE(C12:D12) -> 0 | F12: 3 | G12: =E12*F12 -> 0
A13: Organisation générale de la défense. | C13: ='Controle continu'!AV20 -> 0 | D13: ='Examen final'!AS5 -> 0 | E13: =AVERAGE(C13:D13) -> 0 | F13: 1 | G13: =E13*F13 -> 0
A14: Connaissance des règlements. | C14: ='Controle continu'!AV22 -> 0 | D14: ='Examen final'!AS6 -> 0 | E14: =AVERAGE(C14:D14) -> 0 | F14: 3 | G14: =E14*F14 -> 0
A15: Notions de civisme. | C15: ='Controle continu'!AV25 -> 0 | D15: ='Examen final'!AS7 -> 0 | E15: =AVERAGE(C15:D15) -> 0 | F15: 1 | G15: =E15*F15 -> 0
A16: Techniques d'expression écrite. | C16: ='Controle continu'!AV28 -> 0 | D16: ='Examen final'!AS8 -> 0 | E16: =AVERAGE(C16:D16) -> 0 | F16: 2 | G16: =E16*F16 -> 0
A17: B. Formation à la mission opérationnelle.
A18: Formation PROTERRE. | C18: ='Controle continu'!AV30 -> 0 | D18: ='Examen final'!AS10 -> 0 | E18: =AVERAGE(C18:D18) -> 0 | F18: 7 | G18: =E18*F18 -> 0
A19: Armement. | C19: ='Controle continu'!AV34 -> 0 | D19: ='Examen final'!AS11 -> 0 | E19: =AVERAGE(C19:D19) -> 0 | F19: 3 | G19: =E19*F19 -> 0
A20: Tirs. | C20: ='Controle continu'!AV36 -> 0 | D20: ='Examen final'!AS12 -> 0 | E20: =AVERAGE(C20:D20) -> 0 | F20: 4 | G20: =E20*F20 -> 0
A21: Défense NRBC. | C21: ='Controle continu'!AV41 -> 0 | D21: ='Examen final'!AS13 -> 0 | E21: =AVERAGE(C21:D21) -> 0 | F21: 1 | G21: =E21*F21 -> 0
A22: Transmissions. | C22: ='Controle continu'!AV44 -> 0 | D22: ='Examen final'!AS14 -> 0 | E22: =AVERAGE(C22:D22) -> 0 | F22: 1 | G22: =E22*F22 -> 0
A23: Topographie. | C23: ='Controle continu'!AV47 -> 0 | D23: ='Examen final'!AS15 -> 0 | E23: =AVERAGE(C23:D23) -> 0 | F23: 2 | G23: =E23*F23 -> 0
A24: Prévention, secourisme. | C24: ='Controle continu'!AV51 -> 0 | D24: ='Examen final'!AS16 -> 0 | E24: =AVERAGE(C24:D24) -> 0 | F24: 1 | G24: =E24*F24 -> 0
A25: Génie. | C25: ='Controle continu'!AV54 -> 0 | D25: ='Examen final'!AS17 -> 0 | E25: =AVERAGE(C25:D25) -> 0 | F25: 1 | G25: =E25*F25 -> 0
A26: Renseignement, identification. | C26: ='Controle continu'!AV56 -> 0 | D26: ='Examen final'!AS18 -> 0 | E26: =AVERAGE(C26:D26) -> 0 | F26: 2 | G26: =E26*F26 -> 0
A27: C. Éducation et entraînement physiques militaires et sportifs.
A28: Notation continue. | C28: ='Controle continu'!AV62 -> 0 | D28: ='Examen final'!AS20 -> 0 | E28: =AVERAGE(C28:D28) -> 0 | F28: 1 | G28: =E28*F28 -> 0
A29: Épreuves du CCPG | C29: ='Controle continu'!AV63 -> 0 | D29: ='Examen final'!AT21 -> 0 | E29: =AVERAGE(C29:D29) -> 0 | F29: 2 | G29: =E29*F29 -> 0
A30: Épreuves du CCPS (Marche course) | C30: ='Controle continu'!AV67 -> 0 | D30: ='Examen final'!AS25 -> 0 | E30: =AVERAGE(C30:D30) -> 0 | F30: 2 | G30: =E30*F30 -> 0
A31: Épreuve spécifique (PO). | C31: ='Controle continu'!AV68 -> 0 | D31: ='Examen final'!AS26 -> 0 | E31: =AVERAGE(C31:D31) -> 0 | F31: 2 | G31: =E31*F31 -> 0
A32: D. Formation académique.
A33: Mathématiques. | C33: ='Controle continu'!AV70 -> 0 | D33: ='Examen final'!AS28 -> 0 | E33: =AVERAGE(C33:D33) -> 0 | F33: 1 | G33: =E33*F33 -> 0
A34: Français. | C34: ='Controle continu'!AV73 -> 0 | D34: ='Examen final'!AS29 -> 0 | E34: =AVERAGE(C34:D34) -> 0 | F34: 1 | G34: =E34*F34 -> 0
A35: Anglais. | C35: ='Controle continu'!AV74 -> 0 | D35: ='Examen final'!AS30 -> 0 | E35: =AVERAGE(C35:D35) -> 0 | F35: 1 | G35: =E35*F35 -> 0
A36: E. Formation au management au sein d'une unité élémentaire.
A37: Entretien et gestion du matériel. | C37: ='Controle continu'!AV78 -> 0 | D37: ='Examen final'!AS32 -> 0 | E37: =AVERAGE(C37:D37) -> 0 | F37: 1 | G37: =E37*F37 -> 0
A38: Gestion et soutien du personnel. | C38: ='Controle continu'!AV79 -> 0 | D38: ='Examen final'!AS33 -> 0 | E38: =AVERAGE(C38:D38) -> 0 | F38: 2 | G38: =E38*F38 -> 0
A39: Note d'aptitude. | C39: ='Controle continu'!AU85 -> 0 | D39: ='Examen final'!AS35 -> 0 | E39: =AVERAGE(C39:D39) -> 0 | F39: 5 | G39: =E39*F39 -> 0
A40: TOTAL. | C40: =(C12+C13+C14+C15+C16+C18+C19+C20+C21+C22+C23+C24+C25+C26+C28+C29+C30+C31+C33+C34+C35+C37+C38+C39)/24 -> 0 | D40: =(D12+D13+D14+D15+D16+D18+D19+D20+D21+D22+D23+D24+D25+D26+D28+D29+D30+D31+D33+D34+D35+D37+D38+D39)/24 -> 0 | E40: =AVERAGE(C40:D40) -> 0 | F40: 50 | G40: =E40*F40 -> 0
A41: Moyenne en formation générale élémentaire. | D41: =G40/F40 -> 0 | E41: Sur 20
A42: Observations :
A44: À Phalsbourg, | B44: =TODAY() -> 43504
A45: ADJ PICHENEL

Sheet 23
A1: FEUILLE INDIVIDUELLE DES RÉSULTATS DE LA FGE.
A3: Corps: | B3: ='Liste des stagiaires'!D26 -> 0
A5: Nom: | B5: ='Liste des stagiaires'!B26 -> 0 | E5: Prénom: | F5: ='Liste des stagiaires'!C26 -> 0
A7: Matricule: | B7: ='Liste des stagiaires'!E26 -> 0
A9: COMPOSANTES. | C9: CONTRÔLE CONTINU. | D9: EXAMEN FINAL. | E9: MOYENNE. | F9: COEFFICIENTS. | G9: TOTAL.
C10: Note sur 20. | D10: Note sur 20. | E10: Note sur 20.
A11: A. Formation au comportement militaire.
A12: Instruction des subordonnés. | C12: ='Controle continu'!AX5 -> 0 | D12: ='Examen final'!AU4 -> 0 | E12: =AVERAGE(C12:D12) -> 0 | F12: 3 | G12: =E12*F12 -> 0
A13: Organisation générale de la défense. | C13: ='Controle continu'!AX20 -> 0 | D13: ='Examen final'!AU5 -> 0 | E13: =AVERAGE(C13:D13) -> 0 | F13: 1 | G13: =E13*F13 -> 0
A14: Connaissance des règlements. | C14: ='Controle continu'!AX22 -> 0 | D14: ='Examen final'!AU6 -> 0 | E14: =AVERAGE(C14:D14) -> 0 | F14: 3 | G14: =E14*F14 -> 0
A15: Notions de civisme. | C15: ='Controle continu'!AX25 -> 0 | D15: ='Examen final'!AU7 -> 0 | E15: =AVERAGE(C15:D15) -> 0 | F15: 1 | G15: =E15*F15 -> 0
A16: Techniques d'expression écrite. | C16: ='Controle continu'!AX28 -> 0 | D16: ='Examen final'!AU8 -> 0 | E16: =AVERAGE(C16:D16) -> 0 | F16: 2 | G16: =E16*F16 -> 0
A17: B. Formation à la mission opérationnelle.
A18: Formation PROTERRE. | C18: ='Controle continu'!AX30 -> 0 | D18: ='Examen final'!AU10 -> 0 | E18: =AVERAGE(C18:D18) -> 0 | F18: 7 | G18: =E18*F18 -> 0
A19: Armement. | C19: ='Controle continu'!AX34 -> 0 | D19: ='Examen final'!AU11 -> 0 | E19: =AVERAGE(C19:D19) -> 0 | F19: 3 | G19: =E19*F19 -> 0
A20: Tirs. | C20: ='Controle continu'!AX36 -> 0 | D20: ='Examen final'!AU12 -> 0 | E20: =AVERAGE(C20:D20) -> 0 | F20: 4 | G20: =E20*F20 -> 0
A21: Défense NRBC. | C21: ='Controle continu'!AX41 -> 0 | D21: ='Examen final'!AU13 -> 0 | E21: =AVERAGE(C21:D21) -> 0 | F21: 1 | G21: =E21*F21 -> 0
A22: Transmissions. | C22: ='Controle continu'!AX44 -> 0 | D22: ='Examen final'!AU14 -> 0 | E22: =AVERAGE(C22:D22) -> 0 | F22: 1 | G22: =E22*F22 -> 0
A23: Topographie. | C23: ='Controle continu'!AX47 -> 0 | D23: ='Examen final'!AU15 -> 0 | E23: =AVERAGE(C23:D23) -> 0 | F23: 2 | G23: =E23*F23 -> 0
A24: Prévention, secourisme. | C24: ='Controle continu'!AX51 -> 0 | D24: ='Examen final'!AU16 -> 0 | E24: =AVERAGE(C24:D24) -> 0 | F24: 1 | G24: =E24*F24 -> 0
A25: Génie. | C25: ='Controle continu'!AX54 -> 0 | D25: ='Examen final'!AU17 -> 0 | E25: =AVERAGE(C25:D25) -> 0 | F25: 1 | G25: =E25*F25 -> 0
A26: Renseignement, identification. | C26: ='Controle continu'!AX56 -> 0 | D26: ='Examen final'!AU18 -> 0 | E26: =AVERAGE(C26:D26) -> 0 | F26: 2 | G26: =E26*F26 -> 0
A27: C. Éducation et entraînement physiques militaires et sportifs.
A28: Notation continue. | C28: ='Controle continu'!AX62 -> 0 | D28: ='Examen final'!AU20 -> 0 | E28: =AVERAGE(C28:D28) -> 0 | F28: 1 | G28: =E28*F28 -> 0
A29: Épreuves du CCPG | C29: ='Controle continu'!AX63 -> 0 | D29: ='Examen final'!AV21 -> 0 | E29: =AVERAGE(C29:D29) -> 0 | F29: 2 | G29: =E29*F29 -> 0
A30: Épreuves du CCPS (Marche course) | C30: ='Controle continu'!AX67 -> 0 | D30: ='Examen final'!AU25 -> 0 | E30: =AVERAGE(C30:D30) -> 0 | F30: 2 | G30: =E30*F30 -> 0
A31: Épreuve spécifique (PO). | C31: ='Controle continu'!AX68 -> 0 | D31: ='Examen final'!AU26 -> 0 | E31: =AVERAGE(C31:D31) -> 0 | F31: 2 | G31: =E31*F31 -> 0
A32: D. Formation académique.
A33: Mathématiques. | C33: ='Controle continu'!AX70 -> 0 | D33: ='Examen final'!AU28 -> 0 | E33: =AVERAGE(C33:D33) -> 0 | F33: 1 | G33: =E33*F33 -> 0
A34: Français. | C34: ='Controle continu'!AX73 -> 0 | D34: ='Examen final'!AU29 -> 0 | E34: =AVERAGE(C34:D34) -> 0 | F34: 1 | G34: =E34*F34 -> 0
A35: Anglais. | C35: ='Controle continu'!AX74 -> 0 | D35: ='Examen final'!AU30 -> 0 | E35: =AVERAGE(C35:D35) -> 0 | F35: 1 | G35: =E35*F35 -> 0
A36: E. Formation au management au sein d'une unité élémentaire.
A37: Entretien et gestion du matériel. | C37: ='Controle continu'!AX78 -> 0 | D37: ='Examen final'!AU32 -> 0 | E37: =AVERAGE(C37:D37) -> 0 | F37: 1 | G37: =E37*F37 -> 0
A38: Gestion et soutien du personnel. | C38: ='Controle continu'!AX79 -> 0 | D38: ='Examen final'!AU33 -> 0 | E38: =AVERAGE(C38:D38) -> 0 | F38: 2 | G38: =E38*F38 -> 0
A39: Note d'aptitude. | C39: ='Controle continu'!AW85 -> 0 | D39: ='Examen final'!AU35 -> 0 | E39: =AVERAGE(C39:D39) -> 0 | F39: 5 | G39: =E39*F39 -> 0
A40: TOTAL. | C40: =(C12+C13+C14+C15+C16+C18+C19+C20+C21+C22+C23+C24+C25+C26+C28+C29+C30+C31+C33+C34+C35+C37+C38+C39)/24 -> 0 | D40: =(D12+D13+D14+D15+D16+D18+D19+D20+D21+D22+D23+D24+D25+D26+D28+D29+D30+D31+D33+D34+D35+D37+D38+D39)/24 -> 0 | E40: =AVERAGE(C40:D40) -> 0 | F40: 50 | G40: =E40*F40 -> 0
A41: Moyenne en formation générale élémentaire. | D41: =G40/F40 -> 0 | E41: Sur 20
A42: Observations :
A44: À Phalsbourg, | B44: =TODAY() -> 43504
A45: ADJ PICHENEL

Sheet 24
A1: FEUILLE INDIVIDUELLE DES RÉSULTATS DE LA FGE.
A3: Corps: | B3: ='Liste des stagiaires'!D27 -> 0
A5: Nom: | B5: ='Liste des stagiaires'!B27 -> 0 | E5: Prénom: | F5: ='Liste des stagiaires'!C27 -> 0
A7: Matricule: | B7: ='Liste des stagiaires'!E27 -> 0
A9: COMPOSANTES. | C9: CONTRÔLE CONTINU. | D9: EXAMEN FINAL. | E9: MOYENNE. | F9: COEFFICIENTS. | G9: TOTAL.
C10: Note sur 20. | D10: Note sur 20. | E10: Note sur 20.
A11: A. Formation au comportement militaire.
A12: Instruction des subordonnés. | C12: ='Controle continu'!AZ5 -> 0 | D12: ='Examen final'!AW4 -> 0 | E12: =AVERAGE(C12:D12) -> 0 | F12: 3 | G12: =E12*F12 -> 0
A13: Organisation générale de la défense. | C13: ='Controle continu'!AZ20 -> 0 | D13: ='Examen final'!AW5 -> 0 | E13: =AVERAGE(C13:D13) -> 0 | F13: 1 | G13: =E13*F13 -> 0
A14: Connaissance des règlements. | C14: ='Controle continu'!AZ22 -> 0 | D14: ='Examen final'!AW6 -> 0 | E14: =AVERAGE(C14:D14) -> 0 | F14: 3 | G14: =E14*F14 -> 0
A15: Notions de civisme. | C15: ='Controle continu'!AZ25 -> 0 | D15: ='Examen final'!AW7 -> 0 | E15: =AVERAGE(C15:D15) -> 0 | F15: 1 | G15: =E15*F15 -> 0
A16: Techniques d'expression écrite. | C16: ='Controle continu'!AZ28 -> 0 | D16: ='Examen final'!AW8 -> 0 | E16: =AVERAGE(C16:D16) -> 0 | F16: 2 | G16: =E16*F16 -> 0
A17: B. Formation à la mission opérationnelle.
A18: Formation PROTERRE. | C18: ='Controle continu'!AZ30 -> 0 | D18: ='Examen final'!AW10 -> 0 | E18: =AVERAGE(C18:D18) -> 0 | F18: 7 | G18: =E18*F18 -> 0
A19: Armement. | C19: ='Controle continu'!AZ34 -> 0 | D19: ='Examen final'!AW11 -> 0 | E19: =AVERAGE(C19:D19) -> 0 | F19: 3 | G19: =E19*F19 -> 0
A20: Tirs. | C20: ='Controle continu'!AZ36 -> 0 | D20: ='Examen final'!AW12 -> 0 | E20: =AVERAGE(C20:D20) -> 0 | F20: 4 | G20: =E20*F20 -> 0
A21: Défense NRBC. | C21: ='Controle continu'!AZ41 -> 0 | D21: ='Examen final'!AW13 -> 0 | E21: =AVERAGE(C21:D21) -> 0 | F21: 1 | G21: =E21*F21 -> 0
A22: Transmissions. | C22: ='Controle continu'!AZ44 -> 0 | D22: ='Examen final'!AW14 -> 0 | E22: =AVERAGE(C22:D22) -> 0 | F22: 1 | G22: =E22*F22 -> 0
A23: Topographie. | C23: ='Controle continu'!AZ47 -> 0 | D23: ='Examen final'!AW15 -> 0 | E23: =AVERAGE(C23:D23) -> 0 | F23: 2 | G23: =E23*F23 -> 0
A24: Prévention, secourisme. | C24: ='Controle continu'!AZ51 -> 0 | D24: ='Examen final'!AW16 -> 0 | E24: =AVERAGE(C24:D24) -> 0 | F24: 1 | G24: =E24*F24 -> 0
A25: Génie. | C25: ='Controle continu'!AZ54 -> 0 | D25: ='Examen final'!AW17 -> 0 | E25: =AVERAGE(C25:D25) -> 0 | F25: 1 | G25: =E25*F25 -> 0
A26: Renseignement, identification. | C26: ='Controle continu'!AZ56 -> 0 | D26: ='Examen final'!AW18 -> 0 | E26: =AVERAGE(C26:D26) -> 0 | F26: 2 | G26: =E26*F26 -> 0
A27: C. Éducation et entraînement physiques militaires et sportifs.
A28: Notation continue. | C28: ='Controle continu'!AZ62 -> 0 | D28: ='Examen final'!AW20 -> 0 | E28: =AVERAGE(C28:D28) -> 0 | F28: 1 | G28: =E28*F28 -> 0
A29: Épreuves du CCPG | C29: ='Controle continu'!AZ63 -> 0 | D29: ='Examen final'!AX21 -> 0 | E29: =AVERAGE(C29:D29) -> 0 | F29: 2 | G29: =E29*F29 -> 0
A30: Épreuves du CCPS (Marche course) | C30: ='Controle continu'!AZ67 -> 0 | D30: ='Examen final'!AW25 -> 0 | E30: =AVERAGE(C30:D30) -> 0 | F30: 2 | G30: =E30*F30 -> 0
A31: Épreuve spécifique (PO). | C31: ='Controle continu'!AZ68 -> 0 | D31: ='Examen final'!AW26 -> 0 | E31: =AVERAGE(C31:D31) -> 0 | F31: 2 | G31: =E31*F31 -> 0
A32: D. Formation académique.
A33: Mathématiques. | C33: ='Controle continu'!AZ70 -> 0 | D33: ='Examen final'!AW28 -> 0 | E33: =AVERAGE(C33:D33) -> 0 | F33: 1 | G33: =E33*F33 -> 0
A34: Français. | C34: ='Controle continu'!AZ73 -> 0 | D34: ='Examen final'!AW29 -> 0 | E34: =AVERAGE(C34:D34) -> 0 | F34: 1 | G34: =E34*F34 -> 0
A35: Anglais. | C35: ='Controle continu'!AZ74 -> 0 | D35: ='Examen final'!AW30 -> 0 | E35: =AVERAGE(C35:D35) -> 0 | F35: 1 | G35: =E35*F35 -> 0
A36: E. Formation au management au sein d'une unité élémentaire.
A37: Entretien et gestion du matériel. | C37: ='Controle continu'!AZ78 -> 0 | D37: ='Examen final'!AW32 -> 0 | E37: =AVERAGE(C37:D37) -> 0 | F37: 1 | G37: =E37*F37 -> 0
A38: Gestion et soutien du personnel. | C38: ='Controle continu'!AZ79 -> 0 | D38: ='Examen final'!AW33 -> 0 | E38: =AVERAGE(C38:D38) -> 0 | F38: 2 | G38: =E38*F38 -> 0
A39: Note d'aptitude. | C39: ='Controle continu'!AY85 -> 0 | D39: ='Examen final'!AW35 -> 0 | E39: =AVERAGE(C39:D39) -> 0 | F39: 5 | G39: =E39*F39 -> 0
A40: TOTAL. | C40: =(C12+C13+C14+C15+C16+C18+C19+C20+C21+C22+C23+C24+C25+C26+C28+C29+C30+C31+C33+C34+C35+C37+C38+C39)/24 -> 0 | D40: =(D12+D13+D14+D15+D16+D18+D19+D20+D21+D22+D23+D24+D25+D26+D28+D29+D30+D31+D33+D34+D35+D37+D38+D39)/24 -> 0 | E40: =AVERAGE(C40:D40) -> 0 | F40: 50 | G40: =E40*F40 -> 0
A41: Moyenne en formation générale élémentaire. | D41: =G40/F40 -> 0 | E41: Sur 20
A42: Observations :
A44: À Phalsbourg, | B44: =TODAY() -> 43504
A45: ADJ PICHENEL

Sheet 25
A1: FEUILLE INDIVIDUELLE DES RÉSULTATS DE LA FGE.
A3: Corps: | B3: ='Liste des stagiaires'!D28 -> 0
A5: Nom: | B5: ='Liste des stagiaires'!B28 -> 0 | E5: Prénom: | F5: ='Liste des stagiaires'!C28 -> 0
A7: Matricule: | B7: ='Liste des stagiaires'!E28 -> 0
A9: COMPOSANTES. | C9: CONTRÔLE CONTINU. | D9: EXAMEN FINAL. | E9: MOYENNE. | F9: COEFFICIENTS. | G9: TOTAL.
C10: Note sur 20. | D10: Note sur 20. | E10: Note sur 20.
A11: A. Formation au comportement militaire.
A12: Instruction des subordonnés. | C12: ='Controle continu'!BB5 -> 0 | D12: ='Examen final'!AY4 -> 0 | E12: =AVERAGE(C12:D12) -> 0 | F12: 3 | G12: =E12*F12 -> 0
A13: Organisation générale de la défense. | C13: ='Controle continu'!BB20 -> 0 | D13: ='Examen final'!AY5 -> 0 | E13: =AVERAGE(C13:D13) -> 0 | F13: 1 | G13: =E13*F13 -> 0
A14: Connaissance des règlements. | C14: ='Controle continu'!BB22 -> 0 | D14: ='Examen final'!AY6 -> 0 | E14: =AVERAGE(C14:D14) -> 0 | F14: 3 | G14: =E14*F14 -> 0
A15: Notions de civisme. | C15: ='Controle continu'!BB25 -> 0 | D15: ='Examen final'!AY7 -> 0 | E15: =AVERAGE(C15:D15) -> 0 | F15: 1 | G15: =E15*F15 -> 0
A16: Techniques d'expression écrite. | C16: ='Controle continu'!BB28 -> 0 | D16: ='Examen final'!AY8 -> 0 | E16: =AVERAGE(C16:D16) -> 0 | F16: 2 | G16: =E16*F16 -> 0
A17: B. Formation à la mission opérationnelle.
A18: Formation PROTERRE. | C18: ='Controle continu'!BB30 -> 0 | D18: ='Examen final'!AY10 -> 0 | E18: =AVERAGE(C18:D18) -> 0 | F18: 7 | G18: =E18*F18 -> 0
A19: Armement. | C19: ='Controle continu'!BB34 -> 0 | D19: ='Examen final'!AY11 -> 0 | E19: =AVERAGE(C19:D19) -> 0 | F19: 3 | G19: =E19*F19 -> 0
A20: Tirs. | C20: ='Controle continu'!BB36 -> 0 | D20: ='Examen final'!AY12 -> 0 | E20: =AVERAGE(C20:D20) -> 0 | F20: 4 | G20: =E20*F20 -> 0
A21: Défense NRBC. | C21: ='Controle continu'!BB41 -> 0 | D21: ='Examen final'!AY13 -> 0 | E21: =AVERAGE(C21:D21) -> 0 | F21: 1 | G21: =E21*F21 -> 0
A22: Transmissions. | C22: ='Controle continu'!BB44 -> 0 | D22: ='Examen final'!AY14 -> 0 | E22: =AVERAGE(C22:D22) -> 0 | F22: 1 | G22: =E22*F22 -> 0
A23: Topographie. | C23: ='Controle continu'!BB47 -> 0 | D23: ='Examen final'!AY15 -> 0 | E23: =AVERAGE(C23:D23) -> 0 | F23: 2 | G23: =E23*F23 -> 0
A24: Prévention, secourisme. | C24: ='Controle continu'!BB51 -> 0 | D24: ='Examen final'!AY16 -> 0 | E24: =AVERAGE(C24:D24) -> 0 | F24: 1 | G24: =E24*F24 -> 0
A25: Génie. | C25: ='Controle continu'!BB54 -> 0 | D25: ='Examen final'!AY17 -> 0 | E25: =AVERAGE(C25:D25) -> 0 | F25: 1 | G25: =E25*F25 -> 0
A26: Renseignement, identification. | C26: ='Controle continu'!BB56 -> 0 | D26: ='Examen final'!AY18 -> 0 | E26: =AVERAGE(C26:D26) -> 0 | F26: 2 | G26: =E26*F26 -> 0
A27: C. Éducation et entraînement physiques militaires et sportifs.
A28: Notation continue. | C28: ='Controle continu'!BB62 -> 0 | D28: ='Examen final'!AY20 -> 0 | E28: =AVERAGE(C28:D28) -> 0 | F28: 1 | G28: =E28*F28 -> 0
A29: Épreuves du CCPG | C29: ='Controle continu'!BB63 -> 0 | D29: ='Examen final'!AZ21 -> 0 | E29: =AVERAGE(C29:D29) -> 0 | F29: 2 | G29: =E29*F29 -> 0
A30: Épreuves du CCPS (Marche course) | C30: ='Controle continu'!BB67 -> 0 | D30: ='Examen final'!AY25 -> 0 | E30: =AVERAGE(C30:D30) -> 0 | F30: 2 | G30: =E30*F30 -> 0
A31: Épreuve spécifique (PO). | C31: ='Controle continu'!BB68 -> 0 | D31: ='Examen final'!AY26 -> 0 | E31: =AVERAGE(C31:D31) -> 0 | F31: 2 | G31: =E31*F31 -> 0
A32: D. Formation académique.
A33: Mathématiques. | C33: ='Controle continu'!BB70 -> 0 | D33: ='Examen final'!AY28 -> 0 | E33: =AVERAGE(C33:D33) -> 0 | F33: 1 | G33: =E33*F33 -> 0
A34: Français. | C34: ='Controle continu'!BB73 -> 0 | D34: ='Examen final'!AY29 -> 0 | E34: =AVERAGE(C34:D34) -> 0 | F34: 1 | G34: =E34*F34 -> 0
A35: Anglais. | C35: ='Controle continu'!BB74 -> 0 | D35: ='Examen final'!AY30 -> 0 | E35: =AVERAGE(C35:D35) -> 0 | F35: 1 | G35: =E35*F35 -> 0
A36: E. Formation au management au sein d'une unité élémentaire.
A37: Entretien et gestion du matériel. | C37: ='Controle continu'!BB78 -> 0 | D37: ='Examen final'!AY32 -> 0 | E37: =AVERAGE(C37:D37) -> 0 | F37: 1 | G37: =E37*F37 -> 0
A38: Gestion et soutien du personnel. | C38: ='Controle continu'!BB79 -> 0 | D38: ='Examen final'!AY33 -> 0 | E38: =AVERAGE(C38:D38) -> 0 | F38: 2 | G38: =E38*F38 -> 0
A39: Note d'aptitude. | C39: ='Controle continu'!BA85 -> 0 | D39: ='Examen final'!AY35 -> 0 | E39: =AVERAGE(C39:D39) -> 0 | F39: 5 | G39: =E39*F39 -> 0
A40: TOTAL. | C40: =(C12+C13+C14+C15+C16+C18+C19+C20+C21+C22+C23+C24+C25+C26+C28+C29+C30+C31+C33+C34+C35+C37+C38+C39)/24 -> 0 | D40: =(D12+D13+D14+D15+D16+D18+D19+D20+D21+D22+D23+D24+D25+D26+D28+D29+D30+D31+D33+D34+D35+D37+D38+D39)/24 -> 0 | E40: =AVERAGE(C40:D40) -> 0 | F40: 50 | G40: =E40*F40 -> 0
A41: Moyenne en formation générale élémentaire. | D41: =G40/F40 -> 0 | E41: Sur 20
A42: Observations :
A44: À Phalsbourg, | B44: =TODAY() -> 43504
A45: ADJ PICHENEL
