Workbook

Sheet Feuil1
A1: =IF(B1="","",ROW())
A2: =IF(B2="","",ROW()) -> 2 | B2: Pierre | D2: Trier sur la colonne B
A3: =IF(B3="","",ROW()) -> 3 | B3: Paul
A4: =IF(B4="","",ROW()) -> 4 | B4: Jean
A5: =IF(B5="","",ROW()) -> 5 | B5: Jacques
A6: =IF(B6="","",ROW()) -> 6 | B6: Henri
A7: =IF(B7="","",ROW()) -> 7 | B7: Simon
A8: =IF(B8="","",ROW()) -> 8 | B8: Gérard
A9: =IF(B9="","",ROW())
A10: =IF(B10="","",ROW())
A11: =IF(B11="","",ROW())
A12: =IF(B12="","",ROW())
A13: =IF(B13="","",ROW())
A14: =IF(B14="","",ROW())
A15: =IF(B15="","",ROW())
A16: =IF(B16="","",ROW())
A17: =IF(B17="","",ROW())
A18: =IF(B18="","",ROW())
A19: =IF(B19="","",ROW())
A20: =IF(B20="","",ROW())

Sheet Feuil2
A2: =IF(COUNT(Feuil1!A:A)>COUNTA(A$1:A1),VLOOKUP(SMALL(Feuil1!A:A,COUNTA(A$1:A1)+1),Feuil1!A:B,2,0),"") -> Pierre | B2: 45334
A3: =IF(COUNT(Feuil1!A:A)>COUNTA(A$1:A2),VLOOKUP(SMALL(Feuil1!A:A,COUNTA(A$1:A2)+1),Feuil1!A:B,2,0),"") -> Paul | B3: 45334
A4: =IF(COUNT(Feuil1!A:A)>COUNTA(A$1:A3),VLOOKUP(SMALL(Feuil1!A:A,COUNTA(A$1:A3)+1),Feuil1!A:B,2,0),"") -> Jean | B4: 45334
A5: =IF(COUNT(Feuil1!A:A)>COUNTA(A$1:A4),VLOOKUP(SMALL(Feuil1!A:A,COUNTA(A$1:A4)+1),Feuil1!A:B,2,0),"") -> Jacques | B5: 45334
A6: =IF(COUNT(Feuil1!A:A)>COUNTA(A$1:A5),VLOOKUP(SMALL(Feuil1!A:A,COUNTA(A$1:A5)+1),Feuil1!A:B,2,0),"") -> Henri | B6: 45334
A7: Pierre | B7: 45335 | C7: comme il y a une nouvelle date, la liste recommence au début avec le 1er nom de la liste
A8: Paul | B8: 45335
A9: Jean | B9: 45335
A10: Pierre | B10: 45336 | C10: idem
A11: Paul | B11: 45336
A12: Jean | B12: 45336
A13: Jacques | B13: 45336
A14: Pierre | B14: 45337 | C14: idem
A15: Pierre | B15: 45338 | C15: idem
A16: Paul | B16: 45338
A17: Jean | B17: 45339 | C17: idem
A18: Jacques | B18: 45339
A19: Henri | B19: 45339
A20: Simon | B20: 45339
A21: Gérard | B21: 45339

Sheet Feuil3
