Workbook
Name Etat: #REF!
Name source_du_lead: #REF!
Name Source_lead: #REF!
Name SourceLead: #REF!
Name Sources_prospects: 'Paramètres de choix'!$A$8:$A$19
Name StatutDevis: "['file:///C:/Users/julie.colombani/Documents/COZYNERGY/LEADS%20Quelle%20Energie/Tableau%20de%20suivi%20Leads%20Quelle%20Energie.ods'#$Feuil2.$A$1:.$A$2]"
Name Tableau13: 'Suivi activité'!$B$4:$AB$1213

Sheet Paramètres de choix
A1: Paramètres de choix
A3: Saisir dans les cases vertes uniquement
A6: Sources prospects | B6: Type | C6: Besoin(s) | D6: Concurrents | E6: Démo | F6: Commerciaux | G6: Statut | I6: Mois
A8: Appel entrant | B8: ANCIEN CLIENT | C8: COPRO V2 | D8: CONCURRENT | E8: DEMO SUR SITE | F8: PAT | G8: RDV 1 à fixer | H8: 1 | I8: JANVIER
A9: Contact e-mail entrant | B9: CLIENT ACTIF | C9: EXTENSIONS - OPTIONS V2 | D9: CONCURRENT | E9: DEMO A DISTANCE | F9: ASP | G9: RDV 1 pris | H9: 2 | I9: FEVRIER
A10: Fichier | B10: PROSPECT | C10: GERANCE V2 | D10: CONCURRENT | F10: PM | G10: RDV 1 fait | H10: 3 | I10: MARS
A11: Formulaire site web | C11: X14 - DEMARRAGE | D11: CONCURRENT | G11: Devis remis - négo | H11: 4 | I11: AVRIL
A12: Mailing | C12: X14 - RDO/SOLDES - TIERS | D12: CONCURRENT | G12: Signé - A valider | H12: 5 | I12: MAI
A13: Parrainage | C13: X14 - RDO/SOLDES - V2 | D13: CONCURRENT | G13: Signé - Validé | H13: 6 | I13: JUIN
A14: Prospection directe | C14: X14 + Y15 - RD0/SOLDES - V2 | D14: CONCURRENT | G14: Signé - Annulé | H14: 7 | I14: JUILLET
A15: Salon | C15: X14 G+ | D15: CONCURRENT | G15: Sans Suite - Abandonné | H15: 8 | I15: AOUT
C16: Y15 - DEMARRAGE | D16: CONCURRENT | G16: Perdu | H16: 9 | I16: SEPTEMBRE
C17: Y15 - RDO/SOLDES - TIERS | D17: CONCURRENT | G17: Stand-by | H17: 10 | I17: OCTOBRE
C18: Y15 - RDO/SOLDES - V2 | D18: CONCURRENT | H18: 11 | I18: NOVEMBRE
C19: EDL | D19: CONCURRENT | H19: 12 | I19: DECEMBRE
A21: Année : | B21: 2019

Sheet Suivi activité
A1: ="Tableau de suivi d'activité commerciale année "&'Paramètres de choix'!B21 -> Tableau de suivi d'activité commerciale année 2019
A2: Saisir l'activité commerciale (une ligne par prospect)
A3: PROSPECTS | O3: PROJETS EN COURS | U3: PROJETS SIGNES | Z3: PROJETS SUSPENDUS / PERDUS | AC3: Récap CA Projets en cours | AG3: Récap CA Projets signés | AI3: Récap CA Projets signés annulés | AK3: Récap CA Projets suspendus perdus
A4: N° | B4: SOURCE | C4: DATE 1er CONTACT | D4: MOIS | E4: COMMERCIAL | F4: IDENTITE | G4: TYPE | H4: BESOIN(S) | I4: LOTS 1 | J4: LOTS 2 | K4: CONCURRENT | L4: DEMO | M4: STATUT ACTUEL | O4: Montant estimé suite premier RDV (€ HT) | P4: % de chance estimé suite premier RDV | Q4: MONTANT DEVIS ENVOYE (€ HT) | R4: % de chance estimé suite envoi du devis | S4: DATE DE REMISE DU DEVIS | T4: MOIS PREVISIONNEL DE SIGNATURE | U4: MONTANT SIGNE A VALIDER (€ HT) | V4: MONTANT SIGNE VALIDÉ (€ HT) | W4: MONTANT FORMATION (€ HT) | X4: MOIS DE SIGNATURE | Y4: MONTANT SIGNE ANNULÉ (€ HT) | Z4: MONTANT SUSPENDU / PERDU (€ HT) | AA4: Raison de l'échec | AB4: COMMENTAIRES | AC4: Montant | AD4: % chance | AE4: Montant estimé selon pourcentage de chance | AF4: Mois | AG4: Montant | AH4: Mois | AI4: Montant | AJ4: Mois | AK4: Montant | AL4: Mois
A5: 1 | B5: Appel entrant | C5: 43480 | D5: =IF(ISBLANK(C5),"",VLOOKUP(MONTH(C5),'Paramètres de choix'!$H$8:$I$19,2,0)) -> JANVIER | E5: PAT | F5: NOM SOCIETE | G5: CLIENT ACTIF | H5: EXTENSIONS - OPTIONS V2 | M5: Signé - Validé | N5: 1 | V5: 100 | X5: JANVIER | AB5: extensions postes | AC5: =IF(ISBLANK(Q5),O5,Q5) -> 0 | AD5: =IF(ISBLANK(R5),P5,R5) -> 0 | AE5: =IF(ISERROR(AC5*AD5),"",AC5*AD5) -> 0 | AF5: =IF(ISBLANK(T5),D5,T5) -> JANVIER | AG5: =IF(ISBLANK(V5),U5,V5) -> 100 | AH5: =IF(ISBLANK(X5),T5,X5) -> JANVIER | AI5: =Y5 -> 0 | AJ5: =X5 -> JANVIER | AK5: =Z5 -> 0 | AL5: =IF(ISBLANK(X5),IF(ISBLANK(T5),D5,T5)) -> FALSE
A6: 2 | B6: Appel entrant | C6: 43480 | D6: =IF(ISBLANK(C6),"",VLOOKUP(MONTH(C6),'Paramètres de choix'!$H$8:$I$19,2,0)) -> JANVIER | E6: ASP | F6: NOM SOCIETE | G6: CLIENT ACTIF | H6: EXTENSIONS - OPTIONS V2 | M6: Devis remis - négo | N6: 1 | Q6: 100 | S6: 43480 | T6: MARS | AB6: scanner chèque | AC6: =IF(ISBLANK(Q6),O6,Q6) -> 100 | AD6: =IF(ISBLANK(R6),P6,R6) -> 0 | AE6: =IF(ISERROR(AC6*AD6),"",AC6*AD6) -> 0 | AF6: =IF(ISBLANK(T6),D6,T6) -> MARS | AG6: =IF(ISBLANK(V6),U6,V6) -> 0 | AH6: =IF(ISBLANK(X6),T6,X6) -> MARS | AI6: =Y6 -> 0 | AJ6: =X6 -> 0 | AK6: =Z6 -> 0 | AL6: =IF(ISBLANK(X6),IF(ISBLANK(T6),D6,T6)) -> MARS
A7: 3 | B7: Appel entrant | C7: 43482 | D7: =IF(ISBLANK(C7),"",VLOOKUP(MONTH(C7),'Paramètres de choix'!$H$8:$I$19,2,0)) -> JANVIER | E7: PM | F7: NOM SOCIETE | G7: CLIENT ACTIF | H7: GERANCE V2 | M7: Devis remis - négo | N7: 1 | Q7: 100 | S7: 43482 | T7: MARS | AB7: Démarrage | AC7: =IF(ISBLANK(Q7),O7,Q7) -> 100 | AD7: =IF(ISBLANK(R7),P7,R7) -> 0 | AE7: =IF(ISERROR(AC7*AD7),"",AC7*AD7) -> 0 | AF7: =IF(ISBLANK(T7),D7,T7) -> MARS | AG7: =IF(ISBLANK(V7),U7,V7) -> 0 | AH7: =IF(ISBLANK(X7),T7,X7) -> MARS | AI7: =Y7 -> 0 | AJ7: =X7 -> 0 | AK7: =Z7 -> 0 | AL7: =IF(ISBLANK(X7),IF(ISBLANK(T7),D7,T7)) -> MARS
A8: 4 | B8: Appel entrant | C8: 43479 | D8: =IF(ISBLANK(C8),"",VLOOKUP(MONTH(C8),'Paramètres de choix'!$H$8:$I$19,2,0)) -> JANVIER | E8: ASP | F8: NOM SOCIETE | G8: CLIENT ACTIF | H8: EXTENSIONS - OPTIONS V2 | M8: Devis remis - négo | N8: 1 | Q8: 100 | S8: 43479 | T8: FEVRIER | AB8: AG PORTABLE | AC8: =IF(ISBLANK(Q8),O8,Q8) -> 100 | AD8: =IF(ISBLANK(R8),P8,R8) -> 0 | AE8: =IF(ISERROR(AC8*AD8),"",AC8*AD8) -> 0 | AF8: =IF(ISBLANK(T8),D8,T8) -> FEVRIER | AG8: =IF(ISBLANK(V8),U8,V8) -> 0 | AH8: =IF(ISBLANK(X8),T8,X8) -> FEVRIER | AI8: =Y8 -> 0 | AJ8: =X8 -> 0 | AK8: =Z8 -> 0 | AL8: =IF(ISBLANK(X8),IF(ISBLANK(T8),D8,T8)) -> FEVRIER
A9: 5 | B9: Appel entrant | C9: 43483 | D9: =IF(ISBLANK(C9),"",VLOOKUP(MONTH(C9),'Paramètres de choix'!$H$8:$I$19,2,0)) -> JANVIER | E9: PAT | F9: NOM SOCIETE | G9: CLIENT ACTIF | H9: EXTENSIONS - OPTIONS V2 | M9: Devis remis - négo | N9: 1 | Q9: 100 | S9: 43483 | T9: MARS | AB9: extension logiciel | AC9: =IF(ISBLANK(Q9),O9,Q9) -> 100 | AD9: =IF(ISBLANK(R9),P9,R9) -> 0 | AE9: =IF(ISERROR(AC9*AD9),"",AC9*AD9) -> 0 | AF9: =IF(ISBLANK(T9),D9,T9) -> MARS | AG9: =IF(ISBLANK(V9),U9,V9) -> 0 | AH9: =IF(ISBLANK(X9),T9,X9) -> MARS | AI9: =Y9 -> 0 | AJ9: =X9 -> 0 | AK9: =Z9 -> 0 | AL9: =IF(ISBLANK(X9),IF(ISBLANK(T9),D9,T9)) -> MARS
A10: 6 | B10: Appel entrant | C10: 43483 | D10: =IF(ISBLANK(C10),"",VLOOKUP(MONTH(C10),'Paramètres de choix'!$H$8:$I$19,2,0)) -> JANVIER | E10: PM | F10: NOM SOCIETE | G10: CLIENT ACTIF | H10: EXTENSIONS - OPTIONS V2 | M10: Devis remis - négo | N10: 1 | Q10: 100 | S10: 43483 | T10: MARS | AB10: PACK SEPA | AC10: =IF(ISBLANK(Q10),O10,Q10) -> 100 | AD10: =IF(ISBLANK(R10),P10,R10) -> 0 | AE10: =IF(ISERROR(AC10*AD10),"",AC10*AD10) -> 0 | AF10: =IF(ISBLANK(T10),D10,T10) -> MARS | AG10: =IF(ISBLANK(V10),U10,V10) -> 0 | AH10: =IF(ISBLANK(X10),T10,X10) -> MARS | AI10: =Y10 -> 0 | AJ10: =X10 -> 0 | AK10: =Z10 -> 0 | AL10: =IF(ISBLANK(X10),IF(ISBLANK(T10),D10,T10)) -> MARS
A11: 7 | B11: Appel entrant | C11: 43487 | D11: =IF(ISBLANK(C11),"",VLOOKUP(MONTH(C11),'Paramètres de choix'!$H$8:$I$19,2,0)) -> JANVIER | E11: ASP | F11: NOM SOCIETE | G11: CLIENT ACTIF | H11: EXTENSIONS - OPTIONS V2 | M11: Devis remis - négo | N11: 1 | Q11: 100 | S11: 43487 | T11: FEVRIER | AC11: =IF(ISBLANK(Q11),O11,Q11) -> 100 | AD11: =IF(ISBLANK(R11),P11,R11) -> 0 | AE11: =IF(ISERROR(AC11*AD11),"",AC11*AD11) -> 0 | AF11: =IF(ISBLANK(T11),D11,T11) -> FEVRIER | AG11: =IF(ISBLANK(V11),U11,V11) -> 0 | AH11: =IF(ISBLANK(X11),T11,X11) -> FEVRIER | AI11: =Y11 -> 0 | AJ11: =X11 -> 0 | AK11: =Z11 -> 0 | AL11: =IF(ISBLANK(X11),IF(ISBLANK(T11),D11,T11)) -> FEVRIER
A12: 8 | B12: Appel entrant | C12: 43487 | D12: =IF(ISBLANK(C12),"",VLOOKUP(MONTH(C12),'Paramètres de choix'!$H$8:$I$19,2,0)) -> JANVIER | E12: PAT | F12: NOM SOCIETE | G12: CLIENT ACTIF | H12: EXTENSIONS - OPTIONS V2 | M12: Devis remis - négo | N12: 1 | Q12: 100 | S12: 43487 | T12: MARS | AC12: =IF(ISBLANK(Q12),O12,Q12) -> 100 | AD12: =IF(ISBLANK(R12),P12,R12) -> 0 | AE12: =IF(ISERROR(AC12*AD12),"",AC12*AD12) -> 0 | AF12: =IF(ISBLANK(T12),D12,T12) -> MARS | AG12: =IF(ISBLANK(V12),U12,V12) -> 0 | AH12: =IF(ISBLANK(X12),T12,X12) -> MARS | AI12: =Y12 -> 0 | AJ12: =X12 -> 0 | AK12: =Z12 -> 0 | AL12: =IF(ISBLANK(X12),IF(ISBLANK(T12),D12,T12)) -> MARS
A13: 9 | B13: Appel entrant | C13: 43487 | D13: =IF(ISBLANK(C13),"",VLOOKUP(MONTH(C13),'Paramètres de choix'!$H$8:$I$19,2,0)) -> JANVIER | E13: PM | F13: NOM SOCIETE | G13: CLIENT ACTIF | H13: EXTENSIONS - OPTIONS V2 | M13: Devis remis - négo | N13: 1 | Q13: 100 | S13: 43487 | T13: MARS | AC13: =IF(ISBLANK(Q13),O13,Q13) -> 100 | AD13: =IF(ISBLANK(R13),P13,R13) -> 0 | AE13: =IF(ISERROR(AC13*AD13),"",AC13*AD13) -> 0 | AF13: =IF(ISBLANK(T13),D13,T13) -> MARS | AG13: =IF(ISBLANK(V13),U13,V13) -> 0 | AH13: =IF(ISBLANK(X13),T13,X13) -> MARS | AI13: =Y13 -> 0 | AJ13: =X13 -> 0 | AK13: =Z13 -> 0 | AL13: =IF(ISBLANK(X13),IF(ISBLANK(T13),D13,T13)) -> MARS
A14: 10 | B14: Appel entrant | C14: 43487 | D14: =IF(ISBLANK(C14),"",VLOOKUP(MONTH(C14),'Paramètres de choix'!$H$8:$I$19,2,0)) -> JANVIER | E14: ASP | F14: NOM SOCIETE | G14: CLIENT ACTIF | H14: EXTENSIONS - OPTIONS V2 | M14: Signé - Validé | N14: 1 | V14: 100 | X14: JANVIER | AC14: =IF(ISBLANK(Q14),O14,Q14) -> 0 | AD14: =IF(ISBLANK(R14),P14,R14) -> 0 | AE14: =IF(ISERROR(AC14*AD14),"",AC14*AD14) -> 0 | AF14: =IF(ISBLANK(T14),D14,T14) -> JANVIER | AG14: =IF(ISBLANK(V14),U14,V14) -> 100 | AH14: =IF(ISBLANK(X14),T14,X14) -> JANVIER | AI14: =Y14 -> 0 | AJ14: =X14 -> JANVIER | AK14: =Z14 -> 0 | AL14: =IF(ISBLANK(X14),IF(ISBLANK(T14),D14,T14)) -> FALSE
A15: 11 | B15: Appel entrant | C15: 43487 | D15: =IF(ISBLANK(C15),"",VLOOKUP(MONTH(C15),'Paramètres de choix'!$H$8:$I$19,2,0)) -> JANVIER | E15: PAT | F15: NOM SOCIETE | G15: CLIENT ACTIF | H15: EXTENSIONS - OPTIONS V2 | M15: Signé - Validé | N15: 1 | V15: 100 | X15: JANVIER | AC15: =IF(ISBLANK(Q15),O15,Q15) -> 0 | AD15: =IF(ISBLANK(R15),P15,R15) -> 0 | AE15: =IF(ISERROR(AC15*AD15),"",AC15*AD15) -> 0 | AF15: =IF(ISBLANK(T15),D15,T15) -> JANVIER | AG15: =IF(ISBLANK(V15),U15,V15) -> 100 | AH15: =IF(ISBLANK(X15),T15,X15) -> JANVIER | AI15: =Y15 -> 0 | AJ15: =X15 -> JANVIER | AK15: =Z15 -> 0 | AL15: =IF(ISBLANK(X15),IF(ISBLANK(T15),D15,T15)) -> FALSE
A16: 12 | B16: Appel entrant | C16: 43489 | D16: =IF(ISBLANK(C16),"",VLOOKUP(MONTH(C16),'Paramètres de choix'!$H$8:$I$19,2,0)) -> JANVIER | E16: PM | F16: NOM SOCIETE | G16: CLIENT ACTIF | H16: EXTENSIONS - OPTIONS V2 | M16: Signé - Validé | N16: 1 | V16: 100 | X16: JANVIER | AC16: =IF(ISBLANK(Q16),O16,Q16) -> 0 | AD16: =IF(ISBLANK(R16),P16,R16) -> 0 | AE16: =IF(ISERROR(AC16*AD16),"",AC16*AD16) -> 0 | AF16: =IF(ISBLANK(T16),D16,T16) -> JANVIER | AG16: =IF(ISBLANK(V16),U16,V16) -> 100 | AH16: =IF(ISBLANK(X16),T16,X16) -> JANVIER | AI16: =Y16 -> 0 | AJ16: =X16 -> JANVIER | AK16: =Z16 -> 0 | AL16: =IF(ISBLANK(X16),IF(ISBLANK(T16),D16,T16)) -> FALSE
A17: 13 | B17: Appel entrant | C17: 43490 | D17: =IF(ISBLANK(C17),"",VLOOKUP(MONTH(C17),'Paramètres de choix'!$H$8:$I$19,2,0)) -> JANVIER | E17: ASP | F17: NOM SOCIETE | G17: CLIENT ACTIF | H17: EXTENSIONS - OPTIONS V2 | M17: Devis remis - négo | N17: 1 | Q17: 100 | AC17: =IF(ISBLANK(Q17),O17,Q17) -> 100 | AD17: =IF(ISBLANK(R17),P17,R17) -> 0 | AE17: =IF(ISERROR(AC17*AD17),"",AC17*AD17) -> 0 | AF17: =IF(ISBLANK(T17),D17,T17) -> JANVIER | AG17: =IF(ISBLANK(V17),U17,V17) -> 0 | AH17: =IF(ISBLANK(X17),T17,X17) -> 0 | AI17: =Y17 -> 0 | AJ17: =X17 -> 0 | AK17: =Z17 -> 0 | AL17: =IF(ISBLANK(X17),IF(ISBLANK(T17),D17,T17)) -> JANVIER
A18: 14 | B18: Appel entrant | C18: 43490 | D18: =IF(ISBLANK(C18),"",VLOOKUP(MONTH(C18),'Paramètres de choix'!$H$8:$I$19,2,0)) -> JANVIER | E18: PAT | F18: NOM SOCIETE | G18: CLIENT ACTIF | H18: EXTENSIONS - OPTIONS V2 | M18: Devis remis - négo | N18: 1 | Q18: 100 | S18: 43490 | T18: FEVRIER | AC18: =IF(ISBLANK(Q18),O18,Q18) -> 100 | AD18: =IF(ISBLANK(R18),P18,R18) -> 0 | AE18: =IF(ISERROR(AC18*AD18),"",AC18*AD18) -> 0 | AF18: =IF(ISBLANK(T18),D18,T18) -> FEVRIER | AG18: =IF(ISBLANK(V18),U18,V18) -> 0 | AH18: =IF(ISBLANK(X18),T18,X18) -> FEVRIER | AI18: =Y18 -> 0 | AJ18: =X18 -> 0 | AK18: =Z18 -> 0 | AL18: =IF(ISBLANK(X18),IF(ISBLANK(T18),D18,T18)) -> FEVRIER
A19: 15 | B19: Appel entrant | C19: 43494 | D19: =IF(ISBLANK(C19),"",VLOOKUP(MONTH(C19),'Paramètres de choix'!$H$8:$I$19,2,0)) -> JANVIER | E19: PM | F19: NOM SOCIETE | G19: PROSPECT | H19: X14 - DEMARRAGE | I19: 10 | M19: Signé - Validé | N19: 1 | V19: 100 | X19: JANVIER | AC19: =IF(ISBLANK(Q19),O19,Q19) -> 0 | AD19: =IF(ISBLANK(R19),P19,R19) -> 0 | AE19: =IF(ISERROR(AC19*AD19),"",AC19*AD19) -> 0 | AF19: =IF(ISBLANK(T19),D19,T19) -> JANVIER | AG19: =IF(ISBLANK(V19),U19,V19) -> 100 | AH19: =IF(ISBLANK(X19),T19,X19) -> JANVIER | AI19: =Y19 -> 0 | AJ19: =X19 -> JANVIER | AK19: =Z19 -> 0 | AL19: =IF(ISBLANK(X19),IF(ISBLANK(T19),D19,T19)) -> FALSE
A20: 16 | B20: Parrainage | C20: 43496 | D20: =IF(ISBLANK(C20),"",VLOOKUP(MONTH(C20),'Paramètres de choix'!$H$8:$I$19,2,0)) -> JANVIER | E20: ASP | F20: NOM SOCIETE | G20: PROSPECT | H20: GERANCE V2 | I20: 0 | M20: Signé - Validé | N20: 1 | V20: 100 | X20: JANVIER | AC20: =IF(ISBLANK(Q20),O20,Q20) -> 0 | AD20: =IF(ISBLANK(R20),P20,R20) -> 0 | AE20: =IF(ISERROR(AC20*AD20),"",AC20*AD20) -> 0 | AF20: =IF(ISBLANK(T20),D20,T20) -> JANVIER | AG20: =IF(ISBLANK(V20),U20,V20) -> 100 | AH20: =IF(ISBLANK(X20),T20,X20) -> JANVIER | AI20: =Y20 -> 0 | AJ20: =X20 -> JANVIER | AK20: =Z20 -> 0 | AL20: =IF(ISBLANK(X20),IF(ISBLANK(T20),D20,T20)) -> FALSE
A21: 17 | B21: Appel entrant | C21: 43496 | D21: =IF(ISBLANK(C21),"",VLOOKUP(MONTH(C21),'Paramètres de choix'!$H$8:$I$19,2,0)) -> JANVIER | E21: PAT | F21: NOM SOCIETE | G21: CLIENT ACTIF | H21: EXTENSIONS - OPTIONS V2 | M21: Signé - Validé | N21: 1 | V21: 100 | X21: JANVIER | AC21: =IF(ISBLANK(Q21),O21,Q21) -> 0 | AD21: =IF(ISBLANK(R21),P21,R21) -> 0 | AE21: =IF(ISERROR(AC21*AD21),"",AC21*AD21) -> 0 | AF21: =IF(ISBLANK(T21),D21,T21) -> JANVIER | AG21: =IF(ISBLANK(V21),U21,V21) -> 100 | AH21: =IF(ISBLANK(X21),T21,X21) -> JANVIER | AI21: =Y21 -> 0 | AJ21: =X21 -> JANVIER | AK21: =Z21 -> 0 | AL21: =IF(ISBLANK(X21),IF(ISBLANK(T21),D21,T21)) -> FALSE
A22: 18 | B22: Appel entrant | C22: 43496 | D22: =IF(ISBLANK(C22),"",VLOOKUP(MONTH(C22),'Paramètres de choix'!$H$8:$I$19,2,0)) -> JANVIER | E22: PM | F22: NOM SOCIETE | G22: CLIENT ACTIF | H22: EDL | M22: Signé - Validé | N22: 1 | V22: 100 | X22: JANVIER | AC22: =IF(ISBLANK(Q22),O22,Q22) -> 0 | AD22: =IF(ISBLANK(R22),P22,R22) -> 0 | AE22: =IF(ISERROR(AC22*AD22),"",AC22*AD22) -> 0 | AF22: =IF(ISBLANK(T22),D22,T22) -> JANVIER | AG22: =IF(ISBLANK(V22),U22,V22) -> 100 | AH22: =IF(ISBLANK(X22),T22,X22) -> JANVIER | AI22: =Y22 -> 0 | AJ22: =X22 -> JANVIER | AK22: =Z22 -> 0 | AL22: =IF(ISBLANK(X22),IF(ISBLANK(T22),D22,T22)) -> FALSE
A23: 19 | B23: Appel entrant | C23: 43497 | D23: =IF(ISBLANK(C23),"",VLOOKUP(MONTH(C23),'Paramètres de choix'!$H$8:$I$19,2,0)) -> FEVRIER | E23: ASP | F23: NOM SOCIETE | G23: CLIENT ACTIF | H23: EXTENSIONS - OPTIONS V2 | M23: Devis remis - négo | N23: 1 | Q23: 100 | S23: 43497 | T23: MARS | AC23: =IF(ISBLANK(Q23),O23,Q23) -> 100 | AD23: =IF(ISBLANK(R23),P23,R23) -> 0 | AE23: =IF(ISERROR(AC23*AD23),"",AC23*AD23) -> 0 | AF23: =IF(ISBLANK(T23),D23,T23) -> MARS | AG23: =IF(ISBLANK(V23),U23,V23) -> 0 | AH23: =IF(ISBLANK(X23),T23,X23) -> MARS | AI23: =Y23 -> 0 | AJ23: =X23 -> 0 | AK23: =Z23 -> 0 | AL23: =IF(ISBLANK(X23),IF(ISBLANK(T23),D23,T23)) -> MARS
A24: 20 | D24: =IF(ISBLANK(C24),"",VLOOKUP(MONTH(C24),'Paramètres de choix'!$H$8:$I$19,2,0)) | N24: 1 | AC24: =IF(ISBLANK(Q24),O24,Q24) -> 0 | AD24: =IF(ISBLANK(R24),P24,R24) -> 0 | AE24: =IF(ISERROR(AC24*AD24),"",AC24*AD24) -> 0 | AF24: =IF(ISBLANK(T24),D24,T24) | AG24: =IF(ISBLANK(V24),U24,V24) -> 0 | AH24: =IF(ISBLANK(X24),T24,X24) -> 0 | AI24: =Y24 -> 0 | AJ24: =X24 -> 0 | AK24: =Z24 -> 0 | AL24: =IF(ISBLANK(X24),IF(ISBLANK(T24),D24,T24))
A25: 21 | D25: =IF(ISBLANK(C25),"",VLOOKUP(MONTH(C25),'Paramètres de choix'!$H$8:$I$19,2,0)) | N25: 1 | AC25: =IF(ISBLANK(Q25),O25,Q25) -> 0 | AD25: =IF(ISBLANK(R25),P25,R25) -> 0 | AE25: =IF(ISERROR(AC25*AD25),"",AC25*AD25) -> 0 | AF25: =IF(ISBLANK(T25),D25,T25) | AG25: =IF(ISBLANK(V25),U25,V25) -> 0 | AH25: =IF(ISBLANK(X25),T25,X25) -> 0 | AI25: =Y25 -> 0 | AJ25: =X25 -> 0 | AK25: =Z25 -> 0 | AL25: =IF(ISBLANK(X25),IF(ISBLANK(T25),D25,T25))
A26: 22 | D26: =IF(ISBLANK(C26),"",VLOOKUP(MONTH(C26),'Paramètres de choix'!$H$8:$I$19,2,0)) | N26: 1 | AC26: =IF(ISBLANK(Q26),O26,Q26) -> 0 | AD26: =IF(ISBLANK(R26),P26,R26) -> 0 | AE26: =IF(ISERROR(AC26*AD26),"",AC26*AD26) -> 0 | AF26: =IF(ISBLANK(T26),D26,T26) | AG26: =IF(ISBLANK(V26),U26,V26) -> 0 | AH26: =IF(ISBLANK(X26),T26,X26) -> 0 | AI26: =Y26 -> 0 | AJ26: =X26 -> 0 | AK26: =Z26 -> 0 | AL26: =IF(ISBLANK(X26),IF(ISBLANK(T26),D26,T26))
A27: 23 | D27: =IF(ISBLANK(C27),"",VLOOKUP(MONTH(C27),'Paramètres de choix'!$H$8:$I$19,2,0)) | N27: 1 | AC27: =IF(ISBLANK(Q27),O27,Q27) -> 0 | AD27: =IF(ISBLANK(R27),P27,R27) -> 0 | AE27: =IF(ISERROR(AC27*AD27),"",AC27*AD27) -> 0 | AF27: =IF(ISBLANK(T27),D27,T27) | AG27: =IF(ISBLANK(V27),U27,V27) -> 0 | AH27: =IF(ISBLANK(X27),T27,X27) -> 0 | AI27: =Y27 -> 0 | AJ27: =X27 -> 0 | AK27: =Z27 -> 0 | AL27: =IF(ISBLANK(X27),IF(ISBLANK(T27),D27,T27))
A28: 24 | D28: =IF(ISBLANK(C28),"",VLOOKUP(MONTH(C28),'Paramètres de choix'!$H$8:$I$19,2,0)) | N28: =+IF(ISBLANK(F28),"",1) | AC28: =IF(ISBLANK(Q28),O28,Q28) -> 0 | AD28: =IF(ISBLANK(R28),P28,R28) -> 0 | AE28: =IF(ISERROR(AC28*AD28),"",AC28*AD28) -> 0 | AF28: =IF(ISBLANK(T28),D28,T28) | AG28: =IF(ISBLANK(V28),U28,V28) -> 0 | AH28: =IF(ISBLANK(X28),T28,X28) -> 0 | AI28: =Y28 -> 0 | AJ28: =X28 -> 0 | AK28: =Z28 -> 0 | AL28: =IF(ISBLANK(X28),IF(ISBLANK(T28),D28,T28))
A29: 25 | D29: =IF(ISBLANK(C29),"",VLOOKUP(MONTH(C29),'Paramètres de choix'!$H$8:$I$19,2,0)) | N29: =+IF(ISBLANK(F29),"",1) | AC29: =IF(ISBLANK(Q29),O29,Q29) -> 0 | AD29: =IF(ISBLANK(R29),P29,R29) -> 0 | AE29: =IF(ISERROR(AC29*AD29),"",AC29*AD29) -> 0 | AF29: =IF(ISBLANK(T29),D29,T29) | AG29: =IF(ISBLANK(V29),U29,V29) -> 0 | AH29: =IF(ISBLANK(X29),T29,X29) -> 0 | AI29: =Y29 -> 0 | AJ29: =X29 -> 0 | AK29: =Z29 -> 0 | AL29: =IF(ISBLANK(X29),IF(ISBLANK(T29),D29,T29))
A30: 26 | D30: =IF(ISBLANK(C30),"",VLOOKUP(MONTH(C30),'Paramètres de choix'!$H$8:$I$19,2,0)) | N30: =+IF(ISBLANK(F30),"",1) | AC30: =IF(ISBLANK(Q30),O30,Q30) -> 0 | AD30: =IF(ISBLANK(R30),P30,R30) -> 0 | AE30: =IF(ISERROR(AC30*AD30),"",AC30*AD30) -> 0 | AF30: =IF(ISBLANK(T30),D30,T30) | AG30: =IF(ISBLANK(V30),U30,V30) -> 0 | AH30: =IF(ISBLANK(X30),T30,X30) -> 0 | AI30: =Y30 -> 0 | AJ30: =X30 -> 0 | AK30: =Z30 -> 0 | AL30: =IF(ISBLANK(X30),IF(ISBLANK(T30),D30,T30))
A31: 27 | D31: =IF(ISBLANK(C31),"",VLOOKUP(MONTH(C31),'Paramètres de choix'!$H$8:$I$19,2,0)) | N31: =+IF(ISBLANK(F31),"",1) | AC31: =IF(ISBLANK(Q31),O31,Q31) -> 0 | AD31: =IF(ISBLANK(R31),P31,R31) -> 0 | AE31: =IF(ISERROR(AC31*AD31),"",AC31*AD31) -> 0 | AF31: =IF(ISBLANK(T31),D31,T31) | AG31: =IF(ISBLANK(V31),U31,V31) -> 0 | AH31: =IF(ISBLANK(X31),T31,X31) -> 0 | AI31: =Y31 -> 0 | AJ31: =X31 -> 0 | AK31: =Z31 -> 0 | AL31: =IF(ISBLANK(X31),IF(ISBLANK(T31),D31,T31))
A32: 28 | D32: =IF(ISBLANK(C32),"",VLOOKUP(MONTH(C32),'Paramètres de choix'!$H$8:$I$19,2,0)) | N32: =+IF(ISBLANK(F32),"",1) | AC32: =IF(ISBLANK(Q32),O32,Q32) -> 0 | AD32: =IF(ISBLANK(R32),P32,R32) -> 0 | AE32: =IF(ISERROR(AC32*AD32),"",AC32*AD32) -> 0 | AF32: =IF(ISBLANK(T32),D32,T32) | AG32: =IF(ISBLANK(V32),U32,V32) -> 0 | AH32: =IF(ISBLANK(X32),T32,X32) -> 0 | AI32: =Y32 -> 0 | AJ32: =X32 -> 0 | AK32: =Z32 -> 0 | AL32: =IF(ISBLANK(X32),IF(ISBLANK(T32),D32,T32))
A33: 29 | D33: =IF(ISBLANK(C33),"",VLOOKUP(MONTH(C33),'Paramètres de choix'!$H$8:$I$19,2,0)) | N33: =+IF(ISBLANK(F33),"",1) | AC33: =IF(ISBLANK(Q33),O33,Q33) -> 0 | AD33: =IF(ISBLANK(R33),P33,R33) -> 0 | AE33: =IF(ISERROR(AC33*AD33),"",AC33*AD33) -> 0 | AF33: =IF(ISBLANK(T33),D33,T33) | AG33: =IF(ISBLANK(V33),U33,V33) -> 0 | AH33: =IF(ISBLANK(X33),T33,X33) -> 0 | AI33: =Y33 -> 0 | AJ33: =X33 -> 0 | AK33: =Z33 -> 0 | AL33: =IF(ISBLANK(X33),IF(ISBLANK(T33),D33,T33))
A34: 30 | D34: =IF(ISBLANK(C34),"",VLOOKUP(MONTH(C34),'Paramètres de choix'!$H$8:$I$19,2,0)) | N34: =+IF(ISBLANK(F34),"",1) | AC34: =IF(ISBLANK(Q34),O34,Q34) -> 0 | AD34: =IF(ISBLANK(R34),P34,R34) -> 0 | AE34: =IF(ISERROR(AC34*AD34),"",AC34*AD34) -> 0 | AF34: =IF(ISBLANK(T34),D34,T34) | AG34: =IF(ISBLANK(V34),U34,V34) -> 0 | AH34: =IF(ISBLANK(X34),T34,X34) -> 0 | AI34: =Y34 -> 0 | AJ34: =X34 -> 0 | AK34: =Z34 -> 0 | AL34: =IF(ISBLANK(X34),IF(ISBLANK(T34),D34,T34))
A35: 31 | D35: =IF(ISBLANK(C35),"",VLOOKUP(MONTH(C35),'Paramètres de choix'!$H$8:$I$19,2,0)) | N35: =+IF(ISBLANK(F35),"",1) | AC35: =IF(ISBLANK(Q35),O35,Q35) -> 0 | AD35: =IF(ISBLANK(R35),P35,R35) -> 0 | AE35: =IF(ISERROR(AC35*AD35),"",AC35*AD35) -> 0 | AF35: =IF(ISBLANK(T35),D35,T35) | AG35: =IF(ISBLANK(V35),U35,V35) -> 0 | AH35: =IF(ISBLANK(X35),T35,X35) -> 0 | AI35: =Y35 -> 0 | AJ35: =X35 -> 0 | AK35: =Z35 -> 0 | AL35: =IF(ISBLANK(X35),IF(ISBLANK(T35),D35,T35))
A36: 32 | D36: =IF(ISBLANK(C36),"",VLOOKUP(MONTH(C36),'Paramètres de choix'!$H$8:$I$19,2,0)) | N36: =+IF(ISBLANK(F36),"",1) | AC36: =IF(ISBLANK(Q36),O36,Q36) -> 0 | AD36: =IF(ISBLANK(R36),P36,R36) -> 0 | AE36: =IF(ISERROR(AC36*AD36),"",AC36*AD36) -> 0 | AF36: =IF(ISBLANK(T36),D36,T36) | AG36: =IF(ISBLANK(V36),U36,V36) -> 0 | AH36: =IF(ISBLANK(X36),T36,X36) -> 0 | AI36: =Y36 -> 0 | AJ36: =X36 -> 0 | AK36: =Z36 -> 0 | AL36: =IF(ISBLANK(X36),IF(ISBLANK(T36),D36,T36))
A37: 33 | D37: =IF(ISBLANK(C37),"",VLOOKUP(MONTH(C37),'Paramètres de choix'!$H$8:$I$19,2,0)) | N37: =+IF(ISBLANK(F37),"",1) | AC37: =IF(ISBLANK(Q37),O37,Q37) -> 0 | AD37: =IF(ISBLANK(R37),P37,R37) -> 0 | AE37: =IF(ISERROR(AC37*AD37),"",AC37*AD37) -> 0 | AF37: =IF(ISBLANK(T37),D37,T37) | AG37: =IF(ISBLANK(V37),U37,V37) -> 0 | AH37: =IF(ISBLANK(X37),T37,X37) -> 0 | AI37: =Y37 -> 0 | AJ37: =X37 -> 0 | AK37: =Z37 -> 0 | AL37: =IF(ISBLANK(X37),IF(ISBLANK(T37),D37,T37))
A38: 34 | D38: =IF(ISBLANK(C38),"",VLOOKUP(MONTH(C38),'Paramètres de choix'!$H$8:$I$19,2,0)) | N38: =+IF(ISBLANK(F38),"",1) | AC38: =IF(ISBLANK(Q38),O38,Q38) -> 0 | AD38: =IF(ISBLANK(R38),P38,R38) -> 0 | AE38: =IF(ISERROR(AC38*AD38),"",AC38*AD38) -> 0 | AF38: =IF(ISBLANK(T38),D38,T38) | AG38: =IF(ISBLANK(V38),U38,V38) -> 0 | AH38: =IF(ISBLANK(X38),T38,X38) -> 0 | AI38: =Y38 -> 0 | AJ38: =X38 -> 0 | AK38: =Z38 -> 0 | AL38: =IF(ISBLANK(X38),IF(ISBLANK(T38),D38,T38))
A39: 35 | D39: =IF(ISBLANK(C39),"",VLOOKUP(MONTH(C39),'Paramètres de choix'!$H$8:$I$19,2,0)) | N39: =+IF(ISBLANK(F39),"",1) | AC39: =IF(ISBLANK(Q39),O39,Q39) -> 0 | AD39: =IF(ISBLANK(R39),P39,R39) -> 0 | AE39: =IF(ISERROR(AC39*AD39),"",AC39*AD39) -> 0 | AF39: =IF(ISBLANK(T39),D39,T39) | AG39: =IF(ISBLANK(V39),U39,V39) -> 0 | AH39: =IF(ISBLANK(X39),T39,X39) -> 0 | AI39: =Y39 -> 0 | AJ39: =X39 -> 0 | AK39: =Z39 -> 0 | AL39: =IF(ISBLANK(X39),IF(ISBLANK(T39),D39,T39))
... A271: 267 | D271: =IF(ISBLANK(C271),"",VLOOKUP(MONTH(C271),'Paramètres de choix'!$H$8:$I$19,2,0)) | N271: =+IF(ISBLANK(F271),"",1) | AC271: =IF(ISBLANK(Q271),O271,Q271) -> 0 | AD271: =IF(ISBLANK(R271),P271,R271) -> 0 | AE271: =IF(ISERROR(AC271*AD271),"",AC271*AD271) -> 0 | AF271: =IF(ISBLANK(T271),D271,T271) | AG271: =IF(ISBLANK(V271),U271,V271) -> 0 | AH271: =IF(ISBLANK(X271),T271,X271) -> 0 | AI271: =Y271 -> 0 | AJ271: =X271 -> 0 | AK271: =Z271 -> 0 | AL271: =IF(ISBLANK(X271),IF(ISBLANK(T271),D271,T271))
A272: 268 | D272: =IF(ISBLANK(C272),"",VLOOKUP(MONTH(C272),'Paramètres de choix'!$H$8:$I$19,2,0)) | N272: =+IF(ISBLANK(F272),"",1)
A273: 269

Sheet Feuil1
D7: Sélectionnez nom commercial : | G7: PM
A11: PROJETS SIGNES
B12: JANVIER | C12: FEVRIER | D12: MARS | E12: AVRIL | F12: MAI | G12: JUIN | H12: JUILLET | I12: AOUT | J12: SEPTEMBRE | K12: OCTOBRE | L12: NOVEMBRE | M12: DECEMBRE | N12: TOTAL | O12: Pourcentage
A13: ANCIEN CLIENT | N13: =SUM(B13:M13) -> 0 | O13: =IF(ISERROR(N13/$N$16),"",N13/$N$16)
A14: CLIENT ACTIF | N14: =SUM(B14:M14) -> 0 | O14: =IF(ISERROR(N14/$N$16),"",N14/$N$16)
A15: PROSPECT | N15: =SUM(B15:M15) -> 0 | O15: =IF(ISERROR(N15/$N$16),"",N15/$N$16)
A16: TOTAL | B16: =SUM(B13:B15) -> 0 | C16: =SUM(C13:C14) -> 0 | D16: =SUM(D13:D14) -> 0 | E16: =SUM(E13:E14) -> 0 | F16: =SUM(F13:F14) -> 0 | G16: =SUM(G13:G14) -> 0 | H16: =SUM(H13:H14) -> 0 | I16: =SUM(I13:I14) -> 0 | J16: =SUM(J13:J14) -> 0 | ... M16: =SUM(M13:M14) -> 0 | N16: =SUM(N13:N15) -> 0 | O16: =SUM(O13:O15) -> 0
