Workbook

Sheet Master long
G1: DÉTAILLÉ DU DÉPÔT
F3: Type de transaction : COMPTANT
A5: Date : | B5: =TODAY() -> 43499
A6: Dépôt no : | B6: 155
A9: SOUTIEN INFORMATIQUE
A12: # reçu | B12: Description | C12: 14113-986 | D12: 14113-982 | E12: 14113-983 | F12: 21273-982 | G12: 14901-982 | H12: 14113-948 | I12: 14113-948 | J12: 14113-945 | K12: Total
C13: Dépôt remboursable | D13: Matériel didactique | E13: Agenda | F13: Imprimerie | G13: Visite entreprise transport | H13: Assurances | I13: Ouverture dossier étranger | J13: Dépassement
C14: 200 | D14: 55 | E14: 20 | F14: 120 | G14: 20 | I14: 200
A15: 555888 | B15: l | C15: =IFERROR(IF(B15<>"","200.00$","")*1,"") -> 200 | D15: =IFERROR(IF(B15<>"","55.00$","")*1,"") -> 55 | E15: =IFERROR(IF(B15<>"","20.00$","")*1,"") -> 20 | F15: =IFERROR(IF(B15<>"","120.00$","")*1,"") -> 120 | G15: =IFERROR(IF(B15<>"","20.00$","")*1,"") -> 20 | K15: =SUM(C15:J15) -> 415
A16: 15-09-2019 | B16: k | C16: =IFERROR(IF(B16<>"","200.00$","")*1,"") -> 200 | D16: =IFERROR(IF(B16<>"","55.00$","")*1,"") -> 55 | E16: =IFERROR(IF(B16<>"","20.00$","")*1,"") -> 20 | F16: =IFERROR(IF(B16<>"","120.00$","")*1,"") -> 120 | G16: =IFERROR(IF(B16<>"","20.00$","")*1,"") -> 20 | K16: =SUM(C16:J16) -> 415
A17: 222111 | B17: k | C17: =IFERROR(IF(B17<>"","200.00$","")*1,"") -> 200 | D17: =IFERROR(IF(B17<>"","55.00$","")*1,"") -> 55 | E17: =IFERROR(IF(B17<>"","20.00$","")*1,"") -> 20 | F17: =IFERROR(IF(B17<>"","120.00$","")*1,"") -> 120 | G17: =IFERROR(IF(B17<>"","20.00$","")*1,"") -> 20 | K17: =SUM(C17:J17) -> 415
A18: 2232332323 | B18: k | C18: =IFERROR(IF(B18<>"","200.00$","")*1,"") -> 200 | D18: =IFERROR(IF(B18<>"","55.00$","")*1,"") -> 55 | E18: =IFERROR(IF(B18<>"","20.00$","")*1,"") -> 20 | F18: =IFERROR(IF(B18<>"","120.00$","")*1,"") -> 120 | G18: =IFERROR(IF(B18<>"","20.00$","")*1,"") -> 20 | K18: =SUM(C18:J18) -> 415
A19: 43723 | B19: k | C19: =IFERROR(IF(B19<>"","200.00$","")*1,"") -> 200 | D19: =IFERROR(IF(B19<>"","55.00$","")*1,"") -> 55 | E19: =IFERROR(IF(B19<>"","20.00$","")*1,"") -> 20 | F19: =IFERROR(IF(B19<>"","120.00$","")*1,"") -> 120 | G19: =IFERROR(IF(B19<>"","20.00$","")*1,"") -> 20 | K19: =SUM(C19:J19) -> 415
B20: k | C20: =IFERROR(IF(B20<>"","200.00$","")*1,"") -> 200 | D20: =IFERROR(IF(B20<>"","55.00$","")*1,"") -> 55 | E20: =IFERROR(IF(B20<>"","20.00$","")*1,"") -> 20 | F20: =IFERROR(IF(B20<>"","120.00$","")*1,"") -> 120 | G20: =IFERROR(IF(B20<>"","20.00$","")*1,"") -> 20 | K20: =SUM(C20:J20) -> 415
B21: O | C21: =IFERROR(IF(B21<>"","200.00$","")*1,"") -> 200 | D21: =IFERROR(IF(B21<>"","55.00$","")*1,"") -> 55 | E21: =IFERROR(IF(B21<>"","20.00$","")*1,"") -> 20 | F21: =IFERROR(IF(B21<>"","120.00$","")*1,"") -> 120 | G21: =IFERROR(IF(B21<>"","20.00$","")*1,"") -> 20 | K21: =SUM(C21:J21) -> 415
B22: O | C22: =IFERROR(IF(B22<>"","200.00$","")*1,"") -> 200 | D22: =IFERROR(IF(B22<>"","55.00$","")*1,"") -> 55 | E22: =IFERROR(IF(B22<>"","20.00$","")*1,"") -> 20 | F22: =IFERROR(IF(B22<>"","120.00$","")*1,"") -> 120 | G22: =IFERROR(IF(B22<>"","20.00$","")*1,"") -> 20 | K22: =SUM(C22:J22) -> 415
B23: O | C23: =IFERROR(IF(B23<>"","200.00$","")*1,"") -> 200 | D23: =IFERROR(IF(B23<>"","55.00$","")*1,"") -> 55 | E23: =IFERROR(IF(B23<>"","20.00$","")*1,"") -> 20 | F23: =IFERROR(IF(B23<>"","120.00$","")*1,"") -> 120 | G23: =IFERROR(IF(B23<>"","20.00$","")*1,"") -> 20 | K23: =SUM(C23:J23) -> 415
B24: O | C24: =IFERROR(IF(B24<>"","200.00$","")*1,"") -> 200 | D24: =IFERROR(IF(B24<>"","55.00$","")*1,"") -> 55 | E24: =IFERROR(IF(B24<>"","20.00$","")*1,"") -> 20 | F24: =IFERROR(IF(B24<>"","120.00$","")*1,"") -> 120 | G24: =IFERROR(IF(B24<>"","20.00$","")*1,"") -> 20 | K24: =SUM(C24:J24) -> 415
B25: O | C25: =IFERROR(IF(B25<>"","200.00$","")*1,"") -> 200 | D25: =IFERROR(IF(B25<>"","55.00$","")*1,"") -> 55 | E25: =IFERROR(IF(B25<>"","20.00$","")*1,"") -> 20 | F25: =IFERROR(IF(B25<>"","120.00$","")*1,"") -> 120 | G25: =IFERROR(IF(B25<>"","20.00$","")*1,"") -> 20 | K25: =SUM(C25:J25) -> 415
B26: O | C26: =IFERROR(IF(B26<>"","200.00$","")*1,"") -> 200 | D26: =IFERROR(IF(B26<>"","55.00$","")*1,"") -> 55 | E26: =IFERROR(IF(B26<>"","20.00$","")*1,"") -> 20 | F26: =IFERROR(IF(B26<>"","120.00$","")*1,"") -> 120 | G26: =IFERROR(IF(B26<>"","20.00$","")*1,"") -> 20 | K26: =SUM(C26:J26) -> 415
B27: O | C27: =IFERROR(IF(B27<>"","200.00$","")*1,"") -> 200 | D27: =IFERROR(IF(B27<>"","55.00$","")*1,"") -> 55 | E27: =IFERROR(IF(B27<>"","20.00$","")*1,"") -> 20 | F27: =IFERROR(IF(B27<>"","120.00$","")*1,"") -> 120 | G27: =IFERROR(IF(B27<>"","20.00$","")*1,"") -> 20 | K27: =SUM(C27:J27) -> 415
B28: k | C28: =IFERROR(IF(B28<>"","200.00$","")*1,"") -> 200 | D28: =IFERROR(IF(B28<>"","55.00$","")*1,"") -> 55 | E28: =IFERROR(IF(B28<>"","20.00$","")*1,"") -> 20 | F28: =IFERROR(IF(B28<>"","120.00$","")*1,"") -> 120 | G28: =IFERROR(IF(B28<>"","20.00$","")*1,"") -> 20 | K28: =SUM(C28:J28) -> 415
B29: k | C29: =IFERROR(IF(B29<>"","200.00$","")*1,"") -> 200 | D29: =IFERROR(IF(B29<>"","55.00$","")*1,"") -> 55 | E29: =IFERROR(IF(B29<>"","20.00$","")*1,"") -> 20 | F29: =IFERROR(IF(B29<>"","120.00$","")*1,"") -> 120 | G29: =IFERROR(IF(B29<>"","20.00$","")*1,"") -> 20 | K29: =SUM(C29:J29) -> 415
B30: k | C30: =IFERROR(IF(B30<>"","200.00$","")*1,"") -> 200 | D30: =IFERROR(IF(B30<>"","55.00$","")*1,"") -> 55 | E30: =IFERROR(IF(B30<>"","20.00$","")*1,"") -> 20 | F30: =IFERROR(IF(B30<>"","120.00$","")*1,"") -> 120 | G30: =IFERROR(IF(B30<>"","20.00$","")*1,"") -> 20 | K30: =SUM(C30:J30) -> 415
B31: k | C31: =IFERROR(IF(B31<>"","200.00$","")*1,"") -> 200 | D31: =IFERROR(IF(B31<>"","55.00$","")*1,"") -> 55 | E31: =IFERROR(IF(B31<>"","20.00$","")*1,"") -> 20 | F31: =IFERROR(IF(B31<>"","120.00$","")*1,"") -> 120 | G31: =IFERROR(IF(B31<>"","20.00$","")*1,"") -> 20 | K31: =SUM(C31:J31) -> 415
B33: TOTAL : | C33: =SUM(C15:C32) -> 3400 | D33: =SUM(D15:D32) -> 935 | E33: =SUM(E15:E32) -> 340 | F33: =SUM(F15:F32) -> 2040 | G33: =SUM(G15:G32) -> 340 | H33: =SUM(H15:H32) -> 0 | I33: =SUM(I15:I32) -> 0 | J33: =SUM(J15:J32) -> 0 | K33: =SUM(K15:K32) -> 7055

Sheet Master court
C1: DÉTAILLÉ DU DÉPÔT
C3: Type de transaction : COMPTANT
A5: Date : | B5: =TODAY() -> 43499
A6: Dépôt no :
A9: COIFFURE
A12: # reçu | B12: Description | C12: 14631-982 | D12: 14631-983 | E12: 21270-982 | F12: 14631-980 | G12: Total
C13: Matériel didactique | D13: Agenda | E13: Imprimerie | F13: Trousse achat AC
C14: 743 | D14: 20 | E14: 70
C15: =IFERROR(IF(B15<>"","743.00$","")*1,"") | D15: =IFERROR(IF(B15<>"","20.00$","")*1,"") | E15: =IFERROR(IF(B15<>"","70.00$","")*1,"") | G15: =SUM(C15:F15) -> 0
C16: =IFERROR(IF(B16<>"","743.00$","")*1,"") | D16: =IFERROR(IF(B16<>"","20.00$","")*1,"") | E16: =IFERROR(IF(B16<>"","70.00$","")*1,"") | G16: =SUM(C16:F16) -> 0
C17: =IFERROR(IF(B17<>"","743.00$","")*1,"") | D17: =IFERROR(IF(B17<>"","20.00$","")*1,"") | E17: =IFERROR(IF(B17<>"","70.00$","")*1,"") | G17: =SUM(C17:F17) -> 0
C18: =IFERROR(IF(B18<>"","743.00$","")*1,"") | D18: =IFERROR(IF(B18<>"","20.00$","")*1,"") | E18: =IFERROR(IF(B18<>"","70.00$","")*1,"") | G18: =SUM(C18:F18) -> 0
C19: =IFERROR(IF(B19<>"","743.00$","")*1,"") | D19: =IFERROR(IF(B19<>"","20.00$","")*1,"") | E19: =IFERROR(IF(B19<>"","70.00$","")*1,"") | G19: =SUM(C19:F19) -> 0
C20: =IFERROR(IF(B20<>"","743.00$","")*1,"") | D20: =IFERROR(IF(B20<>"","20.00$","")*1,"") | E20: =IFERROR(IF(B20<>"","70.00$","")*1,"") | G20: =SUM(C20:F20) -> 0
C21: =IFERROR(IF(B21<>"","743.00$","")*1,"") | D21: =IFERROR(IF(B21<>"","20.00$","")*1,"") | E21: =IFERROR(IF(B21<>"","70.00$","")*1,"") | G21: =SUM(C21:F21) -> 0
C22: =IFERROR(IF(B22<>"","743.00$","")*1,"") | D22: =IFERROR(IF(B22<>"","20.00$","")*1,"") | E22: =IFERROR(IF(B22<>"","70.00$","")*1,"") | G22: =SUM(C22:F22) -> 0
C23: =IFERROR(IF(B23<>"","743.00$","")*1,"") | D23: =IFERROR(IF(B23<>"","20.00$","")*1,"") | E23: =IFERROR(IF(B23<>"","70.00$","")*1,"") | G23: =SUM(C23:F23) -> 0
C24: =IFERROR(IF(B24<>"","743.00$","")*1,"") | D24: =IFERROR(IF(B24<>"","20.00$","")*1,"") | E24: =IFERROR(IF(B24<>"","70.00$","")*1,"") | G24: =SUM(C24:F24) -> 0
C25: =IFERROR(IF(B25<>"","743.00$","")*1,"") | D25: =IFERROR(IF(B25<>"","20.00$","")*1,"") | E25: =IFERROR(IF(B25<>"","70.00$","")*1,"") | G25: =SUM(C25:F25) -> 0
C26: =IFERROR(IF(B26<>"","743.00$","")*1,"") | D26: =IFERROR(IF(B26<>"","20.00$","")*1,"") | E26: =IFERROR(IF(B26<>"","70.00$","")*1,"") | G26: =SUM(C26:F26) -> 0
B28: TOTAL : | C28: =SUM(C15:C27) -> 0 | D28: =SUM(D15:D27) -> 0 | E28: =SUM(E15:E27) -> 0 | F28: =SUM(F15:F27) -> 0 | G28: =SUM(G15:G27) -> 0

Sheet Coiffure
C1: DÉTAILLÉ DU DÉPÔT
C3: Type de transaction : COMPTANT
A5: Date : | B5: =TODAY() -> 43499
A6: Dépôt no :
A9: COIFFURE
A12: # reçu | B12: Description | C12: 14631-982 | D12: 14631-983 | E12: 21270-982 | F12: 14631-980 | G12: Total
C13: Matériel didactique | D13: Agenda | E13: Imprimerie | F13: Trousse achat AC
C14: 743 | D14: 20 | E14: 70
C15: =IFERROR(IF(B15<>"","743.00$","")*1,"") | D15: =IFERROR(IF(B15<>"","20.00$","")*1,"") | E15: =IFERROR(IF(B15<>"","70.00$","")*1,"") | G15: =SUM(C15:F15) -> 0
C16: =IFERROR(IF(B16<>"","743.00$","")*1,"") | D16: =IFERROR(IF(B16<>"","20.00$","")*1,"") | E16: =IFERROR(IF(B16<>"","70.00$","")*1,"") | G16: =SUM(C16:F16) -> 0
C17: =IFERROR(IF(B17<>"","743.00$","")*1,"") | D17: =IFERROR(IF(B17<>"","20.00$","")*1,"") | E17: =IFERROR(IF(B17<>"","70.00$","")*1,"") | G17: =SUM(C17:F17) -> 0
C18: =IFERROR(IF(B18<>"","743.00$","")*1,"") | D18: =IFERROR(IF(B18<>"","20.00$","")*1,"") | E18: =IFERROR(IF(B18<>"","70.00$","")*1,"") | G18: =SUM(C18:F18) -> 0
C19: =IFERROR(IF(B19<>"","743.00$","")*1,"") | D19: =IFERROR(IF(B19<>"","20.00$","")*1,"") | E19: =IFERROR(IF(B19<>"","70.00$","")*1,"") | G19: =SUM(C19:F19) -> 0
C20: =IFERROR(IF(B20<>"","743.00$","")*1,"") | D20: =IFERROR(IF(B20<>"","20.00$","")*1,"") | E20: =IFERROR(IF(B20<>"","70.00$","")*1,"") | G20: =SUM(C20:F20) -> 0
C21: =IFERROR(IF(B21<>"","743.00$","")*1,"") | D21: =IFERROR(IF(B21<>"","20.00$","")*1,"") | E21: =IFERROR(IF(B21<>"","70.00$","")*1,"") | G21: =SUM(C21:F21) -> 0
C22: =IFERROR(IF(B22<>"","743.00$","")*1,"") | D22: =IFERROR(IF(B22<>"","20.00$","")*1,"") | E22: =IFERROR(IF(B22<>"","70.00$","")*1,"") | G22: =SUM(C22:F22) -> 0
C23: =IFERROR(IF(B23<>"","743.00$","")*1,"") | D23: =IFERROR(IF(B23<>"","20.00$","")*1,"") | E23: =IFERROR(IF(B23<>"","70.00$","")*1,"") | G23: =SUM(C23:F23) -> 0
C24: =IFERROR(IF(B24<>"","743.00$","")*1,"") | D24: =IFERROR(IF(B24<>"","20.00$","")*1,"") | E24: =IFERROR(IF(B24<>"","70.00$","")*1,"") | G24: =SUM(C24:F24) -> 0
C25: =IFERROR(IF(B25<>"","743.00$","")*1,"") | D25: =IFERROR(IF(B25<>"","20.00$","")*1,"") | E25: =IFERROR(IF(B25<>"","70.00$","")*1,"") | G25: =SUM(C25:F25) -> 0
C26: =IFERROR(IF(B26<>"","743.00$","")*1,"") | D26: =IFERROR(IF(B26<>"","20.00$","")*1,"") | E26: =IFERROR(IF(B26<>"","70.00$","")*1,"") | G26: =SUM(C26:F26) -> 0
B28: TOTAL : | C28: =SUM(C15:C27) -> 0 | D28: =SUM(D15:D27) -> 0 | E28: =SUM(E15:E27) -> 0 | F28: =SUM(F15:F27) -> 0 | G28: =SUM(G15:G27) -> 0

Sheet Soutien informatique
G1: DÉTAILLÉ DU DÉPÔT
F3: Type de transaction : COMPTANT
A5: Date : | B5: =TODAY() -> 43499
A6: Dépôt no : | B6: =Coiffure!B6 -> 0
A9: SOUTIEN INFORMATIQUE
A12: # reçu | B12: Description | C12: 14113-986 | D12: 14113-982 | E12: 14113-983 | F12: 21273-982 | G12: 14901-982 | H12: 14113-948 | I12: 14113-948 | J12: 14113-945 | K12: Total
C13: Dépôt remboursable | D13: Matériel didactique | E13: Agenda | F13: Imprimerie | G13: Visite entreprise transport | H13: Assurances | I13: Ouverture dossier étranger | J13: Dépassement
C14: 200 | D14: 55 | E14: 20 | F14: 120 | G14: 20 | I14: 200
C15: =IFERROR(IF(B15<>"","200.00$","")*1,"") | D15: =IFERROR(IF(B15<>"","55.00$","")*1,"") | E15: =IFERROR(IF(B15<>"","20.00$","")*1,"") | F15: =IFERROR(IF(B15<>"","120.00$","")*1,"") | G15: =IFERROR(IF(B15<>"","20.00$","")*1,"") | K15: =SUM(C15:J15) -> 0
C16: =IFERROR(IF(B16<>"","200.00$","")*1,"") | D16: =IFERROR(IF(B16<>"","55.00$","")*1,"") | E16: =IFERROR(IF(B16<>"","20.00$","")*1,"") | F16: =IFERROR(IF(B16<>"","120.00$","")*1,"") | G16: =IFERROR(IF(B16<>"","20.00$","")*1,"") | K16: =SUM(C16:J16) -> 0
C17: =IFERROR(IF(B17<>"","200.00$","")*1,"") | D17: =IFERROR(IF(B17<>"","55.00$","")*1,"") | E17: =IFERROR(IF(B17<>"","20.00$","")*1,"") | F17: =IFERROR(IF(B17<>"","120.00$","")*1,"") | G17: =IFERROR(IF(B17<>"","20.00$","")*1,"") | K17: =SUM(C17:J17) -> 0
C18: =IFERROR(IF(B18<>"","200.00$","")*1,"") | D18: =IFERROR(IF(B18<>"","55.00$","")*1,"") | E18: =IFERROR(IF(B18<>"","20.00$","")*1,"") | F18: =IFERROR(IF(B18<>"","120.00$","")*1,"") | G18: =IFERROR(IF(B18<>"","20.00$","")*1,"") | K18: =SUM(C18:J18) -> 0
C19: =IFERROR(IF(B19<>"","200.00$","")*1,"") | D19: =IFERROR(IF(B19<>"","55.00$","")*1,"") | E19: =IFERROR(IF(B19<>"","20.00$","")*1,"") | F19: =IFERROR(IF(B19<>"","120.00$","")*1,"") | G19: =IFERROR(IF(B19<>"","20.00$","")*1,"") | K19: =SUM(C19:J19) -> 0
C20: =IFERROR(IF(B20<>"","200.00$","")*1,"") | D20: =IFERROR(IF(B20<>"","55.00$","")*1,"") | E20: =IFERROR(IF(B20<>"","20.00$","")*1,"") | F20: =IFERROR(IF(B20<>"","120.00$","")*1,"") | G20: =IFERROR(IF(B20<>"","20.00$","")*1,"") | K20: =SUM(C20:J20) -> 0
C21: =IFERROR(IF(B21<>"","200.00$","")*1,"") | D21: =IFERROR(IF(B21<>"","55.00$","")*1,"") | E21: =IFERROR(IF(B21<>"","20.00$","")*1,"") | F21: =IFERROR(IF(B21<>"","120.00$","")*1,"") | G21: =IFERROR(IF(B21<>"","20.00$","")*1,"") | K21: =SUM(C21:J21) -> 0
C22: =IFERROR(IF(B22<>"","200.00$","")*1,"") | D22: =IFERROR(IF(B22<>"","55.00$","")*1,"") | E22: =IFERROR(IF(B22<>"","20.00$","")*1,"") | F22: =IFERROR(IF(B22<>"","120.00$","")*1,"") | G22: =IFERROR(IF(B22<>"","20.00$","")*1,"") | K22: =SUM(C22:J22) -> 0
C23: =IFERROR(IF(B23<>"","200.00$","")*1,"") | D23: =IFERROR(IF(B23<>"","55.00$","")*1,"") | E23: =IFERROR(IF(B23<>"","20.00$","")*1,"") | F23: =IFERROR(IF(B23<>"","120.00$","")*1,"") | G23: =IFERROR(IF(B23<>"","20.00$","")*1,"") | K23: =SUM(C23:J23) -> 0
C24: =IFERROR(IF(B24<>"","200.00$","")*1,"") | D24: =IFERROR(IF(B24<>"","55.00$","")*1,"") | E24: =IFERROR(IF(B24<>"","20.00$","")*1,"") | F24: =IFERROR(IF(B24<>"","120.00$","")*1,"") | G24: =IFERROR(IF(B24<>"","20.00$","")*1,"") | K24: =SUM(C24:J24) -> 0
C25: =IFERROR(IF(B25<>"","200.00$","")*1,"") | D25: =IFERROR(IF(B25<>"","55.00$","")*1,"") | E25: =IFERROR(IF(B25<>"","20.00$","")*1,"") | F25: =IFERROR(IF(B25<>"","120.00$","")*1,"") | G25: =IFERROR(IF(B25<>"","20.00$","")*1,"") | K25: =SUM(C25:J25) -> 0
C26: =IFERROR(IF(B26<>"","200.00$","")*1,"") | D26: =IFERROR(IF(B26<>"","55.00$","")*1,"") | E26: =IFERROR(IF(B26<>"","20.00$","")*1,"") | F26: =IFERROR(IF(B26<>"","120.00$","")*1,"") | G26: =IFERROR(IF(B26<>"","20.00$","")*1,"") | K26: =SUM(C26:J26) -> 0
... C31: =IFERROR(IF(B31<>"","200.00$","")*1,"") | D31: =IFERROR(IF(B31<>"","55.00$","")*1,"") | E31: =IFERROR(IF(B31<>"","20.00$","")*1,"") | F31: =IFERROR(IF(B31<>"","120.00$","")*1,"") | G31: =IFERROR(IF(B31<>"","20.00$","")*1,"") | K31: =SUM(C31:J31) -> 0
B33: TOTAL : | C33: =SUM(C15:C32) -> 0 | D33: =SUM(D15:D32) -> 0 | E33: =SUM(E15:E32) -> 0 | F33: =SUM(F15:F32) -> 0 | G33: =SUM(G15:G32) -> 0 | H33: =SUM(H15:H32) -> 0 | I33: =SUM(I15:I32) -> 0 | J33: =SUM(J15:J32) -> 0 | K33: =SUM(K15:K32) -> 0

Sheet Vente-conseil
C1: DÉTAILLÉ DU DÉPÔT
C3: Type de transaction : COMPTANT
A5: Date : | B5: =TODAY() -> 43499
A6: Dépôt no : | B6: =IF('Soutien informatique'!B6="","",'Soutien informatique'!B6) -> 0
A9: VENTE-CONSEIL
A12: # reçu | B12: Description | C12: 21271-982 | D12: 14116-982 | E12: 14116-983 | F12: 79001-980 | G12: 14116-948 | H12: Total
C13: Reprographie | D13: Matériel didactique | E13: Agenda | F13: projet quotepart | G13: Droit scolarité étudiant étranger
C14: 60 | D14: 178 | E14: 10 | F14: 2
C15: =IFERROR(IF(B15<>"","60.00$","")*1,"") | D15: =IFERROR(IF(B15<>"","178.00$","")*1,"") | E15: =IFERROR(IF(B15<>"","10.00$","")*1,"") | H15: =SUM(C15:G15) -> 0
C16: =IFERROR(IF(B16<>"","60.00$","")*1,"") | D16: =IFERROR(IF(B16<>"","178.00$","")*1,"") | E16: =IFERROR(IF(B16<>"","10.00$","")*1,"") | H16: =SUM(C16:G16) -> 0
C17: =IFERROR(IF(B17<>"","60.00$","")*1,"") | D17: =IFERROR(IF(B17<>"","178.00$","")*1,"") | E17: =IFERROR(IF(B17<>"","10.00$","")*1,"") | H17: =SUM(C17:G17) -> 0
C18: =IFERROR(IF(B18<>"","60.00$","")*1,"") | D18: =IFERROR(IF(B18<>"","178.00$","")*1,"") | E18: =IFERROR(IF(B18<>"","10.00$","")*1,"") | H18: =SUM(C18:G18) -> 0
C19: =IFERROR(IF(B19<>"","60.00$","")*1,"") | D19: =IFERROR(IF(B19<>"","178.00$","")*1,"") | E19: =IFERROR(IF(B19<>"","10.00$","")*1,"") | H19: =SUM(C19:G19) -> 0
C20: =IFERROR(IF(B20<>"","60.00$","")*1,"") | D20: =IFERROR(IF(B20<>"","178.00$","")*1,"") | E20: =IFERROR(IF(B20<>"","10.00$","")*1,"") | H20: =SUM(C20:G20) -> 0
C21: =IFERROR(IF(B21<>"","60.00$","")*1,"") | D21: =IFERROR(IF(B21<>"","178.00$","")*1,"") | E21: =IFERROR(IF(B21<>"","10.00$","")*1,"") | H21: =SUM(C21:G21) -> 0
C22: =IFERROR(IF(B22<>"","60.00$","")*1,"") | D22: =IFERROR(IF(B22<>"","178.00$","")*1,"") | E22: =IFERROR(IF(B22<>"","10.00$","")*1,"") | H22: =SUM(C22:G22) -> 0
C23: =IFERROR(IF(B23<>"","60.00$","")*1,"") | D23: =IFERROR(IF(B23<>"","178.00$","")*1,"") | E23: =IFERROR(IF(B23<>"","10.00$","")*1,"") | H23: =SUM(C23:G23) -> 0
C24: =IFERROR(IF(B24<>"","60.00$","")*1,"") | D24: =IFERROR(IF(B24<>"","178.00$","")*1,"") | E24: =IFERROR(IF(B24<>"","10.00$","")*1,"") | H24: =SUM(C24:G24) -> 0
C25: =IFERROR(IF(B25<>"","60.00$","")*1,"") | D25: =IFERROR(IF(B25<>"","178.00$","")*1,"") | E25: =IFERROR(IF(B25<>"","10.00$","")*1,"") | H25: =SUM(C25:G25) -> 0
C26: =IFERROR(IF(B26<>"","60.00$","")*1,"") | D26: =IFERROR(IF(B26<>"","178.00$","")*1,"") | E26: =IFERROR(IF(B26<>"","10.00$","")*1,"") | H26: =SUM(C26:G26) -> 0
B28: TOTAL : | C28: =SUM(C15:C27) -> 0 | D28: =SUM(D15:D27) -> 0 | E28: =SUM(E15:E27) -> 0 | G28: =SUM(G15:G27) -> 0 | H28: =SUM(H15:H27) -> 0

Sheet Conseil & vente de voyage
C1: DÉTAILLÉ DU DÉPÔT
C3: Type de transaction : COMPTANT
A5: Date : | B5: =TODAY() -> 43499
A6: Dépôt no : | B6: =IF('Soutien informatique'!B6="","",'Soutien informatique'!B6) -> 0
A9: CONSEIL ET VENTE DE VOYAGE
A12: # reçu | B12: Description | C12: 14211-982 | D12: 14211-983 | E12: 21272-982 | F12: Total
C13: Matériel didactique | D13: Agenda | E13: Imprimerie
C14: 71 | D14: 20 | E14: 100
C15: =IFERROR(IF(B15<>"","71.00$","")*1,"") | D15: =IFERROR(IF(B15<>"","20.00$","")*1,"") | E15: =IFERROR(IF(C15<>"","100.00$","")*1,"") | F15: =SUM(C15:E15) -> 0
C16: =IFERROR(IF(B16<>"","71.00$","")*1,"") | D16: =IFERROR(IF(B16<>"","20.00$","")*1,"") | E16: =IFERROR(IF(C16<>"","100.00$","")*1,"") | F16: =SUM(C16:E16) -> 0
C17: =IFERROR(IF(B17<>"","71.00$","")*1,"") | D17: =IFERROR(IF(B17<>"","20.00$","")*1,"") | E17: =IFERROR(IF(C17<>"","100.00$","")*1,"") | F17: =SUM(C17:E17) -> 0
C18: =IFERROR(IF(B18<>"","71.00$","")*1,"") | D18: =IFERROR(IF(B18<>"","20.00$","")*1,"") | E18: =IFERROR(IF(C18<>"","100.00$","")*1,"") | F18: =SUM(C18:E18) -> 0
C19: =IFERROR(IF(B19<>"","71.00$","")*1,"") | D19: =IFERROR(IF(B19<>"","20.00$","")*1,"") | E19: =IFERROR(IF(C19<>"","100.00$","")*1,"") | F19: =SUM(C19:E19) -> 0
C20: =IFERROR(IF(B20<>"","71.00$","")*1,"") | D20: =IFERROR(IF(B20<>"","20.00$","")*1,"") | E20: =IFERROR(IF(C20<>"","100.00$","")*1,"") | F20: =SUM(C20:E20) -> 0
C21: =IFERROR(IF(B21<>"","71.00$","")*1,"") | D21: =IFERROR(IF(B21<>"","20.00$","")*1,"") | E21: =IFERROR(IF(C21<>"","100.00$","")*1,"") | F21: =SUM(C21:E21) -> 0
C22: =IFERROR(IF(B22<>"","71.00$","")*1,"") | D22: =IFERROR(IF(B22<>"","20.00$","")*1,"") | E22: =IFERROR(IF(C22<>"","100.00$","")*1,"") | F22: =SUM(C22:E22) -> 0
C23: =IFERROR(IF(B23<>"","71.00$","")*1,"") | D23: =IFERROR(IF(B23<>"","20.00$","")*1,"") | E23: =IFERROR(IF(C23<>"","100.00$","")*1,"") | F23: =SUM(C23:E23) -> 0
C24: =IFERROR(IF(B24<>"","71.00$","")*1,"") | D24: =IFERROR(IF(B24<>"","20.00$","")*1,"") | E24: =IFERROR(IF(C24<>"","100.00$","")*1,"") | F24: =SUM(C24:E24) -> 0
C25: =IFERROR(IF(B25<>"","71.00$","")*1,"") | D25: =IFERROR(IF(B25<>"","20.00$","")*1,"") | E25: =IFERROR(IF(C25<>"","100.00$","")*1,"") | F25: =SUM(C25:E25) -> 0
C26: =IFERROR(IF(B26<>"","71.00$","")*1,"") | D26: =IFERROR(IF(B26<>"","20.00$","")*1,"") | E26: =IFERROR(IF(C26<>"","100.00$","")*1,"") | F26: =SUM(C26:E26) -> 0
B28: TOTAL : | C28: =SUM(C15:C27) -> 0 | D28: =SUM(D15:D27) -> 0 | E28: =SUM(E15:E27) -> 0 | F28: =SUM(F15:F27) -> 0

Sheet représentation
C1: DÉTAILLÉ DU DÉPÔT
C3: Type de transaction : COMPTANT
A5: Date : | B5: =TODAY() -> 43499
A6: Dépôt no : | B6: =IF('Soutien informatique'!B6="","",'Soutien informatique'!B6) -> 0
A9: REPRÉSENTATION
A12: # reçu | B12: Description | C12: 14119-982 | D12: 14119-983 | E12: 14119-948 | F12: 14119-508 | G12: 79001-980 | H12: Total
C13: Matériel didactique | D13: Agenda | E13: Frais de scolarité immigrants | F13: Frais de scolarité Assurances | G13: Projet Coop projet Quotepart
C14: 80 | D14: 10 | G14: 2
C15: =IFERROR(IF(B15<>"","80.00$","")*1,"") | D15: =IFERROR(IF(C15<>"","10.00$","")*1,"") | H15: =SUM(C15:G15) -> 0
C16: =IFERROR(IF(B16<>"","80.00$","")*1,"") | D16: =IFERROR(IF(C16<>"","10.00$","")*1,"") | H16: =SUM(C16:G16) -> 0
C17: =IFERROR(IF(B17<>"","80.00$","")*1,"") | D17: =IFERROR(IF(C17<>"","10.00$","")*1,"") | H17: =SUM(C17:G17) -> 0
C18: =IFERROR(IF(B18<>"","80.00$","")*1,"") | D18: =IFERROR(IF(C18<>"","10.00$","")*1,"") | H18: =SUM(C18:G18) -> 0
C19: =IFERROR(IF(B19<>"","80.00$","")*1,"") | D19: =IFERROR(IF(C19<>"","10.00$","")*1,"") | H19: =SUM(C19:G19) -> 0
C20: =IFERROR(IF(B20<>"","80.00$","")*1,"") | D20: =IFERROR(IF(C20<>"","10.00$","")*1,"") | H20: =SUM(C20:G20) -> 0
C21: =IFERROR(IF(B21<>"","80.00$","")*1,"") | D21: =IFERROR(IF(C21<>"","10.00$","")*1,"") | H21: =SUM(C21:G21) -> 0
C22: =IFERROR(IF(B22<>"","80.00$","")*1,"") | D22: =IFERROR(IF(C22<>"","10.00$","")*1,"") | H22: =SUM(C22:G22) -> 0
C23: =IFERROR(IF(B23<>"","80.00$","")*1,"") | D23: =IFERROR(IF(C23<>"","10.00$","")*1,"") | H23: =SUM(C23:G23) -> 0
C24: =IFERROR(IF(B24<>"","80.00$","")*1,"") | D24: =IFERROR(IF(C24<>"","10.00$","")*1,"") | H24: =SUM(C24:G24) -> 0
C25: =IFERROR(IF(B25<>"","80.00$","")*1,"") | D25: =IFERROR(IF(C25<>"","10.00$","")*1,"") | H25: =SUM(C25:G25) -> 0
C26: =IFERROR(IF(B26<>"","80.00$","")*1,"") | D26: =IFERROR(IF(C26<>"","10.00$","")*1,"") | H26: =SUM(C26:G26) -> 0
B28: TOTAL : | C28: =SUM(C15:C27) -> 0 | E28: =SUM(E15:E27) -> 0 | F28: =SUM(F15:F27) -> 0 | G28: =SUM(G15:G27) -> 0 | H28: =SUM(H15:H27) -> 0

Sheet Lancement d'une entreprise
C1: DÉTAILLÉ DU DÉPÔT
C3: Type de transaction : COMPTANT
A5: Date : | B5: =TODAY() -> 43499
A6: Dépôt no : | B6: =IF('Soutien informatique'!B6="","",'Soutien informatique'!B6) -> 0
A9: LANCEMENT D'UNE ENTREPRISE
A12: # reçu | B12: Description | C12: 14114-982 | D12: 21274-982 | E12: Total
C13: Matériel didactique | D13: Reprographie
C14: 100 | D14: 20
C15: =IFERROR(IF(B15<>"","100.00$","")*1,"") | D15: =IFERROR(IF(B15<>"","20.00$","")*1,"") | E15: =SUM(C15:D15) -> 0
C16: =IFERROR(IF(B16<>"","100.00$","")*1,"") | D16: =IFERROR(IF(B16<>"","20.00$","")*1,"") | E16: =SUM(C16:D16) -> 0
C17: =IFERROR(IF(B17<>"","100.00$","")*1,"") | D17: =IFERROR(IF(B17<>"","20.00$","")*1,"") | E17: =SUM(C17:D17) -> 0
C18: =IFERROR(IF(B18<>"","100.00$","")*1,"") | D18: =IFERROR(IF(B18<>"","20.00$","")*1,"") | E18: =SUM(C18:D18) -> 0
C19: =IFERROR(IF(B19<>"","100.00$","")*1,"") | D19: =IFERROR(IF(B19<>"","20.00$","")*1,"") | E19: =SUM(C19:D19) -> 0
C20: =IFERROR(IF(B20<>"","100.00$","")*1,"") | D20: =IFERROR(IF(B20<>"","20.00$","")*1,"") | E20: =SUM(C20:D20) -> 0
C21: =IFERROR(IF(B21<>"","100.00$","")*1,"") | D21: =IFERROR(IF(B21<>"","20.00$","")*1,"") | E21: =SUM(C21:D21) -> 0
C22: =IFERROR(IF(B22<>"","100.00$","")*1,"") | D22: =IFERROR(IF(B22<>"","20.00$","")*1,"") | E22: =SUM(C22:D22) -> 0
C23: =IFERROR(IF(B23<>"","100.00$","")*1,"") | D23: =IFERROR(IF(B23<>"","20.00$","")*1,"") | E23: =SUM(C23:D23) -> 0
C24: =IFERROR(IF(B24<>"","100.00$","")*1,"") | D24: =IFERROR(IF(B24<>"","20.00$","")*1,"") | E24: =SUM(C24:D24) -> 0
C25: =IFERROR(IF(B25<>"","100.00$","")*1,"") | D25: =IFERROR(IF(B25<>"","20.00$","")*1,"") | E25: =SUM(C25:D25) -> 0
C26: =IFERROR(IF(B26<>"","100.00$","")*1,"") | D26: =IFERROR(IF(B26<>"","20.00$","")*1,"") | E26: =SUM(C26:D26) -> 0
C27: =IFERROR(IF(B27<>"","100.00$","")*1,"") | D27: =IFERROR(IF(B27<>"","20.00$","")*1,"") | E27: =SUM(C27:D27) -> 0
B29: TOTAL : | C29: =SUM(C15:C28) -> 0 | D29: =SUM(D15:D28) -> 0 | E29: =SUM(E15:E28) -> 0

Sheet Salon de coiffure
B1: DÉPÔT COMPTANT
A4: Date | B4: =TODAY() -> 43499
A5: Dépôt
B7: SALON DE COIFFURE
A9: DATE | B9: Description | C9: Salon de coiffure 14631-980 | D9: Journée traitement 27901-975 | E9: Congrès L'Oréal 27901-975
F10: =SUM(C10:E10) -> 0
F11: =SUM(C11:E11) -> 0
F12: =SUM(C12:E12) -> 0
F13: =SUM(C13:E13) -> 0
F14: =SUM(C14:E14) -> 0
F15: =SUM(C15:E15) -> 0
F16: =SUM(C16:E16) -> 0
F17: =SUM(C17:E17) -> 0
F18: =SUM(C18:E18) -> 0
F19: =SUM(C19:E19) -> 0
F20: =SUM(C20:E20) -> 0
F21: =SUM(C21:E21) -> 0
... F23: =SUM(C23:E23) -> 0
A24: TOTAL | C24: =SUM(C10:C23) -> 0 | D24: =SUM(D10:D23) -> 0 | E24: =SUM(E10:E23) -> 0 | F24: =SUM(F10:F23) -> 0

Sheet Divers
B1: DÉPÔT COMPTANT
A4: Date | B4: =TODAY() -> 43499
A5: Dépôt
B7: DIVERS
A9: # reçu | B9: Description | C9: Ristourne 27900-975 | D9: Comité étudiant Levée de fonds 27905-975 | E9: Souper finissants 27900-975 | F9: Subvention Moovjee 14114-934 | G9: Cadenas 21120-980 | H9: TOTAL
H10: =SUM(C10:G10) -> 0
H11: =SUM(C11:G11) -> 0
H12: =SUM(C12:G12) -> 0
H13: =SUM(C13:G13) -> 0
H14: =SUM(C14:G14) -> 0
H15: =SUM(C15:G15) -> 0
H16: =SUM(C16:G16) -> 0
H17: =SUM(C17:G17) -> 0
H18: =SUM(C18:G18) -> 0
A19: Total | C19: =SUM(C10:C18) -> 0 | D19: =SUM(D10:D18) -> 0 | E19: =SUM(E10:E18) -> 0 | F19: =SUM(F10:F18) -> 0 | G19: =SUM(G10:G18) -> 0 | H19: =SUM(H10:H18) -> 0

Sheet Divers 2
B1: DÉPÔT COMPTANT
A4: Date | B4: =TODAY() -> 43499
A5: Dépôt
B8: DIVERS
A9: # reçu | B9: Description | C9: Redevance Groupe Compass 27900-980 | D9: Vente de voyage Sortie 15 mai 27902-984 | E9: Voyage Cuba 14902-975 | F9: Location de locaux 65300-954 | G9: TOTAL
G10: =SUM(C10:F10) -> 0
G11: =SUM(C11:F11) -> 0
G12: =SUM(C12:F12) -> 0
G13: =SUM(C13:F13) -> 0
G14: =SUM(C14:F14) -> 0
G15: =SUM(C15:F15) -> 0
G16: =SUM(C16:F16) -> 0
G17: =SUM(C17:F17) -> 0
G18: =SUM(C18:F18) -> 0
A19: Total | C19: =SUM(C10:C18) -> 0 | D19: =SUM(D10:D18) -> 0 | E19: =SUM(E10:E18) -> 0 | F19: =SUM(F10:F18) -> 0 | G19: =SUM(G10:G18) -> 0
