Workbook

Sheet Feuil1
A1: Sexe:
A2: Nom:
A3: Prénom:
A4: Âge:
B6: Score initial | C6: Protocole 1 | D6: Protocole 2 | E6: Protocole 3 | F6: Protocole 4 | G6: Protocole 5
A7: \Date
A8: # Item | B8: Valeurs | C8: Valeurs | D8: Valeurs | E8: Valeurs | F8: Valeurs | G8: Valeurs
A9: 1
A10: 2
A11: 3
A12: 4
A13: 5
A14: 6
A15: 7
A16: 8
A17: 9
A18: 10
A19: 11
A20: 12
... A33: 25

Sheet Feuil2
A1: # Item | B1: Score_Rec | C1: Score_Rec | D1: Score_Rec | E1: Score_Rec | F1: Score_Rec | G1: Score_Rec | K1: Score initial | L1: Protocole 1 | M1: Protocole 2 | N1: Protocole 3 | O1: Protocole 4 | P1: Protocole 5 | Q1: Différence minimale (>10%) | R1: Différence cible (>20%) | T1: Protocole 1
A2: 1 | B2: 2 | C2: 3 | D2: =IF(COUNT(Feuil1!D9),Feuil1!D9-1,"") | E2: =IF(COUNT(Feuil1!E9),Feuil1!E9-1,"") | F2: =IF(COUNT(Feuil1!F9),Feuil1!F9-1,"") | G2: =IF(COUNT(Feuil1!G9),Feuil1!G9-1,"") | J2: \Date | K2: =IF(COUNT(Feuil1!B7),CELL("contenu",Feuil1!B7),"") | L2: =IF(COUNT(Feuil1!C7),CELL("contenu",Feuil1!C7),"") | M2: =IF(COUNT(Feuil1!D7),CELL("contenu",Feuil1!D7),"") | N2: =IF(COUNT(Feuil1!E7),CELL("contenu",Feuil1!E7),"") | O2: =IF(COUNT(Feuil1!F7),CELL("contenu",Feuil1!F7),"") | P2: =IF(COUNT(Feuil1!G7),CELL("contenu",Feuil1!G7),"") | T2: Différence minimale | AA2: Différence cible
A3: 2 | B3: 2 | C3: 3 | D3: =IF(COUNT(Feuil1!D10),Feuil1!D10-1,"") | E3: =IF(COUNT(Feuil1!E10),Feuil1!E10-1,"") | F3: =IF(COUNT(Feuil1!F10),Feuil1!F10-1,"") | G3: =IF(COUNT(Feuil1!G10),Feuil1!G10-1,"") | T3: Oui/Non | U3: Déclinaison | AA3: Oui/Non | AB3: Déclinaison
A4: 3 | B4: 2 | C4: 3 | D4: =IF(COUNT(Feuil1!D11),Feuil1!D11-1,"") | E4: =IF(COUNT(Feuil1!E11),Feuil1!E11-1,"") | F4: =IF(COUNT(Feuil1!F11),Feuil1!F11-1,"") | G4: =IF(COUNT(Feuil1!G11),Feuil1!G11-1,"") | J4: Estime de soi | K4: =SUM(B2,B3,B6,B9) -> 8 | L4: =SUM(C2,C3,C6,C9) -> 10 | M4: =SUM(D2,D3,D6,D9) -> 0 | N4: =SUM(E2,E3,E6,E9) -> 0 | O4: =SUM(F2,F3,F6,F9) -> 0 | P4: =SUM(G2,G3,G6,G9) -> 0 | Q4: 1.6 | R4: 3.2 | S4: l'estime de soi | T4: =IF(AND(L4-K4>Q4,L4-K4<R4),1,0) -> 1 | U4: =T4 -> 1 | V4: - | W4: - | X4: - | Y4: - | Z4: - | AA4: =IF(AND(L4-K4>R4,),1,0) -> 0
A5: 4 | B5: 2 | C5: 2 | D5: =IF(COUNT(Feuil1!D12),Feuil1!D12-1,"") | E5: =IF(COUNT(Feuil1!E12),Feuil1!E12-1,"") | F5: =IF(COUNT(Feuil1!F12),Feuil1!F12-1,"") | G5: =IF(COUNT(Feuil1!G12),Feuil1!G12-1,"")
A6: 5 | B6: 2 | C6: 2 | D6: =IF(COUNT(Feuil1!D13),Feuil1!D13-1,"") | E6: =IF(COUNT(Feuil1!E13),Feuil1!E13-1,"") | F6: =IF(COUNT(Feuil1!F13),Feuil1!F13-1,"") | G6: =IF(COUNT(Feuil1!G13),Feuil1!G13-1,"") | J6: Équilibre | K6: =SUM(B5,B11,B16,B20) -> 8 | L6: =SUM(C5,C11,C16,C20) -> 8 | M6: =SUM(D5,D11,D16,D20) -> 0 | N6: =SUM(E5,E11,E16,E20) -> 0 | O6: =SUM(F5,F11,F16,F20) -> 0 | P6: =SUM(G5,G11,G16,G20) -> 0 | Q6: 1.6 | R6: 3.2 | S6: l'équilibre | T6: =IF(AND(L6-K6>Q6,L6-K6<R6),1,0) -> 0 | U6: =IF(T4=1,0,T6) -> 0 | V6: =IF(U6=1,0,T6) -> 0 | W6: - | X6: - | Y6: - | Z6: - | AA6: =IF(AND(L6-K6>R6,),1,0) -> 0
A7: 6 | B7: 2 | C7: 3 | D7: =IF(COUNT(Feuil1!D14),Feuil1!D14-1,"") | E7: =IF(COUNT(Feuil1!E14),Feuil1!E14-1,"") | F7: =IF(COUNT(Feuil1!F14),Feuil1!F14-1,"") | G7: =IF(COUNT(Feuil1!G14),Feuil1!G14-1,"")
A8: 7 | B8: 2 | C8: 2 | D8: =IF(COUNT(Feuil1!D15),Feuil1!D15-1,"") | E8: =IF(COUNT(Feuil1!E15),Feuil1!E15-1,"") | F8: =IF(COUNT(Feuil1!F15),Feuil1!F15-1,"") | G8: =IF(COUNT(Feuil1!G15),Feuil1!G15-1,"") | J8: Engagement social | K8: =SUM(B4,B7,B8,B13) -> 8 | L8: =SUM(C4,C7,C8,C13) -> 10 | M8: =SUM(D4,D7,D8,D13) -> 0 | N8: =SUM(E4,E7,E8,E13) -> 0 | O8: =SUM(F4,F7,F8,F13) -> 0 | P8: =SUM(G4,G7,G8,G13) -> 0 | Q8: 1.6 | R8: 3.2 | S8: l'engagement social | T8: =IF(AND(L8-K8>Q8,L8-K8<R8),1,0) -> 1 | U8: =IF(OR(T4=1,T6=1),0,T8) -> 0 | V8: =IF(T6=1,0,T8) -> 1 | W8: =IF(OR(U8=1,V8=1),0,T8) -> 0 | X8: - | Y8: - | Z8: - | AA8: =IF(AND(L8-K8>R8,),1,0) -> 0
A9: 8 | B9: 2 | C9: 2 | D9: =IF(COUNT(Feuil1!D16),Feuil1!D16-1,"") | E9: =IF(COUNT(Feuil1!E16),Feuil1!E16-1,"") | F9: =IF(COUNT(Feuil1!F16),Feuil1!F16-1,"") | G9: =IF(COUNT(Feuil1!G16),Feuil1!G16-1,"")
A10: 9 | B10: 2 | C10: 2 | D10: =IF(COUNT(Feuil1!D17),Feuil1!D17-1,"") | E10: =IF(COUNT(Feuil1!E17),Feuil1!E17-1,"") | F10: =IF(COUNT(Feuil1!F17),Feuil1!F17-1,"") | G10: =IF(COUNT(Feuil1!G17),Feuil1!G17-1,"") | J10: Sociabilité | K10: =SUM(B10,B12,B19,B22) -> 8 | L10: =SUM(C10,C12,C19,C22) -> 8 | M10: =SUM(D10,D12,D19,D22) -> 0 | N10: =SUM(E10,E12,E19,E22) -> 0 | O10: =SUM(F10,F12,F19,F22) -> 0 | P10: =SUM(G10,G12,G19,G22) -> 0 | Q10: 1.6 | R10: 3.2 | S10: la sociabilité | T10: =IF(AND(L10-K10>Q10,L10-K10<R10),1,0) -> 0 | U10: =IF(OR(T4=1,T6=1,T8=1),0,T10) -> 0 | V10: =IF(OR(T6=1,T8=1),0,T10) -> 0 | W10: =IF(T8=1,0,T10) -> 0 | X10: =IF(OR(U10=1,V10=1,W10=1),0,T10) -> 0 | Y10: - | Z10: - | AA10: =IF(AND(L10-K10>R10,),1,0) -> 0
A11: 10 | B11: 2 | C11: 2 | D11: =IF(COUNT(Feuil1!D18),Feuil1!D18-1,"") | E11: =IF(COUNT(Feuil1!E18),Feuil1!E18-1,"") | F11: =IF(COUNT(Feuil1!F18),Feuil1!F18-1,"") | G11: =IF(COUNT(Feuil1!G18),Feuil1!G18-1,"")
A12: 11 | B12: 2 | C12: 2 | D12: =IF(COUNT(Feuil1!D19),Feuil1!D19-1,"") | E12: =IF(COUNT(Feuil1!E19),Feuil1!E19-1,"") | F12: =IF(COUNT(Feuil1!F19),Feuil1!F19-1,"") | G12: =IF(COUNT(Feuil1!G19),Feuil1!G19-1,"") | J12: Contrôle de soi et des événements | K12: =SUM(B14,B17,B18,B25) -> 8 | L12: =SUM(C14,C17,C18,C25) -> 8 | M12: =SUM(D14,D17,D18,D25) -> 0 | N12: =SUM(E14,E17,E18,E25) -> 0 | O12: =SUM(F14,F17,F18,F25) -> 0 | P12: =SUM(G14,G17,G18,G25) -> 0 | Q12: 1.6 | R12: 3.2 | S12: le contrôle de soi et des événements | T12: =IF(AND(L12-K12>Q12,L12-K12<R12),1,0) -> 0 | U12: =IF(OR(T4=1,T6=1,T8=1,T10=1),0,T12) -> 0 | V12: =IF(OR(T6=1,T8=1,T10=1),0,T12) -> 0 | W12: =IF(OR(T8=1,T10=1),0,T12) -> 0 | X12: =IF(T10=1,0,T12) -> 0 | Y12: =IF(OR(U12=1,V12=1,W12=1,X12=1),0,T12) -> 0 | Z12: - | AA12: =IF(AND(L12-K12>R12,),1,0) -> 0
A13: 12 | B13: 2 | C13: 2 | D13: =IF(COUNT(Feuil1!D20),Feuil1!D20-1,"") | E13: =IF(COUNT(Feuil1!E20),Feuil1!E20-1,"") | F13: =IF(COUNT(Feuil1!F20),Feuil1!F20-1,"") | G13: =IF(COUNT(Feuil1!G20),Feuil1!G20-1,"")
A14: 13 | B14: 2 | C14: 2 | D14: =IF(COUNT(Feuil1!D21),Feuil1!D21-1,"") | E14: =IF(COUNT(Feuil1!E21),Feuil1!E21-1,"") | F14: =IF(COUNT(Feuil1!F21),Feuil1!F21-1,"") | G14: =IF(COUNT(Feuil1!G21),Feuil1!G21-1,"") | J14: Bonheur | K14: =SUM(B15,B21,B23,B24,B26) -> 10 | L14: =SUM(C15,C21,C23,C24,C26) -> 10 | M14: =SUM(D15,D21,D23,D24,D26) -> 0 | N14: =SUM(E15,E21,E23,E24,E26) -> 0 | O14: =SUM(F15,F21,F23,F24,F26) -> 0 | P14: =SUM(G15,G21,G23,G24,G26) -> 0 | Q14: 2 | R14: 4 | S14: le bonheur | T14: =IF(AND(L14-K14>Q14,L14-K14<R14),1,0) -> 0 | U14: =IF(OR(T4=1,T6=1,T8=1,T10=1,T12=1),0,T14) -> 0 | V14: =IF(OR(T6=1,T8=1,T10=1,T12=1),0,T14) -> 0 | W14: =IF(OR(T8=1,T10=1,T12=1),0,T14) -> 0 | X14: =IF(OR(T10=1,T12=1),0,T14) -> 0 | Y14: =IF(T12=1,0,T14) -> 0 | Z14: =IF(OR(U14=1,V14=1,W14=1,X14=1,Y14=1),0,T14) -> 0 | AA14: =IF(AND(L14-K14>R14,),1,0) -> 0
A15: 14 | B15: 2 | C15: 2 | D15: =IF(COUNT(Feuil1!D22),Feuil1!D22-1,"") | E15: =IF(COUNT(Feuil1!E22),Feuil1!E22-1,"") | F15: =IF(COUNT(Feuil1!F22),Feuil1!F22-1,"") | G15: =IF(COUNT(Feuil1!G22),Feuil1!G22-1,"")
A16: 15 | B16: 2 | C16: 2 | D16: =IF(COUNT(Feuil1!D23),Feuil1!D23-1,"") | E16: =IF(COUNT(Feuil1!E23),Feuil1!E23-1,"") | F16: =IF(COUNT(Feuil1!F23),Feuil1!F23-1,"") | G16: =IF(COUNT(Feuil1!G23),Feuil1!G23-1,"") | J16: Score global | K16: =SUM(K4,K6,K8,K10,K12,K14) -> 50 | L16: =SUM(L4,L6,L8,L10,L12,L14) -> 54 | M16: =SUM(M4,M6,M8,M10,M12,M14) -> 0 | N16: =SUM(N4,N6,N8,N10,N12,N14) -> 0 | O16: =SUM(O4,O6,O8,O10,O12,O14) -> 0 | P16: =SUM(P4,P6,P8,P10,P12,P14) -> 0 | Q16: 10 | R16: 20 | S16: score global | T16: =IF(AND(L16-K16>Q16,L16-K16<R16),1,0) -> 0 | U16: - | V16: - | W16: - | X16: - | Y16: - | Z16: - | AA16: =IF(AND(L16-K16>R16,),1,0) -> 0
A17: 16 | B17: 2 | C17: 2 | D17: =IF(COUNT(Feuil1!D24),Feuil1!D24-1,"") | E17: =IF(COUNT(Feuil1!E24),Feuil1!E24-1,"") | F17: =IF(COUNT(Feuil1!F24),Feuil1!F24-1,"") | G17: =IF(COUNT(Feuil1!G24),Feuil1!G24-1,"")
A18: 17 | B18: 2 | C18: 2 | D18: =IF(COUNT(Feuil1!D25),Feuil1!D25-1,"") | E18: =IF(COUNT(Feuil1!E25),Feuil1!E25-1,"") | F18: =IF(COUNT(Feuil1!F25),Feuil1!F25-1,"") | G18: =IF(COUNT(Feuil1!G25),Feuil1!G25-1,"") | S18: nombre de différences | T18: =SUM(T4:T14) -> 2 | AA18: =SUM(AA4:AA14) -> 0
A19: 18 | B19: 2 | C19: 2 | D19: =IF(COUNT(Feuil1!D26),Feuil1!D26-1,"") | E19: =IF(COUNT(Feuil1!E26),Feuil1!E26-1,"") | F19: =IF(COUNT(Feuil1!F26),Feuil1!F26-1,"") | G19: =IF(COUNT(Feuil1!G26),Feuil1!G26-1,"") | K19: Protocole 1 | L19: Protocole 2 | M19: Protocole 3 | N19: Protocole 4 | O19: Protocole 5
A20: 19 | B20: 2 | C20: 2 | D20: =IF(COUNT(Feuil1!D27),Feuil1!D27-1,"") | E20: =IF(COUNT(Feuil1!E27),Feuil1!E27-1,"") | F20: =IF(COUNT(Feuil1!F27),Feuil1!F27-1,"") | G20: =IF(COUNT(Feuil1!G27),Feuil1!G27-1,"") | P20: =IF(COUNT(Feuil1!G25),CELL("contenu",Feuil1!G25),"")
A21: 20 | B21: 2 | C21: 2 | D21: =IF(COUNT(Feuil1!D28),Feuil1!D28-1,"") | E21: =IF(COUNT(Feuil1!E28),Feuil1!E28-1,"") | F21: =IF(COUNT(Feuil1!F28),Feuil1!F28-1,"") | G21: =IF(COUNT(Feuil1!G28),Feuil1!G28-1,"") | J21: Estime de soi | K21: =IF(AND(L4-K4>Q4,L4-K4<R4),"légère amélioration",IF(L4-K4>R4,"amélioration significative","")) -> légère amélioration | L21: =IF(AND(M4-K4>Q4,M4-K4<R4),"légère amélioration",IF(M4-K4>R4,"amélioration significative","")) | M21: =IF(AND(N4-K4>Q4,N4-K4<R4),"légère amélioration",IF(N4-K4>R4,"amélioration significative","")) | N21: =IF(AND(O4-K4>Q4,O4-K4<R4),"légère amélioration",IF(O4-K4>R4,"amélioration significative","")) | O21: =IF(AND(P4-K4>Q4,P4-K4<R4),"légère amélioration",IF(P4-K4>R4,"amélioration significative",""))
A22: 21 | B22: 2 | C22: 2 | D22: =IF(COUNT(Feuil1!D29),Feuil1!D29-1,"") | E22: =IF(COUNT(Feuil1!E29),Feuil1!E29-1,"") | F22: =IF(COUNT(Feuil1!F29),Feuil1!F29-1,"") | G22: =IF(COUNT(Feuil1!G29),Feuil1!G29-1,"")
A23: 22 | B23: 2 | C23: 2 | D23: =IF(COUNT(Feuil1!D30),Feuil1!D30-1,"") | E23: =IF(COUNT(Feuil1!E30),Feuil1!E30-1,"") | F23: =IF(COUNT(Feuil1!F30),Feuil1!F30-1,"") | G23: =IF(COUNT(Feuil1!G30),Feuil1!G30-1,"") | J23: Équilibre | K23: =IF(AND(L6-K6>Q6,L6-K6<R6),"légère amélioration",IF(L6-K6>R6,"amélioration significative","")) | L23: =IF(AND(M6-K6>Q6,M6-K6<R6),"légère amélioration",IF(M6-K6>R6,"amélioration significative","")) | M23: =IF(AND(N6-K6>Q6,N6-K6<R6),"légère amélioration",IF(N6-K6>R6,"amélioration significative","")) | N23: =IF(AND(O6-K6>Q6,O6-K6<R6),"légère amélioration",IF(O6-K6>R6,"amélioration significative","")) | O23: =IF(AND(P6-K6>Q6,P6-K6<R6),"légère amélioration",IF(P6-K6>R6,"amélioration significative",""))
A24: 23 | B24: 2 | C24: 2 | D24: =IF(COUNT(Feuil1!D31),Feuil1!D31-1,"") | E24: =IF(COUNT(Feuil1!E31),Feuil1!E31-1,"") | F24: =IF(COUNT(Feuil1!F31),Feuil1!F31-1,"") | G24: =IF(COUNT(Feuil1!G31),Feuil1!G31-1,"")
A25: 24 | B25: 2 | C25: 2 | D25: =IF(COUNT(Feuil1!D32),Feuil1!D32-1,"") | E25: =IF(COUNT(Feuil1!E32),Feuil1!E32-1,"") | F25: =IF(COUNT(Feuil1!F32),Feuil1!F32-1,"") | G25: =IF(COUNT(Feuil1!G32),Feuil1!G32-1,"") | J25: Engagement social | K25: =IF(AND(L8-K8>Q8,L8-K8<R8),"légère amélioration",IF(L8-K8>R8,"amélioration significative","")) -> légère amélioration | L25: =IF(AND(M8-K8>Q8,M8-K8<R8),"légère amélioration",IF(M8-K8>R8,"amélioration significative","")) | M25: =IF(AND(N8-K8>Q8,N8-K8<R8),"légère amélioration",IF(N8-K8>R8,"amélioration significative","")) | N25: =IF(AND(O8-K8>Q8,O8-K8<R8),"légère amélioration",IF(O8-K8>R8,"amélioration significative","")) | O25: =IF(AND(P8-K8>Q8,P8-K8<R8),"légère amélioration",IF(P8-K8>R8,"amélioration significative",""))
A26: 25 | B26: 2 | C26: 2 | D26: =IF(COUNT(Feuil1!D33),Feuil1!D33-1,"") | E26: =IF(COUNT(Feuil1!E33),Feuil1!E33-1,"") | F26: =IF(COUNT(Feuil1!F33),Feuil1!F33-1,"") | G26: =IF(COUNT(Feuil1!G33),Feuil1!G33-1,"")
J27: Sociabilité | K27: =IF(AND(L10-K10>Q10,L10-K10<R10),"légère amélioration",IF(L10-K10>R10,"amélioration significative","")) | L27: =IF(AND(M10-K10>Q10,M10-K10<R10),"légère amélioration",IF(M10-K10>R10,"amélioration significative","")) | M27: =IF(AND(N10-K10>Q10,N10-K10<R10),"légère amélioration",IF(N10-K10>R10,"amélioration significative","")) | N27: =IF(AND(O10-K10>Q10,O10-K10<R10),"légère amélioration",IF(O10-K10>R10,"amélioration significative","")) | O27: =IF(AND(P10-K10>Q10,P10-K10<R10),"légère amélioration",IF(P10-K10>R10,"amélioration significative",""))
A29: ="Homme" -> Homme | J29: Contrôle de soi et des événements | K29: =IF(AND(L12-K12>Q12,L12-K12<R12),"légère amélioration",IF(L12-K12>R12,"amélioration significative","")) | L29: =IF(AND(M12-K12>Q12,M12-K12<R12),"légère amélioration",IF(M12-K12>R12,"amélioration significative","")) | M29: =IF(AND(N12-K12>Q12,N12-K12<R12),"légère amélioration",IF(N12-K12>R12,"amélioration significative","")) | N29: =IF(AND(O12-K12>Q12,O12-K12<R12),"légère amélioration",IF(O12-K12>R12,"amélioration significative","")) | O29: =IF(AND(P12-K12>Q12,P12-K12<R12),"légère amélioration",IF(P12-K12>R12,"amélioration significative",""))
A30: ="Femme" -> Femme
J31: Bonheur | K31: =IF(AND(L14-K14>Q14,L14-K14<R14),"légère amélioration",IF(L14-K14>R14,"amélioration significative","")) | L31: =IF(AND(M14-K14>Q14,M14-K14<R14),"légère amélioration",IF(M14-K14>R14,"amélioration significative","")) | M31: =IF(AND(N14-K14>Q14,N14-K14<R14),"légère amélioration",IF(N14-K14>R14,"amélioration significative","")) | N31: =IF(AND(O14-K14>Q14,O14-K14<R14),"légère amélioration",IF(O14-K14>R14,"amélioration significative","")) | O31: =IF(AND(P14-K14>Q14,P14-K14<R14),"légère amélioration",IF(P14-K14>R14,"amélioration significative",""))
A32: =IF(COUNTA(Feuil1!B1),IF(Feuil1!B1=Feuil2!A29,"Monsieur","Madame"),"")
J33: Score global | K33: =IF(AND(L16-K16>Q16,L16-K16<R16),"légère amélioration",IF(L16-K16>R16,"amélioration significative","")) | L33: =IF(AND(M16-K16>Q16,M16-K16<R16),"légère amélioration",IF(M16-K16>R16,"amélioration significative","")) | M33: =IF(AND(N16-K16>Q16,N16-K16<R16),"légère amélioration",IF(N16-K16>R16,"amélioration significative","")) | N33: =IF(AND(O16-K16>Q16,O16-K16<R16),"légère amélioration",IF(O16-K16>R16,"amélioration significative","")) | O33: =IF(AND(P16-K16>Q16,P16-K16<R16),"légère amélioration",IF(P16-K16>R16,"amélioration significative",""))

Sheet Feuil3
A1: =IF(Feuil1!B4>17,CELL("contenu",Feuil2!A32),"") | B1: =IF(Feuil1!B4<18,CELL("contenu",Feuil1!B3),CELL("contenu",Feuil1!B2)) -> 0 | C1: =IF(Feuil2!T18=0,"ne présente aucun indice d'amélioration tant sur le plan des différents facteurs de bien-être qu'au score global.",IF(Feuil2!T18=1,"présente une légère amélioration sur l'échelle mesurant",IF(Feuil2!T18>1,"présente une légère amélioration sur les échelles mesurant",""))) -> présente une légère amélioration sur les échelles mesurant | D1: =IF(Feuil2!T18=1,LOOKUP(1,Feuil2!T4:T14,Feuil2!S4:S14),"") | E1: =IF(Feuil2!T18=1,".",IF(Feuil2!T18>1,",","")) -> ,
