Workbook
Name Listepays: PaysZone!$A$2:$A$233
Name ListeZoneChrono: PaysZone!$C$2:$C$233
Name ListeZoneDHL: PaysZone!$D$2:$D$233
Name ListezoneUPS: PaysZone!$B$2:$B$233
Name non: Calculateur!$B$9
Name Poids: #REF!
Name PoidsChronopost: TarifsChronopost!$A$2:$A$1261
Name PoidsDHL: TarifsDHL!$A$2:$A$701
Name PoidsUps: TarifsUPS!$A$2:$A$560
Name Tarif: #REF!
Name TarifsChronopost: TarifsChronopost!$C$2:$C$1261
Name TarifsDHL: TarifsDHL!$C$2:$C$701
Name TarifsUps: TarifsUPS!$C$2:$C$560
Name Zone: #REF!
Name ZonesChronopost: TarifsChronopost!$B$2:$B$1261
Name ZonesDHL: TarifsDHL!$B$2:$B$701
Name ZonesUps: TarifsUPS!$B$2:$B$560

Sheet Calculateur
A1: Le colis | B1: 1 | G1: Prise en charge du colis
A2: Longueur | B2: 20 | C2: cm | D2: Pays | E2: Togo | G2: UPS | H2: Chronopost | I2: DHL
A3: Largeur | B3: 20 | C3: cm | D3: Menbre de l'UE : | E3: =IF(OR(E2="Allemagne",E2="Autriche",E2="Belgique",E2="Bulgarie",E2="Chypre",E2="Croatie",E2="Danemark",E2="Espagne",E2="Estonie",E2="Finlande",E2="Grèce",E2="Hongrie",E2="Irlande",E2="Italie",E2="Lettonie",E2="Lituanie",E2="Luxembourg",E2="Malte",E2="Pays-Bas",E2="Pologne",E2="Portugal",E2="Roumanie",E2="Slovaquie",E2="Slovénie",E2="Suède",E2="Tchèque (Rép)"),"oui","non") -> non | G3: =IF(OR(B2>270,B5>70,B6>419),"non","oui") -> oui | H3: =IF(OR(B2>150,B5>70),"non","oui") -> oui | I3: =IF(OR(B5>70,B2>300,B3>120,B4>160,B6>580),"non","oui") -> oui
A4: Hauteur | B4: 20 | C4: cm | D4: Valeur marchandise | E4: 426.04
A5: Poids réel | B5: 20 | C5: Kg | D5: Poids volumétrique | E5: =B2*B3*B4/5000 -> 1.6 | G5: Zone tarifaire
A6: Calcul d'application colis volumineux | B6: =1*B2+2*B3+2*B4 -> 100 | G6: UPS | H6: Chronopost | I6: DHL
G7: =IF(E2="Brésil",12,IF(E2="Bulgarie",52,IF(E2="Burkina Faso",12,IF(E2="Bénin",13,IF(E2="Croatie",51,IF(E2="Cuba","nondésservi",IF(E2="Libye",12,IF(E2="Monténégro",8,IF(E2="Norvège",6,IF(E2="Portugal",4,IF(E2="Russie",10,IF(E2="Réunion","nondésservi",IF(E2="Suisse",6,IF(E2="Syrie","nondesservi",IF(E2="Sénégal",12,IF(E2="Taïwan",11,IF(E2="Vietnam",12,LOOKUP(Calculateur!$E$2,Listepays,ListezoneUPS)))))))))))))))))) -> 12 | H7: =IF(E2="Brésil",5,IF(E2="Bulgarie",3,IF(E2="Burkina Faso",6,IF(E2="Bénin",6,IF(E2="Croatie",3,IF(E2="Cuba",5,IF(E2="Libye",6,IF(E2="Monténégro",4,IF(E2="Norvège",4,IF(E2="Portugal",2,IF(E2="Russie",4,IF(E2="Réunion",8,IF(E2="Suisse",4,IF(E2="Syrie",6,IF(E2="Sénégal",6,IF(E2="Taïwan",7,IF(E2="Vietnam",7,LOOKUP(Calculateur!$E$2,Listepays,ListeZoneChrono)))))))))))))))))) -> 6 | I7: =IF(E2="Brésil",7,IF(E2="Bulgarie",3,IF(E2="Burkina Faso",7,IF(E2="Bénin",7,IF(E2="Croatie",3,IF(E2="Cuba",7,IF(E2="Libye",7,IF(E2="Monténégro",4,IF(E2="Norvège",4,IF(E2="Portugal",2,IF(E2="Russie",7,IF(E2="Réunion",6,IF(E2="Suisse",4,IF(E2="Syrie",7,IF(E2="Sénégal",7,IF(E2="Taïwan",6,IF(E2="Vietnam",6,LOOKUP(Calculateur!$E$2,Listepays,ListeZoneDHL)))))))))))))))))) -> 7
A8: Les options | B8: INDEX(TarifsUps;EQUIV(1;(PoidsUps>=Metrelplanché réel))*(ZonesUps=Département);0))
A9: Contre remboursement | B9: oui | E9: Prix du transport
A10: Colis atypique (bois,cylindrique,forme non rectangulaire) | B10: oui | F10: UPS | G10: DHL | H10: Chronopost
A11: Livraison le samedi | B11: non | E11: TOTAL HT | F11: =IF(G3="oui",SUM(Calculateur!B18:B28), "Colis Refusé") -> 433.72073 | G11: =IF(I3="oui",SUM(Calculateur!C18:C28), "Colis Refusé") -> 368.7758 | H11: =IF(H3="oui",SUM(Calculateur!D18:D28), "Colis Refusé") -> 306.9968
A12: Adresse résidentielle | B12: oui | E12: Total TTC | F12: =IF(E3="oui",F11*120%,F11) -> 433.72073 | G12: =IF(E3="oui",G11*120%,G11) -> 368.7758 | H12: =IF(E3="oui",H11*120%,H11) -> 306.9968
A13: Transfert Agent en Douane | B13: oui | E13: TOTAL avant 10H30 | F13: Non Distribué | G13: =G11+25 -> 393.7758 | H13: Non Distribué
A14: Marchandise en transit | B14: oui | E14: Total avant 9h | F14: Non Distribué | G14: =G13+25 -> 418.7758 | H14: Non Distribué
A16: Détails du prix | E16: Changer formule pour les colis + de 70 kilos ne soit plus refusé / Mettre les liens dans l'onglet carburant pour aller direct a la page des surcharge pour chaque transitaire
B17: UPS | C17: DHL | D17: Chronopost
A18: Transport | B18: {=INDEX(TarifsUps,MATCH(1,(PoidsUps>=IF(Calculateur!B5<Calculateur!E5,Calculateur!$E$5,Calculateur!B5))*(ZonesUps=Calculateur!$G$7),0))} -> 256.41 | C18: {=INDEX(TarifsDHL,MATCH(1,(PoidsDHL>=IF(Calculateur!B5<Calculateur!E5,Calculateur!E5,Calculateur!B5))*(ZonesDHL=Calculateur!I7),0))} -> 295.28 | D18: {=INDEX(TarifsChronopost,MATCH(1,(PoidsChronopost>=IF(Calculateur!B5<Calculateur!E5,Calculateur!$E$5,Calculateur!B5))*(ZonesChronopost=Calculateur!H7),0))} -> 148.8
A19: Sécurité aéirenne | B19: =0.43 -> 0.43 | C19: 0.61 | D19: 0.61
A20: Contre remboursement | B20: =IF(Calculateur!B9="oui",IF(Calculateur!E4>2090,Calculateur!E4*0.01,22.9),"0") -> 22.9 | C20: =IF(Calculateur!B9="oui",15,"0") -> 15
A21: Livraison résidentielle | B21: =IF(Calculateur!B12="oui",3.35,0) -> 3.35 | C21: =IF(Calculateur!B12="oui",2.95,0) -> 2.95 | D21: =IF(Calculateur!B12="oui",2.95,0) -> 2.95
A22: Liv samedi | B22: =IF(Calculateur!B11="oui",63.65,0) -> 0 | C22: =IF(Calculateur!B11="oui", 63.65,0) -> 0 | D22: =IF(Calculateur!B11="oui",40,0) -> 0
A23: Taxe Carbone | B23: =IF(Calculateur!E3="oui",0.2,0.55) -> 0.55 | C23: 0 | D23: 0.1
A24: Supplément colis volumineux | B24: =IF(Calculateur!B6>330,47.6,0) -> 0 | C24: =IF(Calculateur!B6>300,45,0) -> 0
A25: Supplément manutention supplémentaire | B25: =IF(OR(Calculateur!B10="oui",Calculateur!B2>100,Calculateur!B3>76,Calculateur!B5>32),8.3,0) -> 8.3 | C25: =IF(OR(Calculateur!B2>110,Calculateur!B3>110,Calculateur!B10="oui"),4,0) -> 4 | D25: =IF(OR(Calculateur!B10="oui",Calculateur!B2>120,Calculateur!B3>120,Calculateur!B5>70),80,0) -> 80
A26: Dédouanement et transfert | B26: =IF(Calculateur!B13="oui",42.55,0) -> 42.55 | D26: =IF(Calculateur!B13="oui",45,0) -> 45
A27: Procédure de transit | B27: =IF(Calculateur!B14="oui",55,0) -> 55
A28: Suplément Gazoil Monde | B28: =IF(Calculateur!$E$3="oui",'Supplément carburant'!$B$6*$B$18,'Supplément carburant'!$C$6*$B$18) -> 44.230725 | C28: =IF(Calculateur!E3="oui",C18*'Supplément carburant'!F6,C18*'Supplément carburant'!G6) -> 50.9358 | D28: =IF(Calculateur!E3="oui",D18*'Supplément carburant'!D6,'Supplément carburant'!E6*D18) -> 29.5368

Sheet TarifsUPS
A1: Poids | B1: Zones | C1: Tarifs
A2: 0.5 | B2: 3 | C2: 19.98
A3: 1 | B3: 3 | C3: 22.51
A4: 1.5 | B4: 3 | C4: 25.05
A5: 2 | B5: 3 | C5: 27.61
A6: 2.5 | B6: 3 | C6: 30.15
A7: 3 | B7: 3 | C7: 31.03
A8: 3.5 | B8: 3 | C8: 31.98
A9: 4 | B9: 3 | C9: 32.89
A10: 4.5 | B10: 3 | C10: 33.81
A11: 5 | B11: 3 | C11: 34.72
A12: 5.5 | B12: 3 | C12: 35.98
A13: 6 | B13: 3 | C13: 37.21
... A560: 70 | B560: 13 | C560: 878.32

Sheet TarifsDHL
A1: Poids | B1: Zones | C1: Tarifs
A2: 0.5 | B2: 1 | C2: 18.29
A3: 1 | B3: 1 | C3: 22.72
A4: 1.5 | B4: 1 | C4: 25.82
A5: 2 | B5: 1 | C5: 28.92
A6: 2.5 | B6: 1 | C6: 32.03 | G6: ,
A7: 3 | B7: 1 | C7: 33.54
A8: 3.5 | B8: 1 | C8: 35.05
A9: 4 | B9: 1 | C9: 36.56
A10: 4.5 | B10: 1 | C10: 38.07
A11: 5 | B11: 1 | C11: 39.58
A12: 5.5 | B12: 1 | C12: 40.95
A13: 6 | B13: 1 | C13: 42.31
A14: 6.5 | B14: 1 | C14: 43.68
A15: 7 | B15: 1 | C15: 45.05
A16: 7.5 | B16: 1 | C16: 46.41
A17: 8 | B17: 1 | C17: 47.78
A18: 8.5 | B18: 1 | C18: 49.15
... A175: 44 | B175: 2 | C175: 150.92
A176: 45 | B176: 2 | C176: 153.37 | F176: =C189*2 -> 370.48
A177: 46 | B177: 2 | C177: 155.82
A178: 47 | B178: 2 | C178: 158.27
A179: 48 | B179: 2 | C179: 160.72
A180: 49 | B180: 2 | C180: 163.17
A181: 50 | B181: 2 | C181: 165.63
A182: 51 | B182: 2 | C182: 168.08
A183: 52 | B183: 2 | C183: 170.53
A184: 53 | B184: 2 | C184: 172.98
A185: 54 | B185: 2 | C185: 175.43
A186: 55 | B186: 2 | C186: 177.88
A187: 56 | B187: 2 | C187: 180.33
A188: 57 | B188: 2 | C188: 182.78
... A701: 70 | B701: 7 | C701: 919.02

Sheet TarifsChronopost
A1: Poids | B1: Zones | C1: Tarifs
A2: 0.5 | B2: 1 | C2: 6.9
A3: 1 | B3: 1 | C3: 8.8
A4: 1.5 | B4: 1 | C4: 10.35
A5: 2 | B5: 1 | C5: 11.45
A6: 2.5 | B6: 1 | C6: 12.55
A7: 3 | B7: 1 | C7: 13.65
A8: 3.5 | B8: 1 | C8: 14.75
A9: 4 | B9: 1 | C9: 15.85
A10: 4.5 | B10: 1 | C10: 16.95
A11: 5 | B11: 1 | C11: 18.05
A12: 5.5 | B12: 1 | C12: 19.15
A13: 6 | B13: 1 | C13: 20.25
... A61: 30 | B61: 1 | C61: 94.05
A62: 30.5 | B62: 1 | C62: =C61+1.9 -> 95.95
A63: 31 | B63: 1 | C63: =C62+1.9 -> 97.85
A64: 31.5 | B64: 1 | C64: =C63+1.9 -> 99.75
A65: 32 | B65: 1 | C65: =C64+1.9 -> 101.65
A66: 32.5 | B66: 1 | C66: =C65+1.9 -> 103.55
A67: 33 | B67: 1 | C67: =C66+1.9 -> 105.45
A68: 33.5 | B68: 1 | C68: =C67+1.9 -> 107.35
A69: 34 | B69: 1 | C69: =C68+1.9 -> 109.25
A70: 34.5 | B70: 1 | C70: =C69+1.9 -> 111.15
A71: 35 | B71: 1 | C71: =C70+1.9 -> 113.05
A72: 35.5 | B72: 1 | C72: =C71+1.9 -> 114.95
A73: 36 | B73: 1 | C73: =C72+1.9 -> 116.85
... A141: 70 | B141: 1 | C141: =C140+1.9 -> 246.05
A142: 0.5 | B142: 2 | C142: 6.9
A143: 1 | B143: 2 | C143: 8.8
A144: 1.5 | B144: 2 | C144: 10.35
A145: 2 | B145: 2 | C145: 11.45
A146: 2.5 | B146: 2 | C146: 12.55
A147: 3 | B147: 2 | C147: 13.65
A148: 3.5 | B148: 2 | C148: 14.75
A149: 4 | B149: 2 | C149: 15.85
A150: 4.5 | B150: 2 | C150: 16.95
A151: 5 | B151: 2 | C151: 18.05
A152: 5.5 | B152: 2 | C152: 19.15
A153: 6 | B153: 2 | C153: 20.25
... A201: 30 | B201: 2 | C201: 94.05
...

Sheet Supplément carburant
A1: Supplément carburant
A4: Supplément Carburant | B4: UPS | D4: Chronopost | F4: DHL
B5: UE | C5: Monde | D5: UE | E5: Monde | F5: UE | G5: Monde
B6: 0.1675 | C6: 0.1725 | D6: 0.1985 | E6: 0.1985 | F6: 0.1725 | G6: 0.1725

Sheet PaysZone
A1: Pays | B1: UPS | C1: Chronopost | D1: DHL
A2: Afghanistan | B2: 12 | C2: 7 | D2: 7 | E2: v
A3: Afrique du Sud | B3: 11 | C3: 6 | D3: 6 | E3: v
A4: Albanie | B4: 8 | C4: 4 | D4: 4 | E4: v
A5: Algérie | B5: 12 | C5: 6 | D5: 6 | E5: v
A6: Allemagne | B6: 3 | C6: 1 | D6: 1 | E6: v
A7: Andorre | B7: 6 | C7: 4 | D7: 4 | E7: v
A8: Angola | B8: 13 | C8: 6 | D8: 7 | E8: v
A9: Anguilla C.B. | B9: 11 | C9: 5 | D9: 7 | E9: v
A10: Antigua | B10: 11 | C10: 5 | D10: 7 | E10: v
A11: Arabie Saoudite | B11: 12 | C11: 6 | D11: 7 | E11: v
A12: Argentine | B12: 12 | C12: 5 | D12: 7 | E12: v
A13: Arménie | B13: 13 | C13: 4 | D13: 7 | E13: v
... A26: Bielorussie | B26: 8 | C26: 4 | D26: 7 | E26: v
A27: Birmanie (Myanmar) | B27: 13 | C27: non desservi | D27: 7 | E27: v
A28: Bolivie | B28: 13 | C28: 5 | D28: 7 | E28: v
A29: Bonaire | B29: 12 | C29: non desservi | D29: 7 | E29: v
A30: Bosnie Herzegovine | B30: 8 | C30: 4 | D30: 4 | E30: v
A31: Botswana | B31: 13 | C31: 6 | D31: 7 | E31: v
A32: Brunei | B32: 13 | C32: 7 | D32: 7 | E32: v
A33: Brésil | B33: 12 | C33: 5 | D33: 7 | E33: x
A34: Bulgarie | B34: 52 | C34: 3 | D34: 3 | E34: x
A35: Burkina Faso | B35: 12 | C35: 6 | D35: 7 | E35: x
A36: Burundi | B36: 13 | C36: 6 | D36: 7 | E36: v
A37: Bénin | B37: 13 | C37: 6 | D37: 7 | E37: x
A38: Cambodge | B38: 13 | C38: 7 | D38: 6 | E38: v
A39: Cameroun | B39: 12 | C39: 6 | D39: 7 | E39: v
A40: Canada | B40: 10 | C40: 5 | D40: 5 | E40: v
A41: Canaries | B41: 8 | C41: non desservi | D41: 7 | E41: v
A42: Cap Vert (îles) | B42: 13 | C42: 6 | D42: 7 | E42: v
A43: Cayman (îles) | B43: 11 | C43: non desservi | D43: 7 | E43: v | I43: =IF(G58="Brésil",12,IF(G58="Bulgarie",52,IF(G58="Burkina Faso",12,IF(G58="Bénin",13,IF(G58="Croatie",51,IF(G58="Cuba","nondésservi",IF(G58="Libye",12,IF(G58="Monténégro",8,IF(G58="Norvège",6,IF(G58="Portugal",4,IF(G58="Russie",10,IF(G58="Réunion","nondésservi",IF(G58="Suisse",6,IF(G58="Syrie","nondesservi",IF(G58="Sénégal",12,IF(G58="Taïwan",11,IF(G58="Vietnam",12,0))))))))))))))))) -> 13
A44: Centrafrique | B44: 12 | C44: non desservi | D44: 7 | E44: v
A45: Chili | B45: 13 | C45: 5 | D45: 7 | E45: v
A46: Chine | B46: 11 | C46: 7 | D46: 6 | E46: v
A47: Chypre | B47: 52 | C47: 3 | D47: 3 | E47: v
A48: Colombie | B48: 13 | C48: 5 | D48: 7 | E48: v
A49: Comores | B49: 7 | C49: 6 | D49: 7 | E49: v
A50: Congo | B50: 12 | C50: 6 | D50: 7 | E50: v
A51: Congo (Rép.D.) | B51: 12 | C51: 6 | D51: 7 | E51: v
A52: Cook (îles) | B52: 13 | C52: non desservi | D52: 7 | E52: v
...

Sheet Test 12 pays 5-12-30kg
B1: 5 | E1: 12 | H1: 30
B2: UPS | C2: DHL | D2: Chronopost | E2: UPS | F2: DHL | G2: Chronopost | H2: UPS | I2: DHL | J2: Chronopost
A3: Canada | B3: 62.95 | C3: 66.27 | D3: 50.87 | E3: 93.67 | F3: 93.41 | G3: 91.26 | H3: 182.08 | I3: 196.76 | J3: 228.84
A4: Etats-Unis | B4: 62.95 | C4: 66.27 | D4: 50.87 | E4: 93.67 | F4: 93.41 | G4: 91.26 | H4: 182.08 | I4: 196.76 | J4: 228.84
A5: Chine | B5: 100.47 | C5: 96.06 | D5: 65.85 | E5: 166.85 | F5: 164.07 | G5: 116.55 | H5: 353.16 | I5: 355.36 | J5: 289.37
A6: Coree du sud | B6: 100.47 | C6: 96.06 | D6: 65.85 | E6: 166.85 | F6: 164.07 | G6: 116.55 | H6: 353.16 | I6: 355.36 | J6: 289.37
A7: Japon | B7: 100.47 | C7: 96.06 | D7: 65.85 | E7: 166.85 | F7: 164.07 | G7: 116.55 | H7: 353.16 | I7: 355.36 | J7: 289.37
A8: Norvège | B8: 55.41 | C8: 65.74 | D8: 46.79 | E8: 74.31 | F8: 91.63 | G8: 84.19 | H8: 133.85 | I8: 168.17 | J8: 212.19
A9: Allemagne | B9: 41.17 | C9: 47.02 | D9: 22.34 | E9: 60.08 | F9: 67.84 | G9: 42 | H9: 96.22 | I9: 107.46 | J9: 113.43
A10: Angleterre | B10: 41.17 | C10: 47.02 | D10: 22.34 | E10: 60.08 | F10: 67.84 | G10: 42 | H10: 96.22 | I10: 107.46 | J10: 113.43
A11: Belgique | B11: 41.17 | C11: 47.02 | D11: 22.34 | E11: 60.08 | F11: 67.84 | G11: 42 | H11: 96.22 | I11: 107.46 | J11: 113.43
A12: Espagne | B12: 41.17 | C12: 47.02 | D12: 22.34 | E12: 60.08 | F12: 67.84 | G12: 42 | H12: 96.22 | I12: 107.46 | J12: 113.43
A13: Suède | B13: 85.76 | C13: 53.47 | D13: 32.05 | E13: 70.7 | F13: 84.31 | G13: 42 | H13: 125.23 | I13: 141.04 | J13: 113.43
A14: Hongrie | B14: 85.76 | C14: 58.31 | D14: 32.05 | E14: 154.46 | F14: 84.31 | G14: 62.61 | H14: 336.57 | I14: 141.04 | J14: 160.89
... A16: République-Tchèque | B16: 85.76 | C16: 53.47 | D16: 32.05 | E16: 156.46 | F16: 79.65 | G16: 62.61 | H16: 336.57 | I16: 137.32 | J16: 160.89
C19: Canada / Chine / Allemagne / Hongris / Norvège
