Workbook

Sheet Facture
B7: Code article | C7: Description | D7: Quantité | E7: Prix unitaire | F7: Total
C8: =IF(B8="","",VLOOKUP(B8,Articles!B$3:E$173,2,FALSE)) | E8: =IF(B8="","",VLOOKUP(B8,Articles!B$3:E$173,3,FALSE)) | F8: =IF(D8="","",E8*D8)
C9: =IF(B9="","",VLOOKUP(B9,Articles!B$3:E$173,2,FALSE)) | E9: =IF(B9="","",VLOOKUP(B9,Articles!B$3:E$173,3,FALSE)) | F9: =IF(D9="","",E9*D9)
C10: =IF(B10="","",VLOOKUP(B10,Articles!B$3:E$173,2,FALSE)) | E10: =IF(B10="","",VLOOKUP(B10,Articles!B$3:E$173,3,FALSE)) | F10: =IF(D10="","",E10*D10)
C11: =IF(B11="","",VLOOKUP(B11,Articles!B$3:E$173,2,FALSE)) | E11: =IF(B11="","",VLOOKUP(B11,Articles!B$3:E$173,3,FALSE)) | F11: =IF(D11="","",E11*D11)
C12: =IF(B12="","",VLOOKUP(B12,Articles!B$3:E$173,2,FALSE)) | E12: =IF(B12="","",VLOOKUP(B12,Articles!B$3:E$173,3,FALSE)) | F12: =IF(D12="","",E12*D12)
C13: =IF(B13="","",VLOOKUP(B13,Articles!B$3:E$173,2,FALSE)) | E13: =IF(B13="","",VLOOKUP(B13,Articles!B$3:E$173,3,FALSE)) | F13: =IF(D13="","",E13*D13)
C14: =IF(B14="","",VLOOKUP(B14,Articles!B$3:E$173,2,FALSE)) | E14: =IF(B14="","",VLOOKUP(B14,Articles!B$3:E$173,3,FALSE)) | F14: =IF(D14="","",E14*D14)
C15: =IF(B15="","",VLOOKUP(B15,Articles!B$3:E$173,2,FALSE)) | E15: =IF(B15="","",VLOOKUP(B15,Articles!B$3:E$173,3,FALSE)) | F15: =IF(D15="","",E15*D15)
C16: =IF(B16="","",VLOOKUP(B16,Articles!B$3:E$173,2,FALSE)) | E16: =IF(B16="","",VLOOKUP(B16,Articles!B$3:E$173,3,FALSE)) | F16: =IF(D16="","",E16*D16)
C17: =IF(B17="","",VLOOKUP(B17,Articles!B$3:E$173,2,FALSE)) | E17: =IF(B17="","",VLOOKUP(B17,Articles!B$3:E$173,3,FALSE)) | F17: =IF(D17="","",E17*D17)
C18: =IF(B18="","",VLOOKUP(B18,Articles!B$3:E$173,2,FALSE)) | E18: =IF(B18="","",VLOOKUP(B18,Articles!B$3:E$173,3,FALSE)) | F18: =IF(D18="","",E18*D18)
C19: =IF(B19="","",VLOOKUP(B19,Articles!B$3:E$173,2,FALSE)) | E19: =IF(B19="","",VLOOKUP(B19,Articles!B$3:E$173,3,FALSE)) | F19: =IF(D19="","",E19*D19)
... C27: =IF(B27="","",VLOOKUP(B27,Articles!B$3:E$173,2,FALSE)) | E27: =IF(B27="","",VLOOKUP(B27,Articles!B$3:E$173,3,FALSE)) | F27: =IF(D27="","",E27*D27)
D29: Total | F29: =SUM(F8:F27) -> 0
D30: Acompte
D31: Solde | F31: =F29-F30 -> 0

Sheet Articles
B2: Code article | C2: Description | D2: Prix Unitaire | E2: Prix d'achat
B3: div1 | C3: Divers | D3: 15 | E3: 5
B4: div2 | C4: Divers | D4: 20 | E4: 10
B5: cab1 | C5: Matériel de cablage | D5: 25 | E5: 10
B6: cab2 | C6: Matériel de cablage | D6: 50 | E6: 15
B7: N170-31100 | C7: Niko Prise sans terre bornes à vis
B8: N170-31300 | C8: Niko Prise sans terre bornes à connexion rapide
B9: N100-66501 | C9: Niko finition pour prise sans terre CREAM
B10: N101-66501 | C10: Niko finition pour prise sans terre BLANC
B11: N122-66501 | C11: Niko finition pour prise sans terre ANTHRACITE
B12: N170-33100 | C12: Niko Prise avec terre
B13: N170-33105 | C13: Niko Prise avec terre | D13: 3.8
B14: N100-66601 | C14: Niko finition pour prise avec terre CREAM
B15: N101-66601 | C15: Niko finition pour prise avec terre BLANC | D15: 1.4
B16: N122-66601 | C16: Niko finition pour prise avec terre ANTHRACITE
B17: N100-76100 | C17: Niko Plaque de recouvrement simple Original CREAM
B18: N101-76100 | C18: Niko Plaque de recouvrement simple Original BLANC | D18: 1.85
B19: N122-76100 | C19: Niko Plaque de recouvrement simple Intense ANTHRACITE
B20: N120-76100 | C20: Niko Plaque de recouvrement simple Intense BLANC
B21: N100-76200 | C21: Niko Plaque de recouvrement double verticale Original CREAM
B22: N101-76200 | C22: Niko Plaque de recouvrement double verticale Original BLANC
B23: N120-76200 | C23: Niko Plaque de recouvrement double verticale Intense BLANC
B24: N122-76200 | C24: Niko Plaque de recouvrement double verticale Intense ANTHRACITE
B25: N100-76300 | C25: Niko Plaque de recouvrement triple verticale Original CREAM
B26: N101-76300 | C26: Niko Plaque de recouvrement triple verticale Original BLANC
B27: N120-76300 | C27: Niko Plaque de recouvrement triple verticale Intense BLANC
B28: N122-76300 | C28: Niko Plaque de recouvrement triple verticale Intense ANTHRACITE
B29: N100-76800 | C29: Niko Plaque de recouvrement double Original CREAM
B30: N101-76800 | C30: Niko Plaque de recouvrement double Original BLANC
... B112: N761-75000 | C112: Niko Hydro double Boite d'encastrement NOIR
B113: HAESC225 | C113: Hager Contacteur 2P25A NO | D113: 49.28
B114: HAMWN206A | C114: Hager Disjoncteur 3Ka 2P 6A
B115: HAMWN210A | C115: Hager Disjoncteur 3Ka 2P 10A
B116: HAMWN216A | C116: Hager Disjoncteur 3Ka 2P 16A | D116: 7.54 | E116: 4.43
B117: HAMWN220A | C117: Hager Disjoncteur 3Ka 2P 20A | D117: 7.54 | E117: 4.43
C118: Hager Disjoncteur 3Ka 4P 25A | D118: 30.73 | E118: 19.43
B119: HAMWN232A | C119: Hager Disjoncteur 3Ka 2P 32A
B120: HAKDN363B | C120: Hager Barre de pontage 3P 63A 10mm² | D120: 64.88
B121: HAKDN450E | C121: Hager Barre de pontage 3P+N 80A | D121: 114.46 | E121: 72.4
B122: HACDA440E | C122: Hager Differentiel 4P 40A 30Ma | D122: 66 | E122: 37.95
...
