Workbook

Sheet CEM,PA,Forage
C1: 22 | H1: 23 | O1: 24 | V1: 25 | AC1: 26
A2: Défauts Casse / Date | C2: 44713 | D2: 44714 | E2: 44715 | F2: 44716 | G2: 44717 | H2: 44718 | I2: 44719 | J2: 44720 | K2: 44721 | L2: 44722 | M2: 44723 | N2: 44724 | O2: 44725 | P2: 44726 | Q2: 44727 | R2: 44728 | S2: 44729 | T2: 44730 | U2: 44731 | V2: 44732 | W2: 44733 | X2: 44734 | Y2: 44735 | Z2: 44736 | AA2: 44737 | AB2: 44738 | AC2: 44739 | AD2: 44740 | AE2: 44741 | AF2: 44742 | AH2: Total Mensuel
A3: Cem/contenance | B3: Calcinures | AH3: =SUM(C3:AF3) -> 0
B4: Contenances | C4: 2 | D4: 4 | E4: 0 | F4: 0 | G4: 0 | J4: 6 | L4: 4 | O4: 1 | R4: 4 | S4: 2 | W4: 1 | AH4: =SUM(C4:AF4) -> 24
AH5: =SUM(C5:AF5) -> 0
AH6: =SUM(C6:AF6) -> 0
AH7: =SUM(C7:AF7) -> 0
AH8: =SUM(C8:AF8) -> 0
A9: Nb pièces traitées | C9: 109 | D9: 105 | J9: 6 | L9: 4 | O9: 47 | R9: 90 | S9: 45 | W9: 98 | AH9: =SUM(C9:AF9) -> 504
A10: Nb pièce NC | C10: =SUM(C3:C6) -> 2 | D10: =SUM(D3:D6) -> 4 | E10: =SUM(E3:E6) -> 0 | F10: =SUM(F3:F6) -> 0 | G10: =SUM(G3:G6) -> 0 | H10: =SUM(H3:H6) -> 0 | I10: =SUM(I3:I6) -> 0 | J10: =SUM(J3:J6) -> 6 | ... AF10: =SUM(AF3:AF6) -> 0 | AH10: =SUM(C10:AF10) -> 24
A11: Taux de rebut | C11: =C10/C9 -> 0.018348624 | D11: =D10/D9 -> 0.038095238 | E11: =E10/E9 -> #DIV/0! | F11: =F10/F9 -> #DIV/0! | G11: =G10/G9 -> #DIV/0! | H11: =H10/H9 -> #DIV/0! | I11: =I10/I9 -> #DIV/0! | J11: =J10/J9 -> 1 | ... AF11: =AF10/AF9 -> #DIV/0! | AH11: =IFERROR(AH10/AH9*100,"") -> 4.7619048
A14: PA | B14: Mauvais rincage PA | AH14: =SUM(C14:AF14) -> 0
B15: Casse PA | R15: 1 | AH15: =SUM(C15:AF15) -> 1
B16: Bleu d'acide | AH16: =SUM(C16:AF16) -> 0
AH17: =SUM(C17:AF17) -> 0
AH18: =SUM(C18:AF18) -> 0
AH19: =SUM(C19:AF19) -> 0
A20: Nb pièces traitées | R20: 77 | AH20: =SUM(C20:AF20) -> 77
A21: Nb pièce NC | C21: =SUM(C14:C17) -> 0 | D21: =SUM(D14:D17) -> 0 | E21: =SUM(E14:E17) -> 0 | F21: =SUM(F14:F17) -> 0 | G21: =SUM(G14:G17) -> 0 | H21: =SUM(H14:H17) -> 0 | I21: =SUM(I14:I17) -> 0 | J21: =SUM(J14:J17) -> 0 | ... AF21: =SUM(AF14:AF17) -> 0 | AH21: =SUM(C21:AF21) -> 1
A22: Taux de rebut | C22: =C21/C20 -> #DIV/0! | D22: =D21/D20 -> #DIV/0! | E22: =E21/E20 -> #DIV/0! | F22: =F21/F20 -> #DIV/0! | G22: =G21/G20 -> #DIV/0! | H22: =H21/H20 -> #DIV/0! | I22: =I21/I20 -> #DIV/0! | J22: =J21/J20 -> #DIV/0! | ... AF22: =AF21/AF20 -> #DIV/0! | AH22: =IFERROR(AH21/AH20*100,"") -> 1.2987013
A24: Forage | B24: Col Large | C24: 1 | D24: 1 | H24: 3 | I24: 6 | J24: 3 | K24: 1 | L24: 1 | P24: 2 | Q24: 1 | R24: 2 | S24: 1 | W24: 1 | AH24: =SUM(C24:AF24) -> 23
B25: Col court | R25: 1 | AH25: =SUM(C25:AF25) -> 1
B26: Casse Forage | I26: 2 | Q26: 1 | R26: 1 | AH26: =SUM(C26:AF26) -> 4
B27: Col Excentrée | J27: 1 | P27: 3 | W27: 1 | AH27: =SUM(C27:AF27) -> 5
B28: Col non Débouchant | D28: 1 | I28: 1 | J28: 1 | K28: 2 | L28: 2 | R28: 1 | AH28: =SUM(C28:AF28) -> 8
B29: Bandeau | D29: 1 | H29: 1 | I29: 4 | K29: 1 | Q29: 1 | R29: 1 | V29: 2 | AH29: =SUM(C29:AF29) -> 11
B30: Col de Travers | C30: 3 | P30: 2 | Q30: 7 | R30: 1 | S30: 6 | V30: 20 | AH30: =SUM(C30:AF30) -> 39
AH31: =SUM(C31:AF31) -> 0
AH32: =SUM(C32:AF32) -> 0
AH33: =SUM(C33:AF33) -> 0
A34: Nb pièces traitées | C34: 80 | D34: 132 | E34: 46 | H34: 87 | I34: 191 | J34: 108 | K34: 68 | L34: 45 | P34: 78 | Q34: 136 | R34: 23 | S34: 41 | V34: =41+21+22+25+11+41 -> 161 | W34: 43 | AH34: =SUM(C34:AF34) -> 1239
A35: Nb pièce NC | C35: =SUM(C24:C31) -> 4 | D35: =SUM(D24:D31) -> 3 | E35: =SUM(E24:E31) -> 0 | F35: =SUM(F24:F31) -> 0 | G35: =SUM(G24:G31) -> 0 | H35: =SUM(H24:H31) -> 4 | I35: =SUM(I24:I31) -> 13 | J35: =SUM(J24:J31) -> 5 | ... AF35: =SUM(AF24:AF31) -> 0 | AH35: =SUM(C35:AF35) -> 91
A36: Taux de rebut | C36: =C35/C34 -> 0.05 | D36: =D35/D34 -> 0.022727273 | E36: =E35/E34 -> 0 | F36: =F35/F34 -> #DIV/0! | G36: =G35/G34 -> #DIV/0! | H36: =H35/H34 -> 0.045977011 | I36: =I35/I34 -> 0.068062827 | J36: =J35/J34 -> 0.046296296 | ... AF36: =AF35/AF34 -> #DIV/0! | AH36: =IFERROR(AH35/AH34*100,"") -> 7.3446328
A39: Reprise Main | B39: Calciné | I39: 2 | R39: 1 | AH39: =SUM(C39:AF39) -> 3
B40: Cogné | D40: 1 | S40: 1 | AH40: =SUM(C40:AF40) -> 2
B41: Casse | P41: 1 | V41: 1 | W41: 1 | AH41: =SUM(C41:AF41) -> 3
B42: Col Large | AH42: =SUM(C42:AF42) -> 0
B43: Epaule déformé | AH43: =SUM(C43:AF43) -> 0
B44: Bandeau retrait | AH44: =SUM(C44:AF44) -> 0
B45: Col intérieur déformé | AH45: =SUM(C45:AF45) -> 0
B46: col de travers | C46: 2 | AH46: =SUM(C46:AF46) -> 2
B47: Autres | AH47: =SUM(C47:AF47) -> 0
AH48: =SUM(C48:AF48) -> 0
A49: Nb pièces traitées | C49: 170 | D49: 43 | E49: 88 | H49: 100 | I49: 168 | J49: 111 | K49: 134 | L49: 46 | O49: 65 | P49: 204 | Q49: 149 | R49: 144 | S49: =17+14+13 -> 44 | V49: 58 | W49: 35 | AH49: =SUM(C49:AF49) -> 1559
A50: Nb pièce NC | C50: =SUM(C39:C46) -> 2 | D50: =SUM(D39:D46) -> 1 | E50: =SUM(E39:E46) -> 0 | F50: =SUM(F39:F46) -> 0 | G50: =SUM(G39:G46) -> 0 | H50: =SUM(H39:H46) -> 0 | I50: =SUM(I39:I46) -> 2 | J50: =SUM(J39:J46) -> 0 | ... AF50: =SUM(AF39:AF46) -> 0 | AH50: =SUM(C50:AF50) -> 10
A51: Taux de rebut | C51: =C50/C49 -> 0.011764706 | D51: =D50/D49 -> 0.023255814 | E51: =E50/E49 -> 0 | F51: =F50/F49 -> #DIV/0! | G51: =G50/G49 -> #DIV/0! | H51: =H50/H49 -> 0 | I51: =I50/I49 -> 0.011904762 | J51: =J50/J49 -> 0 | ... AF51: =AF50/AF49 -> #DIV/0! | AH51: =IFERROR(AH50/AH49*100,"") -> 0.64143682
A54: GS4 | B54: Col large | AH54: =SUM(C54:AF54) -> 0
B55: Col court | AH55: =SUM(C55:AF55) -> 0
B56: Carnette large | AH56: =SUM(C56:AF56) -> 0
B57: Casse forage | AH57: =SUM(C57:AF57) -> 0
B58: Col excentrée | AH58: =SUM(C58:AF58) -> 0
B59: Casse col | AH59: =SUM(C59:AF59) -> 0
B60: Casse fond | AH60: =SUM(C60:AF60) -> 0
B61: Forage trop grand | AH61: =SUM(C61:AF61) -> 0
B62: Col non débouchant | AH62: =SUM(C62:AF62) -> 0
B63: Casse machine | R63: 2 | AH63: =SUM(C63:AF63) -> 2
B64: Col étroit | AH64: =SUM(C64:AF64) -> 0
B65: Fond calciné | AH65: =SUM(C65:AF65) -> 0
B66: Bandeau | AH66: =SUM(C66:AF66) -> 0
B67: Col de travers | AH67: =SUM(C67:AF67) -> 0
B68: Col calcinée | AH68: =SUM(C68:AF68) -> 0
B69: Col tordu | AH69: =SUM(C69:AF69) -> 0
B70: Col filée | AH70: =SUM(C70:AF70) -> 0
B71: Col avant rebut GS4 | AH71: =SUM(C71:AF71) -> 0
B72: Casse avant GS4 | Q72: 1 | AH72: =SUM(C72:AF72) -> 1
B73: Bidon calciné | AH73: =SUM(C73:AF73) -> 0
A74: Nb pièces traitées | C74: 200 | D74: 132 | E74: 46 | H74: 87 | I74: 191 | J74: 108 | K74: 62 | L74: 51 | P74: 78 | Q74: 137 | R74: 85 | V74: =22+25+11+41 -> 99 | W74: 43 | AH74: =SUM(C74:AF74) -> 1319
A75: Nb pièce NC | C75: =SUM(C54:C73) -> 0 | D75: =SUM(D54:D73) -> 0 | E75: =SUM(E54:E73) -> 0 | F75: =SUM(F54:F73) -> 0 | G75: =SUM(G54:G73) -> 0 | H75: =SUM(H54:H73) -> 0 | I75: =SUM(I54:I73) -> 0 | J75: =SUM(J54:J73) -> 0 | ... AF75: =SUM(AF54:AF73) -> 0 | AH75: =SUM(C75:AF75) -> 3
A76: Taux de rebut | C76: =C75/C74 -> 0 | D76: =D75/D74 -> 0 | E76: =E75/E74 -> 0 | F76: =F75/F74 -> #DIV/0! | G76: =G75/G74 -> #DIV/0! | H76: =H75/H74 -> 0 | I76: =I75/I74 -> 0 | J76: =J75/J74 -> 0 | ... AF76: =AF75/AF74 -> #DIV/0! | AH76: =IFERROR(AH75/AH74*100,"") -> 0.22744503

Sheet 1er choix
A1: Défauts Casse / Date | C1: 44713 | D1: =C1+1 -> 44714 | E1: =D1+1 -> 44715 | F1: =E1+1 -> 44716 | G1: =F1+1 -> 44717 | H1: =G1+1 -> 44718 | I1: =H1+1 -> 44719 | J1: =I1+1 -> 44720 | K1: =J1+1 -> 44721 | ... AF1: =AE1+1 -> 44742 | AH1: Total Mensuel
A2: Bandeau | B2: Bouillons(Ba) | C2: 3 | D2: 1 | I2: 1 | O2: 3 | R2: 1 | S2: 1 | V2: 1 | AH2: =SUM(C2:AF2) -> 11
B3: Cailloux (Ba) | C3: 2 | H3: 2 | K3: 3 | O3: 5 | Q3: 1 | R3: 2 | S3: 2 | W3: 2 | AH3: =SUM(C3:AF3) -> 19
B4: Coups(Ba) | E4: 3 | J4: 2 | K4: 1 | R4: 1 | V4: 1 | W4: 1 | AH4: =SUM(C4:AF4) -> 9
B5: Retrait | AH5: =SUM(C5:AF5) -> 0
B6: Voile | C6: 2 | D6: 2 | E6: 2 | H6: 1 | J6: 5 | K6: 1 | O6: 2 | Q6: 1 | V6: 1 | AH6: =SUM(C6:AF6) -> 17
B7: Calcinure(Ba) | C7: 1 | O7: 2 | AH7: =SUM(C7:AF7) -> 3
B8: Marque galette | AH8: =SUM(C8:AF8) -> 0
B9: Déformation | O9: 2 | AH9: =SUM(C9:AF9) -> 2
B10: Picots Int. | C10: 1 | R10: 6 | W10: 2 | AH10: =SUM(C10:AF10) -> 9
B11: Ebreche | AH11: =SUM(C11:AF11) -> 0
B12: Lèvre | AH12: =SUM(C12:AF12) -> 0
B13: Pété | C13: 1 | H13: 1 | I13: 1 | AH13: =SUM(C13:AF13) -> 3
B14: Forage | K14: 1 | AH14: =SUM(C14:AF14) -> 1
B15: Verre Collée(Ba) | W15: 1 | AH15: =SUM(C15:AF15) -> 1
B16: Autres | AH16: =SUM(C16:AF16) -> 0
B17: Trainée d'étoile | W17: 1 | AH17: =SUM(C17:AF17) -> 1
AH18: =SUM(C18:AF18) -> 0
A19: Bidon | B19: Bouillons (Bi) | C19: 1 | E19: 2 | H19: 2 | K19: 1 | Q19: 1 | AH19: =SUM(C19:AF19) -> 7
B20: Cailloux (Bi) | C20: 4 | D20: 1 | E20: 12 | H20: 1 | K20: 1 | O20: 3 | Q20: 1 | R20: 1 | S20: 1 | AH20: =SUM(C20:AF20) -> 25
B21: Calcinure (Bi) | C21: 8 | D21: 1 | H21: 6 | I21: 1 | J21: 7 | K21: 5 | O21: 1 | Q21: 2 | R21: 2 | S21: 1 | AH21: =SUM(C21:AF21) -> 34
B22: Raie inter | J22: 2 | V22: 1 | AH22: =SUM(C22:AF22) -> 3
B23: Enfoncé | C23: 2 | H23: 1 | I23: 1 | AH23: =SUM(C23:AF23) -> 4
B24: Verres collés(Bi) | C24: 2 | H24: 4 | I24: 2 | J24: 3 | K24: 2 | O24: 1 | Q24: 1 | R24: 2 | AH24: =SUM(C24:AF24) -> 17
B25: Bleu Acide | AH25: =SUM(C25:AF25) -> 0
B26: Coups | C26: 1 | H26: 1 | K26: 1 | AH26: =SUM(C26:AF26) -> 3
B27: Picots Fond | C27: 2 | H27: 1 | I27: 1 | J27: 1 | O27: 4 | Q27: 4 | R27: 1 | S27: 5 | AH27: =SUM(C27:AF27) -> 19
B28: Forage excentré | H28: 5 | R28: 5 | V28: 2 | W28: 23 | AH28: =SUM(C28:AF28) -> 35
B29: Rayure intérieur | AH29: =SUM(C29:AF29) -> 0
B30: Col travers | AH30: =SUM(C30:AF30) -> 0
B31: Picot Int | V31: 4 | W31: 1 | AH31: =SUM(C31:AF31) -> 5
AH32: =SUM(C32:AF32) -> 0
B33: Col max | V33: 1 | AH33: =SUM(C33:AF33) -> 1
B34: Mauvais rincage PA | W34: 4 | AH34: =SUM(C34:AF34) -> 4
A35: Nb pièces traitées | C35: 170 | D35: 62 | E35: 73 | F35: 0 | H35: 97 | I35: 36 | J35: 106 | K35: 90 | O35: 107 | Q35: 81 | R35: 77 | S35: 38 | V35: 45 | W35: 75 | AH35: =SUM(C35:AF35) -> 1057
A36: Nb pièce NC | C36: =SUM(C2:C34) -> 30 | D36: =SUM(D2:D34) -> 5 | E36: =SUM(E2:E34) -> 19 | F36: =SUM(F2:F34) -> 0 | G36: =SUM(G2:G34) -> 0 | H36: =SUM(H2:H34) -> 25 | I36: =SUM(I2:I34) -> 7 | J36: =SUM(J2:J34) -> 20 | ... AF36: =SUM(AF2:AF34) -> 0 | AH36: =SUM(C36:AF36) -> 233
A37: Taux de rebut | C37: =C36/C35 -> 0.17647059 | D37: =D36/D35 -> 0.080645161 | E37: =E36/E35 -> 0.26027397 | F37: =F36/F35 -> #DIV/0! | G37: =G36/G35 -> #DIV/0! | H37: =H36/H35 -> 0.25773196 | I37: =I36/I35 -> 0.19444444 | J37: =J36/J35 -> 0.18867925 | ... AF37: =AF36/AF35 -> #DIV/0! | AH37: =IFERROR(AH36/AH35*100,"") -> 22.043519
A38: NB pièces NC défaut bandeau | C38: =SUM(C2:C18) -> 10 | D38: =SUM(D2:D18) -> 3 | E38: =SUM(E2:E18) -> 5 | F38: =SUM(F2:F18) -> 0 | G38: =SUM(G2:G18) -> 0 | H38: =SUM(H2:H18) -> 4 | I38: =SUM(I2:I18) -> 2 | J38: =SUM(J2:J18) -> 7 | ... AF38: =SUM(AF2:AF18) -> 0 | AH38: =SUM(AH2:AH18) -> 76
A39: Taux de rebut Défaut bandeau | C39: =C38/C35 -> 0.058823529 | D39: =D38/D35 -> 0.048387097 | E39: =E38/E35 -> 0.068493151 | F39: =F38/F35 -> #DIV/0! | G39: =G38/G35 -> #DIV/0! | H39: =H38/H35 -> 0.041237113 | I39: =I38/I35 -> 0.055555556 | J39: =J38/J35 -> 0.066037736 | ... AF39: =AF38/AF35 -> #DIV/0! | AH39: =IFERROR(AH38/AH35*100,"") -> 7.1901608
A40: Nb Pièce Défaut Bidon | C40: =SUM(C19:C34) -> 20 | D40: =SUM(D19:D34) -> 2 | E40: =SUM(E19:E34) -> 14 | F40: =SUM(F19:F34) -> 0 | G40: =SUM(G19:G34) -> 0 | H40: =SUM(H19:H34) -> 21 | I40: =SUM(I19:I34) -> 5 | J40: =SUM(J19:J34) -> 13 | ... AF40: =SUM(AF19:AF34) -> 0 | AH40: =SUM(AH19:AH34) -> 157
A41: Taux de rebuts défaut Bidon | C41: =C40/C35 -> 0.11764706 | D41: =D40/D35 -> 0.032258065 | E41: =E40/E35 -> 0.19178082 | F41: =F40/F35 -> #DIV/0! | G41: =G40/G35 -> #DIV/0! | H41: =H40/H35 -> 0.21649485 | I41: =I40/I35 -> 0.13888889 | J41: =J40/J35 -> 0.12264151 | ... AF41: =AF40/AF35 -> #DIV/0! | AH41: =IFERROR(AH40/AH35*100,"") -> 14.853359
A43: Défauts Réparation / Date | C43: 44713 | D43: =C43+1 -> 44714 | E43: =D43+1 -> 44715 | F43: =E43+1 -> 44716 | G43: =F43+1 -> 44717 | H43: =G43+1 -> 44718 | I43: =H43+1 -> 44719 | J43: =I43+1 -> 44720 | K43: =J43+1 -> 44721 | ... AF43: =AE43+1 -> 44742 | AH43: Total Mensuel
A44: Bandeau | B44: Picots | V44: 2 | W44: 5
B45: Plis, Virgules
B46: Coup | V46: 2
B47: Marque Galette
B48: Gravure Côté | V48: 2 | W48: 5
B49: Autre
B50: Peau d'oranges | V50: 1
B51: Raies | V51: 6 | W51: 2
B52: Mousse | V52: 3 | W52: 1
A61: Bidon | B61: Picots | V61: 10 | W61: 16
B62: Raies
B63: Plis, Virgules
B64: Calcinures
B65: Coups
B66: Marque Galette
B67: Marque Rep | V67: 2
B68: Mousse | V68: 2 | W68: 2
B69: Barbe
B70: Ebreche Polie | W70: 2
B71: Crôute | V71: 1
A74: Fond | B74: Picots/plis | V74: 2 | W74: 4
B75: Raies | V75: 1 | W75: 2
B76: Gravure
A77: Nb pièces traitées | C77: =C35 -> 170 | D77: =D35 -> 62 | E77: =E35 -> 73 | F77: =F35 -> 0 | G77: =G35 -> 0 | H77: =H35 -> 97 | I77: =I35 -> 36 | J77: =J35 -> 106 | ... AF77: =AF35 -> 0
A78: Nb pièce à rep | V78: =SUM(V44:V76) -> 34 | W78: =SUM(W44:W76) -> 39 | X78: =SUM(X44:X76) -> 0 | Y78: =SUM(Y44:Y76) -> 0 | Z78: =SUM(Z44:Z76) -> 0 | AA78: =SUM(AA44:AA76) -> 0 | AB78: =SUM(AB44:AB76) -> 0 | AC78: =SUM(AC44:AC76) -> 0 | ... AF78: =SUM(AF44:AF76) -> 0
A79: Taux de rep | C79: =C78/C77 -> 0 | D79: =D78/D77 -> 0 | E79: =E78/E77 -> 0 | F79: =F78/F77 -> #DIV/0! | G79: =G78/G77 -> #DIV/0! | H79: =H78/H77 -> 0 | I79: =I78/I77 -> 0 | J79: =J78/J77 -> 0 | ... AF79: =AF78/AF77 -> #DIV/0!
A80: NB pièces à rep défaut bandeau | V80: =SUM(V44:V60) -> 16 | W80: =SUM(W44:W60) -> 13 | X80: =SUM(X44:X60) -> 0 | Y80: =SUM(Y44:Y60) -> 0 | Z80: =SUM(Z44:Z60) -> 0 | AA80: =SUM(AA44:AA60) -> 0 | AB80: =SUM(AB44:AB60) -> 0 | AC80: =SUM(AC44:AC60) -> 0 | ... AF80: =SUM(AF44:AF60) -> 0
A81: Taux de rep Défaut bandeau | C81: =C80/C77 -> 0 | D81: =D80/D77 -> 0 | E81: =E80/E77 -> 0 | F81: =F80/F77 -> #DIV/0! | G81: =G80/G77 -> #DIV/0! | H81: =H80/H77 -> 0 | I81: =I80/I77 -> 0 | J81: =J80/J77 -> 0 | ... AF81: =AF80/AF77 -> #DIV/0!
A82: Nb Pièce à rep Défaut Bidon | V82: =SUM(V61:V72) -> 15 | W82: =SUM(W61:W72) -> 20 | X82: =SUM(X61:X72) -> 0 | Y82: =SUM(Y61:Y72) -> 0 | Z82: =SUM(Z61:Z72) -> 0 | AA82: =SUM(AA61:AA72) -> 0 | AB82: =SUM(AB61:AB72) -> 0 | AC82: =SUM(AC61:AC72) -> 0 | ... AF82: =SUM(AF61:AF72) -> 0
A83: Taux de rep défaut Bidon | C83: =C82/C77 -> 0 | D83: =D82/D77 -> 0 | E83: =E82/E77 -> 0 | F83: =F82/F77 -> #DIV/0! | G83: =G82/G77 -> #DIV/0! | H83: =H82/H77 -> 0 | I83: =I82/I77 -> 0 | J83: =J82/J77 -> 0 | ... AF83: =AF82/AF77 -> #DIV/0!
A84: Nb Pièce à rep Défaut Fond | V84: =SUM(V74:V76) -> 3 | W84: =SUM(W74:W76) -> 6 | X84: =SUM(X74:X76) -> 0 | Y84: =SUM(Y74:Y76) -> 0 | Z84: =SUM(Z74:Z76) -> 0 | AA84: =SUM(AA74:AA76) -> 0 | AB84: =SUM(AB74:AB76) -> 0 | AC84: =SUM(AC74:AC76) -> 0 | ... AF84: =SUM(AF74:AF76) -> 0
A85: Taux de rep défaut Fond | C85: =C84/C77 -> 0 | D85: =D84/D77 -> 0 | E85: =E84/E77 -> 0 | F85: =F84/F77 -> #DIV/0! | G85: =G84/G77 -> #DIV/0! | H85: =H84/H77 -> 0 | I85: =I84/I77 -> 0 | J85: =J84/J77 -> 0 | ... AF85: =AF84/AF77 -> #DIV/0!
A87: Pièces conforme | S87: =S35-S36-S78 -> 28 | T87: =T35-T36-T78 -> 0 | U87: =U35-U36-U78 -> 0 | V87: =V35-V36-V78 -> 0 | W87: =W35-W36-W78 -> 1 | X87: =X35-X36-X78 -> 0 | Y87: =Y35-Y36-Y78 -> 0 | Z87: =Z35-Z36-Z78 -> 0 | ... AF87: =AF35-AF36-AF78 -> 0
A88: Taux de pièces Conforme | S88: =S87/S35 -> 0.73684211 | T88: =T87/T35 -> #DIV/0! | U88: =U87/U35 -> #DIV/0! | V88: =IFERROR(V87/V35*100,"") -> 0 | W88: =IFERROR(W87/W35*100,"") -> 1.3333333 | X88: =IFERROR(X87/X35*100,"") | Y88: =IFERROR(Y87/Y35*100,"") | Z88: =IFERROR(Z87/Z35*100,"") | AA88: =IFERROR(AA87/AA35*100,"") | AB88: =IFERROR(AB87/AB35*100,"") | AC88: =IFERROR(AC87/AC35*100,"") | ... AF88: =IFERROR(AF87/AF35*100,"")

Sheet Choix Rep
A1: Défauts Casse / Date | C1: 44713 | D1: =C1+1 -> 44714 | E1: =D1+1 -> 44715 | F1: =E1+1 -> 44716 | G1: =F1+1 -> 44717 | H1: =G1+1 -> 44718 | I1: =H1+1 -> 44719 | J1: =I1+1 -> 44720 | K1: =J1+1 -> 44721 | ... AF1: =AE1+1 -> 44742 | AH1: Total Mensuel
A2: Bandeau | B2: Bouillons(Ba) | E2: 1 | R2: 1 | W2: 1 | AH2: =SUM(C2:AF2) -> 3
B3: Cailloux (Ba) | D3: 5 | E3: 1 | Q3: 1 | R3: 1 | AH3: =SUM(C3:AF3) -> 8
B4: Coups(Ba) | C4: 3 | D4: 2 | AH4: =SUM(C4:AF4) -> 5
B5: Retrait | K5: 2 | AH5: =SUM(C5:AF5) -> 2
B6: Voile | I6: 1 | J6: 1 | W6: 1 | AH6: =SUM(C6:AF6) -> 3
B7: Calcinure(Ba) | AH7: =SUM(C7:AF7) -> 0
B8: Marque galette | AH8: =SUM(C8:AF8) -> 0
B9: Déformation | AH9: =SUM(C9:AF9) -> 0
B10: Picots Int. | AH10: =SUM(C10:AF10) -> 0
B11: Ebreche | AH11: =SUM(C11:AF11) -> 0
B12: Lèvre | AH12: =SUM(C12:AF12) -> 0
B13: Pété | AH13: =SUM(C13:AF13) -> 0
B14: Forage | AH14: =SUM(C14:AF14) -> 0
B15: Verre Collée(Ba) | AH15: =SUM(C15:AF15) -> 0
B16: Autres | AH16: =SUM(C16:AF16) -> 0
AH17: =SUM(C17:AF17) -> 0
AH18: =SUM(C18:AF18) -> 0
A19: Bidon | B19: Bouillons (Bi) | P19: 2 | W19: 1 | AH19: =SUM(C19:AF19) -> 3
B20: Cailloux (Bi) | D20: 2 | E20: 1 | K20: 3 | P20: 1 | R20: 1 | W20: 1 | AH20: =SUM(C20:AF20) -> 9
B21: Calcinure (Bi) | C21: 1 | I21: 2 | J21: 2 | P21: 1 | W21: 1 | AH21: =SUM(C21:AF21) -> 7
B22: Raie inter | E22: 1 | AH22: =SUM(C22:AF22) -> 1
B23: Enfoncé | I23: 1 | P23: 1 | R23: 1 | W23: 1 | AH23: =SUM(C23:AF23) -> 4
B24: Verres collés(Bi) | D24: 2 | P24: 1 | W24: 2 | AH24: =SUM(C24:AF24) -> 5
B25: Bleu Acide | AH25: =SUM(C25:AF25) -> 0
B26: Coups | J26: 1 | P26: 2 | AH26: =SUM(C26:AF26) -> 3
B27: Picots Fond | AH27: =SUM(C27:AF27) -> 0
B28: Potée | P28: 2 | R28: 1 | AH28: =SUM(C28:AF28) -> 3
B29: Rayure intérieur | AH29: =SUM(C29:AF29) -> 0
B30: Col travers | AH30: =SUM(C30:AF30) -> 0
B31: Picot Int | AH31: =SUM(C31:AF31) -> 0
AH32: =SUM(C32:AF32) -> 0
B33: Col max | AH33: =SUM(C33:AF33) -> 0
B34: Mauvais rincage PA | AH34: =SUM(C34:AF34) -> 0
A35: Nb pièces traitées | C35: 101 | D35: 230 | E35: 75 | I35: 64 | J35: 68 | K35: 81 | P35: 122 | Q35: 61 | R35: 138 | W35: =16+30+4+3 -> 53 | AH35: =SUM(C35:AF35) -> 993
A36: Nb pièce NC | C36: =SUM(C2:C34) -> 4 | D36: =SUM(D2:D34) -> 11 | E36: =SUM(E2:E34) -> 4 | F36: =SUM(F2:F34) -> 0 | G36: =SUM(G2:G34) -> 0 | H36: =SUM(H2:H34) -> 0 | I36: =SUM(I2:I34) -> 4 | J36: =SUM(J2:J34) -> 4 | ... AF36: =SUM(AF2:AF34) -> 0 | AH36: =SUM(C36:AF36) -> 56
A37: Taux de rebut | C37: =C36/C35 -> 0.03960396 | D37: =D36/D35 -> 0.047826087 | E37: =E36/E35 -> 0.053333333 | F37: =F36/F35 -> #DIV/0! | G37: =G36/G35 -> #DIV/0! | H37: =H36/H35 -> #DIV/0! | I37: =I36/I35 -> 0.0625 | J37: =J36/J35 -> 0.058823529 | ... AF37: =AF36/AF35 -> #DIV/0! | AH37: =IFERROR(AH36/AH35*100,"") -> 5.6394763
A38: NB pièces NC défaut bandeau | C38: =SUM(C2:C18) -> 3 | D38: =SUM(D2:D18) -> 7 | E38: =SUM(E2:E18) -> 2 | F38: =SUM(F2:F18) -> 0 | G38: =SUM(G2:G18) -> 0 | H38: =SUM(H2:H18) -> 0 | I38: =SUM(I2:I18) -> 1 | J38: =SUM(J2:J18) -> 1 | ... AF38: =SUM(AF2:AF18) -> 0 | AH38: =SUM(AH2:AH18) -> 21
A39: Taux de rebut Défaut bandeau | C39: =C38/C35 -> 0.02970297 | D39: =D38/D35 -> 0.030434783 | E39: =E38/E35 -> 0.026666667 | F39: =F38/F35 -> #DIV/0! | G39: =G38/G35 -> #DIV/0! | H39: =H38/H35 -> #DIV/0! | I39: =I38/I35 -> 0.015625 | J39: =J38/J35 -> 0.014705882 | ... AF39: =AF38/AF35 -> #DIV/0! | AH39: =IFERROR(AH38/AH35*100,"") -> 2.1148036
A40: Nb Pièce Défaut Bidon | C40: =SUM(C19:C34) -> 1 | D40: =SUM(D19:D34) -> 4 | E40: =SUM(E19:E34) -> 2 | F40: =SUM(F19:F34) -> 0 | G40: =SUM(G19:G34) -> 0 | H40: =SUM(H19:H34) -> 0 | I40: =SUM(I19:I34) -> 3 | J40: =SUM(J19:J34) -> 3 | ... AF40: =SUM(AF19:AF34) -> 0 | AH40: =SUM(AH19:AH34) -> 35
A41: Taux de rebuts défaut Bidon | C41: =C40/C35 -> 0.0099009901 | D41: =D40/D35 -> 0.017391304 | E41: =E40/E35 -> 0.026666667 | F41: =F40/F35 -> #DIV/0! | G41: =G40/G35 -> #DIV/0! | H41: =H40/H35 -> #DIV/0! | I41: =I40/I35 -> 0.046875 | J41: =J40/J35 -> 0.044117647 | ... AF41: =AF40/AF35 -> #DIV/0! | AH41: =IFERROR(AH40/AH35*100,"") -> 3.5246727
A43: Défauts Réparation / Date | C43: 44713 | D43: =C43+1 -> 44714 | E43: =D43+1 -> 44715 | F43: =E43+1 -> 44716 | G43: =F43+1 -> 44717 | H43: =G43+1 -> 44718 | I43: =H43+1 -> 44719 | J43: =I43+1 -> 44720 | K43: =J43+1 -> 44721 | ... AF43: =AE43+1 -> 44742 | AH43: Total Mensuel
A44: Bandeau | B44: Picots | E44: 2 | I44: 1 | J44: 1 | R44: 4 | AH44: =SUM(C44:AF44) -> 8
B45: Plis, Virgules | C45: 1 | D45: 1 | R45: 2 | AH45: =SUM(C45:AF45) -> 4
B46: Coup | D46: 2 | E46: 3 | R46: 1 | AH46: =SUM(C46:AF46) -> 6
B47: Marque Galette | AH47: =SUM(C47:AF47) -> 0
B48: Gravure Côté | C48: 2 | D48: 2 | J48: 1 | K48: 1 | R48: 7 | W48: 2 | AH48: =SUM(C48:AF48) -> 15
B49: Raies | C49: 1 | E49: 1 | J49: 2 | R49: 2 | AH49: =SUM(C49:AF49) -> 6
B50: Mousse | D50: 1 | E50: 2 | I50: 6 | J50: 1 | K50: 8 | P50: 5 | R50: 2 | AH50: =SUM(C50:AF50) -> 25
B51: Ebreche | AH51: =SUM(C51:AF51) -> 0
B52: Barbe | C52: 1 | D52: 1 | E52: 2 | J52: 3 | AH52: =SUM(C52:AF52) -> 7
B53: Croute | R53: 1 | AH53: =SUM(C53:AF53) -> 1
B54: Marque Rep | C54: 2 | AH54: =SUM(C54:AF54) -> 2
B55: Chanfrein | C55: 1 | D55: 1 | AH55: =SUM(C55:AF55) -> 2
B56: Autre | W56: 1 | AH56: =SUM(C56:AF56) -> 1
AH57: =SUM(C57:AF57) -> 0
AH58: =SUM(C58:AF58) -> 0
AH59: =SUM(C59:AF59) -> 0
AH60: =SUM(C60:AF60) -> 0
A61: Bidon | B61: Picots | C61: 3 | D61: 12 | E61: 8 | I61: 4 | J61: 1 | K61: 1 | P61: 2 | W61: 14 | AH61: =SUM(C61:AF61) -> 45
B62: Raies | D62: 2 | E62: 3 | AH62: =SUM(C62:AF62) -> 5
B63: Plis, Virgules | P63: 2 | AH63: =SUM(C63:AF63) -> 2
B64: Calcinures | D64: 4 | P64: 1 | AH64: =SUM(C64:AF64) -> 5
B65: Coups | D65: 3 | E65: 1 | I65: 2 | J65: 2 | W65: 1 | AH65: =SUM(C65:AF65) -> 9
B66: Marque Galette | AH66: =SUM(C66:AF66) -> 0
B67: Marque Rep | C67: 2 | D67: 2 | J67: 1 | K67: 1 | P67: 5 | W67: 1 | AH67: =SUM(C67:AF67) -> 12
B68: Barbe | C68: 9 | D68: 13 | I68: 2 | J68: 3 | K68: 7 | P68: 21 | R68: 10 | W68: 4 | AH68: =SUM(C68:AF68) -> 69
B69: Ebreche Polie | D69: 4 | E69: 4 | K69: 2 | P69: 4 | AH69: =SUM(C69:AF69) -> 14
B70: Mousse | D70: 3 | AH70: =SUM(C70:AF70) -> 3
B71: Crôute | AH71: =SUM(C71:AF71) -> 0
B72: Flex | D72: 4 | AH72: =SUM(C72:AF72) -> 4
AH73: =SUM(C73:AF73) -> 0
A74: Fond | B74: Picots/plis | C74: 1 | D74: 1 | E74: 2 | I74: 3 | J74: 2 | K74: 7 | P74: 11 | Q74: 6 | W74: 1 | AH74: =SUM(C74:AF74) -> 34
B75: Raies | C75: 4 | D75: 13 | E75: 3 | J75: 5 | Q75: 1 | W75: 8 | AH75: =SUM(C75:AF75) -> 34
B76: Gravure | K76: 2 | AH76: =SUM(C76:AF76) -> 2
B77: Croute | AH77: =SUM(C77:AF77) -> 0
B78: Barbe | J78: 2 | AH78: =SUM(C78:AF78) -> 2
A79: Nb pièces traitées | C79: =C35 -> 101 | D79: =D35 -> 230 | E79: =E35 -> 75 | F79: =F35 -> 0 | G79: =G35 -> 0 | H79: =H35 -> 0 | I79: =I35 -> 64 | J79: =J35 -> 68 | ... AF79: =AF35 -> 0 | AH79: =AH35 -> 993
A80: Nb pièce à rep | C80: =SUM(C44:C78) -> 27 | D80: =SUM(D44:D78) -> 69 | E80: =SUM(E44:E78) -> 31 | F80: =SUM(F44:F78) -> 0 | G80: =SUM(G44:G78) -> 0 | H80: =SUM(H44:H78) -> 0 | I80: =SUM(I44:I78) -> 18 | J80: =SUM(J44:J78) -> 24 | ... AF80: =SUM(AF44:AF78) -> 0 | AH80: =SUM(AH44:AH78) -> 317
A81: Taux de rep | C81: =IFERROR(C80/C79*100,"") -> 26.732673 | D81: =IFERROR(D80/D79*100,"") -> 30 | E81: =IFERROR(E80/E79*100,"") -> 41.333333 | F81: =IFERROR(F80/F79*100,"") | G81: =IFERROR(G80/G79*100,"") | H81: =IFERROR(H80/H79*100,"") | I81: =IFERROR(I80/I79*100,"") -> 28.125 | J81: =IFERROR(J80/J79*100,"") -> 35.294118 | ... AF81: =IFERROR(AF80/AF79*100,"")
A82: NB pièces à rep défaut bandeau | C82: =SUM(C44:C60) -> 8 | D82: =SUM(D44:D60) -> 8 | E82: =SUM(E44:E60) -> 10 | F82: =SUM(F44:F60) -> 0 | G82: =SUM(G44:G60) -> 0 | H82: =SUM(H44:H60) -> 0 | I82: =SUM(I44:I60) -> 7 | J82: =SUM(J44:J60) -> 8 | ... AF82: =SUM(AF44:AF60) -> 0 | AH82: =SUM(AH44:AH60) -> 77
A83: Taux de rep Défaut bandeau | C83: =IFERROR(C82/C79*100,"") -> 7.9207921 | D83: =IFERROR(D82/D79*100,"") -> 3.4782609 | E83: =IFERROR(E82/E79*100,"") -> 13.333333 | F83: =IFERROR(F82/F79*100,"") | G83: =IFERROR(G82/G79*100,"") | H83: =IFERROR(H82/H79*100,"") | I83: =IFERROR(I82/I79*100,"") -> 10.9375 | J83: =IFERROR(J82/J79*100,"") -> 11.764706 | ... AF83: =IFERROR(AF82/AF79*100,"") | AH83: =IFERROR(AH82/AH79*100,"") -> 7.75428
A84: Nb Pièce à rep Défaut Bidon | C84: =SUM(C61:C72) -> 14 | D84: =SUM(D61:D72) -> 47 | E84: =SUM(E61:E72) -> 16 | F84: =SUM(F61:F72) -> 0 | G84: =SUM(G61:G72) -> 0 | H84: =SUM(H61:H72) -> 0 | I84: =SUM(I61:I72) -> 8 | J84: =SUM(J61:J72) -> 7 | ... AF84: =SUM(AF61:AF72) -> 0 | AH84: =SUM(AH61:AH72) -> 168
A85: Taux de rep défaut Bidon | C85: =IFERROR(C84/C79*100,"") -> 13.861386 | D85: =IFERROR(D84/D79*100,"") -> 20.434783 | E85: =IFERROR(E84/E79*100,"") -> 21.333333 | F85: =IFERROR(F84/F79*100,"") | G85: =IFERROR(G84/G79*100,"") | H85: =IFERROR(H84/H79*100,"") | I85: =IFERROR(I84/I79*100,"") -> 12.5 | J85: =IFERROR(J84/J79*100,"") -> 10.294118 | ... AF85: =IFERROR(AF84/AF79*100,"") | AH85: =IFERROR(AH84/AH79*100,"") -> 16.918429
A86: Nb Pièce à rep Défaut Fond | C86: =SUM(C74:C78) -> 5 | D86: =SUM(D74:D78) -> 14 | E86: =SUM(E74:E78) -> 5 | F86: =SUM(F74:F78) -> 0 | G86: =SUM(G74:G78) -> 0 | H86: =SUM(H74:H78) -> 0 | I86: =SUM(I74:I78) -> 3 | J86: =SUM(J74:J78) -> 9 | ... AF86: =SUM(AF74:AF78) -> 0 | AH86: =SUM(AH74:AH78) -> 72
A87: Taux de rep défaut Fond | C87: =IFERROR(C86/C79*100,"") -> 4.950495 | D87: =IFERROR(D86/D79*100,"") -> 6.0869565 | E87: =IFERROR(E86/E79*100,"") -> 6.6666667 | F87: =IFERROR(F86/F79*100,"") | G87: =IFERROR(G86/G79*100,"") | H87: =IFERROR(H86/H79*100,"") | I87: =IFERROR(I86/I79*100,"") -> 4.6875 | J87: =IFERROR(J86/J79*100,"") -> 13.235294 | ... AF87: =IFERROR(AF86/AF79*100,"") | AH87: =IFERROR(AH86/AH79*100,"") -> 7.2507553
A89: Pièces conforme | S89: =S35-S36-S80 -> 0 | T89: =T35-T36-T80 -> 0 | U89: =U35-U36-U80 -> 0 | V89: =V35-V36-V80 -> 0 | W89: =W35-W36-W80 -> 13 | X89: =X35-X36-X80 -> 0 | Y89: =Y35-Y36-Y80 -> 0 | Z89: =Z35-Z36-Z80 -> 0 | ... AF89: =AF35-AF36-AF80 -> 0
A90: Taux de pièces Conforme | S90: =S89/S35 -> #DIV/0! | T90: =T89/T35 -> #DIV/0! | U90: =U89/U35 -> #DIV/0! | V90: =IFERROR(V89/V35*100,"") | W90: =IFERROR(W89/W35*100,"") -> 24.528302 | X90: =IFERROR(X89/X35*100,"") | Y90: =IFERROR(Y89/Y35*100,"") | Z90: =IFERROR(Z89/Z35*100,"") | AA90: =IFERROR(AA89/AA35*100,"") | AB90: =IFERROR(AB89/AB35*100,"") | AC90: =IFERROR(AC89/AC35*100,"") | ... AF90: =IFERROR(AF89/AF35*100,"")

Sheet choix final 
A1: Défauts Casse / Date | C1: 44713 | D1: =C1+1 -> 44714 | E1: =D1+1 -> 44715 | F1: =E1+1 -> 44716 | G1: =F1+1 -> 44717 | H1: =G1+1 -> 44718 | I1: =H1+1 -> 44719 | J1: =I1+1 -> 44720 | K1: =J1+1 -> 44721 | ... AF1: =AE1+1 -> 44742 | AH1: Total Mensuel
A2: Bandeau | B2: Bouillons(Ba) | R2: 1 | AH2: =SUM(C2:AF2) -> 1
B3: Cailloux (Ba) | AH3: =SUM(C3:AF3) -> 0
B4: Coups(Ba) | AH4: =SUM(C4:AF4) -> 0
B5: Retrait | AH5: =SUM(C5:AF5) -> 0
B6: Voile | AH6: =SUM(C6:AF6) -> 0
B7: Calcinure(Ba) | R7: 1 | AH7: =SUM(C7:AF7) -> 1
B8: Marque galette | AH8: =SUM(C8:AF8) -> 0
B9: Déformation | AH9: =SUM(C9:AF9) -> 0
B10: Picots Int. | AH10: =SUM(C10:AF10) -> 0
B11: Ebreche | AH11: =SUM(C11:AF11) -> 0
B12: Lèvre | AH12: =SUM(C12:AF12) -> 0
B13: Pété | AH13: =SUM(C13:AF13) -> 0
B14: Forage | AH14: =SUM(C14:AF14) -> 0
B15: Verre Collée(Ba) | AH15: =SUM(C15:AF15) -> 0
B16: Autres | AH16: =SUM(C16:AF16) -> 0
AH17: =SUM(C17:AF17) -> 0
AH18: =SUM(C18:AF18) -> 0
A19: Bidon | B19: Bouillons (Bi) | AH19: =SUM(C19:AF19) -> 0
B20: Cailloux (Bi) | O20: 2 | AH20: =SUM(C20:AF20) -> 2
B21: Calcinure (Bi) | AH21: =SUM(C21:AF21) -> 0
B22: Raie inter | AH22: =SUM(C22:AF22) -> 0
B23: Enfoncé | AH23: =SUM(C23:AF23) -> 0
B24: Verres collés(Bi) | AH24: =SUM(C24:AF24) -> 0
B25: Bleu Acide | AH25: =SUM(C25:AF25) -> 0
B26: Coups | AH26: =SUM(C26:AF26) -> 0
B27: Picots Fond | AH27: =SUM(C27:AF27) -> 0
B28: Forage excentré | AH28: =SUM(C28:AF28) -> 0
B29: Rayure intérieur | AH29: =SUM(C29:AF29) -> 0
B30: Col travers | AH30: =SUM(C30:AF30) -> 0
B31: Picot Int | AH31: =SUM(C31:AF31) -> 0
AH32: =SUM(C32:AF32) -> 0
B33: Col max | AH33: =SUM(C33:AF33) -> 0
B34: Mauvais rincage PA | AH34: =SUM(C34:AF34) -> 0
A35: Nb pièces traitées | C35: 83 | D35: 154 | E35: 86 | H35: 53 | J35: 63 | O35: 22 | W35: =48+41 -> 89 | AH35: =SUM(C35:AF35) -> 550
A36: Nb pièce NC | C36: =SUM(C2:C34) -> 0 | D36: =SUM(D2:D34) -> 0 | E36: =SUM(E2:E34) -> 0 | F36: =SUM(F2:F34) -> 0 | G36: =SUM(G2:G34) -> 0 | H36: =SUM(H2:H34) -> 0 | I36: =SUM(I2:I34) -> 0 | J36: =SUM(J2:J34) -> 0 | ... AF36: =SUM(AF2:AF34) -> 0 | AH36: =SUM(C36:AF36) -> 4
A37: Taux de rebut | C37: =C36/C35 -> 0 | D37: =D36/D35 -> 0 | E37: =E36/E35 -> 0 | F37: =F36/F35 -> #DIV/0! | G37: =G36/G35 -> #DIV/0! | H37: =H36/H35 -> 0 | I37: =I36/I35 -> #DIV/0! | J37: =J36/J35 -> 0 | ... AF37: =AF36/AF35 -> #DIV/0! | AH37: =IFERROR(AH36/AH35*100,"") -> 0.72727273
A38: NB pièces NC défaut bandeau | C38: =SUM(C2:C18) -> 0 | D38: =SUM(D2:D18) -> 0 | E38: =SUM(E2:E18) -> 0 | F38: =SUM(F2:F18) -> 0 | G38: =SUM(G2:G18) -> 0 | H38: =SUM(H2:H18) -> 0 | I38: =SUM(I2:I18) -> 0 | J38: =SUM(J2:J18) -> 0 | ... AF38: =SUM(AF2:AF18) -> 0 | AH38: =SUM(AH2:AH18) -> 2
A39: Taux de rebut Défaut bandeau | C39: =IFERROR(C38/C35*100,"") -> 0 | D39: =IFERROR(D38/D35*100,"") -> 0 | E39: =IFERROR(E38/E35*100,"") -> 0 | F39: =IFERROR(F38/F35*100,"") | G39: =IFERROR(G38/G35*100,"") | H39: =IFERROR(H38/H35*100,"") -> 0 | I39: =IFERROR(I38/I35*100,"") | J39: =IFERROR(J38/J35*100,"") -> 0 | ... AF39: =IFERROR(AF38/AF35*100,"") | AH39: =IFERROR(AH38/AH35*100,"") -> 0.36363636
A40: Nb Pièce Défaut Bidon | C40: =SUM(C19:C34) -> 0 | D40: =SUM(D19:D34) -> 0 | E40: =SUM(E19:E34) -> 0 | F40: =SUM(F19:F34) -> 0 | G40: =SUM(G19:G34) -> 0 | H40: =SUM(H19:H34) -> 0 | I40: =SUM(I19:I34) -> 0 | J40: =SUM(J19:J34) -> 0 | ... AF40: =SUM(AF19:AF34) -> 0 | AH40: =SUM(AH19:AH34) -> 2
A41: Taux de rebuts défaut Bidon | C41: =C40/C35 -> 0 | D41: =D40/D35 -> 0 | E41: =E40/E35 -> 0 | F41: =F40/F35 -> #DIV/0! | G41: =G40/G35 -> #DIV/0! | H41: =H40/H35 -> 0 | I41: =I40/I35 -> #DIV/0! | J41: =J40/J35 -> 0 | ... AF41: =AF40/AF35 -> #DIV/0! | AH41: =IFERROR(AH40/AH35*100,"") -> 0.36363636
A43: Défauts Réparation / Date | C43: 44713 | D43: =C43+1 -> 44714 | E43: =D43+1 -> 44715 | F43: =E43+1 -> 44716 | G43: =F43+1 -> 44717 | H43: =G43+1 -> 44718 | I43: =H43+1 -> 44719 | J43: =I43+1 -> 44720 | K43: =J43+1 -> 44721 | ... AF43: =AE43+1 -> 44742 | AH43: Total Mensuel
A44: Bandeau | B44: Picots
B45: Plis, Virgules
B46: Coup
B47: Marque Galette
B48: Gravure Côté | W48: 1
B49: Autre
B50: Peau d'oranges
B51: Raies
B52: Mousse
B53: Défaut bagues | W53: 1
A61: Bidon | B61: Picots
B62: Raies
B63: Plis, Virgules
B64: Calcinures
B65: Coups
B66: Marque Galette
B67: Marque Rep
B68: Mousse | W68: 1
B69: Barbe
B70: Ebreche Polie
B71: Crôute
A74: Fond | B74: Picots/plis
B75: Raies | W75: 1
B76: Gravure
A77: Nb pièces traitées | C77: =C35 -> 83 | D77: =D35 -> 154 | E77: =E35 -> 86 | F77: =F35 -> 0 | G77: =G35 -> 0 | H77: =H35 -> 53 | I77: =I35 -> 0 | J77: =J35 -> 63 | ... AF77: =AF35 -> 0
A78: Nb pièce à rep | V78: =SUM(V44:V76) -> 0 | W78: =SUM(W44:W76) -> 4 | X78: =SUM(X44:X76) -> 0 | Y78: =SUM(Y44:Y76) -> 0 | Z78: =SUM(Z44:Z76) -> 0 | AA78: =SUM(AA44:AA76) -> 0 | AB78: =SUM(AB44:AB76) -> 0 | AC78: =SUM(AC44:AC76) -> 0 | ... AF78: =SUM(AF44:AF76) -> 0
A79: Taux de rep | U79: =IFERROR(U78/U77*100,"") | V79: =IFERROR(V78/V77*100,"") | W79: =IFERROR(W78/W77*100,"") -> 4.494382
A80: NB pièces à rep défaut bandeau | V80: =SUM(V44:V60) -> 0 | W80: =SUM(W44:W60) -> 2 | X80: =SUM(X44:X60) -> 0 | Y80: =SUM(Y44:Y60) -> 0 | Z80: =SUM(Z44:Z60) -> 0 | AA80: =SUM(AA44:AA60) -> 0 | AB80: =SUM(AB44:AB60) -> 0 | AC80: =SUM(AC44:AC60) -> 0 | ... AF80: =SUM(AF44:AF60) -> 0
A81: Taux de rep Défaut bandeau | V81: =IFERROR(V80/V77*100,"") | W81: =IFERROR(W80/W77*100,"") -> 2.247191 | X81: =IFERROR(X80/X77*100,"") | Y81: =IFERROR(Y80/Y77*100,"") | Z81: =IFERROR(Z80/Z77*100,"") | AA81: =IFERROR(AA80/AA77*100,"") | AB81: =IFERROR(AB80/AB77*100,"") | AC81: =IFERROR(AC80/AC77*100,"") | ... AF81: =IFERROR(AF80/AF77*100,"")
A82: Nb Pièce à rep Défaut Bidon | V82: =SUM(V61:V72) -> 0 | W82: =SUM(W61:W72) -> 1 | X82: =SUM(X61:X72) -> 0 | Y82: =SUM(Y61:Y72) -> 0 | Z82: =SUM(Z61:Z72) -> 0 | AA82: =SUM(AA61:AA72) -> 0 | AB82: =SUM(AB61:AB72) -> 0 | AC82: =SUM(AC61:AC72) -> 0 | ... AF82: =SUM(AF61:AF72) -> 0
A83: Taux de rep défaut Bidon | V83: =IFERROR(V82/V77*100,"") | W83: =IFERROR(W82/W77*100,"") -> 1.1235955 | X83: =IFERROR(X82/X77*100,"") | Y83: =IFERROR(Y82/Y77*100,"") | Z83: =IFERROR(Z82/Z77*100,"") | AA83: =IFERROR(AA82/AA77*100,"") | AB83: =IFERROR(AB82/AB77*100,"") | AC83: =IFERROR(AC82/AC77*100,"") | ... AF83: =IFERROR(AF82/AF77*100,"")
A84: Nb Pièce à rep Défaut Fond | V84: =SUM(V74:V76) -> 0 | W84: =SUM(W74:W76) -> 1 | X84: =SUM(X74:X76) -> 0 | Y84: =SUM(Y74:Y76) -> 0 | Z84: =SUM(Z74:Z76) -> 0 | AA84: =SUM(AA74:AA76) -> 0 | AB84: =SUM(AB74:AB76) -> 0 | AC84: =SUM(AC74:AC76) -> 0 | ... AF84: =SUM(AF74:AF76) -> 0
A85: Taux de rep défaut Fond | V85: =IFERROR(V84/V77*100,"") | W85: =IFERROR(W84/W77*100,"") -> 1.1235955 | X85: =IFERROR(X84/X77*100,"") | Y85: =IFERROR(Y84/Y77*100,"") | Z85: =IFERROR(Z84/Z77*100,"") | AA85: =IFERROR(AA84/AA77*100,"") | AB85: =IFERROR(AB84/AB77*100,"") | AC85: =IFERROR(AC84/AC77*100,"") | ... AF85: =IFERROR(AF84/AF77*100,"")
A87: Pièces conforme | C87: =C35-C36-C78 -> 83 | D87: =D35-D36-D78 -> 154 | E87: =E35-E36-E78 -> 86 | F87: =F35-F36-F78 -> 0 | G87: =G35-G36-G78 -> 0 | H87: =H35-H36-H78 -> 53 | I87: =I35-I36-I78 -> 0 | J87: =J35-J36-J78 -> 63 | ... AF87: =AF35-AF36-AF78 -> 0
A88: Taux de pièces Conforme | C88: =IFERROR(C87/C35*100,"") -> 100 | D88: =IFERROR(D87/D35*100,"") -> 100 | E88: =IFERROR(E87/E35*100,"") -> 100 | F88: =IFERROR(F87/F35*100,"") | G88: =IFERROR(G87/G35*100,"") | H88: =IFERROR(H87/H35*100,"") -> 100 | I88: =IFERROR(I87/I35*100,"") | J88: =IFERROR(J87/J35*100,"") -> 100 | ... AF88: =IFERROR(AF87/AF35*100,"")

Sheet Indicateur journalier SMP
A1: Taux de rebut | U1: Calcul de NQ
A2: Date | B2: 44732 | U2: =IFERROR((1-$B$5),0) -> 0
U3: =IFERROR((1-$B$6),0) -> 0
A4: Poste | B4: Taux de NQ | C4: Objectif | U4: =IFERROR((1-$B$7),0) -> 0.86335404
A5: CEM/contenance | B5: =HLOOKUP(B2,'CEM,PA,Forage'!2:11,10) -> #DIV/0! | U5: =IFERROR((1-$B$8),0) -> 0.98275862
A6: PA | B6: =HLOOKUP(B2,'CEM,PA,Forage'!2:22,21) -> #DIV/0! | U6: =IFERROR((1-$B$9),0) -> 1
A7: Forage | B7: =HLOOKUP(B2,'CEM,PA,Forage'!2:36,35) -> 0.13664596
A8: Reprise Main | B8: =HLOOKUP(B2,'CEM,PA,Forage'!2:51,50) -> 0.017241379 | U8: =IFERROR((1-$B$11),0) -> 0.75555556
A9: GS4 | B9: =HLOOKUP(B2,'CEM,PA,Forage'!2:76,75) -> 0 | D9: Top 1 Défaut | F9: Top 2 Défaut | H9: Top 3 Défaut | U9: =IFERROR((1-$B$12),0) -> 0
D10: Nom | E10: % du défaut | F10: Nom | G10: % du défaut | H10: Nom | I10: % du défaut | U10: =IFERROR((1-$B$13),0) -> 0
A11: 1 er choix | B11: =HLOOKUP(B2,'1er choix'!A1:AH37,37) -> 0.24444444 | C11: 0.16
A12: Choix Rep | B12: =HLOOKUP(B2,'Choix Rep'!A1:AF37,37) -> #DIV/0!
A13: Choix final | B13: =HLOOKUP(B2,'choix final '!A1:AF37,37) -> #DIV/0! | C13: 0 % | U13: {=PRODUCT(IF(U2:U10<>0,U2:U10,""))} -> 0.64106518
A14: Taux de NQ globale choix | B14: {=1-PRODUCT(IF(U8:U10<>0,U8:U10,""))} -> 0.24444444
A16: Taux de NQ globale Ligne | B16: =1-U13 -> 0.35893482

Sheet Indicateur semaine SMP
A1: Taux de rebut RUG | U1: Calcul de NQ
A2: Date | B2: 44733 | U2: =IFERROR((1-$B$5),0) -> 0.98979592
U3: =IFERROR((1-$B$6),0) -> 0
A4: Poste | B4: Taux de NQ | C4: Objectif | U4: =IFERROR((1-$B$7),0) -> 0.95348837
A5: CEM/contenance | B5: =HLOOKUP(B2,'CEM,PA,Forage'!2:11,10) -> 0.010204082 | U5: =IFERROR((1-$B$8),0) -> 0.97142857
A6: PA | B6: =HLOOKUP(B2,'CEM,PA,Forage'!2:22,21) -> #DIV/0! | U6: =IFERROR((1-$B$9),0) -> 1
A7: Forage | B7: =HLOOKUP(B2,'CEM,PA,Forage'!2:36,35) -> 0.046511628
A8: Reprise Main | B8: =HLOOKUP(B2,'CEM,PA,Forage'!2:51,50) -> 0.028571429 | U8: =IFERROR((1-$B$11),0) -> 0.53333333
A9: GS4 | B9: =HLOOKUP(B2,'CEM,PA,Forage'!2:76,75) -> 0 | D9: Top 1 Défaut | F9: Top 2 Défaut | H9: Top 3 Défaut | U9: =IFERROR((1-$B$12),0) -> 0.8490566
D10: Nom | E10: % du défaut | F10: Nom | G10: % du défaut | H10: Nom | I10: % du défaut | U10: =IFERROR((1-$B$13),0) -> 1
A11: 1 er choix | B11: =HLOOKUP(B2,'1er choix'!A1:AH37,37) -> 0.46666667 | C11: 0.16 | E11: =HLOOKUP(B2,'1er choix'!A1:AH37,D11) -> #VALUE!
A12: Choix Rep | B12: =HLOOKUP(B2,'Choix Rep'!A1:AF37,37) -> 0.1509434
A13: Choix final | B13: =HLOOKUP(B2,'choix final '!A1:AF37,37) -> 0 | C13: 0 % | U13: {=PRODUCT(IF(U2:U10<>0,U2:U10,""))} -> 0.41515216
A14: Taux de NQ globale choix | B14: {=PRODUCT(IF(U8:U10<>0,U8:U10,""))} -> 0.45283019
A16: Taux de NQ globale Ligne | B16: =U13 -> 0.41515216

Sheet Feuil2

Sheet Feuil3
B2: Bouillons | C2: Cailloux | D2: Coups | E2: Retrait | F2: Voile | G2: Calcinure | H2: Marques galette | I2: Déformation | J2: Picots int | K2: Ebrêche | L2: Lèvre | M2: Pété | N2: Forage | O2: Verre collé | Q2: Bouillons | R2: Cailloux | S2: Calcinure | T2: Raie inter | U2: Enfoncé | V2: Verre collé | W2: Bleu Acide | X2: Coups | Y2: Picots Fond | Z2: Forage excentré(Col travers) | AA2: Rayure int | AB2: Col excentré | AD2: Col large | AE2: Col court | AF2: Carnette large | AG2: Casse forage | AH2: Col excentrée | AI2: Casse col | AJ2: Casse fond | AK2: Forage trop grand | AL2: Col non débouchant | AM2: Col non débouchant | AN2: Casse machine | AO2: Col étroit | AP2: Fond calciné | AQ2: Bandeau | AR2: Col de travers | AS2: Col calcinée | AT2: Col tordu | AU2: Col filée | AW2: Calcinure | AX2: Cogné | AY2: Casse | AZ2: Col Large | BA2: Eapule déformé | BB2: Bandeau retrait | BC2: Col intérieur déformé | BD2: col de travers | BE2: Autres | BG2: Col large | BH2: Col court | BI2: Carnette large | BJ2: Casse forage | BK2: Col excentrée | BL2: Casse col | BM2: Casse fond | BN2: Forage trop grand | BO2: Col non débouchant | BP2: Casse machine | BQ2: Col étroit | BR2: Fond calciné | BS2: Bandeau | BT2: Col de travers | BU2: Col calcinée | BV2: Col tordu | BW2: Col filée | BX2: Col avant rebut GS4 | BY2: Casse avant GS4 | BZ2: Bidon calciné
B3: 11 | C3: 17 | D3: 8 | E3: 0 | F3: 17 | G3: 3 | H3: 0 | I3: 2 | J3: 7 | K3: 0 | L3: 0 | M3: 3 | N3: 1 | O3: 0 | Q3: 7 | R3: 25 | S3: 34 | T3: 3 | U3: 4 | V3: 17 | W3: 0 | X3: 3 | Y3: 23 | Z3: 12 | AA3: 0 | AB3: 0 | AD3: 22 | AE3: 0 | AF3: 0 | AG3: 4 | AH3: 4 | AI3: 0 | AJ3: 0 | AK3: 0 | AL3: 8 | AM3: 0 | AN3: 0 | AO3: 0 | AP3: 0 | AQ3: 11 | AR3: 39 | AS3: 0 | AT3: 0 | AU3: 0 | AW3: 3 | AX3: 2 | AY3: 2 | AZ3: 0 | BA3: 0 | BB3: 0 | BC3: 0 | BD3: 2 | BE3: 0 | BG3: 0 | BH3: 0 | BI3: 0 | BJ3: 0 | BK3: 0 | BL3: 0 | BM3: 0 | BN3: 0 | BO3: 0 | BP3: 2 | BQ3: 0 | BR3: 0 | BS3: 0 | BT3: 0 | BU3: 0 | BV3: 0 | BW3: 0 | BX3: 0 | BY3: 1 | BZ3: 0
B4: 1 | G4: 1 | R4: 2
B5: =SUM(B3:B4) -> 12 | C5: =SUM(C3:C4) -> 17 | D5: =SUM(D3:D4) -> 8 | E5: =SUM(E3:E4) -> 0 | F5: =SUM(F3:F4) -> 17 | G5: =SUM(G3:G4) -> 4 | H5: =SUM(H3:H4) -> 0 | I5: =SUM(I3:I4) -> 2 | ... BZ5: =SUM(BZ3:BZ4) -> 0
B7: Bouillons | C7: Cailloux | D7: Coups | E7: Retrait | F7: Voile | G7: Calcinure | H7: Marques galette | I7: Déformation | J7: Picots int | K7: Ebrêche | L7: Lèvre | M7: Pété | N7: Forage | O7: Verre collé | Q7: Bouillons | R7: Cailloux | S7: Calcinure | T7: Raie inter | U7: Enfoncé | V7: Verre collé | W7: Bleu Acide | X7: Coups | Y7: Picots Fond | Z7: Forage excentré(Col travers) | AA7: Rayure int | AB7: Col excentré | AD7: Col large | AE7: Col court | AF7: Carnette large | AG7: Casse forage | AH7: Col excentrée | AI7: Casse col | AJ7: Casse fond | AK7: Forage trop grand | AL7: Col non débouchant | AM7: Col non débouchant | AN7: Casse machine | AO7: Col étroit | AP7: Fond calciné | AQ7: Bandeau | AR7: Col de travers | AS7: Col calcinée | AT7: Col tordu | AU7: Col filée | AW7: Calcinure | AX7: Cogné | AY7: Casse | AZ7: Col Large | BA7: Eapule déformé | BB7: Bandeau retrait | BC7: Col intérieur déformé | BD7: col de travers | BE7: Autres | BG7: Col large | BH7: Col court | BI7: Carnette large | BJ7: Casse forage | BK7: Col excentrée | BL7: Casse col | BM7: Casse fond | BN7: Forage trop grand | BO7: Col non débouchant | BP7: Casse machine | BQ7: Col étroit | BR7: Fond calciné | BS7: Bandeau | BT7: Col de travers | BU7: Col calcinée | BV7: Col tordu | BW7: Col filée | BX7: Col avant rebut GS4 | BY7: Casse avant GS4 | BZ7: Bidon calciné
B8: =SUMIF(2:2,B2,5:5) -> 19 | C8: =SUMIF(2:2,C2,5:5) -> 44 | D8: =SUMIF(2:2,D2,5:5) -> 11 | E8: =SUMIF(2:2,E2,5:5) -> 0 | F8: =SUMIF(2:2,F2,5:5) -> 17 | G8: =SUMIF(2:2,G2,5:5) -> 41 | H8: =SUMIF(2:2,H2,5:5) -> 0 | I8: =SUMIF(2:2,I2,5:5) -> 2 | ... BZ8: =SUMIF(2:2,BZ2,5:5) -> 0
B12: Bouillons | C12: Cailloux | D12: Coups | E12: Retrait | F12: Voile | G12: Calcinure | H12: Marques galette | I12: Déformation | J12: Picots int | K12: Ebrêche | L12: Lèvre | M12: Pété | N12: Forage | O12: Verre collé | P12: Raie inter | Q12: Enfoncé | R12: Bleu Acide | S12: Picots Fond | T12: Forage excentré(Col travers) | U12: Rayure int | V12: Col excentré | W12: Col large | X12: Col court | Y12: Carnette large | Z12: Casse forage | AA12: Col excentrée | AB12: Casse col | AC12: Casse fond | AD12: Forage trop grand | AE12: Col non débouchant | AF12: Col non débouchant | AG12: Casse machine | AH12: Col étroit | AI12: Fond calciné | AJ12: Bandeau | AK12: Col de travers | AL12: Col calcinée | AM12: Col tordu | AN12: Col filée | AO12: Cogné | AP12: Casse | AQ12: Eapule déformé | AR12: Bandeau retrait | AS12: Col intérieur déformé | AU12: Autres | AV12: Col avant rebut GS4 | AW12: Casse avant GS4 | AX12: Bidon calciné
B13: 19 | C13: 44 | D13: 11 | E13: 0 | F13: 17 | G13: 41 | H13: 0 | I13: 2 | J13: 7 | K13: 0 | L13: 0 | M13: 3 | N13: 1 | O13: 17 | P13: 3 | Q13: 4 | R13: 0 | S13: 23 | T13: 12 | U13: 0 | V13: 0 | W13: 22 | X13: 0 | Y13: 0 | Z13: 4 | AA13: 4 | AB13: 0 | AC13: 0 | AD13: 0 | AE13: 8 | AF13: 8 | AG13: 2 | AH13: 0 | AI13: 0 | AJ13: 11 | AK13: 41 | AL13: 0 | AM13: 0 | AN13: 0 | AO13: 2 | AP13: 2 | AQ13: 0 | AR13: 0 | AS13: 0 | AU13: 0 | AV13: 0 | AW13: 1 | AX13: 0
