Workbook

Sheet CEM,PA,Forage
C1: 22 | H1: 23 | O1: 24 | V1: 25 | AC1: 26
A2: Défauts Casse / Date | C2: 44713 | D2: 44714 | E2: 44715 | F2: 44716 | G2: 44717 | H2: 44718 | I2: 44719 | J2: 44720 | K2: 44721 | L2: 44722 | M2: 44723 | N2: 44724 | O2: 44725 | P2: 44726 | Q2: 44727 | R2: 44728 | S2: 44729 | T2: 44730 | U2: 44731 | V2: 44732 | W2: 44733 | X2: 44734 | Y2: 44735 | Z2: 44736 | AA2: 44737 | AB2: 44738 | AC2: 44739 | AD2: 44740 | AE2: 44741 | AF2: 44742 | AH2: Total Mensuel
A3: Cem/contenance | B3: Calcinures | AH3: =SUM(C3:AF3) -> 0
B4: Contenances | C4: 2 | D4: 4 | E4: 0 | F4: 0 | G4: 0 | J4: 6 | L4: 4 | O4: 1 | R4: 4 | S4: 2 | W4: 1 | AH4: =SUM(C4:AF4) -> 24
AH5: =SUM(C5:AF5) -> 0
AH6: =SUM(C6:AF6) -> 0
AH7: =SUM(C7:AF7) -> 0
AH8: =SUM(C8:AF8) -> 0
A9: Nb pièces traitées | C9: 109 | D9: 105 | J9: 6 | L9: 4 | O9: 47 | R9: 90 | S9: 45 | W9: 98 | AH9: =SUM(C9:AF9) -> 504
A10: Nb pièce NC | C10: =SUM(C3:C6) -> 2 | D10: =SUM(D3:D6) -> 4 | E10: =SUM(E3:E6) -> 0 | F10: =SUM(F3:F6) -> 0 | G10: =SUM(G3:G6) -> 0 | H10: =SUM(H3:H6) -> 0 | I10: =SUM(I3:I6) -> 0 | J10: =SUM(J3:J6) -> 6 | ... AF10: =SUM(AF3:AF6) -> 0 | AH10: =SUM(C10:AF10) -> 24
A11: Taux de rebut | C11: =C10/C9 -> 0.018348624 | D11: =D10/D9 -> 0.038095238 | E11: =E10/E9 -> #DIV/0! | F11: =F10/F9 -> #DIV/0! | G11: =G10/G9 -> #DIV/0! | H11: =H10/H9 -> #DIV/0! | I11: =I10/I9 -> #DIV/0! | J11: =J10/J9 -> 1 | ... AF11: =AF10/AF9 -> #DIV/0! | AH11: =IFERROR(AH10/AH9*100,"") -> 4.7619048
A14: PA | B14: Mauvais rincage PA | AH14: =SUM(C14:AF14) -> 0
B15: Casse PA | R15: 1 | AH15: =SUM(C15:AF15) -> 1
B16: Bleu d'acide | AH16: =SUM(C16:AF16) -> 0
AH17: =SUM(C17:AF17) -> 0
AH18: =SUM(C18:AF18) -> 0
AH19: =SUM(C19:AF19) -> 0
A20: Nb pièces traitées | R20: 77 | AH20: =SUM(C20:AF20) -> 77
A21: Nb pièce NC | C21: =SUM(C14:C17) -> 0 | D21: =SUM(D14:D17) -> 0 | E21: =SUM(E14:E17) -> 0 | F21: =SUM(F14:F17) -> 0 | G21: =SUM(G14:G17) -> 0 | H21: =SUM(H14:H17) -> 0 | I21: =SUM(I14:I17) -> 0 | J21: =SUM(J14:J17) -> 0 | ... AF21: =SUM(AF14:AF17) -> 0 | AH21: =SUM(C21:AF21) -> 1
A22: Taux de rebut | C22: =C21/C20 -> #DIV/0! | D22: =D21/D20 -> #DIV/0! | E22: =E21/E20 -> #DIV/0! | F22: =F21/F20 -> #DIV/0! | G22: =G21/G20 -> #DIV/0! | H22: =H21/H20 -> #DIV/0! | I22: =I21/I20 -> #DIV/0! | J22: =J21/J20 -> #DIV/0! | ... AF22: =AF21/AF20 -> #DIV/0! | AH22: =IFERROR(AH21/AH20*100,"") -> 1.2987013
A24: Forage | B24: Col Large | C24: 1 | D24: 1 | H24: 3 | I24: 6 | J24: 3 | K24: 1 | L24: 1 | P24: 2 | Q24: 1 | R24: 2 | S24: 1 | W24: 1 | AH24: =SUM(C24:AF24) -> 23
B25: Col court | R25: 1 | AH25: =SUM(C25:AF25) -> 1
B26: Casse Forage | I26: 2 | Q26: 1 | R26: 1 | AH26: =SUM(C26:AF26) -> 4
B27: Col Excentrée | J27: 1 | P27: 3 | W27: 1 | AH27: =SUM(C27:AF27) -> 5
B28: Col non Débouchant | D28: 1 | I28: 1 | J28: 1 | K28: 2 | L28: 2 | R28: 1 | AH28: =SUM(C28:AF28) -> 8
B29: Bandeau | D29: 1 | H29: 1 | I29: 4 | K29: 1 | Q29: 1 | R29: 1 | V29: 2 | AH29: =SUM(C29:AF29) -> 11
B30: Col de Travers | C30: 3 | P30: 2 | Q30: 7 | R30: 1 | S30: 6 | V30: 20 | AH30: =SUM(C30:AF30) -> 39
AH31: =SUM(C31:AF31) -> 0
AH32: =SUM(C32:AF32) -> 0
AH33: =SUM(C33:AF33) -> 0
A34: Nb pièces traitées | C34: 80 | D34: 132 | E34: 46 | H34: 87 | I34: 191 | J34: 108 | K34: 68 | L34: 45 | P34: 78 | Q34: 136 | R34: 23 | S34: 41 | V34: =41+21+22+25+11+41 -> 161 | W34: 43 | AH34: =SUM(C34:AF34) -> 1239
A35: Nb pièce NC | C35: =SUM(C24:C31) -> 4 | D35: =SUM(D24:D31) -> 3 | E35: =SUM(E24:E31) -> 0 | F35: =SUM(F24:F31) -> 0 | G35: =SUM(G24:G31) -> 0 | H35: =SUM(H24:H31) -> 4 | I35: =SUM(I24:I31) -> 13 | J35: =SUM(J24:J31) -> 5 | ... AF35: =SUM(AF24:AF31) -> 0 | AH35: =SUM(C35:AF35) -> 91
A36: Taux de rebut | C36: =C35/C34 -> 0.05 | D36: =D35/D34 -> 0.022727273 | E36: =E35/E34 -> 0 | F36: =F35/F34 -> #DIV/0! | G36: =G35/G34 -> #DIV/0! | H36: =H35/H34 -> 0.045977011 | I36: =I35/I34 -> 0.068062827 | J36: =J35/J34 -> 0.046296296 | ... AF36: =AF35/AF34 -> #DIV/0! | AH36: =IFERROR(AH35/AH34*100,"") -> 7.3446328
A39: Reprise Main | B39: Calciné | I39: 2 | R39: 1 | AH39: =SUM(C39:AF39) -> 3
B40: Cogné | D40: 1 | S40: 1 | AH40: =SUM(C40:AF40) -> 2
B41: Casse | P41: 1 | V41: 1 | W41: 1 | AH41: =SUM(C41:AF41) -> 3
B42: Col Large | AH42: =SUM(C42:AF42) -> 0
B43: Epaule déformé | AH43: =SUM(C43:AF43) -> 0
B44: Bandeau retrait | AH44: =SUM(C44:AF44) -> 0
B45: Col intérieur déformé | AH45: =SUM(C45:AF45) -> 0
...

Sheet 1er choix
A1: Défauts Casse / Date | C1: 44713 | D1: =C1+1 -> 44714 | E1: =D1+1 -> 44715 | F1: =E1+1 -> 44716 | G1: =F1+1 -> 44717 | H1: =G1+1 -> 44718 | I1: =H1+1 -> 44719 | J1: =I1+1 -> 44720 | K1: =J1+1 -> 44721 | ... AF1: =AE1+1 -> 44742 | AH1: Total Mensuel
A2: Bandeau | B2: Bouillons(Ba) | C2: 3 | D2: 1 | I2: 1 | O2: 3 | R2: 1 | S2: 1 | V2: 1 | AH2: =SUM(C2:AF2) -> 11
B3: Cailloux (Ba) | C3: 2 | H3: 2 | K3: 3 | O3: 5 | Q3: 1 | R3: 2 | S3: 2 | W3: 2 | AH3: =SUM(C3:AF3) -> 19
B4: Coups(Ba) | E4: 3 | J4: 2 | K4: 1 | R4: 1 | V4: 1 | W4: 1 | AH4: =SUM(C4:AF4) -> 9
B5: Retrait | AH5: =SUM(C5:AF5) -> 0
B6: Voile | C6: 2 | D6: 2 | E6: 2 | H6: 1 | J6: 5 | K6: 1 | O6: 2 | Q6: 1 | V6: 1 | AH6: =SUM(C6:AF6) -> 17
B7: Calcinure(Ba) | C7: 1 | O7: 2 | AH7: =SUM(C7:AF7) -> 3
B8: Marque galette | AH8: =SUM(C8:AF8) -> 0
B9: Déformation | O9: 2 | AH9: =SUM(C9:AF9) -> 2
B10: Picots Int. | C10: 1 | R10: 6 | W10: 2 | AH10: =SUM(C10:AF10) -> 9
B11: Ebreche | AH11: =SUM(C11:AF11) -> 0
B12: Lèvre | AH12: =SUM(C12:AF12) -> 0
B13: Pété | C13: 1 | H13: 1 | I13: 1 | AH13: =SUM(C13:AF13) -> 3
B14: Forage | K14: 1 | AH14: =SUM(C14:AF14) -> 1
B15: Verre Collée(Ba) | W15: 1 | AH15: =SUM(C15:AF15) -> 1
B16: Autres | AH16: =SUM(C16:AF16) -> 0
B17: Trainée d'étoile | W17: 1 | AH17: =SUM(C17:AF17) -> 1
AH18: =SUM(C18:AF18) -> 0
A19: Bidon | B19: Bouillons (Bi) | C19: 1 | E19: 2 | H19: 2 | K19: 1 | Q19: 1 | AH19: =SUM(C19:AF19) -> 7
B20: Cailloux (Bi) | C20: 4 | D20: 1 | E20: 12 | H20: 1 | K20: 1 | O20: 3 | Q20: 1 | R20: 1 | S20: 1 | AH20: =SUM(C20:AF20) -> 25
B21: Calcinure (Bi) | C21: 8 | D21: 1 | H21: 6 | I21: 1 | J21: 7 | K21: 5 | O21: 1 | Q21: 2 | R21: 2 | S21: 1 | AH21: =SUM(C21:AF21) -> 34
B22: Raie inter | J22: 2 | V22: 1 | AH22: =SUM(C22:AF22) -> 3
B23: Enfoncé | C23: 2 | H23: 1 | I23: 1 | AH23: =SUM(C23:AF23) -> 4
B24: Verres collés(Bi) | C24: 2 | H24: 4 | I24: 2 | J24: 3 | K24: 2 | O24: 1 | Q24: 1 | R24: 2 | AH24: =SUM(C24:AF24) -> 17
B25: Bleu Acide | AH25: =SUM(C25:AF25) -> 0
B26: Coups | C26: 1 | H26: 1 | K26: 1 | AH26: =SUM(C26:AF26) -> 3
B27: Picots Fond | C27: 2 | H27: 1 | I27: 1 | J27: 1 | O27: 4 | Q27: 4 | R27: 1 | S27: 5 | AH27: =SUM(C27:AF27) -> 19
B28: Forage excentré | H28: 5 | R28: 5 | V28: 2 | W28: 23 | AH28: =SUM(C28:AF28) -> 35
B29: Rayure intérieur | AH29: =SUM(C29:AF29) -> 0
B30: Col travers | AH30: =SUM(C30:AF30) -> 0
B31: Picot Int | V31: 4 | W31: 1 | AH31: =SUM(C31:AF31) -> 5
AH32: =SUM(C32:AF32) -> 0
B33: Col max | V33: 1 | AH33: =SUM(C33:AF33) -> 1
B34: Mauvais rincage PA | W34: 4 | AH34: =SUM(C34:AF34) -> 4
A35: Nb pièces traitées | C35: 170 | D35: 62 | E35: 73 | F35: 0 | H35: 97 | I35: 36 | J35: 106 | K35: 90 | O35: 107 | Q35: 81 | R35: 77 | S35: 38 | V35: 45 | W35: 75 | AH35: =SUM(C35:AF35) -> 1057
A36: Nb pièce NC | C36: =SUM(C2:C34) -> 30 | D36: =SUM(D2:D34) -> 5 | E36: =SUM(E2:E34) -> 19 | F36: =SUM(F2:F34) -> 0 | G36: =SUM(G2:G34) -> 0 | H36: =SUM(H2:H34) -> 25 | I36: =SUM(I2:I34) -> 7 | J36: =SUM(J2:J34) -> 20 | ... AF36: =SUM(AF2:AF34) -> 0 | AH36: =SUM(C36:AF36) -> 233
A37: Taux de rebut | C37: =C36/C35 -> 0.17647059 | D37: =D36/D35 -> 0.080645161 | E37: =E36/E35 -> 0.26027397 | F37: =F36/F35 -> #DIV/0! | G37: =G36/G35 -> #DIV/0! | H37: =H36/H35 -> 0.25773196 | I37: =I36/I35 -> 0.19444444 | J37: =J36/J35 -> 0.18867925 | ... AF37: =AF36/AF35 -> #DIV/0! | AH37: =IFERROR(AH36/AH35*100,"") -> 22.043519
A38: NB pièces NC défaut bandeau | C38: =SUM(C2:C18) -> 10 | D38: =SUM(D2:D18) -> 3 | E38: =SUM(E2:E18) -> 5 | F38: =SUM(F2:F18) -> 0 | G38: =SUM(G2:G18) -> 0 | H38: =SUM(H2:H18) -> 4 | I38: =SUM(I2:I18) -> 2 | J38: =SUM(J2:J18) -> 7 | ... AF38: =SUM(AF2:AF18) -> 0 | AH38: =SUM(AH2:AH18) -> 76
A39: Taux de rebut Défaut bandeau | C39: =C38/C35 -> 0.058823529 | D39: =D38/D35 -> 0.048387097 | E39: =E38/E35 -> 0.068493151 | F39: =F38/F35 -> #DIV/0! | G39: =G38/G35 -> #DIV/0! | H39: =H38/H35 -> 0.041237113 | I39: =I38/I35 -> 0.055555556 | J39: =J38/J35 -> 0.066037736 | ... AF39: =AF38/AF35 -> #DIV/0! | AH39: =IFERROR(AH38/AH35*100,"") -> 7.1901608
A40: Nb Pièce Défaut Bidon | C40: =SUM(C19:C34) -> 20 | D40: =SUM(D19:D34) -> 2 | E40: =SUM(E19:E34) -> 14 | F40: =SUM(F19:F34) -> 0 | G40: =SUM(G19:G34) -> 0 | H40: =SUM(H19:H34) -> 21 | I40: =SUM(I19:I34) -> 5 | J40: =SUM(J19:J34) -> 13 | ... AF40: =SUM(AF19:AF34) -> 0 | AH40: =SUM(AH19:AH34) -> 157
...

Sheet Choix Rep
A1: Défauts Casse / Date | C1: 44713 | D1: =C1+1 -> 44714 | E1: =D1+1 -> 44715 | F1: =E1+1 -> 44716 | G1: =F1+1 -> 44717 | H1: =G1+1 -> 44718 | I1: =H1+1 -> 44719 | J1: =I1+1 -> 44720 | K1: =J1+1 -> 44721 | ... AF1: =AE1+1 -> 44742 | AH1: Total Mensuel
A2: Bandeau | B2: Bouillons(Ba) | E2: 1 | R2: 1 | W2: 1 | AH2: =SUM(C2:AF2) -> 3
B3: Cailloux (Ba) | D3: 5 | E3: 1 | Q3: 1 | R3: 1 | AH3: =SUM(C3:AF3) -> 8
B4: Coups(Ba) | C4: 3 | D4: 2 | AH4: =SUM(C4:AF4) -> 5
B5: Retrait | K5: 2 | AH5: =SUM(C5:AF5) -> 2
B6: Voile | I6: 1 | J6: 1 | W6: 1 | AH6: =SUM(C6:AF6) -> 3
B7: Calcinure(Ba) | AH7: =SUM(C7:AF7) -> 0
B8: Marque galette | AH8: =SUM(C8:AF8) -> 0
B9: Déformation | AH9: =SUM(C9:AF9) -> 0
B10: Picots Int. | AH10: =SUM(C10:AF10) -> 0
B11: Ebreche | AH11: =SUM(C11:AF11) -> 0
B12: Lèvre | AH12: =SUM(C12:AF12) -> 0
B13: Pété | AH13: =SUM(C13:AF13) -> 0
B14: Forage | AH14: =SUM(C14:AF14) -> 0
B15: Verre Collée(Ba) | AH15: =SUM(C15:AF15) -> 0
B16: Autres | AH16: =SUM(C16:AF16) -> 0
AH17: =SUM(C17:AF17) -> 0
AH18: =SUM(C18:AF18) -> 0
A19: Bidon | B19: Bouillons (Bi) | P19: 2 | W19: 1 | AH19: =SUM(C19:AF19) -> 3
B20: Cailloux (Bi) | D20: 2 | E20: 1 | K20: 3 | P20: 1 | R20: 1 | W20: 1 | AH20: =SUM(C20:AF20) -> 9
B21: Calcinure (Bi) | C21: 1 | I21: 2 | J21: 2 | P21: 1 | W21: 1 | AH21: =SUM(C21:AF21) -> 7
B22: Raie inter | E22: 1 | AH22: =SUM(C22:AF22) -> 1
B23: Enfoncé | I23: 1 | P23: 1 | R23: 1 | W23: 1 | AH23: =SUM(C23:AF23) -> 4
B24: Verres collés(Bi) | D24: 2 | P24: 1 | W24: 2 | AH24: =SUM(C24:AF24) -> 5
B25: Bleu Acide | AH25: =SUM(C25:AF25) -> 0
B26: Coups | J26: 1 | P26: 2 | AH26: =SUM(C26:AF26) -> 3
B27: Picots Fond | AH27: =SUM(C27:AF27) -> 0
B28: Potée | P28: 2 | R28: 1 | AH28: =SUM(C28:AF28) -> 3
B29: Rayure intérieur | AH29: =SUM(C29:AF29) -> 0
B30: Col travers | AH30: =SUM(C30:AF30) -> 0
B31: Picot Int | AH31: =SUM(C31:AF31) -> 0
AH32: =SUM(C32:AF32) -> 0
B33: Col max | AH33: =SUM(C33:AF33) -> 0
B34: Mauvais rincage PA | AH34: =SUM(C34:AF34) -> 0
A35: Nb pièces traitées | C35: 101 | D35: 230 | E35: 75 | I35: 64 | J35: 68 | K35: 81 | P35: 122 | Q35: 61 | R35: 138 | W35: =16+30+4+3 -> 53 | AH35: =SUM(C35:AF35) -> 993
A36: Nb pièce NC | C36: =SUM(C2:C34) -> 4 | D36: =SUM(D2:D34) -> 11 | E36: =SUM(E2:E34) -> 4 | F36: =SUM(F2:F34) -> 0 | G36: =SUM(G2:G34) -> 0 | H36: =SUM(H2:H34) -> 0 | I36: =SUM(I2:I34) -> 4 | J36: =SUM(J2:J34) -> 4 | ... AF36: =SUM(AF2:AF34) -> 0 | AH36: =SUM(C36:AF36) -> 56
A37: Taux de rebut | C37: =C36/C35 -> 0.03960396 | D37: =D36/D35 -> 0.047826087 | E37: =E36/E35 -> 0.053333333 | F37: =F36/F35 -> #DIV/0! | G37: =G36/G35 -> #DIV/0! | H37: =H36/H35 -> #DIV/0! | I37: =I36/I35 -> 0.0625 | J37: =J36/J35 -> 0.058823529 | ... AF37: =AF36/AF35 -> #DIV/0! | AH37: =IFERROR(AH36/AH35*100,"") -> 5.6394763
A38: NB pièces NC défaut bandeau | C38: =SUM(C2:C18) -> 3 | D38: =SUM(D2:D18) -> 7 | E38: =SUM(E2:E18) -> 2 | F38: =SUM(F2:F18) -> 0 | G38: =SUM(G2:G18) -> 0 | H38: =SUM(H2:H18) -> 0 | I38: =SUM(I2:I18) -> 1 | J38: =SUM(J2:J18) -> 1 | ... AF38: =SUM(AF2:AF18) -> 0 | AH38: =SUM(AH2:AH18) -> 21
A39: Taux de rebut Défaut bandeau | C39: =C38/C35 -> 0.02970297 | D39: =D38/D35 -> 0.030434783 | E39: =E38/E35 -> 0.026666667 | F39: =F38/F35 -> #DIV/0! | G39: =G38/G35 -> #DIV/0! | H39: =H38/H35 -> #DIV/0! | I39: =I38/I35 -> 0.015625 | J39: =J38/J35 -> 0.014705882 | ... AF39: =AF38/AF35 -> #DIV/0! | AH39: =IFERROR(AH38/AH35*100,"") -> 2.1148036
A40: Nb Pièce Défaut Bidon | C40: =SUM(C19:C34) -> 1 | D40: =SUM(D19:D34) -> 4 | E40: =SUM(E19:E34) -> 2 | F40: =SUM(F19:F34) -> 0 | G40: =SUM(G19:G34) -> 0 | H40: =SUM(H19:H34) -> 0 | I40: =SUM(I19:I34) -> 3 | J40: =SUM(J19:J34) -> 3 | ... AF40: =SUM(AF19:AF34) -> 0 | AH40: =SUM(AH19:AH34) -> 35
...

Sheet choix final 
A1: Défauts Casse / Date | C1: 44713 | D1: =C1+1 -> 44714 | E1: =D1+1 -> 44715 | F1: =E1+1 -> 44716 | G1: =F1+1 -> 44717 | H1: =G1+1 -> 44718 | I1: =H1+1 -> 44719 | J1: =I1+1 -> 44720 | K1: =J1+1 -> 44721 | ... AF1: =AE1+1 -> 44742 | AH1: Total Mensuel
A2: Bandeau | B2: Bouillons(Ba) | R2: 1 | AH2: =SUM(C2:AF2) -> 1
B3: Cailloux (Ba) | AH3: =SUM(C3:AF3) -> 0
B4: Coups(Ba) | AH4: =SUM(C4:AF4) -> 0
B5: Retrait | AH5: =SUM(C5:AF5) -> 0
B6: Voile | AH6: =SUM(C6:AF6) -> 0
B7: Calcinure(Ba) | R7: 1 | AH7: =SUM(C7:AF7) -> 1
B8: Marque galette | AH8: =SUM(C8:AF8) -> 0
B9: Déformation | AH9: =SUM(C9:AF9) -> 0
B10: Picots Int. | AH10: =SUM(C10:AF10) -> 0
B11: Ebreche | AH11: =SUM(C11:AF11) -> 0
B12: Lèvre | AH12: =SUM(C12:AF12) -> 0
B13: Pété | AH13: =SUM(C13:AF13) -> 0
B14: Forage | AH14: =SUM(C14:AF14) -> 0
B15: Verre Collée(Ba) | AH15: =SUM(C15:AF15) -> 0
B16: Autres | AH16: =SUM(C16:AF16) -> 0
AH17: =SUM(C17:AF17) -> 0
AH18: =SUM(C18:AF18) -> 0
A19: Bidon | B19: Bouillons (Bi) | AH19: =SUM(C19:AF19) -> 0
B20: Cailloux (Bi) | O20: 2 | AH20: =SUM(C20:AF20) -> 2
B21: Calcinure (Bi) | AH21: =SUM(C21:AF21) -> 0
B22: Raie inter | AH22: =SUM(C22:AF22) -> 0
B23: Enfoncé | AH23: =SUM(C23:AF23) -> 0
B24: Verres collés(Bi) | AH24: =SUM(C24:AF24) -> 0
B25: Bleu Acide | AH25: =SUM(C25:AF25) -> 0
B26: Coups | AH26: =SUM(C26:AF26) -> 0
B27: Picots Fond | AH27: =SUM(C27:AF27) -> 0
B28: Forage excentré | AH28: =SUM(C28:AF28) -> 0
B29: Rayure intérieur | AH29: =SUM(C29:AF29) -> 0
B30: Col travers | AH30: =SUM(C30:AF30) -> 0
B31: Picot Int | AH31: =SUM(C31:AF31) -> 0
AH32: =SUM(C32:AF32) -> 0
B33: Col max | AH33: =SUM(C33:AF33) -> 0
B34: Mauvais rincage PA | AH34: =SUM(C34:AF34) -> 0
A35: Nb pièces traitées | C35: 83 | D35: 154 | E35: 86 | H35: 53 | J35: 63 | O35: 22 | W35: =48+41 -> 89 | AH35: =SUM(C35:AF35) -> 550
A36: Nb pièce NC | C36: =SUM(C2:C34) -> 0 | D36: =SUM(D2:D34) -> 0 | E36: =SUM(E2:E34) -> 0 | F36: =SUM(F2:F34) -> 0 | G36: =SUM(G2:G34) -> 0 | H36: =SUM(H2:H34) -> 0 | I36: =SUM(I2:I34) -> 0 | J36: =SUM(J2:J34) -> 0 | ... AF36: =SUM(AF2:AF34) -> 0 | AH36: =SUM(C36:AF36) -> 4
A37: Taux de rebut | C37: =C36/C35 -> 0 | D37: =D36/D35 -> 0 | E37: =E36/E35 -> 0 | F37: =F36/F35 -> #DIV/0! | G37: =G36/G35 -> #DIV/0! | H37: =H36/H35 -> 0 | I37: =I36/I35 -> #DIV/0! | J37: =J36/J35 -> 0 | ... AF37: =AF36/AF35 -> #DIV/0! | AH37: =IFERROR(AH36/AH35*100,"") -> 0.72727273
A38: NB pièces NC défaut bandeau | C38: =SUM(C2:C18) -> 0 | D38: =SUM(D2:D18) -> 0 | E38: =SUM(E2:E18) -> 0 | F38: =SUM(F2:F18) -> 0 | G38: =SUM(G2:G18) -> 0 | H38: =SUM(H2:H18) -> 0 | I38: =SUM(I2:I18) -> 0 | J38: =SUM(J2:J18) -> 0 | ... AF38: =SUM(AF2:AF18) -> 0 | AH38: =SUM(AH2:AH18) -> 2
A39: Taux de rebut Défaut bandeau | C39: =IFERROR(C38/C35*100,"") -> 0 | D39: =IFERROR(D38/D35*100,"") -> 0 | E39: =IFERROR(E38/E35*100,"") -> 0 | F39: =IFERROR(F38/F35*100,"") | G39: =IFERROR(G38/G35*100,"") | H39: =IFERROR(H38/H35*100,"") -> 0 | I39: =IFERROR(I38/I35*100,"") | J39: =IFERROR(J38/J35*100,"") -> 0 | ... AF39: =IFERROR(AF38/AF35*100,"") | AH39: =IFERROR(AH38/AH35*100,"") -> 0.36363636
A40: Nb Pièce Défaut Bidon | C40: =SUM(C19:C34) -> 0 | D40: =SUM(D19:D34) -> 0 | E40: =SUM(E19:E34) -> 0 | F40: =SUM(F19:F34) -> 0 | G40: =SUM(G19:G34) -> 0 | H40: =SUM(H19:H34) -> 0 | I40: =SUM(I19:I34) -> 0 | J40: =SUM(J19:J34) -> 0 | ... AF40: =SUM(AF19:AF34) -> 0 | AH40: =SUM(AH19:AH34) -> 2
...

Sheet Indicateur journalier SMP
A1: Taux de rebut | U1: Calcul de NQ
A2: Date | B2: 44732 | U2: =IFERROR((1-$B$5),0) -> 0
U3: =IFERROR((1-$B$6),0) -> 0
A4: Poste | B4: Taux de NQ | C4: Objectif | U4: =IFERROR((1-$B$7),0) -> 0.86335404
A5: CEM/contenance | B5: =HLOOKUP(B2,'CEM,PA,Forage'!2:11,10) -> #DIV/0! | U5: =IFERROR((1-$B$8),0) -> 0.98275862
A6: PA | B6: =HLOOKUP(B2,'CEM,PA,Forage'!2:22,21) -> #DIV/0! | U6: =IFERROR((1-$B$9),0) -> 1
A7: Forage | B7: =HLOOKUP(B2,'CEM,PA,Forage'!2:36,35) -> 0.13664596
A8: Reprise Main | B8: =HLOOKUP(B2,'CEM,PA,Forage'!2:51,50) -> 0.017241379 | U8: =IFERROR((1-$B$11),0) -> 0.75555556
A9: GS4 | B9: =HLOOKUP(B2,'CEM,PA,Forage'!2:76,75) -> 0 | D9: Top 1 Défaut | F9: Top 2 Défaut | H9: Top 3 Défaut | U9: =IFERROR((1-$B$12),0) -> 0
D10: Nom | E10: % du défaut | F10: Nom | G10: % du défaut | H10: Nom | I10: % du défaut | U10: =IFERROR((1-$B$13),0) -> 0
A11: 1 er choix | B11: =HLOOKUP(B2,'1er choix'!A1:AH37,37) -> 0.24444444 | C11: 0.16
A12: Choix Rep | B12: =HLOOKUP(B2,'Choix Rep'!A1:AF37,37) -> #DIV/0!
A13: Choix final | B13: =HLOOKUP(B2,'choix final '!A1:AF37,37) -> #DIV/0! | C13: 0 % | U13: {=PRODUCT(IF(U2:U10<>0,U2:U10,""))} -> 0.64106518
A14: Taux de NQ globale choix | B14: {=1-PRODUCT(IF(U8:U10<>0,U8:U10,""))} -> 0.24444444
A16: Taux de NQ globale Ligne | B16: =1-U13 -> 0.35893482

Sheet Indicateur semaine SMP
A1: Taux de rebut RUG | U1: Calcul de NQ
A2: Date | B2: 44733 | U2: =IFERROR((1-$B$5),0) -> 0.98979592
U3: =IFERROR((1-$B$6),0) -> 0
A4: Poste | B4: Taux de NQ | C4: Objectif | U4: =IFERROR((1-$B$7),0) -> 0.95348837
A5: CEM/contenance | B5: =HLOOKUP(B2,'CEM,PA,Forage'!2:11,10) -> 0.010204082 | U5: =IFERROR((1-$B$8),0) -> 0.97142857
A6: PA | B6: =HLOOKUP(B2,'CEM,PA,Forage'!2:22,21) -> #DIV/0! | U6: =IFERROR((1-$B$9),0) -> 1
A7: Forage | B7: =HLOOKUP(B2,'CEM,PA,Forage'!2:36,35) -> 0.046511628
A8: Reprise Main | B8: =HLOOKUP(B2,'CEM,PA,Forage'!2:51,50) -> 0.028571429 | U8: =IFERROR((1-$B$11),0) -> 0.53333333
A9: GS4 | B9: =HLOOKUP(B2,'CEM,PA,Forage'!2:76,75) -> 0 | D9: Top 1 Défaut | F9: Top 2 Défaut | H9: Top 3 Défaut | U9: =IFERROR((1-$B$12),0) -> 0.8490566
D10: Nom | E10: % du défaut | F10: Nom | G10: % du défaut | H10: Nom | I10: % du défaut | U10: =IFERROR((1-$B$13),0) -> 1
A11: 1 er choix | B11: =HLOOKUP(B2,'1er choix'!A1:AH37,37) -> 0.46666667 | C11: 0.16 | E11: =HLOOKUP(B2,'1er choix'!A1:AH37,D11) -> #VALUE!
A12: Choix Rep | B12: =HLOOKUP(B2,'Choix Rep'!A1:AF37,37) -> 0.1509434
A13: Choix final | B13: =HLOOKUP(B2,'choix final '!A1:AF37,37) -> 0 | C13: 0 % | U13: {=PRODUCT(IF(U2:U10<>0,U2:U10,""))} -> 0.41515216
A14: Taux de NQ globale choix | B14: {=PRODUCT(IF(U8:U10<>0,U8:U10,""))} -> 0.45283019
A16: Taux de NQ globale Ligne | B16: =U13 -> 0.41515216

Sheet Feuil2

Sheet Feuil3
B2: Bouillons | C2: Cailloux | D2: Coups | E2: Retrait | F2: Voile | G2: Calcinure | H2: Marques galette | I2: Déformation | J2: Picots int | K2: Ebrêche | L2: Lèvre | M2: Pété | N2: Forage | O2: Verre collé | Q2: Bouillons | R2: Cailloux | S2: Calcinure | T2: Raie inter | U2: Enfoncé | V2: Verre collé | W2: Bleu Acide | X2: Coups | Y2: Picots Fond | Z2: Forage excentré(Col travers) | AA2: Rayure int | AB2: Col excentré | AD2: Col large | AE2: Col court | AF2: Carnette large | AG2: Casse forage | AH2: Col excentrée | AI2: Casse col | AJ2: Casse fond | AK2: Forage trop grand | AL2: Col non débouchant | AM2: Col non débouchant | AN2: Casse machine | AO2: Col étroit | AP2: Fond calciné | AQ2: Bandeau | AR2: Col de travers | AS2: Col calcinée | AT2: Col tordu | AU2: Col filée | AW2: Calcinure | AX2: Cogné | AY2: Casse | AZ2: Col Large | BA2: Eapule déformé | BB2: Bandeau retrait | BC2: Col intérieur déformé | BD2: col de travers | BE2: Autres | BG2: Col large | BH2: Col court | BI2: Carnette large | BJ2: Casse forage | BK2: Col excentrée | BL2: Casse col | BM2: Casse fond | BN2: Forage trop grand | BO2: Col non débouchant | BP2: Casse machine | BQ2: Col étroit | BR2: Fond calciné | BS2: Bandeau | BT2: Col de travers | BU2: Col calcinée | BV2: Col tordu | BW2: Col filée | BX2: Col avant rebut GS4 | BY2: Casse avant GS4 | BZ2: Bidon calciné
B3: 11 | C3: 17 | D3: 8 | E3: 0 | F3: 17 | G3: 3 | H3: 0 | I3: 2 | J3: 7 | K3: 0 | L3: 0 | M3: 3 | N3: 1 | O3: 0 | Q3: 7 | R3: 25 | S3: 34 | T3: 3 | U3: 4 | V3: 17 | W3: 0 | X3: 3 | Y3: 23 | Z3: 12 | AA3: 0 | AB3: 0 | AD3: 22 | AE3: 0 | AF3: 0 | AG3: 4 | AH3: 4 | AI3: 0 | AJ3: 0 | AK3: 0 | AL3: 8 | AM3: 0 | AN3: 0 | AO3: 0 | AP3: 0 | AQ3: 11 | AR3: 39 | AS3: 0 | AT3: 0 | AU3: 0 | AW3: 3 | AX3: 2 | AY3: 2 | AZ3: 0 | BA3: 0 | BB3: 0 | BC3: 0 | BD3: 2 | BE3: 0 | BG3: 0 | BH3: 0 | BI3: 0 | BJ3: 0 | BK3: 0 | BL3: 0 | BM3: 0 | BN3: 0 | BO3: 0 | BP3: 2 | BQ3: 0 | BR3: 0 | BS3: 0 | BT3: 0 | BU3: 0 | BV3: 0 | BW3: 0 | BX3: 0 | BY3: 1 | BZ3: 0
B4: 1 | G4: 1 | R4: 2
B5: =SUM(B3:B4) -> 12 | C5: =SUM(C3:C4) -> 17 | D5: =SUM(D3:D4) -> 8 | E5: =SUM(E3:E4) -> 0 | F5: =SUM(F3:F4) -> 17 | G5: =SUM(G3:G4) -> 4 | H5: =SUM(H3:H4) -> 0 | I5: =SUM(I3:I4) -> 2 | ... BZ5: =SUM(BZ3:BZ4) -> 0
B7: Bouillons | C7: Cailloux | D7: Coups | E7: Retrait | F7: Voile | G7: Calcinure | H7: Marques galette | I7: Déformation | J7: Picots int | K7: Ebrêche | L7: Lèvre | M7: Pété | N7: Forage | O7: Verre collé | Q7: Bouillons | R7: Cailloux | S7: Calcinure | T7: Raie inter | U7: Enfoncé | V7: Verre collé | W7: Bleu Acide | X7: Coups | Y7: Picots Fond | Z7: Forage excentré(Col travers) | AA7: Rayure int | AB7: Col excentré | AD7: Col large | AE7: Col court | AF7: Carnette large | AG7: Casse forage | AH7: Col excentrée | AI7: Casse col | AJ7: Casse fond | AK7: Forage trop grand | AL7: Col non débouchant | AM7: Col non débouchant | AN7: Casse machine | AO7: Col étroit | AP7: Fond calciné | AQ7: Bandeau | AR7: Col de travers | AS7: Col calcinée | AT7: Col tordu | AU7: Col filée | AW7: Calcinure | AX7: Cogné | AY7: Casse | AZ7: Col Large | BA7: Eapule déformé | BB7: Bandeau retrait | BC7: Col intérieur déformé | BD7: col de travers | BE7: Autres | BG7: Col large | BH7: Col court | BI7: Carnette large | BJ7: Casse forage | BK7: Col excentrée | BL7: Casse col | BM7: Casse fond | BN7: Forage trop grand | BO7: Col non débouchant | BP7: Casse machine | BQ7: Col étroit | BR7: Fond calciné | BS7: Bandeau | BT7: Col de travers | BU7: Col calcinée | BV7: Col tordu | BW7: Col filée | BX7: Col avant rebut GS4 | BY7: Casse avant GS4 | BZ7: Bidon calciné
B8: =SUMIF(2:2,B2,5:5) -> 19 | C8: =SUMIF(2:2,C2,5:5) -> 44 | D8: =SUMIF(2:2,D2,5:5) -> 11 | E8: =SUMIF(2:2,E2,5:5) -> 0 | F8: =SUMIF(2:2,F2,5:5) -> 17 | G8: =SUMIF(2:2,G2,5:5) -> 41 | H8: =SUMIF(2:2,H2,5:5) -> 0 | I8: =SUMIF(2:2,I2,5:5) -> 2 | ... BZ8: =SUMIF(2:2,BZ2,5:5) -> 0
B12: Bouillons | C12: Cailloux | D12: Coups | E12: Retrait | F12: Voile | G12: Calcinure | H12: Marques galette | I12: Déformation | J12: Picots int | K12: Ebrêche | L12: Lèvre | M12: Pété | N12: Forage | O12: Verre collé | P12: Raie inter | Q12: Enfoncé | R12: Bleu Acide | S12: Picots Fond | T12: Forage excentré(Col travers) | U12: Rayure int | V12: Col excentré | W12: Col large | X12: Col court | Y12: Carnette large | Z12: Casse forage | AA12: Col excentrée | AB12: Casse col | AC12: Casse fond | AD12: Forage trop grand | AE12: Col non débouchant | AF12: Col non débouchant | AG12: Casse machine | AH12: Col étroit | AI12: Fond calciné | AJ12: Bandeau | AK12: Col de travers | AL12: Col calcinée | AM12: Col tordu | AN12: Col filée | AO12: Cogné | AP12: Casse | AQ12: Eapule déformé | AR12: Bandeau retrait | AS12: Col intérieur déformé | AU12: Autres | AV12: Col avant rebut GS4 | AW12: Casse avant GS4 | AX12: Bidon calciné
B13: 19 | C13: 44 | D13: 11 | E13: 0 | F13: 17 | G13: 41 | H13: 0 | I13: 2 | J13: 7 | K13: 0 | L13: 0 | M13: 3 | N13: 1 | O13: 17 | P13: 3 | Q13: 4 | R13: 0 | S13: 23 | T13: 12 | U13: 0 | V13: 0 | W13: 22 | X13: 0 | Y13: 0 | Z13: 4 | AA13: 4 | AB13: 0 | AC13: 0 | AD13: 0 | AE13: 8 | AF13: 8 | AG13: 2 | AH13: 0 | AI13: 0 | AJ13: 11 | AK13: 41 | AL13: 0 | AM13: 0 | AN13: 0 | AO13: 2 | AP13: 2 | AQ13: 0 | AR13: 0 | AS13: 0 | AU13: 0 | AV13: 0 | AW13: 1 | AX13: 0
