Workbook

Sheet Total
B2: Transit | H2: Douleurs
A3: Jour | B3: Transit | C3: Gaz | D3: Autre | E3: Fatigue | F3: Moral | G3: Bidule | H3: 1 | I3: 2 | J3: 3 | K3: 4 | L3: 5 | M3: 6 | O3: Ménage | P3: Sortie | Q3: Bricolage | R3: Visite | S3: Médecin | T3: Sieste | U3: Autre | W3: A | Z3: B | AC3: C | AF3: D | AI3: E
A4: 1 | B4: =INDEX(INDIRECT("'Jour "&A4&"'!Y2:Y4"),MATCH("X",INDIRECT("'Jour "&A4&"'!X2:X4"),0)) -> N | C4: =INDEX(INDIRECT("'Jour "&A4&"'!Y5"),MATCH("X",INDIRECT("'Jour "&A4&"'!X5"),0)) -> #N/A | E4: =INDEX(INDIRECT("'Jour "&A4&"'!Y18:Y22"),MATCH("X",INDIRECT("'Jour "&A4&"'!X18:X22"),0)) -> 2 | H4: =INDEX(INDIRECT("'Jour "&A4&"'!M5:V5"),MATCH("X",INDIRECT("'Jour "&A4&"'!M10:V10"),0)) -> #N/A | O4: ='Jour 1'!A18 -> x | P4: ='Jour 1'!B18 -> 0 | Q4: ='Jour 1'!C18 -> 0 | R4: ='Jour 1'!D18 -> 0 | S4: ='Jour 1'!E18 -> 0 | T4: ='Jour 1'!F18 -> 0 | U4: ='Jour 1'!G18 -> x | W4: ='Jour 1'!A26 -> 17h30 | X4: ='Jour 1'!A27 -> 0 | Y4: ='Jour 1'!A28 -> 0 | AC4: ='Jour 1'!C26 -> 21h | AD4: ='Jour 1'!C27 -> 0 | AE4: ='Jour 1'!C28 -> 0 | AF4: ='Jour 1'!D26 -> 0 | AG4: ='Jour 1'!D27 -> 0 | AH4: ='Jour 1'!D28 -> 0 | AI4: ='Jour 1'!E26 -> 0 | AJ4: ='Jour 1'!E27 -> 0 | AK4: ='Jour 1'!E28 -> 0
A5: 2 | C5: =INDEX(INDIRECT("'Jour "&A5&"'!Y2:Y5"),MATCH("X",INDIRECT("'Jour "&A5&"'!X2:X5"),0)) -> #REF! | O5: ='2'!A18 -> 0 | P5: ='2'!B18 -> x | Q5: ='2'!C18 -> 0 | R5: ='2'!D18 -> 0 | S5: ='2'!E18 -> 0 | T5: ='2'!F18 -> 0 | U5: ='2'!G18 -> 0 | W5: ='2'!A26 -> 0 | X5: ='2'!A27 -> 0 | Y5: ='2'!A28 -> 0 | AC5: ='2'!C26 -> 22h | AD5: ='2'!H26 -> 0 | AE5: ='2'!I26 -> 0 | AF5: ='2'!D26 -> 21h | AG5: ='2'!K26 -> 0 | AH5: ='2'!L26 -> 0 | AI5: ='2'!M26 -> 0 | AJ5: ='2'!N26 -> 0 | AK5: ='2'!O26 -> 0
A6: 3 | O6: ='3'!A18 -> 0 | P6: ='3'!B18 -> 0 | Q6: ='3'!C18 -> x | R6: ='3'!D18 -> 0 | S6: ='3'!E18 -> 0 | T6: ='3'!F18 -> 0 | U6: ='3'!G18 -> 0 | W6: ='3'!A26 -> 0 | X6: ='3'!A27 -> 0 | Y6: ='3'!A28 -> 0 | Z6: ='3'!B26 -> 18h | AC6: ='3'!G26 -> 0 | AD6: ='3'!H26 -> 0 | AE6: ='3'!I26 -> 0 | AF6: ='3'!J26 -> 0 | AG6: ='3'!K26 -> 0 | AH6: ='3'!L26 -> 0 | AI6: ='3'!M26 -> 0 | AJ6: ='3'!N26 -> 0 | AK6: ='3'!O26 -> 0
A7: 31 | O7: ='31'!A18 -> 0 | P7: ='31'!B18 -> 0 | Q7: ='31'!C18 -> 0 | R7: ='31'!D18 -> 0 | S7: ='31'!E18 -> 0 | T7: ='31'!F18 -> 0 | U7: ='31'!G18 -> x | W7: ='31'!A26 -> 0 | X7: ='31'!A27 -> 0 | Y7: ='31'!A28 -> 0 | Z7: ='31'!B26 -> 14h | AC7: ='31'!G26 -> 0 | AD7: ='31'!H26 -> 0 | AE7: ='31'!I26 -> 0 | AF7: ='31'!J26 -> 0 | AG7: ='31'!K26 -> 0 | AH7: ='31'!L26 -> 0 | AI7: ='31'!E26 -> 12h | AJ7: ='31'!N26 -> 0 | AK7: ='31'!O26 -> 0

Sheet Jour 1
A1: 1 | B1: Mars | X1: Transit | AB1: Moral | AE1: /5
A2: REPAS | I2: DOULEURS | Y2: D | Z2: Diarrhée | AD2: Bien | AE2: 5
A3: N°1 | I3: Type | M3: Intensité | X3: x | Y3: N | Z3: Normal
M4: 1 | N4: 2 | O4: 3 | P4: 4 | Q4: 5 | R4: 6 | S4: 7 | T4: 8 | U4: 9 | V4: 10 | Y4: C | Z4: Constipation | AD4: Bof | AE4: 4
I5: 1 | J5: Maux de tête | Q5: x | Y5: G | Z5: Gaz
I6: 2 | AD6: Triste | AE6: 3
A7: N°2 | I7: 3 | X7: Autre
A8: Poulet riz salade | I8: 4 | AB8: x | AD8: Pas top | AE8: 2
A9: Crème dessert | I9: 5 | Y9: 1 | Z9: Pas
I10: 6 | X10: x | Y10: 2 | Z10: Faible | AD10: Nul | AE10: 1
A11: N°3 | Y11: 3 | Z11: Moyen
A12: Soupe | Y12: 4 | Z12: Beaucoup
A13: Yaourt | Y13: 5 | Z13: Enorme
A16: ACTIVITE | I16: OBSERVATIONS | X16: Fatigue
A17: Ménage | B17: Sortie | C17: Bricolage | D17: Visite | E17: Médecin | F17: Sieste | G17: Autre
A18: x | G18: x | Y18: 1 | Z18: Pas
X19: x | Y19: 2 | Z19: Faible
Y20: 3 | Z20: Moyen
Y21: 4 | Z21: Beaucoup
A22: MEDICAMENTS | Y22: 5 | Z22: Enorme
A24: A | B24: B | C24: C | D24: D | E24: E
X25: Bidule
A26: 17h30 | C26: 21h
Y27: 1 | Z27: Pas
X28: x | Y28: 2 | Z28: Faible
Y29: 3 | Z29: Moyen
Y30: 4 | Z30: Beaucoup
Y31: 5 | Z31: Enorme

Sheet 2
A1: 2 | B1: Mars | X1: Transit | AB1: Moral | AE1: /5
A2: REPAS | I2: DOULEURS | Y2: 1 | Z2: Diarrhée | AD2: Bien | AE2: 5
A3: N°1 | I3: Type | M3: Intensité | X3: x | Y3: 2 | Z3: Normal
M4: 1 | N4: 2 | O4: 3 | P4: 4 | Q4: 5 | R4: 6 | S4: 7 | T4: 8 | U4: 9 | V4: 10 | Y4: 3 | Z4: Constipation | AD4: Bof | AE4: 4
I5: 1 | J5: Mal de ventre | S5: x | Y5: 4 | Z5: Gaz
I6: 2 | AD6: Triste | AE6: 3
A7: N°2 | I7: 3 | X7: Autre
I8: 4 | AD8: Pas top | AE8: 2
I9: 5 | Y9: 1 | Z9: Pas
I10: 6 | Y10: 2 | Z10: Faible | AB10: x | AD10: Nul | AE10: 1
A11: N°3 | Y11: 3 | Z11: Moyen
Y12: 4 | Z12: Beaucoup
X13: x | Y13: 5 | Z13: Enorme
A16: ACTIVITE | I16: OBSERVATIONS | X16: Fatigue
A17: Ménage | B17: Sortie | C17: Bricolage | D17: Visite | E17: Médecin | F17: Sieste | G17: Autre
B18: x | Y18: 1 | Z18: Pas
Y19: 2 | Z19: Faible
Y20: 3 | Z20: Moyen
X21: x | Y21: 4 | Z21: Beaucoup
A22: MEDICAMENTS | Y22: 5 | Z22: Enorme
A24: A | B24: B | C24: C | D24: D | E24: E
X25: Bidule
C26: 22h | D26: 21h
X27: x | Y27: 1 | Z27: Pas
Y28: 2 | Z28: Faible
Y29: 3 | Z29: Moyen
Y30: 4 | Z30: Beaucoup
Y31: 5 | Z31: Enorme

Sheet 3
A1: 3 | B1: Mars | X1: Transit | AB1: Moral | AE1: /5
A2: REPAS | I2: DOULEURS | X2: x | Y2: 1 | Z2: Diarrhée | AD2: Bien | AE2: 5
A3: N°1 | I3: Type | M3: Intensité | Y3: 2 | Z3: Normal
M4: 1 | N4: 2 | O4: 3 | P4: 4 | Q4: 5 | R4: 6 | S4: 7 | T4: 8 | U4: 9 | V4: 10 | Y4: 3 | Z4: Constipation | AB4: x | AD4: Bof | AE4: 4
I5: 1 | J5: Maux de tête | P5: x | Y5: 4 | Z5: Gaz
I6: 2 | J6: Mal de ventre | O6: x | AD6: Triste | AE6: 3
A7: N°2 | I7: 3 | X7: Autre
I8: 4 | AD8: Pas top | AE8: 2
I9: 5 | Y9: 1 | Z9: Pas
I10: 6 | Y10: 2 | Z10: Faible | AD10: Nul | AE10: 1
A11: N°3 | Y11: 3 | Z11: Moyen
X12: x | Y12: 4 | Z12: Beaucoup
Y13: 5 | Z13: Enorme
A16: ACTIVITE | I16: OBSERVATIONS | X16: Fatigue
A17: Ménage | B17: Sortie | C17: Bricolage | D17: Visite | E17: Médecin | F17: Sieste | G17: Autre
C18: x | Y18: 1 | Z18: Pas
X19: x | Y19: 2 | Z19: Faible
Y20: 3 | Z20: Moyen
Y21: 4 | Z21: Beaucoup
A22: MEDICAMENTS | Y22: 5 | Z22: Enorme
A24: A | B24: B | C24: C | D24: D | E24: E
X25: Bidule
B26: 18h
Y27: 1 | Z27: Pas
Y28: 2 | Z28: Faible
X29: x | Y29: 3 | Z29: Moyen
Y30: 4 | Z30: Beaucoup
Y31: 5 | Z31: Enorme

Sheet 31
A1: 31 | B1: Mars | X1: Transit | AB1: Moral | AE1: /5
A2: REPAS | I2: DOULEURS | Y2: 1 | Z2: Diarrhée | AB2: x | AD2: Bien | AE2: 5
A3: N°1 | I3: Type | M3: Intensité | Y3: 2 | Z3: Normal
M4: 1 | N4: 2 | O4: 3 | P4: 4 | Q4: 5 | R4: 6 | S4: 7 | T4: 8 | U4: 9 | V4: 10 | X4: x | Y4: 3 | Z4: Constipation | AD4: Bof | AE4: 4
I5: 1 | J5: Mal de dos | P5: x | Y5: 4 | Z5: Gaz
I6: 2 | AD6: Triste | AE6: 3
A7: N°2 | I7: 3 | X7: Autre
I8: 4 | AD8: Pas top | AE8: 2
I9: 5 | Y9: 1 | Z9: Pas
I10: 6 | Y10: 2 | Z10: Faible | AD10: Nul | AE10: 1
A11: N°3 | X11: x | Y11: 3 | Z11: Moyen
Y12: 4 | Z12: Beaucoup
Y13: 5 | Z13: Enorme
A16: ACTIVITE | I16: OBSERVATIONS | X16: Fatigue
A17: Ménage | B17: Sortie | C17: Bricolage | D17: Visite | E17: Médecin | F17: Sieste | G17: Autre
G18: x | Y18: 1 | Z18: Pas
Y19: 2 | Z19: Faible
X20: x | Y20: 3 | Z20: Moyen
Y21: 4 | Z21: Beaucoup
A22: MEDICAMENTS | Y22: 5 | Z22: Enorme
A24: A | B24: B | C24: C | D24: D | E24: E
X25: Bidule
B26: 14h | E26: 12h
Y27: 1 | Z27: Pas
X28: x | Y28: 2 | Z28: Faible
Y29: 3 | Z29: Moyen
Y30: 4 | Z30: Beaucoup
Y31: 5 | Z31: Enorme
