Workbook
Name ferie: Variables!$C$4:$C$16

Sheet nov-18
B1: 8 | H1: =_xlfn.ISOWEEKNUM(H3) -> 44 | I1: =_xlfn.ISOWEEKNUM(H3) -> 44 | J1: =_xlfn.ISOWEEKNUM(I3) -> 44 | K1: =_xlfn.ISOWEEKNUM(J3) -> 44 | L1: =_xlfn.ISOWEEKNUM(K3) -> 44 | M1: =_xlfn.ISOWEEKNUM(L3) -> 45 | N1: =_xlfn.ISOWEEKNUM(M3) -> 45 | O1: =_xlfn.ISOWEEKNUM(N3) -> 45 | P1: =_xlfn.ISOWEEKNUM(O3) -> 45 | ... AK1: =_xlfn.ISOWEEKNUM(AJ3) -> 48 | AM1: =DAY(DATE(YEAR(F2),MONTH(F2) + 1,0)) -> 31 | AN1: jours | AO1: Nbr j.ouvrés | AP1: =NETWORKDAYS(H2,EDATE(H2,1)-DAY(H2),Variables!C4:C16 ) -> 19
B2: Planning Présence | G2: =MID(CELL("filename",A1),FIND("]",CELL("filename",A1))+1,32) -> nov-18 | H2: =WEEKDAY(H3) -> 5 | I2: =WEEKDAY(I3) -> 6 | J2: =WEEKDAY(J3) -> 7 | K2: =WEEKDAY(K3) -> 1 | L2: =WEEKDAY(L3) -> 2 | M2: =WEEKDAY(M3) -> 3 | N2: =WEEKDAY(N3) -> 4 | O2: =WEEKDAY(O3) -> 5 | ... AK2: =WEEKDAY(AK3) -> 6
A3: N° Projet | B3: Sites | C3: Client final | D3: ID | E3: Nom | F3: Prénom | G3: Backup | H3: =DATE(YEAR(G2),MONTH(G2),1) -> 43405 | I3: =H3+1 -> 43406 | J3: =I3+1 -> 43407 | K3: =J3+1 -> 43408 | L3: =K3+1 -> 43409 | M3: =L3+1 -> 43410 | N3: =M3+1 -> 43411 | O3: =N3+1 -> 43412 | P3: =O3+1 -> 43413 | ... AK3: =AJ3+1 -> 43434 | AM3: Dernier passage | AN3: Nbr jours travaillés | AO3: Nbr jours absences | AP3: Nbr jours backupés | AQ3: Nbr jours non Backupé | AR3: Non prévue | AS3: G | AT3: F
A4: 001 | B4: StéA NANTES | C4: =LEFT(B4,FIND(" ",B4)-1) -> StéA | E4: TECH | F4: A | G4: o | I4: =IF(WEEKDAY(I$2,2)<6,1,"") -> 1 | J4: =IF(WEEKDAY(J$2,2)<6,1,"") | K4: =IF(WEEKDAY(K$2,2)<6,1,"") | L4: =IF(WEEKDAY(L$2,2)<6,1,"") -> 1 | M4: =IF(WEEKDAY(M$2,2)<6,1,"") -> 1 | N4: =IF(WEEKDAY(N$2,2)<6,1,"") -> 1 | O4: =IF(WEEKDAY(O$2,2)<6,1,"") -> 1 | P4: =IF(WEEKDAY(P$2,2)<6,1,"") -> 1 | ... U4: =IF(WEEKDAY(U$2,2)<6,1,"") -> 1 | V4: 1 | W4: 1 | X4: =IF(WEEKDAY(X$2,2)<6,1,"") | Y4: =IF(WEEKDAY(Y$2,2)<6,1,"") | Z4: =IF(WEEKDAY(Z$2,2)<6,1,"") -> 1 | AA4: =IF(WEEKDAY(AA$2,2)<6,1,"") -> 1 | AB4: =IF(WEEKDAY(AB$2,2)<6,1,"") -> 1 | AC4: =IF(WEEKDAY(AC$2,2)<6,1,"") -> 1 | AD4: =IF(WEEKDAY(AD$2,2)<6,1,"") -> 1 | AE4: =IF(WEEKDAY(AE$2,2)<6,1,"") | ... AK4: =IF(WEEKDAY(AK$2,2)<6,1,"") -> 1 | AM4: =IF(IFERROR(HLOOKUP(9^9,OFFSET($H4,0,0,1,DAY(TODAY()-1)),1,1)=1,0),TEXT(INDEX(OFFSET($H$3,0,0,1,DAY(TODAY()-1)),MATCH(9^9,OFFSET($H4,0,0,1,DAY(TODAY()-1)),1)),"jj/mm/aaaa"),"Pas d'intervention") -> 16/11/2018 | AN4: =IF(SUM(H4:AK4)=0,"",SUM(H4:AK4)) -> 21 | AO4: =IF(COUNTIF(H4:AK4,"A")=0,"",COUNTIF(H4:AK4,"A")) | AP4: =IF(COUNTIF(H4:AK4,"B")=0,"",COUNTIF(H4:AK4,"B")) | AQ4: =IF(G4="o",IF(COUNTIF(H4:AK4,"a")=0,"",COUNTIF(H4:AK4,"a")),"") | AR4: =IF(COUNTIF(H4:AK4,"N")=0,"",COUNTIF(H4:AK4,"N")) | AS4: =IF(COUNTIF(H4:AK4,"G")=0,"",COUNTIF(H4:AK4,"G")) | AT4: =IF(COUNTIF(H4:AK4,"F")=0,"",COUNTIF(H4:AK4,"F"))
A5: 002 | B5: StéB BORDEAUX | C5: =LEFT(B5,FIND(" ",B5)-1) -> StéB | E5: TECH | F5: B | G5: o | I5: =IF(WEEKDAY(I$2,2)<6,1,"") -> 1 | J5: =IF(WEEKDAY(J$2,2)<6,1,"") | K5: =IF(WEEKDAY(K$2,2)<6,1,"") | L5: =IF(WEEKDAY(L$2,2)<6,1,"") -> 1 | M5: =IF(WEEKDAY(M$2,2)<6,1,"") -> 1 | N5: =IF(WEEKDAY(N$2,2)<6,1,"") -> 1 | O5: =IF(WEEKDAY(O$2,2)<6,1,"") -> 1 | P5: =IF(WEEKDAY(P$2,2)<6,1,"") -> 1 | ... AK5: =IF(WEEKDAY(AK$2,2)<6,1,"") -> 1 | AM5: =IF(IFERROR(HLOOKUP(9^9,OFFSET($H5,0,0,1,DAY(TODAY()-1)),1,1)=1,0),TEXT(INDEX(OFFSET($H$3,0,0,1,DAY(TODAY()-1)),MATCH(9^9,OFFSET($H5,0,0,1,DAY(TODAY()-1)),1)),"jj/mm/aaaa"),"Pas d'intervention") -> 16/11/2018 | AN5: =IF(SUM(H5:AK5)=0,"",SUM(H5:AK5)) -> 21 | AO5: =IF(COUNTIF(H5:AK5,"A")=0,"",COUNTIF(H5:AK5,"A")) | AP5: =IF(COUNTIF(H5:AK5,"B")=0,"",COUNTIF(H5:AK5,"B")) | AQ5: =IF(G5="o",IF(COUNTIF(H5:AK5,"a")=0,"",COUNTIF(H5:AK5,"a")),"") | AR5: =IF(COUNTIF(H5:AK5,"N")=0,"",COUNTIF(H5:AK5,"N")) | AS5: =IF(COUNTIF(H5:AK5,"G")=0,"",COUNTIF(H5:AK5,"G")) | AT5: =IF(COUNTIF(H5:AK5,"F")=0,"",COUNTIF(H5:AK5,"F"))
A6: 003 | B6: StéC TOULOUSE | C6: =LEFT(B6,FIND(" ",B6)-1) -> StéC | E6: TECH | F6: C | G6: o | I6: N | J6: =IF(WEEKDAY(J$2,2)<6,1,"") | K6: =IF(WEEKDAY(K$2,2)<6,1,"") | L6: =IF(WEEKDAY(L$2,2)<6,1,"") -> 1 | M6: =IF(WEEKDAY(M$2,2)<6,1,"") -> 1 | N6: =IF(WEEKDAY(N$2,2)<6,1,"") -> 1 | O6: =IF(WEEKDAY(O$2,2)<6,1,"") -> 1 | P6: =IF(WEEKDAY(P$2,2)<6,1,"") -> 1 | Q6: =IF(WEEKDAY(Q$2,2)<6,1,"") | ... AK6: =IF(WEEKDAY(AK$2,2)<6,1,"") -> 1 | AM6: =IF(IFERROR(HLOOKUP(9^9,OFFSET($H6,0,0,1,DAY(TODAY()-1)),1,1)=1,0),TEXT(INDEX(OFFSET($H$3,0,0,1,DAY(TODAY()-1)),MATCH(9^9,OFFSET($H6,0,0,1,DAY(TODAY()-1)),1)),"jj/mm/aaaa"),"Pas d'intervention") -> 16/11/2018 | AN6: =IF(SUM(H6:AK6)=0,"",SUM(H6:AK6)) -> 20 | AO6: =IF(COUNTIF(H6:AK6,"A")=0,"",COUNTIF(H6:AK6,"A")) | AP6: =IF(COUNTIF(H6:AK6,"B")=0,"",COUNTIF(H6:AK6,"B")) | AQ6: =IF(G6="o",IF(COUNTIF(H6:AK6,"a")=0,"",COUNTIF(H6:AK6,"a")),"") | AR6: =IF(COUNTIF(H6:AK6,"N")=0,"",COUNTIF(H6:AK6,"N")) -> 1 | AS6: =IF(COUNTIF(H6:AK6,"G")=0,"",COUNTIF(H6:AK6,"G")) | AT6: =IF(COUNTIF(H6:AK6,"F")=0,"",COUNTIF(H6:AK6,"F"))
A7: 004 | B7: StéD LYON | C7: =LEFT(B7,FIND(" ",B7)-1) -> StéD | E7: TECH | F7: D | G7: o | I7: =IF(WEEKDAY(I$2,2)<6,1,"") -> 1 | J7: =IF(WEEKDAY(J$2,2)<6,1,"") | K7: =IF(WEEKDAY(K$2,2)<6,1,"") | L7: B | M7: B | N7: B | O7: B | P7: B | Q7: =IF(WEEKDAY(Q$2,2)<6,1,"") | R7: =IF(WEEKDAY(R$2,2)<6,1,"") | S7: =IF(WEEKDAY(S$2,2)<6,1,"") -> 1 | T7: =IF(WEEKDAY(T$2,2)<6,1,"") -> 1 | U7: =IF(WEEKDAY(U$2,2)<6,1,"") -> 1 | V7: =IF(WEEKDAY(V$2,2)<6,1,"") -> 1 | W7: =IF(WEEKDAY(W$2,2)<6,1,"") -> 1 | X7: =IF(WEEKDAY(X$2,2)<6,1,"") | ... AK7: =IF(WEEKDAY(AK$2,2)<6,1,"") -> 1 | AM7: =IF(IFERROR(HLOOKUP(9^9,OFFSET($H7,0,0,1,DAY(TODAY()-1)),1,1)=1,0),TEXT(INDEX(OFFSET($H$3,0,0,1,DAY(TODAY()-1)),MATCH(9^9,OFFSET($H7,0,0,1,DAY(TODAY()-1)),1)),"jj/mm/aaaa"),"Pas d'intervention") -> 16/11/2018 | AN7: =IF(SUM(H7:AK7)=0,"",SUM(H7:AK7)) -> 16 | AO7: =IF(COUNTIF(H7:AK7,"A")=0,"",COUNTIF(H7:AK7,"A")) | AP7: =IF(COUNTIF(H7:AK7,"B")=0,"",COUNTIF(H7:AK7,"B")) -> 5 | AQ7: =IF(G7="o",IF(COUNTIF(H7:AK7,"a")=0,"",COUNTIF(H7:AK7,"a")),"") | AR7: =IF(COUNTIF(H7:AK7,"N")=0,"",COUNTIF(H7:AK7,"N")) | AS7: =IF(COUNTIF(H7:AK7,"G")=0,"",COUNTIF(H7:AK7,"G")) | AT7: =IF(COUNTIF(H7:AK7,"F")=0,"",COUNTIF(H7:AK7,"F"))
A8: 005 | B8: StéE VALENCE | C8: =LEFT(B8,FIND(" ",B8)-1) -> StéE | E8: TECH | F8: E | G8: o | I8: =IF(WEEKDAY(I$2,2)<6,1,"") -> 1 | J8: =IF(WEEKDAY(J$2,2)<6,1,"") | K8: =IF(WEEKDAY(K$2,2)<6,1,"") | L8: =IF(WEEKDAY(L$2,2)<6,1,"") -> 1 | M8: =IF(WEEKDAY(M$2,2)<6,1,"") -> 1 | N8: =IF(WEEKDAY(N$2,2)<6,1,"") -> 1 | O8: =IF(WEEKDAY(O$2,2)<6,1,"") -> 1 | P8: =IF(WEEKDAY(P$2,2)<6,1,"") -> 1 | ... AK8: =IF(WEEKDAY(AK$2,2)<6,1,"") -> 1 | AM8: =IF(IFERROR(HLOOKUP(9^9,OFFSET($H8,0,0,1,DAY(TODAY()-1)),1,1)=1,0),TEXT(INDEX(OFFSET($H$3,0,0,1,DAY(TODAY()-1)),MATCH(9^9,OFFSET($H8,0,0,1,DAY(TODAY()-1)),1)),"jj/mm/aaaa"),"Pas d'intervention") -> 16/11/2018 | AN8: =IF(SUM(H8:AK8)=0,"",SUM(H8:AK8)) -> 21 | AO8: =IF(COUNTIF(H8:AK8,"A")=0,"",COUNTIF(H8:AK8,"A")) | AP8: =IF(COUNTIF(H8:AK8,"B")=0,"",COUNTIF(H8:AK8,"B")) | AQ8: =IF(G8="o",IF(COUNTIF(H8:AK8,"a")=0,"",COUNTIF(H8:AK8,"a")),"") | AR8: =IF(COUNTIF(H8:AK8,"N")=0,"",COUNTIF(H8:AK8,"N")) | AS8: =IF(COUNTIF(H8:AK8,"G")=0,"",COUNTIF(H8:AK8,"G")) | AT8: =IF(COUNTIF(H8:AK8,"F")=0,"",COUNTIF(H8:AK8,"F"))
A9: 006 | B9: StéF PARIS | C9: =LEFT(B9,FIND(" ",B9)-1) -> StéF | E9: TECH | F9: F | G9: o | I9: =IF(WEEKDAY(I$2,2)<6,1,"") -> 1 | J9: =IF(WEEKDAY(J$2,2)<6,1,"") | K9: =IF(WEEKDAY(K$2,2)<6,1,"") | L9: =IF(WEEKDAY(L$2,2)<6,1,"") -> 1 | M9: =IF(WEEKDAY(M$2,2)<6,1,"") -> 1 | N9: =IF(WEEKDAY(N$2,2)<6,1,"") -> 1 | O9: =IF(WEEKDAY(O$2,2)<6,1,"") -> 1 | P9: =IF(WEEKDAY(P$2,2)<6,1,"") -> 1 | ... Y9: =IF(WEEKDAY(Y$2,2)<6,1,"") | Z9: B | AA9: B | AB9: B | AC9: B | AD9: B | AE9: =IF(WEEKDAY(AE$2,2)<6,1,"") | AF9: =IF(WEEKDAY(AF$2,2)<6,1,"") | AG9: =IF(WEEKDAY(AG$2,2)<6,1,"") -> 1 | AH9: =IF(WEEKDAY(AH$2,2)<6,1,"") -> 1 | AI9: =IF(WEEKDAY(AI$2,2)<6,1,"") -> 1 | AJ9: =IF(WEEKDAY(AJ$2,2)<6,1,"") -> 1 | AK9: =IF(WEEKDAY(AK$2,2)<6,1,"") -> 1 | AM9: =IF(IFERROR(HLOOKUP(9^9,OFFSET($H9,0,0,1,DAY(TODAY()-1)),1,1)=1,0),TEXT(INDEX(OFFSET($H$3,0,0,1,DAY(TODAY()-1)),MATCH(9^9,OFFSET($H9,0,0,1,DAY(TODAY()-1)),1)),"jj/mm/aaaa"),"Pas d'intervention") -> 16/11/2018 | AN9: =IF(SUM(H9:AK9)=0,"",SUM(H9:AK9)) -> 16 | AO9: =IF(COUNTIF(H9:AK9,"A")=0,"",COUNTIF(H9:AK9,"A")) | AP9: =IF(COUNTIF(H9:AK9,"B")=0,"",COUNTIF(H9:AK9,"B")) -> 5 | AQ9: =IF(G9="o",IF(COUNTIF(H9:AK9,"a")=0,"",COUNTIF(H9:AK9,"a")),"") | AR9: =IF(COUNTIF(H9:AK9,"N")=0,"",COUNTIF(H9:AK9,"N")) | AS9: =IF(COUNTIF(H9:AK9,"G")=0,"",COUNTIF(H9:AK9,"G")) | AT9: =IF(COUNTIF(H9:AK9,"F")=0,"",COUNTIF(H9:AK9,"F"))
A10: 007 | B10: StéG MARSEILLES | C10: =LEFT(B10,FIND(" ",B10)-1) -> StéG | E10: TECH | F10: G | G10: o | I10: =IF(WEEKDAY(I$2,2)<6,1,"") -> 1 | J10: =IF(WEEKDAY(J$2,2)<6,1,"") | K10: =IF(WEEKDAY(K$2,2)<6,1,"") | L10: =IF(WEEKDAY(L$2,2)<6,1,"") -> 1 | M10: =IF(WEEKDAY(M$2,2)<6,1,"") -> 1 | N10: =IF(WEEKDAY(N$2,2)<6,1,"") -> 1 | O10: =IF(WEEKDAY(O$2,2)<6,1,"") -> 1 | P10: =IF(WEEKDAY(P$2,2)<6,1,"") -> 1 | ... AI10: =IF(WEEKDAY(AI$2,2)<6,1,"") -> 1 | AJ10: B | AK10: =IF(WEEKDAY(AK$2,2)<6,1,"") -> 1 | AM10: =IF(IFERROR(HLOOKUP(9^9,OFFSET($H10,0,0,1,DAY(TODAY()-1)),1,1)=1,0),TEXT(INDEX(OFFSET($H$3,0,0,1,DAY(TODAY()-1)),MATCH(9^9,OFFSET($H10,0,0,1,DAY(TODAY()-1)),1)),"jj/mm/aaaa"),"Pas d'intervention") -> 16/11/2018 | AN10: =IF(SUM(H10:AK10)=0,"",SUM(H10:AK10)) -> 20 | AO10: =IF(COUNTIF(H10:AK10,"A")=0,"",COUNTIF(H10:AK10,"A")) | AP10: =IF(COUNTIF(H10:AK10,"B")=0,"",COUNTIF(H10:AK10,"B")) -> 1 | AQ10: =IF(G10="o",IF(COUNTIF(H10:AK10,"a")=0,"",COUNTIF(H10:AK10,"a")),"") | AR10: =IF(COUNTIF(H10:AK10,"N")=0,"",COUNTIF(H10:AK10,"N")) | AS10: =IF(COUNTIF(H10:AK10,"G")=0,"",COUNTIF(H10:AK10,"G")) | AT10: =IF(COUNTIF(H10:AK10,"F")=0,"",COUNTIF(H10:AK10,"F"))
A11: 008 | B11: StéH AIX en PROVENCE | C11: =LEFT(B11,FIND(" ",B11)-1) -> StéH | E11: TECH | F11: H | I11: =IF(WEEKDAY(I$2,2)<6,1,"") -> 1 | J11: =IF(WEEKDAY(J$2,2)<6,1,"") | K11: =IF(WEEKDAY(K$2,2)<6,1,"") | L11: =IF(WEEKDAY(L$2,2)<6,1,"") -> 1 | M11: =IF(WEEKDAY(M$2,2)<6,1,"") -> 1 | N11: =IF(WEEKDAY(N$2,2)<6,1,"") -> 1 | O11: =IF(WEEKDAY(O$2,2)<6,1,"") -> 1 | P11: =IF(WEEKDAY(P$2,2)<6,1,"") -> 1 | ... S11: =IF(WEEKDAY(S$2,2)<6,1,"") -> 1 | T11: 1 | U11: =IF(WEEKDAY(U$2,2)<6,1,"") -> 1 | V11: A | W11: =IF(WEEKDAY(W$2,2)<6,1,"") -> 1 | X11: =IF(WEEKDAY(X$2,2)<6,1,"") | Y11: =IF(WEEKDAY(Y$2,2)<6,1,"") | Z11: =IF(WEEKDAY(Z$2,2)<6,1,"") -> 1 | AA11: 1 | AB11: =IF(WEEKDAY(AB$2,2)<6,1,"") -> 1 | AC11: =IF(WEEKDAY(AC$2,2)<6,1,"") -> 1 | AD11: =IF(WEEKDAY(AD$2,2)<6,1,"") -> 1 | AE11: =IF(WEEKDAY(AE$2,2)<6,1,"") | AF11: =IF(WEEKDAY(AF$2,2)<6,1,"") | AG11: =IF(WEEKDAY(AG$2,2)<6,1,"") -> 1 | AH11: =IF(WEEKDAY(AH$2,2)<6,1,"") -> 1 | AI11: =IF(WEEKDAY(AI$2,2)<6,1,"") -> 1 | ... AK11: =IF(WEEKDAY(AK$2,2)<6,1,"") -> 1 | AM11: =IF(IFERROR(HLOOKUP(9^9,OFFSET($H11,0,0,1,DAY(TODAY()-1)),1,1)=1,0),TEXT(INDEX(OFFSET($H$3,0,0,1,DAY(TODAY()-1)),MATCH(9^9,OFFSET($H11,0,0,1,DAY(TODAY()-1)),1)),"jj/mm/aaaa"),"Pas d'intervention") -> 16/11/2018 | AN11: =IF(SUM(H11:AK11)=0,"",SUM(H11:AK11)) -> 20 | AO11: =IF(COUNTIF(H11:AK11,"A")=0,"",COUNTIF(H11:AK11,"A")) -> 1 | AP11: =IF(COUNTIF(H11:AK11,"B")=0,"",COUNTIF(H11:AK11,"B")) | AQ11: =IF(G11="o",IF(COUNTIF(H11:AK11,"a")=0,"",COUNTIF(H11:AK11,"a")),"") | AR11: =IF(COUNTIF(H11:AK11,"N")=0,"",COUNTIF(H11:AK11,"N")) | AS11: =IF(COUNTIF(H11:AK11,"G")=0,"",COUNTIF(H11:AK11,"G")) | AT11: =IF(COUNTIF(H11:AK11,"F")=0,"",COUNTIF(H11:AK11,"F"))
A12: BACKUP | AN12: =IF(SUM(H12:AK12)=0,"",SUM(H12:AK12)) | AO12: =IF(COUNTIF(H12:AK12,"A")=0,"",COUNTIF(H12:AK12,"A")) | AP12: =IF(COUNTIF(H12:AK12,"B")=0,"",COUNTIF(H12:AK12,"B")) | AR12: =IF(COUNTIF(H12:AK12,"N")=0,"",COUNTIF(H12:AK12,"N")) | AS12: =IF(COUNTIF(H12:AK12,"G")=0,"",COUNTIF(H12:AK12,"G")) | AT12: =IF(COUNTIF(H12:AK12,"F")=0,"",COUNTIF(H12:AK12,"F"))
A13: 001 | B13: StéA NANTES | C13: =LEFT(B13,FIND(" ",B13)-1) -> StéA | E13: TECH | F13: X | AM13: =IF(IFERROR(HLOOKUP(9^9,OFFSET($H13,0,0,1,DAY(TODAY()-1)),1,1)=1,0),TEXT(INDEX(OFFSET($H$3,0,0,1,DAY(TODAY()-1)),MATCH(9^9,OFFSET($H13,0,0,1,DAY(TODAY()-1)),1)),"jj/mm/aaaa"),"Pas d'intervention") -> Pas d'intervention | AN13: =IF(SUM(H13:AK13)=0,"",SUM(H13:AK13)) | AO13: =IF(COUNTIF(H13:AK13,"A")=0,"",COUNTIF(H13:AK13,"A")) | AP13: =IF(COUNTIF(H13:AK13,"B")=0,"",COUNTIF(H13:AK13,"B")) | AR13: =IF(COUNTIF(H13:AK13,"N")=0,"",COUNTIF(H13:AK13,"N")) | AS13: =IF(COUNTIF(H13:AK13,"G")=0,"",COUNTIF(H13:AK13,"G")) | AT13: =IF(COUNTIF(H13:AK13,"F")=0,"",COUNTIF(H13:AK13,"F"))
A14: 002 | B14: StéB BORDEAUX | C14: =LEFT(B14,FIND(" ",B14)-1) -> StéB | E14: TECH | F14: X | AM14: =IF(IFERROR(HLOOKUP(9^9,OFFSET($H14,0,0,1,DAY(TODAY()-1)),1,1)=1,0),TEXT(INDEX(OFFSET($H$3,0,0,1,DAY(TODAY()-1)),MATCH(9^9,OFFSET($H14,0,0,1,DAY(TODAY()-1)),1)),"jj/mm/aaaa"),"Pas d'intervention") -> Pas d'intervention | AN14: =IF(SUM(H14:AK14)=0,"",SUM(H14:AK14)) | AO14: =IF(COUNTIF(H14:AK14,"A")=0,"",COUNTIF(H14:AK14,"A")) | AP14: =IF(COUNTIF(H14:AK14,"B")=0,"",COUNTIF(H14:AK14,"B")) | AR14: =IF(COUNTIF(H14:AK14,"N")=0,"",COUNTIF(H14:AK14,"N")) | AS14: =IF(COUNTIF(H14:AK14,"G")=0,"",COUNTIF(H14:AK14,"G")) | AT14: =IF(COUNTIF(H14:AK14,"F")=0,"",COUNTIF(H14:AK14,"F"))
A15: 003 | B15: StéC TOULOUSE | C15: =LEFT(B15,FIND(" ",B15)-1) -> StéC | E15: TECH | F15: X | AM15: =IF(IFERROR(HLOOKUP(9^9,OFFSET($H15,0,0,1,DAY(TODAY()-1)),1,1)=1,0),TEXT(INDEX(OFFSET($H$3,0,0,1,DAY(TODAY()-1)),MATCH(9^9,OFFSET($H15,0,0,1,DAY(TODAY()-1)),1)),"jj/mm/aaaa"),"Pas d'intervention") -> Pas d'intervention | AN15: =IF(SUM(H15:AK15)=0,"",SUM(H15:AK15)) | AO15: =IF(COUNTIF(H15:AK15,"A")=0,"",COUNTIF(H15:AK15,"A")) | AP15: =IF(COUNTIF(H15:AK15,"B")=0,"",COUNTIF(H15:AK15,"B")) | AR15: =IF(COUNTIF(H15:AK15,"N")=0,"",COUNTIF(H15:AK15,"N")) | AS15: =IF(COUNTIF(H15:AK15,"G")=0,"",COUNTIF(H15:AK15,"G")) | AT15: =IF(COUNTIF(H15:AK15,"F")=0,"",COUNTIF(H15:AK15,"F"))
A16: 004 | B16: StéD LYON | C16: =LEFT(B16,FIND(" ",B16)-1) -> StéD | E16: TECH | F16: Z | L16: 1 | M16: 1 | N16: 1 | O16: 1 | P16: 1 | AM16: =IF(IFERROR(HLOOKUP(9^9,OFFSET($H16,0,0,1,DAY(TODAY()-1)),1,1)=1,0),TEXT(INDEX(OFFSET($H$3,0,0,1,DAY(TODAY()-1)),MATCH(9^9,OFFSET($H16,0,0,1,DAY(TODAY()-1)),1)),"jj/mm/aaaa"),"Pas d'intervention") -> 09/11/2018 | AN16: =IF(SUM(H16:AK16)=0,"",SUM(H16:AK16)) -> 5 | AO16: =IF(COUNTIF(H16:AK16,"A")=0,"",COUNTIF(H16:AK16,"A")) | AP16: =IF(COUNTIF(H16:AK16,"B")=0,"",COUNTIF(H16:AK16,"B")) | AR16: =IF(COUNTIF(H16:AK16,"N")=0,"",COUNTIF(H16:AK16,"N")) | AS16: =IF(COUNTIF(H16:AK16,"G")=0,"",COUNTIF(H16:AK16,"G")) | AT16: =IF(COUNTIF(H16:AK16,"F")=0,"",COUNTIF(H16:AK16,"F"))
A17: 005 | B17: StéE VALENCE | C17: =LEFT(B17,FIND(" ",B17)-1) -> StéE | E17: TECH | F17: Z | AM17: =IF(IFERROR(HLOOKUP(9^9,OFFSET($H17,0,0,1,DAY(TODAY()-1)),1,1)=1,0),TEXT(INDEX(OFFSET($H$3,0,0,1,DAY(TODAY()-1)),MATCH(9^9,OFFSET($H17,0,0,1,DAY(TODAY()-1)),1)),"jj/mm/aaaa"),"Pas d'intervention") -> Pas d'intervention
A18: 006 | B18: StéF PARIS | C18: =LEFT(B18,FIND(" ",B18)-1) -> StéF | E18: TECH | F18: W | Z18: 1 | AA18: 1 | AB18: 1 | AC18: 1 | AD18: 1 | AM18: =IF(IFERROR(HLOOKUP(9^9,OFFSET($H18,0,0,1,DAY(TODAY()-1)),1,1)=1,0),TEXT(INDEX(OFFSET($H$3,0,0,1,DAY(TODAY()-1)),MATCH(9^9,OFFSET($H18,0,0,1,DAY(TODAY()-1)),1)),"jj/mm/aaaa"),"Pas d'intervention") -> Pas d'intervention | AN18: =IF(SUM(H18:AK18)=0,"",SUM(H18:AK18)) -> 5 | AP18: =IF(COUNTIF(H18:AK18,"B")=0,"",COUNTIF(H18:AK18,"B")) | AR18: =IF(COUNTIF(H18:AK18,"N")=0,"",COUNTIF(H18:AK18,"N")) | AS18: =IF(COUNTIF(H18:AK18,"G")=0,"",COUNTIF(H18:AK18,"G")) | AT18: =IF(COUNTIF(H18:AK18,"F")=0,"",COUNTIF(H18:AK18,"F"))
A19: 007 | B19: StéG MARSEILLES | C19: =LEFT(B19,FIND(" ",B19)-1) -> StéG | E19: TECH | F19: Y | AJ19: 1 | AM19: =IF(IFERROR(HLOOKUP(9^9,OFFSET($H19,0,0,1,DAY(TODAY()-1)),1,1)=1,0),TEXT(INDEX(OFFSET($H$3,0,0,1,DAY(TODAY()-1)),MATCH(9^9,OFFSET($H19,0,0,1,DAY(TODAY()-1)),1)),"jj/mm/aaaa"),"Pas d'intervention") -> Pas d'intervention | AN19: =IF(SUM(H19:AK19)=0,"",SUM(H19:AK19)) -> 1 | AO19: =IF(COUNTIF(H19:AK19,"A")=0,"",COUNTIF(H19:AK19,"A")) | AP19: =IF(COUNTIF(H19:AK19,"B")=0,"",COUNTIF(H19:AK19,"B")) | AR19: =IF(COUNTIF(H19:AK19,"N")=0,"",COUNTIF(H19:AK19,"N")) | AS19: =IF(COUNTIF(H19:AK19,"G")=0,"",COUNTIF(H19:AK19,"G")) | AT19: =IF(COUNTIF(H19:AK19,"F")=0,"",COUNTIF(H19:AK19,"F"))
AN21: =SUM(AN4:AN19) -> 166 | AO21: =SUM(AO4:AO11) -> 1 | AP21: =SUM(AP4:AP11) -> 11
AP22: =SUM(AN13:AN19) -> 11 | AQ22: =SUM(AQ4:AQ11) -> 0

Sheet déc-18
B1: 9 | H1: =_xlfn.ISOWEEKNUM(H3) -> 48 | I1: =_xlfn.ISOWEEKNUM(I3) -> 48 | J1: =_xlfn.ISOWEEKNUM(J3) -> 49 | K1: =_xlfn.ISOWEEKNUM(K3) -> 49 | L1: =_xlfn.ISOWEEKNUM(L3) -> 49 | M1: =_xlfn.ISOWEEKNUM(M3) -> 49 | N1: =_xlfn.ISOWEEKNUM(N3) -> 49 | O1: =_xlfn.ISOWEEKNUM(O3) -> 49 | ... AL1: =_xlfn.ISOWEEKNUM(AL3) -> 1 | AN1: =DAY(DATE(YEAR(G2),MONTH(G2) + 1,0)) -> 31 | AO1: jours | AP1: Nbr j.ouvrés | AQ1: =NETWORKDAYS(H2,EDATE(H2,1)-DAY(H2),Variables!C4:C16 ) -> 17
B2: Planning Présence | G2: =MID(CELL("filename",A1),FIND("]",CELL("filename",A1))+1,32) -> déc-18 | H2: =WEEKDAY(H3) -> 7 | I2: =WEEKDAY(I3) -> 1 | J2: =WEEKDAY(J3) -> 2 | K2: =WEEKDAY(K3) -> 3 | L2: =WEEKDAY(L3) -> 4 | M2: =WEEKDAY(M3) -> 5 | N2: =WEEKDAY(N3) -> 6 | O2: =WEEKDAY(O3) -> 7 | ... AL2: =WEEKDAY(AL3) -> 2
A3: N° Projet | B3: Sites | C3: Client final | D3: ID | E3: Nom | F3: Prénom | G3: Backup | H3: 43435 | I3: =H3+1 -> 43436 | J3: =I3+1 -> 43437 | K3: =J3+1 -> 43438 | L3: =K3+1 -> 43439 | M3: =L3+1 -> 43440 | N3: =M3+1 -> 43441 | O3: =N3+1 -> 43442 | P3: =O3+1 -> 43443 | ... AL3: =AK3+1 -> 43465 | AM3: Dernier passage | AN3: Nbr jours travaillés | AO3: Nbr jours absences | AP3: Nbr jours backupés | AQ3: Nbr jours non Backupé | AR3: Non prévue | AS3: G | AT3: F
A4: 001 | B4: StéA NANTES | C4: =LEFT(B4,FIND(" ",B4)-1) -> StéA | E4: TECH | F4: A | G4: o | J4: N | K4: N | L4: N | M4: N | N4: N | Q4: N | R4: N | S4: N | T4: N | U4: N | X4: N | Y4: N | Z4: N | AA4: N | AB4: N | AE4: N | AG4: N | AH4: N | AI4: N | AL4: N | AM4: =IF(IFERROR(HLOOKUP(9^9,OFFSET($H4,0,0,1,DAY(TODAY()-1)),1,1)=1,0),TEXT(INDEX(OFFSET($H$3,0,0,1,DAY(TODAY()-1)),MATCH(9^9,OFFSET($H4,0,0,1,DAY(TODAY()-1)),1)),"jj/mm/aaaa"),"Pas d'intervention") -> Pas d'intervention | AN4: =IF(SUM(H4:AL4)=0,"",SUM(H4:AL4)) | AO4: =IF(COUNTIF(H4:AL4,"A")=0,"",COUNTIF(H4:AL4,"A")) | AP4: =IF(COUNTIF(H4:AL4,"B")=0,"",COUNTIF(H4:AL4,"B")) | AQ4: =IF(G4="o", COUNTIF(H4:AL4,"A"),"") -> 0 | AR4: =IF(COUNTIF(H4:AL4,"N")=0,"",COUNTIF(H4:AL4,"N")) -> 20 | AS4: =IF(COUNTIF(H4:AL4,"G")=0,"",COUNTIF(H4:AL4,"G")) | AT4: =IF(COUNTIF(H4:AL4,"F")=0,"",COUNTIF(H4:AL4,"F"))
A5: 002 | B5: StéB BORDEAUX | C5: =LEFT(B5,FIND(" ",B5)-1) -> StéB | E5: TECH | F5: B | G5: o | J5: 1 | K5: 1 | L5: 1 | M5: 1 | N5: 1 | Q5: 1 | R5: 1 | S5: 1 | T5: 1 | U5: 1 | X5: 1 | Y5: 1 | Z5: 1 | AA5: 1 | AB5: 1 | AE5: B | AG5: B | AH5: B | AI5: B | AL5: 1 | AM5: =IF(IFERROR(HLOOKUP(9^9,OFFSET($H5,0,0,1,DAY(TODAY()-1)),1,1)=1,0),TEXT(INDEX(OFFSET($H$3,0,0,1,DAY(TODAY()-1)),MATCH(9^9,OFFSET($H5,0,0,1,DAY(TODAY()-1)),1)),"jj/mm/aaaa"),"Pas d'intervention") -> 17/12/2018 | AN5: =IF(SUM(H5:AL5)=0,"",SUM(H5:AL5)) -> 16 | AO5: =IF(COUNTIF(H5:AL5,"A")=0,"",COUNTIF(H5:AL5,"A")) | AP5: =IF(COUNTIF(H5:AL5,"B")=0,"",COUNTIF(H5:AL5,"B")) -> 4 | AQ5: =IF(G5="o", COUNTIF(H5:AL5,"A"),"") -> 0 | AR5: =IF(COUNTIF(H5:AL5,"N")=0,"",COUNTIF(H5:AL5,"N")) | AS5: =IF(COUNTIF(H5:AL5,"G")=0,"",COUNTIF(H5:AL5,"G")) | AT5: =IF(COUNTIF(H5:AL5,"F")=0,"",COUNTIF(H5:AL5,"F"))
A6: 003 | B6: StéC TOULOUSE | C6: =LEFT(B6,FIND(" ",B6)-1) -> StéC | E6: TECH | F6: C | G6: o | J6: 1 | K6: 1 | L6: 1 | M6: 1 | N6: 1 | Q6: 1 | R6: 1 | S6: 1 | T6: 1 | U6: 1 | X6: 1 | Y6: 1 | Z6: 1 | AA6: 1 | AB6: 1 | AE6: 1 | AG6: 1 | AH6: 1 | AI6: 1 | AL6: B | AM6: =IF(IFERROR(HLOOKUP(9^9,OFFSET($H6,0,0,1,DAY(TODAY()-1)),1,1)=1,0),TEXT(INDEX(OFFSET($H$3,0,0,1,DAY(TODAY()-1)),MATCH(9^9,OFFSET($H6,0,0,1,DAY(TODAY()-1)),1)),"jj/mm/aaaa"),"Pas d'intervention") -> 17/12/2018 | AN6: =IF(SUM(H6:AL6)=0,"",SUM(H6:AL6)) -> 19 | AO6: =IF(COUNTIF(H6:AL6,"A")=0,"",COUNTIF(H6:AL6,"A")) | AP6: =IF(COUNTIF(H6:AL6,"B")=0,"",COUNTIF(H6:AL6,"B")) -> 1 | AQ6: =IF(G6="o", COUNTIF(H6:AL6,"A"),"") -> 0 | AR6: =IF(COUNTIF(H6:AL6,"N")=0,"",COUNTIF(H6:AL6,"N")) | AS6: =IF(COUNTIF(H6:AL6,"G")=0,"",COUNTIF(H6:AL6,"G")) | AT6: =IF(COUNTIF(H6:AL6,"F")=0,"",COUNTIF(H6:AL6,"F"))
A7: 004 | B7: StéD LYON | C7: =LEFT(B7,FIND(" ",B7)-1) -> StéD | E7: TECH | F7: D | G7: o | J7: 1 | K7: 1 | L7: 1 | M7: 1 | N7: 1 | Q7: 1 | R7: 1 | S7: 1 | T7: 1 | U7: 1 | X7: 1 | Y7: 1 | Z7: 1 | AA7: 1 | AB7: 1 | AE7: 1 | AG7: 1 | AH7: 1 | AI7: 1 | AL7: F | AM7: =IF(IFERROR(HLOOKUP(9^9,OFFSET($H7,0,0,1,DAY(TODAY()-1)),1,1)=1,0),TEXT(INDEX(OFFSET($H$3,0,0,1,DAY(TODAY()-1)),MATCH(9^9,OFFSET($H7,0,0,1,DAY(TODAY()-1)),1)),"jj/mm/aaaa"),"Pas d'intervention") -> 17/12/2018 | AN7: =IF(SUM(H7:AL7)=0,"",SUM(H7:AL7)) -> 19 | AO7: =IF(COUNTIF(H7:AL7,"A")=0,"",COUNTIF(H7:AL7,"A")) | AP7: =IF(COUNTIF(H7:AL7,"B")=0,"",COUNTIF(H7:AL7,"B")) | AQ7: =IF(G7="o", COUNTIF(H7:AL7,"A"),"") -> 0 | AR7: =IF(COUNTIF(H7:AL7,"N")=0,"",COUNTIF(H7:AL7,"N")) | AS7: =IF(COUNTIF(H7:AL7,"G")=0,"",COUNTIF(H7:AL7,"G")) | AT7: =IF(COUNTIF(H7:AL7,"F")=0,"",COUNTIF(H7:AL7,"F")) -> 1
A8: 005 | B8: StéE VALENCE | C8: =LEFT(B8,FIND(" ",B8)-1) -> StéE | E8: TECH | F8: E | G8: o | J8: 1 | K8: 1 | L8: 1 | M8: 1 | N8: 1 | Q8: 1 | R8: 1 | S8: 1 | T8: 1 | U8: 1 | X8: 1 | Y8: 1 | Z8: 1 | AA8: 1 | AB8: 1 | AE8: 1 | AG8: 1 | AH8: 1 | AI8: 1 | AL8: 1 | AM8: =IF(IFERROR(HLOOKUP(9^9,OFFSET($H8,0,0,1,DAY(TODAY()-1)),1,1)=1,0),TEXT(INDEX(OFFSET($H$3,0,0,1,DAY(TODAY()-1)),MATCH(9^9,OFFSET($H8,0,0,1,DAY(TODAY()-1)),1)),"jj/mm/aaaa"),"Pas d'intervention") -> 17/12/2018 | AN8: =IF(SUM(H8:AL8)=0,"",SUM(H8:AL8)) -> 20 | AO8: =IF(COUNTIF(H8:AL8,"A")=0,"",COUNTIF(H8:AL8,"A")) | AP8: =IF(COUNTIF(H8:AL8,"B")=0,"",COUNTIF(H8:AL8,"B")) | AQ8: =IF(G8="o", COUNTIF(H8:AL8,"A"),"") -> 0 | AR8: =IF(COUNTIF(H8:AL8,"N")=0,"",COUNTIF(H8:AL8,"N")) | AS8: =IF(COUNTIF(H8:AL8,"G")=0,"",COUNTIF(H8:AL8,"G")) | AT8: =IF(COUNTIF(H8:AL8,"F")=0,"",COUNTIF(H8:AL8,"F"))
A9: 006 | B9: StéF PARIS | C9: =LEFT(B9,FIND(" ",B9)-1) -> StéF | E9: TECH | F9: F | G9: o | J9: 1 | K9: 1 | L9: 1 | M9: 1 | N9: 1 | Q9: 1 | R9: 1 | S9: 1 | T9: 1 | U9: 1 | X9: 1 | Y9: 1 | Z9: 1 | AA9: 1 | AB9: 1 | AE9: 1 | AG9: 1 | AH9: 1 | AI9: 1 | AL9: 1 | AM9: =IF(IFERROR(HLOOKUP(9^9,OFFSET($H9,0,0,1,DAY(TODAY()-1)),1,1)=1,0),TEXT(INDEX(OFFSET($H$3,0,0,1,DAY(TODAY()-1)),MATCH(9^9,OFFSET($H9,0,0,1,DAY(TODAY()-1)),1)),"jj/mm/aaaa"),"Pas d'intervention") -> 17/12/2018 | AN9: =IF(SUM(H9:AL9)=0,"",SUM(H9:AL9)) -> 20 | AO9: =IF(COUNTIF(H9:AL9,"A")=0,"",COUNTIF(H9:AL9,"A")) | AP9: =IF(COUNTIF(H9:AL9,"B")=0,"",COUNTIF(H9:AL9,"B")) | AQ9: =IF(G9="o", COUNTIF(H9:AL9,"A"),"") -> 0 | AR9: =IF(COUNTIF(H9:AL9,"N")=0,"",COUNTIF(H9:AL9,"N")) | AS9: =IF(COUNTIF(H9:AL9,"G")=0,"",COUNTIF(H9:AL9,"G")) | AT9: =IF(COUNTIF(H9:AL9,"F")=0,"",COUNTIF(H9:AL9,"F"))
A10: 007 | B10: StéG MARSEILLES | C10: =LEFT(B10,FIND(" ",B10)-1) -> StéG | E10: TECH | F10: G | G10: o | J10: 1 | K10: 1 | L10: 1 | M10: 1 | N10: 1 | Q10: A | R10: A | S10: A | T10: 1 | U10: 1 | X10: 1 | Y10: 1 | Z10: 1 | AA10: 1 | AB10: 1 | AE10: 1 | AG10: 1 | AH10: 1 | AI10: 1 | AL10: 1 | AM10: =IF(IFERROR(HLOOKUP(9^9,OFFSET($H10,0,0,1,DAY(TODAY()-1)),1,1)=1,0),TEXT(INDEX(OFFSET($H$3,0,0,1,DAY(TODAY()-1)),MATCH(9^9,OFFSET($H10,0,0,1,DAY(TODAY()-1)),1)),"jj/mm/aaaa"),"Pas d'intervention") -> 17/12/2018 | AN10: =IF(SUM(H10:AL10)=0,"",SUM(H10:AL10)) -> 17 | AO10: =IF(COUNTIF(H10:AL10,"A")=0,"",COUNTIF(H10:AL10,"A")) -> 3 | AP10: =IF(COUNTIF(H10:AL10,"B")=0,"",COUNTIF(H10:AL10,"B")) | AQ10: =IF(G10="o", COUNTIF(H10:AL10,"A"),"") -> 3 | AR10: =IF(COUNTIF(H10:AL10,"N")=0,"",COUNTIF(H10:AL10,"N")) | AS10: =IF(COUNTIF(H10:AL10,"G")=0,"",COUNTIF(H10:AL10,"G")) | AT10: =IF(COUNTIF(H10:AL10,"F")=0,"",COUNTIF(H10:AL10,"F"))
A11: 008 | B11: StéH AIX en PROVENCE | C11: =LEFT(B11,FIND(" ",B11)-1) -> StéH | E11: TECH | F11: H | J11: 1 | K11: 1 | L11: 1 | M11: 1 | N11: 1 | Q11: 1 | R11: 1 | S11: 1 | T11: 1 | U11: 1 | X11: 1 | Y11: 1 | Z11: 1 | AA11: 1 | AB11: 1 | AE11: B | AG11: B | AH11: B | AI11: B | AL11: F | AM11: =IF(IFERROR(HLOOKUP(9^9,OFFSET($H11,0,0,1,DAY(TODAY()-1)),1,1)=1,0),TEXT(INDEX(OFFSET($H$3,0,0,1,DAY(TODAY()-1)),MATCH(9^9,OFFSET($H11,0,0,1,DAY(TODAY()-1)),1)),"jj/mm/aaaa"),"Pas d'intervention") -> 17/12/2018 | AN11: =IF(SUM(H11:AL11)=0,"",SUM(H11:AL11)) -> 15 | AO11: =IF(COUNTIF(H11:AL11,"A")=0,"",COUNTIF(H11:AL11,"A")) | AP11: =IF(COUNTIF(H11:AL11,"B")=0,"",COUNTIF(H11:AL11,"B")) -> 4 | AQ11: =IF(G11="o", COUNTIF(H11:AL11,"A"),"") | AR11: =IF(COUNTIF(H11:AL11,"N")=0,"",COUNTIF(H11:AL11,"N")) | AS11: =IF(COUNTIF(H11:AL11,"G")=0,"",COUNTIF(H11:AL11,"G")) | AT11: =IF(COUNTIF(H11:AL11,"F")=0,"",COUNTIF(H11:AL11,"F")) -> 1
A12: BACKUP | AN12: =IF(SUM(H12:AL12)=0,"",SUM(H12:AL12)) | AO12: =IF(COUNTIF(H12:AL12,"A")=0,"",COUNTIF(H12:AL12,"A")) | AP12: =IF(COUNTIF(H12:AL12,"B")=0,"",COUNTIF(H12:AL12,"B")) | AR12: =IF(COUNTIF(H12:AL12,"N")=0,"",COUNTIF(H12:AL12,"N")) | AS12: =IF(COUNTIF(H12:AL12,"G")=0,"",COUNTIF(H12:AL12,"G")) | AT12: =IF(COUNTIF(H12:AL12,"F")=0,"",COUNTIF(H12:AL12,"F"))
A13: 001 | B13: StéA NANTES | C13: =LEFT(B13,FIND(" ",B13)-1) -> StéA | E13: TECH | F13: X | AM13: =IF(IFERROR(HLOOKUP(9^9,OFFSET($H13,0,0,1,DAY(TODAY()-1)),1,1)=1,0),TEXT(INDEX(OFFSET($H$3,0,0,1,DAY(TODAY()-1)),MATCH(9^9,OFFSET($H13,0,0,1,DAY(TODAY()-1)),1)),"jj/mm/aaaa"),"Pas d'intervention") -> Pas d'intervention | AN13: =IF(SUM(H13:AL13)=0,"",SUM(H13:AL13)) | AO13: =IF(COUNTIF(H13:AL13,"A")=0,"",COUNTIF(H13:AL13,"A")) | AP13: =IF(COUNTIF(H13:AL13,"B")=0,"",COUNTIF(H13:AL13,"B")) | AR13: =IF(COUNTIF(H13:AL13,"N")=0,"",COUNTIF(H13:AL13,"N")) | AS13: =IF(COUNTIF(H13:AL13,"G")=0,"",COUNTIF(H13:AL13,"G")) | AT13: =IF(COUNTIF(H13:AL13,"F")=0,"",COUNTIF(H13:AL13,"F"))
A14: 002 | B14: StéB BORDEAUX | C14: =LEFT(B14,FIND(" ",B14)-1) -> StéB | E14: TECH | F14: X | AE14: 1 | AG14: 1 | AH14: 1 | AI14: 1 | AM14: =IF(IFERROR(HLOOKUP(9^9,OFFSET($H14,0,0,1,DAY(TODAY()-1)),1,1)=1,0),TEXT(INDEX(OFFSET($H$3,0,0,1,DAY(TODAY()-1)),MATCH(9^9,OFFSET($H14,0,0,1,DAY(TODAY()-1)),1)),"jj/mm/aaaa"),"Pas d'intervention") -> Pas d'intervention | AN14: =IF(SUM(H14:AL14)=0,"",SUM(H14:AL14)) -> 4 | AO14: =IF(COUNTIF(H14:AL14,"A")=0,"",COUNTIF(H14:AL14,"A")) | AP14: =IF(COUNTIF(H14:AL14,"B")=0,"",COUNTIF(H14:AL14,"B")) | AR14: =IF(COUNTIF(H14:AL14,"N")=0,"",COUNTIF(H14:AL14,"N")) | AS14: =IF(COUNTIF(H14:AL14,"G")=0,"",COUNTIF(H14:AL14,"G")) | AT14: =IF(COUNTIF(H14:AL14,"F")=0,"",COUNTIF(H14:AL14,"F"))
A15: 003 | B15: StéC TOULOUSE | C15: =LEFT(B15,FIND(" ",B15)-1) -> StéC | E15: TECH | F15: X | AL15: 1 | AM15: =IF(IFERROR(HLOOKUP(9^9,OFFSET($H15,0,0,1,DAY(TODAY()-1)),1,1)=1,0),TEXT(INDEX(OFFSET($H$3,0,0,1,DAY(TODAY()-1)),MATCH(9^9,OFFSET($H15,0,0,1,DAY(TODAY()-1)),1)),"jj/mm/aaaa"),"Pas d'intervention") -> Pas d'intervention | AN15: =IF(SUM(H15:AL15)=0,"",SUM(H15:AL15)) -> 1 | AO15: =IF(COUNTIF(H15:AL15,"A")=0,"",COUNTIF(H15:AL15,"A")) | AP15: =IF(COUNTIF(H15:AL15,"B")=0,"",COUNTIF(H15:AL15,"B")) | AR15: =IF(COUNTIF(H15:AL15,"N")=0,"",COUNTIF(H15:AL15,"N")) | AS15: =IF(COUNTIF(H15:AL15,"G")=0,"",COUNTIF(H15:AL15,"G")) | AT15: =IF(COUNTIF(H15:AL15,"F")=0,"",COUNTIF(H15:AL15,"F"))
A16: 004 | B16: StéD LYON | C16: =LEFT(B16,FIND(" ",B16)-1) -> StéD | E16: TECH | F16: Z | AM16: =IF(IFERROR(HLOOKUP(9^9,OFFSET($H16,0,0,1,DAY(TODAY()-1)),1,1)=1,0),TEXT(INDEX(OFFSET($H$3,0,0,1,DAY(TODAY()-1)),MATCH(9^9,OFFSET($H16,0,0,1,DAY(TODAY()-1)),1)),"jj/mm/aaaa"),"Pas d'intervention") -> Pas d'intervention | AN16: =IF(SUM(H16:AL16)=0,"",SUM(H16:AL16)) | AO16: =IF(COUNTIF(H16:AL16,"A")=0,"",COUNTIF(H16:AL16,"A")) | AP16: =IF(COUNTIF(H16:AL16,"B")=0,"",COUNTIF(H16:AL16,"B")) | AR16: =IF(COUNTIF(H16:AL16,"N")=0,"",COUNTIF(H16:AL16,"N")) | AS16: =IF(COUNTIF(H16:AL16,"G")=0,"",COUNTIF(H16:AL16,"G")) | AT16: =IF(COUNTIF(H16:AL16,"F")=0,"",COUNTIF(H16:AL16,"F"))
A17: 005 | B17: StéE VALENCE | C17: =LEFT(B17,FIND(" ",B17)-1) -> StéE | E17: TECH | F17: Z | AM17: =IF(IFERROR(HLOOKUP(9^9,OFFSET($H17,0,0,1,DAY(TODAY()-1)),1,1)=1,0),TEXT(INDEX(OFFSET($H$3,0,0,1,DAY(TODAY()-1)),MATCH(9^9,OFFSET($H17,0,0,1,DAY(TODAY()-1)),1)),"jj/mm/aaaa"),"Pas d'intervention") -> Pas d'intervention | AN17: =IF(SUM(H17:AL17)=0,"",SUM(H17:AL17))
A18: 006 | B18: StéF PARIS | C18: =LEFT(B18,FIND(" ",B18)-1) -> StéF | E18: TECH | F18: W | AM18: =IF(IFERROR(HLOOKUP(9^9,OFFSET($H18,0,0,1,DAY(TODAY()-1)),1,1)=1,0),TEXT(INDEX(OFFSET($H$3,0,0,1,DAY(TODAY()-1)),MATCH(9^9,OFFSET($H18,0,0,1,DAY(TODAY()-1)),1)),"jj/mm/aaaa"),"Pas d'intervention") -> Pas d'intervention | AN18: =IF(SUM(H18:AL18)=0,"",SUM(H18:AL18)) | AP18: =IF(COUNTIF(H18:AL18,"B")=0,"",COUNTIF(H18:AL18,"B")) | AR18: =IF(COUNTIF(H18:AL18,"N")=0,"",COUNTIF(H18:AL18,"N")) | AS18: =IF(COUNTIF(H18:AL18,"G")=0,"",COUNTIF(H18:AL18,"G")) | AT18: =IF(COUNTIF(H18:AL18,"F")=0,"",COUNTIF(H18:AL18,"F"))
A19: 007 | B19: StéG MARSEILLES | C19: =LEFT(B19,FIND(" ",B19)-1) -> StéG | E19: TECH | F19: Y | AE19: 1 | AG19: 1 | AH19: 1 | AI19: 1 | AM19: =IF(IFERROR(HLOOKUP(9^9,OFFSET($H19,0,0,1,DAY(TODAY()-1)),1,1)=1,0),TEXT(INDEX(OFFSET($H$3,0,0,1,DAY(TODAY()-1)),MATCH(9^9,OFFSET($H19,0,0,1,DAY(TODAY()-1)),1)),"jj/mm/aaaa"),"Pas d'intervention") -> Pas d'intervention | AN19: =IF(SUM(H19:AL19)=0,"",SUM(H19:AL19)) -> 4 | AO19: =IF(COUNTIF(H19:AL19,"A")=0,"",COUNTIF(H19:AL19,"A")) | AP19: =IF(COUNTIF(H19:AL19,"B")=0,"",COUNTIF(H19:AL19,"B")) | AR19: =IF(COUNTIF(H19:AL19,"N")=0,"",COUNTIF(H19:AL19,"N")) | AS19: =IF(COUNTIF(H19:AL19,"G")=0,"",COUNTIF(H19:AL19,"G")) | AT19: =IF(COUNTIF(H19:AL19,"F")=0,"",COUNTIF(H19:AL19,"F"))
AN21: =SUM(AN4:AN19) -> 135 | AO21: =SUM(AO4:AO11) -> 3 | AP21: =SUM(AP4:AP11) -> 9
AP22: =SUM(AN13:AN19) -> 9 | AQ22: =SUM(AQ4:AQ11) -> 3

Sheet janv-19
B1: 10 | H1: =_xlfn.ISOWEEKNUM(H3) -> 1 | I1: =_xlfn.ISOWEEKNUM(I3) -> 1 | J1: =_xlfn.ISOWEEKNUM(J3) -> 1 | K1: =_xlfn.ISOWEEKNUM(K3) -> 1 | L1: =_xlfn.ISOWEEKNUM(L3) -> 1 | M1: =_xlfn.ISOWEEKNUM(M3) -> 1 | N1: =_xlfn.ISOWEEKNUM(N3) -> 2 | O1: =_xlfn.ISOWEEKNUM(O3) -> 2 | ... AL1: =_xlfn.ISOWEEKNUM(AL3) -> 5 | AN1: =DAY(DATE(YEAR(G2),MONTH(G2) + 1,0)) -> 31 | AO1: jours | AP1: Nbr j.ouvrés | AQ1: =NETWORKDAYS(H3,AL3,Variables!C22:C35) -> 22
B2: Planning Présence | G2: =MID(CELL("filename",A1),FIND("]",CELL("filename",A1))+1,32) -> janv-19 | H2: =WEEKDAY(H3) -> 3 | I2: =WEEKDAY(I3) -> 4 | J2: =WEEKDAY(J3) -> 5 | K2: =WEEKDAY(K3) -> 6 | L2: =WEEKDAY(L3) -> 7 | M2: =WEEKDAY(M3) -> 1 | N2: =WEEKDAY(N3) -> 2 | O2: =WEEKDAY(O3) -> 3 | ... AL2: =WEEKDAY(AL3) -> 5
A3: N° Projet | B3: Sites | C3: Client final | D3: ID | E3: Nom | F3: Prénom | G3: Backup | H3: =DATE(YEAR(G2),MONTH(G2),1) -> 43466 | I3: =H3+1 -> 43467 | J3: =I3+1 -> 43468 | K3: =J3+1 -> 43469 | L3: =K3+1 -> 43470 | M3: =L3+1 -> 43471 | N3: =M3+1 -> 43472 | O3: =N3+1 -> 43473 | P3: =O3+1 -> 43474 | ... AL3: =AK3+1 -> 43496 | AM3: Dernier passage | AN3: Nbr jours travaillés | AO3: Nbr jours absences | AP3: Nbr jours backupés | AQ3: Nbr jours non Backupé | AR3: Non prévue | AS3: G | AT3: F
A4: 001 | B4: StéA NANTES | C4: =LEFT(B4,FIND(" ",B4)-1) -> StéA | E4: TECH | F4: A | G4: o | I4: F | J4: F | K4: F | L4: =IF(WEEKDAY(L$2,2)<6,1,"") | M4: =IF(WEEKDAY(M$2,2)<6,1,"") | N4: 1 | O4: 1 | P4: 1 | Q4: 1 | R4: 1 | S4: =IF(WEEKDAY(S$2,2)<6,1,"") | T4: =IF(WEEKDAY(T$2,2)<6,1,"") | U4: 1 | V4: 1 | W4: 1 | X4: 1 | Y4: 1 | Z4: =IF(WEEKDAY(Z$2,2)<6,1,"") | AA4: =IF(WEEKDAY(AA$2,2)<6,1,"") | AB4: 1 | AC4: 1 | AD4: 1 | AE4: 1 | AF4: 1 | AG4: =IF(WEEKDAY(AG$2,2)<6,1,"") | AH4: =IF(WEEKDAY(AH$2,2)<6,1,"") | AI4: 1 | AJ4: 1 | AK4: 1 | AL4: 1 | AM4: =IF(IFERROR(HLOOKUP(9^9,OFFSET($H4,0,0,1,DAY(TODAY()-1)),1,1)=1,0),TEXT(INDEX(OFFSET($H$3,0,0,1,DAY(TODAY()-1)),MATCH(9^9,OFFSET($H4,0,0,1,DAY(TODAY()-1)),1)),"jj/mm/aaaa"),"Pas d'intervention") -> 17/01/2019 | AN4: =IF(SUM(H4:AL4)=0,"",SUM(H4:AL4)) -> 19 | AO4: =IF(SUM(COUNTIF(G4:AK4,"A")+(SUMIF(G4:AK4,"0,5")))=0,"",SUM(COUNTIF(G4:AK4,"A")+(SUMIF(G4:AK4,"0,5")))) | AP4: =IF(COUNTIF(H4:AL4,"B")=0,"",COUNTIF(H4:AL4,"B")) | AQ4: =IF(G4="o", COUNTIF(H4:AL4,"A"),"") -> 0 | AR4: =IF(COUNTIF(H4:AL4,"N")=0,"",COUNTIF(H4:AL4,"N")) | AS4: =IF(COUNTIF(H4:AL4,"G")=0,"",COUNTIF(H4:AL4,"G")) | AT4: =IF(COUNTIF(H4:AL4,"F")=0,"",COUNTIF(H4:AL4,"F")) -> 3
A5: 002 | B5: StéB BORDEAUX | C5: =LEFT(B5,FIND(" ",B5)-1) -> StéB | E5: TECH | F5: B | G5: o | I5: 1 | J5: 1 | K5: 1 | L5: =IF(WEEKDAY(L$2,2)<6,1,"") | M5: =IF(WEEKDAY(M$2,2)<6,1,"") | N5: =IF(WEEKDAY(N$2,2)<6,1,"") -> 1 | O5: =IF(WEEKDAY(O$2,2)<6,1,"") -> 1 | P5: =IF(WEEKDAY(P$2,2)<6,1,"") -> 1 | Q5: =IF(WEEKDAY(Q$2,2)<6,1,"") -> 1 | R5: =IF(WEEKDAY(R$2,2)<6,1,"") -> 1 | S5: =IF(WEEKDAY(S$2,2)<6,1,"") | ... AE5: =IF(WEEKDAY(AE$2,2)<6,1,"") -> 1 | AF5: 1 | AG5: =IF(WEEKDAY(AG$2,2)<6,1,"") | AH5: =IF(WEEKDAY(AH$2,2)<6,1,"") | AI5: =IF(WEEKDAY(AI$2,2)<6,1,"") -> 1 | AJ5: =IF(WEEKDAY(AJ$2,2)<6,1,"") -> 1 | AK5: =IF(WEEKDAY(AK$2,2)<6,1,"") -> 1 | AL5: =IF(AL3="","",IF(WEEKDAY(AL$2,2)<6,1,"")) -> 1 | AM5: =IF(IFERROR(HLOOKUP(9^9,OFFSET($H5,0,0,1,DAY(TODAY()-1)),1,1)=1,0),TEXT(INDEX(OFFSET($H$3,0,0,1,DAY(TODAY()-1)),MATCH(9^9,OFFSET($H5,0,0,1,DAY(TODAY()-1)),1)),"jj/mm/aaaa"),"Pas d'intervention") -> 17/01/2019 | AN5: =IF(SUM(H5:AL5)=0,"",SUM(H5:AL5)) -> 22 | AO5: =IF(SUM(COUNTIF(G5:AK5,"A")+(SUMIF(G5:AK5,"0,5")))=0,"",SUM(COUNTIF(G5:AK5,"A")+(SUMIF(G5:AK5,"0,5")))) | AP5: =IF(COUNTIF(H5:AL5,"B")=0,"",COUNTIF(H5:AL5,"B")) | AQ5: =IF(G5="o", COUNTIF(H5:AL5,"A"),"") -> 0 | AR5: =IF(COUNTIF(H5:AL5,"N")=0,"",COUNTIF(H5:AL5,"N")) | AS5: =IF(COUNTIF(H5:AL5,"G")=0,"",COUNTIF(H5:AL5,"G")) | AT5: =IF(COUNTIF(H5:AL5,"F")=0,"",COUNTIF(H5:AL5,"F"))
A6: 003 | B6: StéC TOULOUSE | C6: =LEFT(B6,FIND(" ",B6)-1) -> StéC | E6: TECH | F6: C | G6: o | I6: B | J6: B | K6: B | L6: =IF(WEEKDAY(L$2,2)<6,1,"") | M6: =IF(WEEKDAY(M$2,2)<6,1,"") | N6: =IF(WEEKDAY(N$2,2)<6,1,"") -> 1 | O6: =IF(WEEKDAY(O$2,2)<6,1,"") -> 1 | P6: =IF(WEEKDAY(P$2,2)<6,1,"") -> 1 | Q6: =IF(WEEKDAY(Q$2,2)<6,1,"") -> 1 | R6: =IF(WEEKDAY(R$2,2)<6,1,"") -> 1 | S6: =IF(WEEKDAY(S$2,2)<6,1,"") | ... AE6: =IF(WEEKDAY(AE$2,2)<6,1,"") -> 1 | AF6: 1 | AG6: =IF(WEEKDAY(AG$2,2)<6,1,"") | AH6: =IF(WEEKDAY(AH$2,2)<6,1,"") | AI6: =IF(WEEKDAY(AI$2,2)<6,1,"") -> 1 | AJ6: =IF(WEEKDAY(AJ$2,2)<6,1,"") -> 1 | AK6: =IF(WEEKDAY(AK$2,2)<6,1,"") -> 1 | AL6: =IF(AL4="","",IF(WEEKDAY(AL$2,2)<6,1,"")) -> 1 | AM6: =IF(IFERROR(HLOOKUP(9^9,OFFSET($H6,0,0,1,DAY(TODAY()-1)),1,1)=1,0),TEXT(INDEX(OFFSET($H$3,0,0,1,DAY(TODAY()-1)),MATCH(9^9,OFFSET($H6,0,0,1,DAY(TODAY()-1)),1)),"jj/mm/aaaa"),"Pas d'intervention") -> 17/01/2019 | AN6: =IF(SUM(H6:AL6)=0,"",SUM(H6:AL6)) -> 19 | AO6: =IF(SUM(COUNTIF(G6:AK6,"A")+(SUMIF(G6:AK6,"0,5")))=0,"",SUM(COUNTIF(G6:AK6,"A")+(SUMIF(G6:AK6,"0,5")))) | AP6: =IF(COUNTIF(H6:AL6,"B")=0,"",COUNTIF(H6:AL6,"B")) -> 3 | AQ6: =IF(G6="o", COUNTIF(H6:AL6,"A"),"") -> 0 | AR6: =IF(COUNTIF(H6:AL6,"N")=0,"",COUNTIF(H6:AL6,"N")) | AS6: =IF(COUNTIF(H6:AL6,"G")=0,"",COUNTIF(H6:AL6,"G")) | AT6: =IF(COUNTIF(H6:AL6,"F")=0,"",COUNTIF(H6:AL6,"F"))
A7: 004 | B7: StéD LYON | C7: =LEFT(B7,FIND(" ",B7)-1) -> StéD | E7: TECH | F7: D | G7: o | I7: B | J7: B | K7: B | L7: =IF(WEEKDAY(L$2,2)<6,1,"") | M7: =IF(WEEKDAY(M$2,2)<6,1,"") | N7: =IF(WEEKDAY(N$2,2)<6,1,"") -> 1 | O7: =IF(WEEKDAY(O$2,2)<6,1,"") -> 1 | P7: =IF(WEEKDAY(P$2,2)<6,1,"") -> 1 | Q7: =IF(WEEKDAY(Q$2,2)<6,1,"") -> 1 | R7: =IF(WEEKDAY(R$2,2)<6,1,"") -> 1 | S7: =IF(WEEKDAY(S$2,2)<6,1,"") | ... AE7: =IF(WEEKDAY(AE$2,2)<6,1,"") -> 1 | AF7: 1 | AG7: =IF(WEEKDAY(AG$2,2)<6,1,"") | AH7: =IF(WEEKDAY(AH$2,2)<6,1,"") | AI7: =IF(WEEKDAY(AI$2,2)<6,1,"") -> 1 | AJ7: 1 | AK7: =IF(WEEKDAY(AK$2,2)<6,1,"") -> 1 | AL7: =IF(AL5="","",IF(WEEKDAY(AL$2,2)<6,1,"")) -> 1 | AM7: =IF(IFERROR(HLOOKUP(9^9,OFFSET($H7,0,0,1,DAY(TODAY()-1)),1,1)=1,0),TEXT(INDEX(OFFSET($H$3,0,0,1,DAY(TODAY()-1)),MATCH(9^9,OFFSET($H7,0,0,1,DAY(TODAY()-1)),1)),"jj/mm/aaaa"),"Pas d'intervention") -> 17/01/2019 | AN7: =IF(SUM(H7:AL7)=0,"",SUM(H7:AL7)) -> 19 | AO7: =IF(SUM(COUNTIF(G7:AK7,"A")+(SUMIF(G7:AK7,"0,5")))=0,"",SUM(COUNTIF(G7:AK7,"A")+(SUMIF(G7:AK7,"0,5")))) | AP7: =IF(COUNTIF(H7:AL7,"B")=0,"",COUNTIF(H7:AL7,"B")) -> 3 | AQ7: =IF(G7="o", COUNTIF(H7:AL7,"A"),"") -> 0 | AR7: =IF(COUNTIF(H7:AL7,"N")=0,"",COUNTIF(H7:AL7,"N")) | AS7: =IF(COUNTIF(H7:AL7,"G")=0,"",COUNTIF(H7:AL7,"G")) | AT7: =IF(COUNTIF(H7:AL7,"F")=0,"",COUNTIF(H7:AL7,"F"))
A8: 005 | B8: StéE VALENCE | C8: =LEFT(B8,FIND(" ",B8)-1) -> StéE | E8: TECH | F8: E | G8: o | I8: =IF(WEEKDAY(I$2,2)<6,1,"") -> 1 | J8: =IF(WEEKDAY(J$2,2)<6,1,"") -> 1 | K8: =IF(WEEKDAY(K$2,2)<6,1,"") -> 1 | L8: =IF(WEEKDAY(L$2,2)<6,1,"") | M8: =IF(WEEKDAY(M$2,2)<6,1,"") | N8: =IF(WEEKDAY(N$2,2)<6,1,"") -> 1 | O8: =IF(WEEKDAY(O$2,2)<6,1,"") -> 1 | P8: =IF(WEEKDAY(P$2,2)<6,1,"") -> 1 | ... AE8: =IF(WEEKDAY(AE$2,2)<6,1,"") -> 1 | AF8: 1 | AG8: =IF(WEEKDAY(AG$2,2)<6,1,"") | AH8: =IF(WEEKDAY(AH$2,2)<6,1,"") | AI8: =IF(WEEKDAY(AI$2,2)<6,1,"") -> 1 | AJ8: =IF(WEEKDAY(AJ$2,2)<6,1,"") -> 1 | AK8: =IF(WEEKDAY(AK$2,2)<6,1,"") -> 1 | AL8: =IF(AL6="","",IF(WEEKDAY(AL$2,2)<6,1,"")) -> 1 | AM8: =IF(IFERROR(HLOOKUP(9^9,OFFSET($H8,0,0,1,DAY(TODAY()-1)),1,1)=1,0),TEXT(INDEX(OFFSET($H$3,0,0,1,DAY(TODAY()-1)),MATCH(9^9,OFFSET($H8,0,0,1,DAY(TODAY()-1)),1)),"jj/mm/aaaa"),"Pas d'intervention") -> 17/01/2019 | AN8: =IF(SUM(H8:AL8)=0,"",SUM(H8:AL8)) -> 22 | AO8: =IF(SUM(COUNTIF(G8:AK8,"A")+(SUMIF(G8:AK8,"0,5")))=0,"",SUM(COUNTIF(G8:AK8,"A")+(SUMIF(G8:AK8,"0,5")))) | AP8: =IF(COUNTIF(H8:AL8,"B")=0,"",COUNTIF(H8:AL8,"B")) | AQ8: =IF(G8="o", COUNTIF(H8:AL8,"A"),"") -> 0 | AR8: =IF(COUNTIF(H8:AL8,"N")=0,"",COUNTIF(H8:AL8,"N")) | AS8: =IF(COUNTIF(H8:AL8,"G")=0,"",COUNTIF(H8:AL8,"G")) | AT8: =IF(COUNTIF(H8:AL8,"F")=0,"",COUNTIF(H8:AL8,"F"))
A9: 006 | B9: StéF PARIS | C9: =LEFT(B9,FIND(" ",B9)-1) -> StéF | E9: TECH | F9: F | G9: o | I9: =IF(WEEKDAY(I$2,2)<6,1,"") -> 1 | J9: =IF(WEEKDAY(J$2,2)<6,1,"") -> 1 | K9: =IF(WEEKDAY(K$2,2)<6,1,"") -> 1 | L9: =IF(WEEKDAY(L$2,2)<6,1,"") | M9: =IF(WEEKDAY(M$2,2)<6,1,"") | N9: =IF(WEEKDAY(N$2,2)<6,1,"") -> 1 | O9: =IF(WEEKDAY(O$2,2)<6,1,"") -> 1 | P9: =IF(WEEKDAY(P$2,2)<6,1,"") -> 1 | ... AE9: =IF(WEEKDAY(AE$2,2)<6,1,"") -> 1 | AF9: 1 | AG9: =IF(WEEKDAY(AG$2,2)<6,1,"") | AH9: =IF(WEEKDAY(AH$2,2)<6,1,"") | AI9: =IF(WEEKDAY(AI$2,2)<6,1,"") -> 1 | AJ9: =IF(WEEKDAY(AJ$2,2)<6,1,"") -> 1 | AK9: =IF(WEEKDAY(AK$2,2)<6,1,"") -> 1 | AL9: =IF(AL7="","",IF(WEEKDAY(AL$2,2)<6,1,"")) -> 1 | AM9: =IF(IFERROR(HLOOKUP(9^9,OFFSET($H9,0,0,1,DAY(TODAY()-1)),1,1)=1,0),TEXT(INDEX(OFFSET($H$3,0,0,1,DAY(TODAY()-1)),MATCH(9^9,OFFSET($H9,0,0,1,DAY(TODAY()-1)),1)),"jj/mm/aaaa"),"Pas d'intervention") -> 17/01/2019 | AN9: =IF(SUM(H9:AL9)=0,"",SUM(H9:AL9)) -> 22 | AO9: =IF(SUM(COUNTIF(G9:AK9,"A")+(SUMIF(G9:AK9,"0,5")))=0,"",SUM(COUNTIF(G9:AK9,"A")+(SUMIF(G9:AK9,"0,5")))) | AP9: =IF(COUNTIF(H9:AL9,"B")=0,"",COUNTIF(H9:AL9,"B")) | AQ9: =IF(G9="o", COUNTIF(H9:AL9,"A"),"") -> 0 | AR9: =IF(COUNTIF(H9:AL9,"N")=0,"",COUNTIF(H9:AL9,"N")) | AS9: =IF(COUNTIF(H9:AL9,"G")=0,"",COUNTIF(H9:AL9,"G")) | AT9: =IF(COUNTIF(H9:AL9,"F")=0,"",COUNTIF(H9:AL9,"F"))
A10: 007 | B10: StéG MARSEILLES | C10: =LEFT(B10,FIND(" ",B10)-1) -> StéG | E10: TECH | F10: G | G10: o | I10: =IF(WEEKDAY(I$2,2)<6,1,"") -> 1 | J10: =IF(WEEKDAY(J$2,2)<6,1,"") -> 1 | K10: =IF(WEEKDAY(K$2,2)<6,1,"") -> 1 | L10: =IF(WEEKDAY(L$2,2)<6,1,"") | M10: =IF(WEEKDAY(M$2,2)<6,1,"") | N10: =IF(WEEKDAY(N$2,2)<6,1,"") -> 1 | O10: =IF(WEEKDAY(O$2,2)<6,1,"") -> 1 | P10: =IF(WEEKDAY(P$2,2)<6,1,"") -> 1 | ... AE10: =IF(WEEKDAY(AE$2,2)<6,1,"") -> 1 | AF10: 1 | AG10: =IF(WEEKDAY(AG$2,2)<6,1,"") | AH10: =IF(WEEKDAY(AH$2,2)<6,1,"") | AI10: =IF(WEEKDAY(AI$2,2)<6,1,"") -> 1 | AJ10: =IF(WEEKDAY(AJ$2,2)<6,1,"") -> 1 | AK10: =IF(WEEKDAY(AK$2,2)<6,1,"") -> 1 | AL10: =IF(AL8="","",IF(WEEKDAY(AL$2,2)<6,1,"")) -> 1 | AM10: =IF(IFERROR(HLOOKUP(9^9,OFFSET($H10,0,0,1,DAY(TODAY()-1)),1,1)=1,0),TEXT(INDEX(OFFSET($H$3,0,0,1,DAY(TODAY()-1)),MATCH(9^9,OFFSET($H10,0,0,1,DAY(TODAY()-1)),1)),"jj/mm/aaaa"),"Pas d'intervention") -> 17/01/2019 | AN10: =IF(SUM(H10:AL10)=0,"",SUM(H10:AL10)) -> 22 | AO10: =IF(SUM(COUNTIF(G10:AK10,"A")+(SUMIF(G10:AK10,"0,5")))=0,"",SUM(COUNTIF(G10:AK10,"A")+(SUMIF(G10:AK10,"0,5")))) | AP10: =IF(COUNTIF(H10:AL10,"B")=0,"",COUNTIF(H10:AL10,"B")) | AQ10: =IF(G10="o", COUNTIF(H10:AL10,"A"),"") -> 0 | AR10: =IF(COUNTIF(H10:AL10,"N")=0,"",COUNTIF(H10:AL10,"N")) | AS10: =IF(COUNTIF(H10:AL10,"G")=0,"",COUNTIF(H10:AL10,"G")) | AT10: =IF(COUNTIF(H10:AL10,"F")=0,"",COUNTIF(H10:AL10,"F"))
A11: 008 | B11: StéH AIX en PROVENCE | C11: =LEFT(B11,FIND(" ",B11)-1) -> StéH | E11: TECH | F11: H | I11: F | J11: =IF(WEEKDAY(J$2,2)<6,1,"") -> 1 | K11: =IF(WEEKDAY(K$2,2)<6,1,"") -> 1 | L11: =IF(WEEKDAY(L$2,2)<6,1,"") | M11: =IF(WEEKDAY(M$2,2)<6,1,"") | N11: =IF(WEEKDAY(N$2,2)<6,1,"") -> 1 | O11: =IF(WEEKDAY(O$2,2)<6,1,"") -> 1 | P11: =IF(WEEKDAY(P$2,2)<6,1,"") -> 1 | Q11: =IF(WEEKDAY(Q$2,2)<6,1,"") -> 1 | ... W11: =IF(WEEKDAY(W$2,2)<6,1,"") -> 1 | X11: 1 | Y11: 1 | Z11: =IF(WEEKDAY(Z$2,2)<6,1,"") | AA11: =IF(WEEKDAY(AA$2,2)<6,1,"") | AB11: A | AC11: B | AD11: B | AE11: 1 | AF11: 1 | AG11: =IF(WEEKDAY(AG$2,2)<6,1,"") | AH11: =IF(WEEKDAY(AH$2,2)<6,1,"") | AI11: 1 | AJ11: 1 | AK11: 1 | AL11: 1 | AM11: =IF(IFERROR(HLOOKUP(9^9,OFFSET($H11,0,0,1,DAY(TODAY()-1)),1,1)=1,0),TEXT(INDEX(OFFSET($H$3,0,0,1,DAY(TODAY()-1)),MATCH(9^9,OFFSET($H11,0,0,1,DAY(TODAY()-1)),1)),"jj/mm/aaaa"),"Pas d'intervention") -> 17/01/2019 | AN11: =IF(SUM(H11:AL11)=0,"",SUM(H11:AL11)) -> 18 | AO11: =IF(SUM(COUNTIF(G11:AK11,"A")+(SUMIF(G11:AK11,"0,5")))=0,"",SUM(COUNTIF(G11:AK11,"A")+(SUMIF(G11:AK11,"0,5")))) -> 1 | AP11: =IF(COUNTIF(H11:AL11,"B")=0,"",COUNTIF(H11:AL11,"B")) -> 2 | AQ11: =IF(G11="o", COUNTIF(H11:AL11,"A"),"") | AR11: =IF(COUNTIF(H11:AL11,"N")=0,"",COUNTIF(H11:AL11,"N")) | AS11: =IF(COUNTIF(H11:AL11,"G")=0,"",COUNTIF(H11:AL11,"G")) | AT11: =IF(COUNTIF(H11:AL11,"F")=0,"",COUNTIF(H11:AL11,"F")) -> 1
A12: BACKUP | AN12: =IF(SUM(H12:AL12)=0,"",SUM(H12:AL12)) | AO12: =IF(SUM(COUNTIF(G12:AK12,"A")+(SUMIF(G12:AK12,"0,5")))=0,"",SUM(COUNTIF(G12:AK12,"A")+(SUMIF(G12:AK12,"0,5")))) | AP12: =IF(COUNTIF(H12:AL12,"B")=0,"",COUNTIF(H12:AL12,"B")) | AR12: =IF(COUNTIF(H12:AL12,"N")=0,"",COUNTIF(H12:AL12,"N")) | AS12: =IF(COUNTIF(H12:AL12,"G")=0,"",COUNTIF(H12:AL12,"G")) | AT12: =IF(COUNTIF(H12:AL12,"F")=0,"",COUNTIF(H12:AL12,"F"))
A13: 001 | B13: StéA NANTES | C13: =LEFT(B13,FIND(" ",B13)-1) -> StéA | E13: TECH | F13: X | I13: 1 | J13: 1 | K13: 1 | AM13: =IF(IFERROR(HLOOKUP(9^9,OFFSET($H13,0,0,1,DAY(TODAY()-1)),1,1)=1,0),TEXT(INDEX(OFFSET($H$3,0,0,1,DAY(TODAY()-1)),MATCH(9^9,OFFSET($H13,0,0,1,DAY(TODAY()-1)),1)),"jj/mm/aaaa"),"Pas d'intervention") -> 04/01/2019 | AN13: =IF(SUM(H13:AL13)=0,"",SUM(H13:AL13)) -> 3 | AO13: =IF(SUM(COUNTIF(G13:AK13,"A")+(SUMIF(G13:AK13,"0,5")))=0,"",SUM(COUNTIF(G13:AK13,"A")+(SUMIF(G13:AK13,"0,5")))) | AP13: =IF(COUNTIF(H13:AL13,"B")=0,"",COUNTIF(H13:AL13,"B")) | AR13: =IF(COUNTIF(H13:AL13,"N")=0,"",COUNTIF(H13:AL13,"N")) | AS13: =IF(COUNTIF(H13:AL13,"G")=0,"",COUNTIF(H13:AL13,"G")) | AT13: =IF(COUNTIF(H13:AL13,"F")=0,"",COUNTIF(H13:AL13,"F"))
A14: 002 | B14: StéB BORDEAUX | C14: =LEFT(B14,FIND(" ",B14)-1) -> StéB | E14: TECH | F14: X | W14: 1 | X14: 1 | Y14: 1 | AM14: =IF(IFERROR(HLOOKUP(9^9,OFFSET($H14,0,0,1,DAY(TODAY()-1)),1,1)=1,0),TEXT(INDEX(OFFSET($H$3,0,0,1,DAY(TODAY()-1)),MATCH(9^9,OFFSET($H14,0,0,1,DAY(TODAY()-1)),1)),"jj/mm/aaaa"),"Pas d'intervention") -> 17/01/2019 | AN14: =IF(SUM(H14:AL14)=0,"",SUM(H14:AL14)) -> 3 | AO14: =IF(SUM(COUNTIF(G14:AK14,"A")+(SUMIF(G14:AK14,"0,5")))=0,"",SUM(COUNTIF(G14:AK14,"A")+(SUMIF(G14:AK14,"0,5")))) | AP14: =IF(COUNTIF(H14:AL14,"B")=0,"",COUNTIF(H14:AL14,"B")) | AR14: =IF(COUNTIF(H14:AL14,"N")=0,"",COUNTIF(H14:AL14,"N")) | AS14: =IF(COUNTIF(H14:AL14,"G")=0,"",COUNTIF(H14:AL14,"G")) | AT14: =IF(COUNTIF(H14:AL14,"F")=0,"",COUNTIF(H14:AL14,"F"))
A15: 003 | B15: StéC TOULOUSE | C15: =LEFT(B15,FIND(" ",B15)-1) -> StéC | E15: TECH | F15: X | AM15: =IF(IFERROR(HLOOKUP(9^9,OFFSET($H15,0,0,1,DAY(TODAY()-1)),1,1)=1,0),TEXT(INDEX(OFFSET($H$3,0,0,1,DAY(TODAY()-1)),MATCH(9^9,OFFSET($H15,0,0,1,DAY(TODAY()-1)),1)),"jj/mm/aaaa"),"Pas d'intervention") -> Pas d'intervention | AN15: =IF(SUM(H15:AL15)=0,"",SUM(H15:AL15)) | AO15: =IF(SUM(COUNTIF(G15:AK15,"A")+(SUMIF(G15:AK15,"0,5")))=0,"",SUM(COUNTIF(G15:AK15,"A")+(SUMIF(G15:AK15,"0,5")))) | AP15: =IF(COUNTIF(H15:AL15,"B")=0,"",COUNTIF(H15:AL15,"B")) | AR15: =IF(COUNTIF(H15:AL15,"N")=0,"",COUNTIF(H15:AL15,"N")) | AS15: =IF(COUNTIF(H15:AL15,"G")=0,"",COUNTIF(H15:AL15,"G")) | AT15: =IF(COUNTIF(H15:AL15,"F")=0,"",COUNTIF(H15:AL15,"F"))
A16: 004 | B16: StéD LYON | C16: =LEFT(B16,FIND(" ",B16)-1) -> StéD | E16: TECH | F16: Z | AM16: =IF(IFERROR(HLOOKUP(9^9,OFFSET($H16,0,0,1,DAY(TODAY()-1)),1,1)=1,0),TEXT(INDEX(OFFSET($H$3,0,0,1,DAY(TODAY()-1)),MATCH(9^9,OFFSET($H16,0,0,1,DAY(TODAY()-1)),1)),"jj/mm/aaaa"),"Pas d'intervention") -> Pas d'intervention | AN16: =IF(SUM(H16:AL16)=0,"",SUM(H16:AL16)) | AO16: =IF(SUM(COUNTIF(G16:AK16,"A")+(SUMIF(G16:AK16,"0,5")))=0,"",SUM(COUNTIF(G16:AK16,"A")+(SUMIF(G16:AK16,"0,5")))) | AP16: =IF(COUNTIF(H16:AL16,"B")=0,"",COUNTIF(H16:AL16,"B")) | AR16: =IF(COUNTIF(H16:AL16,"N")=0,"",COUNTIF(H16:AL16,"N")) | AS16: =IF(COUNTIF(H16:AL16,"G")=0,"",COUNTIF(H16:AL16,"G")) | AT16: =IF(COUNTIF(H16:AL16,"F")=0,"",COUNTIF(H16:AL16,"F"))
A17: 005 | B17: StéE VALENCE | C17: =LEFT(B17,FIND(" ",B17)-1) -> StéE | E17: TECH | F17: Z | AM17: =IF(IFERROR(HLOOKUP(9^9,OFFSET($H17,0,0,1,DAY(TODAY()-1)),1,1)=1,0),TEXT(INDEX(OFFSET($H$3,0,0,1,DAY(TODAY()-1)),MATCH(9^9,OFFSET($H17,0,0,1,DAY(TODAY()-1)),1)),"jj/mm/aaaa"),"Pas d'intervention") -> Pas d'intervention | AN17: =IF(SUM(H17:AL17)=0,"",SUM(H17:AL17)) | AO17: =IF(SUM(COUNTIF(G17:AK17,"A")+(SUMIF(G17:AK17,"0,5")))=0,"",SUM(COUNTIF(G17:AK17,"A")+(SUMIF(G17:AK17,"0,5"))))
A18: 006 | B18: StéF PARIS | C18: =LEFT(B18,FIND(" ",B18)-1) -> StéF | E18: TECH | F18: W | I18: 1 | J18: 1 | K18: 1 | N18: 1 | O18: 1 | Q18: 1 | R18: 1 | AM18: =IF(IFERROR(HLOOKUP(9^9,OFFSET($H18,0,0,1,DAY(TODAY()-1)),1,1)=1,0),TEXT(INDEX(OFFSET($H$3,0,0,1,DAY(TODAY()-1)),MATCH(9^9,OFFSET($H18,0,0,1,DAY(TODAY()-1)),1)),"jj/mm/aaaa"),"Pas d'intervention") -> 11/01/2019 | AN18: =IF(SUM(H18:AL18)=0,"",SUM(H18:AL18)) -> 7 | AO18: =IF(SUM(COUNTIF(G18:AK18,"A")+(SUMIF(G18:AK18,"0,5")))=0,"",SUM(COUNTIF(G18:AK18,"A")+(SUMIF(G18:AK18,"0,5")))) | AP18: =IF(COUNTIF(H18:AL18,"B")=0,"",COUNTIF(H18:AL18,"B")) | AR18: =IF(COUNTIF(H18:AL18,"N")=0,"",COUNTIF(H18:AL18,"N")) | AS18: =IF(COUNTIF(H18:AL18,"G")=0,"",COUNTIF(H18:AL18,"G")) | AT18: =IF(COUNTIF(H18:AL18,"F")=0,"",COUNTIF(H18:AL18,"F"))
A19: 007 | B19: StéG MARSEILLES | C19: =LEFT(B19,FIND(" ",B19)-1) -> StéG | E19: TECH | F19: Y | AC19: 1 | AD19: 1 | AM19: =IF(IFERROR(HLOOKUP(9^9,OFFSET($H19,0,0,1,DAY(TODAY()-1)),1,1)=1,0),TEXT(INDEX(OFFSET($H$3,0,0,1,DAY(TODAY()-1)),MATCH(9^9,OFFSET($H19,0,0,1,DAY(TODAY()-1)),1)),"jj/mm/aaaa"),"Pas d'intervention") -> Pas d'intervention | AN19: =IF(SUM(H19:AL19)=0,"",SUM(H19:AL19)) -> 2 | AO19: =IF(SUM(COUNTIF(G19:AK19,"A")+(SUMIF(G19:AK19,"0,5")))=0,"",SUM(COUNTIF(G19:AK19,"A")+(SUMIF(G19:AK19,"0,5")))) | AP19: =IF(COUNTIF(H19:AL19,"B")=0,"",COUNTIF(H19:AL19,"B")) | AR19: =IF(COUNTIF(H19:AL19,"N")=0,"",COUNTIF(H19:AL19,"N")) | AS19: =IF(COUNTIF(H19:AL19,"G")=0,"",COUNTIF(H19:AL19,"G")) | AT19: =IF(COUNTIF(H19:AL19,"F")=0,"",COUNTIF(H19:AL19,"F"))
AN20: =IF(SUM(H20:AL20)=0,"",SUM(H20:AL20)) | AR20: =IF(COUNTIF(H20:AL20,"N")=0,"",COUNTIF(H20:AL20,"N")) | AS20: =IF(COUNTIF(H20:AL20,"G")=0,"",COUNTIF(H20:AL20,"G")) | AT20: =IF(COUNTIF(H20:AL20,"F")=0,"",COUNTIF(H20:AL20,"F"))
AN21: =SUM(AN4:AN19) -> 178 | AO21: =SUM(AO4:AO19) -> 1 | AP21: =SUM(AP4:AP11) -> 8
AP22: =SUM(AN13:AN19) -> 15 | AQ22: =SUM(AQ4:AQ11) -> 0
AP23: =IF(AP22=AP21,"", SUM(AP22-AP21)) -> 7

Sheet févr-19
B1: 11 | H1: =_xlfn.ISOWEEKNUM(H3) -> 5 | I1: =_xlfn.ISOWEEKNUM(I3) -> 5 | J1: =_xlfn.ISOWEEKNUM(J3) -> 5 | K1: =_xlfn.ISOWEEKNUM(K3) -> 6 | L1: =_xlfn.ISOWEEKNUM(L3) -> 6 | M1: =_xlfn.ISOWEEKNUM(M3) -> 6 | N1: =_xlfn.ISOWEEKNUM(N3) -> 6 | O1: =_xlfn.ISOWEEKNUM(O3) -> 6 | ... AI1: =_xlfn.ISOWEEKNUM(AI3) -> 9 | AM1: =DAY(DATE(YEAR(G2),MONTH(G2) + 1,0)) -> 28 | AN1: jours | AO1: Nbr j.ouvrés | AP1: =NETWORKDAYS(H3,AI3,Variables!C22:C35) -> 20
B2: Planning Présence | G2: =MID(CELL("filename",A1),FIND("]",CELL("filename",A1))+1,32) -> févr-19 | H2: =WEEKDAY(H3) -> 6 | I2: =WEEKDAY(I3) -> 7 | J2: =WEEKDAY(J3) -> 1 | K2: =WEEKDAY(K3) -> 2 | L2: =WEEKDAY(L3) -> 3 | M2: =WEEKDAY(M3) -> 4 | N2: =WEEKDAY(N3) -> 5 | O2: =WEEKDAY(O3) -> 6 | ... AI2: =WEEKDAY(AI3) -> 5
A3: N° Projet | B3: Sites | C3: Client final | D3: ID | E3: Nom | F3: Prénom | G3: Backup | H3: =DATE(YEAR(G2),MONTH(G2),1) -> 43497 | I3: =H3+1 -> 43498 | J3: =I3+1 -> 43499 | K3: =J3+1 -> 43500 | L3: =K3+1 -> 43501 | M3: =L3+1 -> 43502 | N3: =M3+1 -> 43503 | O3: =N3+1 -> 43504 | P3: =O3+1 -> 43505 | ... AI3: =AH3+1 -> 43524 | AM3: Dernier passage | AN3: Nbr jours travaillés | AO3: Nbr jours absences | AP3: Nbr jours backupés | AQ3: Nbr jours non Backupé | AR3: Non prévue | AS3: G | AT3: F
A4: 001 | B4: StéA NANTES | C4: =LEFT(B4,FIND(" ",B4)-1) -> StéA | E4: TECH | F4: A | G4: o | H4: 1 | K4: 1 | L4: =IF(WEEKDAY(L$2,2)<6,1,"") -> 1 | M4: =IF(WEEKDAY(M$2,2)<6,1,"") -> 1 | N4: 1 | O4: 1 | P4: 1 | Q4: 1 | R4: 1 | S4: =IF(WEEKDAY(S$2,2)<6,1,"") -> 1 | T4: =IF(WEEKDAY(T$2,2)<6,1,"") -> 1 | U4: 1 | V4: A | Y4: 1 | Z4: =IF(WEEKDAY(Z$2,2)<6,1,"") -> 1 | AA4: =IF(WEEKDAY(AA$2,2)<6,1,"") -> 1 | AB4: 1 | AC4: 1 | AD4: 1 | AE4: 1 | AF4: 1 | AG4: =IF(WEEKDAY(AG$2,2)<6,1,"") -> 1 | AH4: =IF(WEEKDAY(AH$2,2)<6,1,"") -> 1 | AI4: 1 | AM4: =IF(IFERROR(HLOOKUP(9^9,OFFSET($H4,0,0,1,DAY(TODAY()-1)),1,1)=1,0),TEXT(INDEX(OFFSET($H$3,0,0,1,DAY(TODAY()-1)),MATCH(9^9,OFFSET($H4,0,0,1,DAY(TODAY()-1)),1)),"jj/mm/aaaa"),"Pas d'intervention") -> 14/02/2019 | AN4: =IF(SUM(H4:AI4)=0,"",SUM(H4:AI4)) -> 23 | AO4: =IF(SUM(COUNTIF(G4:AI4,"A")+(SUMIF(G4:AI4,"0,5")))=0,"",SUM(COUNTIF(G4:AI4,"A")+(SUMIF(G4:AI4,"0,5")))) -> 1 | AP4: =IF(COUNTIF(H4:AI4,"B")=0,"",COUNTIF(H4:AI4,"B")) | AQ4: =IF(G4="o", COUNTIF(H4:AI4,"A"),"") -> 1 | AR4: =IF(COUNTIF(H4:AI4,"N")=0,"",COUNTIF(H4:AI4,"N")) | AS4: =IF(COUNTIF(H4:AI4,"G")=0,"",COUNTIF(H4:AI4,"G")) | AT4: =IF(COUNTIF(H4:AI4,"F")=0,"",COUNTIF(H4:AI4,"F"))
A5: 002 | B5: StéB BORDEAUX | C5: =LEFT(B5,FIND(" ",B5)-1) -> StéB | E5: TECH | F5: B | G5: o | H5: 1 | K5: 1 | L5: =IF(WEEKDAY(L$2,2)<6,1,"") -> 1 | M5: =IF(WEEKDAY(M$2,2)<6,1,"") -> 1 | N5: =IF(WEEKDAY(N$2,2)<6,1,"") -> 1 | O5: =IF(WEEKDAY(O$2,2)<6,1,"") -> 1 | P5: =IF(WEEKDAY(P$2,2)<6,1,"") | Q5: =IF(WEEKDAY(Q$2,2)<6,1,"") | R5: =IF(WEEKDAY(R$2,2)<6,1,"") -> 1 | S5: =IF(WEEKDAY(S$2,2)<6,1,"") -> 1 | ... AE5: =IF(WEEKDAY(AE$2,2)<6,1,"") | AF5: 1 | AG5: =IF(WEEKDAY(AG$2,2)<6,1,"") -> 1 | AH5: =IF(WEEKDAY(AH$2,2)<6,1,"") -> 1 | AI5: =IF(WEEKDAY(AI$2,2)<6,1,"") -> 1 | AM5: =IF(IFERROR(HLOOKUP(9^9,OFFSET($H5,0,0,1,DAY(TODAY()-1)),1,1)=1,0),TEXT(INDEX(OFFSET($H$3,0,0,1,DAY(TODAY()-1)),MATCH(9^9,OFFSET($H5,0,0,1,DAY(TODAY()-1)),1)),"jj/mm/aaaa"),"Pas d'intervention") -> 15/02/2019 | AN5: =IF(SUM(H5:AI5)=0,"",SUM(H5:AI5)) -> 20 | AO5: =IF(SUM(COUNTIF(G5:AI5,"A")+(SUMIF(G5:AI5,"0,5")))=0,"",SUM(COUNTIF(G5:AI5,"A")+(SUMIF(G5:AI5,"0,5")))) | AP5: =IF(COUNTIF(H5:AI5,"B")=0,"",COUNTIF(H5:AI5,"B")) | AQ5: =IF(G5="o", COUNTIF(H5:AI5,"A"),"") -> 0 | AR5: =IF(COUNTIF(H5:AI5,"N")=0,"",COUNTIF(H5:AI5,"N")) | AS5: =IF(COUNTIF(H5:AI5,"G")=0,"",COUNTIF(H5:AI5,"G")) | AT5: =IF(COUNTIF(H5:AI5,"F")=0,"",COUNTIF(H5:AI5,"F"))
A6: 003 | B6: StéC TOULOUSE | C6: =LEFT(B6,FIND(" ",B6)-1) -> StéC | E6: TECH | F6: C | G6: o | H6: 1 | K6: 1 | L6: =IF(WEEKDAY(L$2,2)<6,1,"") -> 1 | M6: =IF(WEEKDAY(M$2,2)<6,1,"") -> 1 | N6: =IF(WEEKDAY(N$2,2)<6,1,"") -> 1 | O6: =IF(WEEKDAY(O$2,2)<6,1,"") -> 1 | P6: =IF(WEEKDAY(P$2,2)<6,1,"") | Q6: =IF(WEEKDAY(Q$2,2)<6,1,"") | R6: =IF(WEEKDAY(R$2,2)<6,1,"") -> 1 | S6: =IF(WEEKDAY(S$2,2)<6,1,"") -> 1 | ... AE6: =IF(WEEKDAY(AE$2,2)<6,1,"") | AF6: 1 | AG6: =IF(WEEKDAY(AG$2,2)<6,1,"") -> 1 | AH6: =IF(WEEKDAY(AH$2,2)<6,1,"") -> 1 | AI6: =IF(WEEKDAY(AI$2,2)<6,1,"") -> 1 | AM6: =IF(IFERROR(HLOOKUP(9^9,OFFSET($H6,0,0,1,DAY(TODAY()-1)),1,1)=1,0),TEXT(INDEX(OFFSET($H$3,0,0,1,DAY(TODAY()-1)),MATCH(9^9,OFFSET($H6,0,0,1,DAY(TODAY()-1)),1)),"jj/mm/aaaa"),"Pas d'intervention") -> 15/02/2019 | AN6: =IF(SUM(H6:AI6)=0,"",SUM(H6:AI6)) -> 20 | AO6: =IF(SUM(COUNTIF(G6:AI6,"A")+(SUMIF(G6:AI6,"0,5")))=0,"",SUM(COUNTIF(G6:AI6,"A")+(SUMIF(G6:AI6,"0,5")))) | AP6: =IF(COUNTIF(H6:AI6,"B")=0,"",COUNTIF(H6:AI6,"B")) | AQ6: =IF(G6="o", COUNTIF(H6:AI6,"A"),"") -> 0 | AR6: =IF(COUNTIF(H6:AI6,"N")=0,"",COUNTIF(H6:AI6,"N")) | AS6: =IF(COUNTIF(H6:AI6,"G")=0,"",COUNTIF(H6:AI6,"G")) | AT6: =IF(COUNTIF(H6:AI6,"F")=0,"",COUNTIF(H6:AI6,"F"))
A7: 004 | B7: StéD LYON | C7: =LEFT(B7,FIND(" ",B7)-1) -> StéD | E7: TECH | F7: D | G7: o | H7: 1 | K7: 1 | L7: =IF(WEEKDAY(L$2,2)<6,1,"") -> 1 | M7: =IF(WEEKDAY(M$2,2)<6,1,"") -> 1 | N7: =IF(WEEKDAY(N$2,2)<6,1,"") -> 1 | O7: =IF(WEEKDAY(O$2,2)<6,1,"") -> 1 | P7: =IF(WEEKDAY(P$2,2)<6,1,"") | Q7: =IF(WEEKDAY(Q$2,2)<6,1,"") | R7: =IF(WEEKDAY(R$2,2)<6,1,"") -> 1 | S7: =IF(WEEKDAY(S$2,2)<6,1,"") -> 1 | ... X7: =IF(WEEKDAY(X$2,2)<6,1,"") | Y7: B | Z7: B | AA7: B | AB7: B | AC7: B | AD7: =IF(WEEKDAY(AD$2,2)<6,1,"") | AE7: =IF(WEEKDAY(AE$2,2)<6,1,"") | AF7: 1 | AG7: =IF(WEEKDAY(AG$2,2)<6,1,"") -> 1 | AH7: =IF(WEEKDAY(AH$2,2)<6,1,"") -> 1 | AI7: =IF(WEEKDAY(AI$2,2)<6,1,"") -> 1 | AM7: =IF(IFERROR(HLOOKUP(9^9,OFFSET($H7,0,0,1,DAY(TODAY()-1)),1,1)=1,0),TEXT(INDEX(OFFSET($H$3,0,0,1,DAY(TODAY()-1)),MATCH(9^9,OFFSET($H7,0,0,1,DAY(TODAY()-1)),1)),"jj/mm/aaaa"),"Pas d'intervention") -> 15/02/2019 | AN7: =IF(SUM(H7:AI7)=0,"",SUM(H7:AI7)) -> 15 | AO7: =IF(SUM(COUNTIF(G7:AI7,"A")+(SUMIF(G7:AI7,"0,5")))=0,"",SUM(COUNTIF(G7:AI7,"A")+(SUMIF(G7:AI7,"0,5")))) | AP7: =IF(COUNTIF(H7:AI7,"B")=0,"",COUNTIF(H7:AI7,"B")) -> 5 | AQ7: =IF(G7="o", COUNTIF(H7:AI7,"A"),"") -> 0 | AR7: =IF(COUNTIF(H7:AI7,"N")=0,"",COUNTIF(H7:AI7,"N")) | AS7: =IF(COUNTIF(H7:AI7,"G")=0,"",COUNTIF(H7:AI7,"G")) | AT7: =IF(COUNTIF(H7:AI7,"F")=0,"",COUNTIF(H7:AI7,"F"))
A8: 005 | B8: StéE VALENCE | C8: =LEFT(B8,FIND(" ",B8)-1) -> StéE | E8: TECH | F8: E | G8: o | H8: 1 | I8: =IF(WEEKDAY(I$2,2)<6,1,"") | J8: =IF(WEEKDAY(J$2,2)<6,1,"") | K8: =IF(WEEKDAY(K$2,2)<6,1,"") -> 1 | L8: =IF(WEEKDAY(L$2,2)<6,1,"") -> 1 | M8: =IF(WEEKDAY(M$2,2)<6,1,"") -> 1 | N8: =IF(WEEKDAY(N$2,2)<6,1,"") -> 1 | O8: =IF(WEEKDAY(O$2,2)<6,1,"") -> 1 | P8: =IF(WEEKDAY(P$2,2)<6,1,"") | ... AE8: =IF(WEEKDAY(AE$2,2)<6,1,"") | AF8: 1 | AG8: =IF(WEEKDAY(AG$2,2)<6,1,"") -> 1 | AH8: =IF(WEEKDAY(AH$2,2)<6,1,"") -> 1 | AI8: =IF(WEEKDAY(AI$2,2)<6,1,"") -> 1 | AM8: =IF(IFERROR(HLOOKUP(9^9,OFFSET($H8,0,0,1,DAY(TODAY()-1)),1,1)=1,0),TEXT(INDEX(OFFSET($H$3,0,0,1,DAY(TODAY()-1)),MATCH(9^9,OFFSET($H8,0,0,1,DAY(TODAY()-1)),1)),"jj/mm/aaaa"),"Pas d'intervention") -> 15/02/2019 | AN8: =IF(SUM(H8:AI8)=0,"",SUM(H8:AI8)) -> 20 | AO8: =IF(SUM(COUNTIF(G8:AI8,"A")+(SUMIF(G8:AI8,"0,5")))=0,"",SUM(COUNTIF(G8:AI8,"A")+(SUMIF(G8:AI8,"0,5")))) | AP8: =IF(COUNTIF(H8:AI8,"B")=0,"",COUNTIF(H8:AI8,"B")) | AQ8: =IF(G8="o", COUNTIF(H8:AI8,"A"),"") -> 0 | AR8: =IF(COUNTIF(H8:AI8,"N")=0,"",COUNTIF(H8:AI8,"N")) | AS8: =IF(COUNTIF(H8:AI8,"G")=0,"",COUNTIF(H8:AI8,"G")) | AT8: =IF(COUNTIF(H8:AI8,"F")=0,"",COUNTIF(H8:AI8,"F"))
A9: 006 | B9: StéF PARIS | C9: =LEFT(B9,FIND(" ",B9)-1) -> StéF | E9: TECH | F9: F | G9: o | H9: 1 | I9: =IF(WEEKDAY(I$2,2)<6,1,"") | J9: =IF(WEEKDAY(J$2,2)<6,1,"") | K9: =IF(WEEKDAY(K$2,2)<6,1,"") -> 1 | L9: =IF(WEEKDAY(L$2,2)<6,1,"") -> 1 | M9: =IF(WEEKDAY(M$2,2)<6,1,"") -> 1 | N9: =IF(WEEKDAY(N$2,2)<6,1,"") -> 1 | O9: =IF(WEEKDAY(O$2,2)<6,1,"") -> 1 | P9: =IF(WEEKDAY(P$2,2)<6,1,"") | ... AE9: =IF(WEEKDAY(AE$2,2)<6,1,"") | AF9: 1 | AG9: =IF(WEEKDAY(AG$2,2)<6,1,"") -> 1 | AH9: =IF(WEEKDAY(AH$2,2)<6,1,"") -> 1 | AI9: =IF(WEEKDAY(AI$2,2)<6,1,"") -> 1 | AM9: =IF(IFERROR(HLOOKUP(9^9,OFFSET($H9,0,0,1,DAY(TODAY()-1)),1,1)=1,0),TEXT(INDEX(OFFSET($H$3,0,0,1,DAY(TODAY()-1)),MATCH(9^9,OFFSET($H9,0,0,1,DAY(TODAY()-1)),1)),"jj/mm/aaaa"),"Pas d'intervention") -> 15/02/2019 | AN9: =IF(SUM(H9:AI9)=0,"",SUM(H9:AI9)) -> 20 | AO9: =IF(SUM(COUNTIF(G9:AI9,"A")+(SUMIF(G9:AI9,"0,5")))=0,"",SUM(COUNTIF(G9:AI9,"A")+(SUMIF(G9:AI9,"0,5")))) | AP9: =IF(COUNTIF(H9:AI9,"B")=0,"",COUNTIF(H9:AI9,"B")) | AQ9: =IF(G9="o", COUNTIF(H9:AI9,"A"),"") -> 0 | AR9: =IF(COUNTIF(H9:AI9,"N")=0,"",COUNTIF(H9:AI9,"N")) | AS9: =IF(COUNTIF(H9:AI9,"G")=0,"",COUNTIF(H9:AI9,"G")) | AT9: =IF(COUNTIF(H9:AI9,"F")=0,"",COUNTIF(H9:AI9,"F"))
A10: 007 | B10: StéG MARSEILLES | C10: =LEFT(B10,FIND(" ",B10)-1) -> StéG | E10: TECH | F10: G | G10: o | H10: 1 | I10: =IF(WEEKDAY(I$2,2)<6,1,"") | J10: =IF(WEEKDAY(J$2,2)<6,1,"") | K10: B | L10: B | M10: B | N10: B | O10: B | P10: =IF(WEEKDAY(P$2,2)<6,1,"") | Q10: =IF(WEEKDAY(Q$2,2)<6,1,"") | R10: =IF(WEEKDAY(R$2,2)<6,1,"") -> 1 | S10: =IF(WEEKDAY(S$2,2)<6,1,"") -> 1 | T10: =IF(WEEKDAY(T$2,2)<6,1,"") -> 1 | U10: =IF(WEEKDAY(U$2,2)<6,1,"") -> 1 | V10: =IF(WEEKDAY(V$2,2)<6,1,"") -> 1 | W10: =IF(WEEKDAY(W$2,2)<6,1,"") | ... AE10: =IF(WEEKDAY(AE$2,2)<6,1,"") | AF10: 1 | AG10: =IF(WEEKDAY(AG$2,2)<6,1,"") -> 1 | AH10: =IF(WEEKDAY(AH$2,2)<6,1,"") -> 1 | AI10: =IF(WEEKDAY(AI$2,2)<6,1,"") -> 1 | AM10: =IF(IFERROR(HLOOKUP(9^9,OFFSET($H10,0,0,1,DAY(TODAY()-1)),1,1)=1,0),TEXT(INDEX(OFFSET($H$3,0,0,1,DAY(TODAY()-1)),MATCH(9^9,OFFSET($H10,0,0,1,DAY(TODAY()-1)),1)),"jj/mm/aaaa"),"Pas d'intervention") -> 15/02/2019 | AN10: =IF(SUM(H10:AI10)=0,"",SUM(H10:AI10)) -> 15 | AO10: =IF(SUM(COUNTIF(G10:AI10,"A")+(SUMIF(G10:AI10,"0,5")))=0,"",SUM(COUNTIF(G10:AI10,"A")+(SUMIF(G10:AI10,"0,5")))) | AP10: =IF(COUNTIF(H10:AI10,"B")=0,"",COUNTIF(H10:AI10,"B")) -> 5 | AQ10: =IF(G10="o", COUNTIF(H10:AI10,"A"),"") -> 0 | AR10: =IF(COUNTIF(H10:AI10,"N")=0,"",COUNTIF(H10:AI10,"N")) | AS10: =IF(COUNTIF(H10:AI10,"G")=0,"",COUNTIF(H10:AI10,"G")) | AT10: =IF(COUNTIF(H10:AI10,"F")=0,"",COUNTIF(H10:AI10,"F"))
A11: 008 | B11: StéH AIX en PROVENCE | C11: =LEFT(B11,FIND(" ",B11)-1) -> StéH | E11: TECH | F11: H | H11: 1 | J11: =IF(WEEKDAY(J$2,2)<6,1,"") | K11: =IF(WEEKDAY(K$2,2)<6,1,"") -> 1 | L11: =IF(WEEKDAY(L$2,2)<6,1,"") -> 1 | M11: =IF(WEEKDAY(M$2,2)<6,1,"") -> 1 | N11: =IF(WEEKDAY(N$2,2)<6,1,"") -> 1 | O11: =IF(WEEKDAY(O$2,2)<6,1,"") -> 1 | P11: =IF(WEEKDAY(P$2,2)<6,1,"") | Q11: =IF(WEEKDAY(Q$2,2)<6,1,"") | ... W11: =IF(WEEKDAY(W$2,2)<6,1,"") | Y11: 1 | Z11: =IF(WEEKDAY(Z$2,2)<6,1,"") -> 1 | AA11: =IF(WEEKDAY(AA$2,2)<6,1,"") -> 1 | AB11: 1 | AC11: 1 | AE11: 1 | AF11: 1 | AG11: =IF(WEEKDAY(AG$2,2)<6,1,"") -> 1 | AH11: =IF(WEEKDAY(AH$2,2)<6,1,"") -> 1 | AI11: 1 | AM11: =IF(IFERROR(HLOOKUP(9^9,OFFSET($H11,0,0,1,DAY(TODAY()-1)),1,1)=1,0),TEXT(INDEX(OFFSET($H$3,0,0,1,DAY(TODAY()-1)),MATCH(9^9,OFFSET($H11,0,0,1,DAY(TODAY()-1)),1)),"jj/mm/aaaa"),"Pas d'intervention") -> 15/02/2019 | AN11: =IF(SUM(H11:AI11)=0,"",SUM(H11:AI11)) -> 21 | AO11: =IF(SUM(COUNTIF(G11:AI11,"A")+(SUMIF(G11:AI11,"0,5")))=0,"",SUM(COUNTIF(G11:AI11,"A")+(SUMIF(G11:AI11,"0,5")))) | AP11: =IF(COUNTIF(H11:AI11,"B")=0,"",COUNTIF(H11:AI11,"B")) | AQ11: =IF(G11="o", COUNTIF(H11:AI11,"A"),"") | AR11: =IF(COUNTIF(H11:AI11,"N")=0,"",COUNTIF(H11:AI11,"N")) | AS11: =IF(COUNTIF(H11:AI11,"G")=0,"",COUNTIF(H11:AI11,"G")) | AT11: =IF(COUNTIF(H11:AI11,"F")=0,"",COUNTIF(H11:AI11,"F"))
A12: BACKUP | AN12: =IF(SUM(H12:AI12)=0,"",SUM(H12:AI12)) | AO12: =IF(SUM(COUNTIF(G12:AI12,"A")+(SUMIF(G12:AI12,"0,5")))=0,"",SUM(COUNTIF(G12:AI12,"A")+(SUMIF(G12:AI12,"0,5")))) | AP12: =IF(COUNTIF(H12:AI12,"B")=0,"",COUNTIF(H12:AI12,"B")) | AR12: =IF(COUNTIF(H12:AI12,"N")=0,"",COUNTIF(H12:AI12,"N")) | AS12: =IF(COUNTIF(H12:AI12,"G")=0,"",COUNTIF(H12:AI12,"G")) | AT12: =IF(COUNTIF(H12:AI12,"F")=0,"",COUNTIF(H12:AI12,"F"))
A13: 001 | B13: StéA NANTES | C13: =LEFT(B13,FIND(" ",B13)-1) -> StéA | E13: TECH | F13: X | AM13: =IF(IFERROR(HLOOKUP(9^9,OFFSET($H13,0,0,1,DAY(TODAY()-1)),1,1)=1,0),TEXT(INDEX(OFFSET($H$3,0,0,1,DAY(TODAY()-1)),MATCH(9^9,OFFSET($H13,0,0,1,DAY(TODAY()-1)),1)),"jj/mm/aaaa"),"Pas d'intervention") -> Pas d'intervention | AN13: =IF(SUM(H13:AI13)=0,"",SUM(H13:AI13)) | AO13: =IF(SUM(COUNTIF(G13:AI13,"A")+(SUMIF(G13:AI13,"0,5")))=0,"",SUM(COUNTIF(G13:AI13,"A")+(SUMIF(G13:AI13,"0,5")))) | AP13: =IF(COUNTIF(H13:AI13,"B")=0,"",COUNTIF(H13:AI13,"B")) | AR13: =IF(COUNTIF(H13:AI13,"N")=0,"",COUNTIF(H13:AI13,"N")) | AS13: =IF(COUNTIF(H13:AI13,"G")=0,"",COUNTIF(H13:AI13,"G")) | AT13: =IF(COUNTIF(H13:AI13,"F")=0,"",COUNTIF(H13:AI13,"F"))
