Workbook

Sheet Feuil1
D2: COMPTEUR (Heure)
D3: ENT250H | E3: ENT500H | F3: ENT750H | G3: ENT1000H | H3: ENT1250H | I3: ENT1500H | J3: ENT1750H | K3: ENT2000H
D4: 250 | E4: 500 | F4: 750 | G4: 1000 | H4: 1250 | I4: 1500 | J4: 1750 | K4: 2000
B5: ENGINS | C5: EX01 | D5: 123 | E5: 567 | F5: 432 | G5: 432 | H5: 654 | I5: 654 | J5: 654 | K5: 876
C6: EX02 | D6: 231 | E6: 567 | F6: 432 | G6: 432 | H6: 654 | I6: 654 | J6: 654 | K6: 876
C7: EX03 | D7: 231 | E7: 567 | F7: 432 | G7: 432 | H7: 654 | I7: 654 | J7: 654 | K7: 876
C8: EX04 | D8: 432 | E8: 432 | F8: 432 | G8: 432 | H8: 654 | I8: 908 | J8: 654 | K8: 876
C9: EX05 | D9: 432 | E9: 632 | F9: 432 | G9: 432 | H9: 654 | I9: 908 | J9: 654 | K9: 876
C10: EX06 | D10: 132 | E10: 632 | F10: 432 | G10: 432 | H10: 786 | I10: 876 | J10: 987 | K10: 876
C11: EX07 | D11: 432 | E11: 632 | F11: 432 | G11: 432 | H11: 786 | I11: 876 | J11: 987 | K11: 9807
C12: EX08 | D12: 321 | E12: 632 | F12: 432 | G12: 432 | H12: 786 | I12: 876 | J12: 987 | K12: 9807
C13: CH01 | D13: 321 | E13: 432 | F13: 432 | G13: 432 | H13: 876 | I13: 876 | J13: 987 | K13: 9807
C14: CH02 | D14: 321 | E14: 432 | F14: 432 | G14: 432 | H14: 876 | I14: 459 | J14: 876 | K14: 9807
C15: CH03 | D15: 654 | E15: 432 | F15: 432 | G15: 432 | H15: 876 | I15: 459 | J15: 876 | K15: 9807
C16: CH04 | D16: 213 | E16: 432 | F16: 432 | G16: 432 | H16: 876 | I16: 459 | J16: 876 | K16: 7865
C17: CH05 | D17: 654 | E17: 432 | F17: 432 | G17: 432 | H17: 876 | I17: 675 | J17: 876 | K17: 7865
... C21: GR01 | D21: 654 | E21: 432 | F21: 432 | G21: 765 | H21: 908 | I21: 7865 | J21: 9087 | K21: 7865
C22: GR02 | D22: 543 | E22: 432 | F22: 432 | G22: 876 | H22: 987 | I22: 7865 | J22: 9087 | K22: 7865 | R22: {=IFERROR(INDEX($C$5:$C$25,SMALL(IF((D$5:D$25>D$4)*ROW(D$5:D$25)>0,ROW(D$5:D$25),""),ROWS(D$4:D21))-4),"")} | S22: {=IFERROR(INDEX($C$5:$C$25,SMALL(IF((E$5:E$25>E$4)*ROW(E$5:E$25)>0,ROW(E$5:E$25),""),ROWS(E$4:E21))-4),"")} | T22: {=IFERROR(INDEX($C$5:$C$25,SMALL(IF((F$5:F$25>F$4)*ROW(F$5:F$25)>0,ROW(F$5:F$25),""),ROWS(F$4:F21))-4),"")} | U22: {=IFERROR(INDEX($C$5:$C$25,SMALL(IF((G$5:G$25>G$4)*ROW(G$5:G$25)>0,ROW(G$5:G$25),""),ROWS(G$4:G21))-4),"")} | V22: {=IFERROR(INDEX($C$5:$C$25,SMALL(IF((H$5:H$25>H$4)*ROW(H$5:H$25)>0,ROW(H$5:H$25),""),ROWS(H$4:H21))-4),"")} | W22: {=IFERROR(INDEX($C$5:$C$25,SMALL(IF((I$5:I$25>I$4)*ROW(I$5:I$25)>0,ROW(I$5:I$25),""),ROWS(I$4:I21))-4),"")} | X22: {=IFERROR(INDEX($C$5:$C$25,SMALL(IF((J$5:J$25>J$4)*ROW(J$5:J$25)>0,ROW(J$5:J$25),""),ROWS(J$4:J21))-4),"")} | Y22: {=IFERROR(INDEX($C$5:$C$25,SMALL(IF((K$5:K$25>K$4)*ROW(K$5:K$25)>0,ROW(K$5:K$25),""),ROWS(K$4:K21))-4),"")}
C23: GR03 | D23: 543 | E23: 567 | F23: 432 | G23: 876 | H23: 987 | I23: 7865 | J23: 9087 | K23: 7865 | R23: {=IFERROR(INDEX($C$5:$C$25,SMALL(IF((D$5:D$25>D$4)*ROW(D$5:D$25)>0,ROW(D$5:D$25),""),ROWS(D$4:D22))-4),"")} | S23: {=IFERROR(INDEX($C$5:$C$25,SMALL(IF((E$5:E$25>E$4)*ROW(E$5:E$25)>0,ROW(E$5:E$25),""),ROWS(E$4:E22))-4),"")} | T23: {=IFERROR(INDEX($C$5:$C$25,SMALL(IF((F$5:F$25>F$4)*ROW(F$5:F$25)>0,ROW(F$5:F$25),""),ROWS(F$4:F22))-4),"")} | U23: {=IFERROR(INDEX($C$5:$C$25,SMALL(IF((G$5:G$25>G$4)*ROW(G$5:G$25)>0,ROW(G$5:G$25),""),ROWS(G$4:G22))-4),"")} | V23: {=IFERROR(INDEX($C$5:$C$25,SMALL(IF((H$5:H$25>H$4)*ROW(H$5:H$25)>0,ROW(H$5:H$25),""),ROWS(H$4:H22))-4),"")} | W23: {=IFERROR(INDEX($C$5:$C$25,SMALL(IF((I$5:I$25>I$4)*ROW(I$5:I$25)>0,ROW(I$5:I$25),""),ROWS(I$4:I22))-4),"")} | X23: {=IFERROR(INDEX($C$5:$C$25,SMALL(IF((J$5:J$25>J$4)*ROW(J$5:J$25)>0,ROW(J$5:J$25),""),ROWS(J$4:J22))-4),"")} | Y23: {=IFERROR(INDEX($C$5:$C$25,SMALL(IF((K$5:K$25>K$4)*ROW(K$5:K$25)>0,ROW(K$5:K$25),""),ROWS(K$4:K22))-4),"")}
C24: GR04 | D24: 543 | E24: 432 | F24: 432 | G24: 876 | H24: 987 | I24: 7865 | J24: 9087 | K24: 7865 | R24: {=IFERROR(INDEX($C$5:$C$25,SMALL(IF((D$5:D$25>D$4)*ROW(D$5:D$25)>0,ROW(D$5:D$25),""),ROWS(D$4:D23))-4),"")} | S24: {=IFERROR(INDEX($C$5:$C$25,SMALL(IF((E$5:E$25>E$4)*ROW(E$5:E$25)>0,ROW(E$5:E$25),""),ROWS(E$4:E23))-4),"")} | T24: {=IFERROR(INDEX($C$5:$C$25,SMALL(IF((F$5:F$25>F$4)*ROW(F$5:F$25)>0,ROW(F$5:F$25),""),ROWS(F$4:F23))-4),"")} | U24: {=IFERROR(INDEX($C$5:$C$25,SMALL(IF((G$5:G$25>G$4)*ROW(G$5:G$25)>0,ROW(G$5:G$25),""),ROWS(G$4:G23))-4),"")} | V24: {=IFERROR(INDEX($C$5:$C$25,SMALL(IF((H$5:H$25>H$4)*ROW(H$5:H$25)>0,ROW(H$5:H$25),""),ROWS(H$4:H23))-4),"")} | W24: {=IFERROR(INDEX($C$5:$C$25,SMALL(IF((I$5:I$25>I$4)*ROW(I$5:I$25)>0,ROW(I$5:I$25),""),ROWS(I$4:I23))-4),"")} | X24: {=IFERROR(INDEX($C$5:$C$25,SMALL(IF((J$5:J$25>J$4)*ROW(J$5:J$25)>0,ROW(J$5:J$25),""),ROWS(J$4:J23))-4),"")} | Y24: {=IFERROR(INDEX($C$5:$C$25,SMALL(IF((K$5:K$25>K$4)*ROW(K$5:K$25)>0,ROW(K$5:K$25),""),ROWS(K$4:K23))-4),"")}
C25: GR05 | D25: 543 | E25: 432 | F25: 432 | G25: 876 | H25: 987 | I25: 7865 | J25: 9087 | K25: 7865 | R25: {=IFERROR(INDEX($C$5:$C$25,SMALL(IF((D$5:D$25>D$4)*ROW(D$5:D$25)>0,ROW(D$5:D$25),""),ROWS(D$4:D24))-4),"")} | S25: {=IFERROR(INDEX($C$5:$C$25,SMALL(IF((E$5:E$25>E$4)*ROW(E$5:E$25)>0,ROW(E$5:E$25),""),ROWS(E$4:E24))-4),"")} | T25: {=IFERROR(INDEX($C$5:$C$25,SMALL(IF((F$5:F$25>F$4)*ROW(F$5:F$25)>0,ROW(F$5:F$25),""),ROWS(F$4:F24))-4),"")} | U25: {=IFERROR(INDEX($C$5:$C$25,SMALL(IF((G$5:G$25>G$4)*ROW(G$5:G$25)>0,ROW(G$5:G$25),""),ROWS(G$4:G24))-4),"")} | V25: {=IFERROR(INDEX($C$5:$C$25,SMALL(IF((H$5:H$25>H$4)*ROW(H$5:H$25)>0,ROW(H$5:H$25),""),ROWS(H$4:H24))-4),"")} | W25: {=IFERROR(INDEX($C$5:$C$25,SMALL(IF((I$5:I$25>I$4)*ROW(I$5:I$25)>0,ROW(I$5:I$25),""),ROWS(I$4:I24))-4),"")} | X25: {=IFERROR(INDEX($C$5:$C$25,SMALL(IF((J$5:J$25>J$4)*ROW(J$5:J$25)>0,ROW(J$5:J$25),""),ROWS(J$4:J24))-4),"")} | Y25: {=IFERROR(INDEX($C$5:$C$25,SMALL(IF((K$5:K$25>K$4)*ROW(K$5:K$25)>0,ROW(K$5:K$25),""),ROWS(K$4:K24))-4),"")}
E34: 250H

Sheet Feuil2

Sheet Feuil3
A1: =Feuil1!D3 -> ENT250H | B1: =Feuil1!E3 -> ENT500H | C1: =Feuil1!F3 -> ENT750H | D1: =Feuil1!G3 -> ENT1000H | E1: =Feuil1!H3 -> ENT1250H | F1: =Feuil1!I3 -> ENT1500H | G1: =Feuil1!J3 -> ENT1750H | H1: =Feuil1!K3 -> ENT2000H
A3: {=IFERROR(INDEX(Feuil1!$C$5:$C$25,SMALL(IF((Feuil1!D$5:D$25>Feuil1!D$4)*ROW(Feuil1!D$5:D$25)>0,ROW(Feuil1!D$5:D$25),""),ROWS(Feuil1!D$4:D4))-4),"")} -> EX04 | B3: {=IFERROR(INDEX(Feuil1!$C$5:$C$25,SMALL(IF((Feuil1!E$5:E$25>Feuil1!E$4)*ROW(Feuil1!E$5:E$25)>0,ROW(Feuil1!E$5:E$25),""),ROWS(Feuil1!E$4:E4))-4),"")} -> EX01 | C3: {=IFERROR(INDEX(Feuil1!$C$5:$C$25,SMALL(IF((Feuil1!F$5:F$25>Feuil1!F$4)*ROW(Feuil1!F$5:F$25)>0,ROW(Feuil1!F$5:F$25),""),ROWS(Feuil1!F$4:F4))-4),"")} | D3: {=IFERROR(INDEX(Feuil1!$C$5:$C$25,SMALL(IF((Feuil1!G$5:G$25>Feuil1!G$4)*ROW(Feuil1!G$5:G$25)>0,ROW(Feuil1!G$5:G$25),""),ROWS(Feuil1!G$4:G4))-4),"")} | E3: {=IFERROR(INDEX(Feuil1!$C$5:$C$25,SMALL(IF((Feuil1!H$5:H$25>Feuil1!H$4)*ROW(Feuil1!H$5:H$25)>0,ROW(Feuil1!H$5:H$25),""),ROWS(Feuil1!H$4:H4))-4),"")} | F3: {=IFERROR(INDEX(Feuil1!$C$5:$C$25,SMALL(IF((Feuil1!I$5:I$25>Feuil1!I$4)*ROW(Feuil1!I$5:I$25)>0,ROW(Feuil1!I$5:I$25),""),ROWS(Feuil1!I$4:I4))-4),"")} -> CH06 | G3: {=IFERROR(INDEX(Feuil1!$C$5:$C$25,SMALL(IF((Feuil1!J$5:J$25>Feuil1!J$4)*ROW(Feuil1!J$5:J$25)>0,ROW(Feuil1!J$5:J$25),""),ROWS(Feuil1!J$4:J4))-4),"")} -> CH06 | H3: {=IFERROR(INDEX(Feuil1!$C$5:$C$25,SMALL(IF((Feuil1!K$5:K$25>Feuil1!K$4)*ROW(Feuil1!K$5:K$25)>0,ROW(Feuil1!K$5:K$25),""),ROWS(Feuil1!K$4:K4))-4),"")} -> EX07
A4: {=IFERROR(INDEX(Feuil1!$C$5:$C$25,SMALL(IF((Feuil1!D$5:D$25>Feuil1!D$4)*ROW(Feuil1!D$5:D$25)>0,ROW(Feuil1!D$5:D$25),""),ROWS(Feuil1!D$4:D5))-4),"")} -> EX05 | B4: {=IFERROR(INDEX(Feuil1!$C$5:$C$25,SMALL(IF((Feuil1!E$5:E$25>Feuil1!E$4)*ROW(Feuil1!E$5:E$25)>0,ROW(Feuil1!E$5:E$25),""),ROWS(Feuil1!E$4:E5))-4),"")} -> EX02 | C4: {=IFERROR(INDEX(Feuil1!$C$5:$C$25,SMALL(IF((Feuil1!F$5:F$25>Feuil1!F$4)*ROW(Feuil1!F$5:F$25)>0,ROW(Feuil1!F$5:F$25),""),ROWS(Feuil1!F$4:F5))-4),"")} | D4: {=IFERROR(INDEX(Feuil1!$C$5:$C$25,SMALL(IF((Feuil1!G$5:G$25>Feuil1!G$4)*ROW(Feuil1!G$5:G$25)>0,ROW(Feuil1!G$5:G$25),""),ROWS(Feuil1!G$4:G5))-4),"")} | E4: {=IFERROR(INDEX(Feuil1!$C$5:$C$25,SMALL(IF((Feuil1!H$5:H$25>Feuil1!H$4)*ROW(Feuil1!H$5:H$25)>0,ROW(Feuil1!H$5:H$25),""),ROWS(Feuil1!H$4:H5))-4),"")} | F4: {=IFERROR(INDEX(Feuil1!$C$5:$C$25,SMALL(IF((Feuil1!I$5:I$25>Feuil1!I$4)*ROW(Feuil1!I$5:I$25)>0,ROW(Feuil1!I$5:I$25),""),ROWS(Feuil1!I$4:I5))-4),"")} -> CH07 | G4: {=IFERROR(INDEX(Feuil1!$C$5:$C$25,SMALL(IF((Feuil1!J$5:J$25>Feuil1!J$4)*ROW(Feuil1!J$5:J$25)>0,ROW(Feuil1!J$5:J$25),""),ROWS(Feuil1!J$4:J5))-4),"")} -> CH07 | H4: {=IFERROR(INDEX(Feuil1!$C$5:$C$25,SMALL(IF((Feuil1!K$5:K$25>Feuil1!K$4)*ROW(Feuil1!K$5:K$25)>0,ROW(Feuil1!K$5:K$25),""),ROWS(Feuil1!K$4:K5))-4),"")} -> EX08
A5: {=IFERROR(INDEX(Feuil1!$C$5:$C$25,SMALL(IF((Feuil1!D$5:D$25>Feuil1!D$4)*ROW(Feuil1!D$5:D$25)>0,ROW(Feuil1!D$5:D$25),""),ROWS(Feuil1!D$4:D6))-4),"")} -> EX07 | B5: {=IFERROR(INDEX(Feuil1!$C$5:$C$25,SMALL(IF((Feuil1!E$5:E$25>Feuil1!E$4)*ROW(Feuil1!E$5:E$25)>0,ROW(Feuil1!E$5:E$25),""),ROWS(Feuil1!E$4:E6))-4),"")} -> EX03 | C5: {=IFERROR(INDEX(Feuil1!$C$5:$C$25,SMALL(IF((Feuil1!F$5:F$25>Feuil1!F$4)*ROW(Feuil1!F$5:F$25)>0,ROW(Feuil1!F$5:F$25),""),ROWS(Feuil1!F$4:F6))-4),"")} | D5: {=IFERROR(INDEX(Feuil1!$C$5:$C$25,SMALL(IF((Feuil1!G$5:G$25>Feuil1!G$4)*ROW(Feuil1!G$5:G$25)>0,ROW(Feuil1!G$5:G$25),""),ROWS(Feuil1!G$4:G6))-4),"")} | E5: {=IFERROR(INDEX(Feuil1!$C$5:$C$25,SMALL(IF((Feuil1!H$5:H$25>Feuil1!H$4)*ROW(Feuil1!H$5:H$25)>0,ROW(Feuil1!H$5:H$25),""),ROWS(Feuil1!H$4:H6))-4),"")} | F5: {=IFERROR(INDEX(Feuil1!$C$5:$C$25,SMALL(IF((Feuil1!I$5:I$25>Feuil1!I$4)*ROW(Feuil1!I$5:I$25)>0,ROW(Feuil1!I$5:I$25),""),ROWS(Feuil1!I$4:I6))-4),"")} -> CH08 | G5: {=IFERROR(INDEX(Feuil1!$C$5:$C$25,SMALL(IF((Feuil1!J$5:J$25>Feuil1!J$4)*ROW(Feuil1!J$5:J$25)>0,ROW(Feuil1!J$5:J$25),""),ROWS(Feuil1!J$4:J6))-4),"")} -> CH08 | H5: {=IFERROR(INDEX(Feuil1!$C$5:$C$25,SMALL(IF((Feuil1!K$5:K$25>Feuil1!K$4)*ROW(Feuil1!K$5:K$25)>0,ROW(Feuil1!K$5:K$25),""),ROWS(Feuil1!K$4:K6))-4),"")} -> CH01
A6: {=IFERROR(INDEX(Feuil1!$C$5:$C$25,SMALL(IF((Feuil1!D$5:D$25>Feuil1!D$4)*ROW(Feuil1!D$5:D$25)>0,ROW(Feuil1!D$5:D$25),""),ROWS(Feuil1!D$4:D7))-4),"")} -> EX08 | B6: {=IFERROR(INDEX(Feuil1!$C$5:$C$25,SMALL(IF((Feuil1!E$5:E$25>Feuil1!E$4)*ROW(Feuil1!E$5:E$25)>0,ROW(Feuil1!E$5:E$25),""),ROWS(Feuil1!E$4:E7))-4),"")} -> EX05 | C6: {=IFERROR(INDEX(Feuil1!$C$5:$C$25,SMALL(IF((Feuil1!F$5:F$25>Feuil1!F$4)*ROW(Feuil1!F$5:F$25)>0,ROW(Feuil1!F$5:F$25),""),ROWS(Feuil1!F$4:F7))-4),"")} | D6: {=IFERROR(INDEX(Feuil1!$C$5:$C$25,SMALL(IF((Feuil1!G$5:G$25>Feuil1!G$4)*ROW(Feuil1!G$5:G$25)>0,ROW(Feuil1!G$5:G$25),""),ROWS(Feuil1!G$4:G7))-4),"")} | E6: {=IFERROR(INDEX(Feuil1!$C$5:$C$25,SMALL(IF((Feuil1!H$5:H$25>Feuil1!H$4)*ROW(Feuil1!H$5:H$25)>0,ROW(Feuil1!H$5:H$25),""),ROWS(Feuil1!H$4:H7))-4),"")} | F6: {=IFERROR(INDEX(Feuil1!$C$5:$C$25,SMALL(IF((Feuil1!I$5:I$25>Feuil1!I$4)*ROW(Feuil1!I$5:I$25)>0,ROW(Feuil1!I$5:I$25),""),ROWS(Feuil1!I$4:I7))-4),"")} -> GR01 | G6: {=IFERROR(INDEX(Feuil1!$C$5:$C$25,SMALL(IF((Feuil1!J$5:J$25>Feuil1!J$4)*ROW(Feuil1!J$5:J$25)>0,ROW(Feuil1!J$5:J$25),""),ROWS(Feuil1!J$4:J7))-4),"")} -> GR01 | H6: {=IFERROR(INDEX(Feuil1!$C$5:$C$25,SMALL(IF((Feuil1!K$5:K$25>Feuil1!K$4)*ROW(Feuil1!K$5:K$25)>0,ROW(Feuil1!K$5:K$25),""),ROWS(Feuil1!K$4:K7))-4),"")} -> CH02
A7: {=IFERROR(INDEX(Feuil1!$C$5:$C$25,SMALL(IF((Feuil1!D$5:D$25>Feuil1!D$4)*ROW(Feuil1!D$5:D$25)>0,ROW(Feuil1!D$5:D$25),""),ROWS(Feuil1!D$4:D8))-4),"")} -> CH01 | B7: {=IFERROR(INDEX(Feuil1!$C$5:$C$25,SMALL(IF((Feuil1!E$5:E$25>Feuil1!E$4)*ROW(Feuil1!E$5:E$25)>0,ROW(Feuil1!E$5:E$25),""),ROWS(Feuil1!E$4:E8))-4),"")} -> EX06 | C7: {=IFERROR(INDEX(Feuil1!$C$5:$C$25,SMALL(IF((Feuil1!F$5:F$25>Feuil1!F$4)*ROW(Feuil1!F$5:F$25)>0,ROW(Feuil1!F$5:F$25),""),ROWS(Feuil1!F$4:F8))-4),"")} | D7: {=IFERROR(INDEX(Feuil1!$C$5:$C$25,SMALL(IF((Feuil1!G$5:G$25>Feuil1!G$4)*ROW(Feuil1!G$5:G$25)>0,ROW(Feuil1!G$5:G$25),""),ROWS(Feuil1!G$4:G8))-4),"")} | E7: {=IFERROR(INDEX(Feuil1!$C$5:$C$25,SMALL(IF((Feuil1!H$5:H$25>Feuil1!H$4)*ROW(Feuil1!H$5:H$25)>0,ROW(Feuil1!H$5:H$25),""),ROWS(Feuil1!H$4:H8))-4),"")} | F7: {=IFERROR(INDEX(Feuil1!$C$5:$C$25,SMALL(IF((Feuil1!I$5:I$25>Feuil1!I$4)*ROW(Feuil1!I$5:I$25)>0,ROW(Feuil1!I$5:I$25),""),ROWS(Feuil1!I$4:I8))-4),"")} -> GR02 | G7: {=IFERROR(INDEX(Feuil1!$C$5:$C$25,SMALL(IF((Feuil1!J$5:J$25>Feuil1!J$4)*ROW(Feuil1!J$5:J$25)>0,ROW(Feuil1!J$5:J$25),""),ROWS(Feuil1!J$4:J8))-4),"")} -> GR02 | H7: {=IFERROR(INDEX(Feuil1!$C$5:$C$25,SMALL(IF((Feuil1!K$5:K$25>Feuil1!K$4)*ROW(Feuil1!K$5:K$25)>0,ROW(Feuil1!K$5:K$25),""),ROWS(Feuil1!K$4:K8))-4),"")} -> CH03
A8: {=IFERROR(INDEX(Feuil1!$C$5:$C$25,SMALL(IF((Feuil1!D$5:D$25>Feuil1!D$4)*ROW(Feuil1!D$5:D$25)>0,ROW(Feuil1!D$5:D$25),""),ROWS(Feuil1!D$4:D9))-4),"")} -> CH02 | B8: {=IFERROR(INDEX(Feuil1!$C$5:$C$25,SMALL(IF((Feuil1!E$5:E$25>Feuil1!E$4)*ROW(Feuil1!E$5:E$25)>0,ROW(Feuil1!E$5:E$25),""),ROWS(Feuil1!E$4:E9))-4),"")} -> EX07 | C8: {=IFERROR(INDEX(Feuil1!$C$5:$C$25,SMALL(IF((Feuil1!F$5:F$25>Feuil1!F$4)*ROW(Feuil1!F$5:F$25)>0,ROW(Feuil1!F$5:F$25),""),ROWS(Feuil1!F$4:F9))-4),"")} | D8: {=IFERROR(INDEX(Feuil1!$C$5:$C$25,SMALL(IF((Feuil1!G$5:G$25>Feuil1!G$4)*ROW(Feuil1!G$5:G$25)>0,ROW(Feuil1!G$5:G$25),""),ROWS(Feuil1!G$4:G9))-4),"")} | E8: {=IFERROR(INDEX(Feuil1!$C$5:$C$25,SMALL(IF((Feuil1!H$5:H$25>Feuil1!H$4)*ROW(Feuil1!H$5:H$25)>0,ROW(Feuil1!H$5:H$25),""),ROWS(Feuil1!H$4:H9))-4),"")} | F8: {=IFERROR(INDEX(Feuil1!$C$5:$C$25,SMALL(IF((Feuil1!I$5:I$25>Feuil1!I$4)*ROW(Feuil1!I$5:I$25)>0,ROW(Feuil1!I$5:I$25),""),ROWS(Feuil1!I$4:I9))-4),"")} -> GR03 | G8: {=IFERROR(INDEX(Feuil1!$C$5:$C$25,SMALL(IF((Feuil1!J$5:J$25>Feuil1!J$4)*ROW(Feuil1!J$5:J$25)>0,ROW(Feuil1!J$5:J$25),""),ROWS(Feuil1!J$4:J9))-4),"")} -> GR03 | H8: {=IFERROR(INDEX(Feuil1!$C$5:$C$25,SMALL(IF((Feuil1!K$5:K$25>Feuil1!K$4)*ROW(Feuil1!K$5:K$25)>0,ROW(Feuil1!K$5:K$25),""),ROWS(Feuil1!K$4:K9))-4),"")} -> CH04
A9: {=IFERROR(INDEX(Feuil1!$C$5:$C$25,SMALL(IF((Feuil1!D$5:D$25>Feuil1!D$4)*ROW(Feuil1!D$5:D$25)>0,ROW(Feuil1!D$5:D$25),""),ROWS(Feuil1!D$4:D10))-4),"")} -> CH03 | B9: {=IFERROR(INDEX(Feuil1!$C$5:$C$25,SMALL(IF((Feuil1!E$5:E$25>Feuil1!E$4)*ROW(Feuil1!E$5:E$25)>0,ROW(Feuil1!E$5:E$25),""),ROWS(Feuil1!E$4:E10))-4),"")} -> EX08 | C9: {=IFERROR(INDEX(Feuil1!$C$5:$C$25,SMALL(IF((Feuil1!F$5:F$25>Feuil1!F$4)*ROW(Feuil1!F$5:F$25)>0,ROW(Feuil1!F$5:F$25),""),ROWS(Feuil1!F$4:F10))-4),"")} | D9: {=IFERROR(INDEX(Feuil1!$C$5:$C$25,SMALL(IF((Feuil1!G$5:G$25>Feuil1!G$4)*ROW(Feuil1!G$5:G$25)>0,ROW(Feuil1!G$5:G$25),""),ROWS(Feuil1!G$4:G10))-4),"")} | E9: {=IFERROR(INDEX(Feuil1!$C$5:$C$25,SMALL(IF((Feuil1!H$5:H$25>Feuil1!H$4)*ROW(Feuil1!H$5:H$25)>0,ROW(Feuil1!H$5:H$25),""),ROWS(Feuil1!H$4:H10))-4),"")} | F9: {=IFERROR(INDEX(Feuil1!$C$5:$C$25,SMALL(IF((Feuil1!I$5:I$25>Feuil1!I$4)*ROW(Feuil1!I$5:I$25)>0,ROW(Feuil1!I$5:I$25),""),ROWS(Feuil1!I$4:I10))-4),"")} -> GR04 | G9: {=IFERROR(INDEX(Feuil1!$C$5:$C$25,SMALL(IF((Feuil1!J$5:J$25>Feuil1!J$4)*ROW(Feuil1!J$5:J$25)>0,ROW(Feuil1!J$5:J$25),""),ROWS(Feuil1!J$4:J10))-4),"")} -> GR04 | H9: {=IFERROR(INDEX(Feuil1!$C$5:$C$25,SMALL(IF((Feuil1!K$5:K$25>Feuil1!K$4)*ROW(Feuil1!K$5:K$25)>0,ROW(Feuil1!K$5:K$25),""),ROWS(Feuil1!K$4:K10))-4),"")} -> CH05
A10: {=IFERROR(INDEX(Feuil1!$C$5:$C$25,SMALL(IF((Feuil1!D$5:D$25>Feuil1!D$4)*ROW(Feuil1!D$5:D$25)>0,ROW(Feuil1!D$5:D$25),""),ROWS(Feuil1!D$4:D11))-4),"")} -> CH05 | B10: {=IFERROR(INDEX(Feuil1!$C$5:$C$25,SMALL(IF((Feuil1!E$5:E$25>Feuil1!E$4)*ROW(Feuil1!E$5:E$25)>0,ROW(Feuil1!E$5:E$25),""),ROWS(Feuil1!E$4:E11))-4),"")} -> CH06 | C10: {=IFERROR(INDEX(Feuil1!$C$5:$C$25,SMALL(IF((Feuil1!F$5:F$25>Feuil1!F$4)*ROW(Feuil1!F$5:F$25)>0,ROW(Feuil1!F$5:F$25),""),ROWS(Feuil1!F$4:F11))-4),"")} | D10: {=IFERROR(INDEX(Feuil1!$C$5:$C$25,SMALL(IF((Feuil1!G$5:G$25>Feuil1!G$4)*ROW(Feuil1!G$5:G$25)>0,ROW(Feuil1!G$5:G$25),""),ROWS(Feuil1!G$4:G11))-4),"")} | E10: {=IFERROR(INDEX(Feuil1!$C$5:$C$25,SMALL(IF((Feuil1!H$5:H$25>Feuil1!H$4)*ROW(Feuil1!H$5:H$25)>0,ROW(Feuil1!H$5:H$25),""),ROWS(Feuil1!H$4:H11))-4),"")} | F10: {=IFERROR(INDEX(Feuil1!$C$5:$C$25,SMALL(IF((Feuil1!I$5:I$25>Feuil1!I$4)*ROW(Feuil1!I$5:I$25)>0,ROW(Feuil1!I$5:I$25),""),ROWS(Feuil1!I$4:I11))-4),"")} -> GR05 | G10: {=IFERROR(INDEX(Feuil1!$C$5:$C$25,SMALL(IF((Feuil1!J$5:J$25>Feuil1!J$4)*ROW(Feuil1!J$5:J$25)>0,ROW(Feuil1!J$5:J$25),""),ROWS(Feuil1!J$4:J11))-4),"")} -> GR05 | H10: {=IFERROR(INDEX(Feuil1!$C$5:$C$25,SMALL(IF((Feuil1!K$5:K$25>Feuil1!K$4)*ROW(Feuil1!K$5:K$25)>0,ROW(Feuil1!K$5:K$25),""),ROWS(Feuil1!K$4:K11))-4),"")} -> CH06
A11: {=IFERROR(INDEX(Feuil1!$C$5:$C$25,SMALL(IF((Feuil1!D$5:D$25>Feuil1!D$4)*ROW(Feuil1!D$5:D$25)>0,ROW(Feuil1!D$5:D$25),""),ROWS(Feuil1!D$4:D12))-4),"")} -> CH06 | B11: {=IFERROR(INDEX(Feuil1!$C$5:$C$25,SMALL(IF((Feuil1!E$5:E$25>Feuil1!E$4)*ROW(Feuil1!E$5:E$25)>0,ROW(Feuil1!E$5:E$25),""),ROWS(Feuil1!E$4:E12))-4),"")} -> CH07 | C11: {=IFERROR(INDEX(Feuil1!$C$5:$C$25,SMALL(IF((Feuil1!F$5:F$25>Feuil1!F$4)*ROW(Feuil1!F$5:F$25)>0,ROW(Feuil1!F$5:F$25),""),ROWS(Feuil1!F$4:F12))-4),"")} | D11: {=IFERROR(INDEX(Feuil1!$C$5:$C$25,SMALL(IF((Feuil1!G$5:G$25>Feuil1!G$4)*ROW(Feuil1!G$5:G$25)>0,ROW(Feuil1!G$5:G$25),""),ROWS(Feuil1!G$4:G12))-4),"")} | E11: {=IFERROR(INDEX(Feuil1!$C$5:$C$25,SMALL(IF((Feuil1!H$5:H$25>Feuil1!H$4)*ROW(Feuil1!H$5:H$25)>0,ROW(Feuil1!H$5:H$25),""),ROWS(Feuil1!H$4:H12))-4),"")} | F11: {=IFERROR(INDEX(Feuil1!$C$5:$C$25,SMALL(IF((Feuil1!I$5:I$25>Feuil1!I$4)*ROW(Feuil1!I$5:I$25)>0,ROW(Feuil1!I$5:I$25),""),ROWS(Feuil1!I$4:I12))-4),"")} | G11: {=IFERROR(INDEX(Feuil1!$C$5:$C$25,SMALL(IF((Feuil1!J$5:J$25>Feuil1!J$4)*ROW(Feuil1!J$5:J$25)>0,ROW(Feuil1!J$5:J$25),""),ROWS(Feuil1!J$4:J12))-4),"")} | H11: {=IFERROR(INDEX(Feuil1!$C$5:$C$25,SMALL(IF((Feuil1!K$5:K$25>Feuil1!K$4)*ROW(Feuil1!K$5:K$25)>0,ROW(Feuil1!K$5:K$25),""),ROWS(Feuil1!K$4:K12))-4),"")} -> CH07
A12: {=IFERROR(INDEX(Feuil1!$C$5:$C$25,SMALL(IF((Feuil1!D$5:D$25>Feuil1!D$4)*ROW(Feuil1!D$5:D$25)>0,ROW(Feuil1!D$5:D$25),""),ROWS(Feuil1!D$4:D13))-4),"")} -> CH08 | B12: {=IFERROR(INDEX(Feuil1!$C$5:$C$25,SMALL(IF((Feuil1!E$5:E$25>Feuil1!E$4)*ROW(Feuil1!E$5:E$25)>0,ROW(Feuil1!E$5:E$25),""),ROWS(Feuil1!E$4:E13))-4),"")} -> CH08 | C12: {=IFERROR(INDEX(Feuil1!$C$5:$C$25,SMALL(IF((Feuil1!F$5:F$25>Feuil1!F$4)*ROW(Feuil1!F$5:F$25)>0,ROW(Feuil1!F$5:F$25),""),ROWS(Feuil1!F$4:F13))-4),"")} | D12: {=IFERROR(INDEX(Feuil1!$C$5:$C$25,SMALL(IF((Feuil1!G$5:G$25>Feuil1!G$4)*ROW(Feuil1!G$5:G$25)>0,ROW(Feuil1!G$5:G$25),""),ROWS(Feuil1!G$4:G13))-4),"")} | E12: {=IFERROR(INDEX(Feuil1!$C$5:$C$25,SMALL(IF((Feuil1!H$5:H$25>Feuil1!H$4)*ROW(Feuil1!H$5:H$25)>0,ROW(Feuil1!H$5:H$25),""),ROWS(Feuil1!H$4:H13))-4),"")} | F12: {=IFERROR(INDEX(Feuil1!$C$5:$C$25,SMALL(IF((Feuil1!I$5:I$25>Feuil1!I$4)*ROW(Feuil1!I$5:I$25)>0,ROW(Feuil1!I$5:I$25),""),ROWS(Feuil1!I$4:I13))-4),"")} | G12: {=IFERROR(INDEX(Feuil1!$C$5:$C$25,SMALL(IF((Feuil1!J$5:J$25>Feuil1!J$4)*ROW(Feuil1!J$5:J$25)>0,ROW(Feuil1!J$5:J$25),""),ROWS(Feuil1!J$4:J13))-4),"")} | H12: {=IFERROR(INDEX(Feuil1!$C$5:$C$25,SMALL(IF((Feuil1!K$5:K$25>Feuil1!K$4)*ROW(Feuil1!K$5:K$25)>0,ROW(Feuil1!K$5:K$25),""),ROWS(Feuil1!K$4:K13))-4),"")} -> CH08
A13: {=IFERROR(INDEX(Feuil1!$C$5:$C$25,SMALL(IF((Feuil1!D$5:D$25>Feuil1!D$4)*ROW(Feuil1!D$5:D$25)>0,ROW(Feuil1!D$5:D$25),""),ROWS(Feuil1!D$4:D14))-4),"")} -> GR01 | B13: {=IFERROR(INDEX(Feuil1!$C$5:$C$25,SMALL(IF((Feuil1!E$5:E$25>Feuil1!E$4)*ROW(Feuil1!E$5:E$25)>0,ROW(Feuil1!E$5:E$25),""),ROWS(Feuil1!E$4:E14))-4),"")} -> GR03 | C13: {=IFERROR(INDEX(Feuil1!$C$5:$C$25,SMALL(IF((Feuil1!F$5:F$25>Feuil1!F$4)*ROW(Feuil1!F$5:F$25)>0,ROW(Feuil1!F$5:F$25),""),ROWS(Feuil1!F$4:F14))-4),"")} | D13: {=IFERROR(INDEX(Feuil1!$C$5:$C$25,SMALL(IF((Feuil1!G$5:G$25>Feuil1!G$4)*ROW(Feuil1!G$5:G$25)>0,ROW(Feuil1!G$5:G$25),""),ROWS(Feuil1!G$4:G14))-4),"")} | E13: {=IFERROR(INDEX(Feuil1!$C$5:$C$25,SMALL(IF((Feuil1!H$5:H$25>Feuil1!H$4)*ROW(Feuil1!H$5:H$25)>0,ROW(Feuil1!H$5:H$25),""),ROWS(Feuil1!H$4:H14))-4),"")} | F13: {=IFERROR(INDEX(Feuil1!$C$5:$C$25,SMALL(IF((Feuil1!I$5:I$25>Feuil1!I$4)*ROW(Feuil1!I$5:I$25)>0,ROW(Feuil1!I$5:I$25),""),ROWS(Feuil1!I$4:I14))-4),"")} | G13: {=IFERROR(INDEX(Feuil1!$C$5:$C$25,SMALL(IF((Feuil1!J$5:J$25>Feuil1!J$4)*ROW(Feuil1!J$5:J$25)>0,ROW(Feuil1!J$5:J$25),""),ROWS(Feuil1!J$4:J14))-4),"")} | H13: {=IFERROR(INDEX(Feuil1!$C$5:$C$25,SMALL(IF((Feuil1!K$5:K$25>Feuil1!K$4)*ROW(Feuil1!K$5:K$25)>0,ROW(Feuil1!K$5:K$25),""),ROWS(Feuil1!K$4:K14))-4),"")} -> GR01
A14: {=IFERROR(INDEX(Feuil1!$C$5:$C$25,SMALL(IF((Feuil1!D$5:D$25>Feuil1!D$4)*ROW(Feuil1!D$5:D$25)>0,ROW(Feuil1!D$5:D$25),""),ROWS(Feuil1!D$4:D15))-4),"")} -> GR02 | B14: {=IFERROR(INDEX(Feuil1!$C$5:$C$25,SMALL(IF((Feuil1!E$5:E$25>Feuil1!E$4)*ROW(Feuil1!E$5:E$25)>0,ROW(Feuil1!E$5:E$25),""),ROWS(Feuil1!E$4:E15))-4),"")} | C14: {=IFERROR(INDEX(Feuil1!$C$5:$C$25,SMALL(IF((Feuil1!F$5:F$25>Feuil1!F$4)*ROW(Feuil1!F$5:F$25)>0,ROW(Feuil1!F$5:F$25),""),ROWS(Feuil1!F$4:F15))-4),"")} | D14: {=IFERROR(INDEX(Feuil1!$C$5:$C$25,SMALL(IF((Feuil1!G$5:G$25>Feuil1!G$4)*ROW(Feuil1!G$5:G$25)>0,ROW(Feuil1!G$5:G$25),""),ROWS(Feuil1!G$4:G15))-4),"")} | E14: {=IFERROR(INDEX(Feuil1!$C$5:$C$25,SMALL(IF((Feuil1!H$5:H$25>Feuil1!H$4)*ROW(Feuil1!H$5:H$25)>0,ROW(Feuil1!H$5:H$25),""),ROWS(Feuil1!H$4:H15))-4),"")} | F14: {=IFERROR(INDEX(Feuil1!$C$5:$C$25,SMALL(IF((Feuil1!I$5:I$25>Feuil1!I$4)*ROW(Feuil1!I$5:I$25)>0,ROW(Feuil1!I$5:I$25),""),ROWS(Feuil1!I$4:I15))-4),"")} | G14: {=IFERROR(INDEX(Feuil1!$C$5:$C$25,SMALL(IF((Feuil1!J$5:J$25>Feuil1!J$4)*ROW(Feuil1!J$5:J$25)>0,ROW(Feuil1!J$5:J$25),""),ROWS(Feuil1!J$4:J15))-4),"")} | H14: {=IFERROR(INDEX(Feuil1!$C$5:$C$25,SMALL(IF((Feuil1!K$5:K$25>Feuil1!K$4)*ROW(Feuil1!K$5:K$25)>0,ROW(Feuil1!K$5:K$25),""),ROWS(Feuil1!K$4:K15))-4),"")} -> GR02
... A23: {=IFERROR(INDEX(Feuil1!$C$5:$C$25,SMALL(IF((Feuil1!D$5:D$25>Feuil1!D$4)*ROW(Feuil1!D$5:D$25)>0,ROW(Feuil1!D$5:D$25),""),ROWS(Feuil1!D$4:D24))-4),"")} | B23: {=IFERROR(INDEX(Feuil1!$C$5:$C$25,SMALL(IF((Feuil1!E$5:E$25>Feuil1!E$4)*ROW(Feuil1!E$5:E$25)>0,ROW(Feuil1!E$5:E$25),""),ROWS(Feuil1!E$4:E24))-4),"")} | C23: {=IFERROR(INDEX(Feuil1!$C$5:$C$25,SMALL(IF((Feuil1!F$5:F$25>Feuil1!F$4)*ROW(Feuil1!F$5:F$25)>0,ROW(Feuil1!F$5:F$25),""),ROWS(Feuil1!F$4:F24))-4),"")} | D23: {=IFERROR(INDEX(Feuil1!$C$5:$C$25,SMALL(IF((Feuil1!G$5:G$25>Feuil1!G$4)*ROW(Feuil1!G$5:G$25)>0,ROW(Feuil1!G$5:G$25),""),ROWS(Feuil1!G$4:G24))-4),"")} | E23: {=IFERROR(INDEX(Feuil1!$C$5:$C$25,SMALL(IF((Feuil1!H$5:H$25>Feuil1!H$4)*ROW(Feuil1!H$5:H$25)>0,ROW(Feuil1!H$5:H$25),""),ROWS(Feuil1!H$4:H24))-4),"")} | F23: {=IFERROR(INDEX(Feuil1!$C$5:$C$25,SMALL(IF((Feuil1!I$5:I$25>Feuil1!I$4)*ROW(Feuil1!I$5:I$25)>0,ROW(Feuil1!I$5:I$25),""),ROWS(Feuil1!I$4:I24))-4),"")} | G23: {=IFERROR(INDEX(Feuil1!$C$5:$C$25,SMALL(IF((Feuil1!J$5:J$25>Feuil1!J$4)*ROW(Feuil1!J$5:J$25)>0,ROW(Feuil1!J$5:J$25),""),ROWS(Feuil1!J$4:J24))-4),"")} | H23: {=IFERROR(INDEX(Feuil1!$C$5:$C$25,SMALL(IF((Feuil1!K$5:K$25>Feuil1!K$4)*ROW(Feuil1!K$5:K$25)>0,ROW(Feuil1!K$5:K$25),""),ROWS(Feuil1!K$4:K24))-4),"")}
