Workbook
Name ListeUnique: OFFSET(Feuil1!$M$5,,,COUNTIF(Feuil1!$M:$M,"><"))

Sheet Feuil1
O3: Bonjour,
A4: Nom | B4: Résultat | C4: Valeur | G4: Résultat attendu dans une nouvelle feuille
A5: Alex | B5: Rue de la liberté | C5: 37 | G5: Alex | H5: Rue de la liberté | I5: 37 | M5: {=INDEX(A5:A15,MATCH(0,COUNTIF($A$4:A4,A5:A15),0))} -> Alex | N5: <== | O5: • Liste sans doublons pouvant être cachée (couleur de la police en blanc, format personnalisé (;;;) ou masquage de colonne)
A6: Daphnée | B6: Avenue de la république | C6: 2 | G6: Alex | H6: Rue de la liberté | I6: 82 | M6: {=INDEX(A6:A16,MATCH(0,COUNTIF($A$4:A5,A6:A16),0))} -> Daphnée
A7: Serge | B7: Impasse Xavier | C7: 18 | G7: Alex | H7: Rue de la liberté | I7: 49 | M7: {=INDEX(A7:A17,MATCH(0,COUNTIF($A$4:A6,A7:A17),0))} -> Serge | O7: • Dans les feuilles ajoutées une formule matricielle (validée par CTRL+SHIFT+ENTER si vous entrez dans la barre de formule)
A8: Naos | B8: Rue du chien errant | C8: 45 | M8: {=INDEX(A8:A18,MATCH(0,COUNTIF($A$4:A7,A8:A18),0))} -> Naos | O8: permet de récupérer les données suivant un choix effectué dans la liste déroulante unique en A1.
A9: Daphnée | B9: Avenue de la république | C9: 119 | M9: {=INDEX(A9:A19,MATCH(0,COUNTIF($A$4:A8,A9:A19),0))} -> 0
A10: Naos | B10: Rue du chien errant | C10: 16 | M10: {=INDEX(A10:A20,MATCH(0,COUNTIF($A$4:A9,A10:A20),0))} -> 0 | O10: AL 22
A11: Daphnée | B11: Avenue de la république | C11: 8 | G11: Résultat attendu dans une nouvelle feuille 2 | M11: {=INDEX(A11:A21,MATCH(0,COUNTIF($A$4:A10,A11:A21),0))} -> 0
A12: Alex | B12: Rue de la liberté | C12: 82 | G12: Daphnée | H12: Avenue de la république | I12: 2 | M12: {=INDEX(A12:A22,MATCH(0,COUNTIF($A$4:A11,A12:A22),0))} -> 0
A13: Alex | B13: Rue de la liberté | C13: 49 | G13: Daphnée | H13: Avenue de la république | I13: 119 | M13: {=INDEX(A13:A23,MATCH(0,COUNTIF($A$4:A12,A13:A23),0))} -> 0
A14: Serge | B14: Impasse Xavier | C14: 102 | G14: Daphnée | H14: Avenue de la république | I14: 8 | M14: {=INDEX(A14:A24,MATCH(0,COUNTIF($A$4:A13,A14:A24),0))} -> 0
A15: Naos | B15: Rue du chien errant | C15: 74 | M15: {=INDEX(A15:A25,MATCH(0,COUNTIF($A$4:A14,A15:A25),0))} -> 0

Sheet Feuil2
A1: Alex | B1: {=IFERROR(INDEX(Feuil1!$A$5:$A$15,SMALL(IF(Feuil1!$A$5:$A$15=$A$1,ROW(Feuil1!$A$5:$A$15),""),ROWS(Feuil1!$O$3:O3))-4),"")} -> Alex | C1: {=IFERROR(INDEX(Feuil1!$B$5:$B$15,SMALL(IF(Feuil1!$A$5:$A$15=$A$1,ROW(Feuil1!$B$5:$B$15),""),ROWS(Feuil1!$O$3:O3))-4),"")} -> Rue de la liberté | D1: {=IFERROR(INDEX(Feuil1!$C$5:$C$15,SMALL(IF(Feuil1!$A$5:$A$15=$A$1,ROW(Feuil1!$C$5:$C$15),""),ROWS(Feuil1!$O$3:O3))-4),"")} -> 37
B2: {=IFERROR(INDEX(Feuil1!$A$5:$A$15,SMALL(IF(Feuil1!$A$5:$A$15=$A$1,ROW(Feuil1!$A$5:$A$15),""),ROWS(Feuil1!$O$3:O4))-4),"")} -> Alex | C2: {=IFERROR(INDEX(Feuil1!$B$5:$B$15,SMALL(IF(Feuil1!$A$5:$A$15=$A$1,ROW(Feuil1!$B$5:$B$15),""),ROWS(Feuil1!$O$3:O4))-4),"")} -> Rue de la liberté | D2: {=IFERROR(INDEX(Feuil1!$C$5:$C$15,SMALL(IF(Feuil1!$A$5:$A$15=$A$1,ROW(Feuil1!$C$5:$C$15),""),ROWS(Feuil1!$O$3:O4))-4),"")} -> 82
B3: {=IFERROR(INDEX(Feuil1!$A$5:$A$15,SMALL(IF(Feuil1!$A$5:$A$15=$A$1,ROW(Feuil1!$A$5:$A$15),""),ROWS(Feuil1!$O$3:O5))-4),"")} -> Alex | C3: {=IFERROR(INDEX(Feuil1!$B$5:$B$15,SMALL(IF(Feuil1!$A$5:$A$15=$A$1,ROW(Feuil1!$B$5:$B$15),""),ROWS(Feuil1!$O$3:O5))-4),"")} -> Rue de la liberté | D3: {=IFERROR(INDEX(Feuil1!$C$5:$C$15,SMALL(IF(Feuil1!$A$5:$A$15=$A$1,ROW(Feuil1!$C$5:$C$15),""),ROWS(Feuil1!$O$3:O5))-4),"")} -> 49
B4: {=IFERROR(INDEX(Feuil1!$A$5:$A$15,SMALL(IF(Feuil1!$A$5:$A$15=$A$1,ROW(Feuil1!$A$5:$A$15),""),ROWS(Feuil1!$O$3:O6))-4),"")} | C4: {=IFERROR(INDEX(Feuil1!$B$5:$B$15,SMALL(IF(Feuil1!$A$5:$A$15=$A$1,ROW(Feuil1!$B$5:$B$15),""),ROWS(Feuil1!$O$3:O6))-4),"")} | D4: {=IFERROR(INDEX(Feuil1!$C$5:$C$15,SMALL(IF(Feuil1!$A$5:$A$15=$A$1,ROW(Feuil1!$C$5:$C$15),""),ROWS(Feuil1!$O$3:O6))-4),"")}
B5: {=IFERROR(INDEX(Feuil1!$A$5:$A$15,SMALL(IF(Feuil1!$A$5:$A$15=$A$1,ROW(Feuil1!$A$5:$A$15),""),ROWS(Feuil1!$O$3:O7))-4),"")} | C5: {=IFERROR(INDEX(Feuil1!$B$5:$B$15,SMALL(IF(Feuil1!$A$5:$A$15=$A$1,ROW(Feuil1!$B$5:$B$15),""),ROWS(Feuil1!$O$3:O7))-4),"")} | D5: {=IFERROR(INDEX(Feuil1!$C$5:$C$15,SMALL(IF(Feuil1!$A$5:$A$15=$A$1,ROW(Feuil1!$C$5:$C$15),""),ROWS(Feuil1!$O$3:O7))-4),"")}
B6: {=IFERROR(INDEX(Feuil1!$A$5:$A$15,SMALL(IF(Feuil1!$A$5:$A$15=$A$1,ROW(Feuil1!$A$5:$A$15),""),ROWS(Feuil1!$O$3:O8))-4),"")} | C6: {=IFERROR(INDEX(Feuil1!$B$5:$B$15,SMALL(IF(Feuil1!$A$5:$A$15=$A$1,ROW(Feuil1!$B$5:$B$15),""),ROWS(Feuil1!$O$3:O8))-4),"")} | D6: {=IFERROR(INDEX(Feuil1!$C$5:$C$15,SMALL(IF(Feuil1!$A$5:$A$15=$A$1,ROW(Feuil1!$C$5:$C$15),""),ROWS(Feuil1!$O$3:O8))-4),"")}
B7: {=IFERROR(INDEX(Feuil1!$A$5:$A$15,SMALL(IF(Feuil1!$A$5:$A$15=$A$1,ROW(Feuil1!$A$5:$A$15),""),ROWS(Feuil1!$O$3:O9))-4),"")} | C7: {=IFERROR(INDEX(Feuil1!$B$5:$B$15,SMALL(IF(Feuil1!$A$5:$A$15=$A$1,ROW(Feuil1!$B$5:$B$15),""),ROWS(Feuil1!$O$3:O9))-4),"")} | D7: {=IFERROR(INDEX(Feuil1!$C$5:$C$15,SMALL(IF(Feuil1!$A$5:$A$15=$A$1,ROW(Feuil1!$C$5:$C$15),""),ROWS(Feuil1!$O$3:O9))-4),"")}
B8: {=IFERROR(INDEX(Feuil1!$A$5:$A$15,SMALL(IF(Feuil1!$A$5:$A$15=$A$1,ROW(Feuil1!$A$5:$A$15),""),ROWS(Feuil1!$O$3:O10))-4),"")} | C8: {=IFERROR(INDEX(Feuil1!$B$5:$B$15,SMALL(IF(Feuil1!$A$5:$A$15=$A$1,ROW(Feuil1!$B$5:$B$15),""),ROWS(Feuil1!$O$3:O10))-4),"")} | D8: {=IFERROR(INDEX(Feuil1!$C$5:$C$15,SMALL(IF(Feuil1!$A$5:$A$15=$A$1,ROW(Feuil1!$C$5:$C$15),""),ROWS(Feuil1!$O$3:O10))-4),"")}
B9: {=IFERROR(INDEX(Feuil1!$A$5:$A$15,SMALL(IF(Feuil1!$A$5:$A$15=$A$1,ROW(Feuil1!$A$5:$A$15),""),ROWS(Feuil1!$O$3:O11))-4),"")} | C9: {=IFERROR(INDEX(Feuil1!$B$5:$B$15,SMALL(IF(Feuil1!$A$5:$A$15=$A$1,ROW(Feuil1!$B$5:$B$15),""),ROWS(Feuil1!$O$3:O11))-4),"")} | D9: {=IFERROR(INDEX(Feuil1!$C$5:$C$15,SMALL(IF(Feuil1!$A$5:$A$15=$A$1,ROW(Feuil1!$C$5:$C$15),""),ROWS(Feuil1!$O$3:O11))-4),"")}
B10: {=IFERROR(INDEX(Feuil1!$A$5:$A$15,SMALL(IF(Feuil1!$A$5:$A$15=$A$1,ROW(Feuil1!$A$5:$A$15),""),ROWS(Feuil1!$O$3:O12))-4),"")} | C10: {=IFERROR(INDEX(Feuil1!$B$5:$B$15,SMALL(IF(Feuil1!$A$5:$A$15=$A$1,ROW(Feuil1!$B$5:$B$15),""),ROWS(Feuil1!$O$3:O12))-4),"")} | D10: {=IFERROR(INDEX(Feuil1!$C$5:$C$15,SMALL(IF(Feuil1!$A$5:$A$15=$A$1,ROW(Feuil1!$C$5:$C$15),""),ROWS(Feuil1!$O$3:O12))-4),"")}
B11: {=IFERROR(INDEX(Feuil1!$A$5:$A$15,SMALL(IF(Feuil1!$A$5:$A$15=$A$1,ROW(Feuil1!$A$5:$A$15),""),ROWS(Feuil1!$O$3:O13))-4),"")} | C11: {=IFERROR(INDEX(Feuil1!$B$5:$B$15,SMALL(IF(Feuil1!$A$5:$A$15=$A$1,ROW(Feuil1!$B$5:$B$15),""),ROWS(Feuil1!$O$3:O13))-4),"")} | D11: {=IFERROR(INDEX(Feuil1!$C$5:$C$15,SMALL(IF(Feuil1!$A$5:$A$15=$A$1,ROW(Feuil1!$C$5:$C$15),""),ROWS(Feuil1!$O$3:O13))-4),"")}

Sheet Feuil3
A1: Daphnée | B1: {=IFERROR(INDEX(Feuil1!$A$5:$A$15,SMALL(IF(Feuil1!$A$5:$A$15=$A$1,ROW(Feuil1!$A$5:$A$15),""),ROWS(Feuil1!$O$3:O3))-4),"")} -> Daphnée | C1: {=IFERROR(INDEX(Feuil1!$B$5:$B$15,SMALL(IF(Feuil1!$A$5:$A$15=$A$1,ROW(Feuil1!$B$5:$B$15),""),ROWS(Feuil1!$O$3:O3))-4),"")} -> Avenue de la république | D1: {=IFERROR(INDEX(Feuil1!$C$5:$C$15,SMALL(IF(Feuil1!$A$5:$A$15=$A$1,ROW(Feuil1!$C$5:$C$15),""),ROWS(Feuil1!$O$3:O3))-4),"")} -> 2
B2: {=IFERROR(INDEX(Feuil1!$A$5:$A$15,SMALL(IF(Feuil1!$A$5:$A$15=$A$1,ROW(Feuil1!$A$5:$A$15),""),ROWS(Feuil1!$O$3:O4))-4),"")} -> Daphnée | C2: {=IFERROR(INDEX(Feuil1!$B$5:$B$15,SMALL(IF(Feuil1!$A$5:$A$15=$A$1,ROW(Feuil1!$B$5:$B$15),""),ROWS(Feuil1!$O$3:O4))-4),"")} -> Avenue de la république | D2: {=IFERROR(INDEX(Feuil1!$C$5:$C$15,SMALL(IF(Feuil1!$A$5:$A$15=$A$1,ROW(Feuil1!$C$5:$C$15),""),ROWS(Feuil1!$O$3:O4))-4),"")} -> 119
B3: {=IFERROR(INDEX(Feuil1!$A$5:$A$15,SMALL(IF(Feuil1!$A$5:$A$15=$A$1,ROW(Feuil1!$A$5:$A$15),""),ROWS(Feuil1!$O$3:O5))-4),"")} -> Daphnée | C3: {=IFERROR(INDEX(Feuil1!$B$5:$B$15,SMALL(IF(Feuil1!$A$5:$A$15=$A$1,ROW(Feuil1!$B$5:$B$15),""),ROWS(Feuil1!$O$3:O5))-4),"")} -> Avenue de la république | D3: {=IFERROR(INDEX(Feuil1!$C$5:$C$15,SMALL(IF(Feuil1!$A$5:$A$15=$A$1,ROW(Feuil1!$C$5:$C$15),""),ROWS(Feuil1!$O$3:O5))-4),"")} -> 8
B4: {=IFERROR(INDEX(Feuil1!$A$5:$A$15,SMALL(IF(Feuil1!$A$5:$A$15=$A$1,ROW(Feuil1!$A$5:$A$15),""),ROWS(Feuil1!$O$3:O6))-4),"")} | C4: {=IFERROR(INDEX(Feuil1!$B$5:$B$15,SMALL(IF(Feuil1!$A$5:$A$15=$A$1,ROW(Feuil1!$B$5:$B$15),""),ROWS(Feuil1!$O$3:O6))-4),"")} | D4: {=IFERROR(INDEX(Feuil1!$C$5:$C$15,SMALL(IF(Feuil1!$A$5:$A$15=$A$1,ROW(Feuil1!$C$5:$C$15),""),ROWS(Feuil1!$O$3:O6))-4),"")}
B5: {=IFERROR(INDEX(Feuil1!$A$5:$A$15,SMALL(IF(Feuil1!$A$5:$A$15=$A$1,ROW(Feuil1!$A$5:$A$15),""),ROWS(Feuil1!$O$3:O7))-4),"")} | C5: {=IFERROR(INDEX(Feuil1!$B$5:$B$15,SMALL(IF(Feuil1!$A$5:$A$15=$A$1,ROW(Feuil1!$B$5:$B$15),""),ROWS(Feuil1!$O$3:O7))-4),"")} | D5: {=IFERROR(INDEX(Feuil1!$C$5:$C$15,SMALL(IF(Feuil1!$A$5:$A$15=$A$1,ROW(Feuil1!$C$5:$C$15),""),ROWS(Feuil1!$O$3:O7))-4),"")}
B6: {=IFERROR(INDEX(Feuil1!$A$5:$A$15,SMALL(IF(Feuil1!$A$5:$A$15=$A$1,ROW(Feuil1!$A$5:$A$15),""),ROWS(Feuil1!$O$3:O8))-4),"")} | C6: {=IFERROR(INDEX(Feuil1!$B$5:$B$15,SMALL(IF(Feuil1!$A$5:$A$15=$A$1,ROW(Feuil1!$B$5:$B$15),""),ROWS(Feuil1!$O$3:O8))-4),"")} | D6: {=IFERROR(INDEX(Feuil1!$C$5:$C$15,SMALL(IF(Feuil1!$A$5:$A$15=$A$1,ROW(Feuil1!$C$5:$C$15),""),ROWS(Feuil1!$O$3:O8))-4),"")}
B7: {=IFERROR(INDEX(Feuil1!$A$5:$A$15,SMALL(IF(Feuil1!$A$5:$A$15=$A$1,ROW(Feuil1!$A$5:$A$15),""),ROWS(Feuil1!$O$3:O9))-4),"")} | C7: {=IFERROR(INDEX(Feuil1!$B$5:$B$15,SMALL(IF(Feuil1!$A$5:$A$15=$A$1,ROW(Feuil1!$B$5:$B$15),""),ROWS(Feuil1!$O$3:O9))-4),"")} | D7: {=IFERROR(INDEX(Feuil1!$C$5:$C$15,SMALL(IF(Feuil1!$A$5:$A$15=$A$1,ROW(Feuil1!$C$5:$C$15),""),ROWS(Feuil1!$O$3:O9))-4),"")}
B8: {=IFERROR(INDEX(Feuil1!$A$5:$A$15,SMALL(IF(Feuil1!$A$5:$A$15=$A$1,ROW(Feuil1!$A$5:$A$15),""),ROWS(Feuil1!$O$3:O10))-4),"")} | C8: {=IFERROR(INDEX(Feuil1!$B$5:$B$15,SMALL(IF(Feuil1!$A$5:$A$15=$A$1,ROW(Feuil1!$B$5:$B$15),""),ROWS(Feuil1!$O$3:O10))-4),"")} | D8: {=IFERROR(INDEX(Feuil1!$C$5:$C$15,SMALL(IF(Feuil1!$A$5:$A$15=$A$1,ROW(Feuil1!$C$5:$C$15),""),ROWS(Feuil1!$O$3:O10))-4),"")}
B9: {=IFERROR(INDEX(Feuil1!$A$5:$A$15,SMALL(IF(Feuil1!$A$5:$A$15=$A$1,ROW(Feuil1!$A$5:$A$15),""),ROWS(Feuil1!$O$3:O11))-4),"")} | C9: {=IFERROR(INDEX(Feuil1!$B$5:$B$15,SMALL(IF(Feuil1!$A$5:$A$15=$A$1,ROW(Feuil1!$B$5:$B$15),""),ROWS(Feuil1!$O$3:O11))-4),"")} | D9: {=IFERROR(INDEX(Feuil1!$C$5:$C$15,SMALL(IF(Feuil1!$A$5:$A$15=$A$1,ROW(Feuil1!$C$5:$C$15),""),ROWS(Feuil1!$O$3:O11))-4),"")}
B10: {=IFERROR(INDEX(Feuil1!$A$5:$A$15,SMALL(IF(Feuil1!$A$5:$A$15=$A$1,ROW(Feuil1!$A$5:$A$15),""),ROWS(Feuil1!$O$3:O12))-4),"")} | C10: {=IFERROR(INDEX(Feuil1!$B$5:$B$15,SMALL(IF(Feuil1!$A$5:$A$15=$A$1,ROW(Feuil1!$B$5:$B$15),""),ROWS(Feuil1!$O$3:O12))-4),"")} | D10: {=IFERROR(INDEX(Feuil1!$C$5:$C$15,SMALL(IF(Feuil1!$A$5:$A$15=$A$1,ROW(Feuil1!$C$5:$C$15),""),ROWS(Feuil1!$O$3:O12))-4),"")}
B11: {=IFERROR(INDEX(Feuil1!$A$5:$A$15,SMALL(IF(Feuil1!$A$5:$A$15=$A$1,ROW(Feuil1!$A$5:$A$15),""),ROWS(Feuil1!$O$3:O13))-4),"")} | C11: {=IFERROR(INDEX(Feuil1!$B$5:$B$15,SMALL(IF(Feuil1!$A$5:$A$15=$A$1,ROW(Feuil1!$B$5:$B$15),""),ROWS(Feuil1!$O$3:O13))-4),"")} | D11: {=IFERROR(INDEX(Feuil1!$C$5:$C$15,SMALL(IF(Feuil1!$A$5:$A$15=$A$1,ROW(Feuil1!$C$5:$C$15),""),ROWS(Feuil1!$O$3:O13))-4),"")}
