Workbook
Name Niveaux1: Feuil2!$D$2:$D$7
Name Niveaux2: Feuil2!$E$2:$E$5
Name Segment_Mois: #N/A
Name Segment_Mois1: #N/A

Sheet Feuil1
A1: Mois | B1: Jour | C1: Date | D1: Niveau | E1: Information | G1: {=MIN(IF(SUBTOTAL(103,OFFSET(B2:B367,ROW(B2:B367)-ROW(B2),,1)),B2:B367))} -> 45170 | H1: {=MAX(IF(SUBTOTAL(103,OFFSET(B2:B367,ROW(B2:B367)-ROW(B2),,1)),B2:B367))} -> 45199
A2: =IFERROR(CHOOSE(MONTH(B2),"Janvier","Février","Mars","Avril","Mai","Juin","Juillet","Août","Septembre","Octobre","Novembre","Décembre"),"") -> Septembre | B2: =Feuil2!A3 -> 45170 | C2: =Feuil2!A3 -> 45170 | I2: Bonjour,
A3: =IFERROR(CHOOSE(MONTH(B3),"Janvier","Février","Mars","Avril","Mai","Juin","Juillet","Août","Septembre","Octobre","Novembre","Décembre"),"") -> Septembre | B3: =B2+1 -> 45171 | C3: =C2+1 -> 45171
A4: =IFERROR(CHOOSE(MONTH(B4),"Janvier","Février","Mars","Avril","Mai","Juin","Juillet","Août","Septembre","Octobre","Novembre","Décembre"),"") -> Septembre | B4: =B3+1 -> 45172 | C4: =C3+1 -> 45172 | I4: • Le calendrier est maintenant un tableau structuré qui permet un affichage dynamique
A5: =IFERROR(CHOOSE(MONTH(B5),"Janvier","Février","Mars","Avril","Mai","Juin","Juillet","Août","Septembre","Octobre","Novembre","Décembre"),"") -> Septembre | B5: =B4+1 -> 45173 | C5: =C4+1 -> 45173 | I5: • Utilisez les segments pour sélectionner un mois.
A6: =IFERROR(CHOOSE(MONTH(B6),"Janvier","Février","Mars","Avril","Mai","Juin","Juillet","Août","Septembre","Octobre","Novembre","Décembre"),"") -> Septembre | B6: =B5+1 -> 45174 | C6: =C5+1 -> 45174 | D6: 6ème | E6: CC T1 | I6: • En cliquant sur l'entonnoir avec la petite croix rouge en haut à droite du segment, vous ouvrirez entièrement le calendrier ;
A7: =IFERROR(CHOOSE(MONTH(B7),"Janvier","Février","Mars","Avril","Mai","Juin","Juillet","Août","Septembre","Octobre","Novembre","Décembre"),"") -> Septembre | B7: =B6+1 -> 45175 | C7: =C6+1 -> 45175 | I7: les tableaux de chaque niveau seront alors en bas de page, ce qui vous permettra d'avoir l'historique de l'année scolaire entière.
A8: =IFERROR(CHOOSE(MONTH(B8),"Janvier","Février","Mars","Avril","Mai","Juin","Juillet","Août","Septembre","Octobre","Novembre","Décembre"),"") -> Septembre | B8: =B7+1 -> 45176 | C8: =C7+1 -> 45176
A9: =IFERROR(CHOOSE(MONTH(B9),"Janvier","Février","Mars","Avril","Mai","Juin","Juillet","Août","Septembre","Octobre","Novembre","Décembre"),"") -> Septembre | B9: =B8+1 -> 45177 | C9: =C8+1 -> 45177 | D9: 6ème | E9: CC T2 | I9: • En colonne 'D', un menu déroulant vous permet de choisir un niveau de classe (6ème, 5ème, 4ème, 3ème) ou "Tous", ce qui permettra de reprendre les informations pour toutes les classes
A10: =IFERROR(CHOOSE(MONTH(B10),"Janvier","Février","Mars","Avril","Mai","Juin","Juillet","Août","Septembre","Octobre","Novembre","Décembre"),"") -> Septembre | B10: =B9+1 -> 45178 | C10: =C9+1 -> 45178 | I10: Exemple : cliquez sur le segment "octobre", le Cross du collège apparaît dans tous les niveaux de classe
A11: =IFERROR(CHOOSE(MONTH(B11),"Janvier","Février","Mars","Avril","Mai","Juin","Juillet","Août","Septembre","Octobre","Novembre","Décembre"),"") -> Septembre | B11: =B10+1 -> 45179 | C11: =C10+1 -> 45179 | I11: Le premier choix du menu est un espace qui permet d'effacer le choix existant, il restera à effacer l'info ou réécrire dessus
A12: =IFERROR(CHOOSE(MONTH(B12),"Janvier","Février","Mars","Avril","Mai","Juin","Juillet","Août","Septembre","Octobre","Novembre","Décembre"),"") -> Septembre | B12: =B11+1 -> 45180 | C12: =C11+1 -> 45180
A13: =IFERROR(CHOOSE(MONTH(B13),"Janvier","Février","Mars","Avril","Mai","Juin","Juillet","Août","Septembre","Octobre","Novembre","Décembre"),"") -> Septembre | B13: =B12+1 -> 45181 | C13: =C12+1 -> 45181
A14: =IFERROR(CHOOSE(MONTH(B14),"Janvier","Février","Mars","Avril","Mai","Juin","Juillet","Août","Septembre","Octobre","Novembre","Décembre"),"") -> Septembre | B14: =B13+1 -> 45182 | C14: =C13+1 -> 45182
A15: =IFERROR(CHOOSE(MONTH(B15),"Janvier","Février","Mars","Avril","Mai","Juin","Juillet","Août","Septembre","Octobre","Novembre","Décembre"),"") -> Septembre | B15: =B14+1 -> 45183 | C15: =C14+1 -> 45183
A16: =IFERROR(CHOOSE(MONTH(B16),"Janvier","Février","Mars","Avril","Mai","Juin","Juillet","Août","Septembre","Octobre","Novembre","Décembre"),"") -> Septembre | B16: =B15+1 -> 45184 | C16: =C15+1 -> 45184 | D16: 5ème | E16: RI
A17: =IFERROR(CHOOSE(MONTH(B17),"Janvier","Février","Mars","Avril","Mai","Juin","Juillet","Août","Septembre","Octobre","Novembre","Décembre"),"") -> Septembre | B17: =B16+1 -> 45185 | C17: =C16+1 -> 45185 | I17: • Impératif, vous ne pourrez toujours pas fusionner les cellules en colonne 'D' et 'E'.
A18: =IFERROR(CHOOSE(MONTH(B18),"Janvier","Février","Mars","Avril","Mai","Juin","Juillet","Août","Septembre","Octobre","Novembre","Décembre"),"") -> Septembre | B18: =B17+1 -> 45186 | C18: =C17+1 -> 45186 | I18: • Attention, deux formules importantes sont cachées en cellule 'G1' et 'H1' (ne pas les supprimer !).
A19: =IFERROR(CHOOSE(MONTH(B19),"Janvier","Février","Mars","Avril","Mai","Juin","Juillet","Août","Septembre","Octobre","Novembre","Décembre"),"") -> Septembre | B19: =B18+1 -> 45187 | C19: =C18+1 -> 45187 | I19: • Des formules reprennent les dates du segment choisi dans les 4 récap. des classes.
A20: =IFERROR(CHOOSE(MONTH(B20),"Janvier","Février","Mars","Avril","Mai","Juin","Juillet","Août","Septembre","Octobre","Novembre","Décembre"),"") -> Septembre | B20: =B19+1 -> 45188 | C20: =C19+1 -> 45188 | I20: • En feuille 3, un TCD pour pouvoir afficher sous une autre présentation ce dont vous avez besoin.
A21: =IFERROR(CHOOSE(MONTH(B21),"Janvier","Février","Mars","Avril","Mai","Juin","Juillet","Août","Septembre","Octobre","Novembre","Décembre"),"") -> Septembre | B21: =B20+1 -> 45189 | C21: =C20+1 -> 45189
A22: =IFERROR(CHOOSE(MONTH(B22),"Janvier","Février","Mars","Avril","Mai","Juin","Juillet","Août","Septembre","Octobre","Novembre","Décembre"),"") -> Septembre | B22: =B21+1 -> 45190 | C22: =C21+1 -> 45190 | I22: AL 22
A23: =IFERROR(CHOOSE(MONTH(B23),"Janvier","Février","Mars","Avril","Mai","Juin","Juillet","Août","Septembre","Octobre","Novembre","Décembre"),"") -> Septembre | B23: =B22+1 -> 45191 | C23: =C22+1 -> 45191
A24: =IFERROR(CHOOSE(MONTH(B24),"Janvier","Février","Mars","Avril","Mai","Juin","Juillet","Août","Septembre","Octobre","Novembre","Décembre"),"") -> Septembre | B24: =B23+1 -> 45192 | C24: =C23+1 -> 45192
A25: =IFERROR(CHOOSE(MONTH(B25),"Janvier","Février","Mars","Avril","Mai","Juin","Juillet","Août","Septembre","Octobre","Novembre","Décembre"),"") -> Septembre | B25: =B24+1 -> 45193 | C25: =C24+1 -> 45193
A26: =IFERROR(CHOOSE(MONTH(B26),"Janvier","Février","Mars","Avril","Mai","Juin","Juillet","Août","Septembre","Octobre","Novembre","Décembre"),"") -> Septembre | B26: =B25+1 -> 45194 | C26: =C25+1 -> 45194
A27: =IFERROR(CHOOSE(MONTH(B27),"Janvier","Février","Mars","Avril","Mai","Juin","Juillet","Août","Septembre","Octobre","Novembre","Décembre"),"") -> Septembre | B27: =B26+1 -> 45195 | C27: =C26+1 -> 45195
A28: =IFERROR(CHOOSE(MONTH(B28),"Janvier","Février","Mars","Avril","Mai","Juin","Juillet","Août","Septembre","Octobre","Novembre","Décembre"),"") -> Septembre | B28: =B27+1 -> 45196 | C28: =C27+1 -> 45196
A29: =IFERROR(CHOOSE(MONTH(B29),"Janvier","Février","Mars","Avril","Mai","Juin","Juillet","Août","Septembre","Octobre","Novembre","Décembre"),"") -> Septembre | B29: =B28+1 -> 45197 | C29: =C28+1 -> 45197
A30: =IFERROR(CHOOSE(MONTH(B30),"Janvier","Février","Mars","Avril","Mai","Juin","Juillet","Août","Septembre","Octobre","Novembre","Décembre"),"") -> Septembre | B30: =B29+1 -> 45198 | C30: =C29+1 -> 45198
A31: =IFERROR(CHOOSE(MONTH(B31),"Janvier","Février","Mars","Avril","Mai","Juin","Juillet","Août","Septembre","Octobre","Novembre","Décembre"),"") -> Septembre | B31: =B30+1 -> 45199 | C31: =C30+1 -> 45199
A32: =IFERROR(CHOOSE(MONTH(B32),"Janvier","Février","Mars","Avril","Mai","Juin","Juillet","Août","Septembre","Octobre","Novembre","Décembre"),"") -> Octobre | B32: =B31+1 -> 45200 | C32: =C31+1 -> 45200
A33: =IFERROR(CHOOSE(MONTH(B33),"Janvier","Février","Mars","Avril","Mai","Juin","Juillet","Août","Septembre","Octobre","Novembre","Décembre"),"") -> Octobre | B33: =B32+1 -> 45201 | C33: =C32+1 -> 45201
A34: =IFERROR(CHOOSE(MONTH(B34),"Janvier","Février","Mars","Avril","Mai","Juin","Juillet","Août","Septembre","Octobre","Novembre","Décembre"),"") -> Octobre | B34: =B33+1 -> 45202 | C34: =C33+1 -> 45202
... A48: =IFERROR(CHOOSE(MONTH(B48),"Janvier","Février","Mars","Avril","Mai","Juin","Juillet","Août","Septembre","Octobre","Novembre","Décembre"),"") -> Octobre | B48: =B47+1 -> 45216 | C48: =C47+1 -> 45216
A49: =IFERROR(CHOOSE(MONTH(B49),"Janvier","Février","Mars","Avril","Mai","Juin","Juillet","Août","Septembre","Octobre","Novembre","Décembre"),"") -> Octobre | B49: =B48+1 -> 45217 | C49: =C48+1 -> 45217 | D49: Tous | E49: Cross
A50: =IFERROR(CHOOSE(MONTH(B50),"Janvier","Février","Mars","Avril","Mai","Juin","Juillet","Août","Septembre","Octobre","Novembre","Décembre"),"") -> Octobre | B50: =B49+1 -> 45218 | C50: =C49+1 -> 45218
A51: =IFERROR(CHOOSE(MONTH(B51),"Janvier","Février","Mars","Avril","Mai","Juin","Juillet","Août","Septembre","Octobre","Novembre","Décembre"),"") -> Octobre | B51: =B50+1 -> 45219 | C51: =C50+1 -> 45219
A52: =IFERROR(CHOOSE(MONTH(B52),"Janvier","Février","Mars","Avril","Mai","Juin","Juillet","Août","Septembre","Octobre","Novembre","Décembre"),"") -> Octobre | B52: =B51+1 -> 45220 | C52: =C51+1 -> 45220
A53: =IFERROR(CHOOSE(MONTH(B53),"Janvier","Février","Mars","Avril","Mai","Juin","Juillet","Août","Septembre","Octobre","Novembre","Décembre"),"") -> Octobre | B53: =B52+1 -> 45221 | C53: =C52+1 -> 45221
A54: =IFERROR(CHOOSE(MONTH(B54),"Janvier","Février","Mars","Avril","Mai","Juin","Juillet","Août","Septembre","Octobre","Novembre","Décembre"),"") -> Octobre | B54: =B53+1 -> 45222 | C54: =C53+1 -> 45222
A55: =IFERROR(CHOOSE(MONTH(B55),"Janvier","Février","Mars","Avril","Mai","Juin","Juillet","Août","Septembre","Octobre","Novembre","Décembre"),"") -> Octobre | B55: =B54+1 -> 45223 | C55: =C54+1 -> 45223
A56: =IFERROR(CHOOSE(MONTH(B56),"Janvier","Février","Mars","Avril","Mai","Juin","Juillet","Août","Septembre","Octobre","Novembre","Décembre"),"") -> Octobre | B56: =B55+1 -> 45224 | C56: =C55+1 -> 45224
A57: =IFERROR(CHOOSE(MONTH(B57),"Janvier","Février","Mars","Avril","Mai","Juin","Juillet","Août","Septembre","Octobre","Novembre","Décembre"),"") -> Octobre | B57: =B56+1 -> 45225 | C57: =C56+1 -> 45225
A58: =IFERROR(CHOOSE(MONTH(B58),"Janvier","Février","Mars","Avril","Mai","Juin","Juillet","Août","Septembre","Octobre","Novembre","Décembre"),"") -> Octobre | B58: =B57+1 -> 45226 | C58: =C57+1 -> 45226
A59: =IFERROR(CHOOSE(MONTH(B59),"Janvier","Février","Mars","Avril","Mai","Juin","Juillet","Août","Septembre","Octobre","Novembre","Décembre"),"") -> Octobre | B59: =B58+1 -> 45227 | C59: =C58+1 -> 45227
A60: =IFERROR(CHOOSE(MONTH(B60),"Janvier","Février","Mars","Avril","Mai","Juin","Juillet","Août","Septembre","Octobre","Novembre","Décembre"),"") -> Octobre | B60: =B59+1 -> 45228 | C60: =C59+1 -> 45228
A61: =IFERROR(CHOOSE(MONTH(B61),"Janvier","Février","Mars","Avril","Mai","Juin","Juillet","Août","Septembre","Octobre","Novembre","Décembre"),"") -> Octobre | B61: =B60+1 -> 45229 | C61: =C60+1 -> 45229
... A367: =IFERROR(CHOOSE(MONTH(B367),"Janvier","Février","Mars","Avril","Mai","Juin","Juillet","Août","Septembre","Octobre","Novembre","Décembre"),"") -> Août | B367: =B366+1 -> 45535 | C367: =C366+1 -> 45535
G369: =IF(AND(H1-G1>=27,H1-G1<=31),"Récapitulatif mois de "&TEXT(G1,"mmmm")&" "&YEAR(Feuil2!A3),IF(AND(H1-G1>6,H1-G1<=363),"Période du "&TEXT(G1,"jj mmm aaaa")&" au "&TEXT(H1,"jj mmm aaaa"),IF(H1-G1>=364,"Année "&YEAR(Feuil2!B3)))) -> Récapitulatif mois de septembre 2023 | J369: =IF(AND(H1-G1>=27,H1-G1<=31),"Récapitulatif mois de "&TEXT(G1,"mmmm")&" "&YEAR(Feuil2!A3),IF(AND(H1-G1>6,H1-G1<=363),"Période du "&TEXT(G1,"jj mmm aaaa")&" au "&TEXT(H1,"jj mmm aaaa"),IF(H1-G1>=364,"Année "&YEAR(Feuil2!B3)))) -> Récapitulatif mois de septembre 2023 | M369: =IF(AND(H1-G1>=27,H1-G1<=31),"Récapitulatif mois de "&TEXT(G1,"mmmm")&" "&YEAR(Feuil2!A3),IF(AND(H1-G1>6,H1-G1<=363),"Période du "&TEXT(G1,"jj mmm aaaa")&" au "&TEXT(H1,"jj mmm aaaa"),IF(H1-G1>=364,"Année "&YEAR(Feuil2!B3)))) -> Récapitulatif mois de septembre 2023 | P369: =IF(AND(H1-G1>=27,H1-G1<=31),"Récapitulatif mois de "&TEXT(G1,"mmmm")&" "&YEAR(Feuil2!A3),IF(AND(H1-G1>6,H1-G1<=363),"Période du "&TEXT(G1,"jj mmm aaaa")&" au "&TEXT(H1,"jj mmm aaaa"),IF(H1-G1>=364,"Année "&YEAR(Feuil2!B3)))) -> Récapitulatif mois de septembre 2023
G370: 6ème | J370: 5ème | M370: 4ème | P370: 3ème
G371: Date | H371: Evènement | J371: Date | K371: Evènement | M371: Date | N371: Evènement | P371: Date | Q371: Evènement
G372: {=IFERROR(INDEX($B$2:$B$367,SMALL(IF(IF(LEFT($D$2:$D$367,1)=LEFT($G$370,1),IF($B$2:$B$367>=$G$1,$B$2:$B$367<=$H$1),IF($D$2:$D$367="Tous",IF($B$2:$B$367>=$G$1,$B$2:$B$367<=$H$1))),ROW($B$2:$B$367),""),ROWS($G$369:G369))-1),"")} -> 45174 | H372: {=IFERROR(INDEX($E$2:$E$367,SMALL(IF(IF(LEFT($D$2:$D$367,1)=LEFT($G$370,1),IF($B$2:$B$367>=$G$1,$B$2:$B$367<=$H$1),IF($D$2:$D$367="Tous",IF($B$2:$B$367>=$G$1,$B$2:$B$367<=$H$1))),ROW($E$2:$E$367),""),ROWS($G$369:G369))-1),"")} -> CC T1 | J372: {=IFERROR(INDEX($B$2:$B$367,SMALL(IF(IF(LEFT($D$2:$D$367,1)=LEFT($J$370,1),IF($B$2:$B$367>=$G$1,$B$2:$B$367<=$H$1),IF($D$2:$D$367="Tous",IF($B$2:$B$367>=$G$1,$B$2:$B$367<=$H$1))),ROW($B$2:$B$367),""),ROWS($J$369:J369))-1),"")} -> 45184 | K372: {=IFERROR(INDEX($E$2:$E$367,SMALL(IF(IF(LEFT($D$2:$D$367,1)=LEFT($J$370,1),IF($B$2:$B$367>=$G$1,$B$2:$B$367<=$H$1),IF($D$2:$D$367="Tous",IF($B$2:$B$367>=$G$1,$B$2:$B$367<=$H$1))),ROW($E$2:$E$367),""),ROWS($J$369:J369))-1),"")} -> RI | M372: {=IFERROR(INDEX($B$2:$B$367,SMALL(IF(IF(LEFT($D$2:$D$367,1)=LEFT($M$370,1),IF($B$2:$B$367>=$G$1,$B$2:$B$367<=$H$1),IF($D$2:$D$367="Tous",IF($B$2:$B$367>=$G$1,$B$2:$B$367<=$H$1))),ROW($B$2:$B$367),""),ROWS($M$369:M369))-1),"")} | N372: {=IFERROR(INDEX($E$2:$E$367,SMALL(IF(IF(LEFT($D$2:$D$367,1)=LEFT($M$370,1),IF($B$2:$B$367>=$G$1,$B$2:$B$367<=$H$1),IF($D$2:$D$367="Tous",IF($B$2:$B$367>=$G$1,$B$2:$B$367<=$H$1))),ROW($E$2:$E$367),""),ROWS($M$369:M369))-1),"")} | P372: {=IFERROR(INDEX($B$2:$B$367,SMALL(IF(IF(LEFT($D$2:$D$367,1)=LEFT($P$370,1),IF($B$2:$B$367>=$G$1,$B$2:$B$367<=$H$1),IF($D$2:$D$367="Tous",IF($B$2:$B$367>=$G$1,$B$2:$B$367<=$H$1))),ROW($B$2:$B$367),""),ROWS($P$369:P369))-1),"")} | Q372: {=IFERROR(INDEX($E$2:$E$367,SMALL(IF(IF(LEFT($D$2:$D$367,1)=LEFT($P$370,1),IF($B$2:$B$367>=$G$1,$B$2:$B$367<=$H$1),IF($D$2:$D$367="Tous",IF($B$2:$B$367>=$G$1,$B$2:$B$367<=$H$1))),ROW($E$2:$E$367),""),ROWS($P$369:P369))-1),"")}
G373: {=IFERROR(INDEX($B$2:$B$367,SMALL(IF(IF(LEFT($D$2:$D$367,1)=LEFT($G$370,1),IF($B$2:$B$367>=$G$1,$B$2:$B$367<=$H$1),IF($D$2:$D$367="Tous",IF($B$2:$B$367>=$G$1,$B$2:$B$367<=$H$1))),ROW($B$2:$B$367),""),ROWS($G$369:G370))-1),"")} -> 45177 | H373: {=IFERROR(INDEX($E$2:$E$367,SMALL(IF(IF(LEFT($D$2:$D$367,1)=LEFT($G$370,1),IF($B$2:$B$367>=$G$1,$B$2:$B$367<=$H$1),IF($D$2:$D$367="Tous",IF($B$2:$B$367>=$G$1,$B$2:$B$367<=$H$1))),ROW($E$2:$E$367),""),ROWS($G$369:G370))-1),"")} -> CC T2 | J373: {=IFERROR(INDEX($B$2:$B$367,SMALL(IF(IF(LEFT($D$2:$D$367,1)=LEFT($J$370,1),IF($B$2:$B$367>=$G$1,$B$2:$B$367<=$H$1),IF($D$2:$D$367="Tous",IF($B$2:$B$367>=$G$1,$B$2:$B$367<=$H$1))),ROW($B$2:$B$367),""),ROWS($J$369:J370))-1),"")} | K373: {=IFERROR(INDEX($E$2:$E$367,SMALL(IF(IF(LEFT($D$2:$D$367,1)=LEFT($J$370,1),IF($B$2:$B$367>=$G$1,$B$2:$B$367<=$H$1),IF($D$2:$D$367="Tous",IF($B$2:$B$367>=$G$1,$B$2:$B$367<=$H$1))),ROW($E$2:$E$367),""),ROWS($J$369:J370))-1),"")} | M373: {=IFERROR(INDEX($B$2:$B$367,SMALL(IF(IF(LEFT($D$2:$D$367,1)=LEFT($M$370,1),IF($B$2:$B$367>=$G$1,$B$2:$B$367<=$H$1),IF($D$2:$D$367="Tous",IF($B$2:$B$367>=$G$1,$B$2:$B$367<=$H$1))),ROW($B$2:$B$367),""),ROWS($M$369:M370))-1),"")} | N373: {=IFERROR(INDEX($E$2:$E$367,SMALL(IF(IF(LEFT($D$2:$D$367,1)=LEFT($M$370,1),IF($B$2:$B$367>=$G$1,$B$2:$B$367<=$H$1),IF($D$2:$D$367="Tous",IF($B$2:$B$367>=$G$1,$B$2:$B$367<=$H$1))),ROW($E$2:$E$367),""),ROWS($M$369:M370))-1),"")} | P373: {=IFERROR(INDEX($B$2:$B$367,SMALL(IF(IF(LEFT($D$2:$D$367,1)=LEFT($P$370,1),IF($B$2:$B$367>=$G$1,$B$2:$B$367<=$H$1),IF($D$2:$D$367="Tous",IF($B$2:$B$367>=$G$1,$B$2:$B$367<=$H$1))),ROW($B$2:$B$367),""),ROWS($P$369:P370))-1),"")} | Q373: {=IFERROR(INDEX($E$2:$E$367,SMALL(IF(IF(LEFT($D$2:$D$367,1)=LEFT($P$370,1),IF($B$2:$B$367>=$G$1,$B$2:$B$367<=$H$1),IF($D$2:$D$367="Tous",IF($B$2:$B$367>=$G$1,$B$2:$B$367<=$H$1))),ROW($E$2:$E$367),""),ROWS($P$369:P370))-1),"")}
G374: {=IFERROR(INDEX($B$2:$B$367,SMALL(IF(IF(LEFT($D$2:$D$367,1)=LEFT($G$370,1),IF($B$2:$B$367>=$G$1,$B$2:$B$367<=$H$1),IF($D$2:$D$367="Tous",IF($B$2:$B$367>=$G$1,$B$2:$B$367<=$H$1))),ROW($B$2:$B$367),""),ROWS($G$369:G371))-1),"")} | H374: {=IFERROR(INDEX($E$2:$E$367,SMALL(IF(IF(LEFT($D$2:$D$367,1)=LEFT($G$370,1),IF($B$2:$B$367>=$G$1,$B$2:$B$367<=$H$1),IF($D$2:$D$367="Tous",IF($B$2:$B$367>=$G$1,$B$2:$B$367<=$H$1))),ROW($E$2:$E$367),""),ROWS($G$369:G371))-1),"")} | J374: {=IFERROR(INDEX($B$2:$B$367,SMALL(IF(IF(LEFT($D$2:$D$367,1)=LEFT($J$370,1),IF($B$2:$B$367>=$G$1,$B$2:$B$367<=$H$1),IF($D$2:$D$367="Tous",IF($B$2:$B$367>=$G$1,$B$2:$B$367<=$H$1))),ROW($B$2:$B$367),""),ROWS($J$369:J371))-1),"")} | K374: {=IFERROR(INDEX($E$2:$E$367,SMALL(IF(IF(LEFT($D$2:$D$367,1)=LEFT($J$370,1),IF($B$2:$B$367>=$G$1,$B$2:$B$367<=$H$1),IF($D$2:$D$367="Tous",IF($B$2:$B$367>=$G$1,$B$2:$B$367<=$H$1))),ROW($E$2:$E$367),""),ROWS($J$369:J371))-1),"")} | M374: {=IFERROR(INDEX($B$2:$B$367,SMALL(IF(IF(LEFT($D$2:$D$367,1)=LEFT($M$370,1),IF($B$2:$B$367>=$G$1,$B$2:$B$367<=$H$1),IF($D$2:$D$367="Tous",IF($B$2:$B$367>=$G$1,$B$2:$B$367<=$H$1))),ROW($B$2:$B$367),""),ROWS($M$369:M371))-1),"")} | N374: {=IFERROR(INDEX($E$2:$E$367,SMALL(IF(IF(LEFT($D$2:$D$367,1)=LEFT($M$370,1),IF($B$2:$B$367>=$G$1,$B$2:$B$367<=$H$1),IF($D$2:$D$367="Tous",IF($B$2:$B$367>=$G$1,$B$2:$B$367<=$H$1))),ROW($E$2:$E$367),""),ROWS($M$369:M371))-1),"")} | P374: {=IFERROR(INDEX($B$2:$B$367,SMALL(IF(IF(LEFT($D$2:$D$367,1)=LEFT($P$370,1),IF($B$2:$B$367>=$G$1,$B$2:$B$367<=$H$1),IF($D$2:$D$367="Tous",IF($B$2:$B$367>=$G$1,$B$2:$B$367<=$H$1))),ROW($B$2:$B$367),""),ROWS($P$369:P371))-1),"")} | Q374: {=IFERROR(INDEX($E$2:$E$367,SMALL(IF(IF(LEFT($D$2:$D$367,1)=LEFT($P$370,1),IF($B$2:$B$367>=$G$1,$B$2:$B$367<=$H$1),IF($D$2:$D$367="Tous",IF($B$2:$B$367>=$G$1,$B$2:$B$367<=$H$1))),ROW($E$2:$E$367),""),ROWS($P$369:P371))-1),"")}
G375: {=IFERROR(INDEX($B$2:$B$367,SMALL(IF(IF(LEFT($D$2:$D$367,1)=LEFT($G$370,1),IF($B$2:$B$367>=$G$1,$B$2:$B$367<=$H$1),IF($D$2:$D$367="Tous",IF($B$2:$B$367>=$G$1,$B$2:$B$367<=$H$1))),ROW($B$2:$B$367),""),ROWS($G$369:G372))-1),"")} | H375: {=IFERROR(INDEX($E$2:$E$367,SMALL(IF(IF(LEFT($D$2:$D$367,1)=LEFT($G$370,1),IF($B$2:$B$367>=$G$1,$B$2:$B$367<=$H$1),IF($D$2:$D$367="Tous",IF($B$2:$B$367>=$G$1,$B$2:$B$367<=$H$1))),ROW($E$2:$E$367),""),ROWS($G$369:G372))-1),"")} | J375: {=IFERROR(INDEX($B$2:$B$367,SMALL(IF(IF(LEFT($D$2:$D$367,1)=LEFT($J$370,1),IF($B$2:$B$367>=$G$1,$B$2:$B$367<=$H$1),IF($D$2:$D$367="Tous",IF($B$2:$B$367>=$G$1,$B$2:$B$367<=$H$1))),ROW($B$2:$B$367),""),ROWS($J$369:J372))-1),"")} | K375: {=IFERROR(INDEX($E$2:$E$367,SMALL(IF(IF(LEFT($D$2:$D$367,1)=LEFT($J$370,1),IF($B$2:$B$367>=$G$1,$B$2:$B$367<=$H$1),IF($D$2:$D$367="Tous",IF($B$2:$B$367>=$G$1,$B$2:$B$367<=$H$1))),ROW($E$2:$E$367),""),ROWS($J$369:J372))-1),"")} | M375: {=IFERROR(INDEX($B$2:$B$367,SMALL(IF(IF(LEFT($D$2:$D$367,1)=LEFT($M$370,1),IF($B$2:$B$367>=$G$1,$B$2:$B$367<=$H$1),IF($D$2:$D$367="Tous",IF($B$2:$B$367>=$G$1,$B$2:$B$367<=$H$1))),ROW($B$2:$B$367),""),ROWS($M$369:M372))-1),"")} | N375: {=IFERROR(INDEX($E$2:$E$367,SMALL(IF(IF(LEFT($D$2:$D$367,1)=LEFT($M$370,1),IF($B$2:$B$367>=$G$1,$B$2:$B$367<=$H$1),IF($D$2:$D$367="Tous",IF($B$2:$B$367>=$G$1,$B$2:$B$367<=$H$1))),ROW($E$2:$E$367),""),ROWS($M$369:M372))-1),"")} | P375: {=IFERROR(INDEX($B$2:$B$367,SMALL(IF(IF(LEFT($D$2:$D$367,1)=LEFT($P$370,1),IF($B$2:$B$367>=$G$1,$B$2:$B$367<=$H$1),IF($D$2:$D$367="Tous",IF($B$2:$B$367>=$G$1,$B$2:$B$367<=$H$1))),ROW($B$2:$B$367),""),ROWS($P$369:P372))-1),"")} | Q375: {=IFERROR(INDEX($E$2:$E$367,SMALL(IF(IF(LEFT($D$2:$D$367,1)=LEFT($P$370,1),IF($B$2:$B$367>=$G$1,$B$2:$B$367<=$H$1),IF($D$2:$D$367="Tous",IF($B$2:$B$367>=$G$1,$B$2:$B$367<=$H$1))),ROW($E$2:$E$367),""),ROWS($P$369:P372))-1),"")}
G376: {=IFERROR(INDEX($B$2:$B$367,SMALL(IF(IF(LEFT($D$2:$D$367,1)=LEFT($G$370,1),IF($B$2:$B$367>=$G$1,$B$2:$B$367<=$H$1),IF($D$2:$D$367="Tous",IF($B$2:$B$367>=$G$1,$B$2:$B$367<=$H$1))),ROW($B$2:$B$367),""),ROWS($G$369:G373))-1),"")} | H376: {=IFERROR(INDEX($E$2:$E$367,SMALL(IF(IF(LEFT($D$2:$D$367,1)=LEFT($G$370,1),IF($B$2:$B$367>=$G$1,$B$2:$B$367<=$H$1),IF($D$2:$D$367="Tous",IF($B$2:$B$367>=$G$1,$B$2:$B$367<=$H$1))),ROW($E$2:$E$367),""),ROWS($G$369:G373))-1),"")} | J376: {=IFERROR(INDEX($B$2:$B$367,SMALL(IF(IF(LEFT($D$2:$D$367,1)=LEFT($J$370,1),IF($B$2:$B$367>=$G$1,$B$2:$B$367<=$H$1),IF($D$2:$D$367="Tous",IF($B$2:$B$367>=$G$1,$B$2:$B$367<=$H$1))),ROW($B$2:$B$367),""),ROWS($J$369:J373))-1),"")} | K376: {=IFERROR(INDEX($E$2:$E$367,SMALL(IF(IF(LEFT($D$2:$D$367,1)=LEFT($J$370,1),IF($B$2:$B$367>=$G$1,$B$2:$B$367<=$H$1),IF($D$2:$D$367="Tous",IF($B$2:$B$367>=$G$1,$B$2:$B$367<=$H$1))),ROW($E$2:$E$367),""),ROWS($J$369:J373))-1),"")} | M376: {=IFERROR(INDEX($B$2:$B$367,SMALL(IF(IF(LEFT($D$2:$D$367,1)=LEFT($M$370,1),IF($B$2:$B$367>=$G$1,$B$2:$B$367<=$H$1),IF($D$2:$D$367="Tous",IF($B$2:$B$367>=$G$1,$B$2:$B$367<=$H$1))),ROW($B$2:$B$367),""),ROWS($M$369:M373))-1),"")} | N376: {=IFERROR(INDEX($E$2:$E$367,SMALL(IF(IF(LEFT($D$2:$D$367,1)=LEFT($M$370,1),IF($B$2:$B$367>=$G$1,$B$2:$B$367<=$H$1),IF($D$2:$D$367="Tous",IF($B$2:$B$367>=$G$1,$B$2:$B$367<=$H$1))),ROW($E$2:$E$367),""),ROWS($M$369:M373))-1),"")} | P376: {=IFERROR(INDEX($B$2:$B$367,SMALL(IF(IF(LEFT($D$2:$D$367,1)=LEFT($P$370,1),IF($B$2:$B$367>=$G$1,$B$2:$B$367<=$H$1),IF($D$2:$D$367="Tous",IF($B$2:$B$367>=$G$1,$B$2:$B$367<=$H$1))),ROW($B$2:$B$367),""),ROWS($P$369:P373))-1),"")} | Q376: {=IFERROR(INDEX($E$2:$E$367,SMALL(IF(IF(LEFT($D$2:$D$367,1)=LEFT($P$370,1),IF($B$2:$B$367>=$G$1,$B$2:$B$367<=$H$1),IF($D$2:$D$367="Tous",IF($B$2:$B$367>=$G$1,$B$2:$B$367<=$H$1))),ROW($E$2:$E$367),""),ROWS($P$369:P373))-1),"")}
G377: {=IFERROR(INDEX($B$2:$B$367,SMALL(IF(IF(LEFT($D$2:$D$367,1)=LEFT($G$370,1),IF($B$2:$B$367>=$G$1,$B$2:$B$367<=$H$1),IF($D$2:$D$367="Tous",IF($B$2:$B$367>=$G$1,$B$2:$B$367<=$H$1))),ROW($B$2:$B$367),""),ROWS($G$369:G374))-1),"")} | H377: {=IFERROR(INDEX($E$2:$E$367,SMALL(IF(IF(LEFT($D$2:$D$367,1)=LEFT($G$370,1),IF($B$2:$B$367>=$G$1,$B$2:$B$367<=$H$1),IF($D$2:$D$367="Tous",IF($B$2:$B$367>=$G$1,$B$2:$B$367<=$H$1))),ROW($E$2:$E$367),""),ROWS($G$369:G374))-1),"")} | J377: {=IFERROR(INDEX($B$2:$B$367,SMALL(IF(IF(LEFT($D$2:$D$367,1)=LEFT($J$370,1),IF($B$2:$B$367>=$G$1,$B$2:$B$367<=$H$1),IF($D$2:$D$367="Tous",IF($B$2:$B$367>=$G$1,$B$2:$B$367<=$H$1))),ROW($B$2:$B$367),""),ROWS($J$369:J374))-1),"")} | K377: {=IFERROR(INDEX($E$2:$E$367,SMALL(IF(IF(LEFT($D$2:$D$367,1)=LEFT($J$370,1),IF($B$2:$B$367>=$G$1,$B$2:$B$367<=$H$1),IF($D$2:$D$367="Tous",IF($B$2:$B$367>=$G$1,$B$2:$B$367<=$H$1))),ROW($E$2:$E$367),""),ROWS($J$369:J374))-1),"")} | M377: {=IFERROR(INDEX($B$2:$B$367,SMALL(IF(IF(LEFT($D$2:$D$367,1)=LEFT($M$370,1),IF($B$2:$B$367>=$G$1,$B$2:$B$367<=$H$1),IF($D$2:$D$367="Tous",IF($B$2:$B$367>=$G$1,$B$2:$B$367<=$H$1))),ROW($B$2:$B$367),""),ROWS($M$369:M374))-1),"")} | N377: {=IFERROR(INDEX($E$2:$E$367,SMALL(IF(IF(LEFT($D$2:$D$367,1)=LEFT($M$370,1),IF($B$2:$B$367>=$G$1,$B$2:$B$367<=$H$1),IF($D$2:$D$367="Tous",IF($B$2:$B$367>=$G$1,$B$2:$B$367<=$H$1))),ROW($E$2:$E$367),""),ROWS($M$369:M374))-1),"")} | P377: {=IFERROR(INDEX($B$2:$B$367,SMALL(IF(IF(LEFT($D$2:$D$367,1)=LEFT($P$370,1),IF($B$2:$B$367>=$G$1,$B$2:$B$367<=$H$1),IF($D$2:$D$367="Tous",IF($B$2:$B$367>=$G$1,$B$2:$B$367<=$H$1))),ROW($B$2:$B$367),""),ROWS($P$369:P374))-1),"")} | Q377: {=IFERROR(INDEX($E$2:$E$367,SMALL(IF(IF(LEFT($D$2:$D$367,1)=LEFT($P$370,1),IF($B$2:$B$367>=$G$1,$B$2:$B$367<=$H$1),IF($D$2:$D$367="Tous",IF($B$2:$B$367>=$G$1,$B$2:$B$367<=$H$1))),ROW($E$2:$E$367),""),ROWS($P$369:P374))-1),"")}
G378: {=IFERROR(INDEX($B$2:$B$367,SMALL(IF(IF(LEFT($D$2:$D$367,1)=LEFT($G$370,1),IF($B$2:$B$367>=$G$1,$B$2:$B$367<=$H$1),IF($D$2:$D$367="Tous",IF($B$2:$B$367>=$G$1,$B$2:$B$367<=$H$1))),ROW($B$2:$B$367),""),ROWS($G$369:G375))-1),"")} | H378: {=IFERROR(INDEX($E$2:$E$367,SMALL(IF(IF(LEFT($D$2:$D$367,1)=LEFT($G$370,1),IF($B$2:$B$367>=$G$1,$B$2:$B$367<=$H$1),IF($D$2:$D$367="Tous",IF($B$2:$B$367>=$G$1,$B$2:$B$367<=$H$1))),ROW($E$2:$E$367),""),ROWS($G$369:G375))-1),"")} | J378: {=IFERROR(INDEX($B$2:$B$367,SMALL(IF(IF(LEFT($D$2:$D$367,1)=LEFT($J$370,1),IF($B$2:$B$367>=$G$1,$B$2:$B$367<=$H$1),IF($D$2:$D$367="Tous",IF($B$2:$B$367>=$G$1,$B$2:$B$367<=$H$1))),ROW($B$2:$B$367),""),ROWS($J$369:J375))-1),"")} | K378: {=IFERROR(INDEX($E$2:$E$367,SMALL(IF(IF(LEFT($D$2:$D$367,1)=LEFT($J$370,1),IF($B$2:$B$367>=$G$1,$B$2:$B$367<=$H$1),IF($D$2:$D$367="Tous",IF($B$2:$B$367>=$G$1,$B$2:$B$367<=$H$1))),ROW($E$2:$E$367),""),ROWS($J$369:J375))-1),"")} | M378: {=IFERROR(INDEX($B$2:$B$367,SMALL(IF(IF(LEFT($D$2:$D$367,1)=LEFT($M$370,1),IF($B$2:$B$367>=$G$1,$B$2:$B$367<=$H$1),IF($D$2:$D$367="Tous",IF($B$2:$B$367>=$G$1,$B$2:$B$367<=$H$1))),ROW($B$2:$B$367),""),ROWS($M$369:M375))-1),"")} | N378: {=IFERROR(INDEX($E$2:$E$367,SMALL(IF(IF(LEFT($D$2:$D$367,1)=LEFT($M$370,1),IF($B$2:$B$367>=$G$1,$B$2:$B$367<=$H$1),IF($D$2:$D$367="Tous",IF($B$2:$B$367>=$G$1,$B$2:$B$367<=$H$1))),ROW($E$2:$E$367),""),ROWS($M$369:M375))-1),"")} | P378: {=IFERROR(INDEX($B$2:$B$367,SMALL(IF(IF(LEFT($D$2:$D$367,1)=LEFT($P$370,1),IF($B$2:$B$367>=$G$1,$B$2:$B$367<=$H$1),IF($D$2:$D$367="Tous",IF($B$2:$B$367>=$G$1,$B$2:$B$367<=$H$1))),ROW($B$2:$B$367),""),ROWS($P$369:P375))-1),"")} | Q378: {=IFERROR(INDEX($E$2:$E$367,SMALL(IF(IF(LEFT($D$2:$D$367,1)=LEFT($P$370,1),IF($B$2:$B$367>=$G$1,$B$2:$B$367<=$H$1),IF($D$2:$D$367="Tous",IF($B$2:$B$367>=$G$1,$B$2:$B$367<=$H$1))),ROW($E$2:$E$367),""),ROWS($P$369:P375))-1),"")}
G379: {=IFERROR(INDEX($B$2:$B$367,SMALL(IF(IF(LEFT($D$2:$D$367,1)=LEFT($G$370,1),IF($B$2:$B$367>=$G$1,$B$2:$B$367<=$H$1),IF($D$2:$D$367="Tous",IF($B$2:$B$367>=$G$1,$B$2:$B$367<=$H$1))),ROW($B$2:$B$367),""),ROWS($G$369:G376))-1),"")} | H379: {=IFERROR(INDEX($E$2:$E$367,SMALL(IF(IF(LEFT($D$2:$D$367,1)=LEFT($G$370,1),IF($B$2:$B$367>=$G$1,$B$2:$B$367<=$H$1),IF($D$2:$D$367="Tous",IF($B$2:$B$367>=$G$1,$B$2:$B$367<=$H$1))),ROW($E$2:$E$367),""),ROWS($G$369:G376))-1),"")} | J379: {=IFERROR(INDEX($B$2:$B$367,SMALL(IF(IF(LEFT($D$2:$D$367,1)=LEFT($J$370,1),IF($B$2:$B$367>=$G$1,$B$2:$B$367<=$H$1),IF($D$2:$D$367="Tous",IF($B$2:$B$367>=$G$1,$B$2:$B$367<=$H$1))),ROW($B$2:$B$367),""),ROWS($J$369:J376))-1),"")} | K379: {=IFERROR(INDEX($E$2:$E$367,SMALL(IF(IF(LEFT($D$2:$D$367,1)=LEFT($J$370,1),IF($B$2:$B$367>=$G$1,$B$2:$B$367<=$H$1),IF($D$2:$D$367="Tous",IF($B$2:$B$367>=$G$1,$B$2:$B$367<=$H$1))),ROW($E$2:$E$367),""),ROWS($J$369:J376))-1),"")} | M379: {=IFERROR(INDEX($B$2:$B$367,SMALL(IF(IF(LEFT($D$2:$D$367,1)=LEFT($M$370,1),IF($B$2:$B$367>=$G$1,$B$2:$B$367<=$H$1),IF($D$2:$D$367="Tous",IF($B$2:$B$367>=$G$1,$B$2:$B$367<=$H$1))),ROW($B$2:$B$367),""),ROWS($M$369:M376))-1),"")} | N379: {=IFERROR(INDEX($E$2:$E$367,SMALL(IF(IF(LEFT($D$2:$D$367,1)=LEFT($M$370,1),IF($B$2:$B$367>=$G$1,$B$2:$B$367<=$H$1),IF($D$2:$D$367="Tous",IF($B$2:$B$367>=$G$1,$B$2:$B$367<=$H$1))),ROW($E$2:$E$367),""),ROWS($M$369:M376))-1),"")} | P379: {=IFERROR(INDEX($B$2:$B$367,SMALL(IF(IF(LEFT($D$2:$D$367,1)=LEFT($P$370,1),IF($B$2:$B$367>=$G$1,$B$2:$B$367<=$H$1),IF($D$2:$D$367="Tous",IF($B$2:$B$367>=$G$1,$B$2:$B$367<=$H$1))),ROW($B$2:$B$367),""),ROWS($P$369:P376))-1),"")} | Q379: {=IFERROR(INDEX($E$2:$E$367,SMALL(IF(IF(LEFT($D$2:$D$367,1)=LEFT($P$370,1),IF($B$2:$B$367>=$G$1,$B$2:$B$367<=$H$1),IF($D$2:$D$367="Tous",IF($B$2:$B$367>=$G$1,$B$2:$B$367<=$H$1))),ROW($E$2:$E$367),""),ROWS($P$369:P376))-1),"")}
G380: {=IFERROR(INDEX($B$2:$B$367,SMALL(IF(IF(LEFT($D$2:$D$367,1)=LEFT($G$370,1),IF($B$2:$B$367>=$G$1,$B$2:$B$367<=$H$1),IF($D$2:$D$367="Tous",IF($B$2:$B$367>=$G$1,$B$2:$B$367<=$H$1))),ROW($B$2:$B$367),""),ROWS($G$369:G377))-1),"")} | H380: {=IFERROR(INDEX($E$2:$E$367,SMALL(IF(IF(LEFT($D$2:$D$367,1)=LEFT($G$370,1),IF($B$2:$B$367>=$G$1,$B$2:$B$367<=$H$1),IF($D$2:$D$367="Tous",IF($B$2:$B$367>=$G$1,$B$2:$B$367<=$H$1))),ROW($E$2:$E$367),""),ROWS($G$369:G377))-1),"")} | J380: {=IFERROR(INDEX($B$2:$B$367,SMALL(IF(IF(LEFT($D$2:$D$367,1)=LEFT($J$370,1),IF($B$2:$B$367>=$G$1,$B$2:$B$367<=$H$1),IF($D$2:$D$367="Tous",IF($B$2:$B$367>=$G$1,$B$2:$B$367<=$H$1))),ROW($B$2:$B$367),""),ROWS($J$369:J377))-1),"")} | K380: {=IFERROR(INDEX($E$2:$E$367,SMALL(IF(IF(LEFT($D$2:$D$367,1)=LEFT($J$370,1),IF($B$2:$B$367>=$G$1,$B$2:$B$367<=$H$1),IF($D$2:$D$367="Tous",IF($B$2:$B$367>=$G$1,$B$2:$B$367<=$H$1))),ROW($E$2:$E$367),""),ROWS($J$369:J377))-1),"")} | M380: {=IFERROR(INDEX($B$2:$B$367,SMALL(IF(IF(LEFT($D$2:$D$367,1)=LEFT($M$370,1),IF($B$2:$B$367>=$G$1,$B$2:$B$367<=$H$1),IF($D$2:$D$367="Tous",IF($B$2:$B$367>=$G$1,$B$2:$B$367<=$H$1))),ROW($B$2:$B$367),""),ROWS($M$369:M377))-1),"")} | N380: {=IFERROR(INDEX($E$2:$E$367,SMALL(IF(IF(LEFT($D$2:$D$367,1)=LEFT($M$370,1),IF($B$2:$B$367>=$G$1,$B$2:$B$367<=$H$1),IF($D$2:$D$367="Tous",IF($B$2:$B$367>=$G$1,$B$2:$B$367<=$H$1))),ROW($E$2:$E$367),""),ROWS($M$369:M377))-1),"")} | P380: {=IFERROR(INDEX($B$2:$B$367,SMALL(IF(IF(LEFT($D$2:$D$367,1)=LEFT($P$370,1),IF($B$2:$B$367>=$G$1,$B$2:$B$367<=$H$1),IF($D$2:$D$367="Tous",IF($B$2:$B$367>=$G$1,$B$2:$B$367<=$H$1))),ROW($B$2:$B$367),""),ROWS($P$369:P377))-1),"")} | Q380: {=IFERROR(INDEX($E$2:$E$367,SMALL(IF(IF(LEFT($D$2:$D$367,1)=LEFT($P$370,1),IF($B$2:$B$367>=$G$1,$B$2:$B$367<=$H$1),IF($D$2:$D$367="Tous",IF($B$2:$B$367>=$G$1,$B$2:$B$367<=$H$1))),ROW($E$2:$E$367),""),ROWS($P$369:P377))-1),"")}
G381: {=IFERROR(INDEX($B$2:$B$367,SMALL(IF(IF(LEFT($D$2:$D$367,1)=LEFT($G$370,1),IF($B$2:$B$367>=$G$1,$B$2:$B$367<=$H$1),IF($D$2:$D$367="Tous",IF($B$2:$B$367>=$G$1,$B$2:$B$367<=$H$1))),ROW($B$2:$B$367),""),ROWS($G$369:G378))-1),"")} | H381: {=IFERROR(INDEX($E$2:$E$367,SMALL(IF(IF(LEFT($D$2:$D$367,1)=LEFT($G$370,1),IF($B$2:$B$367>=$G$1,$B$2:$B$367<=$H$1),IF($D$2:$D$367="Tous",IF($B$2:$B$367>=$G$1,$B$2:$B$367<=$H$1))),ROW($E$2:$E$367),""),ROWS($G$369:G378))-1),"")} | J381: {=IFERROR(INDEX($B$2:$B$367,SMALL(IF(IF(LEFT($D$2:$D$367,1)=LEFT($J$370,1),IF($B$2:$B$367>=$G$1,$B$2:$B$367<=$H$1),IF($D$2:$D$367="Tous",IF($B$2:$B$367>=$G$1,$B$2:$B$367<=$H$1))),ROW($B$2:$B$367),""),ROWS($J$369:J378))-1),"")} | K381: {=IFERROR(INDEX($E$2:$E$367,SMALL(IF(IF(LEFT($D$2:$D$367,1)=LEFT($J$370,1),IF($B$2:$B$367>=$G$1,$B$2:$B$367<=$H$1),IF($D$2:$D$367="Tous",IF($B$2:$B$367>=$G$1,$B$2:$B$367<=$H$1))),ROW($E$2:$E$367),""),ROWS($J$369:J378))-1),"")} | M381: {=IFERROR(INDEX($B$2:$B$367,SMALL(IF(IF(LEFT($D$2:$D$367,1)=LEFT($M$370,1),IF($B$2:$B$367>=$G$1,$B$2:$B$367<=$H$1),IF($D$2:$D$367="Tous",IF($B$2:$B$367>=$G$1,$B$2:$B$367<=$H$1))),ROW($B$2:$B$367),""),ROWS($M$369:M378))-1),"")} | N381: {=IFERROR(INDEX($E$2:$E$367,SMALL(IF(IF(LEFT($D$2:$D$367,1)=LEFT($M$370,1),IF($B$2:$B$367>=$G$1,$B$2:$B$367<=$H$1),IF($D$2:$D$367="Tous",IF($B$2:$B$367>=$G$1,$B$2:$B$367<=$H$1))),ROW($E$2:$E$367),""),ROWS($M$369:M378))-1),"")} | P381: {=IFERROR(INDEX($B$2:$B$367,SMALL(IF(IF(LEFT($D$2:$D$367,1)=LEFT($P$370,1),IF($B$2:$B$367>=$G$1,$B$2:$B$367<=$H$1),IF($D$2:$D$367="Tous",IF($B$2:$B$367>=$G$1,$B$2:$B$367<=$H$1))),ROW($B$2:$B$367),""),ROWS($P$369:P378))-1),"")} | Q381: {=IFERROR(INDEX($E$2:$E$367,SMALL(IF(IF(LEFT($D$2:$D$367,1)=LEFT($P$370,1),IF($B$2:$B$367>=$G$1,$B$2:$B$367<=$H$1),IF($D$2:$D$367="Tous",IF($B$2:$B$367>=$G$1,$B$2:$B$367<=$H$1))),ROW($E$2:$E$367),""),ROWS($P$369:P378))-1),"")}
G382: {=IFERROR(INDEX($B$2:$B$367,SMALL(IF(IF(LEFT($D$2:$D$367,1)=LEFT($G$370,1),IF($B$2:$B$367>=$G$1,$B$2:$B$367<=$H$1),IF($D$2:$D$367="Tous",IF($B$2:$B$367>=$G$1,$B$2:$B$367<=$H$1))),ROW($B$2:$B$367),""),ROWS($G$369:G379))-1),"")} | H382: {=IFERROR(INDEX($E$2:$E$367,SMALL(IF(IF(LEFT($D$2:$D$367,1)=LEFT($G$370,1),IF($B$2:$B$367>=$G$1,$B$2:$B$367<=$H$1),IF($D$2:$D$367="Tous",IF($B$2:$B$367>=$G$1,$B$2:$B$367<=$H$1))),ROW($E$2:$E$367),""),ROWS($G$369:G379))-1),"")} | J382: {=IFERROR(INDEX($B$2:$B$367,SMALL(IF(IF(LEFT($D$2:$D$367,1)=LEFT($J$370,1),IF($B$2:$B$367>=$G$1,$B$2:$B$367<=$H$1),IF($D$2:$D$367="Tous",IF($B$2:$B$367>=$G$1,$B$2:$B$367<=$H$1))),ROW($B$2:$B$367),""),ROWS($J$369:J379))-1),"")} | K382: {=IFERROR(INDEX($E$2:$E$367,SMALL(IF(IF(LEFT($D$2:$D$367,1)=LEFT($J$370,1),IF($B$2:$B$367>=$G$1,$B$2:$B$367<=$H$1),IF($D$2:$D$367="Tous",IF($B$2:$B$367>=$G$1,$B$2:$B$367<=$H$1))),ROW($E$2:$E$367),""),ROWS($J$369:J379))-1),"")} | M382: {=IFERROR(INDEX($B$2:$B$367,SMALL(IF(IF(LEFT($D$2:$D$367,1)=LEFT($M$370,1),IF($B$2:$B$367>=$G$1,$B$2:$B$367<=$H$1),IF($D$2:$D$367="Tous",IF($B$2:$B$367>=$G$1,$B$2:$B$367<=$H$1))),ROW($B$2:$B$367),""),ROWS($M$369:M379))-1),"")} | N382: {=IFERROR(INDEX($E$2:$E$367,SMALL(IF(IF(LEFT($D$2:$D$367,1)=LEFT($M$370,1),IF($B$2:$B$367>=$G$1,$B$2:$B$367<=$H$1),IF($D$2:$D$367="Tous",IF($B$2:$B$367>=$G$1,$B$2:$B$367<=$H$1))),ROW($E$2:$E$367),""),ROWS($M$369:M379))-1),"")} | P382: {=IFERROR(INDEX($B$2:$B$367,SMALL(IF(IF(LEFT($D$2:$D$367,1)=LEFT($P$370,1),IF($B$2:$B$367>=$G$1,$B$2:$B$367<=$H$1),IF($D$2:$D$367="Tous",IF($B$2:$B$367>=$G$1,$B$2:$B$367<=$H$1))),ROW($B$2:$B$367),""),ROWS($P$369:P379))-1),"")} | Q382: {=IFERROR(INDEX($E$2:$E$367,SMALL(IF(IF(LEFT($D$2:$D$367,1)=LEFT($P$370,1),IF($B$2:$B$367>=$G$1,$B$2:$B$367<=$H$1),IF($D$2:$D$367="Tous",IF($B$2:$B$367>=$G$1,$B$2:$B$367<=$H$1))),ROW($E$2:$E$367),""),ROWS($P$369:P379))-1),"")}
G383: {=IFERROR(INDEX($B$2:$B$367,SMALL(IF(IF(LEFT($D$2:$D$367,1)=LEFT($G$370,1),IF($B$2:$B$367>=$G$1,$B$2:$B$367<=$H$1),IF($D$2:$D$367="Tous",IF($B$2:$B$367>=$G$1,$B$2:$B$367<=$H$1))),ROW($B$2:$B$367),""),ROWS($G$369:G380))-1),"")} | H383: {=IFERROR(INDEX($E$2:$E$367,SMALL(IF(IF(LEFT($D$2:$D$367,1)=LEFT($G$370,1),IF($B$2:$B$367>=$G$1,$B$2:$B$367<=$H$1),IF($D$2:$D$367="Tous",IF($B$2:$B$367>=$G$1,$B$2:$B$367<=$H$1))),ROW($E$2:$E$367),""),ROWS($G$369:G380))-1),"")} | J383: {=IFERROR(INDEX($B$2:$B$367,SMALL(IF(IF(LEFT($D$2:$D$367,1)=LEFT($J$370,1),IF($B$2:$B$367>=$G$1,$B$2:$B$367<=$H$1),IF($D$2:$D$367="Tous",IF($B$2:$B$367>=$G$1,$B$2:$B$367<=$H$1))),ROW($B$2:$B$367),""),ROWS($J$369:J380))-1),"")} | K383: {=IFERROR(INDEX($E$2:$E$367,SMALL(IF(IF(LEFT($D$2:$D$367,1)=LEFT($J$370,1),IF($B$2:$B$367>=$G$1,$B$2:$B$367<=$H$1),IF($D$2:$D$367="Tous",IF($B$2:$B$367>=$G$1,$B$2:$B$367<=$H$1))),ROW($E$2:$E$367),""),ROWS($J$369:J380))-1),"")} | M383: {=IFERROR(INDEX($B$2:$B$367,SMALL(IF(IF(LEFT($D$2:$D$367,1)=LEFT($M$370,1),IF($B$2:$B$367>=$G$1,$B$2:$B$367<=$H$1),IF($D$2:$D$367="Tous",IF($B$2:$B$367>=$G$1,$B$2:$B$367<=$H$1))),ROW($B$2:$B$367),""),ROWS($M$369:M380))-1),"")} | N383: {=IFERROR(INDEX($E$2:$E$367,SMALL(IF(IF(LEFT($D$2:$D$367,1)=LEFT($M$370,1),IF($B$2:$B$367>=$G$1,$B$2:$B$367<=$H$1),IF($D$2:$D$367="Tous",IF($B$2:$B$367>=$G$1,$B$2:$B$367<=$H$1))),ROW($E$2:$E$367),""),ROWS($M$369:M380))-1),"")} | P383: {=IFERROR(INDEX($B$2:$B$367,SMALL(IF(IF(LEFT($D$2:$D$367,1)=LEFT($P$370,1),IF($B$2:$B$367>=$G$1,$B$2:$B$367<=$H$1),IF($D$2:$D$367="Tous",IF($B$2:$B$367>=$G$1,$B$2:$B$367<=$H$1))),ROW($B$2:$B$367),""),ROWS($P$369:P380))-1),"")} | Q383: {=IFERROR(INDEX($E$2:$E$367,SMALL(IF(IF(LEFT($D$2:$D$367,1)=LEFT($P$370,1),IF($B$2:$B$367>=$G$1,$B$2:$B$367<=$H$1),IF($D$2:$D$367="Tous",IF($B$2:$B$367>=$G$1,$B$2:$B$367<=$H$1))),ROW($E$2:$E$367),""),ROWS($P$369:P380))-1),"")}
... G401: {=IFERROR(INDEX($B$2:$B$367,SMALL(IF(IF(LEFT($D$2:$D$367,1)=LEFT($G$370,1),IF($B$2:$B$367>=$G$1,$B$2:$B$367<=$H$1),IF($D$2:$D$367="Tous",IF($B$2:$B$367>=$G$1,$B$2:$B$367<=$H$1))),ROW($B$2:$B$367),""),ROWS($G$369:G398))-1),"")} | H401: {=IFERROR(INDEX($E$2:$E$367,SMALL(IF(IF(LEFT($D$2:$D$367,1)=LEFT($G$370,1),IF($B$2:$B$367>=$G$1,$B$2:$B$367<=$H$1),IF($D$2:$D$367="Tous",IF($B$2:$B$367>=$G$1,$B$2:$B$367<=$H$1))),ROW($E$2:$E$367),""),ROWS($G$369:G398))-1),"")} | J401: {=IFERROR(INDEX($B$2:$B$367,SMALL(IF(IF(LEFT($D$2:$D$367,1)=LEFT($J$370,1),IF($B$2:$B$367>=$G$1,$B$2:$B$367<=$H$1),IF($D$2:$D$367="Tous",IF($B$2:$B$367>=$G$1,$B$2:$B$367<=$H$1))),ROW($B$2:$B$367),""),ROWS($J$369:J398))-1),"")} | K401: {=IFERROR(INDEX($E$2:$E$367,SMALL(IF(IF(LEFT($D$2:$D$367,1)=LEFT($J$370,1),IF($B$2:$B$367>=$G$1,$B$2:$B$367<=$H$1),IF($D$2:$D$367="Tous",IF($B$2:$B$367>=$G$1,$B$2:$B$367<=$H$1))),ROW($E$2:$E$367),""),ROWS($J$369:J398))-1),"")} | M401: {=IFERROR(INDEX($B$2:$B$367,SMALL(IF(IF(LEFT($D$2:$D$367,1)=LEFT($M$370,1),IF($B$2:$B$367>=$G$1,$B$2:$B$367<=$H$1),IF($D$2:$D$367="Tous",IF($B$2:$B$367>=$G$1,$B$2:$B$367<=$H$1))),ROW($B$2:$B$367),""),ROWS($M$369:M398))-1),"")} | N401: {=IFERROR(INDEX($E$2:$E$367,SMALL(IF(IF(LEFT($D$2:$D$367,1)=LEFT($M$370,1),IF($B$2:$B$367>=$G$1,$B$2:$B$367<=$H$1),IF($D$2:$D$367="Tous",IF($B$2:$B$367>=$G$1,$B$2:$B$367<=$H$1))),ROW($E$2:$E$367),""),ROWS($M$369:M398))-1),"")} | P401: {=IFERROR(INDEX($B$2:$B$367,SMALL(IF(IF(LEFT($D$2:$D$367,1)=LEFT($P$370,1),IF($B$2:$B$367>=$G$1,$B$2:$B$367<=$H$1),IF($D$2:$D$367="Tous",IF($B$2:$B$367>=$G$1,$B$2:$B$367<=$H$1))),ROW($B$2:$B$367),""),ROWS($P$369:P398))-1),"")} | Q401: {=IFERROR(INDEX($E$2:$E$367,SMALL(IF(IF(LEFT($D$2:$D$367,1)=LEFT($P$370,1),IF($B$2:$B$367>=$G$1,$B$2:$B$367<=$H$1),IF($D$2:$D$367="Tous",IF($B$2:$B$367>=$G$1,$B$2:$B$367<=$H$1))),ROW($E$2:$E$367),""),ROWS($P$369:P398))-1),"")}

Sheet Feuil2
A1: Mois | B1: Années | D1: Niveaux1 | E1: Niveaux2
A2: 9 | B2: 1 | E2: 6ème
A3: =DATE(B2+2022,A2,1) -> 45170 | B3: =DATE(B2+2022,A2+1,1)-1 -> 45199 | D3: Tous | E3: 5ème
A4: Janvier | B4: 2023 | D4: 6ème | E4: 4ème
A5: Février | B5: 2024 | D5: 5ème | E5: 3ème
A6: Mars | B6: 2025 | D6: 4ème
A7: Avril | B7: 2026 | D7: 3ème
A8: Mai | B8: 2027
A9: Juin | B9: 2028
A10: Juillet | B10: 2029
A11: Août | B11: 2030
A12: Septembre | B12: 2031
A13: Octobre | B13: 2032
A14: Novembre | B14: 2033
A15: Décembre | B15: 2034

Sheet Feuil3
A2: Mois | B2: Septembre
A4: Étiquettes de lignes
A5: 5ème
A6: RI
A7: 6ème
A8: CC T1
A9: CC T2
A10: (vide)
A11: (vide)
A12: Total général
