Workbook
Name Matricule: Feuil2!$K$1:$K$27

Sheet Feuil1
K4: Bonjour aux lecteurs,
C6: Liste déroulante ► E6 | E6: Equipe 1 | H6: Résultat 1 | K6: La liste déroulante en E6 me permet de choisir une équipe. OK
H7: Résultat 2 | K7: Les résultats issus des données en Feuil2 (K2:P27) doivent se placer en H6 (Feuil1) les uns à la suite des autres. KO
H8: Résultat 3
H9: Résultat 4
H10: Résultat 5 | K10: Ma tentative de résolution :
H11: …(suite) | K11: La formule matricielle que j'utilise me renvoie bien les noms, mais pas comme je le veux en Résultat 1, Résultat 2, Résultat 3…à la suite
K12: et n'est pas dynamique lorsque je change la donnée de ma liste déroulante.
K13: =INDEX(Feuil2!$K$2:$K$27;PETITE.VALEUR(SI(Feuil2!$K$1:$P$1=Feuil1!$E$6;LIGNE(Feuil2!K$2:P$27);"");LIGNE(H1))) | V13: Ce que j'arrive à faire : | W13: {=INDEX(Feuil2!$K$2:$K$27,SMALL(IF(Feuil2!$K$1:$P$1=Feuil1!$E$6,ROW(Feuil2!K$2:P$27),""),ROW(H1)))} -> Pierre | Y13: Ce que je veux : | AA13: Pierre
W14: {=INDEX(Feuil2!$K$2:$K$27,SMALL(IF(Feuil2!$K$1:$P$1=Feuil1!$E$6,ROW(Feuil2!K$2:P$27),""),ROW(H2)))} -> Paul | AA14: Paul
W15: {=INDEX(Feuil2!$K$2:$K$27,SMALL(IF(Feuil2!$K$1:$P$1=Feuil1!$E$6,ROW(Feuil2!K$2:P$27),""),ROW(H3)))} -> 0 | AA15: Jacques
W16: {=INDEX(Feuil2!$K$2:$K$27,SMALL(IF(Feuil2!$K$1:$P$1=Feuil1!$E$6,ROW(Feuil2!K$2:P$27),""),ROW(H4)))} -> 0 | AA16: André
W17: {=INDEX(Feuil2!$K$2:$K$27,SMALL(IF(Feuil2!$K$1:$P$1=Feuil1!$E$6,ROW(Feuil2!K$2:P$27),""),ROW(H5)))} -> Jacques | AA17: Henri
W18: {=INDEX(Feuil2!$K$2:$K$27,SMALL(IF(Feuil2!$K$1:$P$1=Feuil1!$E$6,ROW(Feuil2!K$2:P$27),""),ROW(H6)))} -> 0 | AA18: Simon
W19: {=INDEX(Feuil2!$K$2:$K$27,SMALL(IF(Feuil2!$K$1:$P$1=Feuil1!$E$6,ROW(Feuil2!K$2:P$27),""),ROW(H7)))} -> 0
W20: {=INDEX(Feuil2!$K$2:$K$27,SMALL(IF(Feuil2!$K$1:$P$1=Feuil1!$E$6,ROW(Feuil2!K$2:P$27),""),ROW(H8)))} -> 0
W21: {=INDEX(Feuil2!$K$2:$K$27,SMALL(IF(Feuil2!$K$1:$P$1=Feuil1!$E$6,ROW(Feuil2!K$2:P$27),""),ROW(H9)))} -> 0
W22: {=INDEX(Feuil2!$K$2:$K$27,SMALL(IF(Feuil2!$K$1:$P$1=Feuil1!$E$6,ROW(Feuil2!K$2:P$27),""),ROW(H10)))} -> 0 | Y22: …et pouvoir changer d'équipe en E6
W23: {=INDEX(Feuil2!$K$2:$K$27,SMALL(IF(Feuil2!$K$1:$P$1=Feuil1!$E$6,ROW(Feuil2!K$2:P$27),""),ROW(H11)))} -> André
W24: {=INDEX(Feuil2!$K$2:$K$27,SMALL(IF(Feuil2!$K$1:$P$1=Feuil1!$E$6,ROW(Feuil2!K$2:P$27),""),ROW(H12)))} -> Henri
W25: {=INDEX(Feuil2!$K$2:$K$27,SMALL(IF(Feuil2!$K$1:$P$1=Feuil1!$E$6,ROW(Feuil2!K$2:P$27),""),ROW(H13)))} -> 0
W26: {=INDEX(Feuil2!$K$2:$K$27,SMALL(IF(Feuil2!$K$1:$P$1=Feuil1!$E$6,ROW(Feuil2!K$2:P$27),""),ROW(H14)))} -> 0
W27: {=INDEX(Feuil2!$K$2:$K$27,SMALL(IF(Feuil2!$K$1:$P$1=Feuil1!$E$6,ROW(Feuil2!K$2:P$27),""),ROW(H15)))} -> 0
W28: {=INDEX(Feuil2!$K$2:$K$27,SMALL(IF(Feuil2!$K$1:$P$1=Feuil1!$E$6,ROW(Feuil2!K$2:P$27),""),ROW(H16)))} -> 0
W29: {=INDEX(Feuil2!$K$2:$K$27,SMALL(IF(Feuil2!$K$1:$P$1=Feuil1!$E$6,ROW(Feuil2!K$2:P$27),""),ROW(H17)))} -> 0
W30: {=INDEX(Feuil2!$K$2:$K$27,SMALL(IF(Feuil2!$K$1:$P$1=Feuil1!$E$6,ROW(Feuil2!K$2:P$27),""),ROW(H18)))} -> 0
W31: {=INDEX(Feuil2!$K$2:$K$27,SMALL(IF(Feuil2!$K$1:$P$1=Feuil1!$E$6,ROW(Feuil2!K$2:P$27),""),ROW(H19)))} -> 0
W32: {=INDEX(Feuil2!$K$2:$K$27,SMALL(IF(Feuil2!$K$1:$P$1=Feuil1!$E$6,ROW(Feuil2!K$2:P$27),""),ROW(H20)))} -> 0
W33: {=INDEX(Feuil2!$K$2:$K$27,SMALL(IF(Feuil2!$K$1:$P$1=Feuil1!$E$6,ROW(Feuil2!K$2:P$27),""),ROW(H21)))} -> 0
W34: {=INDEX(Feuil2!$K$2:$K$27,SMALL(IF(Feuil2!$K$1:$P$1=Feuil1!$E$6,ROW(Feuil2!K$2:P$27),""),ROW(H22)))} -> 0
... W37: {=INDEX(Feuil2!$K$2:$K$27,SMALL(IF(Feuil2!$K$1:$P$1=Feuil1!$E$6,ROW(Feuil2!K$2:P$27),""),ROW(H25)))} -> Simon

Sheet Feuil2
K1: Equipe 1 | L1: Equipe 2 | M1: Equipe 3 | N1: Equipe 4 | O1: Equipe 5 | P1: Equipe 6
L2: Aline
K3: Pierre | L3: Fiona | N3: Juliette | O3: Grégoire
K4: Paul | M4: Guillaume | N4: Elodie | O4: Alban
M5: Jonathan | N5: Aïcha | P5: Alizée
P6: Sylvie
K7: Jacques
N8: Gwendoline
N9: Léa
L10: Mathilde
K13: André
K14: Henri | O14: Denis
O15: Mouss
N16: Roxane
N17: Déborah
M23: Jordan
K27: Simon
