Workbook

Sheet Feuil1
A1: 43836 | B1: volley | D1: 43871 | E1: tennis
A2: 43853 | B2: jeux vidéo | G2: =VLOOKUP(A20,A3:B6,2,FALSE) -> #N/A
A17: 43835 | B17: repos | D17: 43863 | E17: équitation
A18: 43845 | B18: vélo | D18: 43873 | E18: tir à l'arc
A19: 43845 | B19: foot | D19: 43867 | E19: natation
A20: 43853 | B20: gym

Sheet Janvier
A1: 43831 | B1: =IFERROR(VLOOKUP(A1,Feuil1!A$1:B$4,2,FALSE),"travail") -> travail
A2: 43832 | B2: =IFERROR(VLOOKUP(A2,Feuil1!A$1:B$4,2,FALSE),"travail") -> travail
A3: 43833 | B3: =IFERROR(VLOOKUP(A3,Feuil1!A$1:B$4,2,FALSE),"travail") -> travail
A4: 43834 | B4: =IFERROR(VLOOKUP(A4,Feuil1!A$1:B$4,2,FALSE),"travail") -> travail
A5: 43835 | B5: =IFERROR(VLOOKUP(A5,Feuil1!A$1:B$4,2,FALSE),"travail") -> travail
A6: 43835 | B6: repos
A7: 43836 | B7: =IFERROR(VLOOKUP(A7,Feuil1!A$1:B$4,2,FALSE),"travail") -> volley
A8: 43837 | B8: =IFERROR(VLOOKUP(A8,Feuil1!A$1:B$4,2,FALSE),"travail") -> travail
A9: 43838 | B9: =IFERROR(VLOOKUP(A9,Feuil1!A$1:B$4,2,FALSE),"travail") -> travail
A10: 43839 | B10: =IFERROR(VLOOKUP(A10,Feuil1!A$1:B$4,2,FALSE),"travail") -> travail
A11: 43840 | B11: =IFERROR(VLOOKUP(A11,Feuil1!A$1:B$4,2,FALSE),"travail") -> travail
A12: 43841 | B12: =IFERROR(VLOOKUP(A12,Feuil1!A$1:B$4,2,FALSE),"travail") -> travail
A13: 43842 | B13: =IFERROR(VLOOKUP(A13,Feuil1!A$1:B$4,2,FALSE),"travail") -> travail
A14: 43843 | B14: =IFERROR(VLOOKUP(A14,Feuil1!A$1:B$4,2,FALSE),"travail") -> travail
A15: 43844 | B15: =IFERROR(VLOOKUP(A15,Feuil1!A$1:B$4,2,FALSE),"travail") -> travail
A16: 43845 | B16: =IFERROR(VLOOKUP(A16,Feuil1!A$1:B$4,2,FALSE),"travail") -> travail
A17: 43845 | B17: vélo
A18: 43845 | B18: foot
A19: 43845 | B19: =IFERROR(VLOOKUP(A19,Feuil1!A$1:B$4,2,FALSE),"travail") -> travail
A20: 43846 | B20: =IFERROR(VLOOKUP(A20,Feuil1!A$1:B$4,2,FALSE),"travail") -> travail
A21: 43847 | B21: =IFERROR(VLOOKUP(A21,Feuil1!A$1:B$4,2,FALSE),"travail") -> travail
A22: 43848 | B22: =IFERROR(VLOOKUP(A22,Feuil1!A$1:B$4,2,FALSE),"travail") -> travail
A23: 43849 | B23: =IFERROR(VLOOKUP(A23,Feuil1!A$1:B$4,2,FALSE),"travail") -> travail
A24: 43850 | B24: =IFERROR(VLOOKUP(A24,Feuil1!A$1:B$4,2,FALSE),"travail") -> travail
A25: 43851 | B25: =IFERROR(VLOOKUP(A25,Feuil1!A$1:B$4,2,FALSE),"travail") -> travail
A26: 43852 | B26: =IFERROR(VLOOKUP(A26,Feuil1!A$1:B$4,2,FALSE),"travail") -> travail
A27: 43853 | B27: =IFERROR(VLOOKUP(A27,Feuil1!A$1:B$4,2,FALSE),"travail") -> jeux vidéo
A28: 43853 | B28: gym
A29: 43854 | B29: =IFERROR(VLOOKUP(A29,Feuil1!A$1:B$4,2,FALSE),"travail") -> travail
A30: 43855 | B30: =IFERROR(VLOOKUP(A30,Feuil1!A$1:B$4,2,FALSE),"travail") -> travail
A31: 43856 | B31: =IFERROR(VLOOKUP(A31,Feuil1!A$1:B$4,2,FALSE),"travail") -> travail
A32: 43857 | B32: =IFERROR(VLOOKUP(A32,Feuil1!A$1:B$4,2,FALSE),"travail") -> travail
A33: 43858 | B33: =IFERROR(VLOOKUP(A33,Feuil1!A$1:B$4,2,FALSE),"travail") -> travail
A34: 43859 | B34: =IFERROR(VLOOKUP(A34,Feuil1!A$1:B$4,2,FALSE),"travail") -> travail
A35: 43860 | B35: =IFERROR(VLOOKUP(A35,Feuil1!A$1:B$4,2,FALSE),"travail") -> travail
A36: 43861 | B36: =IFERROR(VLOOKUP(A36,Feuil1!A$1:B$4,2,FALSE),"travail") -> travail

Sheet Février
A1: 43862 | B1: =IFERROR(VLOOKUP(A1,Feuil1!D$1:E$4,2,FALSE),"travail") -> travail
A2: 43863 | B2: =IFERROR(VLOOKUP(A2,Feuil1!D$1:E$4,2,FALSE),"travail") -> travail
A3: 43863 | B3: équitation
A4: 43864 | B4: =IFERROR(VLOOKUP(A4,Feuil1!D$1:E$4,2,FALSE),"travail") -> travail
A5: 43865 | B5: =IFERROR(VLOOKUP(A5,Feuil1!D$1:E$4,2,FALSE),"travail") -> travail
A6: 43866 | B6: =IFERROR(VLOOKUP(A6,Feuil1!D$1:E$4,2,FALSE),"travail") -> travail
A7: 43867 | B7: =IFERROR(VLOOKUP(A7,Feuil1!D$1:E$4,2,FALSE),"travail") -> travail
A8: 43867 | B8: natation
A9: 43868 | B9: =IFERROR(VLOOKUP(A9,Feuil1!D$1:E$4,2,FALSE),"travail") -> travail
A10: 43869 | B10: =IFERROR(VLOOKUP(A10,Feuil1!D$1:E$4,2,FALSE),"travail") -> travail
A11: 43870 | B11: =IFERROR(VLOOKUP(A11,Feuil1!D$1:E$4,2,FALSE),"travail") -> travail
A12: 43871 | B12: =IFERROR(VLOOKUP(A12,Feuil1!D$1:E$4,2,FALSE),"travail") -> tennis
A13: 43872 | B13: =IFERROR(VLOOKUP(A13,Feuil1!D$1:E$4,2,FALSE),"travail") -> travail
A14: 43873 | B14: =IFERROR(VLOOKUP(A14,Feuil1!D$1:E$4,2,FALSE),"travail") -> travail
A15: 43873 | B15: tir à l'arc
A16: 43874 | B16: =IFERROR(VLOOKUP(A16,Feuil1!D$1:E$4,2,FALSE),"travail") -> travail
A17: 43875 | B17: =IFERROR(VLOOKUP(A17,Feuil1!D$1:E$4,2,FALSE),"travail") -> travail
A18: 43876 | B18: =IFERROR(VLOOKUP(A18,Feuil1!D$1:E$4,2,FALSE),"travail") -> travail
A19: 43877 | B19: =IFERROR(VLOOKUP(A19,Feuil1!D$1:E$4,2,FALSE),"travail") -> travail
A20: 43878 | B20: =IFERROR(VLOOKUP(A20,Feuil1!D$1:E$4,2,FALSE),"travail") -> travail
A21: 43879 | B21: =IFERROR(VLOOKUP(A21,Feuil1!D$1:E$4,2,FALSE),"travail") -> travail
A22: 43880 | B22: =IFERROR(VLOOKUP(A22,Feuil1!D$1:E$4,2,FALSE),"travail") -> travail
A23: 43881 | B23: =IFERROR(VLOOKUP(A23,Feuil1!D$1:E$4,2,FALSE),"travail") -> travail
A24: 43882 | B24: =IFERROR(VLOOKUP(A24,Feuil1!D$1:E$4,2,FALSE),"travail") -> travail
A25: 43883 | B25: =IFERROR(VLOOKUP(A25,Feuil1!D$1:E$4,2,FALSE),"travail") -> travail
A26: 43884 | B26: =IFERROR(VLOOKUP(A26,Feuil1!D$1:E$4,2,FALSE),"travail") -> travail
A27: 43885 | B27: =IFERROR(VLOOKUP(A27,Feuil1!D$1:E$4,2,FALSE),"travail") -> travail
... A32: 43890 | B32: =IFERROR(VLOOKUP(A32,Feuil1!D$1:E$4,2,FALSE),"travail") -> travail
