Workbook

Sheet Partenaires
A1: FAMILLE | B1: NOM | C1: Civilité | D1: A l'attention de - Nomination | E1: ADRESSE | F1: CODE POSTAL | G1: VILLE | H1: COURRIER / DEMARCHE C/D | I1: ENVOYE LE / REALISEE LE | J1: COURRIER / MAIL | K1: REPONSE | L1: NOMBRE DE LOTS TOMBOLAT | M1: DOTATION | N1: PHRASE | O1: ADRESSE mail | P1: courrier de remerciement
A2: Alimentation | B2: CONFITURES BEYER S.A.S | C2: Madame, Monsieur | E2: 19 rue de l'Ecluse | F2: 68120 | G2: PFASTATT | K2: positive | N2: des coffrets de confitures, des fruits en bocaux | O2: contact@beyer-fr.com
A3: Alimentation | B3: CONFITURES DU CLIMONT | C3: Madame, Monsieur | E3: 14 Route du Climont À la Salcee | F3: 67420 | G3: RANRUPT | K3: positive | N3: un ou plusieurs coffrets, paniers de confitures | O3: contact@confituresduclimont.com
A4: Alimentation | B4: CORA | C4: Madame | D4: A l'attention de Isabelle CAPELLE | K4: positive | O4: icapelle@cora.fr
A5: Alimentation | B5: BISCUITERIE ALBISSER SA | C5: Madame, Monsieur | E5: 1 rue de la Biscuiterie | F5: 68120 | G5: PFASTATT | K5: négative | N5: des sachets de madeleines, boîtes de biscuits | O5: contact@biscuiterie-albisser.fr
A6: Alimentation | B6: TERROIR DE MARC | C6: Madame, Monsieur | E6: 8 A route d'Altkirch | F6: 68720 | G6: ILLFURTH | K6: positive | N6: des bons d'achats pour des fromages, des plateaux
A7: Alimentation | B7: LE PALAIS DU PAIN D'EPICES | C7: Madame, Monsieur | E7: 144 route de Strasbourg | F7: 67140 | G7: GERTWILLER | N7: des bons pour un parcours gourmand, des ballotins de chocolat, des bons d'achat pour votre boutique, des bons pour le restaurant
A8: Alimentation | B8: PÂTES GRAND'MERES | C8: Monsieur | D8: A l'attention de M. HEIMBURGER | E8: 7 rue du Général de Gaulle | F8: 67521 | G8: MARLENHEIM | N8: des valisettes de pâtes que vous proposez
A9: Alimentation | B9: PÂTES VALFLEURI | C9: Madame, Monsieur | E9: 5 rue de la Charente | F9: 68271 | G9: WITTENHEIM | N9: des valisettes de pâtes que vous proposez | O9: relation@valfleuri.fr
A10: Alimentation | B10: WRIGLEY FRANCE SNC | C10: Madame, Monsieur | E10: 26 D52 | F10: 68600 | G10: BIESHEIM | N10: à l'instar de vos dons passés, fortement appréciés par les gagnants
A11: Alimentation | B11: LES JARDINS DE GAÏA | C11: Madame, Monsieur | E11: ZA 6 rue de l'Ecluse | F11: 67820 | G11: WITTISHEIM | N11: un ou plusieurs coffrets, paniers garnis de thés/tisanes ou accessoires
A12: Alimentation | B12: LA MAISON DU FROMAGE | C12: Madame, Monsieur | E12: 23 route de Munster | F12: 68140 | G12: GUNSBACH | N12: des bons d'achat pour votre boutique, des produits locaux, paniers garnis
A13: Alimentation | B13: MINOTERIE MODERNE | C13: Madame, Monsieur | E13: 43 rue du Général de Gaulle | F13: 68560 | G13: HIRSINGUE | N13: des sacs de farine, des bons d'achat
A14: Alimentation | B14: MOULIN JENNY | C14: Madame, Monsieur | E14: 3 rue du Moulin | F14: 68220 | G14: HESINGUE | N14: de la farine, du jus de pomme pour composer des paniers garnis
A15: Alimentation | B15: MARIE BLACHERE | C15: Madame, Monsieur | E15: 70 rue de Mulhouse | F15: 68200 | G15: MULHOUSE | N15: un bon d'achat
A16: environnement | B16: BOL D'AIR | C16: Madame, Monsieur | D16: Parc Aventures | E16: 78 rue du Hohneck | F16: 88250 | G16: LA BRESSE | N16: des billets d'entrée pour découvrir votre parc | O16: info@lacblancparcdaventures.com
A17: environnement | B17: ACRO-SPHERE | C17: Madame, Monsieur | D17: Accrobranche | E17: 50 Chemin du Launard | F17: 88400 | G17: GERARDMER | N17: des billets d'entrée pour découvrir votre parc | O17: contact@parcarbreaventure.com
A18: environnement | B18: ACROPARK | C18: Madame, Monsieur | E18: Carrefour de la Gentiane Ballon d'Alsace | F18: 90200 | G18: LEPUIX | N18: des billets d'entrée pour découvrir votre parc | O18: chevalblanc.west@wanadoo.fr
A19: environnement | B19: PARC ALSACE AVENTURE | C19: Madame, Monsieur | D19: Col du Kreuzweg | E19: 4 Place de l'Eglise | F19: 67220 | G19: BREITENBACH | N19: des billets d'entrée pour découvrir votre parc
A20: environnement | B20: ARBR'ASCENSION | C20: Madame, Monsieur | D20: Accrobranche | E20: 17 rue du Nideck | F20: 67280 | G20: OBERHASLACH | N20: des billets d'entrée pour découvrir votre parc | O20: contact@cigoland.fr
A21: environnement | B21: NATURA PARC | C21: Madame, Monsieur | D21: Accrobranche | E21: 35 rue de la Nachtweid | F21: 67540 | G21: OSTWALD | N21: des billets d'entrée pour découvrir votre parc | O21: contact@brumath-aventure.fr
A22: environnement | B22: ALSACE AVENTURE 68 | C22: Madame, Monsieur | D22: Lac de Kruth | E22: Rue du Hof | F22: 68820 | G22: KRUTH | N22: des billets d'entrée pour découvrir votre parc
A23: environnement | B23: NATUOPARC | C23: Madame, Monsieur | D23: Centre de Réintroduction | E23: Route de Ribeauville | F23: 68150 | G23: HUNAWIHR | N23: des billets d'entrée pour découvrir votre parc
A24: environnement | B24: JARDINS DES PAPILLONS | C24: Madame, Monsieur | E24: Route de Ribeauville | F24: 68150 | G24: HUNAWIHR | N24: des billets d'entrée pour découvrir votre parc
A25: environnement | B25: LAC BLANC | C25: Madame, Monsieur | D25: PARC D'AVENTURES | F25: 68370 | G25: ORBEY | N25: des billets d'entrée pour découvrir votre parc
A26: environnement | B26: AQUARIUM D'OTTROTT LES NAÏADES | C26: Madame, Monsieur | E26: 30 rue de Klingenthal | F26: 67530 | G26: OTTROTT | N26: des billets pour découvrir votre aquarium à OTTROTT
A27: environnement | B27: PARC D'AVENTURES DE BRUMATH | C27: Madame, Monsieur | E27: Rue du Plan d'Eau | F27: 67170 | G27: BRUMATH | N27: des billets d'entrée pour découvrir votre parc
A28: environnement | B28: PARC DES EAUX VIVES | C28: Madame, Monsieur | E28: Rue Barbanègre | F28: 68330 | G28: HUNINGUE | N28: des sessions offertes pour découvir un sport d'eau vive
A29: environnement | B29: CHEMIN DE FER TOURISTIQUE DU RHIN | C29: Madame, Monsieur | E29: 2 rue de la Gare | F29: 68600 | G29: VOGELSHEIM | N29: des billets pour découvrir le charme du Ried alsacien depuis vos trains ou bâteaux
A30: environnement | B30: VIVARIUM DU MOULIN | C30: Madame, Monsieur | E30: 6 rue du Moulin | F30: 68610 | G30: LAUTENBACH-ZELL SENGERN | N30: des billets d'entrée pour le vivarium du moulin | O30: info@vivariumdumoulin.org
A31: environnement | B31: VOLERIE DES AIGLES | C31: Madame, Monsieur | E31: Château de Kintzheim | F31: 67600 | G31: KINTZHEIM | N31: des billets d'entrée pour découvrir votre parc
A32: environnement | B32: PARC ZOOLOGIQUE | C32: Madame, Monsieur | E32: 1 rue du Tigre | F32: 57360 | G32: AMNEVILLE | N32: des billets d'entrée pour découvrir le zoo
A33: environnement | B33: JARDINS ZOOLOGIQUE DE BALE | C33: Madame, Monsieur | E33: Binningerstrasse 40 | G33: CH - 4011 BALE | N33: des billets d'entrée pour découvrir le zoo | O33: zoo@zoobasel.ch
A34: environnement | B34: PARC ZOOLOGIQUE ET BOTANIQUE | C34: Madame, Monsieur | E34: 51 rue du Jardins Zoologique | F34: 68100 | G34: MULHOUSE | N34: des billets d'entrée pour découvrir votre parc
A35: jouet | B35: JOUET CLUB | C35: Madame, Monsieur | E35: 1 rue Saint Nicolas | F35: 68000 | G35: COLMAR | N35: des bons d'achat
A36: jouet | B36: JOUET CLUB | C36: Madame, Monsieur | E36: 5 rue des Trois Frontières | F36: 68110 | G36: ILLZACH | N36: des bons d'achat
A37: jouet | B37: KING JOUET | C37: Madame, Monsieur | E37: 90 rue de Soultz | F37: 68270 | G37: WITTENHEIM | N37: des bons d'achat
A38: jouet | B38: GAMES WORKSHOP | C38: Madame, Monsieur | E38: 5 rue des Tanneurs | F38: 68100 | G38: MULHOUSE | N38: des bons d'achat
A39: jouet | B39: GRANDE RECRE | C39: Madame, Monsieur | E39: 1 Boulevard de l'Europe | F39: 68100 | G39: MULHOUSE | N39: des bons d'achat
A40: jouet | B40: ALLO JEUX | C40: Madame, Monsieur | E40: 5 rue de la Loire | F40: 68100 | G40: MULHOUSE | N40: des bons d'achat | O40: contact@cigoland.fr
A41: jouet | B41: CP INTERNATIONAL | C41: Madame, Monsieur | E41: 11 rue André Kiener | F41: 68000 | G41: COLMAR | N41: des bons d'achat
A42: jouet | B42: CULTURA | C42: Madame, Monsieur | E42: ZAC du Carreau Anna | F42: 68270 | G42: WITTENHEIM | N42: des bons d'achat
A43: jouet | B43: LITTERA | C43: Madame, Monsieur | E43: 25 Place de la Réunion | F43: 68100 | G43: MULHOUSE | N43: des bons d'achat
A44: Loisir | B44: ACROPARK | C44: Madame, Monsieur | E44: 4A route de Guewenheim | F44: 68250 | G44: BURNHAUT LE HAUT | N44: des billets d'entrée pour votre parc | O44: ballon-alsace@acropark.fr
A45: jouet | B45: MAXI TOYS | C45: Madame, Monsieur | E45: 91 rue de Guebwiller | F45: 68260 | G45: KINGERSHEIM | N45: des bons d'achat
A46: jouet | B46: TOYS'R'US | C46: Madame, Monsieur | D46: Centre Commercial Ile Napoléon | E46: 14 rue de Berne | F46: 68110 | G46: ILLZACH | N46: des bons d'achat
A47: Loisir | B47: CIGOLAND | C47: Madame, Monsieur | E47: Route de Sélestat | F47: 67600 | G47: KINTZHEIM | N47: des billets d'entrée pour découvrir votre parc | O47: contact@cigoland.fr
A48: Loisir | B48: CINEMA LA COUPOLE | C48: Madame, Monsieur | E48: 4 Croisée des Lys | F48: 68300 | G48: SAINT LOUIS | N48: des places de cinéma de votre établissement
A49: Loisir | B49: CINEMA PALACE LUMIERE | C49: Madame, Monsieur | E49: 2 Boulevard Georges Clémenceau | F49: 68130 | G49: ALTKIRCH | N49: des places de cinéma de votre établissement | O49: cinema.altkirch@noecinemas.com
A50: Loisir | B50: CINEMA MULTIPLEXE MEGA CGR | C50: Madame, Monsieur | E50: Place Scheurer Kestner | F50: 68000 | G50: COLMAR | N50: des places de cinéma de votre établissement
A51: Loisir | B51: CINEMA LE FLORIVAL | C51: Madame, Monsieur | E51: 1 Place jean Finiels | F51: 68500 | G51: GUEBWILLER | N51: des places de cinéma de votre établissement
A52: Loisir | B52: CINEMA LE PALACE | C52: Madame, Monsieur | E52: 10 Avenue de Colmar | F52: 68100 | G52: MULHOUSE | N52: des places de cinéma de votre établissement
A53: Loisir | B53: CITE DE L'AUTOMOBILE | C53: Madame, Monsieur | E53: 192 Avenue de Colmar | F53: 68051 | G53: MULHOUSE CEDEX | N53: des billets d'entrée pour votre établissement
A54: Loisir | B54: CITE DU TRAIN | C54: Madame, Monsieur | E54: 2 rue Alfrd de Glehn | F54: 68200 | G54: MULHOUSE | N54: des billets d'entrée pour votre établissement | O54: message@citedutrain.com
A55: Loisir | B55: Décathlon Wittenheim | C55: Madame, Monsieur | E55: ZAC du Carreau Anna | N55: des goodies, un bon d'achat | O55: dominique.gabiron@decathlon.com
A56: Loisir | B56: Décathlon Wittenheim | C56: Madame, Monsieur | E56: ZAC du Carreau Anna | N56: des goodies, un bon d'achat | O56: carole.schultz@decathlon.com
A57: Loisir | B57: EUROPA PARK | C57: Madame, Monsieur | E57: Straβe 2 | F57: 77977 RUST | G57: Allemagne | N57: des billets d'entrée pour découvrir votre parc | O57: marketing.france@europapark.de
A58: Loisir | B58: FRAISPERTUIS - CITY | C58: Madame, Monsieur | E58: 36 rue de la Colline des Eaux | F58: 88700 | G58: JEANMENIL | N58: des billets d'entrée pour découvrir votre parc
A59: Loisir | B59: CINEMA KINEPOLIS | C59: Madame, Monsieur | E59: 175 Avenue Robert Schuman | F59: 68100 | G59: MULHOUSE | N59: des places de cinéma de votre établissement
A60: Loisir | B60: CASINO BARRIERE BLOTZHEIM | C60: Monsieur | D60: A l'attention de M. Thomas BOLTZ | E60: 777 all Casino | F60: 68730 | G60: BLOTZHEIM | N60: pour la tombola ou les gagnants de nos concours. A l'instar des bons cadeaux que nous avions acquis l'an dernier et qui ont eu un fort retentissement auprès des gagnants, et des autres participants | O60: aheitzmann@groupebarriere05/04/2018com
A61: Loisir | B61: RESORT BARRIERE RIBEAUVILLE | C61: Madame, Monsieur | E61: Route départementale 106 | F61: 68150 | G61: RIBEAUVILLE | N61: un bon cadeau pour un séjour pour 2 dans votre établissement qui pourrait être le plus gros lot, mis en avant tout au long de la journée de notre évènement
A62: Loisir | B62: CENTRE NAUTIQUE ILE NAPOLEON | C62: Madame, Monsieur | E62: 5 rue de l'Industrie | F62: 68440 | G62: HABSHEIM | N62: des billets d'entrées pour votre centre nautique
A63: Loisir | B63: CHÂTEAU DU HAUT-KOENIGSBOURG | C63: Madame, Monsieur | F63: 67600 | G63: ORSCHWILLER | N63: des billets d'entrée pour découvrir votre château
A64: Loisir | B64: DIDILAND | C64: Madame, Monsieur | E64: 1 rue Gunstett | F64: 67360 | G64: MORSBRONN LES BAINS | N64: des billets d'entrée pour découvrir votre parc | O64: info@didiland.fr
A65: Loisir | B65: HOSTELLERIE LA CHENAUDIERE | C65: Madame, Monsieur | E65: 3 rue du Vieux Moulin | F65: 67420 | G65: COLROY-LA-ROCHE | N65: un bon cadeau pour un séjour pour 2 qui serait assurément le gros lot, mis en avant tout au long de la journée.
A66: Loisir | B66: LASER GAME COMPLEXE KINEPOLIS | C66: Madame, Monsieur | E66: 175 Avenue Robert Schuman | F66: 68100 | G66: MULHOUSE | N66: des goodies, des billets pour une partie de Laser Game | O66: mulhouse@lasergame-evolution.com
A67: Loisir | B67: XTREME LASER 68 | C67: Madame, Monsieur | E67: 140 rue du Ladhof | F67: 68000 | G67: COLMAR | N67: des goodies, des billets pour une partie de Laser Game
A68: Loisir | B68: LE VAISSEAU | C68: Madame, Monsieur | E68: 1 Bis Rue Philippe Dollinger | F68: 67100 | G68: STRASBOURG | N68: des billets d'entrée pour le vaisseau | O68: info@levaisseau.com
A69: Loisir | B69: LA MONTAGNE DES SINGES | C69: Madame, Monsieur | E69: La Wick | F69: 67600 | G69: KINTZHEIM | N69: des billets d'entrée pour la montagne des singes
A70: Loisir | B70: MUSEE DU JOUET | C70: Madame, Monsieur | E70: 40 rue Vauban | F70: 68000 | G70: COLMAR | N70: des billets d'entrée pour découvrir votre parc | O70: info@museejouet.com
A71: Loisir | B71: MUSEE EDF ELECTROPOLIS | C71: Madame, Monsieur | E71: 55 rue du Pâturage | F71: 68200 | G71: MULHOUSE | N71: des billets d'entrée pour le Musée EDF Electropolis | O71: reservations@electropolis.tm.fr
A72: Loisir | B72: PARC DU PETIT PRINCE | C72: Madame, Monsieur | F72: 68190 | G72: UNGERSHEIM | N72: des billets d'entrée pour découvrir votre parc | O72: clara.pierog@parcdupetitprince.com
A73: Loisir | B73: PATINOIRE OLYMPIQUE DE MULHOUSE | C73: Madame, Monsieur | E73: 47 Boulevard Stoessel | F73: 68200 | G73: MULHOUSE | N73: des billets d'entrée pour votre patinoire
A74: Loisir | B74: PATINOIRE DE COLMAR | C74: Madame, Monsieur | E74: 15 rue Robert Schuman | F74: 68000 | G74: COLMAR | N74: des billets d'entrée pour votre patinoire | O74: patinoire.colmar@orange.fr
A75: Loisir | B75: PISCINE AQUALIA | C75: Madame, Monsieur | E75: 7 rue du Pigeon | F75: 68000 | G75: COLMAR | N75: des billets d'entrée pour votre piscine
A76: Loisir | B76: RELAIS ET CHÂTEAUX | C76: Madame, Monsieur | D76: Service Marketing | E76: 58 rue de Prony | F76: 75017 | G76: PARIS CEDEX | N76: nous mettrons en place un concours et nous recherchons le "gros lot". Dans le cadre, nous avons pensé à une enseigne prestigieuse comme la vôtre pour figurer tout en haut du tableau des récompenses
A77: Loisir | B77: LE ROYAL PALACE | C77: Madame, Monsieur | E77: 20 rue de Hochfelden | F77: 67330 | G77: KIRRWILLER | N77: des goodies, un ou deux bons pour votre spectacle avec repas | O77: pmeyer@royal-palace.com
A78: Loisir | B78: STADE NAUTIQUE DE MULHOUSE | C78: Madame, Monsieur | E78: 53 Boulevard Stoessel | F78: 68100 | G78: MULHOUSE | N78: des billets d'entrée pour votre piscine
A79: Loisir | B79: SUNDGAU KARTING | C79: Madame, Monsieur | E79: 1 Voie Romaine | F79: 68640 | G79: STEINSOULTZ | N79: des sessions offertes avec Kart dans votre établissement
A80: Loisir | B80: LA NEF DES JOUETS | C80: Madame, Monsieur | E80: 12 rue Jean Jaurès | F80: 68360 | G80: SOULTZ | N80: des billets d'entrée pour découvrir votre parc
A81: Loisir | B81: CINEMA ESPACE GRÜN | C81: Madame, Monsieur | E81: 32 rue Georges Risler | F81: 68700 | G81: CERNAY | N81: des places de cinéma de votre établissement | O81: contact@espace-grun.net
A82: Loisir | B82: LES VIOLETTES HOTEL & SPA | C82: Madame, Monsieur | E82: Route de Thierenbach | F82: 68500 | G82: JUNGHOLTZ | N82: un bon cadeau pour un séjour pour 2 dans votre établissement qui pourrait être le gros lot, mis en avant tout au long de la journée
A83: Loisir | B83: RELAIS CULTUREL | C83: Madame, Monsieur | E83: 51 rue kléber | F83: 68800 | G83: THANN | N83: des places de cinéma de votre établissement
A84: Loisir | B84: BOWLING COLMAR LOISIRS | C84: Madame, Monsieur | E84: 11 rue André Kiener | F84: 68000 | G84: COLMAR | N84: des billets pour découvrir votre bowling
A85: Loisir | B85: CRISTAL BOWLING | C85: Monsieur | D85: A l'attention de M. Richard MEYER | E85: 6 rue des Pays Bas | F85: 68310 | G85: WITTELSHEIM | N85: des billets pour découvrir votre bowling
A86: loisir | B86: L'Atelier d'Emile | C86: Madame, Monsieur | E86: 7, Rue du Calvaire | F86: 68127 | G86: Sainte Croix En Plaine | N86: un bon de réduction | O86: gite.atelier.emile@gmail.com
A87: loisir | B87: Cirque ARLETTE GRUSS | C87: Madame, Monsieur | N87: des billets d'entrée pour votre spectacle
A88: Restaurant | B88: BRASSERIE LE TRIDENT | C88: Madame, Monsieur | N88: un bon pour 1 ou 2 repas | O88: brasserieflo-mulhouse.com
A89: Restaurant | B89: Campanile | C89: Madame, Monsieur | N89: un bon de réduction
A90: Restaurant | B90: TABLAPIZZA | C90: Madame, Monsieur | N90: un bon d'achat
A91: Restaurant | B91: HOVENCO | C91: Madame, Monsieur | D91: Passeport Gourmand | E91: 2 rue d'Oslo | F91: 67000 | G91: STRASBOURG | N91: des bons pour 1 ou 2 repas
A92: Restaurant | B92: L'AUBERGE DU BOUCHER | C92: Madame, Monsieur | D92: Restaurant | E92: 147 rue de Bâle | F92: 68100 | G92: MULHOUSE | N92: des bons pour 1 ou 2 repas
A93: Restaurant | B93: LE PETIT PARIS | C93: Madame, Monsieur | D93: Restaurant | E93: 12 rue de la Moselle | F93: 68100 | G93: MULHOUSE | N93: des bons pour 1 ou 2 repas
A94: Restaurant | B94: AU VIEUX BEYROUTH | C94: Madame, Monsieur | D94: Restaurant | E94: 15 rue Madeleine | F94: 68200 | G94: MULHOUSE | N94: des bons pour 1 ou 2 repas
A95: Restaurant | B95: L'AUBERGE DE L'Ill | C95: Madame, Monsieur | D95: Restaurant | E95: 2 Collonges au Mont d'Or | F95: 68970 | G95: ILLHAEUSERN | N95: des bons pour 1 ou 2 repas
A96: Restaurant | B96: KHURA THAI | C96: Madame, Monsieur | D96: Restaurant | E96: 90 avenue Aristide Briand | F96: 68200 | G96: MULHOUSE | N96: des bons pour 1 ou 2 repas
A97: Restaurant | B97: KÔSYE | C97: Madame, Monsieur | D97: Restaurant | E97: 37 rue des Trois Rois | F97: 68100 | G97: MULHOUSE | N97: des bons pour 1 ou 2 repas
A98: Restaurant | B98: LE PIADINA DE SABASTIANO | C98: Madame, Monsieur | D98: Restaurant | E98: 10 Passage de l'Hôtel de Ville | F98: 68100 | G98: MULHOUSE | N98: des bons pour 1 ou 2 repas
A99: Restaurant | B99: AU CHEVAL BLANC | C99: Madame, Monsieur | D99: Restaurant | E99: 380 avenue d'Altkirch | F99: 68350 | G99: BRUNSTATT | N99: des bons pour 1 ou 2 repas
A100: Restaurant | B100: AUX VIEUX PORCHE | C100: Madame, Monsieur | D100: Restaurant | E100: 16 rue des Trois Châteaux | F100: 68420 | G100: EGUISHEIM | N100: des bons pour 1 ou 2 repas
...

Sheet Financiers
A1: FAMILLE | B1: NOM | C1: Civilité | D1: A l'attention de - Nomination | E1: ADRESSE | F1: CODE POSTAL | G1: VILLE | H1: COURRIER PREPARE ? | I1: COURRIER / DEMARCHE | J1: ENVOYE LE / REALISEE LE | K1: COURRIER / MAIL | L1: REPONSE | M1: NOMBRE DE LOTS TOMBOLAT | N1: DOTATION | O1: PHRASE | P1: ADRESSE mail | Q1: courrier de remerciement
A2: Administratif | B2: CDOS | C2: Monsieur le Président | D2: Guy BOOTZ | E2: 29 rue du Chanoine Henri Cetty | F2: 68200 | G2: MULHOUSE
A3: Administratif | B3: CREDIT MUTUEL | C3: Monsieur | D3: Frédéric KREMINSKI | E3: 37 Avenue Kennedy - BP 2349 | F3: 68069 | G3: MULHOUSE CEDEX 2
A4: Administratif | B4: COLLEGE EPISCOPAL | C4: Monsieur le Directeur | D4: Vincent CHEVALIER | E4: 5 rue du Séminaire | F4: 68720 | G4: ZILLISHEIM
A5: Administratif | B5: CONSEIL DEPARTEMENTAL DU HAUT RHIN | C5: Madame la Présidente | D5: Brigitte KLINKERT | E5: 100 avenue d'Alsace - BP 20351 | F5: 68006 | G5: COLMAR CEDEX
A6: Administratif | B6: Henri BELZUNG | C6: Monsieur | P6: h.beltzung@gmail.com
A7: Administratif | B7: CREDIT MUTUEL | C7: Monsieur | D7: Patrick SCHOENE | E7: 24 rue Eugène Ducretet BP 1089 | F7: 68051 | G7: MULHOUSE CEDEX 2
A8: Administratif | B8: FFBB | C8: Monsieur | D8: Nicolas SEIGNEZ | E8: 117 rue du Château des Rentiers BP 403 | F8: 75626 | G8: PARIS CEDEX 13
B15: Demander de subvention

Sheet Officiels Préparation Fête
A1: Nom | B1: Civilité | C1: A l'attention de - Nomination | D1: ADRESSE | E1: CODE POSTAL | F1: VILLE
A2: Gendarmerie | B2: Monsieur | C2: Monsieur le Commandant de la Communauté de Brigades | D2: 14 rue de la gare | E2: 68460 | F2: Lutterbach
A3: Centre Hospitalier HASENRAIN | B3: Madame, Monsieur | C3: Direction administrative | D3: 87 avenue d’Altkirch | E3: 68051 | F3: Mulhouse
A4: Mairie de Zillisheim | B4: Monsieur | C4: Monsieur Joseph GOESTER | D4: 1 place du Général-de-Gaulle | E4: 68720 | F4: Zillisheim
A5: Caserne des Pompiers | B5: Monsieur | C5: Monsieur Stéphane SALADIN | D5: 12 Grand rue | E5: 68720 | F5: Zillisheim
A6: Préfecture du Haut-Rhin | B6: Madame, Monsieur | C6: Service du cabinet | D6: 7 rue Bruat | E6: 68020 | F6: Colmar Cedex

Sheet Vin d'honneur+Remerciements
A1: NOM | B1: Civilité | C1: A l'attention de - Nomination | D1: ADRESSE | E1: CODE POSTAL | F1: VILLE | G1: ADRESSE mail
A2: Cora | B2: Monsieur | C2: Monsieur le directeur | D2: 10 rue de l'ancolie | E2: 68740 | F2: Hirtzfelden
A3: =IF(Partenaires!$K:$K="positive",Partenaires!B2," ") -> CONFITURES BEYER S.A.S | B3: =IF(Partenaires!$K:$K="positive",Partenaires!C2," ") -> Madame, Monsieur | C3: =IF(Partenaires!$K:$K="positive",Partenaires!D2,"") -> 0 | D3: =IF(Partenaires!$K:$K="positive",Partenaires!E2," ") -> 19 rue de l'Ecluse | E3: =IF(Partenaires!$K:$K="positive",Partenaires!F2," ") -> 68120 | F3: =IF(Partenaires!$K:$K="positive",Partenaires!G2," ") -> PFASTATT
A4: =IF(Partenaires!$K:$K="positive",Partenaires!B3," ") -> CONFITURES DU CLIMONT | B4: =IF(Partenaires!$K:$K="positive",Partenaires!C3," ") -> Madame, Monsieur | C4: =IF(Partenaires!$K:$K="positive",Partenaires!D3," ") -> 0 | D4: =IF(Partenaires!$K:$K="positive",Partenaires!E3," ") -> 14 Route du Climont À la Salcee | E4: =IF(Partenaires!$K:$K="positive",Partenaires!F3," ") -> 67420 | F4: =IF(Partenaires!$K:$K="positive",Partenaires!G3," ") -> RANRUPT
A5: =IF(Partenaires!$K:$K="positive",Partenaires!B4," ") | B5: =IF(Partenaires!$K:$K="positive",Partenaires!C4," ") | C5: =IF(Partenaires!$K:$K="positive",Partenaires!D4," ") | D5: =IF(Partenaires!$K:$K="positive",Partenaires!E4," ") | E5: =IF(Partenaires!$K:$K="positive",Partenaires!F4," ") | F5: =IF(Partenaires!$K:$K="positive",Partenaires!G4," ")
A6: =IF(Partenaires!$K:$K="positive",Partenaires!B5," ") -> BISCUITERIE ALBISSER SA
A7: =IF(Partenaires!$K:$K="positive",Partenaires!B6," ")
A8: =IF(Partenaires!$K:$K="positive",Partenaires!B7," ")
A9: =IF(Partenaires!$K:$K="positive",Partenaires!B8," ")
A10: =IF(Partenaires!$K:$K="positive",Partenaires!B9," ")
A11: =IF(Partenaires!$K:$K="positive",Partenaires!B10," ")
A12: =IF(Partenaires!$K:$K="positive",Partenaires!B11," ")
A13: =IF(Partenaires!$K:$K="positive",Partenaires!B12," ")
A14: =IF(Partenaires!$K:$K="positive",Partenaires!B13," ")

Sheet Feuil2
A1: N° | B1: LOT | H1: N° | I1: LOT
A2: 1 | B2: CONFITURE CERISES BEYER | H2: 150 | I2: 2 ENTRÉES OKIDOK
A3: 2 | B3: CONFITURE CERISES BEYER | H3: 151 | I3: 2 ENTRÉES OKIDOK
A4: 3 | B4: CONFITURE CERISES BEYER | H4: 152 | I4: 2 ENTRÉES OKIDOK
A5: 4 | B5: CONFITURE CERISES BEYER | H5: 153 | I5: BON POULAILLON PETIT DÉJEUNER
A6: 5 | B6: CONFITURE CERISES BEYER | H6: 154 | I6: BON POULAILLON PETIT DÉJEUNER
A7: 6 | B7: CONFITURE CERISES BEYER | H7: 155 | I7: BON POULAILLON PETIT DÉJEUNER
A8: 7 | B8: LOT 4 PETITS POTS DE CONFITURES BEYER | H8: 156 | I8: BON POULAILLON PETIT DÉJEUNER
A9: 8 | B9: LOT 4 PETITS POTS DE CONFITURES BEYER | H9: 157 | I9: BON POULAILLON PETIT DÉJEUNER
A10: 9 | B10: LOT 4 PETITS POTS DE CONFITURES BEYER | H10: 158 | I10: BALLONS SAC BASKET
A11: 10 | B11: LOT 4 PETITS POTS DE CONFITURES BEYER | H11: 159 | I11: BALLONS SAC BASKET
A12: 11 | B12: LOT 4 PETITS POTS DE CONFITURES BEYER | H12: 160 | I12: BALLONS SAC BASKET
A13: 12 | B13: LOT 4 PETITS POTS DE CONFITURES BEYER | H13: 161 | I13: BALLONS SAC BASKET
... A150: 149 | B150: 2 ENTRÉES OKIDOK | H150: 298 | I150: PAQUET GATEAUX ALBISSER
H151: 299 | I151: PAQUET GATEAUX ALBISSER
H152: 300 | I152: PAQUET GATEAUX ALBISSER
H153: 301 | I153: PAQUET GATEAUX ALBISSER
H154: 302 | I154: PAQUET GATEAUX ALBISSER
H155: 303 | I155: PAQUET GATEAUX ALBISSER
H156: 304 | I156: LAC BLANC FORFAIT PARCOURS 7-11 ANS
H157: 305 | I157: LAC BLANC FORFAIT PARCOURS 7-11 ANS
H158: 306 | I158: ENTRÉE ENFANT SENTIER PIEDS NUS LAC BLANC
H159: 307 | I159: ENTRÉE ENFANT SENTIER PIEDS NUS LAC BLANC
H160: 308 | I160: POSTER 3D TIGRE BUREAU VALLÉE
H161: 309 | I161: CLASSEUR A4 CHICA VAMPIRO BUREAU VALLÉE
H162: 310 | I162: BOIGIE + PORTE-BOUGIE BUREAU VALLÉE
... H180: 328 | I180: 2 PIZZAS GRATUITES CAPTAIN PIZZA
H181: 329
H182: 330
