Workbook

Sheet Synthèse
A1: Fourn | B1: Lib. | C1: Grp March | D1: Article | E1: Lib.2 | F1: Code ABC | G1: Ean | H1: Ref art | I1: Cdt. | J1: PCB | K1: Tva | L1: Devise | M1: PA base | N1: PA net(pce) | O1: Rem PA | P1: Deb ach | Q1: Fin ach | R1: Tva ach | S1: Src appro | T1: Mrq Com | U1: Nature | V1: Lib.3 | W1: DA | X1: ROSNY | Y1: ARCUEIL | Z1: IVRY | AA1: CHATENAY MALABRY | AB1: BRY SUR MARNE | AC1: BOULOGNE BILL | AD1: PLAINE ST DENIS | AE1: PLAISIR | AF1: ST MAXIMIN | AG1: BUCHELAY | AH1: BAILLET EN F | AI1: HERBLAY | AJ1: CERGY PONTOISE | AK1: FOURQUEUX | AL1: VELIZY VILLACO | AM1: LE CHESNAY | AN1: DEAUVILLE | AO1: GRIGNY | AP1: LA VILLE DU BOIS | AQ1: LES ULIS | AR1: CAEN | AS1: JARDINERIE JULLIEN | AT1: MERIGNAC | AU1: QUENTIN FLORE | AV1: AMIENS | AW1: BLOIS | AX1: ST JEAN LE BLC | AY1: LE MANS | AZ1: PONTHIERRY | BA1: SERVON | BB1: ST BRIEUC | BC1: PACE | BD1: RENNES ALMA | BE1: ST JOUAN D.GUE. | BF1: QUIMPER | BG1: LORIENT | BH1: CHOLET | BI1: CHAMBRAY L.T. | BJ1: CARQUEFOU | BK1: NANTES-ORVAULT | BL1: WITTENHEIM | BM1: METZ | BN1: COLMAR | BO1: COLOMIERS | BP1: TOULOUSE | BQ1: PAU-LONS | BR1: ST JORY | BS1: TOULOUSE GRAND HOTEL | BT1: AUBAGNE | BU1: CABRIES | BV1: NIMES | BW1: MONTPELLIER | BX1: COUTEVROULT | BY1: VILLEPARISIS | BZ1: PARIS | CA1: JARDINERIE DE BARENTIN | CB1: SA JARDINERIE D ISNEAUVILLE | CC1: SARL PLANTES ET LOISIRS | CD1: LE MANS | CE1: PUILBOREAU | CF1: AVIGNON
D2: 55623 | E2: BALLE ET TETINES 38 CM | F2: A | G2: 3575070018868 | H2: R0017 | J2: 3 | K2: 0.2 | N2: 5.9 | X2: =SUMIFS(Stocks!$E$2:$E$5455,Stocks!$D$2:$D$5455,Synthèse!X$1,Stocks!$A$2:$A$5455,Synthèse!$D$2:$D$442) -> 0 | Y2: =SUMIFS(Stocks!$E$2:$E$5455,Stocks!$D$2:$D$5455,Synthèse!Y$1,Stocks!$A$2:$A$5455,Synthèse!$D$2:$D$442) -> 0 | Z2: =SUMIFS(Stocks!$E$2:$E$5455,Stocks!$D$2:$D$5455,Synthèse!Z$1,Stocks!$A$2:$A$5455,Synthèse!$D$2:$D$442) -> 0 | AA2: =SUMIFS(Stocks!$E$2:$E$5455,Stocks!$D$2:$D$5455,Synthèse!AA$1,Stocks!$A$2:$A$5455,Synthèse!$D$2:$D$442) -> 0 | AB2: =SUMIFS(Stocks!$E$2:$E$5455,Stocks!$D$2:$D$5455,Synthèse!AB$1,Stocks!$A$2:$A$5455,Synthèse!$D$2:$D$442) -> 0 | AC2: =SUMIFS(Stocks!$E$2:$E$5455,Stocks!$D$2:$D$5455,Synthèse!AC$1,Stocks!$A$2:$A$5455,Synthèse!$D$2:$D$442) -> 0 | AD2: =SUMIFS(Stocks!$E$2:$E$5455,Stocks!$D$2:$D$5455,Synthèse!AD$1,Stocks!$A$2:$A$5455,Synthèse!$D$2:$D$442) -> 0 | AE2: =SUMIFS(Stocks!$E$2:$E$5455,Stocks!$D$2:$D$5455,Synthèse!AE$1,Stocks!$A$2:$A$5455,Synthèse!$D$2:$D$442) -> 0 | ... CF2: =SUMIFS(Stocks!$E$2:$E$5455,Stocks!$D$2:$D$5455,Synthèse!CF$1,Stocks!$A$2:$A$5455,Synthèse!$D$2:$D$442) -> 0
A3: 1667 | B3: COMPAGNIE DES PET FOODS | C3: 110 | D3: 144088 | E3: TAPIS CONFORT 50X75 CM GRIS | F3: A | G3: 3575070002294 | H3: C2294G | I3: PCE | J3: 1 | K3: 0.2 | L3: EUR | M3: 7.52 | N3: 7.52 | O3: 0 | P3: 43154 | Q3: 43465 | R3: 0.2 | S3: 1 | T3: ANKA | U3: 171 | V3: COUCHAGE ANIMAL : TAPIS | W3: 474 | X3: =SUMIFS(Stocks!$E$2:$E$5455,Stocks!$D$2:$D$5455,Synthèse!X$1,Stocks!$A$2:$A$5455,Synthèse!$D$2:$D$442) -> 0 | Y3: =SUMIFS(Stocks!$E$2:$E$5455,Stocks!$D$2:$D$5455,Synthèse!Y$1,Stocks!$A$2:$A$5455,Synthèse!$D$2:$D$442) -> 0 | Z3: =SUMIFS(Stocks!$E$2:$E$5455,Stocks!$D$2:$D$5455,Synthèse!Z$1,Stocks!$A$2:$A$5455,Synthèse!$D$2:$D$442) -> 0 | AA3: =SUMIFS(Stocks!$E$2:$E$5455,Stocks!$D$2:$D$5455,Synthèse!AA$1,Stocks!$A$2:$A$5455,Synthèse!$D$2:$D$442) -> 0 | AB3: =SUMIFS(Stocks!$E$2:$E$5455,Stocks!$D$2:$D$5455,Synthèse!AB$1,Stocks!$A$2:$A$5455,Synthèse!$D$2:$D$442) -> 0 | AC3: =SUMIFS(Stocks!$E$2:$E$5455,Stocks!$D$2:$D$5455,Synthèse!AC$1,Stocks!$A$2:$A$5455,Synthèse!$D$2:$D$442) -> 0 | AD3: =SUMIFS(Stocks!$E$2:$E$5455,Stocks!$D$2:$D$5455,Synthèse!AD$1,Stocks!$A$2:$A$5455,Synthèse!$D$2:$D$442) -> 0 | AE3: =SUMIFS(Stocks!$E$2:$E$5455,Stocks!$D$2:$D$5455,Synthèse!AE$1,Stocks!$A$2:$A$5455,Synthèse!$D$2:$D$442) -> 0 | ... CF3: =SUMIFS(Stocks!$E$2:$E$5455,Stocks!$D$2:$D$5455,Synthèse!CF$1,Stocks!$A$2:$A$5455,Synthèse!$D$2:$D$442) -> 0
A4: 1667 | B4: COMPAGNIE DES PET FOODS | C4: 110 | D4: 144091 | E4: TAPIS CONFORT 75X100 CM GRIS | F4: A | G4: 3575070002324 | H4: C2324G | I4: PCE | J4: 1 | K4: 0.2 | L4: EUR | M4: 13.65 | N4: 13.65 | O4: 0 | P4: 43154 | Q4: 43465 | R4: 0.2 | S4: 1 | T4: ANKA | U4: 171 | V4: COUCHAGE ANIMAL : TAPIS | W4: 474 | X4: =SUMIFS(Stocks!$E$2:$E$5455,Stocks!$D$2:$D$5455,Synthèse!X$1,Stocks!$A$2:$A$5455,Synthèse!$D$2:$D$442) -> 0 | Y4: =SUMIFS(Stocks!$E$2:$E$5455,Stocks!$D$2:$D$5455,Synthèse!Y$1,Stocks!$A$2:$A$5455,Synthèse!$D$2:$D$442) -> 0 | Z4: =SUMIFS(Stocks!$E$2:$E$5455,Stocks!$D$2:$D$5455,Synthèse!Z$1,Stocks!$A$2:$A$5455,Synthèse!$D$2:$D$442) -> 0 | AA4: =SUMIFS(Stocks!$E$2:$E$5455,Stocks!$D$2:$D$5455,Synthèse!AA$1,Stocks!$A$2:$A$5455,Synthèse!$D$2:$D$442) -> 0 | AB4: =SUMIFS(Stocks!$E$2:$E$5455,Stocks!$D$2:$D$5455,Synthèse!AB$1,Stocks!$A$2:$A$5455,Synthèse!$D$2:$D$442) -> 0 | AC4: =SUMIFS(Stocks!$E$2:$E$5455,Stocks!$D$2:$D$5455,Synthèse!AC$1,Stocks!$A$2:$A$5455,Synthèse!$D$2:$D$442) -> 0 | AD4: =SUMIFS(Stocks!$E$2:$E$5455,Stocks!$D$2:$D$5455,Synthèse!AD$1,Stocks!$A$2:$A$5455,Synthèse!$D$2:$D$442) -> 0 | AE4: =SUMIFS(Stocks!$E$2:$E$5455,Stocks!$D$2:$D$5455,Synthèse!AE$1,Stocks!$A$2:$A$5455,Synthèse!$D$2:$D$442) -> 0 | ... CF4: =SUMIFS(Stocks!$E$2:$E$5455,Stocks!$D$2:$D$5455,Synthèse!CF$1,Stocks!$A$2:$A$5455,Synthèse!$D$2:$D$442) -> 1
A5: 1667 | B5: COMPAGNIE DES PET FOODS | C5: 120 | D5: 232409 | E5: SUPPORT DOUBLE + GAMELLES INOX | F5: A | G5: 3575070006704 | H5: J6246 | I5: PCE | J5: 1 | K5: 0.2 | L5: EUR | M5: 10.25 | N5: 10.25 | O5: 0 | P5: 43154 | Q5: 43465 | R5: 0.2 | S5: 1 | T5: ANKA | U5: 2024 | V5: ACCESSOIRE ALIMENTAIRE | W5: 474 | X5: =SUMIFS(Stocks!$E$2:$E$5455,Stocks!$D$2:$D$5455,Synthèse!X$1,Stocks!$A$2:$A$5455,Synthèse!$D$2:$D$442) -> 0 | Y5: =SUMIFS(Stocks!$E$2:$E$5455,Stocks!$D$2:$D$5455,Synthèse!Y$1,Stocks!$A$2:$A$5455,Synthèse!$D$2:$D$442) -> 0 | Z5: =SUMIFS(Stocks!$E$2:$E$5455,Stocks!$D$2:$D$5455,Synthèse!Z$1,Stocks!$A$2:$A$5455,Synthèse!$D$2:$D$442) -> 0 | AA5: =SUMIFS(Stocks!$E$2:$E$5455,Stocks!$D$2:$D$5455,Synthèse!AA$1,Stocks!$A$2:$A$5455,Synthèse!$D$2:$D$442) -> 0 | AB5: =SUMIFS(Stocks!$E$2:$E$5455,Stocks!$D$2:$D$5455,Synthèse!AB$1,Stocks!$A$2:$A$5455,Synthèse!$D$2:$D$442) -> 0 | AC5: =SUMIFS(Stocks!$E$2:$E$5455,Stocks!$D$2:$D$5455,Synthèse!AC$1,Stocks!$A$2:$A$5455,Synthèse!$D$2:$D$442) -> 0 | AD5: =SUMIFS(Stocks!$E$2:$E$5455,Stocks!$D$2:$D$5455,Synthèse!AD$1,Stocks!$A$2:$A$5455,Synthèse!$D$2:$D$442) -> 0 | AE5: =SUMIFS(Stocks!$E$2:$E$5455,Stocks!$D$2:$D$5455,Synthèse!AE$1,Stocks!$A$2:$A$5455,Synthèse!$D$2:$D$442) -> 2 | ... CF5: =SUMIFS(Stocks!$E$2:$E$5455,Stocks!$D$2:$D$5455,Synthèse!CF$1,Stocks!$A$2:$A$5455,Synthèse!$D$2:$D$442) -> 0
A6: 1667 | B6: COMPAGNIE DES PET FOODS | C6: 62 | D6: 250734 | E6: MAISON D ANGLE COCHON D INDE | F6: A | G6: 3575070008517 | H6: GRB6048 | I6: PCE | J6: 1 | K6: 0.2 | L6: EUR | M6: 5.02 | N6: 5.02 | O6: 0 | P6: 43101 | Q6: 43465 | R6: 0.2 | S6: 1 | T6: RONGIS | U6: 2017 | V6: COUCHAGE ANIMAL : DÔME, TENTE | W6: 474 | X6: =SUMIFS(Stocks!$E$2:$E$5455,Stocks!$D$2:$D$5455,Synthèse!X$1,Stocks!$A$2:$A$5455,Synthèse!$D$2:$D$442) -> 2 | Y6: =SUMIFS(Stocks!$E$2:$E$5455,Stocks!$D$2:$D$5455,Synthèse!Y$1,Stocks!$A$2:$A$5455,Synthèse!$D$2:$D$442) -> 2 | Z6: =SUMIFS(Stocks!$E$2:$E$5455,Stocks!$D$2:$D$5455,Synthèse!Z$1,Stocks!$A$2:$A$5455,Synthèse!$D$2:$D$442) -> 3 | AA6: =SUMIFS(Stocks!$E$2:$E$5455,Stocks!$D$2:$D$5455,Synthèse!AA$1,Stocks!$A$2:$A$5455,Synthèse!$D$2:$D$442) -> 0 | AB6: =SUMIFS(Stocks!$E$2:$E$5455,Stocks!$D$2:$D$5455,Synthèse!AB$1,Stocks!$A$2:$A$5455,Synthèse!$D$2:$D$442) -> 2 | AC6: =SUMIFS(Stocks!$E$2:$E$5455,Stocks!$D$2:$D$5455,Synthèse!AC$1,Stocks!$A$2:$A$5455,Synthèse!$D$2:$D$442) -> 0 | AD6: =SUMIFS(Stocks!$E$2:$E$5455,Stocks!$D$2:$D$5455,Synthèse!AD$1,Stocks!$A$2:$A$5455,Synthèse!$D$2:$D$442) -> 0 | AE6: =SUMIFS(Stocks!$E$2:$E$5455,Stocks!$D$2:$D$5455,Synthèse!AE$1,Stocks!$A$2:$A$5455,Synthèse!$D$2:$D$442) -> 2 | ... CF6: =SUMIFS(Stocks!$E$2:$E$5455,Stocks!$D$2:$D$5455,Synthèse!CF$1,Stocks!$A$2:$A$5455,Synthèse!$D$2:$D$442) -> 3
A7: 1667 | B7: COMPAGNIE DES PET FOODS | C7: 62 | D7: 250735 | E7: MAISON D ANGLE LAPIN NAIN | F7: A | G7: 3575070008524 | H7: GRB6049 | I7: PCE | J7: 1 | K7: 0.2 | L7: EUR | M7: 7.69 | N7: 7.69 | O7: 0 | P7: 43101 | Q7: 43465 | R7: 0.2 | S7: 1 | T7: RONGIS | U7: 2017 | V7: COUCHAGE ANIMAL : DÔME, TENTE | W7: 474 | X7: =SUMIFS(Stocks!$E$2:$E$5455,Stocks!$D$2:$D$5455,Synthèse!X$1,Stocks!$A$2:$A$5455,Synthèse!$D$2:$D$442) -> 1 | Y7: =SUMIFS(Stocks!$E$2:$E$5455,Stocks!$D$2:$D$5455,Synthèse!Y$1,Stocks!$A$2:$A$5455,Synthèse!$D$2:$D$442) -> 1 | Z7: =SUMIFS(Stocks!$E$2:$E$5455,Stocks!$D$2:$D$5455,Synthèse!Z$1,Stocks!$A$2:$A$5455,Synthèse!$D$2:$D$442) -> 28 | AA7: =SUMIFS(Stocks!$E$2:$E$5455,Stocks!$D$2:$D$5455,Synthèse!AA$1,Stocks!$A$2:$A$5455,Synthèse!$D$2:$D$442) -> 2 | AB7: =SUMIFS(Stocks!$E$2:$E$5455,Stocks!$D$2:$D$5455,Synthèse!AB$1,Stocks!$A$2:$A$5455,Synthèse!$D$2:$D$442) -> 1 | AC7: =SUMIFS(Stocks!$E$2:$E$5455,Stocks!$D$2:$D$5455,Synthèse!AC$1,Stocks!$A$2:$A$5455,Synthèse!$D$2:$D$442) -> 0 | AD7: =SUMIFS(Stocks!$E$2:$E$5455,Stocks!$D$2:$D$5455,Synthèse!AD$1,Stocks!$A$2:$A$5455,Synthèse!$D$2:$D$442) -> 0 | AE7: =SUMIFS(Stocks!$E$2:$E$5455,Stocks!$D$2:$D$5455,Synthèse!AE$1,Stocks!$A$2:$A$5455,Synthèse!$D$2:$D$442) -> 2 | ... CF7: =SUMIFS(Stocks!$E$2:$E$5455,Stocks!$D$2:$D$5455,Synthèse!CF$1,Stocks!$A$2:$A$5455,Synthèse!$D$2:$D$442) -> 2
A8: 1667 | B8: COMPAGNIE DES PET FOODS | C8: 62 | D8: 250740 | E8: MAISON FORESTIERE HAMS/SOUR | F8: B | G8: 3575070008562 | H8: GRB6060 | I8: PCE | J8: 1 | K8: 0.2 | L8: EUR | M8: 2.25 | N8: 2.25 | O8: 0 | P8: 43101 | Q8: 43465 | R8: 0.2 | S8: 1 | T8: RONGIS | U8: 2017 | V8: COUCHAGE ANIMAL : DÔME, TENTE | W8: 474 | X8: =SUMIFS(Stocks!$E$2:$E$5455,Stocks!$D$2:$D$5455,Synthèse!X$1,Stocks!$A$2:$A$5455,Synthèse!$D$2:$D$442) -> 3 | Y8: =SUMIFS(Stocks!$E$2:$E$5455,Stocks!$D$2:$D$5455,Synthèse!Y$1,Stocks!$A$2:$A$5455,Synthèse!$D$2:$D$442) -> 8 | Z8: =SUMIFS(Stocks!$E$2:$E$5455,Stocks!$D$2:$D$5455,Synthèse!Z$1,Stocks!$A$2:$A$5455,Synthèse!$D$2:$D$442) -> 5 | AA8: =SUMIFS(Stocks!$E$2:$E$5455,Stocks!$D$2:$D$5455,Synthèse!AA$1,Stocks!$A$2:$A$5455,Synthèse!$D$2:$D$442) -> 0 | AB8: =SUMIFS(Stocks!$E$2:$E$5455,Stocks!$D$2:$D$5455,Synthèse!AB$1,Stocks!$A$2:$A$5455,Synthèse!$D$2:$D$442) -> 4 | AC8: =SUMIFS(Stocks!$E$2:$E$5455,Stocks!$D$2:$D$5455,Synthèse!AC$1,Stocks!$A$2:$A$5455,Synthèse!$D$2:$D$442) -> 0 | AD8: =SUMIFS(Stocks!$E$2:$E$5455,Stocks!$D$2:$D$5455,Synthèse!AD$1,Stocks!$A$2:$A$5455,Synthèse!$D$2:$D$442) -> 0 | AE8: =SUMIFS(Stocks!$E$2:$E$5455,Stocks!$D$2:$D$5455,Synthèse!AE$1,Stocks!$A$2:$A$5455,Synthèse!$D$2:$D$442) -> 2 | ... CF8: =SUMIFS(Stocks!$E$2:$E$5455,Stocks!$D$2:$D$5455,Synthèse!CF$1,Stocks!$A$2:$A$5455,Synthèse!$D$2:$D$442) -> 0
A9: 1667 | B9: COMPAGNIE DES PET FOODS | C9: 453 | D9: 307383 | E9: MANGEOIRE METAL POUSSIN 50 CM | F9: C | G9: 3575070011524 | H9: S4503 | I9: PCE | J9: 1 | K9: 0.2 | L9: EUR | M9: 2.97 | N9: 2.97 | O9: 0 | P9: 43101 | Q9: 43465 | R9: 0.2 | S9: 1 | T9: COMPAGNIE DES PET FOODS | U9: 2023 | V9: MANGEOIRE | W9: 474 | X9: =SUMIFS(Stocks!$E$2:$E$5455,Stocks!$D$2:$D$5455,Synthèse!X$1,Stocks!$A$2:$A$5455,Synthèse!$D$2:$D$442) -> 0 | Y9: =SUMIFS(Stocks!$E$2:$E$5455,Stocks!$D$2:$D$5455,Synthèse!Y$1,Stocks!$A$2:$A$5455,Synthèse!$D$2:$D$442) -> 0 | Z9: =SUMIFS(Stocks!$E$2:$E$5455,Stocks!$D$2:$D$5455,Synthèse!Z$1,Stocks!$A$2:$A$5455,Synthèse!$D$2:$D$442) -> 0 | AA9: =SUMIFS(Stocks!$E$2:$E$5455,Stocks!$D$2:$D$5455,Synthèse!AA$1,Stocks!$A$2:$A$5455,Synthèse!$D$2:$D$442) -> 2 | AB9: =SUMIFS(Stocks!$E$2:$E$5455,Stocks!$D$2:$D$5455,Synthèse!AB$1,Stocks!$A$2:$A$5455,Synthèse!$D$2:$D$442) -> 0 | AC9: =SUMIFS(Stocks!$E$2:$E$5455,Stocks!$D$2:$D$5455,Synthèse!AC$1,Stocks!$A$2:$A$5455,Synthèse!$D$2:$D$442) -> 0 | AD9: =SUMIFS(Stocks!$E$2:$E$5455,Stocks!$D$2:$D$5455,Synthèse!AD$1,Stocks!$A$2:$A$5455,Synthèse!$D$2:$D$442) -> 0 | AE9: =SUMIFS(Stocks!$E$2:$E$5455,Stocks!$D$2:$D$5455,Synthèse!AE$1,Stocks!$A$2:$A$5455,Synthèse!$D$2:$D$442) -> 3 | ... CF9: =SUMIFS(Stocks!$E$2:$E$5455,Stocks!$D$2:$D$5455,Synthèse!CF$1,Stocks!$A$2:$A$5455,Synthèse!$D$2:$D$442) -> 0
A10: 1667 | B10: COMPAGNIE DES PET FOODS | C10: 453 | D10: 307385 | E10: MANGEOIRE METAL POULE 50 CM | F10: C | G10: 3575070011531 | H10: S4504 | I10: PCE | J10: 1 | K10: 0.2 | L10: EUR | M10: 4.58 | N10: 4.58 | O10: 0 | P10: 43101 | Q10: 43465 | R10: 0.2 | S10: 1 | T10: COMPAGNIE DES PET FOODS | U10: 2023 | V10: MANGEOIRE | W10: 474 | X10: =SUMIFS(Stocks!$E$2:$E$5455,Stocks!$D$2:$D$5455,Synthèse!X$1,Stocks!$A$2:$A$5455,Synthèse!$D$2:$D$442) -> 0 | Y10: =SUMIFS(Stocks!$E$2:$E$5455,Stocks!$D$2:$D$5455,Synthèse!Y$1,Stocks!$A$2:$A$5455,Synthèse!$D$2:$D$442) -> 0 | Z10: =SUMIFS(Stocks!$E$2:$E$5455,Stocks!$D$2:$D$5455,Synthèse!Z$1,Stocks!$A$2:$A$5455,Synthèse!$D$2:$D$442) -> 0 | AA10: =SUMIFS(Stocks!$E$2:$E$5455,Stocks!$D$2:$D$5455,Synthèse!AA$1,Stocks!$A$2:$A$5455,Synthèse!$D$2:$D$442) -> 2 | AB10: =SUMIFS(Stocks!$E$2:$E$5455,Stocks!$D$2:$D$5455,Synthèse!AB$1,Stocks!$A$2:$A$5455,Synthèse!$D$2:$D$442) -> 0 | AC10: =SUMIFS(Stocks!$E$2:$E$5455,Stocks!$D$2:$D$5455,Synthèse!AC$1,Stocks!$A$2:$A$5455,Synthèse!$D$2:$D$442) -> 0 | AD10: =SUMIFS(Stocks!$E$2:$E$5455,Stocks!$D$2:$D$5455,Synthèse!AD$1,Stocks!$A$2:$A$5455,Synthèse!$D$2:$D$442) -> 0 | AE10: =SUMIFS(Stocks!$E$2:$E$5455,Stocks!$D$2:$D$5455,Synthèse!AE$1,Stocks!$A$2:$A$5455,Synthèse!$D$2:$D$442) -> 1 | ... CF10: =SUMIFS(Stocks!$E$2:$E$5455,Stocks!$D$2:$D$5455,Synthèse!CF$1,Stocks!$A$2:$A$5455,Synthèse!$D$2:$D$442) -> 7
A11: 1667 | B11: COMPAGNIE DES PET FOODS | C11: 453 | D11: 307388 | E11: NOURRISSEUR GALVA 5 KG | F11: C | G11: 3575070011548 | H11: S4505 | I11: PCE | J11: 1 | K11: 0.2 | L11: EUR | M11: 8.84 | N11: 8.84 | O11: 0 | P11: 43101 | Q11: 43465 | R11: 0.2 | S11: 1 | T11: COMPAGNIE DES PET FOODS | U11: 2022 | V11: ABREUVOIR ET BIBERON | W11: 474 | X11: =SUMIFS(Stocks!$E$2:$E$5455,Stocks!$D$2:$D$5455,Synthèse!X$1,Stocks!$A$2:$A$5455,Synthèse!$D$2:$D$442) -> 0 | Y11: =SUMIFS(Stocks!$E$2:$E$5455,Stocks!$D$2:$D$5455,Synthèse!Y$1,Stocks!$A$2:$A$5455,Synthèse!$D$2:$D$442) -> 0 | Z11: =SUMIFS(Stocks!$E$2:$E$5455,Stocks!$D$2:$D$5455,Synthèse!Z$1,Stocks!$A$2:$A$5455,Synthèse!$D$2:$D$442) -> 0 | AA11: =SUMIFS(Stocks!$E$2:$E$5455,Stocks!$D$2:$D$5455,Synthèse!AA$1,Stocks!$A$2:$A$5455,Synthèse!$D$2:$D$442) -> 0 | AB11: =SUMIFS(Stocks!$E$2:$E$5455,Stocks!$D$2:$D$5455,Synthèse!AB$1,Stocks!$A$2:$A$5455,Synthèse!$D$2:$D$442) -> 0 | AC11: =SUMIFS(Stocks!$E$2:$E$5455,Stocks!$D$2:$D$5455,Synthèse!AC$1,Stocks!$A$2:$A$5455,Synthèse!$D$2:$D$442) -> 0 | AD11: =SUMIFS(Stocks!$E$2:$E$5455,Stocks!$D$2:$D$5455,Synthèse!AD$1,Stocks!$A$2:$A$5455,Synthèse!$D$2:$D$442) -> 0 | AE11: =SUMIFS(Stocks!$E$2:$E$5455,Stocks!$D$2:$D$5455,Synthèse!AE$1,Stocks!$A$2:$A$5455,Synthèse!$D$2:$D$442) -> 2 | ... CF11: =SUMIFS(Stocks!$E$2:$E$5455,Stocks!$D$2:$D$5455,Synthèse!CF$1,Stocks!$A$2:$A$5455,Synthèse!$D$2:$D$442) -> 5
A12: 1667 | B12: COMPAGNIE DES PET FOODS | C12: 453 | D12: 307390 | E12: ABREUVOIR PLASTIQUE 3 L | F12: C | G12: 3575070011555 | H12: S4506 | I12: PCE | J12: 1 | K12: 0.2 | L12: EUR | M12: 1.47 | N12: 1.47 | O12: 0 | P12: 43101 | Q12: 43465 | R12: 0.2 | S12: 1 | T12: COMPAGNIE DES PET FOODS | U12: 2022 | V12: ABREUVOIR ET BIBERON | W12: 474 | X12: =SUMIFS(Stocks!$E$2:$E$5455,Stocks!$D$2:$D$5455,Synthèse!X$1,Stocks!$A$2:$A$5455,Synthèse!$D$2:$D$442) -> 0 | Y12: =SUMIFS(Stocks!$E$2:$E$5455,Stocks!$D$2:$D$5455,Synthèse!Y$1,Stocks!$A$2:$A$5455,Synthèse!$D$2:$D$442) -> 0 | Z12: =SUMIFS(Stocks!$E$2:$E$5455,Stocks!$D$2:$D$5455,Synthèse!Z$1,Stocks!$A$2:$A$5455,Synthèse!$D$2:$D$442) -> 0 | AA12: =SUMIFS(Stocks!$E$2:$E$5455,Stocks!$D$2:$D$5455,Synthèse!AA$1,Stocks!$A$2:$A$5455,Synthèse!$D$2:$D$442) -> 0 | AB12: =SUMIFS(Stocks!$E$2:$E$5455,Stocks!$D$2:$D$5455,Synthèse!AB$1,Stocks!$A$2:$A$5455,Synthèse!$D$2:$D$442) -> 0 | AC12: =SUMIFS(Stocks!$E$2:$E$5455,Stocks!$D$2:$D$5455,Synthèse!AC$1,Stocks!$A$2:$A$5455,Synthèse!$D$2:$D$442) -> 0 | AD12: =SUMIFS(Stocks!$E$2:$E$5455,Stocks!$D$2:$D$5455,Synthèse!AD$1,Stocks!$A$2:$A$5455,Synthèse!$D$2:$D$442) -> 0 | AE12: =SUMIFS(Stocks!$E$2:$E$5455,Stocks!$D$2:$D$5455,Synthèse!AE$1,Stocks!$A$2:$A$5455,Synthèse!$D$2:$D$442) -> 2 | ... CF12: =SUMIFS(Stocks!$E$2:$E$5455,Stocks!$D$2:$D$5455,Synthèse!CF$1,Stocks!$A$2:$A$5455,Synthèse!$D$2:$D$442) -> 0
A13: 1667 | B13: COMPAGNIE DES PET FOODS | C13: 73 | D13: 307392 | E13: ABREUVOIR PLASTIQUE 10 L | F13: C | G13: 3575070011579 | H13: S4508 | I13: PCE | J13: 1 | K13: 0.2 | L13: EUR | M13: 4.02 | N13: 4.02 | O13: 0 | P13: 43101 | Q13: 43465 | R13: 0.2 | S13: 1 | T13: COMPAGNIE DES PET FOODS | U13: 2022 | V13: ABREUVOIR ET BIBERON | W13: 474 | X13: =SUMIFS(Stocks!$E$2:$E$5455,Stocks!$D$2:$D$5455,Synthèse!X$1,Stocks!$A$2:$A$5455,Synthèse!$D$2:$D$442) -> 0 | Y13: =SUMIFS(Stocks!$E$2:$E$5455,Stocks!$D$2:$D$5455,Synthèse!Y$1,Stocks!$A$2:$A$5455,Synthèse!$D$2:$D$442) -> 0 | Z13: =SUMIFS(Stocks!$E$2:$E$5455,Stocks!$D$2:$D$5455,Synthèse!Z$1,Stocks!$A$2:$A$5455,Synthèse!$D$2:$D$442) -> 0 | AA13: =SUMIFS(Stocks!$E$2:$E$5455,Stocks!$D$2:$D$5455,Synthèse!AA$1,Stocks!$A$2:$A$5455,Synthèse!$D$2:$D$442) -> 0 | AB13: =SUMIFS(Stocks!$E$2:$E$5455,Stocks!$D$2:$D$5455,Synthèse!AB$1,Stocks!$A$2:$A$5455,Synthèse!$D$2:$D$442) -> 0 | AC13: =SUMIFS(Stocks!$E$2:$E$5455,Stocks!$D$2:$D$5455,Synthèse!AC$1,Stocks!$A$2:$A$5455,Synthèse!$D$2:$D$442) -> 0 | AD13: =SUMIFS(Stocks!$E$2:$E$5455,Stocks!$D$2:$D$5455,Synthèse!AD$1,Stocks!$A$2:$A$5455,Synthèse!$D$2:$D$442) -> 0 | AE13: =SUMIFS(Stocks!$E$2:$E$5455,Stocks!$D$2:$D$5455,Synthèse!AE$1,Stocks!$A$2:$A$5455,Synthèse!$D$2:$D$442) -> 4 | ... CF13: =SUMIFS(Stocks!$E$2:$E$5455,Stocks!$D$2:$D$5455,Synthèse!CF$1,Stocks!$A$2:$A$5455,Synthèse!$D$2:$D$442) -> 6
A14: 1667 | B14: COMPAGNIE DES PET FOODS | C14: 118 | D14: 316533 | E14: LAPIN NO STUFFING 35CM | F14: A | G14: 3575070011180 | H14: J0551 | I14: PCE | J14: 6 | K14: 0.2 | L14: EUR | M14: 2.26 | N14: 2.26 | O14: 0 | P14: 43154 | Q14: 43465 | R14: 0.2 | S14: 1 | T14: ANKA | U14: 197 | V14: JOUET ANIMAL : PELUCHE | W14: 474 | X14: =SUMIFS(Stocks!$E$2:$E$5455,Stocks!$D$2:$D$5455,Synthèse!X$1,Stocks!$A$2:$A$5455,Synthèse!$D$2:$D$442) -> 0 | Y14: =SUMIFS(Stocks!$E$2:$E$5455,Stocks!$D$2:$D$5455,Synthèse!Y$1,Stocks!$A$2:$A$5455,Synthèse!$D$2:$D$442) -> 0 | Z14: =SUMIFS(Stocks!$E$2:$E$5455,Stocks!$D$2:$D$5455,Synthèse!Z$1,Stocks!$A$2:$A$5455,Synthèse!$D$2:$D$442) -> 13 | AA14: =SUMIFS(Stocks!$E$2:$E$5455,Stocks!$D$2:$D$5455,Synthèse!AA$1,Stocks!$A$2:$A$5455,Synthèse!$D$2:$D$442) -> 0 | AB14: =SUMIFS(Stocks!$E$2:$E$5455,Stocks!$D$2:$D$5455,Synthèse!AB$1,Stocks!$A$2:$A$5455,Synthèse!$D$2:$D$442) -> 0 | AC14: =SUMIFS(Stocks!$E$2:$E$5455,Stocks!$D$2:$D$5455,Synthèse!AC$1,Stocks!$A$2:$A$5455,Synthèse!$D$2:$D$442) -> 0 | AD14: =SUMIFS(Stocks!$E$2:$E$5455,Stocks!$D$2:$D$5455,Synthèse!AD$1,Stocks!$A$2:$A$5455,Synthèse!$D$2:$D$442) -> 0 | AE14: =SUMIFS(Stocks!$E$2:$E$5455,Stocks!$D$2:$D$5455,Synthèse!AE$1,Stocks!$A$2:$A$5455,Synthèse!$D$2:$D$442) -> 0 | ... CF14: =SUMIFS(Stocks!$E$2:$E$5455,Stocks!$D$2:$D$5455,Synthèse!CF$1,Stocks!$A$2:$A$5455,Synthèse!$D$2:$D$442) -> 2
... A81: 1667 | B81: COMPAGNIE DES PET FOODS | C81: 119 | D81: 486212 | E81: ANNEAU TPR XS 9 CM | F81: A | G81: 3575070016482 | H81: J1228 | I81: PCE | J81: 12 | K81: 0.2 | L81: EUR | M81: 1.48 | N81: 1.48 | O81: 0 | P81: 43154 | Q81: 43465 | R81: 0.2 | S81: 1 | T81: ANKA | U81: 195 | V81: JOUET ANIMAL : CORDE | W81: 474 | X81: =SUMIFS(Stocks!$E$2:$E$5455,Stocks!$D$2:$D$5455,Synthèse!X$1,Stocks!$A$2:$A$5455,Synthèse!$D$2:$D$442) -> 1 | Y81: =SUMIFS(Stocks!$E$2:$E$5455,Stocks!$D$2:$D$5455,Synthèse!Y$1,Stocks!$A$2:$A$5455,Synthèse!$D$2:$D$442) -> 1 | Z81: =SUMIFS(Stocks!$E$2:$E$5455,Stocks!$D$2:$D$5455,Synthèse!Z$1,Stocks!$A$2:$A$5455,Synthèse!$D$2:$D$442) -> 4 | AA81: =SUMIFS(Stocks!$E$2:$E$5455,Stocks!$D$2:$D$5455,Synthèse!AA$1,Stocks!$A$2:$A$5455,Synthèse!$D$2:$D$442) -> 0 | AB81: =SUMIFS(Stocks!$E$2:$E$5455,Stocks!$D$2:$D$5455,Synthèse!AB$1,Stocks!$A$2:$A$5455,Synthèse!$D$2:$D$442) -> 3 | AC81: =SUMIFS(Stocks!$E$2:$E$5455,Stocks!$D$2:$D$5455,Synthèse!AC$1,Stocks!$A$2:$A$5455,Synthèse!$D$2:$D$442) -> 0 | AD81: =SUMIFS(Stocks!$E$2:$E$5455,Stocks!$D$2:$D$5455,Synthèse!AD$1,Stocks!$A$2:$A$5455,Synthèse!$D$2:$D$442) -> 0 | AE81: =SUMIFS(Stocks!$E$2:$E$5455,Stocks!$D$2:$D$5455,Synthèse!AE$1,Stocks!$A$2:$A$5455,Synthèse!$D$2:$D$442) -> 10 | ... CF81: =SUMIFS(Stocks!$E$2:$E$5455,Stocks!$D$2:$D$5455,Synthèse!CF$1,Stocks!$A$2:$A$5455,Synthèse!$D$2:$D$442) -> 3
D82: 505362 | E82: ABREUVOIR PLASTIQUE 30 L | F82: C | G82: 3575070017038 | H82: S4509CPL | I82: PCE | J82: 1 | K82: 0.2 | L82: EUR | M82: 17.78 | N82: 17.78 | O82: 0 | P82: 43101 | Q82: 43465 | R82: 0.2 | S82: 1 | T82: COMPAGNIE DES PET FOODS | U82: 2022 | V82: ABREUVOIR ET BIBERON | W82: 474 | X82: =SUMIFS(Stocks!$E$2:$E$5455,Stocks!$D$2:$D$5455,Synthèse!X$1,Stocks!$A$2:$A$5455,Synthèse!$D$2:$D$442) -> 0 | Y82: =SUMIFS(Stocks!$E$2:$E$5455,Stocks!$D$2:$D$5455,Synthèse!Y$1,Stocks!$A$2:$A$5455,Synthèse!$D$2:$D$442) -> 0 | Z82: =SUMIFS(Stocks!$E$2:$E$5455,Stocks!$D$2:$D$5455,Synthèse!Z$1,Stocks!$A$2:$A$5455,Synthèse!$D$2:$D$442) -> 0 | AA82: =SUMIFS(Stocks!$E$2:$E$5455,Stocks!$D$2:$D$5455,Synthèse!AA$1,Stocks!$A$2:$A$5455,Synthèse!$D$2:$D$442) -> 2 | AB82: =SUMIFS(Stocks!$E$2:$E$5455,Stocks!$D$2:$D$5455,Synthèse!AB$1,Stocks!$A$2:$A$5455,Synthèse!$D$2:$D$442) -> 0 | AC82: =SUMIFS(Stocks!$E$2:$E$5455,Stocks!$D$2:$D$5455,Synthèse!AC$1,Stocks!$A$2:$A$5455,Synthèse!$D$2:$D$442) -> 0 | AD82: =SUMIFS(Stocks!$E$2:$E$5455,Stocks!$D$2:$D$5455,Synthèse!AD$1,Stocks!$A$2:$A$5455,Synthèse!$D$2:$D$442) -> 0 | AE82: =SUMIFS(Stocks!$E$2:$E$5455,Stocks!$D$2:$D$5455,Synthèse!AE$1,Stocks!$A$2:$A$5455,Synthèse!$D$2:$D$442) -> 2 | ... CF82: =SUMIFS(Stocks!$E$2:$E$5455,Stocks!$D$2:$D$5455,Synthèse!CF$1,Stocks!$A$2:$A$5455,Synthèse!$D$2:$D$442) -> 4
A83: 1667 | B83: COMPAGNIE DES PET FOODS | C83: 453 | D83: 505363 | E83: ABREUVOIR POUSSIN PLAS 1.5 L | F83: B | G83: 3575070016765 | H83: S4516 | I83: PCE | J83: 1 | K83: 0.2 | L83: EUR | M83: 1.34 | N83: 1.34 | O83: 0 | P83: 43101 | Q83: 43465 | R83: 0.2 | S83: 1 | T83: COMPAGNIE DES PET FOODS | U83: 2022 | V83: ABREUVOIR ET BIBERON | W83: 474 | X83: =SUMIFS(Stocks!$E$2:$E$5455,Stocks!$D$2:$D$5455,Synthèse!X$1,Stocks!$A$2:$A$5455,Synthèse!$D$2:$D$442) -> 0 | Y83: =SUMIFS(Stocks!$E$2:$E$5455,Stocks!$D$2:$D$5455,Synthèse!Y$1,Stocks!$A$2:$A$5455,Synthèse!$D$2:$D$442) -> 0 | Z83: =SUMIFS(Stocks!$E$2:$E$5455,Stocks!$D$2:$D$5455,Synthèse!Z$1,Stocks!$A$2:$A$5455,Synthèse!$D$2:$D$442) -> 0 | AA83: =SUMIFS(Stocks!$E$2:$E$5455,Stocks!$D$2:$D$5455,Synthèse!AA$1,Stocks!$A$2:$A$5455,Synthèse!$D$2:$D$442) -> 2 | AB83: =SUMIFS(Stocks!$E$2:$E$5455,Stocks!$D$2:$D$5455,Synthèse!AB$1,Stocks!$A$2:$A$5455,Synthèse!$D$2:$D$442) -> 2 | AC83: =SUMIFS(Stocks!$E$2:$E$5455,Stocks!$D$2:$D$5455,Synthèse!AC$1,Stocks!$A$2:$A$5455,Synthèse!$D$2:$D$442) -> 0 | AD83: =SUMIFS(Stocks!$E$2:$E$5455,Stocks!$D$2:$D$5455,Synthèse!AD$1,Stocks!$A$2:$A$5455,Synthèse!$D$2:$D$442) -> 0 | AE83: =SUMIFS(Stocks!$E$2:$E$5455,Stocks!$D$2:$D$5455,Synthèse!AE$1,Stocks!$A$2:$A$5455,Synthèse!$D$2:$D$442) -> 2 | ... CF83: =SUMIFS(Stocks!$E$2:$E$5455,Stocks!$D$2:$D$5455,Synthèse!CF$1,Stocks!$A$2:$A$5455,Synthèse!$D$2:$D$442) -> 5
A84: 1667 | B84: COMPAGNIE DES PET FOODS | C84: 73 | D84: 505364 | E84: NOURRISSEUR PLASTIQUE 3 KG | F84: B | G84: 3575070017069 | H84: S4517 | I84: PCE | J84: 1 | K84: 0.2 | L84: EUR | M84: 3.19 | N84: 3.19 | O84: 0 | P84: 43101 | Q84: 43465 | R84: 0.2 | S84: 1 | T84: COMPAGNIE DES PET FOODS | U84: 2023 | V84: MANGEOIRE | W84: 474 | X84: =SUMIFS(Stocks!$E$2:$E$5455,Stocks!$D$2:$D$5455,Synthèse!X$1,Stocks!$A$2:$A$5455,Synthèse!$D$2:$D$442) -> 0 | Y84: =SUMIFS(Stocks!$E$2:$E$5455,Stocks!$D$2:$D$5455,Synthèse!Y$1,Stocks!$A$2:$A$5455,Synthèse!$D$2:$D$442) -> 0 | Z84: =SUMIFS(Stocks!$E$2:$E$5455,Stocks!$D$2:$D$5455,Synthèse!Z$1,Stocks!$A$2:$A$5455,Synthèse!$D$2:$D$442) -> 0 | AA84: =SUMIFS(Stocks!$E$2:$E$5455,Stocks!$D$2:$D$5455,Synthèse!AA$1,Stocks!$A$2:$A$5455,Synthèse!$D$2:$D$442) -> 0 | AB84: =SUMIFS(Stocks!$E$2:$E$5455,Stocks!$D$2:$D$5455,Synthèse!AB$1,Stocks!$A$2:$A$5455,Synthèse!$D$2:$D$442) -> 0 | AC84: =SUMIFS(Stocks!$E$2:$E$5455,Stocks!$D$2:$D$5455,Synthèse!AC$1,Stocks!$A$2:$A$5455,Synthèse!$D$2:$D$442) -> 0 | AD84: =SUMIFS(Stocks!$E$2:$E$5455,Stocks!$D$2:$D$5455,Synthèse!AD$1,Stocks!$A$2:$A$5455,Synthèse!$D$2:$D$442) -> 0 | AE84: =SUMIFS(Stocks!$E$2:$E$5455,Stocks!$D$2:$D$5455,Synthèse!AE$1,Stocks!$A$2:$A$5455,Synthèse!$D$2:$D$442) -> 2 | ... CF84: =SUMIFS(Stocks!$E$2:$E$5455,Stocks!$D$2:$D$5455,Synthèse!CF$1,Stocks!$A$2:$A$5455,Synthèse!$D$2:$D$442) -> 0
D85: 505365 | E85: NOURRISSEUR PLASTIQUE 7 KG | F85: C | G85: 3575070017076 | H85: S4518 | I85: PCE | J85: 1 | K85: 0.2 | L85: EUR | M85: 6.2 | N85: 6.2 | O85: 0 | P85: 43101 | Q85: 43465 | R85: 0.2 | S85: 1 | T85: COMPAGNIE DES PET FOODS | U85: 2023 | V85: MANGEOIRE | W85: 474 | X85: =SUMIFS(Stocks!$E$2:$E$5455,Stocks!$D$2:$D$5455,Synthèse!X$1,Stocks!$A$2:$A$5455,Synthèse!$D$2:$D$442) -> 0 | Y85: =SUMIFS(Stocks!$E$2:$E$5455,Stocks!$D$2:$D$5455,Synthèse!Y$1,Stocks!$A$2:$A$5455,Synthèse!$D$2:$D$442) -> 0 | Z85: =SUMIFS(Stocks!$E$2:$E$5455,Stocks!$D$2:$D$5455,Synthèse!Z$1,Stocks!$A$2:$A$5455,Synthèse!$D$2:$D$442) -> 0 | AA85: =SUMIFS(Stocks!$E$2:$E$5455,Stocks!$D$2:$D$5455,Synthèse!AA$1,Stocks!$A$2:$A$5455,Synthèse!$D$2:$D$442) -> 0 | AB85: =SUMIFS(Stocks!$E$2:$E$5455,Stocks!$D$2:$D$5455,Synthèse!AB$1,Stocks!$A$2:$A$5455,Synthèse!$D$2:$D$442) -> 0 | AC85: =SUMIFS(Stocks!$E$2:$E$5455,Stocks!$D$2:$D$5455,Synthèse!AC$1,Stocks!$A$2:$A$5455,Synthèse!$D$2:$D$442) -> 0 | AD85: =SUMIFS(Stocks!$E$2:$E$5455,Stocks!$D$2:$D$5455,Synthèse!AD$1,Stocks!$A$2:$A$5455,Synthèse!$D$2:$D$442) -> 0 | AE85: =SUMIFS(Stocks!$E$2:$E$5455,Stocks!$D$2:$D$5455,Synthèse!AE$1,Stocks!$A$2:$A$5455,Synthèse!$D$2:$D$442) -> 1 | ... CF85: =SUMIFS(Stocks!$E$2:$E$5455,Stocks!$D$2:$D$5455,Synthèse!CF$1,Stocks!$A$2:$A$5455,Synthèse!$D$2:$D$442) -> 4
A86: 1667 | B86: COMPAGNIE DES PET FOODS | C86: 62 | D86: 505368 | E86: JOUET NAC PIERRE+BOIS | F86: B | G86: 3575070016833 | H86: GRB6312 | I86: PCE | J86: 6 | K86: 0.2 | L86: EUR | M86: 1.5 | N86: 1.5 | O86: 0 | P86: 43101 | Q86: 43465 | R86: 0.2 | S86: 1 | T86: RONGIS | U86: 2024 | V86: ACCESSOIRE ALIMENTAIRE | W86: 474 | X86: =SUMIFS(Stocks!$E$2:$E$5455,Stocks!$D$2:$D$5455,Synthèse!X$1,Stocks!$A$2:$A$5455,Synthèse!$D$2:$D$442) -> 9 | Y86: =SUMIFS(Stocks!$E$2:$E$5455,Stocks!$D$2:$D$5455,Synthèse!Y$1,Stocks!$A$2:$A$5455,Synthèse!$D$2:$D$442) -> 0 | Z86: =SUMIFS(Stocks!$E$2:$E$5455,Stocks!$D$2:$D$5455,Synthèse!Z$1,Stocks!$A$2:$A$5455,Synthèse!$D$2:$D$442) -> 9 | AA86: =SUMIFS(Stocks!$E$2:$E$5455,Stocks!$D$2:$D$5455,Synthèse!AA$1,Stocks!$A$2:$A$5455,Synthèse!$D$2:$D$442) -> 0 | AB86: =SUMIFS(Stocks!$E$2:$E$5455,Stocks!$D$2:$D$5455,Synthèse!AB$1,Stocks!$A$2:$A$5455,Synthèse!$D$2:$D$442) -> 1 | AC86: =SUMIFS(Stocks!$E$2:$E$5455,Stocks!$D$2:$D$5455,Synthèse!AC$1,Stocks!$A$2:$A$5455,Synthèse!$D$2:$D$442) -> 0 | AD86: =SUMIFS(Stocks!$E$2:$E$5455,Stocks!$D$2:$D$5455,Synthèse!AD$1,Stocks!$A$2:$A$5455,Synthèse!$D$2:$D$442) -> 0 | AE86: =SUMIFS(Stocks!$E$2:$E$5455,Stocks!$D$2:$D$5455,Synthèse!AE$1,Stocks!$A$2:$A$5455,Synthèse!$D$2:$D$442) -> 3 | ... CF86: =SUMIFS(Stocks!$E$2:$E$5455,Stocks!$D$2:$D$5455,Synthèse!CF$1,Stocks!$A$2:$A$5455,Synthèse!$D$2:$D$442) -> 0
A87: 1667 | B87: COMPAGNIE DES PET FOODS | C87: 62 | D87: 505369 | E87: JOUET NAC 2 PIERRES+BOIS | F87: B | G87: 3575070016840 | H87: GRB6313 | I87: PCE | J87: 6 | K87: 0.2 | L87: EUR | M87: 1.5 | N87: 1.5 | O87: 0 | P87: 43101 | Q87: 43465 | R87: 0.2 | S87: 1 | T87: RONGIS | U87: 2024 | V87: ACCESSOIRE ALIMENTAIRE | W87: 474 | X87: =SUMIFS(Stocks!$E$2:$E$5455,Stocks!$D$2:$D$5455,Synthèse!X$1,Stocks!$A$2:$A$5455,Synthèse!$D$2:$D$442) -> 0 | Y87: =SUMIFS(Stocks!$E$2:$E$5455,Stocks!$D$2:$D$5455,Synthèse!Y$1,Stocks!$A$2:$A$5455,Synthèse!$D$2:$D$442) -> 0 | Z87: =SUMIFS(Stocks!$E$2:$E$5455,Stocks!$D$2:$D$5455,Synthèse!Z$1,Stocks!$A$2:$A$5455,Synthèse!$D$2:$D$442) -> 1 | AA87: =SUMIFS(Stocks!$E$2:$E$5455,Stocks!$D$2:$D$5455,Synthèse!AA$1,Stocks!$A$2:$A$5455,Synthèse!$D$2:$D$442) -> 0 | AB87: =SUMIFS(Stocks!$E$2:$E$5455,Stocks!$D$2:$D$5455,Synthèse!AB$1,Stocks!$A$2:$A$5455,Synthèse!$D$2:$D$442) -> 4 | AC87: =SUMIFS(Stocks!$E$2:$E$5455,Stocks!$D$2:$D$5455,Synthèse!AC$1,Stocks!$A$2:$A$5455,Synthèse!$D$2:$D$442) -> 0 | AD87: =SUMIFS(Stocks!$E$2:$E$5455,Stocks!$D$2:$D$5455,Synthèse!AD$1,Stocks!$A$2:$A$5455,Synthèse!$D$2:$D$442) -> 0 | AE87: =SUMIFS(Stocks!$E$2:$E$5455,Stocks!$D$2:$D$5455,Synthèse!AE$1,Stocks!$A$2:$A$5455,Synthèse!$D$2:$D$442) -> 0 | ... CF87: =SUMIFS(Stocks!$E$2:$E$5455,Stocks!$D$2:$D$5455,Synthèse!CF$1,Stocks!$A$2:$A$5455,Synthèse!$D$2:$D$442) -> 0
A88: 1667 | B88: COMPAGNIE DES PET FOODS | C88: 60 | D88: 505370 | E88: JOUET NAC BALLE ROSEAU | F88: B | G88: 3575070016857 | H88: GRB6314 | I88: PCE | J88: 6 | K88: 0.2 | L88: EUR | M88: 1.24 | N88: 1.24 | O88: 0 | P88: 43101 | Q88: 43465 | R88: 0.2 | S88: 1 | T88: RONGIS | U88: 0 | W88: 474 | X88: =SUMIFS(Stocks!$E$2:$E$5455,Stocks!$D$2:$D$5455,Synthèse!X$1,Stocks!$A$2:$A$5455,Synthèse!$D$2:$D$442) -> 0 | Y88: =SUMIFS(Stocks!$E$2:$E$5455,Stocks!$D$2:$D$5455,Synthèse!Y$1,Stocks!$A$2:$A$5455,Synthèse!$D$2:$D$442) -> 0 | Z88: =SUMIFS(Stocks!$E$2:$E$5455,Stocks!$D$2:$D$5455,Synthèse!Z$1,Stocks!$A$2:$A$5455,Synthèse!$D$2:$D$442) -> 1 | AA88: =SUMIFS(Stocks!$E$2:$E$5455,Stocks!$D$2:$D$5455,Synthèse!AA$1,Stocks!$A$2:$A$5455,Synthèse!$D$2:$D$442) -> 0 | AB88: =SUMIFS(Stocks!$E$2:$E$5455,Stocks!$D$2:$D$5455,Synthèse!AB$1,Stocks!$A$2:$A$5455,Synthèse!$D$2:$D$442) -> 0 | AC88: =SUMIFS(Stocks!$E$2:$E$5455,Stocks!$D$2:$D$5455,Synthèse!AC$1,Stocks!$A$2:$A$5455,Synthèse!$D$2:$D$442) -> 0 | AD88: =SUMIFS(Stocks!$E$2:$E$5455,Stocks!$D$2:$D$5455,Synthèse!AD$1,Stocks!$A$2:$A$5455,Synthèse!$D$2:$D$442) -> 0 | AE88: =SUMIFS(Stocks!$E$2:$E$5455,Stocks!$D$2:$D$5455,Synthèse!AE$1,Stocks!$A$2:$A$5455,Synthèse!$D$2:$D$442) -> 1 | ... CF88: =SUMIFS(Stocks!$E$2:$E$5455,Stocks!$D$2:$D$5455,Synthèse!CF$1,Stocks!$A$2:$A$5455,Synthèse!$D$2:$D$442) -> 0
A89: 1667 | B89: COMPAGNIE DES PET FOODS | C89: 62 | D89: 515764 | E89: MAISON COTTAGE HAMSTER/SOURIS | F89: B | G89: 3575070017847 | H89: GRB6043 | I89: PCE | J89: 1 | K89: 0.2 | L89: EUR | M89: 4.03 | N89: 4.03 | O89: 0 | P89: 43101 | Q89: 43465 | R89: 0.2 | S89: 1 | T89: RONGIS | U89: 227 | V89: HABITAT DE L'ANIMAL : ABRI | W89: 474 | X89: =SUMIFS(Stocks!$E$2:$E$5455,Stocks!$D$2:$D$5455,Synthèse!X$1,Stocks!$A$2:$A$5455,Synthèse!$D$2:$D$442) -> 2 | Y89: =SUMIFS(Stocks!$E$2:$E$5455,Stocks!$D$2:$D$5455,Synthèse!Y$1,Stocks!$A$2:$A$5455,Synthèse!$D$2:$D$442) -> 0 | Z89: =SUMIFS(Stocks!$E$2:$E$5455,Stocks!$D$2:$D$5455,Synthèse!Z$1,Stocks!$A$2:$A$5455,Synthèse!$D$2:$D$442) -> 0 | AA89: =SUMIFS(Stocks!$E$2:$E$5455,Stocks!$D$2:$D$5455,Synthèse!AA$1,Stocks!$A$2:$A$5455,Synthèse!$D$2:$D$442) -> 0 | AB89: =SUMIFS(Stocks!$E$2:$E$5455,Stocks!$D$2:$D$5455,Synthèse!AB$1,Stocks!$A$2:$A$5455,Synthèse!$D$2:$D$442) -> 3 | AC89: =SUMIFS(Stocks!$E$2:$E$5455,Stocks!$D$2:$D$5455,Synthèse!AC$1,Stocks!$A$2:$A$5455,Synthèse!$D$2:$D$442) -> 0 | AD89: =SUMIFS(Stocks!$E$2:$E$5455,Stocks!$D$2:$D$5455,Synthèse!AD$1,Stocks!$A$2:$A$5455,Synthèse!$D$2:$D$442) -> 0 | AE89: =SUMIFS(Stocks!$E$2:$E$5455,Stocks!$D$2:$D$5455,Synthèse!AE$1,Stocks!$A$2:$A$5455,Synthèse!$D$2:$D$442) -> 2 | ... CF89: =SUMIFS(Stocks!$E$2:$E$5455,Stocks!$D$2:$D$5455,Synthèse!CF$1,Stocks!$A$2:$A$5455,Synthèse!$D$2:$D$442) -> 0
A90: 1667 | B90: COMPAGNIE DES PET FOODS | C90: 62 | D90: 515767 | E90: MAISON RAMPE HAMSTER/SOURIS | F90: B | G90: 3575070017816 | H90: GRB6046 | I90: PCE | J90: 1 | K90: 0.2 | L90: EUR | M90: 3.85 | N90: 3.85 | O90: 0 | P90: 43101 | Q90: 43465 | R90: 0.2 | S90: 1 | T90: RONGIS | U90: 227 | V90: HABITAT DE L'ANIMAL : ABRI | W90: 474 | X90: =SUMIFS(Stocks!$E$2:$E$5455,Stocks!$D$2:$D$5455,Synthèse!X$1,Stocks!$A$2:$A$5455,Synthèse!$D$2:$D$442) -> 3 | Y90: =SUMIFS(Stocks!$E$2:$E$5455,Stocks!$D$2:$D$5455,Synthèse!Y$1,Stocks!$A$2:$A$5455,Synthèse!$D$2:$D$442) -> 1 | Z90: =SUMIFS(Stocks!$E$2:$E$5455,Stocks!$D$2:$D$5455,Synthèse!Z$1,Stocks!$A$2:$A$5455,Synthèse!$D$2:$D$442) -> 0 | AA90: =SUMIFS(Stocks!$E$2:$E$5455,Stocks!$D$2:$D$5455,Synthèse!AA$1,Stocks!$A$2:$A$5455,Synthèse!$D$2:$D$442) -> 0 | AB90: =SUMIFS(Stocks!$E$2:$E$5455,Stocks!$D$2:$D$5455,Synthèse!AB$1,Stocks!$A$2:$A$5455,Synthèse!$D$2:$D$442) -> 2 | AC90: =SUMIFS(Stocks!$E$2:$E$5455,Stocks!$D$2:$D$5455,Synthèse!AC$1,Stocks!$A$2:$A$5455,Synthèse!$D$2:$D$442) -> 0 | AD90: =SUMIFS(Stocks!$E$2:$E$5455,Stocks!$D$2:$D$5455,Synthèse!AD$1,Stocks!$A$2:$A$5455,Synthèse!$D$2:$D$442) -> 0 | AE90: =SUMIFS(Stocks!$E$2:$E$5455,Stocks!$D$2:$D$5455,Synthèse!AE$1,Stocks!$A$2:$A$5455,Synthèse!$D$2:$D$442) -> 2 | ... CF90: =SUMIFS(Stocks!$E$2:$E$5455,Stocks!$D$2:$D$5455,Synthèse!CF$1,Stocks!$A$2:$A$5455,Synthèse!$D$2:$D$442) -> 0
A91: 1667 | B91: COMPAGNIE DES PET FOODS | C91: 62 | D91: 515768 | E91: MAISON RAMPE LAPIN NAIN | F91: B | G91: 3575070017779 | H91: GRB6054 | I91: PCE | J91: 1 | K91: 0.2 | L91: EUR | M91: 8.05 | N91: 8.05 | O91: 0 | P91: 43101 | Q91: 43465 | R91: 0.2 | S91: 1 | T91: RONGIS | U91: 227 | V91: HABITAT DE L'ANIMAL : ABRI | W91: 474 | X91: =SUMIFS(Stocks!$E$2:$E$5455,Stocks!$D$2:$D$5455,Synthèse!X$1,Stocks!$A$2:$A$5455,Synthèse!$D$2:$D$442) -> 3 | Y91: =SUMIFS(Stocks!$E$2:$E$5455,Stocks!$D$2:$D$5455,Synthèse!Y$1,Stocks!$A$2:$A$5455,Synthèse!$D$2:$D$442) -> 0 | Z91: =SUMIFS(Stocks!$E$2:$E$5455,Stocks!$D$2:$D$5455,Synthèse!Z$1,Stocks!$A$2:$A$5455,Synthèse!$D$2:$D$442) -> 3 | AA91: =SUMIFS(Stocks!$E$2:$E$5455,Stocks!$D$2:$D$5455,Synthèse!AA$1,Stocks!$A$2:$A$5455,Synthèse!$D$2:$D$442) -> 0 | AB91: =SUMIFS(Stocks!$E$2:$E$5455,Stocks!$D$2:$D$5455,Synthèse!AB$1,Stocks!$A$2:$A$5455,Synthèse!$D$2:$D$442) -> 2 | AC91: =SUMIFS(Stocks!$E$2:$E$5455,Stocks!$D$2:$D$5455,Synthèse!AC$1,Stocks!$A$2:$A$5455,Synthèse!$D$2:$D$442) -> 0 | AD91: =SUMIFS(Stocks!$E$2:$E$5455,Stocks!$D$2:$D$5455,Synthèse!AD$1,Stocks!$A$2:$A$5455,Synthèse!$D$2:$D$442) -> 0 | AE91: =SUMIFS(Stocks!$E$2:$E$5455,Stocks!$D$2:$D$5455,Synthèse!AE$1,Stocks!$A$2:$A$5455,Synthèse!$D$2:$D$442) -> 5 | ... CF91: =SUMIFS(Stocks!$E$2:$E$5455,Stocks!$D$2:$D$5455,Synthèse!CF$1,Stocks!$A$2:$A$5455,Synthèse!$D$2:$D$442) -> 0
A92: 1667 | B92: COMPAGNIE DES PET FOODS | C92: 62 | D92: 515769 | E92: MAISON RATELIER LAPIN NAIN | F92: A | G92: 3575070017786 | H92: GRB6055 | I92: PCE | J92: 1 | K92: 0.2 | L92: EUR | M92: 8.97 | N92: 8.97 | O92: 0 | P92: 43101 | Q92: 43465 | R92: 0.2 | S92: 1 | T92: RONGIS | U92: 227 | V92: HABITAT DE L'ANIMAL : ABRI | W92: 474 | X92: =SUMIFS(Stocks!$E$2:$E$5455,Stocks!$D$2:$D$5455,Synthèse!X$1,Stocks!$A$2:$A$5455,Synthèse!$D$2:$D$442) -> 2 | Y92: =SUMIFS(Stocks!$E$2:$E$5455,Stocks!$D$2:$D$5455,Synthèse!Y$1,Stocks!$A$2:$A$5455,Synthèse!$D$2:$D$442) -> 0 | Z92: =SUMIFS(Stocks!$E$2:$E$5455,Stocks!$D$2:$D$5455,Synthèse!Z$1,Stocks!$A$2:$A$5455,Synthèse!$D$2:$D$442) -> 0 | AA92: =SUMIFS(Stocks!$E$2:$E$5455,Stocks!$D$2:$D$5455,Synthèse!AA$1,Stocks!$A$2:$A$5455,Synthèse!$D$2:$D$442) -> 2 | AB92: =SUMIFS(Stocks!$E$2:$E$5455,Stocks!$D$2:$D$5455,Synthèse!AB$1,Stocks!$A$2:$A$5455,Synthèse!$D$2:$D$442) -> 2 | AC92: =SUMIFS(Stocks!$E$2:$E$5455,Stocks!$D$2:$D$5455,Synthèse!AC$1,Stocks!$A$2:$A$5455,Synthèse!$D$2:$D$442) -> 0 | AD92: =SUMIFS(Stocks!$E$2:$E$5455,Stocks!$D$2:$D$5455,Synthèse!AD$1,Stocks!$A$2:$A$5455,Synthèse!$D$2:$D$442) -> 0 | AE92: =SUMIFS(Stocks!$E$2:$E$5455,Stocks!$D$2:$D$5455,Synthèse!AE$1,Stocks!$A$2:$A$5455,Synthèse!$D$2:$D$442) -> 1 | ... CF92: =SUMIFS(Stocks!$E$2:$E$5455,Stocks!$D$2:$D$5455,Synthèse!CF$1,Stocks!$A$2:$A$5455,Synthèse!$D$2:$D$442) -> 0
A93: 1667 | B93: COMPAGNIE DES PET FOODS | C93: 62 | D93: 515770 | E93: MAISON RAMPE COCHON DINDE | F93: B | G93: 3575070017793 | H93: GRB6056 | I93: PCE | J93: 1 | K93: 0.2 | L93: EUR | M93: 5.56 | N93: 5.56 | O93: 0 | P93: 43101 | Q93: 43465 | R93: 0.2 | S93: 1 | T93: RONGIS | U93: 227 | V93: HABITAT DE L'ANIMAL : ABRI | W93: 474 | X93: =SUMIFS(Stocks!$E$2:$E$5455,Stocks!$D$2:$D$5455,Synthèse!X$1,Stocks!$A$2:$A$5455,Synthèse!$D$2:$D$442) -> 2 | Y93: =SUMIFS(Stocks!$E$2:$E$5455,Stocks!$D$2:$D$5455,Synthèse!Y$1,Stocks!$A$2:$A$5455,Synthèse!$D$2:$D$442) -> 1 | Z93: =SUMIFS(Stocks!$E$2:$E$5455,Stocks!$D$2:$D$5455,Synthèse!Z$1,Stocks!$A$2:$A$5455,Synthèse!$D$2:$D$442) -> 0 | AA93: =SUMIFS(Stocks!$E$2:$E$5455,Stocks!$D$2:$D$5455,Synthèse!AA$1,Stocks!$A$2:$A$5455,Synthèse!$D$2:$D$442) -> 0 | AB93: =SUMIFS(Stocks!$E$2:$E$5455,Stocks!$D$2:$D$5455,Synthèse!AB$1,Stocks!$A$2:$A$5455,Synthèse!$D$2:$D$442) -> 1 | AC93: =SUMIFS(Stocks!$E$2:$E$5455,Stocks!$D$2:$D$5455,Synthèse!AC$1,Stocks!$A$2:$A$5455,Synthèse!$D$2:$D$442) -> 0 | AD93: =SUMIFS(Stocks!$E$2:$E$5455,Stocks!$D$2:$D$5455,Synthèse!AD$1,Stocks!$A$2:$A$5455,Synthèse!$D$2:$D$442) -> 0 | AE93: =SUMIFS(Stocks!$E$2:$E$5455,Stocks!$D$2:$D$5455,Synthèse!AE$1,Stocks!$A$2:$A$5455,Synthèse!$D$2:$D$442) -> 1 | ... CF93: =SUMIFS(Stocks!$E$2:$E$5455,Stocks!$D$2:$D$5455,Synthèse!CF$1,Stocks!$A$2:$A$5455,Synthèse!$D$2:$D$442) -> 0
A94: 1667 | B94: COMPAGNIE DES PET FOODS | C94: 62 | D94: 515771 | E94: MAISON RATELIER COCHON DINDE | F94: A | G94: 3575070017809 | H94: GRB6058 | I94: PCE | J94: 1 | K94: 0.2 | L94: EUR | M94: 5.82 | N94: 5.82 | O94: 0 | P94: 43101 | Q94: 43465 | R94: 0.2 | S94: 1 | T94: RONGIS | U94: 227 | V94: HABITAT DE L'ANIMAL : ABRI | W94: 474 | X94: =SUMIFS(Stocks!$E$2:$E$5455,Stocks!$D$2:$D$5455,Synthèse!X$1,Stocks!$A$2:$A$5455,Synthèse!$D$2:$D$442) -> 1 | Y94: =SUMIFS(Stocks!$E$2:$E$5455,Stocks!$D$2:$D$5455,Synthèse!Y$1,Stocks!$A$2:$A$5455,Synthèse!$D$2:$D$442) -> 0 | Z94: =SUMIFS(Stocks!$E$2:$E$5455,Stocks!$D$2:$D$5455,Synthèse!Z$1,Stocks!$A$2:$A$5455,Synthèse!$D$2:$D$442) -> 0 | AA94: =SUMIFS(Stocks!$E$2:$E$5455,Stocks!$D$2:$D$5455,Synthèse!AA$1,Stocks!$A$2:$A$5455,Synthèse!$D$2:$D$442) -> 0 | AB94: =SUMIFS(Stocks!$E$2:$E$5455,Stocks!$D$2:$D$5455,Synthèse!AB$1,Stocks!$A$2:$A$5455,Synthèse!$D$2:$D$442) -> 2 | AC94: =SUMIFS(Stocks!$E$2:$E$5455,Stocks!$D$2:$D$5455,Synthèse!AC$1,Stocks!$A$2:$A$5455,Synthèse!$D$2:$D$442) -> 0 | AD94: =SUMIFS(Stocks!$E$2:$E$5455,Stocks!$D$2:$D$5455,Synthèse!AD$1,Stocks!$A$2:$A$5455,Synthèse!$D$2:$D$442) -> 0 | AE94: =SUMIFS(Stocks!$E$2:$E$5455,Stocks!$D$2:$D$5455,Synthèse!AE$1,Stocks!$A$2:$A$5455,Synthèse!$D$2:$D$442) -> 1 | ... CF94: =SUMIFS(Stocks!$E$2:$E$5455,Stocks!$D$2:$D$5455,Synthèse!CF$1,Stocks!$A$2:$A$5455,Synthèse!$D$2:$D$442) -> 1
A95: 1667 | B95: COMPAGNIE DES PET FOODS | C95: 61 | D95: 515775 | E95: CAGE PICO XL HAMSTER/SOURIS | F95: B | G95: 5025659191768 | H95: GRC1007 | I95: PCE | J95: 1 | K95: 0.2 | L95: EUR | M95: 25.3 | N95: 25.3 | O95: 0 | P95: 43101 | Q95: 43465 | R95: 0.2 | S95: 1 | T95: COMPAGNIE DES PET FOODS | U95: 223 | V95: HABITAT DE L'ANIMAL : CAGE | W95: 474 | X95: =SUMIFS(Stocks!$E$2:$E$5455,Stocks!$D$2:$D$5455,Synthèse!X$1,Stocks!$A$2:$A$5455,Synthèse!$D$2:$D$442) -> 2 | Y95: =SUMIFS(Stocks!$E$2:$E$5455,Stocks!$D$2:$D$5455,Synthèse!Y$1,Stocks!$A$2:$A$5455,Synthèse!$D$2:$D$442) -> 1 | Z95: =SUMIFS(Stocks!$E$2:$E$5455,Stocks!$D$2:$D$5455,Synthèse!Z$1,Stocks!$A$2:$A$5455,Synthèse!$D$2:$D$442) -> 1 | AA95: =SUMIFS(Stocks!$E$2:$E$5455,Stocks!$D$2:$D$5455,Synthèse!AA$1,Stocks!$A$2:$A$5455,Synthèse!$D$2:$D$442) -> 0 | AB95: =SUMIFS(Stocks!$E$2:$E$5455,Stocks!$D$2:$D$5455,Synthèse!AB$1,Stocks!$A$2:$A$5455,Synthèse!$D$2:$D$442) -> 2 | AC95: =SUMIFS(Stocks!$E$2:$E$5455,Stocks!$D$2:$D$5455,Synthèse!AC$1,Stocks!$A$2:$A$5455,Synthèse!$D$2:$D$442) -> 0 | AD95: =SUMIFS(Stocks!$E$2:$E$5455,Stocks!$D$2:$D$5455,Synthèse!AD$1,Stocks!$A$2:$A$5455,Synthèse!$D$2:$D$442) -> 0 | AE95: =SUMIFS(Stocks!$E$2:$E$5455,Stocks!$D$2:$D$5455,Synthèse!AE$1,Stocks!$A$2:$A$5455,Synthèse!$D$2:$D$442) -> 3 | ... CF95: =SUMIFS(Stocks!$E$2:$E$5455,Stocks!$D$2:$D$5455,Synthèse!CF$1,Stocks!$A$2:$A$5455,Synthèse!$D$2:$D$442) -> 0
A96: 1667 | B96: COMPAGNIE DES PET FOODS | C96: 119 | D96: 533183 | E96: COCHON LATEX XS | F96: A | G96: 3575070017014 | H96: J1240 | I96: PCE | J96: 12 | K96: 0.2 | L96: EUR | M96: 1.52 | N96: 1.52 | O96: 0 | P96: 43154 | Q96: 43465 | R96: 0.2 | S96: 1 | T96: ANKA | U96: 196 | V96: JOUET ANIMAL : FORME | W96: 474 | X96: =SUMIFS(Stocks!$E$2:$E$5455,Stocks!$D$2:$D$5455,Synthèse!X$1,Stocks!$A$2:$A$5455,Synthèse!$D$2:$D$442) -> 2 | Y96: =SUMIFS(Stocks!$E$2:$E$5455,Stocks!$D$2:$D$5455,Synthèse!Y$1,Stocks!$A$2:$A$5455,Synthèse!$D$2:$D$442) -> 5 | Z96: =SUMIFS(Stocks!$E$2:$E$5455,Stocks!$D$2:$D$5455,Synthèse!Z$1,Stocks!$A$2:$A$5455,Synthèse!$D$2:$D$442) -> 0 | AA96: =SUMIFS(Stocks!$E$2:$E$5455,Stocks!$D$2:$D$5455,Synthèse!AA$1,Stocks!$A$2:$A$5455,Synthèse!$D$2:$D$442) -> 10 | AB96: =SUMIFS(Stocks!$E$2:$E$5455,Stocks!$D$2:$D$5455,Synthèse!AB$1,Stocks!$A$2:$A$5455,Synthèse!$D$2:$D$442) -> 1 | AC96: =SUMIFS(Stocks!$E$2:$E$5455,Stocks!$D$2:$D$5455,Synthèse!AC$1,Stocks!$A$2:$A$5455,Synthèse!$D$2:$D$442) -> 0 | AD96: =SUMIFS(Stocks!$E$2:$E$5455,Stocks!$D$2:$D$5455,Synthèse!AD$1,Stocks!$A$2:$A$5455,Synthèse!$D$2:$D$442) -> 0 | AE96: =SUMIFS(Stocks!$E$2:$E$5455,Stocks!$D$2:$D$5455,Synthèse!AE$1,Stocks!$A$2:$A$5455,Synthèse!$D$2:$D$442) -> 0 | ... CF96: =SUMIFS(Stocks!$E$2:$E$5455,Stocks!$D$2:$D$5455,Synthèse!CF$1,Stocks!$A$2:$A$5455,Synthèse!$D$2:$D$442) -> 2
A97: 1667 | B97: COMPAGNIE DES PET FOODS | C97: 62 | D97: 538399 | E97: RATELIER METAL + SUPPORT FRUIT | F97: B | G97: 3575070017663 | H97: GRB0014 | I97: PCE | J97: 6 | K97: 0.2 | L97: EUR | M97: 2.6 | N97: 2.6 | O97: 0 | P97: 43101 | Q97: 43465 | R97: 0.2 | S97: 1 | T97: RONGIS | U97: 247 | V97: BOL ET ÉCUELLE | W97: 474 | X97: =SUMIFS(Stocks!$E$2:$E$5455,Stocks!$D$2:$D$5455,Synthèse!X$1,Stocks!$A$2:$A$5455,Synthèse!$D$2:$D$442) -> 1 | Y97: =SUMIFS(Stocks!$E$2:$E$5455,Stocks!$D$2:$D$5455,Synthèse!Y$1,Stocks!$A$2:$A$5455,Synthèse!$D$2:$D$442) -> 0 | Z97: =SUMIFS(Stocks!$E$2:$E$5455,Stocks!$D$2:$D$5455,Synthèse!Z$1,Stocks!$A$2:$A$5455,Synthèse!$D$2:$D$442) -> 3 | AA97: =SUMIFS(Stocks!$E$2:$E$5455,Stocks!$D$2:$D$5455,Synthèse!AA$1,Stocks!$A$2:$A$5455,Synthèse!$D$2:$D$442) -> 0 | AB97: =SUMIFS(Stocks!$E$2:$E$5455,Stocks!$D$2:$D$5455,Synthèse!AB$1,Stocks!$A$2:$A$5455,Synthèse!$D$2:$D$442) -> 6 | AC97: =SUMIFS(Stocks!$E$2:$E$5455,Stocks!$D$2:$D$5455,Synthèse!AC$1,Stocks!$A$2:$A$5455,Synthèse!$D$2:$D$442) -> 0 | AD97: =SUMIFS(Stocks!$E$2:$E$5455,Stocks!$D$2:$D$5455,Synthèse!AD$1,Stocks!$A$2:$A$5455,Synthèse!$D$2:$D$442) -> 0 | AE97: =SUMIFS(Stocks!$E$2:$E$5455,Stocks!$D$2:$D$5455,Synthèse!AE$1,Stocks!$A$2:$A$5455,Synthèse!$D$2:$D$442) -> 3 | ... CF97: =SUMIFS(Stocks!$E$2:$E$5455,Stocks!$D$2:$D$5455,Synthèse!CF$1,Stocks!$A$2:$A$5455,Synthèse!$D$2:$D$442) -> 0
A98: 1667 | B98: COMPAGNIE DES PET FOODS | C98: 85 | D98: 556007 | E98: DOUBLE PERCHOIR SABLE 25 CM | F98: A | G98: 3575070018264 | H98: R0001 | I98: PCE | J98: 3 | K98: 0.2 | L98: EUR | M98: 5.36 | N98: 5.36 | O98: 0 | P98: 43101 | Q98: 43465 | R98: 0.2 | S98: 1 | T98: UNITED BIRD | U98: 230 | V98: ACCESS. LIEU DE VIE ANIMAL : P | W98: 474 | X98: =SUMIFS(Stocks!$E$2:$E$5455,Stocks!$D$2:$D$5455,Synthèse!X$1,Stocks!$A$2:$A$5455,Synthèse!$D$2:$D$442) -> 0 | Y98: =SUMIFS(Stocks!$E$2:$E$5455,Stocks!$D$2:$D$5455,Synthèse!Y$1,Stocks!$A$2:$A$5455,Synthèse!$D$2:$D$442) -> 3 | Z98: =SUMIFS(Stocks!$E$2:$E$5455,Stocks!$D$2:$D$5455,Synthèse!Z$1,Stocks!$A$2:$A$5455,Synthèse!$D$2:$D$442) -> 0 | AA98: =SUMIFS(Stocks!$E$2:$E$5455,Stocks!$D$2:$D$5455,Synthèse!AA$1,Stocks!$A$2:$A$5455,Synthèse!$D$2:$D$442) -> 0 | AB98: =SUMIFS(Stocks!$E$2:$E$5455,Stocks!$D$2:$D$5455,Synthèse!AB$1,Stocks!$A$2:$A$5455,Synthèse!$D$2:$D$442) -> 0 | AC98: =SUMIFS(Stocks!$E$2:$E$5455,Stocks!$D$2:$D$5455,Synthèse!AC$1,Stocks!$A$2:$A$5455,Synthèse!$D$2:$D$442) -> 0 | AD98: =SUMIFS(Stocks!$E$2:$E$5455,Stocks!$D$2:$D$5455,Synthèse!AD$1,Stocks!$A$2:$A$5455,Synthèse!$D$2:$D$442) -> 0 | AE98: =SUMIFS(Stocks!$E$2:$E$5455,Stocks!$D$2:$D$5455,Synthèse!AE$1,Stocks!$A$2:$A$5455,Synthèse!$D$2:$D$442) -> 2 | ... CF98: =SUMIFS(Stocks!$E$2:$E$5455,Stocks!$D$2:$D$5455,Synthèse!CF$1,Stocks!$A$2:$A$5455,Synthèse!$D$2:$D$442) -> 0
D99: 556008 | E99: DOUBLE PERCHOIR SABLE 30 CM | F99: B | G99: 3575070018271 | H99: R0002 | J99: 3 | K99: 0.2 | N99: 6.74 | X99: =SUMIFS(Stocks!$E$2:$E$5455,Stocks!$D$2:$D$5455,Synthèse!X$1,Stocks!$A$2:$A$5455,Synthèse!$D$2:$D$442) -> 0 | Y99: =SUMIFS(Stocks!$E$2:$E$5455,Stocks!$D$2:$D$5455,Synthèse!Y$1,Stocks!$A$2:$A$5455,Synthèse!$D$2:$D$442) -> 0 | Z99: =SUMIFS(Stocks!$E$2:$E$5455,Stocks!$D$2:$D$5455,Synthèse!Z$1,Stocks!$A$2:$A$5455,Synthèse!$D$2:$D$442) -> 0 | AA99: =SUMIFS(Stocks!$E$2:$E$5455,Stocks!$D$2:$D$5455,Synthèse!AA$1,Stocks!$A$2:$A$5455,Synthèse!$D$2:$D$442) -> 0 | AB99: =SUMIFS(Stocks!$E$2:$E$5455,Stocks!$D$2:$D$5455,Synthèse!AB$1,Stocks!$A$2:$A$5455,Synthèse!$D$2:$D$442) -> 0 | AC99: =SUMIFS(Stocks!$E$2:$E$5455,Stocks!$D$2:$D$5455,Synthèse!AC$1,Stocks!$A$2:$A$5455,Synthèse!$D$2:$D$442) -> 0 | AD99: =SUMIFS(Stocks!$E$2:$E$5455,Stocks!$D$2:$D$5455,Synthèse!AD$1,Stocks!$A$2:$A$5455,Synthèse!$D$2:$D$442) -> 0 | AE99: =SUMIFS(Stocks!$E$2:$E$5455,Stocks!$D$2:$D$5455,Synthèse!AE$1,Stocks!$A$2:$A$5455,Synthèse!$D$2:$D$442) -> 5 | ... CF99: =SUMIFS(Stocks!$E$2:$E$5455,Stocks!$D$2:$D$5455,Synthèse!CF$1,Stocks!$A$2:$A$5455,Synthèse!$D$2:$D$442) -> 0
A100: 1667 | B100: COMPAGNIE DES PET FOODS | C100: 119 | D100: 556009 | E100: DOUBLE PERCHOIR SABLE 35 CM | F100: A | G100: 3575070018288 | H100: R0003 | I100: PCE | J100: 3 | K100: 0.2 | L100: EUR | M100: 9.16 | N100: 9.16 | O100: 0 | P100: 43101 | Q100: 43465 | R100: 0.2 | S100: 1 | T100: UNITED BIRD | U100: 230 | V100: ACCESS. LIEU DE VIE ANIMAL : P | W100: 474 | X100: =SUMIFS(Stocks!$E$2:$E$5455,Stocks!$D$2:$D$5455,Synthèse!X$1,Stocks!$A$2:$A$5455,Synthèse!$D$2:$D$442) -> 0 | Y100: =SUMIFS(Stocks!$E$2:$E$5455,Stocks!$D$2:$D$5455,Synthèse!Y$1,Stocks!$A$2:$A$5455,Synthèse!$D$2:$D$442) -> 2 | Z100: =SUMIFS(Stocks!$E$2:$E$5455,Stocks!$D$2:$D$5455,Synthèse!Z$1,Stocks!$A$2:$A$5455,Synthèse!$D$2:$D$442) -> 3 | AA100: =SUMIFS(Stocks!$E$2:$E$5455,Stocks!$D$2:$D$5455,Synthèse!AA$1,Stocks!$A$2:$A$5455,Synthèse!$D$2:$D$442) -> 0 | AB100: =SUMIFS(Stocks!$E$2:$E$5455,Stocks!$D$2:$D$5455,Synthèse!AB$1,Stocks!$A$2:$A$5455,Synthèse!$D$2:$D$442) -> 0 | AC100: =SUMIFS(Stocks!$E$2:$E$5455,Stocks!$D$2:$D$5455,Synthèse!AC$1,Stocks!$A$2:$A$5455,Synthèse!$D$2:$D$442) -> 0 | AD100: =SUMIFS(Stocks!$E$2:$E$5455,Stocks!$D$2:$D$5455,Synthèse!AD$1,Stocks!$A$2:$A$5455,Synthèse!$D$2:$D$442) -> 0 | AE100: =SUMIFS(Stocks!$E$2:$E$5455,Stocks!$D$2:$D$5455,Synthèse!AE$1,Stocks!$A$2:$A$5455,Synthèse!$D$2:$D$442) -> 5 | ... CF100: =SUMIFS(Stocks!$E$2:$E$5455,Stocks!$D$2:$D$5455,Synthèse!CF$1,Stocks!$A$2:$A$5455,Synthèse!$D$2:$D$442) -> 0
A101: 1667 | B101: COMPAGNIE DES PET FOODS | C101: 85 | D101: 556010 | E101: DOUBLE PERCHOIR BOIS 25 CM | F101: A | G101: 3575070018295 | H101: R0004 | I101: PCE | J101: 3 | K101: 0.2 | L101: EUR | M101: 3.16 | N101: 3.16 | O101: 0 | P101: 43101 | Q101: 43465 | R101: 0.2 | S101: 1 | T101: UNITED BIRD | U101: 230 | V101: ACCESS. LIEU DE VIE ANIMAL : P | W101: 474 | X101: =SUMIFS(Stocks!$E$2:$E$5455,Stocks!$D$2:$D$5455,Synthèse!X$1,Stocks!$A$2:$A$5455,Synthèse!$D$2:$D$442) -> 0 | Y101: =SUMIFS(Stocks!$E$2:$E$5455,Stocks!$D$2:$D$5455,Synthèse!Y$1,Stocks!$A$2:$A$5455,Synthèse!$D$2:$D$442) -> 1 | Z101: =SUMIFS(Stocks!$E$2:$E$5455,Stocks!$D$2:$D$5455,Synthèse!Z$1,Stocks!$A$2:$A$5455,Synthèse!$D$2:$D$442) -> 4 | AA101: =SUMIFS(Stocks!$E$2:$E$5455,Stocks!$D$2:$D$5455,Synthèse!AA$1,Stocks!$A$2:$A$5455,Synthèse!$D$2:$D$442) -> 0 | AB101: =SUMIFS(Stocks!$E$2:$E$5455,Stocks!$D$2:$D$5455,Synthèse!AB$1,Stocks!$A$2:$A$5455,Synthèse!$D$2:$D$442) -> 0 | AC101: =SUMIFS(Stocks!$E$2:$E$5455,Stocks!$D$2:$D$5455,Synthèse!AC$1,Stocks!$A$2:$A$5455,Synthèse!$D$2:$D$442) -> 0 | AD101: =SUMIFS(Stocks!$E$2:$E$5455,Stocks!$D$2:$D$5455,Synthèse!AD$1,Stocks!$A$2:$A$5455,Synthèse!$D$2:$D$442) -> 0 | AE101: =SUMIFS(Stocks!$E$2:$E$5455,Stocks!$D$2:$D$5455,Synthèse!AE$1,Stocks!$A$2:$A$5455,Synthèse!$D$2:$D$442) -> 4 | ... CF101: =SUMIFS(Stocks!$E$2:$E$5455,Stocks!$D$2:$D$5455,Synthèse!CF$1,Stocks!$A$2:$A$5455,Synthèse!$D$2:$D$442) -> 0
A102: 1667 | B102: COMPAGNIE DES PET FOODS | C102: 85 | D102: 556011 | E102: DOUBLE PERCHOIR BOIS 30 CM | F102: B | G102: 3575070018301 | H102: R0005 | J102: 3 | K102: 0.2 | N102: 3.88 | X102: =SUMIFS(Stocks!$E$2:$E$5455,Stocks!$D$2:$D$5455,Synthèse!X$1,Stocks!$A$2:$A$5455,Synthèse!$D$2:$D$442) -> 0 | Y102: =SUMIFS(Stocks!$E$2:$E$5455,Stocks!$D$2:$D$5455,Synthèse!Y$1,Stocks!$A$2:$A$5455,Synthèse!$D$2:$D$442) -> 3 | Z102: =SUMIFS(Stocks!$E$2:$E$5455,Stocks!$D$2:$D$5455,Synthèse!Z$1,Stocks!$A$2:$A$5455,Synthèse!$D$2:$D$442) -> 6 | AA102: =SUMIFS(Stocks!$E$2:$E$5455,Stocks!$D$2:$D$5455,Synthèse!AA$1,Stocks!$A$2:$A$5455,Synthèse!$D$2:$D$442) -> 0 | AB102: =SUMIFS(Stocks!$E$2:$E$5455,Stocks!$D$2:$D$5455,Synthèse!AB$1,Stocks!$A$2:$A$5455,Synthèse!$D$2:$D$442) -> 0 | AC102: =SUMIFS(Stocks!$E$2:$E$5455,Stocks!$D$2:$D$5455,Synthèse!AC$1,Stocks!$A$2:$A$5455,Synthèse!$D$2:$D$442) -> 0 | AD102: =SUMIFS(Stocks!$E$2:$E$5455,Stocks!$D$2:$D$5455,Synthèse!AD$1,Stocks!$A$2:$A$5455,Synthèse!$D$2:$D$442) -> 0 | AE102: =SUMIFS(Stocks!$E$2:$E$5455,Stocks!$D$2:$D$5455,Synthèse!AE$1,Stocks!$A$2:$A$5455,Synthèse!$D$2:$D$442) -> 3 | ... CF102: =SUMIFS(Stocks!$E$2:$E$5455,Stocks!$D$2:$D$5455,Synthèse!CF$1,Stocks!$A$2:$A$5455,Synthèse!$D$2:$D$442) -> 0
A103: 1667 | B103: COMPAGNIE DES PET FOODS | C103: 85 | D103: 556012 | E103: DOUBLE PERCHOIR BOIS 35 CM | F103: A | G103: 3575070018318 | H103: R0006 | I103: PCE | J103: 3 | K103: 0.2 | L103: EUR | M103: 4.66 | N103: 4.66 | O103: 0 | P103: 43101 | Q103: 43465 | R103: 0.2 | S103: 1 | T103: UNITED BIRD | U103: 230 | V103: ACCESS. LIEU DE VIE ANIMAL : P | W103: 474 | X103: =SUMIFS(Stocks!$E$2:$E$5455,Stocks!$D$2:$D$5455,Synthèse!X$1,Stocks!$A$2:$A$5455,Synthèse!$D$2:$D$442) -> 0 | Y103: =SUMIFS(Stocks!$E$2:$E$5455,Stocks!$D$2:$D$5455,Synthèse!Y$1,Stocks!$A$2:$A$5455,Synthèse!$D$2:$D$442) -> 2 | Z103: =SUMIFS(Stocks!$E$2:$E$5455,Stocks!$D$2:$D$5455,Synthèse!Z$1,Stocks!$A$2:$A$5455,Synthèse!$D$2:$D$442) -> 0 | AA103: =SUMIFS(Stocks!$E$2:$E$5455,Stocks!$D$2:$D$5455,Synthèse!AA$1,Stocks!$A$2:$A$5455,Synthèse!$D$2:$D$442) -> 0 | AB103: =SUMIFS(Stocks!$E$2:$E$5455,Stocks!$D$2:$D$5455,Synthèse!AB$1,Stocks!$A$2:$A$5455,Synthèse!$D$2:$D$442) -> 0 | AC103: =SUMIFS(Stocks!$E$2:$E$5455,Stocks!$D$2:$D$5455,Synthèse!AC$1,Stocks!$A$2:$A$5455,Synthèse!$D$2:$D$442) -> 0 | AD103: =SUMIFS(Stocks!$E$2:$E$5455,Stocks!$D$2:$D$5455,Synthèse!AD$1,Stocks!$A$2:$A$5455,Synthèse!$D$2:$D$442) -> 0 | AE103: =SUMIFS(Stocks!$E$2:$E$5455,Stocks!$D$2:$D$5455,Synthèse!AE$1,Stocks!$A$2:$A$5455,Synthèse!$D$2:$D$442) -> 2 | ... CF103: =SUMIFS(Stocks!$E$2:$E$5455,Stocks!$D$2:$D$5455,Synthèse!CF$1,Stocks!$A$2:$A$5455,Synthèse!$D$2:$D$442) -> 0
A104: 1667 | B104: COMPAGNIE DES PET FOODS | C104: 132 | D104: 556013 | E104: FILET CORDE 46 X 44 CM | F104: C | G104: 3575070018660 | H104: R0007 | J104: 3 | K104: 0.2 | N104: 7.2 | X104: =SUMIFS(Stocks!$E$2:$E$5455,Stocks!$D$2:$D$5455,Synthèse!X$1,Stocks!$A$2:$A$5455,Synthèse!$D$2:$D$442) -> 0 | Y104: =SUMIFS(Stocks!$E$2:$E$5455,Stocks!$D$2:$D$5455,Synthèse!Y$1,Stocks!$A$2:$A$5455,Synthèse!$D$2:$D$442) -> 0 | Z104: =SUMIFS(Stocks!$E$2:$E$5455,Stocks!$D$2:$D$5455,Synthèse!Z$1,Stocks!$A$2:$A$5455,Synthèse!$D$2:$D$442) -> 3 | AA104: =SUMIFS(Stocks!$E$2:$E$5455,Stocks!$D$2:$D$5455,Synthèse!AA$1,Stocks!$A$2:$A$5455,Synthèse!$D$2:$D$442) -> 0 | AB104: =SUMIFS(Stocks!$E$2:$E$5455,Stocks!$D$2:$D$5455,Synthèse!AB$1,Stocks!$A$2:$A$5455,Synthèse!$D$2:$D$442) -> 0 | AC104: =SUMIFS(Stocks!$E$2:$E$5455,Stocks!$D$2:$D$5455,Synthèse!AC$1,Stocks!$A$2:$A$5455,Synthèse!$D$2:$D$442) -> 0 | AD104: =SUMIFS(Stocks!$E$2:$E$5455,Stocks!$D$2:$D$5455,Synthèse!AD$1,Stocks!$A$2:$A$5455,Synthèse!$D$2:$D$442) -> 0 | AE104: =SUMIFS(Stocks!$E$2:$E$5455,Stocks!$D$2:$D$5455,Synthèse!AE$1,Stocks!$A$2:$A$5455,Synthèse!$D$2:$D$442) -> 2 | ... CF104: =SUMIFS(Stocks!$E$2:$E$5455,Stocks!$D$2:$D$5455,Synthèse!CF$1,Stocks!$A$2:$A$5455,Synthèse!$D$2:$D$442) -> 0
A105: 1667 | B105: COMPAGNIE DES PET FOODS | C105: 85 | D105: 556014 | E105: FILET CORDE 60 X 60 CM | F105: A | G105: 3575070018677 | H105: R0008 | I105: PCE | J105: 3 | K105: 0.2 | L105: EUR | M105: 11.94 | N105: 11.94 | O105: 0 | P105: 43101 | Q105: 43465 | R105: 0.2 | S105: 1 | T105: UNITED BIRD | U105: 4494 | V105: JOUET ANIMAL : JOUET A SUSPEND | W105: 474 | X105: =SUMIFS(Stocks!$E$2:$E$5455,Stocks!$D$2:$D$5455,Synthèse!X$1,Stocks!$A$2:$A$5455,Synthèse!$D$2:$D$442) -> 0 | Y105: =SUMIFS(Stocks!$E$2:$E$5455,Stocks!$D$2:$D$5455,Synthèse!Y$1,Stocks!$A$2:$A$5455,Synthèse!$D$2:$D$442) -> 0 | Z105: =SUMIFS(Stocks!$E$2:$E$5455,Stocks!$D$2:$D$5455,Synthèse!Z$1,Stocks!$A$2:$A$5455,Synthèse!$D$2:$D$442) -> 2 | AA105: =SUMIFS(Stocks!$E$2:$E$5455,Stocks!$D$2:$D$5455,Synthèse!AA$1,Stocks!$A$2:$A$5455,Synthèse!$D$2:$D$442) -> 0 | AB105: =SUMIFS(Stocks!$E$2:$E$5455,Stocks!$D$2:$D$5455,Synthèse!AB$1,Stocks!$A$2:$A$5455,Synthèse!$D$2:$D$442) -> 0 | AC105: =SUMIFS(Stocks!$E$2:$E$5455,Stocks!$D$2:$D$5455,Synthèse!AC$1,Stocks!$A$2:$A$5455,Synthèse!$D$2:$D$442) -> 0 | AD105: =SUMIFS(Stocks!$E$2:$E$5455,Stocks!$D$2:$D$5455,Synthèse!AD$1,Stocks!$A$2:$A$5455,Synthèse!$D$2:$D$442) -> 0 | AE105: =SUMIFS(Stocks!$E$2:$E$5455,Stocks!$D$2:$D$5455,Synthèse!AE$1,Stocks!$A$2:$A$5455,Synthèse!$D$2:$D$442) -> 5 | ... CF105: =SUMIFS(Stocks!$E$2:$E$5455,Stocks!$D$2:$D$5455,Synthèse!CF$1,Stocks!$A$2:$A$5455,Synthèse!$D$2:$D$442) -> 0
A106: 1667 | B106: COMPAGNIE DES PET FOODS | C106: 85 | D106: 556015 | E106: CORDE SPIRALE 160 CM | F106: A | G106: 3575070018684 | H106: R0009 | I106: PCE | J106: 3 | K106: 0.2 | L106: EUR | M106: 2.28 | N106: 2.28 | O106: 0 | P106: 43101 | Q106: 43465 | R106: 0.2 | S106: 1 | T106: UNITED BIRD | U106: 4494 | V106: JOUET ANIMAL : JOUET A SUSPEND | W106: 474 | X106: =SUMIFS(Stocks!$E$2:$E$5455,Stocks!$D$2:$D$5455,Synthèse!X$1,Stocks!$A$2:$A$5455,Synthèse!$D$2:$D$442) -> 2 | Y106: =SUMIFS(Stocks!$E$2:$E$5455,Stocks!$D$2:$D$5455,Synthèse!Y$1,Stocks!$A$2:$A$5455,Synthèse!$D$2:$D$442) -> 2 | Z106: =SUMIFS(Stocks!$E$2:$E$5455,Stocks!$D$2:$D$5455,Synthèse!Z$1,Stocks!$A$2:$A$5455,Synthèse!$D$2:$D$442) -> 2 | AA106: =SUMIFS(Stocks!$E$2:$E$5455,Stocks!$D$2:$D$5455,Synthèse!AA$1,Stocks!$A$2:$A$5455,Synthèse!$D$2:$D$442) -> 0 | AB106: =SUMIFS(Stocks!$E$2:$E$5455,Stocks!$D$2:$D$5455,Synthèse!AB$1,Stocks!$A$2:$A$5455,Synthèse!$D$2:$D$442) -> 2 | AC106: =SUMIFS(Stocks!$E$2:$E$5455,Stocks!$D$2:$D$5455,Synthèse!AC$1,Stocks!$A$2:$A$5455,Synthèse!$D$2:$D$442) -> 0 | AD106: =SUMIFS(Stocks!$E$2:$E$5455,Stocks!$D$2:$D$5455,Synthèse!AD$1,Stocks!$A$2:$A$5455,Synthèse!$D$2:$D$442) -> 0 | AE106: =SUMIFS(Stocks!$E$2:$E$5455,Stocks!$D$2:$D$5455,Synthèse!AE$1,Stocks!$A$2:$A$5455,Synthèse!$D$2:$D$442) -> 2 | ... CF106: =SUMIFS(Stocks!$E$2:$E$5455,Stocks!$D$2:$D$5455,Synthèse!CF$1,Stocks!$A$2:$A$5455,Synthèse!$D$2:$D$442) -> 0
...

Sheet Stocks
A1: Article | B1: Lib. | C1: Code Mag | D1: Mag | E1: Stock
A2: 7110 | B2: PARADISIO OREILLE DE PORC X6 | C2: 02 | D2: BLOIS | E2: 17
A3: 7110 | B3: PARADISIO OREILLE DE PORC X6 | C3: 06 | D3: VÉLIZY | E3: 8
A4: 7110 | B4: PARADISIO OREILLE DE PORC X6 | C4: 08 | D4: BAILLET | E4: 9
A5: 7110 | B5: PARADISIO OREILLE DE PORC X6 | C5: 10 | D5: PONTHIERRY | E5: 28
A6: 7110 | B6: PARADISIO OREILLE DE PORC X6 | C6: 12 | D6: HERBLAY | E6: 19
A7: 7110 | B7: PARADISIO OREILLE DE PORC X6 | C7: 13 | D7: SERVON | E7: 26
A8: 7110 | B8: PARADISIO OREILLE DE PORC X6 | C8: 14 | D8: LA VILLE DU BOIS | E8: 17
A9: 7110 | B9: PARADISIO OREILLE DE PORC X6 | C9: 19 | D9: AMIENS | E9: 1
A10: 7110 | B10: PARADISIO OREILLE DE PORC X6 | C10: 24 | D10: ORLÉANS | E10: 3
A11: 7110 | B11: PARADISIO OREILLE DE PORC X6 | C11: 26 | D11: DEAUVILLE | E11: 2
A12: 7110 | B12: PARADISIO OREILLE DE PORC X6 | C12: 28 | D12: PARIS RIVE GAUCHE | E12: 24
A13: 7110 | B13: PARADISIO OREILLE DE PORC X6 | C13: 31 | D13: PAU | E13: 2
... A5455: 629746 | B5455: MINI EPIS MAIS 240 GRS | C5455: 75 | D5455: TOURS MADELAINE | E5455: 6

Sheet TCD
A3: Somme de Stock | B3: Étiquettes de colonnes
A4: Étiquettes de lignes | B4: AMIENS | C4: ARCUEIL | D4: AUBAGNE | E4: AVIGNON | F4: BAILLET | G4: BLOIS | H4: BOULOGNE-BILLANCOURT | I4: BRY SUR MARNE | J4: BUCHELAY | K4: CABRIÈS | L4: CAEN | M4: CARQUEFOU | N4: CERGY | O4: CHATENAY MALABRY | P4: CHOLET | Q4: COLMAR | R4: COLOMIERS | S4: COUTEVROULT | T4: CREIL | U4: DEAUVILLE | V4: FOURQUEUX | W4: GRIGNY | X4: HERBLAY | Y4: IVRY | Z4: LA VILLE DU BOIS | AA4: LE CHESNAY | AB4: LE MANS ST PAVACE | AC4: LES ULIS | AD4: MÉRIGNAC | AE4: METZ | AF4: MONTPELLIER | AG4: NANTES | AH4: NÎMES | AI4: ORLÉANS | AJ4: PACE | AK4: PARIS GRAND STADE | AL4: PARIS RIVE GAUCHE | AM4: PAU | AN4: PLAISIR | AO4: PONTHIERRY | AP4: RENNES ALMA | AQ4: ROSNY | AR4: SAINT-JORY | AS4: SAINT-QUENTIN | AT4: SERVON | AU4: ST BRIEUC | AV4: ST MALO | AW4: TOULOUSE | AX4: TOULOUSE GRAND HÔTEL | AY4: TOURS MADELAINE | AZ4: VÉLIZY | BA4: VILLEPARISIS | BB4: WITTENHEIM
A5: BALLE PLASTIQUE LUMIERE FLASH
A6: 620745 | B6: 11 | C6: 9 | F6: 6 | G6: 9 | I6: 6 | K6: 6 | L6: 6 | P6: 9 | Q6: 11 | R6: 10 | S6: 9 | U6: 5 | W6: 18 | X6: 4 | Z6: 3 | AA6: 7 | AD6: 11 | AG6: 9 | AH6: 13 | AI6: 8 | AJ6: 17 | AK6: 3 | AL6: 5 | AM6: 12 | AN6: 8 | AO6: 5 | AP6: 5 | AQ6: 7 | AT6: 9 | AU6: 3 | AV6: 5 | AY6: 10 | BA6: 3
A7: 12 COUCHES CULOTTE TAILLE L
A8: 316682 | AE8: 5 | AV8: 1
A9: 12 COUCHES CULOTTE TAILLE M
A10: 316681 | D10: 1 | AE10: 2
A11: 12 COUCHES CULOTTE TAILLE S
A12: 316598 | AV12: 4
A13: 2 BALLES EXTRA REBOND 3CM
A14: 475257 | J14: 3 | N14: 3 | P14: 1 | Q14: 2 | AC14: 16 | AV14: 7
A15: 2 JEUX HALTERES
A16: 439565 | B16: 9 | C16: 1 | D16: 1 | E16: 1 | F16: 6 | G16: 5 | I16: 3 | J16: 6 | K16: 7 | M16: 5 | N16: 5 | P16: 7 | Q16: 2 | R16: 5 | S16: 4 | T16: 8 | U16: 2 | V16: 1 | W16: 1 | X16: 4 | Z16: 6 | AA16: -1 | AB16: 5 | AC16: 4 | AH16: 4 | AI16: 5 | AJ16: 2 | AK16: 30 | AM16: 1 | AN16: 2 | AO16: 1 | AP16: 2 | AQ16: 9 | AS16: 3 | AT16: 3 | AU16: 6 | AV16: 2 | AX16: 5 | AY16: 5 | AZ16: 3 | BA16: 4 | BB16: 1
A17: 2 MINI BALLES LUMIERE FLASH
A18: 620744 | AY18: 2
A19: 4 BALLES MOUSSE
A20: 475253 | E20: 3 | F20: 10 | G20: 3 | H20: 9 | I20: 6 | J20: 3 | K20: 4 | L20: 2 | M20: 4 | O20: 12 | P20: 7 | Q20: 13 | R20: 5 | S20: 1 | U20: 2 | V20: 1 | X20: 4 | Z20: 6 | AA20: -1 | AB20: 14 | AC20: 5 | AE20: 10 | AF20: 1 | AG20: 1 | AH20: 9 | AI20: 9 | AJ20: 11 | AK20: 17 | AO20: 2 | AP20: 1 | AT20: 11 | AU20: 7 | AV20: 27 | AX20: 17 | AY20: 2
A21: 4 BALLES TENNIS A GOUT
A22: 475299 | D22: 1 | F22: 2 | H22: 5 | I22: 4 | K22: 1 | R22: 1 | X22: 6 | Y22: 4 | Z22: 9 | AB22: 4 | AD22: 1 | AG22: 2 | AI22: 3 | AK22: 6 | AL22: 5 | AN22: 2 | AO22: 3 | AT22: 4 | AW22: 6 | AY22: 3 | BA22: 2
A23: ABREUVOIR GALVANISE POULES 2L
A24: 570406 | E24: 7 | G24: 4 | J24: 4 | K24: 1 | M24: 2 | N24: 1 | O24: 2 | Q24: 1 | R24: 3 | T24: 2 | U24: 12 | V24: 1 | W24: 2 | X24: 1 | Z24: 1 | AA24: 2 | AC24: 3 | AE24: 2 | AG24: 2 | AH24: 1 | AI24: 5 | AJ24: 2 | AK24: 7 | AN24: 3 | AO24: 1 | AS24: 1 | AW24: 3 | BB24: 1
A25: ABREUVOIR GALVANISE POULES 9L
A26: 570407 | E26: 5 | G26: 2 | J26: 1 | K26: 4 | N26: 1 | P26: 1 | Q26: 1 | R26: 3 | S26: 3 | T26: 1 | U26: 2 | V26: 2 | W26: 1 | X26: 2 | Z26: 5 | AA26: 2 | AC26: 2 | AD26: 2 | AE26: 1 | AF26: 2 | AG26: 3 | AH26: 2 | AI26: 3 | AJ26: 1 | AK26: 13 | AM26: 2 | AN26: 3 | AO26: 1 | AP26: 1 | AS26: 1 | AU26: 1 | AW26: 2 | AY26: 2 | BB26: 2
A27: ABREUVOIR PLASTIQUE 10 L
A28: 307392 | E28: 6 | F28: 6 | K28: 3 | R28: 4 | S28: 2 | X28: 7 | Z28: 5 | AN28: 4 | AY28: 3 | BA28: 2
A29: ABREUVOIR PLASTIQUE 3 L
A30: 307390 | F30: 8 | K30: 7 | Z30: 9 | AN30: 2 | AO30: 3 | AT30: 1 | AY30: 2 | BA30: 6
A31: ABREUVOIR PLASTIQUE 30 L
A32: 505362 | E32: 4 | F32: 5 | G32: 1 | K32: 2 | M32: 1 | O32: 2 | Q32: 5 | R32: 2 | U32: 7 | W32: 1 | X32: 5 | Z32: 3 | AC32: 1 | AG32: 1 | AH32: 2 | AM32: 1 | AN32: 2 | AO32: 1 | AT32: 1 | AU32: 1 | AV32: 2 | AY32: 2 | BA32: 2
A33: ABREUVOIR POUSSIN PLAS 1.5 L
A34: 505363 | B34: 4 | D34: 10 | E34: 5 | F34: 9 | G34: 4 | I34: 2 | J34: 3 | K34: 20 | L34: 6 | O34: 2 | P34: 2 | R34: 1 | S34: 2 | T34: 2 | V34: 1 | X34: 4 | Z34: 7 | AA34: 6 | AD34: 3 | AF34: 2 | AG34: 4 | AH34: 7 | AI34: 2 | AJ34: 2 | AM34: 2 | AN34: 2 | AW34: 6 | AY34: 2 | BA34: 11
A35: ABREUVOIR SEAU POULE 4.5 LTS
