Workbook

Sheet Synthèse
A1: Fourn | B1: Lib. | C1: Grp March | D1: Article | E1: Lib.2 | F1: Code ABC | G1: Ean | H1: Ref art | I1: Cdt. | J1: PCB | K1: Tva | L1: Devise | M1: PA base | N1: PA net(pce) | O1: Rem PA | P1: Deb ach | Q1: Fin ach | R1: Tva ach | S1: Src appro | T1: Mrq Com | U1: Nature | V1: Lib.3 | W1: DA | X1: ROSNY | Y1: ARCUEIL | Z1: IVRY | AA1: CHATENAY MALABRY | AB1: BRY SUR MARNE | AC1: BOULOGNE BILL | AD1: PLAINE ST DENIS | AE1: PLAISIR | AF1: ST MAXIMIN | AG1: BUCHELAY | AH1: BAILLET EN F | AI1: HERBLAY | AJ1: CERGY PONTOISE | AK1: FOURQUEUX | AL1: VELIZY VILLACO | AM1: LE CHESNAY | AN1: DEAUVILLE | AO1: GRIGNY | AP1: LA VILLE DU BOIS | AQ1: LES ULIS | AR1: CAEN | AS1: JARDINERIE JULLIEN | AT1: MERIGNAC | AU1: QUENTIN FLORE | AV1: AMIENS | AW1: BLOIS | AX1: ST JEAN LE BLC | AY1: LE MANS | AZ1: PONTHIERRY | BA1: SERVON | BB1: ST BRIEUC | BC1: PACE | BD1: RENNES ALMA | BE1: ST JOUAN D.GUE. | BF1: QUIMPER | BG1: LORIENT | BH1: CHOLET | BI1: CHAMBRAY L.T. | BJ1: CARQUEFOU | BK1: NANTES-ORVAULT | BL1: WITTENHEIM | BM1: METZ | BN1: COLMAR | BO1: COLOMIERS | BP1: TOULOUSE | BQ1: PAU-LONS | BR1: ST JORY | BS1: TOULOUSE GRAND HOTEL | BT1: AUBAGNE | BU1: CABRIES | BV1: NIMES | BW1: MONTPELLIER | BX1: COUTEVROULT | BY1: VILLEPARISIS | BZ1: PARIS | CA1: JARDINERIE DE BARENTIN | CB1: SA JARDINERIE D ISNEAUVILLE | CC1: SARL PLANTES ET LOISIRS | CD1: LE MANS | CE1: PUILBOREAU | CF1: AVIGNON
D2: 55623 | E2: BALLE ET TETINES 38 CM | F2: A | G2: 3575070018868 | H2: R0017 | J2: 3 | K2: 0.2 | N2: 5.9 | X2: =SUMIFS(Stocks!$E$2:$E$5455,Stocks!$D$2:$D$5455,Synthèse!X$1,Stocks!$A$2:$A$5455,Synthèse!$D$2:$D$442) -> 0 | Y2: =SUMIFS(Stocks!$E$2:$E$5455,Stocks!$D$2:$D$5455,Synthèse!Y$1,Stocks!$A$2:$A$5455,Synthèse!$D$2:$D$442) -> 0 | Z2: =SUMIFS(Stocks!$E$2:$E$5455,Stocks!$D$2:$D$5455,Synthèse!Z$1,Stocks!$A$2:$A$5455,Synthèse!$D$2:$D$442) -> 0 | AA2: =SUMIFS(Stocks!$E$2:$E$5455,Stocks!$D$2:$D$5455,Synthèse!AA$1,Stocks!$A$2:$A$5455,Synthèse!$D$2:$D$442) -> 0 | AB2: =SUMIFS(Stocks!$E$2:$E$5455,Stocks!$D$2:$D$5455,Synthèse!AB$1,Stocks!$A$2:$A$5455,Synthèse!$D$2:$D$442) -> 0 | AC2: =SUMIFS(Stocks!$E$2:$E$5455,Stocks!$D$2:$D$5455,Synthèse!AC$1,Stocks!$A$2:$A$5455,Synthèse!$D$2:$D$442) -> 0 | AD2: =SUMIFS(Stocks!$E$2:$E$5455,Stocks!$D$2:$D$5455,Synthèse!AD$1,Stocks!$A$2:$A$5455,Synthèse!$D$2:$D$442) -> 0 | AE2: =SUMIFS(Stocks!$E$2:$E$5455,Stocks!$D$2:$D$5455,Synthèse!AE$1,Stocks!$A$2:$A$5455,Synthèse!$D$2:$D$442) -> 0 | ... CF2: =SUMIFS(Stocks!$E$2:$E$5455,Stocks!$D$2:$D$5455,Synthèse!CF$1,Stocks!$A$2:$A$5455,Synthèse!$D$2:$D$442) -> 0
A3: 1667 | B3: COMPAGNIE DES PET FOODS | C3: 110 | D3: 144088 | E3: TAPIS CONFORT 50X75 CM GRIS | F3: A | G3: 3575070002294 | H3: C2294G | I3: PCE | J3: 1 | K3: 0.2 | L3: EUR | M3: 7.52 | N3: 7.52 | O3: 0 | P3: 43154 | Q3: 43465 | R3: 0.2 | S3: 1 | T3: ANKA | U3: 171 | V3: COUCHAGE ANIMAL : TAPIS | W3: 474 | X3: =SUMIFS(Stocks!$E$2:$E$5455,Stocks!$D$2:$D$5455,Synthèse!X$1,Stocks!$A$2:$A$5455,Synthèse!$D$2:$D$442) -> 0 | Y3: =SUMIFS(Stocks!$E$2:$E$5455,Stocks!$D$2:$D$5455,Synthèse!Y$1,Stocks!$A$2:$A$5455,Synthèse!$D$2:$D$442) -> 0 | Z3: =SUMIFS(Stocks!$E$2:$E$5455,Stocks!$D$2:$D$5455,Synthèse!Z$1,Stocks!$A$2:$A$5455,Synthèse!$D$2:$D$442) -> 0 | AA3: =SUMIFS(Stocks!$E$2:$E$5455,Stocks!$D$2:$D$5455,Synthèse!AA$1,Stocks!$A$2:$A$5455,Synthèse!$D$2:$D$442) -> 0 | AB3: =SUMIFS(Stocks!$E$2:$E$5455,Stocks!$D$2:$D$5455,Synthèse!AB$1,Stocks!$A$2:$A$5455,Synthèse!$D$2:$D$442) -> 0 | AC3: =SUMIFS(Stocks!$E$2:$E$5455,Stocks!$D$2:$D$5455,Synthèse!AC$1,Stocks!$A$2:$A$5455,Synthèse!$D$2:$D$442) -> 0 | AD3: =SUMIFS(Stocks!$E$2:$E$5455,Stocks!$D$2:$D$5455,Synthèse!AD$1,Stocks!$A$2:$A$5455,Synthèse!$D$2:$D$442) -> 0 | AE3: =SUMIFS(Stocks!$E$2:$E$5455,Stocks!$D$2:$D$5455,Synthèse!AE$1,Stocks!$A$2:$A$5455,Synthèse!$D$2:$D$442) -> 0 | ... CF3: =SUMIFS(Stocks!$E$2:$E$5455,Stocks!$D$2:$D$5455,Synthèse!CF$1,Stocks!$A$2:$A$5455,Synthèse!$D$2:$D$442) -> 0
A4: 1667 | B4: COMPAGNIE DES PET FOODS | C4: 110 | D4: 144091 | E4: TAPIS CONFORT 75X100 CM GRIS | F4: A | G4: 3575070002324 | H4: C2324G | I4: PCE | J4: 1 | K4: 0.2 | L4: EUR | M4: 13.65 | N4: 13.65 | O4: 0 | P4: 43154 | Q4: 43465 | R4: 0.2 | S4: 1 | T4: ANKA | U4: 171 | V4: COUCHAGE ANIMAL : TAPIS | W4: 474 | X4: =SUMIFS(Stocks!$E$2:$E$5455,Stocks!$D$2:$D$5455,Synthèse!X$1,Stocks!$A$2:$A$5455,Synthèse!$D$2:$D$442) -> 0 | Y4: =SUMIFS(Stocks!$E$2:$E$5455,Stocks!$D$2:$D$5455,Synthèse!Y$1,Stocks!$A$2:$A$5455,Synthèse!$D$2:$D$442) -> 0 | Z4: =SUMIFS(Stocks!$E$2:$E$5455,Stocks!$D$2:$D$5455,Synthèse!Z$1,Stocks!$A$2:$A$5455,Synthèse!$D$2:$D$442) -> 0 | AA4: =SUMIFS(Stocks!$E$2:$E$5455,Stocks!$D$2:$D$5455,Synthèse!AA$1,Stocks!$A$2:$A$5455,Synthèse!$D$2:$D$442) -> 0 | AB4: =SUMIFS(Stocks!$E$2:$E$5455,Stocks!$D$2:$D$5455,Synthèse!AB$1,Stocks!$A$2:$A$5455,Synthèse!$D$2:$D$442) -> 0 | AC4: =SUMIFS(Stocks!$E$2:$E$5455,Stocks!$D$2:$D$5455,Synthèse!AC$1,Stocks!$A$2:$A$5455,Synthèse!$D$2:$D$442) -> 0 | AD4: =SUMIFS(Stocks!$E$2:$E$5455,Stocks!$D$2:$D$5455,Synthèse!AD$1,Stocks!$A$2:$A$5455,Synthèse!$D$2:$D$442) -> 0 | AE4: =SUMIFS(Stocks!$E$2:$E$5455,Stocks!$D$2:$D$5455,Synthèse!AE$1,Stocks!$A$2:$A$5455,Synthèse!$D$2:$D$442) -> 0 | ... CF4: =SUMIFS(Stocks!$E$2:$E$5455,Stocks!$D$2:$D$5455,Synthèse!CF$1,Stocks!$A$2:$A$5455,Synthèse!$D$2:$D$442) -> 1
A5: 1667 | B5: COMPAGNIE DES PET FOODS | C5: 120 | D5: 232409 | E5: SUPPORT DOUBLE + GAMELLES INOX | F5: A | G5: 3575070006704 | H5: J6246 | I5: PCE | J5: 1 | K5: 0.2 | L5: EUR | M5: 10.25 | N5: 10.25 | O5: 0 | P5: 43154 | Q5: 43465 | R5: 0.2 | S5: 1 | T5: ANKA | U5: 2024 | V5: ACCESSOIRE ALIMENTAIRE | W5: 474 | X5: =SUMIFS(Stocks!$E$2:$E$5455,Stocks!$D$2:$D$5455,Synthèse!X$1,Stocks!$A$2:$A$5455,Synthèse!$D$2:$D$442) -> 0 | Y5: =SUMIFS(Stocks!$E$2:$E$5455,Stocks!$D$2:$D$5455,Synthèse!Y$1,Stocks!$A$2:$A$5455,Synthèse!$D$2:$D$442) -> 0 | Z5: =SUMIFS(Stocks!$E$2:$E$5455,Stocks!$D$2:$D$5455,Synthèse!Z$1,Stocks!$A$2:$A$5455,Synthèse!$D$2:$D$442) -> 0 | AA5: =SUMIFS(Stocks!$E$2:$E$5455,Stocks!$D$2:$D$5455,Synthèse!AA$1,Stocks!$A$2:$A$5455,Synthèse!$D$2:$D$442) -> 0 | AB5: =SUMIFS(Stocks!$E$2:$E$5455,Stocks!$D$2:$D$5455,Synthèse!AB$1,Stocks!$A$2:$A$5455,Synthèse!$D$2:$D$442) -> 0 | AC5: =SUMIFS(Stocks!$E$2:$E$5455,Stocks!$D$2:$D$5455,Synthèse!AC$1,Stocks!$A$2:$A$5455,Synthèse!$D$2:$D$442) -> 0 | AD5: =SUMIFS(Stocks!$E$2:$E$5455,Stocks!$D$2:$D$5455,Synthèse!AD$1,Stocks!$A$2:$A$5455,Synthèse!$D$2:$D$442) -> 0 | AE5: =SUMIFS(Stocks!$E$2:$E$5455,Stocks!$D$2:$D$5455,Synthèse!AE$1,Stocks!$A$2:$A$5455,Synthèse!$D$2:$D$442) -> 2 | ... CF5: =SUMIFS(Stocks!$E$2:$E$5455,Stocks!$D$2:$D$5455,Synthèse!CF$1,Stocks!$A$2:$A$5455,Synthèse!$D$2:$D$442) -> 0
A6: 1667 | B6: COMPAGNIE DES PET FOODS | C6: 62 | D6: 250734 | E6: MAISON D ANGLE COCHON D INDE | F6: A | G6: 3575070008517 | H6: GRB6048 | I6: PCE | J6: 1 | K6: 0.2 | L6: EUR | M6: 5.02 | N6: 5.02 | O6: 0 | P6: 43101 | Q6: 43465 | R6: 0.2 | S6: 1 | T6: RONGIS | U6: 2017 | V6: COUCHAGE ANIMAL : DÔME, TENTE | W6: 474 | X6: =SUMIFS(Stocks!$E$2:$E$5455,Stocks!$D$2:$D$5455,Synthèse!X$1,Stocks!$A$2:$A$5455,Synthèse!$D$2:$D$442) -> 2 | Y6: =SUMIFS(Stocks!$E$2:$E$5455,Stocks!$D$2:$D$5455,Synthèse!Y$1,Stocks!$A$2:$A$5455,Synthèse!$D$2:$D$442) -> 2 | Z6: =SUMIFS(Stocks!$E$2:$E$5455,Stocks!$D$2:$D$5455,Synthèse!Z$1,Stocks!$A$2:$A$5455,Synthèse!$D$2:$D$442) -> 3 | AA6: =SUMIFS(Stocks!$E$2:$E$5455,Stocks!$D$2:$D$5455,Synthèse!AA$1,Stocks!$A$2:$A$5455,Synthèse!$D$2:$D$442) -> 0 | AB6: =SUMIFS(Stocks!$E$2:$E$5455,Stocks!$D$2:$D$5455,Synthèse!AB$1,Stocks!$A$2:$A$5455,Synthèse!$D$2:$D$442) -> 2 | AC6: =SUMIFS(Stocks!$E$2:$E$5455,Stocks!$D$2:$D$5455,Synthèse!AC$1,Stocks!$A$2:$A$5455,Synthèse!$D$2:$D$442) -> 0 | AD6: =SUMIFS(Stocks!$E$2:$E$5455,Stocks!$D$2:$D$5455,Synthèse!AD$1,Stocks!$A$2:$A$5455,Synthèse!$D$2:$D$442) -> 0 | AE6: =SUMIFS(Stocks!$E$2:$E$5455,Stocks!$D$2:$D$5455,Synthèse!AE$1,Stocks!$A$2:$A$5455,Synthèse!$D$2:$D$442) -> 2 | ... CF6: =SUMIFS(Stocks!$E$2:$E$5455,Stocks!$D$2:$D$5455,Synthèse!CF$1,Stocks!$A$2:$A$5455,Synthèse!$D$2:$D$442) -> 3
A7: 1667 | B7: COMPAGNIE DES PET FOODS | C7: 62 | D7: 250735 | E7: MAISON D ANGLE LAPIN NAIN | F7: A | G7: 3575070008524 | H7: GRB6049 | I7: PCE | J7: 1 | K7: 0.2 | L7: EUR | M7: 7.69 | N7: 7.69 | O7: 0 | P7: 43101 | Q7: 43465 | R7: 0.2 | S7: 1 | T7: RONGIS | U7: 2017 | V7: COUCHAGE ANIMAL : DÔME, TENTE | W7: 474 | X7: =SUMIFS(Stocks!$E$2:$E$5455,Stocks!$D$2:$D$5455,Synthèse!X$1,Stocks!$A$2:$A$5455,Synthèse!$D$2:$D$442) -> 1 | Y7: =SUMIFS(Stocks!$E$2:$E$5455,Stocks!$D$2:$D$5455,Synthèse!Y$1,Stocks!$A$2:$A$5455,Synthèse!$D$2:$D$442) -> 1 | Z7: =SUMIFS(Stocks!$E$2:$E$5455,Stocks!$D$2:$D$5455,Synthèse!Z$1,Stocks!$A$2:$A$5455,Synthèse!$D$2:$D$442) -> 28 | AA7: =SUMIFS(Stocks!$E$2:$E$5455,Stocks!$D$2:$D$5455,Synthèse!AA$1,Stocks!$A$2:$A$5455,Synthèse!$D$2:$D$442) -> 2 | AB7: =SUMIFS(Stocks!$E$2:$E$5455,Stocks!$D$2:$D$5455,Synthèse!AB$1,Stocks!$A$2:$A$5455,Synthèse!$D$2:$D$442) -> 1 | AC7: =SUMIFS(Stocks!$E$2:$E$5455,Stocks!$D$2:$D$5455,Synthèse!AC$1,Stocks!$A$2:$A$5455,Synthèse!$D$2:$D$442) -> 0 | AD7: =SUMIFS(Stocks!$E$2:$E$5455,Stocks!$D$2:$D$5455,Synthèse!AD$1,Stocks!$A$2:$A$5455,Synthèse!$D$2:$D$442) -> 0 | AE7: =SUMIFS(Stocks!$E$2:$E$5455,Stocks!$D$2:$D$5455,Synthèse!AE$1,Stocks!$A$2:$A$5455,Synthèse!$D$2:$D$442) -> 2 | ... CF7: =SUMIFS(Stocks!$E$2:$E$5455,Stocks!$D$2:$D$5455,Synthèse!CF$1,Stocks!$A$2:$A$5455,Synthèse!$D$2:$D$442) -> 2
A8: 1667 | B8: COMPAGNIE DES PET FOODS | C8: 62 | D8: 250740 | E8: MAISON FORESTIERE HAMS/SOUR | F8: B | G8: 3575070008562 | H8: GRB6060 | I8: PCE | J8: 1 | K8: 0.2 | L8: EUR | M8: 2.25 | N8: 2.25 | O8: 0 | P8: 43101 | Q8: 43465 | R8: 0.2 | S8: 1 | T8: RONGIS | U8: 2017 | V8: COUCHAGE ANIMAL : DÔME, TENTE | W8: 474 | X8: =SUMIFS(Stocks!$E$2:$E$5455,Stocks!$D$2:$D$5455,Synthèse!X$1,Stocks!$A$2:$A$5455,Synthèse!$D$2:$D$442) -> 3 | Y8: =SUMIFS(Stocks!$E$2:$E$5455,Stocks!$D$2:$D$5455,Synthèse!Y$1,Stocks!$A$2:$A$5455,Synthèse!$D$2:$D$442) -> 8 | Z8: =SUMIFS(Stocks!$E$2:$E$5455,Stocks!$D$2:$D$5455,Synthèse!Z$1,Stocks!$A$2:$A$5455,Synthèse!$D$2:$D$442) -> 5 | AA8: =SUMIFS(Stocks!$E$2:$E$5455,Stocks!$D$2:$D$5455,Synthèse!AA$1,Stocks!$A$2:$A$5455,Synthèse!$D$2:$D$442) -> 0 | AB8: =SUMIFS(Stocks!$E$2:$E$5455,Stocks!$D$2:$D$5455,Synthèse!AB$1,Stocks!$A$2:$A$5455,Synthèse!$D$2:$D$442) -> 4 | AC8: =SUMIFS(Stocks!$E$2:$E$5455,Stocks!$D$2:$D$5455,Synthèse!AC$1,Stocks!$A$2:$A$5455,Synthèse!$D$2:$D$442) -> 0 | AD8: =SUMIFS(Stocks!$E$2:$E$5455,Stocks!$D$2:$D$5455,Synthèse!AD$1,Stocks!$A$2:$A$5455,Synthèse!$D$2:$D$442) -> 0 | AE8: =SUMIFS(Stocks!$E$2:$E$5455,Stocks!$D$2:$D$5455,Synthèse!AE$1,Stocks!$A$2:$A$5455,Synthèse!$D$2:$D$442) -> 2 | ... CF8: =SUMIFS(Stocks!$E$2:$E$5455,Stocks!$D$2:$D$5455,Synthèse!CF$1,Stocks!$A$2:$A$5455,Synthèse!$D$2:$D$442) -> 0
A9: 1667 | B9: COMPAGNIE DES PET FOODS | C9: 453 | D9: 307383 | E9: MANGEOIRE METAL POUSSIN 50 CM | F9: C | G9: 3575070011524 | H9: S4503 | I9: PCE | J9: 1 | K9: 0.2 | L9: EUR | M9: 2.97 | N9: 2.97 | O9: 0 | P9: 43101 | Q9: 43465 | R9: 0.2 | S9: 1 | T9: COMPAGNIE DES PET FOODS | U9: 2023 | V9: MANGEOIRE | W9: 474 | X9: =SUMIFS(Stocks!$E$2:$E$5455,Stocks!$D$2:$D$5455,Synthèse!X$1,Stocks!$A$2:$A$5455,Synthèse!$D$2:$D$442) -> 0 | Y9: =SUMIFS(Stocks!$E$2:$E$5455,Stocks!$D$2:$D$5455,Synthèse!Y$1,Stocks!$A$2:$A$5455,Synthèse!$D$2:$D$442) -> 0 | Z9: =SUMIFS(Stocks!$E$2:$E$5455,Stocks!$D$2:$D$5455,Synthèse!Z$1,Stocks!$A$2:$A$5455,Synthèse!$D$2:$D$442) -> 0 | AA9: =SUMIFS(Stocks!$E$2:$E$5455,Stocks!$D$2:$D$5455,Synthèse!AA$1,Stocks!$A$2:$A$5455,Synthèse!$D$2:$D$442) -> 2 | AB9: =SUMIFS(Stocks!$E$2:$E$5455,Stocks!$D$2:$D$5455,Synthèse!AB$1,Stocks!$A$2:$A$5455,Synthèse!$D$2:$D$442) -> 0 | AC9: =SUMIFS(Stocks!$E$2:$E$5455,Stocks!$D$2:$D$5455,Synthèse!AC$1,Stocks!$A$2:$A$5455,Synthèse!$D$2:$D$442) -> 0 | AD9: =SUMIFS(Stocks!$E$2:$E$5455,Stocks!$D$2:$D$5455,Synthèse!AD$1,Stocks!$A$2:$A$5455,Synthèse!$D$2:$D$442) -> 0 | AE9: =SUMIFS(Stocks!$E$2:$E$5455,Stocks!$D$2:$D$5455,Synthèse!AE$1,Stocks!$A$2:$A$5455,Synthèse!$D$2:$D$442) -> 3 | ... CF9: =SUMIFS(Stocks!$E$2:$E$5455,Stocks!$D$2:$D$5455,Synthèse!CF$1,Stocks!$A$2:$A$5455,Synthèse!$D$2:$D$442) -> 0
A10: 1667 | B10: COMPAGNIE DES PET FOODS | C10: 453 | D10: 307385 | E10: MANGEOIRE METAL POULE 50 CM | F10: C | G10: 3575070011531 | H10: S4504 | I10: PCE | J10: 1 | K10: 0.2 | L10: EUR | M10: 4.58 | N10: 4.58 | O10: 0 | P10: 43101 | Q10: 43465 | R10: 0.2 | S10: 1 | T10: COMPAGNIE DES PET FOODS | U10: 2023 | V10: MANGEOIRE | W10: 474 | X10: =SUMIFS(Stocks!$E$2:$E$5455,Stocks!$D$2:$D$5455,Synthèse!X$1,Stocks!$A$2:$A$5455,Synthèse!$D$2:$D$442) -> 0 | Y10: =SUMIFS(Stocks!$E$2:$E$5455,Stocks!$D$2:$D$5455,Synthèse!Y$1,Stocks!$A$2:$A$5455,Synthèse!$D$2:$D$442) -> 0 | Z10: =SUMIFS(Stocks!$E$2:$E$5455,Stocks!$D$2:$D$5455,Synthèse!Z$1,Stocks!$A$2:$A$5455,Synthèse!$D$2:$D$442) -> 0 | AA10: =SUMIFS(Stocks!$E$2:$E$5455,Stocks!$D$2:$D$5455,Synthèse!AA$1,Stocks!$A$2:$A$5455,Synthèse!$D$2:$D$442) -> 2 | AB10: =SUMIFS(Stocks!$E$2:$E$5455,Stocks!$D$2:$D$5455,Synthèse!AB$1,Stocks!$A$2:$A$5455,Synthèse!$D$2:$D$442) -> 0 | AC10: =SUMIFS(Stocks!$E$2:$E$5455,Stocks!$D$2:$D$5455,Synthèse!AC$1,Stocks!$A$2:$A$5455,Synthèse!$D$2:$D$442) -> 0 | AD10: =SUMIFS(Stocks!$E$2:$E$5455,Stocks!$D$2:$D$5455,Synthèse!AD$1,Stocks!$A$2:$A$5455,Synthèse!$D$2:$D$442) -> 0 | AE10: =SUMIFS(Stocks!$E$2:$E$5455,Stocks!$D$2:$D$5455,Synthèse!AE$1,Stocks!$A$2:$A$5455,Synthèse!$D$2:$D$442) -> 1 | ... CF10: =SUMIFS(Stocks!$E$2:$E$5455,Stocks!$D$2:$D$5455,Synthèse!CF$1,Stocks!$A$2:$A$5455,Synthèse!$D$2:$D$442) -> 7
A11: 1667 | B11: COMPAGNIE DES PET FOODS | C11: 453 | D11: 307388 | E11: NOURRISSEUR GALVA 5 KG | F11: C | G11: 3575070011548 | H11: S4505 | I11: PCE | J11: 1 | K11: 0.2 | L11: EUR | M11: 8.84 | N11: 8.84 | O11: 0 | P11: 43101 | Q11: 43465 | R11: 0.2 | S11: 1 | T11: COMPAGNIE DES PET FOODS | U11: 2022 | V11: ABREUVOIR ET BIBERON | W11: 474 | X11: =SUMIFS(Stocks!$E$2:$E$5455,Stocks!$D$2:$D$5455,Synthèse!X$1,Stocks!$A$2:$A$5455,Synthèse!$D$2:$D$442) -> 0 | Y11: =SUMIFS(Stocks!$E$2:$E$5455,Stocks!$D$2:$D$5455,Synthèse!Y$1,Stocks!$A$2:$A$5455,Synthèse!$D$2:$D$442) -> 0 | Z11: =SUMIFS(Stocks!$E$2:$E$5455,Stocks!$D$2:$D$5455,Synthèse!Z$1,Stocks!$A$2:$A$5455,Synthèse!$D$2:$D$442) -> 0 | AA11: =SUMIFS(Stocks!$E$2:$E$5455,Stocks!$D$2:$D$5455,Synthèse!AA$1,Stocks!$A$2:$A$5455,Synthèse!$D$2:$D$442) -> 0 | AB11: =SUMIFS(Stocks!$E$2:$E$5455,Stocks!$D$2:$D$5455,Synthèse!AB$1,Stocks!$A$2:$A$5455,Synthèse!$D$2:$D$442) -> 0 | AC11: =SUMIFS(Stocks!$E$2:$E$5455,Stocks!$D$2:$D$5455,Synthèse!AC$1,Stocks!$A$2:$A$5455,Synthèse!$D$2:$D$442) -> 0 | AD11: =SUMIFS(Stocks!$E$2:$E$5455,Stocks!$D$2:$D$5455,Synthèse!AD$1,Stocks!$A$2:$A$5455,Synthèse!$D$2:$D$442) -> 0 | AE11: =SUMIFS(Stocks!$E$2:$E$5455,Stocks!$D$2:$D$5455,Synthèse!AE$1,Stocks!$A$2:$A$5455,Synthèse!$D$2:$D$442) -> 2 | ... CF11: =SUMIFS(Stocks!$E$2:$E$5455,Stocks!$D$2:$D$5455,Synthèse!CF$1,Stocks!$A$2:$A$5455,Synthèse!$D$2:$D$442) -> 5
A12: 1667 | B12: COMPAGNIE DES PET FOODS | C12: 453 | D12: 307390 | E12: ABREUVOIR PLASTIQUE 3 L | F12: C | G12: 3575070011555 | H12: S4506 | I12: PCE | J12: 1 | K12: 0.2 | L12: EUR | M12: 1.47 | N12: 1.47 | O12: 0 | P12: 43101 | Q12: 43465 | R12: 0.2 | S12: 1 | T12: COMPAGNIE DES PET FOODS | U12: 2022 | V12: ABREUVOIR ET BIBERON | W12: 474 | X12: =SUMIFS(Stocks!$E$2:$E$5455,Stocks!$D$2:$D$5455,Synthèse!X$1,Stocks!$A$2:$A$5455,Synthèse!$D$2:$D$442) -> 0 | Y12: =SUMIFS(Stocks!$E$2:$E$5455,Stocks!$D$2:$D$5455,Synthèse!Y$1,Stocks!$A$2:$A$5455,Synthèse!$D$2:$D$442) -> 0 | Z12: =SUMIFS(Stocks!$E$2:$E$5455,Stocks!$D$2:$D$5455,Synthèse!Z$1,Stocks!$A$2:$A$5455,Synthèse!$D$2:$D$442) -> 0 | AA12: =SUMIFS(Stocks!$E$2:$E$5455,Stocks!$D$2:$D$5455,Synthèse!AA$1,Stocks!$A$2:$A$5455,Synthèse!$D$2:$D$442) -> 0 | AB12: =SUMIFS(Stocks!$E$2:$E$5455,Stocks!$D$2:$D$5455,Synthèse!AB$1,Stocks!$A$2:$A$5455,Synthèse!$D$2:$D$442) -> 0 | AC12: =SUMIFS(Stocks!$E$2:$E$5455,Stocks!$D$2:$D$5455,Synthèse!AC$1,Stocks!$A$2:$A$5455,Synthèse!$D$2:$D$442) -> 0 | AD12: =SUMIFS(Stocks!$E$2:$E$5455,Stocks!$D$2:$D$5455,Synthèse!AD$1,Stocks!$A$2:$A$5455,Synthèse!$D$2:$D$442) -> 0 | AE12: =SUMIFS(Stocks!$E$2:$E$5455,Stocks!$D$2:$D$5455,Synthèse!AE$1,Stocks!$A$2:$A$5455,Synthèse!$D$2:$D$442) -> 2 | ... CF12: =SUMIFS(Stocks!$E$2:$E$5455,Stocks!$D$2:$D$5455,Synthèse!CF$1,Stocks!$A$2:$A$5455,Synthèse!$D$2:$D$442) -> 0
A13: 1667 | B13: COMPAGNIE DES PET FOODS | C13: 73 | D13: 307392 | E13: ABREUVOIR PLASTIQUE 10 L | F13: C | G13: 3575070011579 | H13: S4508 | I13: PCE | J13: 1 | K13: 0.2 | L13: EUR | M13: 4.02 | N13: 4.02 | O13: 0 | P13: 43101 | Q13: 43465 | R13: 0.2 | S13: 1 | T13: COMPAGNIE DES PET FOODS | U13: 2022 | V13: ABREUVOIR ET BIBERON | W13: 474 | X13: =SUMIFS(Stocks!$E$2:$E$5455,Stocks!$D$2:$D$5455,Synthèse!X$1,Stocks!$A$2:$A$5455,Synthèse!$D$2:$D$442) -> 0 | Y13: =SUMIFS(Stocks!$E$2:$E$5455,Stocks!$D$2:$D$5455,Synthèse!Y$1,Stocks!$A$2:$A$5455,Synthèse!$D$2:$D$442) -> 0 | Z13: =SUMIFS(Stocks!$E$2:$E$5455,Stocks!$D$2:$D$5455,Synthèse!Z$1,Stocks!$A$2:$A$5455,Synthèse!$D$2:$D$442) -> 0 | AA13: =SUMIFS(Stocks!$E$2:$E$5455,Stocks!$D$2:$D$5455,Synthèse!AA$1,Stocks!$A$2:$A$5455,Synthèse!$D$2:$D$442) -> 0 | AB13: =SUMIFS(Stocks!$E$2:$E$5455,Stocks!$D$2:$D$5455,Synthèse!AB$1,Stocks!$A$2:$A$5455,Synthèse!$D$2:$D$442) -> 0 | AC13: =SUMIFS(Stocks!$E$2:$E$5455,Stocks!$D$2:$D$5455,Synthèse!AC$1,Stocks!$A$2:$A$5455,Synthèse!$D$2:$D$442) -> 0 | AD13: =SUMIFS(Stocks!$E$2:$E$5455,Stocks!$D$2:$D$5455,Synthèse!AD$1,Stocks!$A$2:$A$5455,Synthèse!$D$2:$D$442) -> 0 | AE13: =SUMIFS(Stocks!$E$2:$E$5455,Stocks!$D$2:$D$5455,Synthèse!AE$1,Stocks!$A$2:$A$5455,Synthèse!$D$2:$D$442) -> 4 | ... CF13: =SUMIFS(Stocks!$E$2:$E$5455,Stocks!$D$2:$D$5455,Synthèse!CF$1,Stocks!$A$2:$A$5455,Synthèse!$D$2:$D$442) -> 6
A14: 1667 | B14: COMPAGNIE DES PET FOODS | C14: 118 | D14: 316533 | E14: LAPIN NO STUFFING 35CM | F14: A | G14: 3575070011180 | H14: J0551 | I14: PCE | J14: 6 | K14: 0.2 | L14: EUR | M14: 2.26 | N14: 2.26 | O14: 0 | P14: 43154 | Q14: 43465 | R14: 0.2 | S14: 1 | T14: ANKA | U14: 197 | V14: JOUET ANIMAL : PELUCHE | W14: 474 | X14: =SUMIFS(Stocks!$E$2:$E$5455,Stocks!$D$2:$D$5455,Synthèse!X$1,Stocks!$A$2:$A$5455,Synthèse!$D$2:$D$442) -> 0 | Y14: =SUMIFS(Stocks!$E$2:$E$5455,Stocks!$D$2:$D$5455,Synthèse!Y$1,Stocks!$A$2:$A$5455,Synthèse!$D$2:$D$442) -> 0 | Z14: =SUMIFS(Stocks!$E$2:$E$5455,Stocks!$D$2:$D$5455,Synthèse!Z$1,Stocks!$A$2:$A$5455,Synthèse!$D$2:$D$442) -> 13 | AA14: =SUMIFS(Stocks!$E$2:$E$5455,Stocks!$D$2:$D$5455,Synthèse!AA$1,Stocks!$A$2:$A$5455,Synthèse!$D$2:$D$442) -> 0 | AB14: =SUMIFS(Stocks!$E$2:$E$5455,Stocks!$D$2:$D$5455,Synthèse!AB$1,Stocks!$A$2:$A$5455,Synthèse!$D$2:$D$442) -> 0 | AC14: =SUMIFS(Stocks!$E$2:$E$5455,Stocks!$D$2:$D$5455,Synthèse!AC$1,Stocks!$A$2:$A$5455,Synthèse!$D$2:$D$442) -> 0 | AD14: =SUMIFS(Stocks!$E$2:$E$5455,Stocks!$D$2:$D$5455,Synthèse!AD$1,Stocks!$A$2:$A$5455,Synthèse!$D$2:$D$442) -> 0 | AE14: =SUMIFS(Stocks!$E$2:$E$5455,Stocks!$D$2:$D$5455,Synthèse!AE$1,Stocks!$A$2:$A$5455,Synthèse!$D$2:$D$442) -> 0 | ... CF14: =SUMIFS(Stocks!$E$2:$E$5455,Stocks!$D$2:$D$5455,Synthèse!CF$1,Stocks!$A$2:$A$5455,Synthèse!$D$2:$D$442) -> 2
... A81: 1667 | B81: COMPAGNIE DES PET FOODS | C81: 119 | D81: 486212 | E81: ANNEAU TPR XS 9 CM | F81: A | G81: 3575070016482 | H81: J1228 | I81: PCE | J81: 12 | K81: 0.2 | L81: EUR | M81: 1.48 | N81: 1.48 | O81: 0 | P81: 43154 | Q81: 43465 | R81: 0.2 | S81: 1 | T81: ANKA | U81: 195 | V81: JOUET ANIMAL : CORDE | W81: 474 | X81: =SUMIFS(Stocks!$E$2:$E$5455,Stocks!$D$2:$D$5455,Synthèse!X$1,Stocks!$A$2:$A$5455,Synthèse!$D$2:$D$442) -> 1 | Y81: =SUMIFS(Stocks!$E$2:$E$5455,Stocks!$D$2:$D$5455,Synthèse!Y$1,Stocks!$A$2:$A$5455,Synthèse!$D$2:$D$442) -> 1 | Z81: =SUMIFS(Stocks!$E$2:$E$5455,Stocks!$D$2:$D$5455,Synthèse!Z$1,Stocks!$A$2:$A$5455,Synthèse!$D$2:$D$442) -> 4 | AA81: =SUMIFS(Stocks!$E$2:$E$5455,Stocks!$D$2:$D$5455,Synthèse!AA$1,Stocks!$A$2:$A$5455,Synthèse!$D$2:$D$442) -> 0 | AB81: =SUMIFS(Stocks!$E$2:$E$5455,Stocks!$D$2:$D$5455,Synthèse!AB$1,Stocks!$A$2:$A$5455,Synthèse!$D$2:$D$442) -> 3 | AC81: =SUMIFS(Stocks!$E$2:$E$5455,Stocks!$D$2:$D$5455,Synthèse!AC$1,Stocks!$A$2:$A$5455,Synthèse!$D$2:$D$442) -> 0 | AD81: =SUMIFS(Stocks!$E$2:$E$5455,Stocks!$D$2:$D$5455,Synthèse!AD$1,Stocks!$A$2:$A$5455,Synthèse!$D$2:$D$442) -> 0 | AE81: =SUMIFS(Stocks!$E$2:$E$5455,Stocks!$D$2:$D$5455,Synthèse!AE$1,Stocks!$A$2:$A$5455,Synthèse!$D$2:$D$442) -> 10 | ... CF81: =SUMIFS(Stocks!$E$2:$E$5455,Stocks!$D$2:$D$5455,Synthèse!CF$1,Stocks!$A$2:$A$5455,Synthèse!$D$2:$D$442) -> 3
D82: 505362 | E82: ABREUVOIR PLASTIQUE 30 L | F82: C | G82: 3575070017038 | H82: S4509CPL | I82: PCE | J82: 1 | K82: 0.2 | L82: EUR | M82: 17.78 | N82: 17.78 | O82: 0 | P82: 43101 | Q82: 43465 | R82: 0.2 | S82: 1 | T82: COMPAGNIE DES PET FOODS | U82: 2022 | V82: ABREUVOIR ET BIBERON | W82: 474 | X82: =SUMIFS(Stocks!$E$2:$E$5455,Stocks!$D$2:$D$5455,Synthèse!X$1,Stocks!$A$2:$A$5455,Synthèse!$D$2:$D$442) -> 0 | Y82: =SUMIFS(Stocks!$E$2:$E$5455,Stocks!$D$2:$D$5455,Synthèse!Y$1,Stocks!$A$2:$A$5455,Synthèse!$D$2:$D$442) -> 0 | Z82: =SUMIFS(Stocks!$E$2:$E$5455,Stocks!$D$2:$D$5455,Synthèse!Z$1,Stocks!$A$2:$A$5455,Synthèse!$D$2:$D$442) -> 0 | AA82: =SUMIFS(Stocks!$E$2:$E$5455,Stocks!$D$2:$D$5455,Synthèse!AA$1,Stocks!$A$2:$A$5455,Synthèse!$D$2:$D$442) -> 2 | AB82: =SUMIFS(Stocks!$E$2:$E$5455,Stocks!$D$2:$D$5455,Synthèse!AB$1,Stocks!$A$2:$A$5455,Synthèse!$D$2:$D$442) -> 0 | AC82: =SUMIFS(Stocks!$E$2:$E$5455,Stocks!$D$2:$D$5455,Synthèse!AC$1,Stocks!$A$2:$A$5455,Synthèse!$D$2:$D$442) -> 0 | AD82: =SUMIFS(Stocks!$E$2:$E$5455,Stocks!$D$2:$D$5455,Synthèse!AD$1,Stocks!$A$2:$A$5455,Synthèse!$D$2:$D$442) -> 0 | AE82: =SUMIFS(Stocks!$E$2:$E$5455,Stocks!$D$2:$D$5455,Synthèse!AE$1,Stocks!$A$2:$A$5455,Synthèse!$D$2:$D$442) -> 2 | ... CF82: =SUMIFS(Stocks!$E$2:$E$5455,Stocks!$D$2:$D$5455,Synthèse!CF$1,Stocks!$A$2:$A$5455,Synthèse!$D$2:$D$442) -> 4
A83: 1667 | B83: COMPAGNIE DES PET FOODS | C83: 453 | D83: 505363 | E83: ABREUVOIR POUSSIN PLAS 1.5 L | F83: B | G83: 3575070016765 | H83: S4516 | I83: PCE | J83: 1 | K83: 0.2 | L83: EUR | M83: 1.34 | N83: 1.34 | O83: 0 | P83: 43101 | Q83: 43465 | R83: 0.2 | S83: 1 | T83: COMPAGNIE DES PET FOODS | U83: 2022 | V83: ABREUVOIR ET BIBERON | W83: 474 | X83: =SUMIFS(Stocks!$E$2:$E$5455,Stocks!$D$2:$D$5455,Synthèse!X$1,Stocks!$A$2:$A$5455,Synthèse!$D$2:$D$442) -> 0 | Y83: =SUMIFS(Stocks!$E$2:$E$5455,Stocks!$D$2:$D$5455,Synthèse!Y$1,Stocks!$A$2:$A$5455,Synthèse!$D$2:$D$442) -> 0 | Z83: =SUMIFS(Stocks!$E$2:$E$5455,Stocks!$D$2:$D$5455,Synthèse!Z$1,Stocks!$A$2:$A$5455,Synthèse!$D$2:$D$442) -> 0 | AA83: =SUMIFS(Stocks!$E$2:$E$5455,Stocks!$D$2:$D$5455,Synthèse!AA$1,Stocks!$A$2:$A$5455,Synthèse!$D$2:$D$442) -> 2 | AB83: =SUMIFS(Stocks!$E$2:$E$5455,Stocks!$D$2:$D$5455,Synthèse!AB$1,Stocks!$A$2:$A$5455,Synthèse!$D$2:$D$442) -> 2 | AC83: =SUMIFS(Stocks!$E$2:$E$5455,Stocks!$D$2:$D$5455,Synthèse!AC$1,Stocks!$A$2:$A$5455,Synthèse!$D$2:$D$442) -> 0 | AD83: =SUMIFS(Stocks!$E$2:$E$5455,Stocks!$D$2:$D$5455,Synthèse!AD$1,Stocks!$A$2:$A$5455,Synthèse!$D$2:$D$442) -> 0 | AE83: =SUMIFS(Stocks!$E$2:$E$5455,Stocks!$D$2:$D$5455,Synthèse!AE$1,Stocks!$A$2:$A$5455,Synthèse!$D$2:$D$442) -> 2 | ... CF83: =SUMIFS(Stocks!$E$2:$E$5455,Stocks!$D$2:$D$5455,Synthèse!CF$1,Stocks!$A$2:$A$5455,Synthèse!$D$2:$D$442) -> 5
A84: 1667 | B84: COMPAGNIE DES PET FOODS | C84: 73 | D84: 505364 | E84: NOURRISSEUR PLASTIQUE 3 KG | F84: B | G84: 3575070017069 | H84: S4517 | I84: PCE | J84: 1 | K84: 0.2 | L84: EUR | M84: 3.19 | N84: 3.19 | O84: 0 | P84: 43101 | Q84: 43465 | R84: 0.2 | S84: 1 | T84: COMPAGNIE DES PET FOODS | U84: 2023 | V84: MANGEOIRE | W84: 474 | X84: =SUMIFS(Stocks!$E$2:$E$5455,Stocks!$D$2:$D$5455,Synthèse!X$1,Stocks!$A$2:$A$5455,Synthèse!$D$2:$D$442) -> 0 | Y84: =SUMIFS(Stocks!$E$2:$E$5455,Stocks!$D$2:$D$5455,Synthèse!Y$1,Stocks!$A$2:$A$5455,Synthèse!$D$2:$D$442) -> 0 | Z84: =SUMIFS(Stocks!$E$2:$E$5455,Stocks!$D$2:$D$5455,Synthèse!Z$1,Stocks!$A$2:$A$5455,Synthèse!$D$2:$D$442) -> 0 | AA84: =SUMIFS(Stocks!$E$2:$E$5455,Stocks!$D$2:$D$5455,Synthèse!AA$1,Stocks!$A$2:$A$5455,Synthèse!$D$2:$D$442) -> 0 | AB84: =SUMIFS(Stocks!$E$2:$E$5455,Stocks!$D$2:$D$5455,Synthèse!AB$1,Stocks!$A$2:$A$5455,Synthèse!$D$2:$D$442) -> 0 | AC84: =SUMIFS(Stocks!$E$2:$E$5455,Stocks!$D$2:$D$5455,Synthèse!AC$1,Stocks!$A$2:$A$5455,Synthèse!$D$2:$D$442) -> 0 | AD84: =SUMIFS(Stocks!$E$2:$E$5455,Stocks!$D$2:$D$5455,Synthèse!AD$1,Stocks!$A$2:$A$5455,Synthèse!$D$2:$D$442) -> 0 | AE84: =SUMIFS(Stocks!$E$2:$E$5455,Stocks!$D$2:$D$5455,Synthèse!AE$1,Stocks!$A$2:$A$5455,Synthèse!$D$2:$D$442) -> 2 | ... CF84: =SUMIFS(Stocks!$E$2:$E$5455,Stocks!$D$2:$D$5455,Synthèse!CF$1,Stocks!$A$2:$A$5455,Synthèse!$D$2:$D$442) -> 0
D85: 505365 | E85: NOURRISSEUR PLASTIQUE 7 KG | F85: C | G85: 3575070017076 | H85: S4518 | I85: PCE | J85: 1 | K85: 0.2 | L85: EUR | M85: 6.2 | N85: 6.2 | O85: 0 | P85: 43101 | Q85: 43465 | R85: 0.2 | S85: 1 | T85: COMPAGNIE DES PET FOODS | U85: 2023 | V85: MANGEOIRE | W85: 474 | X85: =SUMIFS(Stocks!$E$2:$E$5455,Stocks!$D$2:$D$5455,Synthèse!X$1,Stocks!$A$2:$A$5455,Synthèse!$D$2:$D$442) -> 0 | Y85: =SUMIFS(Stocks!$E$2:$E$5455,Stocks!$D$2:$D$5455,Synthèse!Y$1,Stocks!$A$2:$A$5455,Synthèse!$D$2:$D$442) -> 0 | Z85: =SUMIFS(Stocks!$E$2:$E$5455,Stocks!$D$2:$D$5455,Synthèse!Z$1,Stocks!$A$2:$A$5455,Synthèse!$D$2:$D$442) -> 0 | AA85: =SUMIFS(Stocks!$E$2:$E$5455,Stocks!$D$2:$D$5455,Synthèse!AA$1,Stocks!$A$2:$A$5455,Synthèse!$D$2:$D$442) -> 0 | AB85: =SUMIFS(Stocks!$E$2:$E$5455,Stocks!$D$2:$D$5455,Synthèse!AB$1,Stocks!$A$2:$A$5455,Synthèse!$D$2:$D$442) -> 0 | AC85: =SUMIFS(Stocks!$E$2:$E$5455,Stocks!$D$2:$D$5455,Synthèse!AC$1,Stocks!$A$2:$A$5455,Synthèse!$D$2:$D$442) -> 0 | AD85: =SUMIFS(Stocks!$E$2:$E$5455,Stocks!$D$2:$D$5455,Synthèse!AD$1,Stocks!$A$2:$A$5455,Synthèse!$D$2:$D$442) -> 0 | AE85: =SUMIFS(Stocks!$E$2:$E$5455,Stocks!$D$2:$D$5455,Synthèse!AE$1,Stocks!$A$2:$A$5455,Synthèse!$D$2:$D$442) -> 1 | ... CF85: =SUMIFS(Stocks!$E$2:$E$5455,Stocks!$D$2:$D$5455,Synthèse!CF$1,Stocks!$A$2:$A$5455,Synthèse!$D$2:$D$442) -> 4
A86: 1667 | B86: COMPAGNIE DES PET FOODS | C86: 62 | D86: 505368 | E86: JOUET NAC PIERRE+BOIS | F86: B | G86: 3575070016833 | H86: GRB6312 | I86: PCE | J86: 6 | K86: 0.2 | L86: EUR | M86: 1.5 | N86: 1.5 | O86: 0 | P86: 43101 | Q86: 43465 | R86: 0.2 | S86: 1 | T86: RONGIS | U86: 2024 | V86: ACCESSOIRE ALIMENTAIRE | W86: 474 | X86: =SUMIFS(Stocks!$E$2:$E$5455,Stocks!$D$2:$D$5455,Synthèse!X$1,Stocks!$A$2:$A$5455,Synthèse!$D$2:$D$442) -> 9 | Y86: =SUMIFS(Stocks!$E$2:$E$5455,Stocks!$D$2:$D$5455,Synthèse!Y$1,Stocks!$A$2:$A$5455,Synthèse!$D$2:$D$442) -> 0 | Z86: =SUMIFS(Stocks!$E$2:$E$5455,Stocks!$D$2:$D$5455,Synthèse!Z$1,Stocks!$A$2:$A$5455,Synthèse!$D$2:$D$442) -> 9 | AA86: =SUMIFS(Stocks!$E$2:$E$5455,Stocks!$D$2:$D$5455,Synthèse!AA$1,Stocks!$A$2:$A$5455,Synthèse!$D$2:$D$442) -> 0 | AB86: =SUMIFS(Stocks!$E$2:$E$5455,Stocks!$D$2:$D$5455,Synthèse!AB$1,Stocks!$A$2:$A$5455,Synthèse!$D$2:$D$442) -> 1 | AC86: =SUMIFS(Stocks!$E$2:$E$5455,Stocks!$D$2:$D$5455,Synthèse!AC$1,Stocks!$A$2:$A$5455,Synthèse!$D$2:$D$442) -> 0 | AD86: =SUMIFS(Stocks!$E$2:$E$5455,Stocks!$D$2:$D$5455,Synthèse!AD$1,Stocks!$A$2:$A$5455,Synthèse!$D$2:$D$442) -> 0 | AE86: =SUMIFS(Stocks!$E$2:$E$5455,Stocks!$D$2:$D$5455,Synthèse!AE$1,Stocks!$A$2:$A$5455,Synthèse!$D$2:$D$442) -> 3 | ... CF86: =SUMIFS(Stocks!$E$2:$E$5455,Stocks!$D$2:$D$5455,Synthèse!CF$1,Stocks!$A$2:$A$5455,Synthèse!$D$2:$D$442) -> 0
A87: 1667 | B87: COMPAGNIE DES PET FOODS | C87: 62 | D87: 505369 | E87: JOUET NAC 2 PIERRES+BOIS | F87: B | G87: 3575070016840 | H87: GRB6313 | I87: PCE | J87: 6 | K87: 0.2 | L87: EUR | M87: 1.5 | N87: 1.5 | O87: 0 | P87: 43101 | Q87: 43465 | R87: 0.2 | S87: 1 | T87: RONGIS | U87: 2024 | V87: ACCESSOIRE ALIMENTAIRE | W87: 474 | X87: =SUMIFS(Stocks!$E$2:$E$5455,Stocks!$D$2:$D$5455,Synthèse!X$1,Stocks!$A$2:$A$5455,Synthèse!$D$2:$D$442) -> 0 | Y87: =SUMIFS(Stocks!$E$2:$E$5455,Stocks!$D$2:$D$5455,Synthèse!Y$1,Stocks!$A$2:$A$5455,Synthèse!$D$2:$D$442) -> 0 | Z87: =SUMIFS(Stocks!$E$2:$E$5455,Stocks!$D$2:$D$5455,Synthèse!Z$1,Stocks!$A$2:$A$5455,Synthèse!$D$2:$D$442) -> 1 | AA87: =SUMIFS(Stocks!$E$2:$E$5455,Stocks!$D$2:$D$5455,Synthèse!AA$1,Stocks!$A$2:$A$5455,Synthèse!$D$2:$D$442) -> 0 | AB87: =SUMIFS(Stocks!$E$2:$E$5455,Stocks!$D$2:$D$5455,Synthèse!AB$1,Stocks!$A$2:$A$5455,Synthèse!$D$2:$D$442) -> 4 | AC87: =SUMIFS(Stocks!$E$2:$E$5455,Stocks!$D$2:$D$5455,Synthèse!AC$1,Stocks!$A$2:$A$5455,Synthèse!$D$2:$D$442) -> 0 | AD87: =SUMIFS(Stocks!$E$2:$E$5455,Stocks!$D$2:$D$5455,Synthèse!AD$1,Stocks!$A$2:$A$5455,Synthèse!$D$2:$D$442) -> 0 | AE87: =SUMIFS(Stocks!$E$2:$E$5455,Stocks!$D$2:$D$5455,Synthèse!AE$1,Stocks!$A$2:$A$5455,Synthèse!$D$2:$D$442) -> 0 | ... CF87: =SUMIFS(Stocks!$E$2:$E$5455,Stocks!$D$2:$D$5455,Synthèse!CF$1,Stocks!$A$2:$A$5455,Synthèse!$D$2:$D$442) -> 0
A88: 1667 | B88: COMPAGNIE DES PET FOODS | C88: 60 | D88: 505370 | E88: JOUET NAC BALLE ROSEAU | F88: B | G88: 3575070016857 | H88: GRB6314 | I88: PCE | J88: 6 | K88: 0.2 | L88: EUR | M88: 1.24 | N88: 1.24 | O88: 0 | P88: 43101 | Q88: 43465 | R88: 0.2 | S88: 1 | T88: RONGIS | U88: 0 | W88: 474 | X88: =SUMIFS(Stocks!$E$2:$E$5455,Stocks!$D$2:$D$5455,Synthèse!X$1,Stocks!$A$2:$A$5455,Synthèse!$D$2:$D$442) -> 0 | Y88: =SUMIFS(Stocks!$E$2:$E$5455,Stocks!$D$2:$D$5455,Synthèse!Y$1,Stocks!$A$2:$A$5455,Synthèse!$D$2:$D$442) -> 0 | Z88: =SUMIFS(Stocks!$E$2:$E$5455,Stocks!$D$2:$D$5455,Synthèse!Z$1,Stocks!$A$2:$A$5455,Synthèse!$D$2:$D$442) -> 1 | AA88: =SUMIFS(Stocks!$E$2:$E$5455,Stocks!$D$2:$D$5455,Synthèse!AA$1,Stocks!$A$2:$A$5455,Synthèse!$D$2:$D$442) -> 0 | AB88: =SUMIFS(Stocks!$E$2:$E$5455,Stocks!$D$2:$D$5455,Synthèse!AB$1,Stocks!$A$2:$A$5455,Synthèse!$D$2:$D$442) -> 0 | AC88: =SUMIFS(Stocks!$E$2:$E$5455,Stocks!$D$2:$D$5455,Synthèse!AC$1,Stocks!$A$2:$A$5455,Synthèse!$D$2:$D$442) -> 0 | AD88: =SUMIFS(Stocks!$E$2:$E$5455,Stocks!$D$2:$D$5455,Synthèse!AD$1,Stocks!$A$2:$A$5455,Synthèse!$D$2:$D$442) -> 0 | AE88: =SUMIFS(Stocks!$E$2:$E$5455,Stocks!$D$2:$D$5455,Synthèse!AE$1,Stocks!$A$2:$A$5455,Synthèse!$D$2:$D$442) -> 1 | ... CF88: =SUMIFS(Stocks!$E$2:$E$5455,Stocks!$D$2:$D$5455,Synthèse!CF$1,Stocks!$A$2:$A$5455,Synthèse!$D$2:$D$442) -> 0
A89: 1667 | B89: COMPAGNIE DES PET FOODS | C89: 62 | D89: 515764 | E89: MAISON COTTAGE HAMSTER/SOURIS | F89: B | G89: 3575070017847 | H89: GRB6043 | I89: PCE | J89: 1 | K89: 0.2 | L89: EUR | M89: 4.03 | N89: 4.03 | O89: 0 | P89: 43101 | Q89: 43465 | R89: 0.2 | S89: 1 | T89: RONGIS | U89: 227 | V89: HABITAT DE L'ANIMAL : ABRI | W89: 474 | X89: =SUMIFS(Stocks!$E$2:$E$5455,Stocks!$D$2:$D$5455,Synthèse!X$1,Stocks!$A$2:$A$5455,Synthèse!$D$2:$D$442) -> 2 | Y89: =SUMIFS(Stocks!$E$2:$E$5455,Stocks!$D$2:$D$5455,Synthèse!Y$1,Stocks!$A$2:$A$5455,Synthèse!$D$2:$D$442) -> 0 | Z89: =SUMIFS(Stocks!$E$2:$E$5455,Stocks!$D$2:$D$5455,Synthèse!Z$1,Stocks!$A$2:$A$5455,Synthèse!$D$2:$D$442) -> 0 | AA89: =SUMIFS(Stocks!$E$2:$E$5455,Stocks!$D$2:$D$5455,Synthèse!AA$1,Stocks!$A$2:$A$5455,Synthèse!$D$2:$D$442) -> 0 | AB89: =SUMIFS(Stocks!$E$2:$E$5455,Stocks!$D$2:$D$5455,Synthèse!AB$1,Stocks!$A$2:$A$5455,Synthèse!$D$2:$D$442) -> 3 | AC89: =SUMIFS(Stocks!$E$2:$E$5455,Stocks!$D$2:$D$5455,Synthèse!AC$1,Stocks!$A$2:$A$5455,Synthèse!$D$2:$D$442) -> 0 | AD89: =SUMIFS(Stocks!$E$2:$E$5455,Stocks!$D$2:$D$5455,Synthèse!AD$1,Stocks!$A$2:$A$5455,Synthèse!$D$2:$D$442) -> 0 | AE89: =SUMIFS(Stocks!$E$2:$E$5455,Stocks!$D$2:$D$5455,Synthèse!AE$1,Stocks!$A$2:$A$5455,Synthèse!$D$2:$D$442) -> 2 | ... CF89: =SUMIFS(Stocks!$E$2:$E$5455,Stocks!$D$2:$D$5455,Synthèse!CF$1,Stocks!$A$2:$A$5455,Synthèse!$D$2:$D$442) -> 0
A90: 1667 | B90: COMPAGNIE DES PET FOODS | C90: 62 | D90: 515767 | E90: MAISON RAMPE HAMSTER/SOURIS | F90: B | G90: 3575070017816 | H90: GRB6046 | I90: PCE | J90: 1 | K90: 0.2 | L90: EUR | M90: 3.85 | N90: 3.85 | O90: 0 | P90: 43101 | Q90: 43465 | R90: 0.2 | S90: 1 | T90: RONGIS | U90: 227 | V90: HABITAT DE L'ANIMAL : ABRI | W90: 474 | X90: =SUMIFS(Stocks!$E$2:$E$5455,Stocks!$D$2:$D$5455,Synthèse!X$1,Stocks!$A$2:$A$5455,Synthèse!$D$2:$D$442) -> 3 | Y90: =SUMIFS(Stocks!$E$2:$E$5455,Stocks!$D$2:$D$5455,Synthèse!Y$1,Stocks!$A$2:$A$5455,Synthèse!$D$2:$D$442) -> 1 | Z90: =SUMIFS(Stocks!$E$2:$E$5455,Stocks!$D$2:$D$5455,Synthèse!Z$1,Stocks!$A$2:$A$5455,Synthèse!$D$2:$D$442) -> 0 | AA90: =SUMIFS(Stocks!$E$2:$E$5455,Stocks!$D$2:$D$5455,Synthèse!AA$1,Stocks!$A$2:$A$5455,Synthèse!$D$2:$D$442) -> 0 | AB90: =SUMIFS(Stocks!$E$2:$E$5455,Stocks!$D$2:$D$5455,Synthèse!AB$1,Stocks!$A$2:$A$5455,Synthèse!$D$2:$D$442) -> 2 | AC90: =SUMIFS(Stocks!$E$2:$E$5455,Stocks!$D$2:$D$5455,Synthèse!AC$1,Stocks!$A$2:$A$5455,Synthèse!$D$2:$D$442) -> 0 | AD90: =SUMIFS(Stocks!$E$2:$E$5455,Stocks!$D$2:$D$5455,Synthèse!AD$1,Stocks!$A$2:$A$5455,Synthèse!$D$2:$D$442) -> 0 | AE90: =SUMIFS(Stocks!$E$2:$E$5455,Stocks!$D$2:$D$5455,Synthèse!AE$1,Stocks!$A$2:$A$5455,Synthèse!$D$2:$D$442) -> 2 | ... CF90: =SUMIFS(Stocks!$E$2:$E$5455,Stocks!$D$2:$D$5455,Synthèse!CF$1,Stocks!$A$2:$A$5455,Synthèse!$D$2:$D$442) -> 0
A91: 1667 | B91: COMPAGNIE DES PET FOODS | C91: 62 | D91: 515768 | E91: MAISON RAMPE LAPIN NAIN | F91: B | G91: 3575070017779 | H91: GRB6054 | I91: PCE | J91: 1 | K91: 0.2 | L91: EUR | M91: 8.05 | N91: 8.05 | O91: 0 | P91: 43101 | Q91: 43465 | R91: 0.2 | S91: 1 | T91: RONGIS | U91: 227 | V91: HABITAT DE L'ANIMAL : ABRI | W91: 474 | X91: =SUMIFS(Stocks!$E$2:$E$5455,Stocks!$D$2:$D$5455,Synthèse!X$1,Stocks!$A$2:$A$5455,Synthèse!$D$2:$D$442) -> 3 | Y91: =SUMIFS(Stocks!$E$2:$E$5455,Stocks!$D$2:$D$5455,Synthèse!Y$1,Stocks!$A$2:$A$5455,Synthèse!$D$2:$D$442) -> 0 | Z91: =SUMIFS(Stocks!$E$2:$E$5455,Stocks!$D$2:$D$5455,Synthèse!Z$1,Stocks!$A$2:$A$5455,Synthèse!$D$2:$D$442) -> 3 | AA91: =SUMIFS(Stocks!$E$2:$E$5455,Stocks!$D$2:$D$5455,Synthèse!AA$1,Stocks!$A$2:$A$5455,Synthèse!$D$2:$D$442) -> 0 | AB91: =SUMIFS(Stocks!$E$2:$E$5455,Stocks!$D$2:$D$5455,Synthèse!AB$1,Stocks!$A$2:$A$5455,Synthèse!$D$2:$D$442) -> 2 | AC91: =SUMIFS(Stocks!$E$2:$E$5455,Stocks!$D$2:$D$5455,Synthèse!AC$1,Stocks!$A$2:$A$5455,Synthèse!$D$2:$D$442) -> 0 | AD91: =SUMIFS(Stocks!$E$2:$E$5455,Stocks!$D$2:$D$5455,Synthèse!AD$1,Stocks!$A$2:$A$5455,Synthèse!$D$2:$D$442) -> 0 | AE91: =SUMIFS(Stocks!$E$2:$E$5455,Stocks!$D$2:$D$5455,Synthèse!AE$1,Stocks!$A$2:$A$5455,Synthèse!$D$2:$D$442) -> 5 | ... CF91: =SUMIFS(Stocks!$E$2:$E$5455,Stocks!$D$2:$D$5455,Synthèse!CF$1,Stocks!$A$2:$A$5455,Synthèse!$D$2:$D$442) -> 0
A92: 1667 | B92: COMPAGNIE DES PET FOODS | C92: 62 | D92: 515769 | E92: MAISON RATELIER LAPIN NAIN | F92: A | G92: 3575070017786 | H92: GRB6055 | I92: PCE | J92: 1 | K92: 0.2 | L92: EUR | M92: 8.97 | N92: 8.97 | O92: 0 | P92: 43101 | Q92: 43465 | R92: 0.2 | S92: 1 | T92: RONGIS | U92: 227 | V92: HABITAT DE L'ANIMAL : ABRI | W92: 474 | X92: =SUMIFS(Stocks!$E$2:$E$5455,Stocks!$D$2:$D$5455,Synthèse!X$1,Stocks!$A$2:$A$5455,Synthèse!$D$2:$D$442) -> 2 | Y92: =SUMIFS(Stocks!$E$2:$E$5455,Stocks!$D$2:$D$5455,Synthèse!Y$1,Stocks!$A$2:$A$5455,Synthèse!$D$2:$D$442) -> 0 | Z92: =SUMIFS(Stocks!$E$2:$E$5455,Stocks!$D$2:$D$5455,Synthèse!Z$1,Stocks!$A$2:$A$5455,Synthèse!$D$2:$D$442) -> 0 | AA92: =SUMIFS(Stocks!$E$2:$E$5455,Stocks!$D$2:$D$5455,Synthèse!AA$1,Stocks!$A$2:$A$5455,Synthèse!$D$2:$D$442) -> 2 | AB92: =SUMIFS(Stocks!$E$2:$E$5455,Stocks!$D$2:$D$5455,Synthèse!AB$1,Stocks!$A$2:$A$5455,Synthèse!$D$2:$D$442) -> 2 | AC92: =SUMIFS(Stocks!$E$2:$E$5455,Stocks!$D$2:$D$5455,Synthèse!AC$1,Stocks!$A$2:$A$5455,Synthèse!$D$2:$D$442) -> 0 | AD92: =SUMIFS(Stocks!$E$2:$E$5455,Stocks!$D$2:$D$5455,Synthèse!AD$1,Stocks!$A$2:$A$5455,Synthèse!$D$2:$D$442) -> 0 | AE92: =SUMIFS(Stocks!$E$2:$E$5455,Stocks!$D$2:$D$5455,Synthèse!AE$1,Stocks!$A$2:$A$5455,Synthèse!$D$2:$D$442) -> 1 | ... CF92: =SUMIFS(Stocks!$E$2:$E$5455,Stocks!$D$2:$D$5455,Synthèse!CF$1,Stocks!$A$2:$A$5455,Synthèse!$D$2:$D$442) -> 0
A93: 1667 | B93: COMPAGNIE DES PET FOODS | C93: 62 | D93: 515770 | E93: MAISON RAMPE COCHON DINDE | F93: B | G93: 3575070017793 | H93: GRB6056 | I93: PCE | J93: 1 | K93: 0.2 | L93: EUR | M93: 5.56 | N93: 5.56 | O93: 0 | P93: 43101 | Q93: 43465 | R93: 0.2 | S93: 1 | T93: RONGIS | U93: 227 | V93: HABITAT DE L'ANIMAL : ABRI | W93: 474 | X93: =SUMIFS(Stocks!$E$2:$E$5455,Stocks!$D$2:$D$5455,Synthèse!X$1,Stocks!$A$2:$A$5455,Synthèse!$D$2:$D$442) -> 2 | Y93: =SUMIFS(Stocks!$E$2:$E$5455,Stocks!$D$2:$D$5455,Synthèse!Y$1,Stocks!$A$2:$A$5455,Synthèse!$D$2:$D$442) -> 1 | Z93: =SUMIFS(Stocks!$E$2:$E$5455,Stocks!$D$2:$D$5455,Synthèse!Z$1,Stocks!$A$2:$A$5455,Synthèse!$D$2:$D$442) -> 0 | AA93: =SUMIFS(Stocks!$E$2:$E$5455,Stocks!$D$2:$D$5455,Synthèse!AA$1,Stocks!$A$2:$A$5455,Synthèse!$D$2:$D$442) -> 0 | AB93: =SUMIFS(Stocks!$E$2:$E$5455,Stocks!$D$2:$D$5455,Synthèse!AB$1,Stocks!$A$2:$A$5455,Synthèse!$D$2:$D$442) -> 1 | AC93: =SUMIFS(Stocks!$E$2:$E$5455,Stocks!$D$2:$D$5455,Synthèse!AC$1,Stocks!$A$2:$A$5455,Synthèse!$D$2:$D$442) -> 0 | AD93: =SUMIFS(Stocks!$E$2:$E$5455,Stocks!$D$2:$D$5455,Synthèse!AD$1,Stocks!$A$2:$A$5455,Synthèse!$D$2:$D$442) -> 0 | AE93: =SUMIFS(Stocks!$E$2:$E$5455,Stocks!$D$2:$D$5455,Synthèse!AE$1,Stocks!$A$2:$A$5455,Synthèse!$D$2:$D$442) -> 1 | ... CF93: =SUMIFS(Stocks!$E$2:$E$5455,Stocks!$D$2:$D$5455,Synthèse!CF$1,Stocks!$A$2:$A$5455,Synthèse!$D$2:$D$442) -> 0
A94: 1667 | B94: COMPAGNIE DES PET FOODS | C94: 62 | D94: 515771 | E94: MAISON RATELIER COCHON DINDE | F94: A | G94: 3575070017809 | H94: GRB6058 | I94: PCE | J94: 1 | K94: 0.2 | L94: EUR | M94: 5.82 | N94: 5.82 | O94: 0 | P94: 43101 | Q94: 43465 | R94: 0.2 | S94: 1 | T94: RONGIS | U94: 227 | V94: HABITAT DE L'ANIMAL : ABRI | W94: 474 | X94: =SUMIFS(Stocks!$E$2:$E$5455,Stocks!$D$2:$D$5455,Synthèse!X$1,Stocks!$A$2:$A$5455,Synthèse!$D$2:$D$442) -> 1 | Y94: =SUMIFS(Stocks!$E$2:$E$5455,Stocks!$D$2:$D$5455,Synthèse!Y$1,Stocks!$A$2:$A$5455,Synthèse!$D$2:$D$442) -> 0 | Z94: =SUMIFS(Stocks!$E$2:$E$5455,Stocks!$D$2:$D$5455,Synthèse!Z$1,Stocks!$A$2:$A$5455,Synthèse!$D$2:$D$442) -> 0 | AA94: =SUMIFS(Stocks!$E$2:$E$5455,Stocks!$D$2:$D$5455,Synthèse!AA$1,Stocks!$A$2:$A$5455,Synthèse!$D$2:$D$442) -> 0 | AB94: =SUMIFS(Stocks!$E$2:$E$5455,Stocks!$D$2:$D$5455,Synthèse!AB$1,Stocks!$A$2:$A$5455,Synthèse!$D$2:$D$442) -> 2 | AC94: =SUMIFS(Stocks!$E$2:$E$5455,Stocks!$D$2:$D$5455,Synthèse!AC$1,Stocks!$A$2:$A$5455,Synthèse!$D$2:$D$442) -> 0 | AD94: =SUMIFS(Stocks!$E$2:$E$5455,Stocks!$D$2:$D$5455,Synthèse!AD$1,Stocks!$A$2:$A$5455,Synthèse!$D$2:$D$442) -> 0 | AE94: =SUMIFS(Stocks!$E$2:$E$5455,Stocks!$D$2:$D$5455,Synthèse!AE$1,Stocks!$A$2:$A$5455,Synthèse!$D$2:$D$442) -> 1 | ... CF94: =SUMIFS(Stocks!$E$2:$E$5455,Stocks!$D$2:$D$5455,Synthèse!CF$1,Stocks!$A$2:$A$5455,Synthèse!$D$2:$D$442) -> 1
A95: 1667 | B95: COMPAGNIE DES PET FOODS | C95: 61 | D95: 515775 | E95: CAGE PICO XL HAMSTER/SOURIS | F95: B | G95: 5025659191768 | H95: GRC1007 | I95: PCE | J95: 1 | K95: 0.2 | L95: EUR | M95: 25.3 | N95: 25.3 | O95: 0 | P95: 43101 | Q95: 43465 | R95: 0.2 | S95: 1 | T95: COMPAGNIE DES PET FOODS | U95: 223 | V95: HABITAT DE L'ANIMAL : CAGE | W95: 474 | X95: =SUMIFS(Stocks!$E$2:$E$5455,Stocks!$D$2:$D$5455,Synthèse!X$1,Stocks!$A$2:$A$5455,Synthèse!$D$2:$D$442) -> 2 | Y95: =SUMIFS(Stocks!$E$2:$E$5455,Stocks!$D$2:$D$5455,Synthèse!Y$1,Stocks!$A$2:$A$5455,Synthèse!$D$2:$D$442) -> 1 | Z95: =SUMIFS(Stocks!$E$2:$E$5455,Stocks!$D$2:$D$5455,Synthèse!Z$1,Stocks!$A$2:$A$5455,Synthèse!$D$2:$D$442) -> 1 | AA95: =SUMIFS(Stocks!$E$2:$E$5455,Stocks!$D$2:$D$5455,Synthèse!AA$1,Stocks!$A$2:$A$5455,Synthèse!$D$2:$D$442) -> 0 | AB95: =SUMIFS(Stocks!$E$2:$E$5455,Stocks!$D$2:$D$5455,Synthèse!AB$1,Stocks!$A$2:$A$5455,Synthèse!$D$2:$D$442) -> 2 | AC95: =SUMIFS(Stocks!$E$2:$E$5455,Stocks!$D$2:$D$5455,Synthèse!AC$1,Stocks!$A$2:$A$5455,Synthèse!$D$2:$D$442) -> 0 | AD95: =SUMIFS(Stocks!$E$2:$E$5455,Stocks!$D$2:$D$5455,Synthèse!AD$1,Stocks!$A$2:$A$5455,Synthèse!$D$2:$D$442) -> 0 | AE95: =SUMIFS(Stocks!$E$2:$E$5455,Stocks!$D$2:$D$5455,Synthèse!AE$1,Stocks!$A$2:$A$5455,Synthèse!$D$2:$D$442) -> 3 | ... CF95: =SUMIFS(Stocks!$E$2:$E$5455,Stocks!$D$2:$D$5455,Synthèse!CF$1,Stocks!$A$2:$A$5455,Synthèse!$D$2:$D$442) -> 0
A96: 1667 | B96: COMPAGNIE DES PET FOODS | C96: 119 | D96: 533183 | E96: COCHON LATEX XS | F96: A | G96: 3575070017014 | H96: J1240 | I96: PCE | J96: 12 | K96: 0.2 | L96: EUR | M96: 1.52 | N96: 1.52 | O96: 0 | P96: 43154 | Q96: 43465 | R96: 0.2 | S96: 1 | T96: ANKA | U96: 196 | V96: JOUET ANIMAL : FORME | W96: 474 | X96: =SUMIFS(Stocks!$E$2:$E$5455,Stocks!$D$2:$D$5455,Synthèse!X$1,Stocks!$A$2:$A$5455,Synthèse!$D$2:$D$442) -> 2 | Y96: =SUMIFS(Stocks!$E$2:$E$5455,Stocks!$D$2:$D$5455,Synthèse!Y$1,Stocks!$A$2:$A$5455,Synthèse!$D$2:$D$442) -> 5 | Z96: =SUMIFS(Stocks!$E$2:$E$5455,Stocks!$D$2:$D$5455,Synthèse!Z$1,Stocks!$A$2:$A$5455,Synthèse!$D$2:$D$442) -> 0 | AA96: =SUMIFS(Stocks!$E$2:$E$5455,Stocks!$D$2:$D$5455,Synthèse!AA$1,Stocks!$A$2:$A$5455,Synthèse!$D$2:$D$442) -> 10 | AB96: =SUMIFS(Stocks!$E$2:$E$5455,Stocks!$D$2:$D$5455,Synthèse!AB$1,Stocks!$A$2:$A$5455,Synthèse!$D$2:$D$442) -> 1 | AC96: =SUMIFS(Stocks!$E$2:$E$5455,Stocks!$D$2:$D$5455,Synthèse!AC$1,Stocks!$A$2:$A$5455,Synthèse!$D$2:$D$442) -> 0 | AD96: =SUMIFS(Stocks!$E$2:$E$5455,Stocks!$D$2:$D$5455,Synthèse!AD$1,Stocks!$A$2:$A$5455,Synthèse!$D$2:$D$442) -> 0 | AE96: =SUMIFS(Stocks!$E$2:$E$5455,Stocks!$D$2:$D$5455,Synthèse!AE$1,Stocks!$A$2:$A$5455,Synthèse!$D$2:$D$442) -> 0 | ... CF96: =SUMIFS(Stocks!$E$2:$E$5455,Stocks!$D$2:$D$5455,Synthèse!CF$1,Stocks!$A$2:$A$5455,Synthèse!$D$2:$D$442) -> 2
A97: 1667 | B97: COMPAGNIE DES PET FOODS | C97: 62 | D97: 538399 | E97: RATELIER METAL + SUPPORT FRUIT | F97: B | G97: 3575070017663 | H97: GRB0014 | I97: PCE | J97: 6 | K97: 0.2 | L97: EUR | M97: 2.6 | N97: 2.6 | O97: 0 | P97: 43101 | Q97: 43465 | R97: 0.2 | S97: 1 | T97: RONGIS | U97: 247 | V97: BOL ET ÉCUELLE | W97: 474 | X97: =SUMIFS(Stocks!$E$2:$E$5455,Stocks!$D$2:$D$5455,Synthèse!X$1,Stocks!$A$2:$A$5455,Synthèse!$D$2:$D$442) -> 1 | Y97: =SUMIFS(Stocks!$E$2:$E$5455,Stocks!$D$2:$D$5455,Synthèse!Y$1,Stocks!$A$2:$A$5455,Synthèse!$D$2:$D$442) -> 0 | Z97: =SUMIFS(Stocks!$E$2:$E$5455,Stocks!$D$2:$D$5455,Synthèse!Z$1,Stocks!$A$2:$A$5455,Synthèse!$D$2:$D$442) -> 3 | AA97: =SUMIFS(Stocks!$E$2:$E$5455,Stocks!$D$2:$D$5455,Synthèse!AA$1,Stocks!$A$2:$A$5455,Synthèse!$D$2:$D$442) -> 0 | AB97: =SUMIFS(Stocks!$E$2:$E$5455,Stocks!$D$2:$D$5455,Synthèse!AB$1,Stocks!$A$2:$A$5455,Synthèse!$D$2:$D$442) -> 6 | AC97: =SUMIFS(Stocks!$E$2:$E$5455,Stocks!$D$2:$D$5455,Synthèse!AC$1,Stocks!$A$2:$A$5455,Synthèse!$D$2:$D$442) -> 0 | AD97: =SUMIFS(Stocks!$E$2:$E$5455,Stocks!$D$2:$D$5455,Synthèse!AD$1,Stocks!$A$2:$A$5455,Synthèse!$D$2:$D$442) -> 0 | AE97: =SUMIFS(Stocks!$E$2:$E$5455,Stocks!$D$2:$D$5455,Synthèse!AE$1,Stocks!$A$2:$A$5455,Synthèse!$D$2:$D$442) -> 3 | ... CF97: =SUMIFS(Stocks!$E$2:$E$5455,Stocks!$D$2:$D$5455,Synthèse!CF$1,Stocks!$A$2:$A$5455,Synthèse!$D$2:$D$442) -> 0
A98: 1667 | B98: COMPAGNIE DES PET FOODS | C98: 85 | D98: 556007 | E98: DOUBLE PERCHOIR SABLE 25 CM | F98: A | G98: 3575070018264 | H98: R0001 | I98: PCE | J98: 3 | K98: 0.2 | L98: EUR | M98: 5.36 | N98: 5.36 | O98: 0 | P98: 43101 | Q98: 43465 | R98: 0.2 | S98: 1 | T98: UNITED BIRD | U98: 230 | V98: ACCESS. LIEU DE VIE ANIMAL : P | W98: 474 | X98: =SUMIFS(Stocks!$E$2:$E$5455,Stocks!$D$2:$D$5455,Synthèse!X$1,Stocks!$A$2:$A$5455,Synthèse!$D$2:$D$442) -> 0 | Y98: =SUMIFS(Stocks!$E$2:$E$5455,Stocks!$D$2:$D$5455,Synthèse!Y$1,Stocks!$A$2:$A$5455,Synthèse!$D$2:$D$442) -> 3 | Z98: =SUMIFS(Stocks!$E$2:$E$5455,Stocks!$D$2:$D$5455,Synthèse!Z$1,Stocks!$A$2:$A$5455,Synthèse!$D$2:$D$442) -> 0 | AA98: =SUMIFS(Stocks!$E$2:$E$5455,Stocks!$D$2:$D$5455,Synthèse!AA$1,Stocks!$A$2:$A$5455,Synthèse!$D$2:$D$442) -> 0 | AB98: =SUMIFS(Stocks!$E$2:$E$5455,Stocks!$D$2:$D$5455,Synthèse!AB$1,Stocks!$A$2:$A$5455,Synthèse!$D$2:$D$442) -> 0 | AC98: =SUMIFS(Stocks!$E$2:$E$5455,Stocks!$D$2:$D$5455,Synthèse!AC$1,Stocks!$A$2:$A$5455,Synthèse!$D$2:$D$442) -> 0 | AD98: =SUMIFS(Stocks!$E$2:$E$5455,Stocks!$D$2:$D$5455,Synthèse!AD$1,Stocks!$A$2:$A$5455,Synthèse!$D$2:$D$442) -> 0 | AE98: =SUMIFS(Stocks!$E$2:$E$5455,Stocks!$D$2:$D$5455,Synthèse!AE$1,Stocks!$A$2:$A$5455,Synthèse!$D$2:$D$442) -> 2 | ... CF98: =SUMIFS(Stocks!$E$2:$E$5455,Stocks!$D$2:$D$5455,Synthèse!CF$1,Stocks!$A$2:$A$5455,Synthèse!$D$2:$D$442) -> 0
D99: 556008 | E99: DOUBLE PERCHOIR SABLE 30 CM | F99: B | G99: 3575070018271 | H99: R0002 | J99: 3 | K99: 0.2 | N99: 6.74 | X99: =SUMIFS(Stocks!$E$2:$E$5455,Stocks!$D$2:$D$5455,Synthèse!X$1,Stocks!$A$2:$A$5455,Synthèse!$D$2:$D$442) -> 0 | Y99: =SUMIFS(Stocks!$E$2:$E$5455,Stocks!$D$2:$D$5455,Synthèse!Y$1,Stocks!$A$2:$A$5455,Synthèse!$D$2:$D$442) -> 0 | Z99: =SUMIFS(Stocks!$E$2:$E$5455,Stocks!$D$2:$D$5455,Synthèse!Z$1,Stocks!$A$2:$A$5455,Synthèse!$D$2:$D$442) -> 0 | AA99: =SUMIFS(Stocks!$E$2:$E$5455,Stocks!$D$2:$D$5455,Synthèse!AA$1,Stocks!$A$2:$A$5455,Synthèse!$D$2:$D$442) -> 0 | AB99: =SUMIFS(Stocks!$E$2:$E$5455,Stocks!$D$2:$D$5455,Synthèse!AB$1,Stocks!$A$2:$A$5455,Synthèse!$D$2:$D$442) -> 0 | AC99: =SUMIFS(Stocks!$E$2:$E$5455,Stocks!$D$2:$D$5455,Synthèse!AC$1,Stocks!$A$2:$A$5455,Synthèse!$D$2:$D$442) -> 0 | AD99: =SUMIFS(Stocks!$E$2:$E$5455,Stocks!$D$2:$D$5455,Synthèse!AD$1,Stocks!$A$2:$A$5455,Synthèse!$D$2:$D$442) -> 0 | AE99: =SUMIFS(Stocks!$E$2:$E$5455,Stocks!$D$2:$D$5455,Synthèse!AE$1,Stocks!$A$2:$A$5455,Synthèse!$D$2:$D$442) -> 5 | ... CF99: =SUMIFS(Stocks!$E$2:$E$5455,Stocks!$D$2:$D$5455,Synthèse!CF$1,Stocks!$A$2:$A$5455,Synthèse!$D$2:$D$442) -> 0
A100: 1667 | B100: COMPAGNIE DES PET FOODS | C100: 119 | D100: 556009 | E100: DOUBLE PERCHOIR SABLE 35 CM | F100: A | G100: 3575070018288 | H100: R0003 | I100: PCE | J100: 3 | K100: 0.2 | L100: EUR | M100: 9.16 | N100: 9.16 | O100: 0 | P100: 43101 | Q100: 43465 | R100: 0.2 | S100: 1 | T100: UNITED BIRD | U100: 230 | V100: ACCESS. LIEU DE VIE ANIMAL : P | W100: 474 | X100: =SUMIFS(Stocks!$E$2:$E$5455,Stocks!$D$2:$D$5455,Synthèse!X$1,Stocks!$A$2:$A$5455,Synthèse!$D$2:$D$442) -> 0 | Y100: =SUMIFS(Stocks!$E$2:$E$5455,Stocks!$D$2:$D$5455,Synthèse!Y$1,Stocks!$A$2:$A$5455,Synthèse!$D$2:$D$442) -> 2 | Z100: =SUMIFS(Stocks!$E$2:$E$5455,Stocks!$D$2:$D$5455,Synthèse!Z$1,Stocks!$A$2:$A$5455,Synthèse!$D$2:$D$442) -> 3 | AA100: =SUMIFS(Stocks!$E$2:$E$5455,Stocks!$D$2:$D$5455,Synthèse!AA$1,Stocks!$A$2:$A$5455,Synthèse!$D$2:$D$442) -> 0 | AB100: =SUMIFS(Stocks!$E$2:$E$5455,Stocks!$D$2:$D$5455,Synthèse!AB$1,Stocks!$A$2:$A$5455,Synthèse!$D$2:$D$442) -> 0 | AC100: =SUMIFS(Stocks!$E$2:$E$5455,Stocks!$D$2:$D$5455,Synthèse!AC$1,Stocks!$A$2:$A$5455,Synthèse!$D$2:$D$442) -> 0 | AD100: =SUMIFS(Stocks!$E$2:$E$5455,Stocks!$D$2:$D$5455,Synthèse!AD$1,Stocks!$A$2:$A$5455,Synthèse!$D$2:$D$442) -> 0 | AE100: =SUMIFS(Stocks!$E$2:$E$5455,Stocks!$D$2:$D$5455,Synthèse!AE$1,Stocks!$A$2:$A$5455,Synthèse!$D$2:$D$442) -> 5 | ... CF100: =SUMIFS(Stocks!$E$2:$E$5455,Stocks!$D$2:$D$5455,Synthèse!CF$1,Stocks!$A$2:$A$5455,Synthèse!$D$2:$D$442) -> 0
A101: 1667 | B101: COMPAGNIE DES PET FOODS | C101: 85 | D101: 556010 | E101: DOUBLE PERCHOIR BOIS 25 CM | F101: A | G101: 3575070018295 | H101: R0004 | I101: PCE | J101: 3 | K101: 0.2 | L101: EUR | M101: 3.16 | N101: 3.16 | O101: 0 | P101: 43101 | Q101: 43465 | R101: 0.2 | S101: 1 | T101: UNITED BIRD | U101: 230 | V101: ACCESS. LIEU DE VIE ANIMAL : P | W101: 474 | X101: =SUMIFS(Stocks!$E$2:$E$5455,Stocks!$D$2:$D$5455,Synthèse!X$1,Stocks!$A$2:$A$5455,Synthèse!$D$2:$D$442) -> 0 | Y101: =SUMIFS(Stocks!$E$2:$E$5455,Stocks!$D$2:$D$5455,Synthèse!Y$1,Stocks!$A$2:$A$5455,Synthèse!$D$2:$D$442) -> 1 | Z101: =SUMIFS(Stocks!$E$2:$E$5455,Stocks!$D$2:$D$5455,Synthèse!Z$1,Stocks!$A$2:$A$5455,Synthèse!$D$2:$D$442) -> 4 | AA101: =SUMIFS(Stocks!$E$2:$E$5455,Stocks!$D$2:$D$5455,Synthèse!AA$1,Stocks!$A$2:$A$5455,Synthèse!$D$2:$D$442) -> 0 | AB101: =SUMIFS(Stocks!$E$2:$E$5455,Stocks!$D$2:$D$5455,Synthèse!AB$1,Stocks!$A$2:$A$5455,Synthèse!$D$2:$D$442) -> 0 | AC101: =SUMIFS(Stocks!$E$2:$E$5455,Stocks!$D$2:$D$5455,Synthèse!AC$1,Stocks!$A$2:$A$5455,Synthèse!$D$2:$D$442) -> 0 | AD101: =SUMIFS(Stocks!$E$2:$E$5455,Stocks!$D$2:$D$5455,Synthèse!AD$1,Stocks!$A$2:$A$5455,Synthèse!$D$2:$D$442) -> 0 | AE101: =SUMIFS(Stocks!$E$2:$E$5455,Stocks!$D$2:$D$5455,Synthèse!AE$1,Stocks!$A$2:$A$5455,Synthèse!$D$2:$D$442) -> 4 | ... CF101: =SUMIFS(Stocks!$E$2:$E$5455,Stocks!$D$2:$D$5455,Synthèse!CF$1,Stocks!$A$2:$A$5455,Synthèse!$D$2:$D$442) -> 0
A102: 1667 | B102: COMPAGNIE DES PET FOODS | C102: 85 | D102: 556011 | E102: DOUBLE PERCHOIR BOIS 30 CM | F102: B | G102: 3575070018301 | H102: R0005 | J102: 3 | K102: 0.2 | N102: 3.88 | X102: =SUMIFS(Stocks!$E$2:$E$5455,Stocks!$D$2:$D$5455,Synthèse!X$1,Stocks!$A$2:$A$5455,Synthèse!$D$2:$D$442) -> 0 | Y102: =SUMIFS(Stocks!$E$2:$E$5455,Stocks!$D$2:$D$5455,Synthèse!Y$1,Stocks!$A$2:$A$5455,Synthèse!$D$2:$D$442) -> 3 | Z102: =SUMIFS(Stocks!$E$2:$E$5455,Stocks!$D$2:$D$5455,Synthèse!Z$1,Stocks!$A$2:$A$5455,Synthèse!$D$2:$D$442) -> 6 | AA102: =SUMIFS(Stocks!$E$2:$E$5455,Stocks!$D$2:$D$5455,Synthèse!AA$1,Stocks!$A$2:$A$5455,Synthèse!$D$2:$D$442) -> 0 | AB102: =SUMIFS(Stocks!$E$2:$E$5455,Stocks!$D$2:$D$5455,Synthèse!AB$1,Stocks!$A$2:$A$5455,Synthèse!$D$2:$D$442) -> 0 | AC102: =SUMIFS(Stocks!$E$2:$E$5455,Stocks!$D$2:$D$5455,Synthèse!AC$1,Stocks!$A$2:$A$5455,Synthèse!$D$2:$D$442) -> 0 | AD102: =SUMIFS(Stocks!$E$2:$E$5455,Stocks!$D$2:$D$5455,Synthèse!AD$1,Stocks!$A$2:$A$5455,Synthèse!$D$2:$D$442) -> 0 | AE102: =SUMIFS(Stocks!$E$2:$E$5455,Stocks!$D$2:$D$5455,Synthèse!AE$1,Stocks!$A$2:$A$5455,Synthèse!$D$2:$D$442) -> 3 | ... CF102: =SUMIFS(Stocks!$E$2:$E$5455,Stocks!$D$2:$D$5455,Synthèse!CF$1,Stocks!$A$2:$A$5455,Synthèse!$D$2:$D$442) -> 0
A103: 1667 | B103: COMPAGNIE DES PET FOODS | C103: 85 | D103: 556012 | E103: DOUBLE PERCHOIR BOIS 35 CM | F103: A | G103: 3575070018318 | H103: R0006 | I103: PCE | J103: 3 | K103: 0.2 | L103: EUR | M103: 4.66 | N103: 4.66 | O103: 0 | P103: 43101 | Q103: 43465 | R103: 0.2 | S103: 1 | T103: UNITED BIRD | U103: 230 | V103: ACCESS. LIEU DE VIE ANIMAL : P | W103: 474 | X103: =SUMIFS(Stocks!$E$2:$E$5455,Stocks!$D$2:$D$5455,Synthèse!X$1,Stocks!$A$2:$A$5455,Synthèse!$D$2:$D$442) -> 0 | Y103: =SUMIFS(Stocks!$E$2:$E$5455,Stocks!$D$2:$D$5455,Synthèse!Y$1,Stocks!$A$2:$A$5455,Synthèse!$D$2:$D$442) -> 2 | Z103: =SUMIFS(Stocks!$E$2:$E$5455,Stocks!$D$2:$D$5455,Synthèse!Z$1,Stocks!$A$2:$A$5455,Synthèse!$D$2:$D$442) -> 0 | AA103: =SUMIFS(Stocks!$E$2:$E$5455,Stocks!$D$2:$D$5455,Synthèse!AA$1,Stocks!$A$2:$A$5455,Synthèse!$D$2:$D$442) -> 0 | AB103: =SUMIFS(Stocks!$E$2:$E$5455,Stocks!$D$2:$D$5455,Synthèse!AB$1,Stocks!$A$2:$A$5455,Synthèse!$D$2:$D$442) -> 0 | AC103: =SUMIFS(Stocks!$E$2:$E$5455,Stocks!$D$2:$D$5455,Synthèse!AC$1,Stocks!$A$2:$A$5455,Synthèse!$D$2:$D$442) -> 0 | AD103: =SUMIFS(Stocks!$E$2:$E$5455,Stocks!$D$2:$D$5455,Synthèse!AD$1,Stocks!$A$2:$A$5455,Synthèse!$D$2:$D$442) -> 0 | AE103: =SUMIFS(Stocks!$E$2:$E$5455,Stocks!$D$2:$D$5455,Synthèse!AE$1,Stocks!$A$2:$A$5455,Synthèse!$D$2:$D$442) -> 2 | ... CF103: =SUMIFS(Stocks!$E$2:$E$5455,Stocks!$D$2:$D$5455,Synthèse!CF$1,Stocks!$A$2:$A$5455,Synthèse!$D$2:$D$442) -> 0
A104: 1667 | B104: COMPAGNIE DES PET FOODS | C104: 132 | D104: 556013 | E104: FILET CORDE 46 X 44 CM | F104: C | G104: 3575070018660 | H104: R0007 | J104: 3 | K104: 0.2 | N104: 7.2 | X104: =SUMIFS(Stocks!$E$2:$E$5455,Stocks!$D$2:$D$5455,Synthèse!X$1,Stocks!$A$2:$A$5455,Synthèse!$D$2:$D$442) -> 0 | Y104: =SUMIFS(Stocks!$E$2:$E$5455,Stocks!$D$2:$D$5455,Synthèse!Y$1,Stocks!$A$2:$A$5455,Synthèse!$D$2:$D$442) -> 0 | Z104: =SUMIFS(Stocks!$E$2:$E$5455,Stocks!$D$2:$D$5455,Synthèse!Z$1,Stocks!$A$2:$A$5455,Synthèse!$D$2:$D$442) -> 3 | AA104: =SUMIFS(Stocks!$E$2:$E$5455,Stocks!$D$2:$D$5455,Synthèse!AA$1,Stocks!$A$2:$A$5455,Synthèse!$D$2:$D$442) -> 0 | AB104: =SUMIFS(Stocks!$E$2:$E$5455,Stocks!$D$2:$D$5455,Synthèse!AB$1,Stocks!$A$2:$A$5455,Synthèse!$D$2:$D$442) -> 0 | AC104: =SUMIFS(Stocks!$E$2:$E$5455,Stocks!$D$2:$D$5455,Synthèse!AC$1,Stocks!$A$2:$A$5455,Synthèse!$D$2:$D$442) -> 0 | AD104: =SUMIFS(Stocks!$E$2:$E$5455,Stocks!$D$2:$D$5455,Synthèse!AD$1,Stocks!$A$2:$A$5455,Synthèse!$D$2:$D$442) -> 0 | AE104: =SUMIFS(Stocks!$E$2:$E$5455,Stocks!$D$2:$D$5455,Synthèse!AE$1,Stocks!$A$2:$A$5455,Synthèse!$D$2:$D$442) -> 2 | ... CF104: =SUMIFS(Stocks!$E$2:$E$5455,Stocks!$D$2:$D$5455,Synthèse!CF$1,Stocks!$A$2:$A$5455,Synthèse!$D$2:$D$442) -> 0
A105: 1667 | B105: COMPAGNIE DES PET FOODS | C105: 85 | D105: 556014 | E105: FILET CORDE 60 X 60 CM | F105: A | G105: 3575070018677 | H105: R0008 | I105: PCE | J105: 3 | K105: 0.2 | L105: EUR | M105: 11.94 | N105: 11.94 | O105: 0 | P105: 43101 | Q105: 43465 | R105: 0.2 | S105: 1 | T105: UNITED BIRD | U105: 4494 | V105: JOUET ANIMAL : JOUET A SUSPEND | W105: 474 | X105: =SUMIFS(Stocks!$E$2:$E$5455,Stocks!$D$2:$D$5455,Synthèse!X$1,Stocks!$A$2:$A$5455,Synthèse!$D$2:$D$442) -> 0 | Y105: =SUMIFS(Stocks!$E$2:$E$5455,Stocks!$D$2:$D$5455,Synthèse!Y$1,Stocks!$A$2:$A$5455,Synthèse!$D$2:$D$442) -> 0 | Z105: =SUMIFS(Stocks!$E$2:$E$5455,Stocks!$D$2:$D$5455,Synthèse!Z$1,Stocks!$A$2:$A$5455,Synthèse!$D$2:$D$442) -> 2 | AA105: =SUMIFS(Stocks!$E$2:$E$5455,Stocks!$D$2:$D$5455,Synthèse!AA$1,Stocks!$A$2:$A$5455,Synthèse!$D$2:$D$442) -> 0 | AB105: =SUMIFS(Stocks!$E$2:$E$5455,Stocks!$D$2:$D$5455,Synthèse!AB$1,Stocks!$A$2:$A$5455,Synthèse!$D$2:$D$442) -> 0 | AC105: =SUMIFS(Stocks!$E$2:$E$5455,Stocks!$D$2:$D$5455,Synthèse!AC$1,Stocks!$A$2:$A$5455,Synthèse!$D$2:$D$442) -> 0 | AD105: =SUMIFS(Stocks!$E$2:$E$5455,Stocks!$D$2:$D$5455,Synthèse!AD$1,Stocks!$A$2:$A$5455,Synthèse!$D$2:$D$442) -> 0 | AE105: =SUMIFS(Stocks!$E$2:$E$5455,Stocks!$D$2:$D$5455,Synthèse!AE$1,Stocks!$A$2:$A$5455,Synthèse!$D$2:$D$442) -> 5 | ... CF105: =SUMIFS(Stocks!$E$2:$E$5455,Stocks!$D$2:$D$5455,Synthèse!CF$1,Stocks!$A$2:$A$5455,Synthèse!$D$2:$D$442) -> 0
A106: 1667 | B106: COMPAGNIE DES PET FOODS | C106: 85 | D106: 556015 | E106: CORDE SPIRALE 160 CM | F106: A | G106: 3575070018684 | H106: R0009 | I106: PCE | J106: 3 | K106: 0.2 | L106: EUR | M106: 2.28 | N106: 2.28 | O106: 0 | P106: 43101 | Q106: 43465 | R106: 0.2 | S106: 1 | T106: UNITED BIRD | U106: 4494 | V106: JOUET ANIMAL : JOUET A SUSPEND | W106: 474 | X106: =SUMIFS(Stocks!$E$2:$E$5455,Stocks!$D$2:$D$5455,Synthèse!X$1,Stocks!$A$2:$A$5455,Synthèse!$D$2:$D$442) -> 2 | Y106: =SUMIFS(Stocks!$E$2:$E$5455,Stocks!$D$2:$D$5455,Synthèse!Y$1,Stocks!$A$2:$A$5455,Synthèse!$D$2:$D$442) -> 2 | Z106: =SUMIFS(Stocks!$E$2:$E$5455,Stocks!$D$2:$D$5455,Synthèse!Z$1,Stocks!$A$2:$A$5455,Synthèse!$D$2:$D$442) -> 2 | AA106: =SUMIFS(Stocks!$E$2:$E$5455,Stocks!$D$2:$D$5455,Synthèse!AA$1,Stocks!$A$2:$A$5455,Synthèse!$D$2:$D$442) -> 0 | AB106: =SUMIFS(Stocks!$E$2:$E$5455,Stocks!$D$2:$D$5455,Synthèse!AB$1,Stocks!$A$2:$A$5455,Synthèse!$D$2:$D$442) -> 2 | AC106: =SUMIFS(Stocks!$E$2:$E$5455,Stocks!$D$2:$D$5455,Synthèse!AC$1,Stocks!$A$2:$A$5455,Synthèse!$D$2:$D$442) -> 0 | AD106: =SUMIFS(Stocks!$E$2:$E$5455,Stocks!$D$2:$D$5455,Synthèse!AD$1,Stocks!$A$2:$A$5455,Synthèse!$D$2:$D$442) -> 0 | AE106: =SUMIFS(Stocks!$E$2:$E$5455,Stocks!$D$2:$D$5455,Synthèse!AE$1,Stocks!$A$2:$A$5455,Synthèse!$D$2:$D$442) -> 2 | ... CF106: =SUMIFS(Stocks!$E$2:$E$5455,Stocks!$D$2:$D$5455,Synthèse!CF$1,Stocks!$A$2:$A$5455,Synthèse!$D$2:$D$442) -> 0
A107: 1667 | B107: COMPAGNIE DES PET FOODS | C107: 85 | D107: 556016 | E107: CORDE SPIRALE 246 CM | F107: A | G107: 3575070018691 | H107: R0010 | I107: PCE | J107: 3 | K107: 0.2 | L107: EUR | M107: 6.71 | N107: 6.71 | O107: 0 | P107: 43101 | Q107: 43465 | R107: 0.2 | S107: 1 | T107: UNITED BIRD | U107: 4494 | V107: JOUET ANIMAL : JOUET A SUSPEND | W107: 474 | X107: =SUMIFS(Stocks!$E$2:$E$5455,Stocks!$D$2:$D$5455,Synthèse!X$1,Stocks!$A$2:$A$5455,Synthèse!$D$2:$D$442) -> 3 | Y107: =SUMIFS(Stocks!$E$2:$E$5455,Stocks!$D$2:$D$5455,Synthèse!Y$1,Stocks!$A$2:$A$5455,Synthèse!$D$2:$D$442) -> 3 | Z107: =SUMIFS(Stocks!$E$2:$E$5455,Stocks!$D$2:$D$5455,Synthèse!Z$1,Stocks!$A$2:$A$5455,Synthèse!$D$2:$D$442) -> 3 | AA107: =SUMIFS(Stocks!$E$2:$E$5455,Stocks!$D$2:$D$5455,Synthèse!AA$1,Stocks!$A$2:$A$5455,Synthèse!$D$2:$D$442) -> 0 | AB107: =SUMIFS(Stocks!$E$2:$E$5455,Stocks!$D$2:$D$5455,Synthèse!AB$1,Stocks!$A$2:$A$5455,Synthèse!$D$2:$D$442) -> 0 | AC107: =SUMIFS(Stocks!$E$2:$E$5455,Stocks!$D$2:$D$5455,Synthèse!AC$1,Stocks!$A$2:$A$5455,Synthèse!$D$2:$D$442) -> 0 | AD107: =SUMIFS(Stocks!$E$2:$E$5455,Stocks!$D$2:$D$5455,Synthèse!AD$1,Stocks!$A$2:$A$5455,Synthèse!$D$2:$D$442) -> 0 | AE107: =SUMIFS(Stocks!$E$2:$E$5455,Stocks!$D$2:$D$5455,Synthèse!AE$1,Stocks!$A$2:$A$5455,Synthèse!$D$2:$D$442) -> 4 | ... CF107: =SUMIFS(Stocks!$E$2:$E$5455,Stocks!$D$2:$D$5455,Synthèse!CF$1,Stocks!$A$2:$A$5455,Synthèse!$D$2:$D$442) -> 0
A108: 1667 | B108: COMPAGNIE DES PET FOODS | C108: 453 | D108: 556017 | E108: ORBITE CORDE DIAM 26 CM | F108: C | G108: 3575070018707 | H108: R0011 | J108: 3 | K108: 0.2 | N108: 9.22 | X108: =SUMIFS(Stocks!$E$2:$E$5455,Stocks!$D$2:$D$5455,Synthèse!X$1,Stocks!$A$2:$A$5455,Synthèse!$D$2:$D$442) -> 3 | Y108: =SUMIFS(Stocks!$E$2:$E$5455,Stocks!$D$2:$D$5455,Synthèse!Y$1,Stocks!$A$2:$A$5455,Synthèse!$D$2:$D$442) -> 0 | Z108: =SUMIFS(Stocks!$E$2:$E$5455,Stocks!$D$2:$D$5455,Synthèse!Z$1,Stocks!$A$2:$A$5455,Synthèse!$D$2:$D$442) -> 0 | AA108: =SUMIFS(Stocks!$E$2:$E$5455,Stocks!$D$2:$D$5455,Synthèse!AA$1,Stocks!$A$2:$A$5455,Synthèse!$D$2:$D$442) -> 0 | AB108: =SUMIFS(Stocks!$E$2:$E$5455,Stocks!$D$2:$D$5455,Synthèse!AB$1,Stocks!$A$2:$A$5455,Synthèse!$D$2:$D$442) -> 1 | AC108: =SUMIFS(Stocks!$E$2:$E$5455,Stocks!$D$2:$D$5455,Synthèse!AC$1,Stocks!$A$2:$A$5455,Synthèse!$D$2:$D$442) -> 0 | AD108: =SUMIFS(Stocks!$E$2:$E$5455,Stocks!$D$2:$D$5455,Synthèse!AD$1,Stocks!$A$2:$A$5455,Synthèse!$D$2:$D$442) -> 0 | AE108: =SUMIFS(Stocks!$E$2:$E$5455,Stocks!$D$2:$D$5455,Synthèse!AE$1,Stocks!$A$2:$A$5455,Synthèse!$D$2:$D$442) -> 2 | ... CF108: =SUMIFS(Stocks!$E$2:$E$5455,Stocks!$D$2:$D$5455,Synthèse!CF$1,Stocks!$A$2:$A$5455,Synthèse!$D$2:$D$442) -> 0
D109: 556018 | E109: ACCROBRANCHES 64 CM | F109: A | G109: 3575070018813 | H109: R0012 | J109: 2 | K109: 0.2 | N109: 4.63 | X109: =SUMIFS(Stocks!$E$2:$E$5455,Stocks!$D$2:$D$5455,Synthèse!X$1,Stocks!$A$2:$A$5455,Synthèse!$D$2:$D$442) -> 0 | Y109: =SUMIFS(Stocks!$E$2:$E$5455,Stocks!$D$2:$D$5455,Synthèse!Y$1,Stocks!$A$2:$A$5455,Synthèse!$D$2:$D$442) -> 0 | Z109: =SUMIFS(Stocks!$E$2:$E$5455,Stocks!$D$2:$D$5455,Synthèse!Z$1,Stocks!$A$2:$A$5455,Synthèse!$D$2:$D$442) -> 0 | AA109: =SUMIFS(Stocks!$E$2:$E$5455,Stocks!$D$2:$D$5455,Synthèse!AA$1,Stocks!$A$2:$A$5455,Synthèse!$D$2:$D$442) -> 0 | AB109: =SUMIFS(Stocks!$E$2:$E$5455,Stocks!$D$2:$D$5455,Synthèse!AB$1,Stocks!$A$2:$A$5455,Synthèse!$D$2:$D$442) -> 0 | AC109: =SUMIFS(Stocks!$E$2:$E$5455,Stocks!$D$2:$D$5455,Synthèse!AC$1,Stocks!$A$2:$A$5455,Synthèse!$D$2:$D$442) -> 0 | AD109: =SUMIFS(Stocks!$E$2:$E$5455,Stocks!$D$2:$D$5455,Synthèse!AD$1,Stocks!$A$2:$A$5455,Synthèse!$D$2:$D$442) -> 0 | AE109: =SUMIFS(Stocks!$E$2:$E$5455,Stocks!$D$2:$D$5455,Synthèse!AE$1,Stocks!$A$2:$A$5455,Synthèse!$D$2:$D$442) -> 4 | ... CF109: =SUMIFS(Stocks!$E$2:$E$5455,Stocks!$D$2:$D$5455,Synthèse!CF$1,Stocks!$A$2:$A$5455,Synthèse!$D$2:$D$442) -> 0
D110: 556019 | E110: BROSSE A DENTS 28 CM | F110: A | G110: 3575070018820 | H110: R0013 | J110: 3 | K110: 0.2 | N110: 3.4 | X110: =SUMIFS(Stocks!$E$2:$E$5455,Stocks!$D$2:$D$5455,Synthèse!X$1,Stocks!$A$2:$A$5455,Synthèse!$D$2:$D$442) -> 1 | Y110: =SUMIFS(Stocks!$E$2:$E$5455,Stocks!$D$2:$D$5455,Synthèse!Y$1,Stocks!$A$2:$A$5455,Synthèse!$D$2:$D$442) -> 4 | Z110: =SUMIFS(Stocks!$E$2:$E$5455,Stocks!$D$2:$D$5455,Synthèse!Z$1,Stocks!$A$2:$A$5455,Synthèse!$D$2:$D$442) -> 4 | AA110: =SUMIFS(Stocks!$E$2:$E$5455,Stocks!$D$2:$D$5455,Synthèse!AA$1,Stocks!$A$2:$A$5455,Synthèse!$D$2:$D$442) -> 0 | AB110: =SUMIFS(Stocks!$E$2:$E$5455,Stocks!$D$2:$D$5455,Synthèse!AB$1,Stocks!$A$2:$A$5455,Synthèse!$D$2:$D$442) -> 0 | AC110: =SUMIFS(Stocks!$E$2:$E$5455,Stocks!$D$2:$D$5455,Synthèse!AC$1,Stocks!$A$2:$A$5455,Synthèse!$D$2:$D$442) -> 0 | AD110: =SUMIFS(Stocks!$E$2:$E$5455,Stocks!$D$2:$D$5455,Synthèse!AD$1,Stocks!$A$2:$A$5455,Synthèse!$D$2:$D$442) -> 0 | AE110: =SUMIFS(Stocks!$E$2:$E$5455,Stocks!$D$2:$D$5455,Synthèse!AE$1,Stocks!$A$2:$A$5455,Synthèse!$D$2:$D$442) -> 4 | ... CF110: =SUMIFS(Stocks!$E$2:$E$5455,Stocks!$D$2:$D$5455,Synthèse!CF$1,Stocks!$A$2:$A$5455,Synthèse!$D$2:$D$442) -> 0
A111: 1667 | B111: COMPAGNIE DES PET FOODS | C111: 85 | D111: 556020 | E111: TETINES ET DES 23 CM | F111: A | G111: 3575070018837 | H111: R0014 | I111: PCE | J111: 3 | K111: 0.2 | L111: EUR | M111: 3.29 | N111: 3.29 | O111: 0 | P111: 43101 | Q111: 43465 | R111: 0.2 | S111: 1 | T111: AUCUNE | U111: 4494 | V111: JOUET ANIMAL : JOUET A SUSPEND | W111: 474 | X111: =SUMIFS(Stocks!$E$2:$E$5455,Stocks!$D$2:$D$5455,Synthèse!X$1,Stocks!$A$2:$A$5455,Synthèse!$D$2:$D$442) -> -1 | Y111: =SUMIFS(Stocks!$E$2:$E$5455,Stocks!$D$2:$D$5455,Synthèse!Y$1,Stocks!$A$2:$A$5455,Synthèse!$D$2:$D$442) -> 0 | Z111: =SUMIFS(Stocks!$E$2:$E$5455,Stocks!$D$2:$D$5455,Synthèse!Z$1,Stocks!$A$2:$A$5455,Synthèse!$D$2:$D$442) -> 0 | AA111: =SUMIFS(Stocks!$E$2:$E$5455,Stocks!$D$2:$D$5455,Synthèse!AA$1,Stocks!$A$2:$A$5455,Synthèse!$D$2:$D$442) -> 0 | AB111: =SUMIFS(Stocks!$E$2:$E$5455,Stocks!$D$2:$D$5455,Synthèse!AB$1,Stocks!$A$2:$A$5455,Synthèse!$D$2:$D$442) -> 0 | AC111: =SUMIFS(Stocks!$E$2:$E$5455,Stocks!$D$2:$D$5455,Synthèse!AC$1,Stocks!$A$2:$A$5455,Synthèse!$D$2:$D$442) -> 0 | AD111: =SUMIFS(Stocks!$E$2:$E$5455,Stocks!$D$2:$D$5455,Synthèse!AD$1,Stocks!$A$2:$A$5455,Synthèse!$D$2:$D$442) -> 0 | AE111: =SUMIFS(Stocks!$E$2:$E$5455,Stocks!$D$2:$D$5455,Synthèse!AE$1,Stocks!$A$2:$A$5455,Synthèse!$D$2:$D$442) -> 2 | ... CF111: =SUMIFS(Stocks!$E$2:$E$5455,Stocks!$D$2:$D$5455,Synthèse!CF$1,Stocks!$A$2:$A$5455,Synthèse!$D$2:$D$442) -> 0
D112: 556021 | E112: CUILLERES SUSPENDUES 28 CM | F112: A | G112: 3575070018844 | H112: R0015 | J112: 3 | K112: 0.2 | N112: 3.27 | X112: =SUMIFS(Stocks!$E$2:$E$5455,Stocks!$D$2:$D$5455,Synthèse!X$1,Stocks!$A$2:$A$5455,Synthèse!$D$2:$D$442) -> 3 | Y112: =SUMIFS(Stocks!$E$2:$E$5455,Stocks!$D$2:$D$5455,Synthèse!Y$1,Stocks!$A$2:$A$5455,Synthèse!$D$2:$D$442) -> 0 | Z112: =SUMIFS(Stocks!$E$2:$E$5455,Stocks!$D$2:$D$5455,Synthèse!Z$1,Stocks!$A$2:$A$5455,Synthèse!$D$2:$D$442) -> 4 | AA112: =SUMIFS(Stocks!$E$2:$E$5455,Stocks!$D$2:$D$5455,Synthèse!AA$1,Stocks!$A$2:$A$5455,Synthèse!$D$2:$D$442) -> 0 | AB112: =SUMIFS(Stocks!$E$2:$E$5455,Stocks!$D$2:$D$5455,Synthèse!AB$1,Stocks!$A$2:$A$5455,Synthèse!$D$2:$D$442) -> 2 | AC112: =SUMIFS(Stocks!$E$2:$E$5455,Stocks!$D$2:$D$5455,Synthèse!AC$1,Stocks!$A$2:$A$5455,Synthèse!$D$2:$D$442) -> 0 | AD112: =SUMIFS(Stocks!$E$2:$E$5455,Stocks!$D$2:$D$5455,Synthèse!AD$1,Stocks!$A$2:$A$5455,Synthèse!$D$2:$D$442) -> 0 | AE112: =SUMIFS(Stocks!$E$2:$E$5455,Stocks!$D$2:$D$5455,Synthèse!AE$1,Stocks!$A$2:$A$5455,Synthèse!$D$2:$D$442) -> 12 | ... CF112: =SUMIFS(Stocks!$E$2:$E$5455,Stocks!$D$2:$D$5455,Synthèse!CF$1,Stocks!$A$2:$A$5455,Synthèse!$D$2:$D$442) -> 0
D113: 556022 | E113: VIS ET ECROUS 37 CM | F113: A | G113: 3575070018851 | H113: R0016 | J113: 3 | K113: 0.2 | N113: 3.12 | X113: =SUMIFS(Stocks!$E$2:$E$5455,Stocks!$D$2:$D$5455,Synthèse!X$1,Stocks!$A$2:$A$5455,Synthèse!$D$2:$D$442) -> 0 | Y113: =SUMIFS(Stocks!$E$2:$E$5455,Stocks!$D$2:$D$5455,Synthèse!Y$1,Stocks!$A$2:$A$5455,Synthèse!$D$2:$D$442) -> 1 | Z113: =SUMIFS(Stocks!$E$2:$E$5455,Stocks!$D$2:$D$5455,Synthèse!Z$1,Stocks!$A$2:$A$5455,Synthèse!$D$2:$D$442) -> 1 | AA113: =SUMIFS(Stocks!$E$2:$E$5455,Stocks!$D$2:$D$5455,Synthèse!AA$1,Stocks!$A$2:$A$5455,Synthèse!$D$2:$D$442) -> 0 | AB113: =SUMIFS(Stocks!$E$2:$E$5455,Stocks!$D$2:$D$5455,Synthèse!AB$1,Stocks!$A$2:$A$5455,Synthèse!$D$2:$D$442) -> 0 | AC113: =SUMIFS(Stocks!$E$2:$E$5455,Stocks!$D$2:$D$5455,Synthèse!AC$1,Stocks!$A$2:$A$5455,Synthèse!$D$2:$D$442) -> 0 | AD113: =SUMIFS(Stocks!$E$2:$E$5455,Stocks!$D$2:$D$5455,Synthèse!AD$1,Stocks!$A$2:$A$5455,Synthèse!$D$2:$D$442) -> 0 | AE113: =SUMIFS(Stocks!$E$2:$E$5455,Stocks!$D$2:$D$5455,Synthèse!AE$1,Stocks!$A$2:$A$5455,Synthèse!$D$2:$D$442) -> 4 | ... CF113: =SUMIFS(Stocks!$E$2:$E$5455,Stocks!$D$2:$D$5455,Synthèse!CF$1,Stocks!$A$2:$A$5455,Synthèse!$D$2:$D$442) -> 0
A114: 1667 | B114: COMPAGNIE DES PET FOODS | C114: 85 | D114: 556024 | E114: BALLE ET TETINES 24 CM | F114: A | G114: 3575070018875 | H114: R0018 | I114: PCE | J114: 3 | K114: 0.2 | L114: EUR | M114: 3.37 | N114: 3.37 | O114: 0 | P114: 43101 | Q114: 43465 | R114: 0.2 | S114: 1 | T114: UNITED BIRD | U114: 4494 | V114: JOUET ANIMAL : JOUET A SUSPEND | W114: 474 | X114: =SUMIFS(Stocks!$E$2:$E$5455,Stocks!$D$2:$D$5455,Synthèse!X$1,Stocks!$A$2:$A$5455,Synthèse!$D$2:$D$442) -> 3 | Y114: =SUMIFS(Stocks!$E$2:$E$5455,Stocks!$D$2:$D$5455,Synthèse!Y$1,Stocks!$A$2:$A$5455,Synthèse!$D$2:$D$442) -> 1 | Z114: =SUMIFS(Stocks!$E$2:$E$5455,Stocks!$D$2:$D$5455,Synthèse!Z$1,Stocks!$A$2:$A$5455,Synthèse!$D$2:$D$442) -> 1 | AA114: =SUMIFS(Stocks!$E$2:$E$5455,Stocks!$D$2:$D$5455,Synthèse!AA$1,Stocks!$A$2:$A$5455,Synthèse!$D$2:$D$442) -> 0 | AB114: =SUMIFS(Stocks!$E$2:$E$5455,Stocks!$D$2:$D$5455,Synthèse!AB$1,Stocks!$A$2:$A$5455,Synthèse!$D$2:$D$442) -> 0 | AC114: =SUMIFS(Stocks!$E$2:$E$5455,Stocks!$D$2:$D$5455,Synthèse!AC$1,Stocks!$A$2:$A$5455,Synthèse!$D$2:$D$442) -> 0 | AD114: =SUMIFS(Stocks!$E$2:$E$5455,Stocks!$D$2:$D$5455,Synthèse!AD$1,Stocks!$A$2:$A$5455,Synthèse!$D$2:$D$442) -> 0 | AE114: =SUMIFS(Stocks!$E$2:$E$5455,Stocks!$D$2:$D$5455,Synthèse!AE$1,Stocks!$A$2:$A$5455,Synthèse!$D$2:$D$442) -> 3 | ... CF114: =SUMIFS(Stocks!$E$2:$E$5455,Stocks!$D$2:$D$5455,Synthèse!CF$1,Stocks!$A$2:$A$5455,Synthèse!$D$2:$D$442) -> 0
A115: 1667 | B115: COMPAGNIE DES PET FOODS | C115: 85 | D115: 556025 | E115: PLANETE PUZZLE 38 CM | F115: A | G115: 3575070018882 | H115: R0019 | I115: PCE | J115: 3 | K115: 0.2 | L115: EUR | M115: 7.67 | N115: 7.67 | O115: 0 | P115: 43101 | Q115: 43465 | R115: 0.2 | S115: 1 | T115: UNITED BIRD | U115: 4494 | V115: JOUET ANIMAL : JOUET A SUSPEND | W115: 474 | X115: =SUMIFS(Stocks!$E$2:$E$5455,Stocks!$D$2:$D$5455,Synthèse!X$1,Stocks!$A$2:$A$5455,Synthèse!$D$2:$D$442) -> 3 | Y115: =SUMIFS(Stocks!$E$2:$E$5455,Stocks!$D$2:$D$5455,Synthèse!Y$1,Stocks!$A$2:$A$5455,Synthèse!$D$2:$D$442) -> 0 | Z115: =SUMIFS(Stocks!$E$2:$E$5455,Stocks!$D$2:$D$5455,Synthèse!Z$1,Stocks!$A$2:$A$5455,Synthèse!$D$2:$D$442) -> 0 | AA115: =SUMIFS(Stocks!$E$2:$E$5455,Stocks!$D$2:$D$5455,Synthèse!AA$1,Stocks!$A$2:$A$5455,Synthèse!$D$2:$D$442) -> 0 | AB115: =SUMIFS(Stocks!$E$2:$E$5455,Stocks!$D$2:$D$5455,Synthèse!AB$1,Stocks!$A$2:$A$5455,Synthèse!$D$2:$D$442) -> 0 | AC115: =SUMIFS(Stocks!$E$2:$E$5455,Stocks!$D$2:$D$5455,Synthèse!AC$1,Stocks!$A$2:$A$5455,Synthèse!$D$2:$D$442) -> 0 | AD115: =SUMIFS(Stocks!$E$2:$E$5455,Stocks!$D$2:$D$5455,Synthèse!AD$1,Stocks!$A$2:$A$5455,Synthèse!$D$2:$D$442) -> 0 | AE115: =SUMIFS(Stocks!$E$2:$E$5455,Stocks!$D$2:$D$5455,Synthèse!AE$1,Stocks!$A$2:$A$5455,Synthèse!$D$2:$D$442) -> 3 | ... CF115: =SUMIFS(Stocks!$E$2:$E$5455,Stocks!$D$2:$D$5455,Synthèse!CF$1,Stocks!$A$2:$A$5455,Synthèse!$D$2:$D$442) -> 0
D116: 556026 | E116: WOOD MAN 43 CM | F116: A | G116: 3575070018899 | H116: R0020 | J116: 3 | K116: 0.2 | N116: 2.83 | X116: =SUMIFS(Stocks!$E$2:$E$5455,Stocks!$D$2:$D$5455,Synthèse!X$1,Stocks!$A$2:$A$5455,Synthèse!$D$2:$D$442) -> 5 | Y116: =SUMIFS(Stocks!$E$2:$E$5455,Stocks!$D$2:$D$5455,Synthèse!Y$1,Stocks!$A$2:$A$5455,Synthèse!$D$2:$D$442) -> 0 | Z116: =SUMIFS(Stocks!$E$2:$E$5455,Stocks!$D$2:$D$5455,Synthèse!Z$1,Stocks!$A$2:$A$5455,Synthèse!$D$2:$D$442) -> 0 | AA116: =SUMIFS(Stocks!$E$2:$E$5455,Stocks!$D$2:$D$5455,Synthèse!AA$1,Stocks!$A$2:$A$5455,Synthèse!$D$2:$D$442) -> 0 | AB116: =SUMIFS(Stocks!$E$2:$E$5455,Stocks!$D$2:$D$5455,Synthèse!AB$1,Stocks!$A$2:$A$5455,Synthèse!$D$2:$D$442) -> 0 | AC116: =SUMIFS(Stocks!$E$2:$E$5455,Stocks!$D$2:$D$5455,Synthèse!AC$1,Stocks!$A$2:$A$5455,Synthèse!$D$2:$D$442) -> 0 | AD116: =SUMIFS(Stocks!$E$2:$E$5455,Stocks!$D$2:$D$5455,Synthèse!AD$1,Stocks!$A$2:$A$5455,Synthèse!$D$2:$D$442) -> 0 | AE116: =SUMIFS(Stocks!$E$2:$E$5455,Stocks!$D$2:$D$5455,Synthèse!AE$1,Stocks!$A$2:$A$5455,Synthèse!$D$2:$D$442) -> 3 | ... CF116: =SUMIFS(Stocks!$E$2:$E$5455,Stocks!$D$2:$D$5455,Synthèse!CF$1,Stocks!$A$2:$A$5455,Synthèse!$D$2:$D$442) -> 0
A117: 1667 | B117: COMPAGNIE DES PET FOODS | C117: 85 | D117: 556027 | E117: WOOD ANIMAL 30 CM | F117: A | G117: 3575070018905 | H117: R0021 | I117: PCE | J117: 3 | K117: 0.2 | L117: EUR | M117: 2.83 | N117: 2.83 | O117: 0 | P117: 43101 | Q117: 43465 | R117: 0.2 | S117: 1 | T117: UNITED BIRD | U117: 4494 | V117: JOUET ANIMAL : JOUET A SUSPEND | W117: 474 | X117: =SUMIFS(Stocks!$E$2:$E$5455,Stocks!$D$2:$D$5455,Synthèse!X$1,Stocks!$A$2:$A$5455,Synthèse!$D$2:$D$442) -> 5 | Y117: =SUMIFS(Stocks!$E$2:$E$5455,Stocks!$D$2:$D$5455,Synthèse!Y$1,Stocks!$A$2:$A$5455,Synthèse!$D$2:$D$442) -> 0 | Z117: =SUMIFS(Stocks!$E$2:$E$5455,Stocks!$D$2:$D$5455,Synthèse!Z$1,Stocks!$A$2:$A$5455,Synthèse!$D$2:$D$442) -> 0 | AA117: =SUMIFS(Stocks!$E$2:$E$5455,Stocks!$D$2:$D$5455,Synthèse!AA$1,Stocks!$A$2:$A$5455,Synthèse!$D$2:$D$442) -> 0 | AB117: =SUMIFS(Stocks!$E$2:$E$5455,Stocks!$D$2:$D$5455,Synthèse!AB$1,Stocks!$A$2:$A$5455,Synthèse!$D$2:$D$442) -> 0 | AC117: =SUMIFS(Stocks!$E$2:$E$5455,Stocks!$D$2:$D$5455,Synthèse!AC$1,Stocks!$A$2:$A$5455,Synthèse!$D$2:$D$442) -> 0 | AD117: =SUMIFS(Stocks!$E$2:$E$5455,Stocks!$D$2:$D$5455,Synthèse!AD$1,Stocks!$A$2:$A$5455,Synthèse!$D$2:$D$442) -> 0 | AE117: =SUMIFS(Stocks!$E$2:$E$5455,Stocks!$D$2:$D$5455,Synthèse!AE$1,Stocks!$A$2:$A$5455,Synthèse!$D$2:$D$442) -> 4 | ... CF117: =SUMIFS(Stocks!$E$2:$E$5455,Stocks!$D$2:$D$5455,Synthèse!CF$1,Stocks!$A$2:$A$5455,Synthèse!$D$2:$D$442) -> 0
D118: 556028 | E118: PIERRES PONCE CANDY 28 CM | F118: A | G118: 3575070018912 | H118: R0022 | J118: 2 | K118: 0.2 | N118: 3.14 | X118: =SUMIFS(Stocks!$E$2:$E$5455,Stocks!$D$2:$D$5455,Synthèse!X$1,Stocks!$A$2:$A$5455,Synthèse!$D$2:$D$442) -> 0 | Y118: =SUMIFS(Stocks!$E$2:$E$5455,Stocks!$D$2:$D$5455,Synthèse!Y$1,Stocks!$A$2:$A$5455,Synthèse!$D$2:$D$442) -> 2 | Z118: =SUMIFS(Stocks!$E$2:$E$5455,Stocks!$D$2:$D$5455,Synthèse!Z$1,Stocks!$A$2:$A$5455,Synthèse!$D$2:$D$442) -> 2 | AA118: =SUMIFS(Stocks!$E$2:$E$5455,Stocks!$D$2:$D$5455,Synthèse!AA$1,Stocks!$A$2:$A$5455,Synthèse!$D$2:$D$442) -> 0 | AB118: =SUMIFS(Stocks!$E$2:$E$5455,Stocks!$D$2:$D$5455,Synthèse!AB$1,Stocks!$A$2:$A$5455,Synthèse!$D$2:$D$442) -> 4 | AC118: =SUMIFS(Stocks!$E$2:$E$5455,Stocks!$D$2:$D$5455,Synthèse!AC$1,Stocks!$A$2:$A$5455,Synthèse!$D$2:$D$442) -> 0 | AD118: =SUMIFS(Stocks!$E$2:$E$5455,Stocks!$D$2:$D$5455,Synthèse!AD$1,Stocks!$A$2:$A$5455,Synthèse!$D$2:$D$442) -> 0 | AE118: =SUMIFS(Stocks!$E$2:$E$5455,Stocks!$D$2:$D$5455,Synthèse!AE$1,Stocks!$A$2:$A$5455,Synthèse!$D$2:$D$442) -> 2 | ... CF118: =SUMIFS(Stocks!$E$2:$E$5455,Stocks!$D$2:$D$5455,Synthèse!CF$1,Stocks!$A$2:$A$5455,Synthèse!$D$2:$D$442) -> 0
A119: 1667 | B119: COMPAGNIE DES PET FOODS | C119: 85 | D119: 556029 | E119: PIERRES PONCE BLEACH 32 CM | F119: A | G119: 3575070018929 | H119: R0023 | I119: PCE | J119: 3 | K119: 0.2 | L119: EUR | M119: 3.08 | N119: 3.08 | O119: 0 | P119: 43101 | Q119: 43465 | R119: 0.2 | S119: 1 | T119: UNITED BIRD | U119: 4494 | V119: JOUET ANIMAL : JOUET A SUSPEND | W119: 474 | X119: =SUMIFS(Stocks!$E$2:$E$5455,Stocks!$D$2:$D$5455,Synthèse!X$1,Stocks!$A$2:$A$5455,Synthèse!$D$2:$D$442) -> 6 | Y119: =SUMIFS(Stocks!$E$2:$E$5455,Stocks!$D$2:$D$5455,Synthèse!Y$1,Stocks!$A$2:$A$5455,Synthèse!$D$2:$D$442) -> 2 | Z119: =SUMIFS(Stocks!$E$2:$E$5455,Stocks!$D$2:$D$5455,Synthèse!Z$1,Stocks!$A$2:$A$5455,Synthèse!$D$2:$D$442) -> 0 | AA119: =SUMIFS(Stocks!$E$2:$E$5455,Stocks!$D$2:$D$5455,Synthèse!AA$1,Stocks!$A$2:$A$5455,Synthèse!$D$2:$D$442) -> 0 | AB119: =SUMIFS(Stocks!$E$2:$E$5455,Stocks!$D$2:$D$5455,Synthèse!AB$1,Stocks!$A$2:$A$5455,Synthèse!$D$2:$D$442) -> 3 | AC119: =SUMIFS(Stocks!$E$2:$E$5455,Stocks!$D$2:$D$5455,Synthèse!AC$1,Stocks!$A$2:$A$5455,Synthèse!$D$2:$D$442) -> 0 | AD119: =SUMIFS(Stocks!$E$2:$E$5455,Stocks!$D$2:$D$5455,Synthèse!AD$1,Stocks!$A$2:$A$5455,Synthèse!$D$2:$D$442) -> 0 | AE119: =SUMIFS(Stocks!$E$2:$E$5455,Stocks!$D$2:$D$5455,Synthèse!AE$1,Stocks!$A$2:$A$5455,Synthèse!$D$2:$D$442) -> 2 | ... CF119: =SUMIFS(Stocks!$E$2:$E$5455,Stocks!$D$2:$D$5455,Synthèse!CF$1,Stocks!$A$2:$A$5455,Synthèse!$D$2:$D$442) -> 0
D120: 556030 | E120: ATTRACTIVE SPIRALE 37 CM | F120: A | G120: 3575070018936 | H120: R0024 | J120: 2 | K120: 0.2 | N120: 3.88 | X120: =SUMIFS(Stocks!$E$2:$E$5455,Stocks!$D$2:$D$5455,Synthèse!X$1,Stocks!$A$2:$A$5455,Synthèse!$D$2:$D$442) -> 6 | Y120: =SUMIFS(Stocks!$E$2:$E$5455,Stocks!$D$2:$D$5455,Synthèse!Y$1,Stocks!$A$2:$A$5455,Synthèse!$D$2:$D$442) -> 5 | Z120: =SUMIFS(Stocks!$E$2:$E$5455,Stocks!$D$2:$D$5455,Synthèse!Z$1,Stocks!$A$2:$A$5455,Synthèse!$D$2:$D$442) -> 0 | AA120: =SUMIFS(Stocks!$E$2:$E$5455,Stocks!$D$2:$D$5455,Synthèse!AA$1,Stocks!$A$2:$A$5455,Synthèse!$D$2:$D$442) -> 0 | AB120: =SUMIFS(Stocks!$E$2:$E$5455,Stocks!$D$2:$D$5455,Synthèse!AB$1,Stocks!$A$2:$A$5455,Synthèse!$D$2:$D$442) -> 0 | AC120: =SUMIFS(Stocks!$E$2:$E$5455,Stocks!$D$2:$D$5455,Synthèse!AC$1,Stocks!$A$2:$A$5455,Synthèse!$D$2:$D$442) -> 0 | AD120: =SUMIFS(Stocks!$E$2:$E$5455,Stocks!$D$2:$D$5455,Synthèse!AD$1,Stocks!$A$2:$A$5455,Synthèse!$D$2:$D$442) -> 0 | AE120: =SUMIFS(Stocks!$E$2:$E$5455,Stocks!$D$2:$D$5455,Synthèse!AE$1,Stocks!$A$2:$A$5455,Synthèse!$D$2:$D$442) -> 4 | ... CF120: =SUMIFS(Stocks!$E$2:$E$5455,Stocks!$D$2:$D$5455,Synthèse!CF$1,Stocks!$A$2:$A$5455,Synthèse!$D$2:$D$442) -> 0
A121: 1667 | B121: COMPAGNIE DES PET FOODS | C121: 85 | D121: 556031 | E121: CUBIC TREE 40 CM | F121: A | G121: 3575070018943 | H121: R0025 | I121: PCE | J121: 3 | K121: 0.2 | L121: EUR | M121: 4.31 | N121: 4.31 | O121: 0 | P121: 43101 | Q121: 43465 | R121: 0.2 | S121: 1 | T121: UNITED BIRD | U121: 4494 | V121: JOUET ANIMAL : JOUET A SUSPEND | W121: 474 | X121: =SUMIFS(Stocks!$E$2:$E$5455,Stocks!$D$2:$D$5455,Synthèse!X$1,Stocks!$A$2:$A$5455,Synthèse!$D$2:$D$442) -> 0 | Y121: =SUMIFS(Stocks!$E$2:$E$5455,Stocks!$D$2:$D$5455,Synthèse!Y$1,Stocks!$A$2:$A$5455,Synthèse!$D$2:$D$442) -> 5 | Z121: =SUMIFS(Stocks!$E$2:$E$5455,Stocks!$D$2:$D$5455,Synthèse!Z$1,Stocks!$A$2:$A$5455,Synthèse!$D$2:$D$442) -> 0 | AA121: =SUMIFS(Stocks!$E$2:$E$5455,Stocks!$D$2:$D$5455,Synthèse!AA$1,Stocks!$A$2:$A$5455,Synthèse!$D$2:$D$442) -> 0 | AB121: =SUMIFS(Stocks!$E$2:$E$5455,Stocks!$D$2:$D$5455,Synthèse!AB$1,Stocks!$A$2:$A$5455,Synthèse!$D$2:$D$442) -> 0 | AC121: =SUMIFS(Stocks!$E$2:$E$5455,Stocks!$D$2:$D$5455,Synthèse!AC$1,Stocks!$A$2:$A$5455,Synthèse!$D$2:$D$442) -> 0 | AD121: =SUMIFS(Stocks!$E$2:$E$5455,Stocks!$D$2:$D$5455,Synthèse!AD$1,Stocks!$A$2:$A$5455,Synthèse!$D$2:$D$442) -> 0 | AE121: =SUMIFS(Stocks!$E$2:$E$5455,Stocks!$D$2:$D$5455,Synthèse!AE$1,Stocks!$A$2:$A$5455,Synthèse!$D$2:$D$442) -> 4 | ... CF121: =SUMIFS(Stocks!$E$2:$E$5455,Stocks!$D$2:$D$5455,Synthèse!CF$1,Stocks!$A$2:$A$5455,Synthèse!$D$2:$D$442) -> 0
A122: 1667 | B122: COMPAGNIE DES PET FOODS | C122: 85 | D122: 556032 | E122: TREATS DISPENSER DIAM 14.5 CM | F122: A | G122: 3575070018950 | H122: R0026 | I122: PCE | J122: 3 | K122: 0.2 | L122: EUR | M122: 8.78 | N122: 8.78 | O122: 0 | P122: 43101 | Q122: 43465 | R122: 0.2 | S122: 1 | T122: AUCUNE | U122: 4494 | V122: JOUET ANIMAL : JOUET A SUSPEND | W122: 474 | X122: =SUMIFS(Stocks!$E$2:$E$5455,Stocks!$D$2:$D$5455,Synthèse!X$1,Stocks!$A$2:$A$5455,Synthèse!$D$2:$D$442) -> 5 | Y122: =SUMIFS(Stocks!$E$2:$E$5455,Stocks!$D$2:$D$5455,Synthèse!Y$1,Stocks!$A$2:$A$5455,Synthèse!$D$2:$D$442) -> 3 | Z122: =SUMIFS(Stocks!$E$2:$E$5455,Stocks!$D$2:$D$5455,Synthèse!Z$1,Stocks!$A$2:$A$5455,Synthèse!$D$2:$D$442) -> 0 | AA122: =SUMIFS(Stocks!$E$2:$E$5455,Stocks!$D$2:$D$5455,Synthèse!AA$1,Stocks!$A$2:$A$5455,Synthèse!$D$2:$D$442) -> 0 | AB122: =SUMIFS(Stocks!$E$2:$E$5455,Stocks!$D$2:$D$5455,Synthèse!AB$1,Stocks!$A$2:$A$5455,Synthèse!$D$2:$D$442) -> 0 | AC122: =SUMIFS(Stocks!$E$2:$E$5455,Stocks!$D$2:$D$5455,Synthèse!AC$1,Stocks!$A$2:$A$5455,Synthèse!$D$2:$D$442) -> 0 | AD122: =SUMIFS(Stocks!$E$2:$E$5455,Stocks!$D$2:$D$5455,Synthèse!AD$1,Stocks!$A$2:$A$5455,Synthèse!$D$2:$D$442) -> 0 | AE122: =SUMIFS(Stocks!$E$2:$E$5455,Stocks!$D$2:$D$5455,Synthèse!AE$1,Stocks!$A$2:$A$5455,Synthèse!$D$2:$D$442) -> 5 | ... CF122: =SUMIFS(Stocks!$E$2:$E$5455,Stocks!$D$2:$D$5455,Synthèse!CF$1,Stocks!$A$2:$A$5455,Synthèse!$D$2:$D$442) -> 0
A123: 1667 | B123: COMPAGNIE DES PET FOODS | C123: 85 | D123: 556033 | E123: GIANT WOOD CROSS 46 CM | F123: B | G123: 3575070018967 | H123: R0027 | J123: 1 | K123: 0.2 | N123: 6.46 | X123: =SUMIFS(Stocks!$E$2:$E$5455,Stocks!$D$2:$D$5455,Synthèse!X$1,Stocks!$A$2:$A$5455,Synthèse!$D$2:$D$442) -> 2 | Y123: =SUMIFS(Stocks!$E$2:$E$5455,Stocks!$D$2:$D$5455,Synthèse!Y$1,Stocks!$A$2:$A$5455,Synthèse!$D$2:$D$442) -> 1 | Z123: =SUMIFS(Stocks!$E$2:$E$5455,Stocks!$D$2:$D$5455,Synthèse!Z$1,Stocks!$A$2:$A$5455,Synthèse!$D$2:$D$442) -> 0 | AA123: =SUMIFS(Stocks!$E$2:$E$5455,Stocks!$D$2:$D$5455,Synthèse!AA$1,Stocks!$A$2:$A$5455,Synthèse!$D$2:$D$442) -> 0 | AB123: =SUMIFS(Stocks!$E$2:$E$5455,Stocks!$D$2:$D$5455,Synthèse!AB$1,Stocks!$A$2:$A$5455,Synthèse!$D$2:$D$442) -> 0 | AC123: =SUMIFS(Stocks!$E$2:$E$5455,Stocks!$D$2:$D$5455,Synthèse!AC$1,Stocks!$A$2:$A$5455,Synthèse!$D$2:$D$442) -> 0 | AD123: =SUMIFS(Stocks!$E$2:$E$5455,Stocks!$D$2:$D$5455,Synthèse!AD$1,Stocks!$A$2:$A$5455,Synthèse!$D$2:$D$442) -> 0 | AE123: =SUMIFS(Stocks!$E$2:$E$5455,Stocks!$D$2:$D$5455,Synthèse!AE$1,Stocks!$A$2:$A$5455,Synthèse!$D$2:$D$442) -> 5 | ... CF123: =SUMIFS(Stocks!$E$2:$E$5455,Stocks!$D$2:$D$5455,Synthèse!CF$1,Stocks!$A$2:$A$5455,Synthèse!$D$2:$D$442) -> 0
A124: 1667 | B124: COMPAGNIE DES PET FOODS | C124: 453 | D124: 556034 | E124: GIANT WOOD SQUARE 50 CM | F124: C | G124: 3575070018974 | H124: R0028 | J124: 1 | K124: 0.2 | N124: 8.82 | X124: =SUMIFS(Stocks!$E$2:$E$5455,Stocks!$D$2:$D$5455,Synthèse!X$1,Stocks!$A$2:$A$5455,Synthèse!$D$2:$D$442) -> 6 | Y124: =SUMIFS(Stocks!$E$2:$E$5455,Stocks!$D$2:$D$5455,Synthèse!Y$1,Stocks!$A$2:$A$5455,Synthèse!$D$2:$D$442) -> 0 | Z124: =SUMIFS(Stocks!$E$2:$E$5455,Stocks!$D$2:$D$5455,Synthèse!Z$1,Stocks!$A$2:$A$5455,Synthèse!$D$2:$D$442) -> 0 | AA124: =SUMIFS(Stocks!$E$2:$E$5455,Stocks!$D$2:$D$5455,Synthèse!AA$1,Stocks!$A$2:$A$5455,Synthèse!$D$2:$D$442) -> 0 | AB124: =SUMIFS(Stocks!$E$2:$E$5455,Stocks!$D$2:$D$5455,Synthèse!AB$1,Stocks!$A$2:$A$5455,Synthèse!$D$2:$D$442) -> 0 | AC124: =SUMIFS(Stocks!$E$2:$E$5455,Stocks!$D$2:$D$5455,Synthèse!AC$1,Stocks!$A$2:$A$5455,Synthèse!$D$2:$D$442) -> 0 | AD124: =SUMIFS(Stocks!$E$2:$E$5455,Stocks!$D$2:$D$5455,Synthèse!AD$1,Stocks!$A$2:$A$5455,Synthèse!$D$2:$D$442) -> 0 | AE124: =SUMIFS(Stocks!$E$2:$E$5455,Stocks!$D$2:$D$5455,Synthèse!AE$1,Stocks!$A$2:$A$5455,Synthèse!$D$2:$D$442) -> 3 | ... CF124: =SUMIFS(Stocks!$E$2:$E$5455,Stocks!$D$2:$D$5455,Synthèse!CF$1,Stocks!$A$2:$A$5455,Synthèse!$D$2:$D$442) -> 0
A125: 1667 | B125: COMPAGNIE DES PET FOODS | C125: 85 | D125: 556035 | E125: MIROIR TOURNANT 25 CM | F125: B | G125: 3575070019049 | H125: R0029 | J125: 3 | K125: 0.2 | N125: 6.49 | X125: =SUMIFS(Stocks!$E$2:$E$5455,Stocks!$D$2:$D$5455,Synthèse!X$1,Stocks!$A$2:$A$5455,Synthèse!$D$2:$D$442) -> 0 | Y125: =SUMIFS(Stocks!$E$2:$E$5455,Stocks!$D$2:$D$5455,Synthèse!Y$1,Stocks!$A$2:$A$5455,Synthèse!$D$2:$D$442) -> 0 | Z125: =SUMIFS(Stocks!$E$2:$E$5455,Stocks!$D$2:$D$5455,Synthèse!Z$1,Stocks!$A$2:$A$5455,Synthèse!$D$2:$D$442) -> 2 | AA125: =SUMIFS(Stocks!$E$2:$E$5455,Stocks!$D$2:$D$5455,Synthèse!AA$1,Stocks!$A$2:$A$5455,Synthèse!$D$2:$D$442) -> 0 | AB125: =SUMIFS(Stocks!$E$2:$E$5455,Stocks!$D$2:$D$5455,Synthèse!AB$1,Stocks!$A$2:$A$5455,Synthèse!$D$2:$D$442) -> 0 | AC125: =SUMIFS(Stocks!$E$2:$E$5455,Stocks!$D$2:$D$5455,Synthèse!AC$1,Stocks!$A$2:$A$5455,Synthèse!$D$2:$D$442) -> 0 | AD125: =SUMIFS(Stocks!$E$2:$E$5455,Stocks!$D$2:$D$5455,Synthèse!AD$1,Stocks!$A$2:$A$5455,Synthèse!$D$2:$D$442) -> 0 | AE125: =SUMIFS(Stocks!$E$2:$E$5455,Stocks!$D$2:$D$5455,Synthèse!AE$1,Stocks!$A$2:$A$5455,Synthèse!$D$2:$D$442) -> 2 | ... CF125: =SUMIFS(Stocks!$E$2:$E$5455,Stocks!$D$2:$D$5455,Synthèse!CF$1,Stocks!$A$2:$A$5455,Synthèse!$D$2:$D$442) -> 0
A126: 1667 | B126: COMPAGNIE DES PET FOODS | C126: 85 | D126: 556036 | E126: HARNAIS+LONGE 8 M MEDIUM | F126: A | G126: 3575070019056 | H126: R0500 | I126: PCE | J126: 3 | K126: 0.2 | L126: EUR | M126: 4.34 | N126: 4.34 | O126: 0 | P126: 43101 | Q126: 43465 | R126: 0.2 | S126: 1 | T126: UNITED BIRD | U126: 74 | V126: SELLERIE DE L'ANIMAL : HARNAI | W126: 474 | X126: =SUMIFS(Stocks!$E$2:$E$5455,Stocks!$D$2:$D$5455,Synthèse!X$1,Stocks!$A$2:$A$5455,Synthèse!$D$2:$D$442) -> 6 | Y126: =SUMIFS(Stocks!$E$2:$E$5455,Stocks!$D$2:$D$5455,Synthèse!Y$1,Stocks!$A$2:$A$5455,Synthèse!$D$2:$D$442) -> 6 | Z126: =SUMIFS(Stocks!$E$2:$E$5455,Stocks!$D$2:$D$5455,Synthèse!Z$1,Stocks!$A$2:$A$5455,Synthèse!$D$2:$D$442) -> 0 | AA126: =SUMIFS(Stocks!$E$2:$E$5455,Stocks!$D$2:$D$5455,Synthèse!AA$1,Stocks!$A$2:$A$5455,Synthèse!$D$2:$D$442) -> 0 | AB126: =SUMIFS(Stocks!$E$2:$E$5455,Stocks!$D$2:$D$5455,Synthèse!AB$1,Stocks!$A$2:$A$5455,Synthèse!$D$2:$D$442) -> 0 | AC126: =SUMIFS(Stocks!$E$2:$E$5455,Stocks!$D$2:$D$5455,Synthèse!AC$1,Stocks!$A$2:$A$5455,Synthèse!$D$2:$D$442) -> 0 | AD126: =SUMIFS(Stocks!$E$2:$E$5455,Stocks!$D$2:$D$5455,Synthèse!AD$1,Stocks!$A$2:$A$5455,Synthèse!$D$2:$D$442) -> 0 | AE126: =SUMIFS(Stocks!$E$2:$E$5455,Stocks!$D$2:$D$5455,Synthèse!AE$1,Stocks!$A$2:$A$5455,Synthèse!$D$2:$D$442) -> 0 | ... CF126: =SUMIFS(Stocks!$E$2:$E$5455,Stocks!$D$2:$D$5455,Synthèse!CF$1,Stocks!$A$2:$A$5455,Synthèse!$D$2:$D$442) -> 0
A127: 1667 | B127: COMPAGNIE DES PET FOODS | C127: 85 | D127: 556037 | E127: HARNAIS+LONGE 8 M LARGE | F127: A | G127: 3575070019063 | H127: R0501 | I127: PCE | J127: 3 | K127: 0.2 | L127: EUR | M127: 4.81 | N127: 4.81 | O127: 0 | P127: 43101 | Q127: 43465 | R127: 0.2 | S127: 1 | T127: UNITED BIRD | U127: 74 | V127: SELLERIE DE L'ANIMAL : HARNAI | W127: 474 | X127: =SUMIFS(Stocks!$E$2:$E$5455,Stocks!$D$2:$D$5455,Synthèse!X$1,Stocks!$A$2:$A$5455,Synthèse!$D$2:$D$442) -> 0 | Y127: =SUMIFS(Stocks!$E$2:$E$5455,Stocks!$D$2:$D$5455,Synthèse!Y$1,Stocks!$A$2:$A$5455,Synthèse!$D$2:$D$442) -> 0 | Z127: =SUMIFS(Stocks!$E$2:$E$5455,Stocks!$D$2:$D$5455,Synthèse!Z$1,Stocks!$A$2:$A$5455,Synthèse!$D$2:$D$442) -> 8 | AA127: =SUMIFS(Stocks!$E$2:$E$5455,Stocks!$D$2:$D$5455,Synthèse!AA$1,Stocks!$A$2:$A$5455,Synthèse!$D$2:$D$442) -> 0 | AB127: =SUMIFS(Stocks!$E$2:$E$5455,Stocks!$D$2:$D$5455,Synthèse!AB$1,Stocks!$A$2:$A$5455,Synthèse!$D$2:$D$442) -> 0 | AC127: =SUMIFS(Stocks!$E$2:$E$5455,Stocks!$D$2:$D$5455,Synthèse!AC$1,Stocks!$A$2:$A$5455,Synthèse!$D$2:$D$442) -> 0 | AD127: =SUMIFS(Stocks!$E$2:$E$5455,Stocks!$D$2:$D$5455,Synthèse!AD$1,Stocks!$A$2:$A$5455,Synthèse!$D$2:$D$442) -> 0 | AE127: =SUMIFS(Stocks!$E$2:$E$5455,Stocks!$D$2:$D$5455,Synthèse!AE$1,Stocks!$A$2:$A$5455,Synthèse!$D$2:$D$442) -> 7 | ... CF127: =SUMIFS(Stocks!$E$2:$E$5455,Stocks!$D$2:$D$5455,Synthèse!CF$1,Stocks!$A$2:$A$5455,Synthèse!$D$2:$D$442) -> 0
A128: 1667 | B128: COMPAGNIE DES PET FOODS | C128: 62 | D128: 556211 | E128: PLATEFORME + RAMPE RONGEURS PM | F128: B | G128: 3575070018219 | H128: GRB6038 | I128: PCE | J128: 3 | K128: 0.2 | L128: EUR | M128: 3.96 | N128: 3.96 | O128: 0 | P128: 43101 | Q128: 43465 | R128: 0.2 | S128: 1 | T128: RONGIS | U128: 235 | V128: ACCESS. LIEU DE VIE ANIMAL : A | W128: 474 | X128: =SUMIFS(Stocks!$E$2:$E$5455,Stocks!$D$2:$D$5455,Synthèse!X$1,Stocks!$A$2:$A$5455,Synthèse!$D$2:$D$442) -> 4 | Y128: =SUMIFS(Stocks!$E$2:$E$5455,Stocks!$D$2:$D$5455,Synthèse!Y$1,Stocks!$A$2:$A$5455,Synthèse!$D$2:$D$442) -> 6 | Z128: =SUMIFS(Stocks!$E$2:$E$5455,Stocks!$D$2:$D$5455,Synthèse!Z$1,Stocks!$A$2:$A$5455,Synthèse!$D$2:$D$442) -> 1 | AA128: =SUMIFS(Stocks!$E$2:$E$5455,Stocks!$D$2:$D$5455,Synthèse!AA$1,Stocks!$A$2:$A$5455,Synthèse!$D$2:$D$442) -> 0 | AB128: =SUMIFS(Stocks!$E$2:$E$5455,Stocks!$D$2:$D$5455,Synthèse!AB$1,Stocks!$A$2:$A$5455,Synthèse!$D$2:$D$442) -> 0 | AC128: =SUMIFS(Stocks!$E$2:$E$5455,Stocks!$D$2:$D$5455,Synthèse!AC$1,Stocks!$A$2:$A$5455,Synthèse!$D$2:$D$442) -> 0 | AD128: =SUMIFS(Stocks!$E$2:$E$5455,Stocks!$D$2:$D$5455,Synthèse!AD$1,Stocks!$A$2:$A$5455,Synthèse!$D$2:$D$442) -> 0 | AE128: =SUMIFS(Stocks!$E$2:$E$5455,Stocks!$D$2:$D$5455,Synthèse!AE$1,Stocks!$A$2:$A$5455,Synthèse!$D$2:$D$442) -> 2 | ... CF128: =SUMIFS(Stocks!$E$2:$E$5455,Stocks!$D$2:$D$5455,Synthèse!CF$1,Stocks!$A$2:$A$5455,Synthèse!$D$2:$D$442) -> 0
A129: 1667 | B129: COMPAGNIE DES PET FOODS | C129: 62 | D129: 556212 | E129: PLATEFORME + RAMPE RONGEURS GM | F129: B | G129: 3575070018226 | H129: GRB6039 | I129: PCE | J129: 3 | K129: 0.2 | L129: EUR | M129: 5.34 | N129: 5.34 | O129: 0 | P129: 43101 | Q129: 43465 | R129: 0.2 | S129: 1 | T129: RONGIS | U129: 235 | V129: ACCESS. LIEU DE VIE ANIMAL : A | W129: 474 | X129: =SUMIFS(Stocks!$E$2:$E$5455,Stocks!$D$2:$D$5455,Synthèse!X$1,Stocks!$A$2:$A$5455,Synthèse!$D$2:$D$442) -> 3 | Y129: =SUMIFS(Stocks!$E$2:$E$5455,Stocks!$D$2:$D$5455,Synthèse!Y$1,Stocks!$A$2:$A$5455,Synthèse!$D$2:$D$442) -> 3 | Z129: =SUMIFS(Stocks!$E$2:$E$5455,Stocks!$D$2:$D$5455,Synthèse!Z$1,Stocks!$A$2:$A$5455,Synthèse!$D$2:$D$442) -> 7 | AA129: =SUMIFS(Stocks!$E$2:$E$5455,Stocks!$D$2:$D$5455,Synthèse!AA$1,Stocks!$A$2:$A$5455,Synthèse!$D$2:$D$442) -> 0 | AB129: =SUMIFS(Stocks!$E$2:$E$5455,Stocks!$D$2:$D$5455,Synthèse!AB$1,Stocks!$A$2:$A$5455,Synthèse!$D$2:$D$442) -> 3 | AC129: =SUMIFS(Stocks!$E$2:$E$5455,Stocks!$D$2:$D$5455,Synthèse!AC$1,Stocks!$A$2:$A$5455,Synthèse!$D$2:$D$442) -> 0 | AD129: =SUMIFS(Stocks!$E$2:$E$5455,Stocks!$D$2:$D$5455,Synthèse!AD$1,Stocks!$A$2:$A$5455,Synthèse!$D$2:$D$442) -> 0 | AE129: =SUMIFS(Stocks!$E$2:$E$5455,Stocks!$D$2:$D$5455,Synthèse!AE$1,Stocks!$A$2:$A$5455,Synthèse!$D$2:$D$442) -> 2 | ... CF129: =SUMIFS(Stocks!$E$2:$E$5455,Stocks!$D$2:$D$5455,Synthèse!CF$1,Stocks!$A$2:$A$5455,Synthèse!$D$2:$D$442) -> 0
A130: 1667 | B130: COMPAGNIE DES PET FOODS | C130: 119 | D130: 562007 | E130: BALLE BUMPER 6.5 | F130: A | G130: 3575070018516 | H130: J1289 | I130: PCE | J130: 6 | K130: 0.2 | L130: EUR | M130: 2.46 | N130: 2.46 | O130: 0 | P130: 43154 | Q130: 43465 | R130: 0.2 | S130: 1 | T130: ANKA | U130: 194 | V130: JOUET ANIMAL : BALLE | W130: 474 | X130: =SUMIFS(Stocks!$E$2:$E$5455,Stocks!$D$2:$D$5455,Synthèse!X$1,Stocks!$A$2:$A$5455,Synthèse!$D$2:$D$442) -> 2 | Y130: =SUMIFS(Stocks!$E$2:$E$5455,Stocks!$D$2:$D$5455,Synthèse!Y$1,Stocks!$A$2:$A$5455,Synthèse!$D$2:$D$442) -> 0 | Z130: =SUMIFS(Stocks!$E$2:$E$5455,Stocks!$D$2:$D$5455,Synthèse!Z$1,Stocks!$A$2:$A$5455,Synthèse!$D$2:$D$442) -> 0 | AA130: =SUMIFS(Stocks!$E$2:$E$5455,Stocks!$D$2:$D$5455,Synthèse!AA$1,Stocks!$A$2:$A$5455,Synthèse!$D$2:$D$442) -> 0 | AB130: =SUMIFS(Stocks!$E$2:$E$5455,Stocks!$D$2:$D$5455,Synthèse!AB$1,Stocks!$A$2:$A$5455,Synthèse!$D$2:$D$442) -> 0 | AC130: =SUMIFS(Stocks!$E$2:$E$5455,Stocks!$D$2:$D$5455,Synthèse!AC$1,Stocks!$A$2:$A$5455,Synthèse!$D$2:$D$442) -> 0 | AD130: =SUMIFS(Stocks!$E$2:$E$5455,Stocks!$D$2:$D$5455,Synthèse!AD$1,Stocks!$A$2:$A$5455,Synthèse!$D$2:$D$442) -> 0 | AE130: =SUMIFS(Stocks!$E$2:$E$5455,Stocks!$D$2:$D$5455,Synthèse!AE$1,Stocks!$A$2:$A$5455,Synthèse!$D$2:$D$442) -> 0 | ... CF130: =SUMIFS(Stocks!$E$2:$E$5455,Stocks!$D$2:$D$5455,Synthèse!CF$1,Stocks!$A$2:$A$5455,Synthèse!$D$2:$D$442) -> 0
A131: 1667 | B131: COMPAGNIE DES PET FOODS | C131: 118 | D131: 562013 | E131: BOUDIN TRACTION TASK FORCE | F131: A | G131: 3575070018387 | H131: J1112. | I131: PCE | J131: 6 | K131: 0.2 | L131: EUR | M131: 3.46 | N131: 3.46 | O131: 0 | P131: 43154 | Q131: 43465 | R131: 0.2 | S131: 1 | T131: ANKA | U131: 195 | V131: JOUET ANIMAL : CORDE | W131: 474 | X131: =SUMIFS(Stocks!$E$2:$E$5455,Stocks!$D$2:$D$5455,Synthèse!X$1,Stocks!$A$2:$A$5455,Synthèse!$D$2:$D$442) -> 1 | Y131: =SUMIFS(Stocks!$E$2:$E$5455,Stocks!$D$2:$D$5455,Synthèse!Y$1,Stocks!$A$2:$A$5455,Synthèse!$D$2:$D$442) -> 0 | Z131: =SUMIFS(Stocks!$E$2:$E$5455,Stocks!$D$2:$D$5455,Synthèse!Z$1,Stocks!$A$2:$A$5455,Synthèse!$D$2:$D$442) -> 6 | AA131: =SUMIFS(Stocks!$E$2:$E$5455,Stocks!$D$2:$D$5455,Synthèse!AA$1,Stocks!$A$2:$A$5455,Synthèse!$D$2:$D$442) -> 6 | AB131: =SUMIFS(Stocks!$E$2:$E$5455,Stocks!$D$2:$D$5455,Synthèse!AB$1,Stocks!$A$2:$A$5455,Synthèse!$D$2:$D$442) -> 0 | AC131: =SUMIFS(Stocks!$E$2:$E$5455,Stocks!$D$2:$D$5455,Synthèse!AC$1,Stocks!$A$2:$A$5455,Synthèse!$D$2:$D$442) -> 0 | AD131: =SUMIFS(Stocks!$E$2:$E$5455,Stocks!$D$2:$D$5455,Synthèse!AD$1,Stocks!$A$2:$A$5455,Synthèse!$D$2:$D$442) -> 0 | AE131: =SUMIFS(Stocks!$E$2:$E$5455,Stocks!$D$2:$D$5455,Synthèse!AE$1,Stocks!$A$2:$A$5455,Synthèse!$D$2:$D$442) -> 2 | ... CF131: =SUMIFS(Stocks!$E$2:$E$5455,Stocks!$D$2:$D$5455,Synthèse!CF$1,Stocks!$A$2:$A$5455,Synthèse!$D$2:$D$442) -> 5
A132: 1667 | B132: COMPAGNIE DES PET FOODS | C132: 119 | D132: 562040 | E132: BALLE CAOUTCH EXTRABOUNCE 9CM | F132: A | G132: 3575070018134 | H132: J1278 | I132: PCE | J132: 6 | K132: 0.2 | L132: EUR | M132: 4.75 | N132: 4.75 | O132: 0 | P132: 43154 | Q132: 43465 | R132: 0.2 | S132: 1 | T132: ANKA | U132: 194 | V132: JOUET ANIMAL : BALLE | W132: 474 | X132: =SUMIFS(Stocks!$E$2:$E$5455,Stocks!$D$2:$D$5455,Synthèse!X$1,Stocks!$A$2:$A$5455,Synthèse!$D$2:$D$442) -> 6 | Y132: =SUMIFS(Stocks!$E$2:$E$5455,Stocks!$D$2:$D$5455,Synthèse!Y$1,Stocks!$A$2:$A$5455,Synthèse!$D$2:$D$442) -> 3 | Z132: =SUMIFS(Stocks!$E$2:$E$5455,Stocks!$D$2:$D$5455,Synthèse!Z$1,Stocks!$A$2:$A$5455,Synthèse!$D$2:$D$442) -> 0 | AA132: =SUMIFS(Stocks!$E$2:$E$5455,Stocks!$D$2:$D$5455,Synthèse!AA$1,Stocks!$A$2:$A$5455,Synthèse!$D$2:$D$442) -> 16 | AB132: =SUMIFS(Stocks!$E$2:$E$5455,Stocks!$D$2:$D$5455,Synthèse!AB$1,Stocks!$A$2:$A$5455,Synthèse!$D$2:$D$442) -> 11 | AC132: =SUMIFS(Stocks!$E$2:$E$5455,Stocks!$D$2:$D$5455,Synthèse!AC$1,Stocks!$A$2:$A$5455,Synthèse!$D$2:$D$442) -> 0 | AD132: =SUMIFS(Stocks!$E$2:$E$5455,Stocks!$D$2:$D$5455,Synthèse!AD$1,Stocks!$A$2:$A$5455,Synthèse!$D$2:$D$442) -> 0 | AE132: =SUMIFS(Stocks!$E$2:$E$5455,Stocks!$D$2:$D$5455,Synthèse!AE$1,Stocks!$A$2:$A$5455,Synthèse!$D$2:$D$442) -> 21 | ... CF132: =SUMIFS(Stocks!$E$2:$E$5455,Stocks!$D$2:$D$5455,Synthèse!CF$1,Stocks!$A$2:$A$5455,Synthèse!$D$2:$D$442) -> 3
A133: 1667 | B133: COMPAGNIE DES PET FOODS | C133: 119 | D133: 562042 | E133: BALLE CAOUTCH EXTRABOUNCE 6CM | F133: A | G133: 3575070018110 | H133: J1276 | I133: PCE | J133: 6 | K133: 0.2 | L133: EUR | M133: 2.34 | N133: 2.34 | O133: 0 | P133: 43154 | Q133: 43465 | R133: 0.2 | S133: 1 | T133: ANKA | U133: 194 | V133: JOUET ANIMAL : BALLE | W133: 474 | X133: =SUMIFS(Stocks!$E$2:$E$5455,Stocks!$D$2:$D$5455,Synthèse!X$1,Stocks!$A$2:$A$5455,Synthèse!$D$2:$D$442) -> 5 | Y133: =SUMIFS(Stocks!$E$2:$E$5455,Stocks!$D$2:$D$5455,Synthèse!Y$1,Stocks!$A$2:$A$5455,Synthèse!$D$2:$D$442) -> 0 | Z133: =SUMIFS(Stocks!$E$2:$E$5455,Stocks!$D$2:$D$5455,Synthèse!Z$1,Stocks!$A$2:$A$5455,Synthèse!$D$2:$D$442) -> 0 | AA133: =SUMIFS(Stocks!$E$2:$E$5455,Stocks!$D$2:$D$5455,Synthèse!AA$1,Stocks!$A$2:$A$5455,Synthèse!$D$2:$D$442) -> 0 | AB133: =SUMIFS(Stocks!$E$2:$E$5455,Stocks!$D$2:$D$5455,Synthèse!AB$1,Stocks!$A$2:$A$5455,Synthèse!$D$2:$D$442) -> 0 | AC133: =SUMIFS(Stocks!$E$2:$E$5455,Stocks!$D$2:$D$5455,Synthèse!AC$1,Stocks!$A$2:$A$5455,Synthèse!$D$2:$D$442) -> 0 | AD133: =SUMIFS(Stocks!$E$2:$E$5455,Stocks!$D$2:$D$5455,Synthèse!AD$1,Stocks!$A$2:$A$5455,Synthèse!$D$2:$D$442) -> 0 | AE133: =SUMIFS(Stocks!$E$2:$E$5455,Stocks!$D$2:$D$5455,Synthèse!AE$1,Stocks!$A$2:$A$5455,Synthèse!$D$2:$D$442) -> 9 | ... CF133: =SUMIFS(Stocks!$E$2:$E$5455,Stocks!$D$2:$D$5455,Synthèse!CF$1,Stocks!$A$2:$A$5455,Synthèse!$D$2:$D$442) -> 2
A134: 1667 | B134: COMPAGNIE DES PET FOODS | C134: 140 | D134: 562050 | E134: GD MAISON TOILETTE FLIP CAT | F134: B | G134: 5412087007349 | H134: S97385 | I134: PCE | J134: 3 | K134: 0.2 | L134: EUR | M134: 13.73 | N134: 13.73 | O134: 0 | P134: 43154 | Q134: 43465 | R134: 0.2 | S134: 1 | T134: ANKA | U134: 2033 | V134: HYGIÈNE CHAT : BAC À LITIÈRE | W134: 474 | X134: =SUMIFS(Stocks!$E$2:$E$5455,Stocks!$D$2:$D$5455,Synthèse!X$1,Stocks!$A$2:$A$5455,Synthèse!$D$2:$D$442) -> -2 | Y134: =SUMIFS(Stocks!$E$2:$E$5455,Stocks!$D$2:$D$5455,Synthèse!Y$1,Stocks!$A$2:$A$5455,Synthèse!$D$2:$D$442) -> 0 | Z134: =SUMIFS(Stocks!$E$2:$E$5455,Stocks!$D$2:$D$5455,Synthèse!Z$1,Stocks!$A$2:$A$5455,Synthèse!$D$2:$D$442) -> 2 | AA134: =SUMIFS(Stocks!$E$2:$E$5455,Stocks!$D$2:$D$5455,Synthèse!AA$1,Stocks!$A$2:$A$5455,Synthèse!$D$2:$D$442) -> 0 | AB134: =SUMIFS(Stocks!$E$2:$E$5455,Stocks!$D$2:$D$5455,Synthèse!AB$1,Stocks!$A$2:$A$5455,Synthèse!$D$2:$D$442) -> 0 | AC134: =SUMIFS(Stocks!$E$2:$E$5455,Stocks!$D$2:$D$5455,Synthèse!AC$1,Stocks!$A$2:$A$5455,Synthèse!$D$2:$D$442) -> 0 | AD134: =SUMIFS(Stocks!$E$2:$E$5455,Stocks!$D$2:$D$5455,Synthèse!AD$1,Stocks!$A$2:$A$5455,Synthèse!$D$2:$D$442) -> 0 | AE134: =SUMIFS(Stocks!$E$2:$E$5455,Stocks!$D$2:$D$5455,Synthèse!AE$1,Stocks!$A$2:$A$5455,Synthèse!$D$2:$D$442) -> 0 | ... CF134: =SUMIFS(Stocks!$E$2:$E$5455,Stocks!$D$2:$D$5455,Synthèse!CF$1,Stocks!$A$2:$A$5455,Synthèse!$D$2:$D$442) -> 0
A135: 1667 | B135: COMPAGNIE DES PET FOODS | C135: 140 | D135: 562052 | E135: BAC OUVERT CATS IN LOVE | F135: B | G135: 5412087011643 | H135: S97387CL | I135: PCE | J135: 6 | K135: 0.2 | L135: EUR | M135: 6.24 | N135: 6.24 | O135: 0 | P135: 43154 | Q135: 43465 | R135: 0.2 | S135: 1 | T135: CAT'S FASHION | U135: 2033 | V135: HYGIÈNE CHAT : BAC À LITIÈRE | W135: 474 | X135: =SUMIFS(Stocks!$E$2:$E$5455,Stocks!$D$2:$D$5455,Synthèse!X$1,Stocks!$A$2:$A$5455,Synthèse!$D$2:$D$442) -> 0 | Y135: =SUMIFS(Stocks!$E$2:$E$5455,Stocks!$D$2:$D$5455,Synthèse!Y$1,Stocks!$A$2:$A$5455,Synthèse!$D$2:$D$442) -> 1 | Z135: =SUMIFS(Stocks!$E$2:$E$5455,Stocks!$D$2:$D$5455,Synthèse!Z$1,Stocks!$A$2:$A$5455,Synthèse!$D$2:$D$442) -> 0 | AA135: =SUMIFS(Stocks!$E$2:$E$5455,Stocks!$D$2:$D$5455,Synthèse!AA$1,Stocks!$A$2:$A$5455,Synthèse!$D$2:$D$442) -> 0 | AB135: =SUMIFS(Stocks!$E$2:$E$5455,Stocks!$D$2:$D$5455,Synthèse!AB$1,Stocks!$A$2:$A$5455,Synthèse!$D$2:$D$442) -> 3 | AC135: =SUMIFS(Stocks!$E$2:$E$5455,Stocks!$D$2:$D$5455,Synthèse!AC$1,Stocks!$A$2:$A$5455,Synthèse!$D$2:$D$442) -> 0 | AD135: =SUMIFS(Stocks!$E$2:$E$5455,Stocks!$D$2:$D$5455,Synthèse!AD$1,Stocks!$A$2:$A$5455,Synthèse!$D$2:$D$442) -> 0 | AE135: =SUMIFS(Stocks!$E$2:$E$5455,Stocks!$D$2:$D$5455,Synthèse!AE$1,Stocks!$A$2:$A$5455,Synthèse!$D$2:$D$442) -> 3 | ... CF135: =SUMIFS(Stocks!$E$2:$E$5455,Stocks!$D$2:$D$5455,Synthèse!CF$1,Stocks!$A$2:$A$5455,Synthèse!$D$2:$D$442) -> 0
A136: 1667 | B136: COMPAGNIE DES PET FOODS | C136: 140 | D136: 562053 | E136: MAISON TOILETTE CATS IN LOVE | F136: B | G136: 5412087010721 | H136: S97394CL | I136: PCE | J136: 6 | K136: 0.2 | L136: EUR | M136: 15.46 | N136: 15.46 | O136: 0 | P136: 43154 | Q136: 43465 | R136: 0.2 | S136: 1 | T136: CAT'S FASHION | U136: 2033 | V136: HYGIÈNE CHAT : BAC À LITIÈRE | W136: 474 | X136: =SUMIFS(Stocks!$E$2:$E$5455,Stocks!$D$2:$D$5455,Synthèse!X$1,Stocks!$A$2:$A$5455,Synthèse!$D$2:$D$442) -> 12 | Y136: =SUMIFS(Stocks!$E$2:$E$5455,Stocks!$D$2:$D$5455,Synthèse!Y$1,Stocks!$A$2:$A$5455,Synthèse!$D$2:$D$442) -> 7 | Z136: =SUMIFS(Stocks!$E$2:$E$5455,Stocks!$D$2:$D$5455,Synthèse!Z$1,Stocks!$A$2:$A$5455,Synthèse!$D$2:$D$442) -> 3 | AA136: =SUMIFS(Stocks!$E$2:$E$5455,Stocks!$D$2:$D$5455,Synthèse!AA$1,Stocks!$A$2:$A$5455,Synthèse!$D$2:$D$442) -> 0 | AB136: =SUMIFS(Stocks!$E$2:$E$5455,Stocks!$D$2:$D$5455,Synthèse!AB$1,Stocks!$A$2:$A$5455,Synthèse!$D$2:$D$442) -> 3 | AC136: =SUMIFS(Stocks!$E$2:$E$5455,Stocks!$D$2:$D$5455,Synthèse!AC$1,Stocks!$A$2:$A$5455,Synthèse!$D$2:$D$442) -> 0 | AD136: =SUMIFS(Stocks!$E$2:$E$5455,Stocks!$D$2:$D$5455,Synthèse!AD$1,Stocks!$A$2:$A$5455,Synthèse!$D$2:$D$442) -> 0 | AE136: =SUMIFS(Stocks!$E$2:$E$5455,Stocks!$D$2:$D$5455,Synthèse!AE$1,Stocks!$A$2:$A$5455,Synthèse!$D$2:$D$442) -> 0 | ... CF136: =SUMIFS(Stocks!$E$2:$E$5455,Stocks!$D$2:$D$5455,Synthèse!CF$1,Stocks!$A$2:$A$5455,Synthèse!$D$2:$D$442) -> 0
A137: 1667 | B137: COMPAGNIE DES PET FOODS | C137: 108 | D137: 562054 | E137: PANIER VOYAGE CATS IN LOVE | F137: B | G137: 5412087011636 | H137: S97415CL | I137: PCE | J137: 6 | K137: 0.2 | L137: EUR | M137: 11.42 | N137: 11.42 | O137: 0 | P137: 43154 | Q137: 43465 | R137: 0.2 | S137: 1 | T137: CAT'S FASHION | U137: 2021 | V137: TRANSPORT DE L'ANIMAL : PANIER | W137: 474 | X137: =SUMIFS(Stocks!$E$2:$E$5455,Stocks!$D$2:$D$5455,Synthèse!X$1,Stocks!$A$2:$A$5455,Synthèse!$D$2:$D$442) -> 0 | Y137: =SUMIFS(Stocks!$E$2:$E$5455,Stocks!$D$2:$D$5455,Synthèse!Y$1,Stocks!$A$2:$A$5455,Synthèse!$D$2:$D$442) -> 2 | Z137: =SUMIFS(Stocks!$E$2:$E$5455,Stocks!$D$2:$D$5455,Synthèse!Z$1,Stocks!$A$2:$A$5455,Synthèse!$D$2:$D$442) -> 0 | AA137: =SUMIFS(Stocks!$E$2:$E$5455,Stocks!$D$2:$D$5455,Synthèse!AA$1,Stocks!$A$2:$A$5455,Synthèse!$D$2:$D$442) -> 0 | AB137: =SUMIFS(Stocks!$E$2:$E$5455,Stocks!$D$2:$D$5455,Synthèse!AB$1,Stocks!$A$2:$A$5455,Synthèse!$D$2:$D$442) -> 0 | AC137: =SUMIFS(Stocks!$E$2:$E$5455,Stocks!$D$2:$D$5455,Synthèse!AC$1,Stocks!$A$2:$A$5455,Synthèse!$D$2:$D$442) -> 0 | AD137: =SUMIFS(Stocks!$E$2:$E$5455,Stocks!$D$2:$D$5455,Synthèse!AD$1,Stocks!$A$2:$A$5455,Synthèse!$D$2:$D$442) -> 0 | AE137: =SUMIFS(Stocks!$E$2:$E$5455,Stocks!$D$2:$D$5455,Synthèse!AE$1,Stocks!$A$2:$A$5455,Synthèse!$D$2:$D$442) -> 7 | ... CF137: =SUMIFS(Stocks!$E$2:$E$5455,Stocks!$D$2:$D$5455,Synthèse!CF$1,Stocks!$A$2:$A$5455,Synthèse!$D$2:$D$442) -> 0
... A144: 1667 | B144: COMPAGNIE DES PET FOODS | C144: 132 | D144: 573788 | E144: DISTRIBUTEUR CATS IN LOVE 1.5L | F144: B | G144: 5412087012343 | H144: S97394CLD | I144: PCE | J144: 6 | K144: 0.2 | L144: EUR | M144: 4.98 | N144: 4.98 | O144: 0 | P144: 43154 | Q144: 43465 | R144: 0.2 | S144: 1 | T144: COMPAGNIE DES PET FOODS | U144: 248 | V144: DISTRIBUTEUR A CROQUETTE | W144: 474 | X144: =SUMIFS(Stocks!$E$2:$E$5455,Stocks!$D$2:$D$5455,Synthèse!X$1,Stocks!$A$2:$A$5455,Synthèse!$D$2:$D$442) -> 10 | Y144: =SUMIFS(Stocks!$E$2:$E$5455,Stocks!$D$2:$D$5455,Synthèse!Y$1,Stocks!$A$2:$A$5455,Synthèse!$D$2:$D$442) -> 12 | Z144: =SUMIFS(Stocks!$E$2:$E$5455,Stocks!$D$2:$D$5455,Synthèse!Z$1,Stocks!$A$2:$A$5455,Synthèse!$D$2:$D$442) -> 4 | AA144: =SUMIFS(Stocks!$E$2:$E$5455,Stocks!$D$2:$D$5455,Synthèse!AA$1,Stocks!$A$2:$A$5455,Synthèse!$D$2:$D$442) -> 0 | AB144: =SUMIFS(Stocks!$E$2:$E$5455,Stocks!$D$2:$D$5455,Synthèse!AB$1,Stocks!$A$2:$A$5455,Synthèse!$D$2:$D$442) -> 0 | AC144: =SUMIFS(Stocks!$E$2:$E$5455,Stocks!$D$2:$D$5455,Synthèse!AC$1,Stocks!$A$2:$A$5455,Synthèse!$D$2:$D$442) -> 0 | AD144: =SUMIFS(Stocks!$E$2:$E$5455,Stocks!$D$2:$D$5455,Synthèse!AD$1,Stocks!$A$2:$A$5455,Synthèse!$D$2:$D$442) -> 0 | AE144: =SUMIFS(Stocks!$E$2:$E$5455,Stocks!$D$2:$D$5455,Synthèse!AE$1,Stocks!$A$2:$A$5455,Synthèse!$D$2:$D$442) -> 0 | ... CF144: =SUMIFS(Stocks!$E$2:$E$5455,Stocks!$D$2:$D$5455,Synthèse!CF$1,Stocks!$A$2:$A$5455,Synthèse!$D$2:$D$442) -> 0
A145: 1667 | B145: COMPAGNIE DES PET FOODS | C145: 73 | D145: 575624 | E145: VERS FARINE+CREVETT POULE 135G | F145: B | G145: 3575070019162 | H145: 22731 | I145: PCE | J145: 1 | K145: 0.2 | L145: EUR | M145: 2.95 | N145: 2.95 | O145: 0 | P145: 43101 | Q145: 43465 | R145: 0.2 | S145: 1 | T145: COMPAGNIE DES PET FOODS | U145: 59 | V145: ALIMENTATION OISEAUX | W145: 474 | X145: =SUMIFS(Stocks!$E$2:$E$5455,Stocks!$D$2:$D$5455,Synthèse!X$1,Stocks!$A$2:$A$5455,Synthèse!$D$2:$D$442) -> 4 | Y145: =SUMIFS(Stocks!$E$2:$E$5455,Stocks!$D$2:$D$5455,Synthèse!Y$1,Stocks!$A$2:$A$5455,Synthèse!$D$2:$D$442) -> 7 | Z145: =SUMIFS(Stocks!$E$2:$E$5455,Stocks!$D$2:$D$5455,Synthèse!Z$1,Stocks!$A$2:$A$5455,Synthèse!$D$2:$D$442) -> 7 | AA145: =SUMIFS(Stocks!$E$2:$E$5455,Stocks!$D$2:$D$5455,Synthèse!AA$1,Stocks!$A$2:$A$5455,Synthèse!$D$2:$D$442) -> 0 | AB145: =SUMIFS(Stocks!$E$2:$E$5455,Stocks!$D$2:$D$5455,Synthèse!AB$1,Stocks!$A$2:$A$5455,Synthèse!$D$2:$D$442) -> 0 | AC145: =SUMIFS(Stocks!$E$2:$E$5455,Stocks!$D$2:$D$5455,Synthèse!AC$1,Stocks!$A$2:$A$5455,Synthèse!$D$2:$D$442) -> 0 | AD145: =SUMIFS(Stocks!$E$2:$E$5455,Stocks!$D$2:$D$5455,Synthèse!AD$1,Stocks!$A$2:$A$5455,Synthèse!$D$2:$D$442) -> 0 | AE145: =SUMIFS(Stocks!$E$2:$E$5455,Stocks!$D$2:$D$5455,Synthèse!AE$1,Stocks!$A$2:$A$5455,Synthèse!$D$2:$D$442) -> 3 | ... CF145: =SUMIFS(Stocks!$E$2:$E$5455,Stocks!$D$2:$D$5455,Synthèse!CF$1,Stocks!$A$2:$A$5455,Synthèse!$D$2:$D$442) -> 0
A146: 1667 | B146: COMPAGNIE DES PET FOODS | C146: 73 | D146: 575625 | E146: VERS FARIN+FTS RGES POULE 200G | F146: B | G146: 3575070019247 | H146: 22733 | I146: PCE | J146: 1 | K146: 0.2 | L146: EUR | M146: 3.33 | N146: 3.33 | O146: 0 | P146: 43101 | Q146: 43465 | R146: 0.2 | S146: 1 | T146: COMPAGNIE DES PET FOODS | U146: 59 | V146: ALIMENTATION OISEAUX | W146: 474 | X146: =SUMIFS(Stocks!$E$2:$E$5455,Stocks!$D$2:$D$5455,Synthèse!X$1,Stocks!$A$2:$A$5455,Synthèse!$D$2:$D$442) -> 1 | Y146: =SUMIFS(Stocks!$E$2:$E$5455,Stocks!$D$2:$D$5455,Synthèse!Y$1,Stocks!$A$2:$A$5455,Synthèse!$D$2:$D$442) -> 6 | Z146: =SUMIFS(Stocks!$E$2:$E$5455,Stocks!$D$2:$D$5455,Synthèse!Z$1,Stocks!$A$2:$A$5455,Synthèse!$D$2:$D$442) -> 5 | AA146: =SUMIFS(Stocks!$E$2:$E$5455,Stocks!$D$2:$D$5455,Synthèse!AA$1,Stocks!$A$2:$A$5455,Synthèse!$D$2:$D$442) -> 0 | AB146: =SUMIFS(Stocks!$E$2:$E$5455,Stocks!$D$2:$D$5455,Synthèse!AB$1,Stocks!$A$2:$A$5455,Synthèse!$D$2:$D$442) -> 0 | AC146: =SUMIFS(Stocks!$E$2:$E$5455,Stocks!$D$2:$D$5455,Synthèse!AC$1,Stocks!$A$2:$A$5455,Synthèse!$D$2:$D$442) -> 0 | AD146: =SUMIFS(Stocks!$E$2:$E$5455,Stocks!$D$2:$D$5455,Synthèse!AD$1,Stocks!$A$2:$A$5455,Synthèse!$D$2:$D$442) -> 0 | AE146: =SUMIFS(Stocks!$E$2:$E$5455,Stocks!$D$2:$D$5455,Synthèse!AE$1,Stocks!$A$2:$A$5455,Synthèse!$D$2:$D$442) -> 12 | ... CF146: =SUMIFS(Stocks!$E$2:$E$5455,Stocks!$D$2:$D$5455,Synthèse!CF$1,Stocks!$A$2:$A$5455,Synthèse!$D$2:$D$442) -> 0
A147: 1667 | B147: COMPAGNIE DES PET FOODS | C147: 62 | D147: 575626 | E147: HARNAIS+LAISSE FUR/COCH D INDE | F147: A | G147: 3575070018479 | H147: GRB0015 | I147: PCE | J147: 3 | K147: 0.2 | L147: EUR | M147: 2.69 | N147: 2.69 | O147: 0 | P147: 43101 | Q147: 43465 | R147: 0.2 | S147: 1 | T147: RONGIS | U147: 74 | V147: SELLERIE DE L'ANIMAL : HARNAI | W147: 474 | X147: =SUMIFS(Stocks!$E$2:$E$5455,Stocks!$D$2:$D$5455,Synthèse!X$1,Stocks!$A$2:$A$5455,Synthèse!$D$2:$D$442) -> 3 | Y147: =SUMIFS(Stocks!$E$2:$E$5455,Stocks!$D$2:$D$5455,Synthèse!Y$1,Stocks!$A$2:$A$5455,Synthèse!$D$2:$D$442) -> 5 | Z147: =SUMIFS(Stocks!$E$2:$E$5455,Stocks!$D$2:$D$5455,Synthèse!Z$1,Stocks!$A$2:$A$5455,Synthèse!$D$2:$D$442) -> 5 | AA147: =SUMIFS(Stocks!$E$2:$E$5455,Stocks!$D$2:$D$5455,Synthèse!AA$1,Stocks!$A$2:$A$5455,Synthèse!$D$2:$D$442) -> 8 | AB147: =SUMIFS(Stocks!$E$2:$E$5455,Stocks!$D$2:$D$5455,Synthèse!AB$1,Stocks!$A$2:$A$5455,Synthèse!$D$2:$D$442) -> 2 | AC147: =SUMIFS(Stocks!$E$2:$E$5455,Stocks!$D$2:$D$5455,Synthèse!AC$1,Stocks!$A$2:$A$5455,Synthèse!$D$2:$D$442) -> 0 | AD147: =SUMIFS(Stocks!$E$2:$E$5455,Stocks!$D$2:$D$5455,Synthèse!AD$1,Stocks!$A$2:$A$5455,Synthèse!$D$2:$D$442) -> 0 | AE147: =SUMIFS(Stocks!$E$2:$E$5455,Stocks!$D$2:$D$5455,Synthèse!AE$1,Stocks!$A$2:$A$5455,Synthèse!$D$2:$D$442) -> 2 | ... CF147: =SUMIFS(Stocks!$E$2:$E$5455,Stocks!$D$2:$D$5455,Synthèse!CF$1,Stocks!$A$2:$A$5455,Synthèse!$D$2:$D$442) -> 0
A148: 1667 | B148: COMPAGNIE DES PET FOODS | C148: 62 | D148: 575627 | E148: HARNAI+LAISSE LAPIN/CHINCHILLA | F148: A | G148: 3575070018486 | H148: GRB0016 | I148: PCE | J148: 3 | K148: 0.2 | L148: EUR | M148: 3.12 | N148: 3.12 | O148: 0 | P148: 43101 | Q148: 43465 | R148: 0.2 | S148: 1 | T148: RONGIS | U148: 74 | V148: SELLERIE DE L'ANIMAL : HARNAI | W148: 474 | X148: =SUMIFS(Stocks!$E$2:$E$5455,Stocks!$D$2:$D$5455,Synthèse!X$1,Stocks!$A$2:$A$5455,Synthèse!$D$2:$D$442) -> 3 | Y148: =SUMIFS(Stocks!$E$2:$E$5455,Stocks!$D$2:$D$5455,Synthèse!Y$1,Stocks!$A$2:$A$5455,Synthèse!$D$2:$D$442) -> 4 | Z148: =SUMIFS(Stocks!$E$2:$E$5455,Stocks!$D$2:$D$5455,Synthèse!Z$1,Stocks!$A$2:$A$5455,Synthèse!$D$2:$D$442) -> 0 | AA148: =SUMIFS(Stocks!$E$2:$E$5455,Stocks!$D$2:$D$5455,Synthèse!AA$1,Stocks!$A$2:$A$5455,Synthèse!$D$2:$D$442) -> 5 | AB148: =SUMIFS(Stocks!$E$2:$E$5455,Stocks!$D$2:$D$5455,Synthèse!AB$1,Stocks!$A$2:$A$5455,Synthèse!$D$2:$D$442) -> 2 | AC148: =SUMIFS(Stocks!$E$2:$E$5455,Stocks!$D$2:$D$5455,Synthèse!AC$1,Stocks!$A$2:$A$5455,Synthèse!$D$2:$D$442) -> 0 | AD148: =SUMIFS(Stocks!$E$2:$E$5455,Stocks!$D$2:$D$5455,Synthèse!AD$1,Stocks!$A$2:$A$5455,Synthèse!$D$2:$D$442) -> 0 | AE148: =SUMIFS(Stocks!$E$2:$E$5455,Stocks!$D$2:$D$5455,Synthèse!AE$1,Stocks!$A$2:$A$5455,Synthèse!$D$2:$D$442) -> 4 | ... CF148: =SUMIFS(Stocks!$E$2:$E$5455,Stocks!$D$2:$D$5455,Synthèse!CF$1,Stocks!$A$2:$A$5455,Synthèse!$D$2:$D$442) -> 0
A149: 1667 | B149: COMPAGNIE DES PET FOODS | C149: 62 | D149: 575628 | E149: HARNAIS + LAISSE LAPIN NAIN | F149: A | G149: 3575070018493 | H149: GRB0017 | I149: PCE | J149: 3 | K149: 0.2 | L149: EUR | M149: 3.57 | N149: 3.57 | O149: 0 | P149: 43101 | Q149: 43465 | R149: 0.2 | S149: 1 | T149: RONGIS | U149: 74 | V149: SELLERIE DE L'ANIMAL : HARNAI | W149: 474 | X149: =SUMIFS(Stocks!$E$2:$E$5455,Stocks!$D$2:$D$5455,Synthèse!X$1,Stocks!$A$2:$A$5455,Synthèse!$D$2:$D$442) -> 4 | Y149: =SUMIFS(Stocks!$E$2:$E$5455,Stocks!$D$2:$D$5455,Synthèse!Y$1,Stocks!$A$2:$A$5455,Synthèse!$D$2:$D$442) -> 7 | Z149: =SUMIFS(Stocks!$E$2:$E$5455,Stocks!$D$2:$D$5455,Synthèse!Z$1,Stocks!$A$2:$A$5455,Synthèse!$D$2:$D$442) -> 4 | AA149: =SUMIFS(Stocks!$E$2:$E$5455,Stocks!$D$2:$D$5455,Synthèse!AA$1,Stocks!$A$2:$A$5455,Synthèse!$D$2:$D$442) -> 6 | AB149: =SUMIFS(Stocks!$E$2:$E$5455,Stocks!$D$2:$D$5455,Synthèse!AB$1,Stocks!$A$2:$A$5455,Synthèse!$D$2:$D$442) -> 0 | AC149: =SUMIFS(Stocks!$E$2:$E$5455,Stocks!$D$2:$D$5455,Synthèse!AC$1,Stocks!$A$2:$A$5455,Synthèse!$D$2:$D$442) -> 0 | AD149: =SUMIFS(Stocks!$E$2:$E$5455,Stocks!$D$2:$D$5455,Synthèse!AD$1,Stocks!$A$2:$A$5455,Synthèse!$D$2:$D$442) -> 0 | AE149: =SUMIFS(Stocks!$E$2:$E$5455,Stocks!$D$2:$D$5455,Synthèse!AE$1,Stocks!$A$2:$A$5455,Synthèse!$D$2:$D$442) -> 4 | ... CF149: =SUMIFS(Stocks!$E$2:$E$5455,Stocks!$D$2:$D$5455,Synthèse!CF$1,Stocks!$A$2:$A$5455,Synthèse!$D$2:$D$442) -> 0
A150: 1667 | B150: COMPAGNIE DES PET FOODS | C150: 62 | D150: 575629 | E150: ROUE METAL PM | F150: A | G150: 3575070019469 | H150: GRB0018 | I150: PCE | J150: 4 | K150: 0.2 | L150: EUR | M150: 3.25 | N150: 3.25 | O150: 0 | P150: 43101 | Q150: 43465 | R150: 0.2 | S150: 1 | T150: RONGIS | U150: 198 | V150: JOUET ANIMAL : ROUE | W150: 474 | X150: =SUMIFS(Stocks!$E$2:$E$5455,Stocks!$D$2:$D$5455,Synthèse!X$1,Stocks!$A$2:$A$5455,Synthèse!$D$2:$D$442) -> 4 | Y150: =SUMIFS(Stocks!$E$2:$E$5455,Stocks!$D$2:$D$5455,Synthèse!Y$1,Stocks!$A$2:$A$5455,Synthèse!$D$2:$D$442) -> 3 | Z150: =SUMIFS(Stocks!$E$2:$E$5455,Stocks!$D$2:$D$5455,Synthèse!Z$1,Stocks!$A$2:$A$5455,Synthèse!$D$2:$D$442) -> 3 | AA150: =SUMIFS(Stocks!$E$2:$E$5455,Stocks!$D$2:$D$5455,Synthèse!AA$1,Stocks!$A$2:$A$5455,Synthèse!$D$2:$D$442) -> 1 | AB150: =SUMIFS(Stocks!$E$2:$E$5455,Stocks!$D$2:$D$5455,Synthèse!AB$1,Stocks!$A$2:$A$5455,Synthèse!$D$2:$D$442) -> 0 | AC150: =SUMIFS(Stocks!$E$2:$E$5455,Stocks!$D$2:$D$5455,Synthèse!AC$1,Stocks!$A$2:$A$5455,Synthèse!$D$2:$D$442) -> 0 | AD150: =SUMIFS(Stocks!$E$2:$E$5455,Stocks!$D$2:$D$5455,Synthèse!AD$1,Stocks!$A$2:$A$5455,Synthèse!$D$2:$D$442) -> 0 | AE150: =SUMIFS(Stocks!$E$2:$E$5455,Stocks!$D$2:$D$5455,Synthèse!AE$1,Stocks!$A$2:$A$5455,Synthèse!$D$2:$D$442) -> 5 | ... CF150: =SUMIFS(Stocks!$E$2:$E$5455,Stocks!$D$2:$D$5455,Synthèse!CF$1,Stocks!$A$2:$A$5455,Synthèse!$D$2:$D$442) -> 0
A151: 1667 | B151: COMPAGNIE DES PET FOODS | C151: 62 | D151: 575630 | E151: ROUE METAL MM | F151: A | G151: 3575070019476 | H151: GRB0019 | I151: PCE | J151: 4 | K151: 0.2 | L151: EUR | M151: 4.62 | N151: 4.62 | O151: 0 | P151: 43101 | Q151: 43465 | R151: 0.2 | S151: 1 | T151: RONGIS | U151: 198 | V151: JOUET ANIMAL : ROUE | W151: 474 | X151: =SUMIFS(Stocks!$E$2:$E$5455,Stocks!$D$2:$D$5455,Synthèse!X$1,Stocks!$A$2:$A$5455,Synthèse!$D$2:$D$442) -> 5 | Y151: =SUMIFS(Stocks!$E$2:$E$5455,Stocks!$D$2:$D$5455,Synthèse!Y$1,Stocks!$A$2:$A$5455,Synthèse!$D$2:$D$442) -> 5 | Z151: =SUMIFS(Stocks!$E$2:$E$5455,Stocks!$D$2:$D$5455,Synthèse!Z$1,Stocks!$A$2:$A$5455,Synthèse!$D$2:$D$442) -> 7 | AA151: =SUMIFS(Stocks!$E$2:$E$5455,Stocks!$D$2:$D$5455,Synthèse!AA$1,Stocks!$A$2:$A$5455,Synthèse!$D$2:$D$442) -> 1 | AB151: =SUMIFS(Stocks!$E$2:$E$5455,Stocks!$D$2:$D$5455,Synthèse!AB$1,Stocks!$A$2:$A$5455,Synthèse!$D$2:$D$442) -> 4 | AC151: =SUMIFS(Stocks!$E$2:$E$5455,Stocks!$D$2:$D$5455,Synthèse!AC$1,Stocks!$A$2:$A$5455,Synthèse!$D$2:$D$442) -> 0 | AD151: =SUMIFS(Stocks!$E$2:$E$5455,Stocks!$D$2:$D$5455,Synthèse!AD$1,Stocks!$A$2:$A$5455,Synthèse!$D$2:$D$442) -> 0 | AE151: =SUMIFS(Stocks!$E$2:$E$5455,Stocks!$D$2:$D$5455,Synthèse!AE$1,Stocks!$A$2:$A$5455,Synthèse!$D$2:$D$442) -> 5 | ... CF151: =SUMIFS(Stocks!$E$2:$E$5455,Stocks!$D$2:$D$5455,Synthèse!CF$1,Stocks!$A$2:$A$5455,Synthèse!$D$2:$D$442) -> 0
A152: 1667 | B152: COMPAGNIE DES PET FOODS | C152: 138 | D152: 599891 | E152: MAISON TOILETTE ANGLE CORAIL | F152: A | G152: 5412087013661 | H152: S97418 | I152: PCE | J152: 3 | K152: 0.2 | L152: EUR | M152: 11.03 | N152: 11.03 | O152: 0 | P152: 43154 | Q152: 43465 | R152: 0.2 | S152: 1 | T152: CAT'S FASHION | U152: 1992 | V152: HYGIÈNE CHAT : CONTENANTS ET A | W152: 474 | X152: =SUMIFS(Stocks!$E$2:$E$5455,Stocks!$D$2:$D$5455,Synthèse!X$1,Stocks!$A$2:$A$5455,Synthèse!$D$2:$D$442) -> 0 | Y152: =SUMIFS(Stocks!$E$2:$E$5455,Stocks!$D$2:$D$5455,Synthèse!Y$1,Stocks!$A$2:$A$5455,Synthèse!$D$2:$D$442) -> 2 | Z152: =SUMIFS(Stocks!$E$2:$E$5455,Stocks!$D$2:$D$5455,Synthèse!Z$1,Stocks!$A$2:$A$5455,Synthèse!$D$2:$D$442) -> 1 | AA152: =SUMIFS(Stocks!$E$2:$E$5455,Stocks!$D$2:$D$5455,Synthèse!AA$1,Stocks!$A$2:$A$5455,Synthèse!$D$2:$D$442) -> 2 | AB152: =SUMIFS(Stocks!$E$2:$E$5455,Stocks!$D$2:$D$5455,Synthèse!AB$1,Stocks!$A$2:$A$5455,Synthèse!$D$2:$D$442) -> 5 | AC152: =SUMIFS(Stocks!$E$2:$E$5455,Stocks!$D$2:$D$5455,Synthèse!AC$1,Stocks!$A$2:$A$5455,Synthèse!$D$2:$D$442) -> 0 | AD152: =SUMIFS(Stocks!$E$2:$E$5455,Stocks!$D$2:$D$5455,Synthèse!AD$1,Stocks!$A$2:$A$5455,Synthèse!$D$2:$D$442) -> 0 | AE152: =SUMIFS(Stocks!$E$2:$E$5455,Stocks!$D$2:$D$5455,Synthèse!AE$1,Stocks!$A$2:$A$5455,Synthèse!$D$2:$D$442) -> 0 | ... CF152: =SUMIFS(Stocks!$E$2:$E$5455,Stocks!$D$2:$D$5455,Synthèse!CF$1,Stocks!$A$2:$A$5455,Synthèse!$D$2:$D$442) -> 0
A153: 1667 | B153: COMPAGNIE DES PET FOODS | C153: 138 | D153: 599892 | E153: MAISON TOILETTE ANGLE GRIS | F153: A | G153: 5412087009633 | H153: S97420 | I153: PCE | J153: 3 | K153: 0.2 | L153: EUR | M153: 11.03 | N153: 11.03 | O153: 0 | P153: 43154 | Q153: 43465 | R153: 0.2 | S153: 1 | T153: CAT'S FASHION | U153: 1992 | V153: HYGIÈNE CHAT : CONTENANTS ET A | W153: 474 | X153: =SUMIFS(Stocks!$E$2:$E$5455,Stocks!$D$2:$D$5455,Synthèse!X$1,Stocks!$A$2:$A$5455,Synthèse!$D$2:$D$442) -> 9 | Y153: =SUMIFS(Stocks!$E$2:$E$5455,Stocks!$D$2:$D$5455,Synthèse!Y$1,Stocks!$A$2:$A$5455,Synthèse!$D$2:$D$442) -> 1 | Z153: =SUMIFS(Stocks!$E$2:$E$5455,Stocks!$D$2:$D$5455,Synthèse!Z$1,Stocks!$A$2:$A$5455,Synthèse!$D$2:$D$442) -> 0 | AA153: =SUMIFS(Stocks!$E$2:$E$5455,Stocks!$D$2:$D$5455,Synthèse!AA$1,Stocks!$A$2:$A$5455,Synthèse!$D$2:$D$442) -> 0 | AB153: =SUMIFS(Stocks!$E$2:$E$5455,Stocks!$D$2:$D$5455,Synthèse!AB$1,Stocks!$A$2:$A$5455,Synthèse!$D$2:$D$442) -> 0 | AC153: =SUMIFS(Stocks!$E$2:$E$5455,Stocks!$D$2:$D$5455,Synthèse!AC$1,Stocks!$A$2:$A$5455,Synthèse!$D$2:$D$442) -> 0 | AD153: =SUMIFS(Stocks!$E$2:$E$5455,Stocks!$D$2:$D$5455,Synthèse!AD$1,Stocks!$A$2:$A$5455,Synthèse!$D$2:$D$442) -> 0 | AE153: =SUMIFS(Stocks!$E$2:$E$5455,Stocks!$D$2:$D$5455,Synthèse!AE$1,Stocks!$A$2:$A$5455,Synthèse!$D$2:$D$442) -> 0 | ... CF153: =SUMIFS(Stocks!$E$2:$E$5455,Stocks!$D$2:$D$5455,Synthèse!CF$1,Stocks!$A$2:$A$5455,Synthèse!$D$2:$D$442) -> 0
A154: 1667 | B154: COMPAGNIE DES PET FOODS | C154: 139 | D154: 600600 | E154: SOURIS TELECOMMANDEE | F154: A | G154: 3575070019971 | H154: J2963 | I154: PCE | J154: 24 | K154: 0.2 | L154: EUR | M154: 5.78 | N154: 5.78 | O154: 0 | P154: 43154 | Q154: 43465 | R154: 0.2 | S154: 1 | T154: ANKA | U154: 196 | V154: JOUET ANIMAL : FORME | W154: 474 | X154: =SUMIFS(Stocks!$E$2:$E$5455,Stocks!$D$2:$D$5455,Synthèse!X$1,Stocks!$A$2:$A$5455,Synthèse!$D$2:$D$442) -> 0 | Y154: =SUMIFS(Stocks!$E$2:$E$5455,Stocks!$D$2:$D$5455,Synthèse!Y$1,Stocks!$A$2:$A$5455,Synthèse!$D$2:$D$442) -> 0 | Z154: =SUMIFS(Stocks!$E$2:$E$5455,Stocks!$D$2:$D$5455,Synthèse!Z$1,Stocks!$A$2:$A$5455,Synthèse!$D$2:$D$442) -> 0 | AA154: =SUMIFS(Stocks!$E$2:$E$5455,Stocks!$D$2:$D$5455,Synthèse!AA$1,Stocks!$A$2:$A$5455,Synthèse!$D$2:$D$442) -> 0 | AB154: =SUMIFS(Stocks!$E$2:$E$5455,Stocks!$D$2:$D$5455,Synthèse!AB$1,Stocks!$A$2:$A$5455,Synthèse!$D$2:$D$442) -> 19 | AC154: =SUMIFS(Stocks!$E$2:$E$5455,Stocks!$D$2:$D$5455,Synthèse!AC$1,Stocks!$A$2:$A$5455,Synthèse!$D$2:$D$442) -> 0 | AD154: =SUMIFS(Stocks!$E$2:$E$5455,Stocks!$D$2:$D$5455,Synthèse!AD$1,Stocks!$A$2:$A$5455,Synthèse!$D$2:$D$442) -> 0 | AE154: =SUMIFS(Stocks!$E$2:$E$5455,Stocks!$D$2:$D$5455,Synthèse!AE$1,Stocks!$A$2:$A$5455,Synthèse!$D$2:$D$442) -> 20 | ... CF154: =SUMIFS(Stocks!$E$2:$E$5455,Stocks!$D$2:$D$5455,Synthèse!CF$1,Stocks!$A$2:$A$5455,Synthèse!$D$2:$D$442) -> 21
A155: 1667 | B155: COMPAGNIE DES PET FOODS | C155: 73 | D155: 611583 | E155: HYGIENE DE SOL 2 KG VOLAILLES | F155: A | G155: 3575070019490 | H155: S9600 | I155: PCE | J155: 1 | K155: 0.2 | L155: EUR | M155: 6.4 | N155: 6.4 | O155: 0 | P155: 43101 | Q155: 43465 | R155: 0.2 | S155: 1 | T155: HUTLAND | U155: 1953 | V155: ENVIRONNEMENT OISEAU : DÉSINFE | W155: 475 | X155: =SUMIFS(Stocks!$E$2:$E$5455,Stocks!$D$2:$D$5455,Synthèse!X$1,Stocks!$A$2:$A$5455,Synthèse!$D$2:$D$442) -> 0 | Y155: =SUMIFS(Stocks!$E$2:$E$5455,Stocks!$D$2:$D$5455,Synthèse!Y$1,Stocks!$A$2:$A$5455,Synthèse!$D$2:$D$442) -> 0 | Z155: =SUMIFS(Stocks!$E$2:$E$5455,Stocks!$D$2:$D$5455,Synthèse!Z$1,Stocks!$A$2:$A$5455,Synthèse!$D$2:$D$442) -> 3 | AA155: =SUMIFS(Stocks!$E$2:$E$5455,Stocks!$D$2:$D$5455,Synthèse!AA$1,Stocks!$A$2:$A$5455,Synthèse!$D$2:$D$442) -> 0 | AB155: =SUMIFS(Stocks!$E$2:$E$5455,Stocks!$D$2:$D$5455,Synthèse!AB$1,Stocks!$A$2:$A$5455,Synthèse!$D$2:$D$442) -> 0 | AC155: =SUMIFS(Stocks!$E$2:$E$5455,Stocks!$D$2:$D$5455,Synthèse!AC$1,Stocks!$A$2:$A$5455,Synthèse!$D$2:$D$442) -> 0 | AD155: =SUMIFS(Stocks!$E$2:$E$5455,Stocks!$D$2:$D$5455,Synthèse!AD$1,Stocks!$A$2:$A$5455,Synthèse!$D$2:$D$442) -> 0 | AE155: =SUMIFS(Stocks!$E$2:$E$5455,Stocks!$D$2:$D$5455,Synthèse!AE$1,Stocks!$A$2:$A$5455,Synthèse!$D$2:$D$442) -> 4 | ... CF155: =SUMIFS(Stocks!$E$2:$E$5455,Stocks!$D$2:$D$5455,Synthèse!CF$1,Stocks!$A$2:$A$5455,Synthèse!$D$2:$D$442) -> 4
A156: 1667 | B156: COMPAGNIE DES PET FOODS | C156: 83 | D156: 611584 | E156: FILET POUR POULES 12 METRES | F156: A | G156: 3575070019544 | H156: S3001 | I156: PCE | J156: 1 | K156: 0.2 | L156: EUR | M156: 52.92 | N156: 52.92 | O156: 0 | P156: 43101 | Q156: 43465 | R156: 0.2 | S156: 1 | T156: HUTLAND | U156: 222 | V156: HABITAT DE L'ANIMAL : PARC | W156: 475 | X156: =SUMIFS(Stocks!$E$2:$E$5455,Stocks!$D$2:$D$5455,Synthèse!X$1,Stocks!$A$2:$A$5455,Synthèse!$D$2:$D$442) -> 4 | Y156: =SUMIFS(Stocks!$E$2:$E$5455,Stocks!$D$2:$D$5455,Synthèse!Y$1,Stocks!$A$2:$A$5455,Synthèse!$D$2:$D$442) -> 0 | Z156: =SUMIFS(Stocks!$E$2:$E$5455,Stocks!$D$2:$D$5455,Synthèse!Z$1,Stocks!$A$2:$A$5455,Synthèse!$D$2:$D$442) -> 0 | AA156: =SUMIFS(Stocks!$E$2:$E$5455,Stocks!$D$2:$D$5455,Synthèse!AA$1,Stocks!$A$2:$A$5455,Synthèse!$D$2:$D$442) -> 1 | AB156: =SUMIFS(Stocks!$E$2:$E$5455,Stocks!$D$2:$D$5455,Synthèse!AB$1,Stocks!$A$2:$A$5455,Synthèse!$D$2:$D$442) -> 0 | AC156: =SUMIFS(Stocks!$E$2:$E$5455,Stocks!$D$2:$D$5455,Synthèse!AC$1,Stocks!$A$2:$A$5455,Synthèse!$D$2:$D$442) -> 0 | AD156: =SUMIFS(Stocks!$E$2:$E$5455,Stocks!$D$2:$D$5455,Synthèse!AD$1,Stocks!$A$2:$A$5455,Synthèse!$D$2:$D$442) -> 0 | AE156: =SUMIFS(Stocks!$E$2:$E$5455,Stocks!$D$2:$D$5455,Synthèse!AE$1,Stocks!$A$2:$A$5455,Synthèse!$D$2:$D$442) -> 0 | ... CF156: =SUMIFS(Stocks!$E$2:$E$5455,Stocks!$D$2:$D$5455,Synthèse!CF$1,Stocks!$A$2:$A$5455,Synthèse!$D$2:$D$442) -> 0
A157: 1667 | B157: COMPAGNIE DES PET FOODS | C157: 453 | D157: 611585 | E157: FILET POUR POULES 21 METRES | F157: B | G157: 3575070019551 | H157: S3002 | I157: PCE | J157: 1 | K157: 0.2 | L157: EUR | M157: 76.91 | N157: 76.91 | O157: 0 | P157: 43101 | Q157: 43465 | R157: 0.2 | S157: 1 | T157: HUTLAND | U157: 222 | V157: HABITAT DE L'ANIMAL : PARC | W157: 475 | X157: =SUMIFS(Stocks!$E$2:$E$5455,Stocks!$D$2:$D$5455,Synthèse!X$1,Stocks!$A$2:$A$5455,Synthèse!$D$2:$D$442) -> 1 | Y157: =SUMIFS(Stocks!$E$2:$E$5455,Stocks!$D$2:$D$5455,Synthèse!Y$1,Stocks!$A$2:$A$5455,Synthèse!$D$2:$D$442) -> 0 | Z157: =SUMIFS(Stocks!$E$2:$E$5455,Stocks!$D$2:$D$5455,Synthèse!Z$1,Stocks!$A$2:$A$5455,Synthèse!$D$2:$D$442) -> 0 | AA157: =SUMIFS(Stocks!$E$2:$E$5455,Stocks!$D$2:$D$5455,Synthèse!AA$1,Stocks!$A$2:$A$5455,Synthèse!$D$2:$D$442) -> 0 | AB157: =SUMIFS(Stocks!$E$2:$E$5455,Stocks!$D$2:$D$5455,Synthèse!AB$1,Stocks!$A$2:$A$5455,Synthèse!$D$2:$D$442) -> 1 | AC157: =SUMIFS(Stocks!$E$2:$E$5455,Stocks!$D$2:$D$5455,Synthèse!AC$1,Stocks!$A$2:$A$5455,Synthèse!$D$2:$D$442) -> 0 | AD157: =SUMIFS(Stocks!$E$2:$E$5455,Stocks!$D$2:$D$5455,Synthèse!AD$1,Stocks!$A$2:$A$5455,Synthèse!$D$2:$D$442) -> 0 | AE157: =SUMIFS(Stocks!$E$2:$E$5455,Stocks!$D$2:$D$5455,Synthèse!AE$1,Stocks!$A$2:$A$5455,Synthèse!$D$2:$D$442) -> 0 | ... CF157: =SUMIFS(Stocks!$E$2:$E$5455,Stocks!$D$2:$D$5455,Synthèse!CF$1,Stocks!$A$2:$A$5455,Synthèse!$D$2:$D$442) -> 0
A158: 1667 | B158: COMPAGNIE DES PET FOODS | C158: 118 | D158: 620722 | E158: POULET CAOUT NYLON 14 CM GOUT | F158: A | G158: 3575070019728 | H158: J1319 | I158: PCE | J158: 6 | K158: 0.2 | L158: EUR | M158: 3.64 | N158: 3.64 | O158: 0 | P158: 43154 | Q158: 43465 | R158: 0.2 | S158: 1 | T158: ANKA | U158: 196 | V158: JOUET ANIMAL : FORME | W158: 474 | X158: =SUMIFS(Stocks!$E$2:$E$5455,Stocks!$D$2:$D$5455,Synthèse!X$1,Stocks!$A$2:$A$5455,Synthèse!$D$2:$D$442) -> 7 | Y158: =SUMIFS(Stocks!$E$2:$E$5455,Stocks!$D$2:$D$5455,Synthèse!Y$1,Stocks!$A$2:$A$5455,Synthèse!$D$2:$D$442) -> 2 | Z158: =SUMIFS(Stocks!$E$2:$E$5455,Stocks!$D$2:$D$5455,Synthèse!Z$1,Stocks!$A$2:$A$5455,Synthèse!$D$2:$D$442) -> 0 | AA158: =SUMIFS(Stocks!$E$2:$E$5455,Stocks!$D$2:$D$5455,Synthèse!AA$1,Stocks!$A$2:$A$5455,Synthèse!$D$2:$D$442) -> 2 | AB158: =SUMIFS(Stocks!$E$2:$E$5455,Stocks!$D$2:$D$5455,Synthèse!AB$1,Stocks!$A$2:$A$5455,Synthèse!$D$2:$D$442) -> 0 | AC158: =SUMIFS(Stocks!$E$2:$E$5455,Stocks!$D$2:$D$5455,Synthèse!AC$1,Stocks!$A$2:$A$5455,Synthèse!$D$2:$D$442) -> 0 | AD158: =SUMIFS(Stocks!$E$2:$E$5455,Stocks!$D$2:$D$5455,Synthèse!AD$1,Stocks!$A$2:$A$5455,Synthèse!$D$2:$D$442) -> 0 | AE158: =SUMIFS(Stocks!$E$2:$E$5455,Stocks!$D$2:$D$5455,Synthèse!AE$1,Stocks!$A$2:$A$5455,Synthèse!$D$2:$D$442) -> 0 | ... CF158: =SUMIFS(Stocks!$E$2:$E$5455,Stocks!$D$2:$D$5455,Synthèse!CF$1,Stocks!$A$2:$A$5455,Synthèse!$D$2:$D$442) -> 0
... A173: 1667 | B173: COMPAGNIE DES PET FOODS | C173: 139 | D173: 620745 | E173: BALLE PLASTIQUE LUMIERE FLASH | F173: A | G173: 3575070019803 | H173: J2959 | I173: PCE | J173: 12 | K173: 0.2 | L173: EUR | M173: 1.9 | N173: 1.9 | O173: 0 | P173: 43154 | Q173: 43465 | R173: 0.2 | S173: 1 | T173: ANKA | U173: 194 | V173: JOUET ANIMAL : BALLE | W173: 474 | X173: =SUMIFS(Stocks!$E$2:$E$5455,Stocks!$D$2:$D$5455,Synthèse!X$1,Stocks!$A$2:$A$5455,Synthèse!$D$2:$D$442) -> 7 | Y173: =SUMIFS(Stocks!$E$2:$E$5455,Stocks!$D$2:$D$5455,Synthèse!Y$1,Stocks!$A$2:$A$5455,Synthèse!$D$2:$D$442) -> 9 | Z173: =SUMIFS(Stocks!$E$2:$E$5455,Stocks!$D$2:$D$5455,Synthèse!Z$1,Stocks!$A$2:$A$5455,Synthèse!$D$2:$D$442) -> 0 | AA173: =SUMIFS(Stocks!$E$2:$E$5455,Stocks!$D$2:$D$5455,Synthèse!AA$1,Stocks!$A$2:$A$5455,Synthèse!$D$2:$D$442) -> 0 | AB173: =SUMIFS(Stocks!$E$2:$E$5455,Stocks!$D$2:$D$5455,Synthèse!AB$1,Stocks!$A$2:$A$5455,Synthèse!$D$2:$D$442) -> 6 | AC173: =SUMIFS(Stocks!$E$2:$E$5455,Stocks!$D$2:$D$5455,Synthèse!AC$1,Stocks!$A$2:$A$5455,Synthèse!$D$2:$D$442) -> 0 | AD173: =SUMIFS(Stocks!$E$2:$E$5455,Stocks!$D$2:$D$5455,Synthèse!AD$1,Stocks!$A$2:$A$5455,Synthèse!$D$2:$D$442) -> 0 | AE173: =SUMIFS(Stocks!$E$2:$E$5455,Stocks!$D$2:$D$5455,Synthèse!AE$1,Stocks!$A$2:$A$5455,Synthèse!$D$2:$D$442) -> 8 | ... CF173: =SUMIFS(Stocks!$E$2:$E$5455,Stocks!$D$2:$D$5455,Synthèse!CF$1,Stocks!$A$2:$A$5455,Synthèse!$D$2:$D$442) -> 0
D174: 620753 | E174: FILET BALCON MM 300X200 | F174: B | G174: 3575070020267 | H174: J2999 | I174: PCE | J174: 3 | K174: 0.2 | L174: EUR | M174: 9.57 | N174: 9.57 | O174: 0 | P174: 43154 | Q174: 43465 | R174: 0.2 | S174: 1 | T174: ANKA | U174: 241 | V174: EDUCATION DE L'ANIMAL : PRODUI | W174: 474 | X174: =SUMIFS(Stocks!$E$2:$E$5455,Stocks!$D$2:$D$5455,Synthèse!X$1,Stocks!$A$2:$A$5455,Synthèse!$D$2:$D$442) -> 3 | Y174: =SUMIFS(Stocks!$E$2:$E$5455,Stocks!$D$2:$D$5455,Synthèse!Y$1,Stocks!$A$2:$A$5455,Synthèse!$D$2:$D$442) -> 1 | Z174: =SUMIFS(Stocks!$E$2:$E$5455,Stocks!$D$2:$D$5455,Synthèse!Z$1,Stocks!$A$2:$A$5455,Synthèse!$D$2:$D$442) -> 10 | AA174: =SUMIFS(Stocks!$E$2:$E$5455,Stocks!$D$2:$D$5455,Synthèse!AA$1,Stocks!$A$2:$A$5455,Synthèse!$D$2:$D$442) -> 0 | AB174: =SUMIFS(Stocks!$E$2:$E$5455,Stocks!$D$2:$D$5455,Synthèse!AB$1,Stocks!$A$2:$A$5455,Synthèse!$D$2:$D$442) -> 0 | AC174: =SUMIFS(Stocks!$E$2:$E$5455,Stocks!$D$2:$D$5455,Synthèse!AC$1,Stocks!$A$2:$A$5455,Synthèse!$D$2:$D$442) -> 0 | AD174: =SUMIFS(Stocks!$E$2:$E$5455,Stocks!$D$2:$D$5455,Synthèse!AD$1,Stocks!$A$2:$A$5455,Synthèse!$D$2:$D$442) -> 0 | AE174: =SUMIFS(Stocks!$E$2:$E$5455,Stocks!$D$2:$D$5455,Synthèse!AE$1,Stocks!$A$2:$A$5455,Synthèse!$D$2:$D$442) -> 0 | ... CF174: =SUMIFS(Stocks!$E$2:$E$5455,Stocks!$D$2:$D$5455,Synthèse!CF$1,Stocks!$A$2:$A$5455,Synthèse!$D$2:$D$442) -> 0
A175: 1667 | B175: COMPAGNIE DES PET FOODS | C175: 118 | D175: 620754 | E175: FILET BALCON GM 600X300 | F175: C | G175: 3575070020274 | H175: J3000 | I175: PCE | J175: 3 | K175: 0.2 | L175: EUR | M175: 22.3 | N175: 22.3 | O175: 0 | P175: 43154 | Q175: 43465 | R175: 0.2 | S175: 1 | T175: ANKA | U175: 241 | V175: EDUCATION DE L'ANIMAL : PRODUI | W175: 474 | X175: =SUMIFS(Stocks!$E$2:$E$5455,Stocks!$D$2:$D$5455,Synthèse!X$1,Stocks!$A$2:$A$5455,Synthèse!$D$2:$D$442) -> 4 | Y175: =SUMIFS(Stocks!$E$2:$E$5455,Stocks!$D$2:$D$5455,Synthèse!Y$1,Stocks!$A$2:$A$5455,Synthèse!$D$2:$D$442) -> 0 | Z175: =SUMIFS(Stocks!$E$2:$E$5455,Stocks!$D$2:$D$5455,Synthèse!Z$1,Stocks!$A$2:$A$5455,Synthèse!$D$2:$D$442) -> 4 | AA175: =SUMIFS(Stocks!$E$2:$E$5455,Stocks!$D$2:$D$5455,Synthèse!AA$1,Stocks!$A$2:$A$5455,Synthèse!$D$2:$D$442) -> 0 | AB175: =SUMIFS(Stocks!$E$2:$E$5455,Stocks!$D$2:$D$5455,Synthèse!AB$1,Stocks!$A$2:$A$5455,Synthèse!$D$2:$D$442) -> 0 | AC175: =SUMIFS(Stocks!$E$2:$E$5455,Stocks!$D$2:$D$5455,Synthèse!AC$1,Stocks!$A$2:$A$5455,Synthèse!$D$2:$D$442) -> 0 | AD175: =SUMIFS(Stocks!$E$2:$E$5455,Stocks!$D$2:$D$5455,Synthèse!AD$1,Stocks!$A$2:$A$5455,Synthèse!$D$2:$D$442) -> 0 | AE175: =SUMIFS(Stocks!$E$2:$E$5455,Stocks!$D$2:$D$5455,Synthèse!AE$1,Stocks!$A$2:$A$5455,Synthèse!$D$2:$D$442) -> 2 | ... CF175: =SUMIFS(Stocks!$E$2:$E$5455,Stocks!$D$2:$D$5455,Synthèse!CF$1,Stocks!$A$2:$A$5455,Synthèse!$D$2:$D$442) -> 0
A176: 1667 | B176: COMPAGNIE DES PET FOODS | C176: 110 | D176: 620755 | E176: TAPIS 38 X 50 CM CAMOUFLAGE | F176: A | G176: 3575070002645 | H176: cc2645L | I176: PCE | J176: 1 | K176: 0.2 | L176: EUR | M176: 4.45 | N176: 4.45 | O176: 0 | P176: 43101 | Q176: 43465 | R176: 0.2 | S176: 1 | T176: ANKA | U176: 2019 | V176: COUCHAGE ANIMAL : COUSSIN | W176: 474 | X176: =SUMIFS(Stocks!$E$2:$E$5455,Stocks!$D$2:$D$5455,Synthèse!X$1,Stocks!$A$2:$A$5455,Synthèse!$D$2:$D$442) -> 0 | Y176: =SUMIFS(Stocks!$E$2:$E$5455,Stocks!$D$2:$D$5455,Synthèse!Y$1,Stocks!$A$2:$A$5455,Synthèse!$D$2:$D$442) -> 0 | Z176: =SUMIFS(Stocks!$E$2:$E$5455,Stocks!$D$2:$D$5455,Synthèse!Z$1,Stocks!$A$2:$A$5455,Synthèse!$D$2:$D$442) -> 0 | AA176: =SUMIFS(Stocks!$E$2:$E$5455,Stocks!$D$2:$D$5455,Synthèse!AA$1,Stocks!$A$2:$A$5455,Synthèse!$D$2:$D$442) -> 0 | AB176: =SUMIFS(Stocks!$E$2:$E$5455,Stocks!$D$2:$D$5455,Synthèse!AB$1,Stocks!$A$2:$A$5455,Synthèse!$D$2:$D$442) -> 0 | AC176: =SUMIFS(Stocks!$E$2:$E$5455,Stocks!$D$2:$D$5455,Synthèse!AC$1,Stocks!$A$2:$A$5455,Synthèse!$D$2:$D$442) -> 0 | AD176: =SUMIFS(Stocks!$E$2:$E$5455,Stocks!$D$2:$D$5455,Synthèse!AD$1,Stocks!$A$2:$A$5455,Synthèse!$D$2:$D$442) -> 0 | AE176: =SUMIFS(Stocks!$E$2:$E$5455,Stocks!$D$2:$D$5455,Synthèse!AE$1,Stocks!$A$2:$A$5455,Synthèse!$D$2:$D$442) -> 0 | ... CF176: =SUMIFS(Stocks!$E$2:$E$5455,Stocks!$D$2:$D$5455,Synthèse!CF$1,Stocks!$A$2:$A$5455,Synthèse!$D$2:$D$442) -> 0
A177: 1667 | B177: COMPAGNIE DES PET FOODS | C177: 85 | D177: 621575 | E177: JOUET OISEAUX WOODEN FRUITS | F177: A | G177: 3575070019940 | H177: R0040 | I177: PCE | J177: 3 | K177: 0.2 | L177: EUR | M177: 4.35 | N177: 4.35 | O177: 0 | P177: 43101 | Q177: 43465 | R177: 0.2 | S177: 1 | T177: UNITED BIRD | U177: 210 | V177: JOUET ANIMAL : AUTRES | W177: 474 | X177: =SUMIFS(Stocks!$E$2:$E$5455,Stocks!$D$2:$D$5455,Synthèse!X$1,Stocks!$A$2:$A$5455,Synthèse!$D$2:$D$442) -> 0 | Y177: =SUMIFS(Stocks!$E$2:$E$5455,Stocks!$D$2:$D$5455,Synthèse!Y$1,Stocks!$A$2:$A$5455,Synthèse!$D$2:$D$442) -> 0 | Z177: =SUMIFS(Stocks!$E$2:$E$5455,Stocks!$D$2:$D$5455,Synthèse!Z$1,Stocks!$A$2:$A$5455,Synthèse!$D$2:$D$442) -> 0 | AA177: =SUMIFS(Stocks!$E$2:$E$5455,Stocks!$D$2:$D$5455,Synthèse!AA$1,Stocks!$A$2:$A$5455,Synthèse!$D$2:$D$442) -> 0 | AB177: =SUMIFS(Stocks!$E$2:$E$5455,Stocks!$D$2:$D$5455,Synthèse!AB$1,Stocks!$A$2:$A$5455,Synthèse!$D$2:$D$442) -> 3 | AC177: =SUMIFS(Stocks!$E$2:$E$5455,Stocks!$D$2:$D$5455,Synthèse!AC$1,Stocks!$A$2:$A$5455,Synthèse!$D$2:$D$442) -> 0 | AD177: =SUMIFS(Stocks!$E$2:$E$5455,Stocks!$D$2:$D$5455,Synthèse!AD$1,Stocks!$A$2:$A$5455,Synthèse!$D$2:$D$442) -> 0 | AE177: =SUMIFS(Stocks!$E$2:$E$5455,Stocks!$D$2:$D$5455,Synthèse!AE$1,Stocks!$A$2:$A$5455,Synthèse!$D$2:$D$442) -> 3 | ... CF177: =SUMIFS(Stocks!$E$2:$E$5455,Stocks!$D$2:$D$5455,Synthèse!CF$1,Stocks!$A$2:$A$5455,Synthèse!$D$2:$D$442) -> 0
A178: 1667 | B178: COMPAGNIE DES PET FOODS | C178: 85 | D178: 621576 | E178: JOUET OISEAUX WOODEN GIANT | F178: A | G178: 3575070019957 | H178: R0041 | I178: PCE | J178: 3 | K178: 0.2 | L178: EUR | M178: 6.19 | N178: 6.19 | O178: 0 | P178: 43101 | Q178: 43465 | R178: 0.2 | S178: 1 | T178: UNITED BIRD | U178: 210 | V178: JOUET ANIMAL : AUTRES | W178: 474 | X178: =SUMIFS(Stocks!$E$2:$E$5455,Stocks!$D$2:$D$5455,Synthèse!X$1,Stocks!$A$2:$A$5455,Synthèse!$D$2:$D$442) -> 0 | Y178: =SUMIFS(Stocks!$E$2:$E$5455,Stocks!$D$2:$D$5455,Synthèse!Y$1,Stocks!$A$2:$A$5455,Synthèse!$D$2:$D$442) -> 0 | Z178: =SUMIFS(Stocks!$E$2:$E$5455,Stocks!$D$2:$D$5455,Synthèse!Z$1,Stocks!$A$2:$A$5455,Synthèse!$D$2:$D$442) -> 0 | AA178: =SUMIFS(Stocks!$E$2:$E$5455,Stocks!$D$2:$D$5455,Synthèse!AA$1,Stocks!$A$2:$A$5455,Synthèse!$D$2:$D$442) -> 0 | AB178: =SUMIFS(Stocks!$E$2:$E$5455,Stocks!$D$2:$D$5455,Synthèse!AB$1,Stocks!$A$2:$A$5455,Synthèse!$D$2:$D$442) -> 0 | AC178: =SUMIFS(Stocks!$E$2:$E$5455,Stocks!$D$2:$D$5455,Synthèse!AC$1,Stocks!$A$2:$A$5455,Synthèse!$D$2:$D$442) -> 0 | AD178: =SUMIFS(Stocks!$E$2:$E$5455,Stocks!$D$2:$D$5455,Synthèse!AD$1,Stocks!$A$2:$A$5455,Synthèse!$D$2:$D$442) -> 0 | AE178: =SUMIFS(Stocks!$E$2:$E$5455,Stocks!$D$2:$D$5455,Synthèse!AE$1,Stocks!$A$2:$A$5455,Synthèse!$D$2:$D$442) -> 5 | ... CF178: =SUMIFS(Stocks!$E$2:$E$5455,Stocks!$D$2:$D$5455,Synthèse!CF$1,Stocks!$A$2:$A$5455,Synthèse!$D$2:$D$442) -> 0
A179: 1667 | B179: COMPAGNIE DES PET FOODS | C179: 118 | D179: 626676 | E179: CORDE 2 N TASK F MEDIUM 33 CM | F179: A | G179: 3575070017236 | H179: J1101 | I179: PCE | J179: 3 | K179: 0.2 | L179: EUR | M179: 2.82 | N179: 2.82 | O179: 0 | P179: 43154 | Q179: 43465 | R179: 0.2 | S179: 1 | T179: ANKA | U179: 195 | V179: JOUET ANIMAL : CORDE | W179: 474 | X179: =SUMIFS(Stocks!$E$2:$E$5455,Stocks!$D$2:$D$5455,Synthèse!X$1,Stocks!$A$2:$A$5455,Synthèse!$D$2:$D$442) -> 11 | Y179: =SUMIFS(Stocks!$E$2:$E$5455,Stocks!$D$2:$D$5455,Synthèse!Y$1,Stocks!$A$2:$A$5455,Synthèse!$D$2:$D$442) -> 0 | Z179: =SUMIFS(Stocks!$E$2:$E$5455,Stocks!$D$2:$D$5455,Synthèse!Z$1,Stocks!$A$2:$A$5455,Synthèse!$D$2:$D$442) -> 0 | AA179: =SUMIFS(Stocks!$E$2:$E$5455,Stocks!$D$2:$D$5455,Synthèse!AA$1,Stocks!$A$2:$A$5455,Synthèse!$D$2:$D$442) -> 0 | AB179: =SUMIFS(Stocks!$E$2:$E$5455,Stocks!$D$2:$D$5455,Synthèse!AB$1,Stocks!$A$2:$A$5455,Synthèse!$D$2:$D$442) -> 0 | AC179: =SUMIFS(Stocks!$E$2:$E$5455,Stocks!$D$2:$D$5455,Synthèse!AC$1,Stocks!$A$2:$A$5455,Synthèse!$D$2:$D$442) -> 0 | AD179: =SUMIFS(Stocks!$E$2:$E$5455,Stocks!$D$2:$D$5455,Synthèse!AD$1,Stocks!$A$2:$A$5455,Synthèse!$D$2:$D$442) -> 0 | AE179: =SUMIFS(Stocks!$E$2:$E$5455,Stocks!$D$2:$D$5455,Synthèse!AE$1,Stocks!$A$2:$A$5455,Synthèse!$D$2:$D$442) -> 0 | ... CF179: =SUMIFS(Stocks!$E$2:$E$5455,Stocks!$D$2:$D$5455,Synthèse!CF$1,Stocks!$A$2:$A$5455,Synthèse!$D$2:$D$442) -> 4
A180: 1667 | B180: COMPAGNIE DES PET FOODS | C180: 118 | D180: 626677 | E180: CORDE 2 N TASK F LARGE 47 CM | F180: A | G180: 3575070017243 | H180: J1102 | I180: PCE | J180: 3 | K180: 0.2 | L180: EUR | M180: 4.26 | N180: 4.26 | O180: 0 | P180: 43154 | Q180: 43465 | R180: 0.2 | S180: 1 | T180: ANKA | U180: 195 | V180: JOUET ANIMAL : CORDE | W180: 474 | X180: =SUMIFS(Stocks!$E$2:$E$5455,Stocks!$D$2:$D$5455,Synthèse!X$1,Stocks!$A$2:$A$5455,Synthèse!$D$2:$D$442) -> 0 | Y180: =SUMIFS(Stocks!$E$2:$E$5455,Stocks!$D$2:$D$5455,Synthèse!Y$1,Stocks!$A$2:$A$5455,Synthèse!$D$2:$D$442) -> 0 | Z180: =SUMIFS(Stocks!$E$2:$E$5455,Stocks!$D$2:$D$5455,Synthèse!Z$1,Stocks!$A$2:$A$5455,Synthèse!$D$2:$D$442) -> 5 | AA180: =SUMIFS(Stocks!$E$2:$E$5455,Stocks!$D$2:$D$5455,Synthèse!AA$1,Stocks!$A$2:$A$5455,Synthèse!$D$2:$D$442) -> 4 | AB180: =SUMIFS(Stocks!$E$2:$E$5455,Stocks!$D$2:$D$5455,Synthèse!AB$1,Stocks!$A$2:$A$5455,Synthèse!$D$2:$D$442) -> 0 | AC180: =SUMIFS(Stocks!$E$2:$E$5455,Stocks!$D$2:$D$5455,Synthèse!AC$1,Stocks!$A$2:$A$5455,Synthèse!$D$2:$D$442) -> 0 | AD180: =SUMIFS(Stocks!$E$2:$E$5455,Stocks!$D$2:$D$5455,Synthèse!AD$1,Stocks!$A$2:$A$5455,Synthèse!$D$2:$D$442) -> 0 | AE180: =SUMIFS(Stocks!$E$2:$E$5455,Stocks!$D$2:$D$5455,Synthèse!AE$1,Stocks!$A$2:$A$5455,Synthèse!$D$2:$D$442) -> 0 | ... CF180: =SUMIFS(Stocks!$E$2:$E$5455,Stocks!$D$2:$D$5455,Synthèse!CF$1,Stocks!$A$2:$A$5455,Synthèse!$D$2:$D$442) -> 0
A181: 1667 | B181: COMPAGNIE DES PET FOODS | C181: 118 | D181: 626678 | E181: CORDE 2 N TASK FGIANT 63 CM | F181: A | G181: 3575070017250 | H181: J1103 | I181: PCE | J181: 3 | K181: 0.2 | L181: EUR | M181: 9.47 | N181: 9.47 | O181: 0 | P181: 43154 | Q181: 43465 | R181: 0.2 | S181: 1 | T181: ANKA | U181: 195 | V181: JOUET ANIMAL : CORDE | W181: 474 | X181: =SUMIFS(Stocks!$E$2:$E$5455,Stocks!$D$2:$D$5455,Synthèse!X$1,Stocks!$A$2:$A$5455,Synthèse!$D$2:$D$442) -> 0 | Y181: =SUMIFS(Stocks!$E$2:$E$5455,Stocks!$D$2:$D$5455,Synthèse!Y$1,Stocks!$A$2:$A$5455,Synthèse!$D$2:$D$442) -> 0 | Z181: =SUMIFS(Stocks!$E$2:$E$5455,Stocks!$D$2:$D$5455,Synthèse!Z$1,Stocks!$A$2:$A$5455,Synthèse!$D$2:$D$442) -> 0 | AA181: =SUMIFS(Stocks!$E$2:$E$5455,Stocks!$D$2:$D$5455,Synthèse!AA$1,Stocks!$A$2:$A$5455,Synthèse!$D$2:$D$442) -> 3 | AB181: =SUMIFS(Stocks!$E$2:$E$5455,Stocks!$D$2:$D$5455,Synthèse!AB$1,Stocks!$A$2:$A$5455,Synthèse!$D$2:$D$442) -> 0 | AC181: =SUMIFS(Stocks!$E$2:$E$5455,Stocks!$D$2:$D$5455,Synthèse!AC$1,Stocks!$A$2:$A$5455,Synthèse!$D$2:$D$442) -> 0 | AD181: =SUMIFS(Stocks!$E$2:$E$5455,Stocks!$D$2:$D$5455,Synthèse!AD$1,Stocks!$A$2:$A$5455,Synthèse!$D$2:$D$442) -> 0 | AE181: =SUMIFS(Stocks!$E$2:$E$5455,Stocks!$D$2:$D$5455,Synthèse!AE$1,Stocks!$A$2:$A$5455,Synthèse!$D$2:$D$442) -> 3 | ... CF181: =SUMIFS(Stocks!$E$2:$E$5455,Stocks!$D$2:$D$5455,Synthèse!CF$1,Stocks!$A$2:$A$5455,Synthèse!$D$2:$D$442) -> 4
A182: 1667 | B182: COMPAGNIE DES PET FOODS | C182: 73 | D182: 629746 | E182: MINI EPIS MAIS 240 GRS | F182: A | G182: 3575070020335 | H182: 22735 | I182: PCE | J182: 1 | K182: 0.2 | L182: EUR | M182: 2.44 | N182: 2.44 | O182: 0 | P182: 43101 | Q182: 43465 | R182: 0.2 | S182: 1 | T182: HUTLAND | U182: 59 | V182: ALIMENTATION OISEAUX | W182: 474 | X182: =SUMIFS(Stocks!$E$2:$E$5455,Stocks!$D$2:$D$5455,Synthèse!X$1,Stocks!$A$2:$A$5455,Synthèse!$D$2:$D$442) -> 8 | Y182: =SUMIFS(Stocks!$E$2:$E$5455,Stocks!$D$2:$D$5455,Synthèse!Y$1,Stocks!$A$2:$A$5455,Synthèse!$D$2:$D$442) -> 10 | Z182: =SUMIFS(Stocks!$E$2:$E$5455,Stocks!$D$2:$D$5455,Synthèse!Z$1,Stocks!$A$2:$A$5455,Synthèse!$D$2:$D$442) -> 1 | AA182: =SUMIFS(Stocks!$E$2:$E$5455,Stocks!$D$2:$D$5455,Synthèse!AA$1,Stocks!$A$2:$A$5455,Synthèse!$D$2:$D$442) -> 0 | AB182: =SUMIFS(Stocks!$E$2:$E$5455,Stocks!$D$2:$D$5455,Synthèse!AB$1,Stocks!$A$2:$A$5455,Synthèse!$D$2:$D$442) -> 0 | AC182: =SUMIFS(Stocks!$E$2:$E$5455,Stocks!$D$2:$D$5455,Synthèse!AC$1,Stocks!$A$2:$A$5455,Synthèse!$D$2:$D$442) -> 0 | AD182: =SUMIFS(Stocks!$E$2:$E$5455,Stocks!$D$2:$D$5455,Synthèse!AD$1,Stocks!$A$2:$A$5455,Synthèse!$D$2:$D$442) -> 0 | AE182: =SUMIFS(Stocks!$E$2:$E$5455,Stocks!$D$2:$D$5455,Synthèse!AE$1,Stocks!$A$2:$A$5455,Synthèse!$D$2:$D$442) -> 28 | ... CF182: =SUMIFS(Stocks!$E$2:$E$5455,Stocks!$D$2:$D$5455,Synthèse!CF$1,Stocks!$A$2:$A$5455,Synthèse!$D$2:$D$442) -> 0
A183: 1667 | B183: COMPAGNIE DES PET FOODS | C183: 133 | D183: 629747 | E183: VERS DE FARINE CACAHUETES 330G | F183: B | G183: 3575070019520 | H183: 22734 | I183: PCE | J183: 1 | K183: 0.2 | L183: EUR | M183: 3.37 | N183: 3.37 | O183: 0 | P183: 43101 | Q183: 43465 | R183: 0.2 | S183: 1 | T183: HUTLAND | U183: 59 | V183: ALIMENTATION OISEAUX | W183: 474 | X183: =SUMIFS(Stocks!$E$2:$E$5455,Stocks!$D$2:$D$5455,Synthèse!X$1,Stocks!$A$2:$A$5455,Synthèse!$D$2:$D$442) -> 0 | Y183: =SUMIFS(Stocks!$E$2:$E$5455,Stocks!$D$2:$D$5455,Synthèse!Y$1,Stocks!$A$2:$A$5455,Synthèse!$D$2:$D$442) -> 0 | Z183: =SUMIFS(Stocks!$E$2:$E$5455,Stocks!$D$2:$D$5455,Synthèse!Z$1,Stocks!$A$2:$A$5455,Synthèse!$D$2:$D$442) -> 0 | AA183: =SUMIFS(Stocks!$E$2:$E$5455,Stocks!$D$2:$D$5455,Synthèse!AA$1,Stocks!$A$2:$A$5455,Synthèse!$D$2:$D$442) -> 0 | AB183: =SUMIFS(Stocks!$E$2:$E$5455,Stocks!$D$2:$D$5455,Synthèse!AB$1,Stocks!$A$2:$A$5455,Synthèse!$D$2:$D$442) -> 0 | AC183: =SUMIFS(Stocks!$E$2:$E$5455,Stocks!$D$2:$D$5455,Synthèse!AC$1,Stocks!$A$2:$A$5455,Synthèse!$D$2:$D$442) -> 0 | AD183: =SUMIFS(Stocks!$E$2:$E$5455,Stocks!$D$2:$D$5455,Synthèse!AD$1,Stocks!$A$2:$A$5455,Synthèse!$D$2:$D$442) -> 0 | AE183: =SUMIFS(Stocks!$E$2:$E$5455,Stocks!$D$2:$D$5455,Synthèse!AE$1,Stocks!$A$2:$A$5455,Synthèse!$D$2:$D$442) -> 0 | ... CF183: =SUMIFS(Stocks!$E$2:$E$5455,Stocks!$D$2:$D$5455,Synthèse!CF$1,Stocks!$A$2:$A$5455,Synthèse!$D$2:$D$442) -> 0
A184: 1667 | B184: COMPAGNIE DES PET FOODS | C184: 453 | D184: 629748 | E184: COUVEUSE MANUELLE 7 OEUFS | F184: A | G184: 3575070020328 | H184: S4524 | I184: PCE | J184: 1 | K184: 0.2 | L184: EUR | M184: 25.25 | N184: 25.25 | O184: 0 | P184: 43101 | Q184: 43465 | R184: 0.2 | S184: 1 | T184: HUTLAND | U184: 2028 | V184: HABITAT DE L'ANIMAL : ACCESSOI | W184: 474 | X184: =SUMIFS(Stocks!$E$2:$E$5455,Stocks!$D$2:$D$5455,Synthèse!X$1,Stocks!$A$2:$A$5455,Synthèse!$D$2:$D$442) -> 0 | Y184: =SUMIFS(Stocks!$E$2:$E$5455,Stocks!$D$2:$D$5455,Synthèse!Y$1,Stocks!$A$2:$A$5455,Synthèse!$D$2:$D$442) -> 0 | Z184: =SUMIFS(Stocks!$E$2:$E$5455,Stocks!$D$2:$D$5455,Synthèse!Z$1,Stocks!$A$2:$A$5455,Synthèse!$D$2:$D$442) -> 0 | AA184: =SUMIFS(Stocks!$E$2:$E$5455,Stocks!$D$2:$D$5455,Synthèse!AA$1,Stocks!$A$2:$A$5455,Synthèse!$D$2:$D$442) -> 0 | AB184: =SUMIFS(Stocks!$E$2:$E$5455,Stocks!$D$2:$D$5455,Synthèse!AB$1,Stocks!$A$2:$A$5455,Synthèse!$D$2:$D$442) -> 0 | AC184: =SUMIFS(Stocks!$E$2:$E$5455,Stocks!$D$2:$D$5455,Synthèse!AC$1,Stocks!$A$2:$A$5455,Synthèse!$D$2:$D$442) -> 0 | AD184: =SUMIFS(Stocks!$E$2:$E$5455,Stocks!$D$2:$D$5455,Synthèse!AD$1,Stocks!$A$2:$A$5455,Synthèse!$D$2:$D$442) -> 0 | AE184: =SUMIFS(Stocks!$E$2:$E$5455,Stocks!$D$2:$D$5455,Synthèse!AE$1,Stocks!$A$2:$A$5455,Synthèse!$D$2:$D$442) -> 0 | ... CF184: =SUMIFS(Stocks!$E$2:$E$5455,Stocks!$D$2:$D$5455,Synthèse!CF$1,Stocks!$A$2:$A$5455,Synthèse!$D$2:$D$442) -> 0
D185: 629755 | E185: IRON AND WOOD 35CM | F185: A | G185: 3575070019926 | H185: R0038 | J185: 3 | K185: 0.2 | N185: 3.88 | X185: =SUMIFS(Stocks!$E$2:$E$5455,Stocks!$D$2:$D$5455,Synthèse!X$1,Stocks!$A$2:$A$5455,Synthèse!$D$2:$D$442) -> 0 | Y185: =SUMIFS(Stocks!$E$2:$E$5455,Stocks!$D$2:$D$5455,Synthèse!Y$1,Stocks!$A$2:$A$5455,Synthèse!$D$2:$D$442) -> 0 | Z185: =SUMIFS(Stocks!$E$2:$E$5455,Stocks!$D$2:$D$5455,Synthèse!Z$1,Stocks!$A$2:$A$5455,Synthèse!$D$2:$D$442) -> 0 | AA185: =SUMIFS(Stocks!$E$2:$E$5455,Stocks!$D$2:$D$5455,Synthèse!AA$1,Stocks!$A$2:$A$5455,Synthèse!$D$2:$D$442) -> 0 | AB185: =SUMIFS(Stocks!$E$2:$E$5455,Stocks!$D$2:$D$5455,Synthèse!AB$1,Stocks!$A$2:$A$5455,Synthèse!$D$2:$D$442) -> 0 | AC185: =SUMIFS(Stocks!$E$2:$E$5455,Stocks!$D$2:$D$5455,Synthèse!AC$1,Stocks!$A$2:$A$5455,Synthèse!$D$2:$D$442) -> 0 | AD185: =SUMIFS(Stocks!$E$2:$E$5455,Stocks!$D$2:$D$5455,Synthèse!AD$1,Stocks!$A$2:$A$5455,Synthèse!$D$2:$D$442) -> 0 | AE185: =SUMIFS(Stocks!$E$2:$E$5455,Stocks!$D$2:$D$5455,Synthèse!AE$1,Stocks!$A$2:$A$5455,Synthèse!$D$2:$D$442) -> 0 | ... CF185: =SUMIFS(Stocks!$E$2:$E$5455,Stocks!$D$2:$D$5455,Synthèse!CF$1,Stocks!$A$2:$A$5455,Synthèse!$D$2:$D$442) -> 0
A186: 1667 | B186: COMPAGNIE DES PET FOODS | C186: 85 | D186: 629758 | E186: WOOD AND MULTI ROPES 30CM | F186: A | G186: 3575070019995 | H186: R0043 | I186: PCE | J186: 3 | K186: 0.2 | L186: EUR | M186: 4.08 | N186: 4.08 | O186: 0 | P186: 43101 | Q186: 43465 | R186: 0.2 | S186: 1 | T186: UNITED BIRD | U186: 4494 | V186: JOUET ANIMAL : JOUET A SUSPEND | W186: 474 | X186: =SUMIFS(Stocks!$E$2:$E$5455,Stocks!$D$2:$D$5455,Synthèse!X$1,Stocks!$A$2:$A$5455,Synthèse!$D$2:$D$442) -> 0 | Y186: =SUMIFS(Stocks!$E$2:$E$5455,Stocks!$D$2:$D$5455,Synthèse!Y$1,Stocks!$A$2:$A$5455,Synthèse!$D$2:$D$442) -> 0 | Z186: =SUMIFS(Stocks!$E$2:$E$5455,Stocks!$D$2:$D$5455,Synthèse!Z$1,Stocks!$A$2:$A$5455,Synthèse!$D$2:$D$442) -> 0 | AA186: =SUMIFS(Stocks!$E$2:$E$5455,Stocks!$D$2:$D$5455,Synthèse!AA$1,Stocks!$A$2:$A$5455,Synthèse!$D$2:$D$442) -> 0 | AB186: =SUMIFS(Stocks!$E$2:$E$5455,Stocks!$D$2:$D$5455,Synthèse!AB$1,Stocks!$A$2:$A$5455,Synthèse!$D$2:$D$442) -> 0 | AC186: =SUMIFS(Stocks!$E$2:$E$5455,Stocks!$D$2:$D$5455,Synthèse!AC$1,Stocks!$A$2:$A$5455,Synthèse!$D$2:$D$442) -> 0 | AD186: =SUMIFS(Stocks!$E$2:$E$5455,Stocks!$D$2:$D$5455,Synthèse!AD$1,Stocks!$A$2:$A$5455,Synthèse!$D$2:$D$442) -> 0 | AE186: =SUMIFS(Stocks!$E$2:$E$5455,Stocks!$D$2:$D$5455,Synthèse!AE$1,Stocks!$A$2:$A$5455,Synthèse!$D$2:$D$442) -> 0 | ... CF186: =SUMIFS(Stocks!$E$2:$E$5455,Stocks!$D$2:$D$5455,Synthèse!CF$1,Stocks!$A$2:$A$5455,Synthèse!$D$2:$D$442) -> 0
...

Sheet Stocks
A1: Article | B1: Lib. | C1: Code Mag | D1: Mag | E1: Stock
A2: 7110 | B2: PARADISIO OREILLE DE PORC X6 | C2: 02 | D2: BLOIS | E2: 17
A3: 7110 | B3: PARADISIO OREILLE DE PORC X6 | C3: 06 | D3: VÉLIZY | E3: 8
A4: 7110 | B4: PARADISIO OREILLE DE PORC X6 | C4: 08 | D4: BAILLET | E4: 9
A5: 7110 | B5: PARADISIO OREILLE DE PORC X6 | C5: 10 | D5: PONTHIERRY | E5: 28
A6: 7110 | B6: PARADISIO OREILLE DE PORC X6 | C6: 12 | D6: HERBLAY | E6: 19
A7: 7110 | B7: PARADISIO OREILLE DE PORC X6 | C7: 13 | D7: SERVON | E7: 26
A8: 7110 | B8: PARADISIO OREILLE DE PORC X6 | C8: 14 | D8: LA VILLE DU BOIS | E8: 17
A9: 7110 | B9: PARADISIO OREILLE DE PORC X6 | C9: 19 | D9: AMIENS | E9: 1
A10: 7110 | B10: PARADISIO OREILLE DE PORC X6 | C10: 24 | D10: ORLÉANS | E10: 3
A11: 7110 | B11: PARADISIO OREILLE DE PORC X6 | C11: 26 | D11: DEAUVILLE | E11: 2
A12: 7110 | B12: PARADISIO OREILLE DE PORC X6 | C12: 28 | D12: PARIS RIVE GAUCHE | E12: 24
A13: 7110 | B13: PARADISIO OREILLE DE PORC X6 | C13: 31 | D13: PAU | E13: 2
... A5455: 629746 | B5455: MINI EPIS MAIS 240 GRS | C5455: 75 | D5455: TOURS MADELAINE | E5455: 6

Sheet TCD
A3: Somme de Stock | B3: Étiquettes de colonnes
A4: Étiquettes de lignes | B4: AMIENS | C4: ARCUEIL | D4: AUBAGNE | E4: AVIGNON | F4: BAILLET | G4: BLOIS | H4: BOULOGNE-BILLANCOURT | I4: BRY SUR MARNE | J4: BUCHELAY | K4: CABRIÈS | L4: CAEN | M4: CARQUEFOU | N4: CERGY | O4: CHATENAY MALABRY | P4: CHOLET | Q4: COLMAR | R4: COLOMIERS | S4: COUTEVROULT | T4: CREIL | U4: DEAUVILLE | V4: FOURQUEUX | W4: GRIGNY | X4: HERBLAY | Y4: IVRY | Z4: LA VILLE DU BOIS | AA4: LE CHESNAY | AB4: LE MANS ST PAVACE | AC4: LES ULIS | AD4: MÉRIGNAC | AE4: METZ | AF4: MONTPELLIER | AG4: NANTES | AH4: NÎMES | AI4: ORLÉANS | AJ4: PACE | AK4: PARIS GRAND STADE | AL4: PARIS RIVE GAUCHE | AM4: PAU | AN4: PLAISIR | AO4: PONTHIERRY | AP4: RENNES ALMA | AQ4: ROSNY | AR4: SAINT-JORY | AS4: SAINT-QUENTIN | AT4: SERVON | AU4: ST BRIEUC | AV4: ST MALO | AW4: TOULOUSE | AX4: TOULOUSE GRAND HÔTEL | AY4: TOURS MADELAINE | AZ4: VÉLIZY | BA4: VILLEPARISIS | BB4: WITTENHEIM
A5: BALLE PLASTIQUE LUMIERE FLASH
A6: 620745 | B6: 11 | C6: 9 | F6: 6 | G6: 9 | I6: 6 | K6: 6 | L6: 6 | P6: 9 | Q6: 11 | R6: 10 | S6: 9 | U6: 5 | W6: 18 | X6: 4 | Z6: 3 | AA6: 7 | AD6: 11 | AG6: 9 | AH6: 13 | AI6: 8 | AJ6: 17 | AK6: 3 | AL6: 5 | AM6: 12 | AN6: 8 | AO6: 5 | AP6: 5 | AQ6: 7 | AT6: 9 | AU6: 3 | AV6: 5 | AY6: 10 | BA6: 3
A7: 12 COUCHES CULOTTE TAILLE L
A8: 316682 | AE8: 5 | AV8: 1
A9: 12 COUCHES CULOTTE TAILLE M
A10: 316681 | D10: 1 | AE10: 2
A11: 12 COUCHES CULOTTE TAILLE S
A12: 316598 | AV12: 4
A13: 2 BALLES EXTRA REBOND 3CM
A14: 475257 | J14: 3 | N14: 3 | P14: 1 | Q14: 2 | AC14: 16 | AV14: 7
A15: 2 JEUX HALTERES
A16: 439565 | B16: 9 | C16: 1 | D16: 1 | E16: 1 | F16: 6 | G16: 5 | I16: 3 | J16: 6 | K16: 7 | M16: 5 | N16: 5 | P16: 7 | Q16: 2 | R16: 5 | S16: 4 | T16: 8 | U16: 2 | V16: 1 | W16: 1 | X16: 4 | Z16: 6 | AA16: -1 | AB16: 5 | AC16: 4 | AH16: 4 | AI16: 5 | AJ16: 2 | AK16: 30 | AM16: 1 | AN16: 2 | AO16: 1 | AP16: 2 | AQ16: 9 | AS16: 3 | AT16: 3 | AU16: 6 | AV16: 2 | AX16: 5 | AY16: 5 | AZ16: 3 | BA16: 4 | BB16: 1
A17: 2 MINI BALLES LUMIERE FLASH
A18: 620744 | AY18: 2
A19: 4 BALLES MOUSSE
A20: 475253 | E20: 3 | F20: 10 | G20: 3 | H20: 9 | I20: 6 | J20: 3 | K20: 4 | L20: 2 | M20: 4 | O20: 12 | P20: 7 | Q20: 13 | R20: 5 | S20: 1 | U20: 2 | V20: 1 | X20: 4 | Z20: 6 | AA20: -1 | AB20: 14 | AC20: 5 | AE20: 10 | AF20: 1 | AG20: 1 | AH20: 9 | AI20: 9 | AJ20: 11 | AK20: 17 | AO20: 2 | AP20: 1 | AT20: 11 | AU20: 7 | AV20: 27 | AX20: 17 | AY20: 2
A21: 4 BALLES TENNIS A GOUT
A22: 475299 | D22: 1 | F22: 2 | H22: 5 | I22: 4 | K22: 1 | R22: 1 | X22: 6 | Y22: 4 | Z22: 9 | AB22: 4 | AD22: 1 | AG22: 2 | AI22: 3 | AK22: 6 | AL22: 5 | AN22: 2 | AO22: 3 | AT22: 4 | AW22: 6 | AY22: 3 | BA22: 2
A23: ABREUVOIR GALVANISE POULES 2L
A24: 570406 | E24: 7 | G24: 4 | J24: 4 | K24: 1 | M24: 2 | N24: 1 | O24: 2 | Q24: 1 | R24: 3 | T24: 2 | U24: 12 | V24: 1 | W24: 2 | X24: 1 | Z24: 1 | AA24: 2 | AC24: 3 | AE24: 2 | AG24: 2 | AH24: 1 | AI24: 5 | AJ24: 2 | AK24: 7 | AN24: 3 | AO24: 1 | AS24: 1 | AW24: 3 | BB24: 1
A25: ABREUVOIR GALVANISE POULES 9L
A26: 570407 | E26: 5 | G26: 2 | J26: 1 | K26: 4 | N26: 1 | P26: 1 | Q26: 1 | R26: 3 | S26: 3 | T26: 1 | U26: 2 | V26: 2 | W26: 1 | X26: 2 | Z26: 5 | AA26: 2 | AC26: 2 | AD26: 2 | AE26: 1 | AF26: 2 | AG26: 3 | AH26: 2 | AI26: 3 | AJ26: 1 | AK26: 13 | AM26: 2 | AN26: 3 | AO26: 1 | AP26: 1 | AS26: 1 | AU26: 1 | AW26: 2 | AY26: 2 | BB26: 2
A27: ABREUVOIR PLASTIQUE 10 L
A28: 307392 | E28: 6 | F28: 6 | K28: 3 | R28: 4 | S28: 2 | X28: 7 | Z28: 5 | AN28: 4 | AY28: 3 | BA28: 2
A29: ABREUVOIR PLASTIQUE 3 L
A30: 307390 | F30: 8 | K30: 7 | Z30: 9 | AN30: 2 | AO30: 3 | AT30: 1 | AY30: 2 | BA30: 6
A31: ABREUVOIR PLASTIQUE 30 L
A32: 505362 | E32: 4 | F32: 5 | G32: 1 | K32: 2 | M32: 1 | O32: 2 | Q32: 5 | R32: 2 | U32: 7 | W32: 1 | X32: 5 | Z32: 3 | AC32: 1 | AG32: 1 | AH32: 2 | AM32: 1 | AN32: 2 | AO32: 1 | AT32: 1 | AU32: 1 | AV32: 2 | AY32: 2 | BA32: 2
A33: ABREUVOIR POUSSIN PLAS 1.5 L
A34: 505363 | B34: 4 | D34: 10 | E34: 5 | F34: 9 | G34: 4 | I34: 2 | J34: 3 | K34: 20 | L34: 6 | O34: 2 | P34: 2 | R34: 1 | S34: 2 | T34: 2 | V34: 1 | X34: 4 | Z34: 7 | AA34: 6 | AD34: 3 | AF34: 2 | AG34: 4 | AH34: 7 | AI34: 2 | AJ34: 2 | AM34: 2 | AN34: 2 | AW34: 6 | AY34: 2 | BA34: 11
A35: ABREUVOIR SEAU POULE 4.5 LTS
A36: 611586 | B36: 5 | D36: 3 | J36: 6 | K36: 3 | L36: 3 | Q36: 10 | R36: 11 | S36: 6 | T36: 1 | W36: 5 | X36: 6 | Z36: 6 | AC36: 7 | AD36: 5 | AE36: 1 | AG36: 3 | AI36: 10 | AJ36: 9 | AM36: 6 | AN36: 1 | AP36: 8 | AS36: 4 | AT36: 3 | AU36: 4 | AV36: 4 | AW36: 2
A37: ACCROBRANCHES 64 CM
A38: 556018 | B38: 3 | F38: 3 | J38: 2 | M38: 1 | S38: 2 | U38: 2 | Z38: 2 | AH38: 2 | AJ38: 2 | AM38: 2 | AN38: 4 | AO38: 3 | AY38: 4
A39: ANIMAUX VINYLE XS 7 CM
A40: 486216 | W40: 4 | Z40: 2
A41: ANNEAU TPR XS 9 CM
A42: 486212 | B42: 1 | C42: 1 | D42: 4 | E42: 3 | F42: 2 | I42: 3 | J42: 4 | M42: 7 | N42: 5 | P42: 12 | R42: 8 | T42: 8 | W42: 10 | X42: 19 | Y42: 4 | Z42: 6 | AA42: 6 | AB42: 13 | AC42: 12 | AE42: 6 | AF42: 4 | AI42: 8 | AJ42: 7 | AM42: 2 | AN42: 10 | AO42: 7 | AP42: 1 | AQ42: 1 | AS42: 7 | AT42: 6 | AV42: 3 | AW42: 10 | AY42: 4 | BA42: 1 | BB42: 2
A43: ATTRACTIVE SPIRALE 37 CM
A44: 556030 | B44: 4 | C44: 5 | G44: 1 | J44: 3 | K44: 4 | Q44: 1 | R44: 3 | S44: 2 | T44: 1 | U44: 1 | W44: 5 | X44: 4 | Z44: 2 | AA44: 4 | AC44: 2 | AD44: 1 | AG44: 1 | AK44: 7 | AM44: 1 | AN44: 4 | AO44: 2 | AQ44: 6 | AS44: 1 | AT44: 3 | AU44: 1 | AV44: 2 | AW44: 2 | AY44: 2
A45: BAC A LITIERE OUVERT WORD NOIR
A46: 604509 | E46: 1 | F46: 10 | P46: 8 | AO46: 2 | BA46: 4
A47: BAC OUVERT CATS IN LOVE
A48: 562052 | C48: 1 | F48: 4 | I48: 3 | K48: 6 | N48: 14 | P48: 1 | Z48: 4 | AA48: 3 | AC48: 4 | AE48: 4 | AF48: 5 | AG48: 1 | AK48: 9 | AN48: 3 | AO48: 3 | AP48: 6 | AU48: 2 | AW48: 1
A49: BALL CAOUTCH EXTRABOUNCE 7.5CM
A50: 562041 | I50: 1 | T50: 3 | U50: 1 | W50: 2 | X50: 8 | Z50: 1 | AE50: 5 | AF50: 1 | AK50: 1 | AL50: 5 | AN50: 11 | AO50: 7 | AP50: 8 | AY50: 4
A51: BALLE BUMPER 10 CM
A52: 562005 | AN52: 1
A53: BALLE BUMPER 26 CM
A54: 562003 | E54: 2 | AJ54: 4 | AP54: 1 | AV54: 2
A55: BALLE BUMPER 6.5
A56: 562007 | D56: 1 | G56: 3 | J56: 7 | K56: 3 | P56: 3 | R56: 6 | S56: 5 | W56: 2 | X56: 9 | Z56: 4 | AB56: 7 | AC56: 6 | AE56: 3 | AI56: 4 | AJ56: 3 | AK56: 2 | AM56: 3 | AQ56: 2 | AU56: 4 | AY56: 6 | AZ56: 2
A57: BALLE CAOUTCH EXTRABOUNCE 6CM
A58: 562042 | D58: 2 | E58: 2 | F58: 1 | G58: 2 | H58: 1 | J58: 3 | K58: 3 | L58: 1 | M58: 6 | S58: 2 | T58: 2 | W58: 2 | X58: 8 | Z58: 4 | AB58: 3 | AC58: 5 | AD58: 4 | AE58: 1 | AF58: 2 | AH58: -1 | AJ58: 3 | AK58: 6 | AL58: 5 | AM58: 7 | AN58: 9 | AO58: 6 | AP58: 6 | AQ58: 5 | AT58: -2 | AU58: 3 | AV58: 1 | AW58: 3 | AX58: 2 | AY58: 6
A59: BALLE CAOUTCH EXTRABOUNCE 9CM
A60: 562040 | C60: 3 | D60: 2 | E60: 3 | F60: 2 | G60: 3 | I60: 11 | J60: 8 | K60: 2 | O60: 16 | P60: 1 | Q60: 1 | R60: 3 | S60: 1 | T60: 8 | U60: 4 | W60: 2 | X60: 14 | Z60: 6 | AB60: 11 | AC60: 6 | AD60: 9 | AE60: 9 | AF60: 4 | AH60: 2 | AI60: 8 | AJ60: 2 | AK60: 14 | AL60: 9 | AN60: 21 | AO60: 15 | AP60: 15 | AQ60: 6 | AT60: 2 | AU60: 3 | AW60: 3 | AY60: 15 | AZ60: 3
A61: BALLE ET TETINES 24 CM
A62: 556024 | B62: 1 | C62: 1 | D62: 2 | F62: 11 | J62: 3 | M62: 3 | N62: 1 | Q62: 2 | R62: 4 | S62: 2 | W62: 1 | X62: 3 | Y62: 1 | Z62: 4 | AA62: 5 | AB62: 3 | AC62: 3 | AD62: 1 | AE62: 3 | AK62: 4 | AL62: 2 | AN62: 3 | AO62: 2 | AQ62: 3 | AT62: 2 | AU62: 1 | AW62: 4 | AY62: 4 | BA62: 4
A63: BALLE ET TETINES 38 CM
A64: 556023 | F64: 3 | J64: 1 | K64: 1 | P64: 2 | R64: 3 | W64: 2 | X64: 4 | Z64: 2 | AC64: 1 | AH64: 2 | AI64: 1 | AK64: 4 | AM64: 3 | AN64: 2 | AO64: 4 | AQ64: 2 | AS64: 2 | AT64: 2 | AY64: 2
A65: BALLE GLITTER 9 CM
A66: 620734 | C66: 5 | D66: 3 | J66: 2 | K66: 5 | R66: 4 | T66: 7 | W66: 2 | X66: 6 | Y66: 5 | Z66: 7 | AA66: -1 | AB66: 7 | AD66: 5 | AE66: 3 | AI66: 1 | AT66: 1 | AW66: 1 | AY66: 4
A67: BALLE JUMBO LARGE
A68: 626796 | S68: 1
A69: BALLE JUMBO MEDIUM
A70: 626795 | B70: 1 | S70: 2 | X70: 3
A71: BALLE PLASTIQUE SON OISEAU
A72: 620746 | B72: 1 | C72: 1 | D72: 24 | F72: 8 | I72: 54 | K72: 29 | P72: 2 | S72: 7 | T72: 30 | U72: 1 | V72: 22 | X72: 11 | AA72: 7 | AD72: 7 | AF72: 23 | AG72: 3 | AH72: 4 | AL72: 13 | AN72: 13 | AP72: 4 | AT72: 16 | AV72: 8 | AY72: 1 | BA72: 1
A73: BALLE TPR AVEC LUMIERE FLASH
A74: 620747 | D74: 12 | F74: 1 | I74: 20 | K74: 24 | P74: 5 | Q74: 2 | T74: 32 | V74: 22 | W74: 25 | X74: 27 | Z74: 4 | AA74: 1 | AD74: 2 | AF74: 13 | AG74: 14 | AJ74: 1 | AK74: 4 | AN74: 32 | AT74: 37 | AV74: 9 | AY74: 6 | BA74: 1
A75: BALLE TPR GEOMETRIX D.5.5 CM
A76: 484951 | F76: 2 | G76: 6 | J76: 3 | K76: 6 | N76: 9 | P76: 2 | R76: 6 | T76: 2 | X76: 3 | Y76: 7 | Z76: 5 | AB76: 5 | AC76: 4 | AD76: 1 | AG76: 3 | AI76: 6 | AJ76: 4 | AK76: 3 | AM76: -1 | AP76: 6 | AT76: 1 | AV76: 1 | AW76: 7 | AX76: 2 | AY76: 5 | BB76: 2
A77: BALLE TPR HERISSON D.6 CM
A78: 484959 | B78: 1 | F78: 1 | J78: 6 | K78: 11 | L78: 1 | M78: 7 | N78: 4 | P78: 8 | R78: 1 | W78: 1 | X78: 12 | Y78: 10 | Z78: 14 | AB78: 8 | AC78: 12 | AD78: 2 | AE78: 7 | AF78: 8 | AI78: 10 | AJ78: 7 | AK78: 13 | AM78: 5 | AP78: 3 | AT78: -7 | AU78: 1 | AV78: 4 | AW78: 3 | AX78: 2 | AY78: 2 | BB78: 8
A79: BALLE TPR HERISSON D.8 CM
A80: 484960 | C80: 8 | F80: 1 | G80: 9 | H80: 8 | I80: 8 | J80: 2 | K80: 12 | L80: 12 | M80: 7 | N80: 12 | P80: 10 | Q80: 2 | R80: 11 | S80: 7 | U80: 1 | V80: 6 | W80: 3 | X80: 8 | Y80: 6 | Z80: 14 | AA80: 1 | AB80: 11 | AC80: 4 | AD80: 3 | AE80: -1 | AF80: 15 | AG80: 20 | AJ80: 2 | AK80: 12 | AM80: 12 | AN80: 4 | AP80: 6 | AQ80: 2 | AT80: 6 | AU80: 5 | AV80: 7 | AX80: 1 | AY80: 10
A81: BALLON FOOTBALL MEDIUM
A82: 620725 | B82: 6 | D82: 3 | G82: 9 | J82: 3 | K82: 11 | O82: 6 | P82: 7 | R82: 3 | S82: 6 | W82: 1 | X82: 5 | Z82: 7 | AC82: 6 | AD82: 4 | AF82: 1 | AG82: 11 | AI82: 3 | AJ82: 2 | AO82: 9 | AS82: 6 | AT82: 1 | AU82: 4 | AV82: 4 | AY82: 4
A83: BALLON FOOTBALL SMALL
A84: 620724 | B84: 1 | D84: 1 | G84: 2 | J84: 3 | K84: 5 | N84: 4 | O84: 5 | P84: 9 | Q84: 1 | R84: 3 | S84: 1 | W84: 6 | X84: 4 | Z84: 3 | AB84: 8 | AC84: 2 | AD84: 4 | AI84: 2 | AJ84: 2 | AK84: 2 | AL84: 16 | AM84: 3 | AO84: 15 | AP84: 1 | AS84: 5 | AT84: -1 | AY84: 6 | BB84: 1
A85: BALLON FOOTBALL SONORE LARGE
A86: 620726 | B86: 13 | F86: 1 | G86: 6 | J86: 2 | N86: 3 | P86: 2 | R86: 3 | W86: 4 | X86: 8 | Z86: 10 | AB86: 1 | AC86: 5 | AD86: 1 | AG86: 21 | AI86: 1 | AM86: 1 | AO86: 4 | AP86: 2 | AS86: 5 | AT86: 2 | AU86: 2 | AY86: 2 | BB86: 1
A87: BALLON RUGBY TENNIS XS
A88: 562001 | P88: 2 | R88: 1
A89: BOUDIN TRACTION TASK FORCE
A90: 562013 | D90: 3 | E90: 5 | F90: 4 | G90: 3 | L90: 1 | O90: 6 | P90: 4 | U90: 3 | Y90: 6 | Z90: 7 | AA90: -1 | AB90: 2 | AC90: 7 | AD90: 1 | AE90: 1 | AK90: 7 | AM90: 3 | AN90: 2 | AO90: 1 | AP90: 3 | AQ90: 1 | AT90: 1 | AV90: 3 | AW90: 3
A91: BOULE A FOIN SUPPORT METAL
A92: 449202 | J92: 4 | P92: 3 | Q92: 1 | S92: 2 | X92: 9 | AC92: 1 | AH92: 1 | AI92: 6 | AM92: 3 | AN92: 4 | BA92: 1 | BB92: 3
A93: BOULE EXERCICE HAM NAIN/SOURIS
A94: 467582 | B94: 4 | C94: 3 | D94: 6 | E94: 1 | F94: 2 | G94: 5 | J94: 1 | K94: 2 | L94: 2 | O94: 3 | P94: 2 | Q94: 4 | R94: 4 | V94: 3 | W94: 1 | X94: 4 | Y94: 4 | Z94: 2 | AA94: 4 | AB94: 2 | AC94: 4 | AD94: 1 | AG94: 4 | AI94: 1 | AJ94: 4 | AK94: 6 | AL94: 5 | AM94: 2 | AN94: 2 | AO94: 6 | AS94: 2 | AT94: 5 | AV94: 2 | AX94: 4 | AY94: 1 | BA94: 3
A95: BOULE EXERCICE HAM/GERBILLE
A96: 467583 | B96: 3 | C96: 1 | E96: 2 | F96: 5 | H96: 2 | I96: 1 | J96: 2 | K96: 2 | L96: 1 | M96: 4 | N96: 2 | O96: 4 | P96: 2 | Q96: 5 | T96: 3 | U96: 2 | X96: 1 | Y96: 9 | Z96: 5 | AA96: 3 | AB96: 5 | AC96: 3 | AD96: 3 | AF96: 3 | AG96: 3 | AI96: 3 | AJ96: 5 | AM96: 3 | AN96: 3 | AO96: 1 | AP96: 1 | AQ96: 4 | AS96: 4 | AT96: 2 | AV96: 4 | AW96: 2 | AX96: 11 | AY96: 4 | AZ96: 1 | BB96: 6
A97: BROSSE A DENTS 28 CM
A98: 556019 | C98: 4 | D98: 2 | F98: 5 | Q98: 3 | R98: 5 | U98: 2 | W98: 4 | Y98: 4 | Z98: 2 | AA98: 5 | AC98: 3 | AD98: 2 | AE98: 2 | AJ98: 2 | AK98: 6 | AM98: 1 | AN98: 4 | AO98: 1 | AP98: 2 | AQ98: 1 | AT98: 1 | AV98: 3 | AW98: 4 | BA98: 6 | BB98: 4
A99: CAGE BARBERINI
A100: 562262 | K100: 1 | X100: 2 | Z100: 1 | AB100: 2 | AG100: 2 | AH100: 2 | AK100: 2 | AU100: 2 | BA100: 1
A101: CAGE BORGHESE
A102: 562263 | F102: 4 | K102: 1 | X102: 3 | Z102: 2 | AH102: 1 | AJ102: 1 | AK102: 2 | AT102: 1 | AY102: 2 | BA102: 3
...
