Workbook

Sheet Parametrage
A1: extraction PDP fait tous les jeudi
A2: Un fichier par semaine
D5: Références | E5: Volumes semaines | F5: Taille d'un lot | G5: Nb. Chariots dispo | H5: Cadence CR (pcs/h) | I5: Nb. Lots a produire semaine | K5: Charge machine | L5: =Tableau1[[#Totals],[Charge (%)]] -> #REF!
D6: BOSCH GL | E6: 2000 | F6: 144 | G6: 9 | H6: 631 | I6: =Volumes!D2 -> 14
D7: BOSCVH17 | E7: 780 | F7: 320 | G7: 4 | H7: 1067 | I7: =Volumes!D3 -> 3
D8: BOSCVHD26 | E8: 1008 | F8: 288 | G8: 5 | H8: 1067 | I8: =Volumes!D4 -> 4
D9: EMPOS | E9: 40 | F9: 20 | G9: 1 | H9: 120 | I9: =Volumes!D5 -> 2
D10: KBM001 | E10: 1536 | F10: 96 | G10: 6 | H10: 225 | I10: =Volumes!D6 -> 16
D11: PCPH85 | E11: 0 | F11: 384 | G11: 12 | H11: 1295 | I11: =Volumes!D7 -> 0
D12: PCPH86 | E12: 0 | F12: 384 | G12: 12 | H12: 1295 | I12: =Volumes!D8 -> 0
D13: PSH002 | E13: 10710 | F13: 384 | G13: 12 | H13: 1295 | I13: =Volumes!D9 -> 28
D14: PSH004 | E14: 27897 | F14: 160 | G14: 11 | H14: 584 | I14: =Volumes!D10 -> 175
D15: PSH007 | E15: 25233 | F15: 384 | G15: 12 | H15: 1985 | I15: =Volumes!D11 -> 66
D16: ZFM32 | E16: 1344 | F16: 32 | G16: 9 | H16: 60 | I16: =Volumes!D12 -> 42
H17: TOTAL | I17: =SUM(I6:I16) -> 350

Sheet Volumes
A1: Références | B1: Volumes semaines | C1: Taille d'un lot | D1: Nb. Lots a produire semaine | E1: Nb. Chariots dispo | F1: Takt Time (pcs/h) | G1: Takt Time 3x8 (lots/h) | H1: 1 lot / X heures | I1: Cadence CR (pcs/h) | J1: Cadence CR55 (lots/h) | K1: Temps pour 1 lot (min) | L1: Temps d'utilisation (h) | M1: Charge (%)
A2: BOSCH GL | B2: =Parametrage!E6 -> 2000 | C2: =Parametrage!F6 -> 144 | D2: =ROUNDUP(B2/C2,0) -> 14 | E2: =Parametrage!G6 -> 9 | F2: =B2/$B$24 -> 21.73913 | G2: =#REF!/#REF! -> 0.15096618 | H2: =IF(#REF!=0,0,1/#REF!) -> 6.624 | I2: =Parametrage!H6 -> 631 | J2: =#REF!/#REF! -> 4.3819444 | K2: =ROUNDUP(60/#REF!,0) -> 14 | L2: =#REF!/#REF! -> 3.1695721 | M2: =#REF!/$B$21 -> 0.032080689
A3: BOSCVH17 | B3: =Parametrage!E7 -> 780 | C3: =Parametrage!F7 -> 320 | D3: =ROUNDUP(B3/C3,0) -> 3 | E3: =Parametrage!G7 -> 4 | F3: =B3/$B$24 -> 8.4782609 | G3: =#REF!/#REF! -> 0.026494565 | H3: =IF(#REF!=0,0,1/#REF!) -> 37.74359 | I3: =Parametrage!H7 -> 1067 | J3: =#REF!/#REF! -> 3.334375 | K3: =ROUNDUP(60/#REF!,0) -> 18 | L3: =#REF!/#REF! -> 0.73102156 | M3: =#REF!/$B$21 -> 0.0073990036
A4: BOSCVHD26 | B4: =Parametrage!E8 -> 1008 | C4: =Parametrage!F8 -> 288 | D4: =ROUNDUP(B4/C4,0) -> 4 | E4: =Parametrage!G8 -> 5 | F4: =B4/$B$24 -> 10.956522 | G4: =#REF!/#REF! -> 0.038043478 | H4: =IF(#REF!=0,0,1/#REF!) -> 26.285714 | I4: =Parametrage!H8 -> 1067 | J4: =#REF!/#REF! -> 3.7048611 | K4: =ROUNDUP(60/#REF!,0) -> 17 | L4: =#REF!/#REF! -> 0.94470478 | M4: =#REF!/$B$21 -> 0.0095617893
A5: EMPOS | B5: =Parametrage!E9 -> 40 | C5: =Parametrage!F9 -> 20 | D5: =ROUNDUP(B5/C5,0) -> 2 | E5: =Parametrage!G9 -> 1 | F5: =B5/$B$24 -> 0.43478261 | G5: =#REF!/#REF! -> 0.02173913 | H5: =IF(#REF!=0,0,1/#REF!) -> 46 | I5: =Parametrage!H9 -> 120 | J5: =#REF!/#REF! -> 6 | K5: =ROUNDUP(60/#REF!,0) -> 10 | L5: =#REF!/#REF! -> 0.33333333 | M5: =#REF!/$B$21 -> 0.0033738192
A6: KBM001 | B6: =Parametrage!E10 -> 1536 | C6: =Parametrage!F10 -> 96 | D6: =ROUNDUP(B6/C6,0) -> 16 | E6: =Parametrage!G10 -> 6 | F6: =B6/$B$24 -> 16.695652 | G6: =#REF!/#REF! -> 0.17391304 | H6: =IF(#REF!=0,0,1/#REF!) -> 5.75 | I6: =Parametrage!H10 -> 225 | J6: =#REF!/#REF! -> 2.34375 | K6: =ROUNDUP(60/#REF!,0) -> 26 | L6: =#REF!/#REF! -> 6.8266667 | M6: =#REF!/$B$21 -> 0.069095816
A7: PCPH85 | B7: =Parametrage!E11 -> 0 | C7: =Parametrage!F11 -> 384 | D7: =ROUNDUP(B7/C7,0) -> 0 | E7: =Parametrage!G11 -> 12 | F7: =B7/$B$24 -> 0 | G7: =#REF!/#REF! -> 0 | H7: =IF(#REF!=0,0,1/#REF!) -> 0 | I7: =Parametrage!H11 -> 1295 | J7: =#REF!/#REF! -> 3.3723958 | K7: =ROUNDUP(60/#REF!,0) -> 18 | L7: =#REF!/#REF! -> 0 | M7: =#REF!/$B$21 -> 0
A8: PCPH86 | B8: =Parametrage!E12 -> 0 | C8: =Parametrage!F12 -> 384 | D8: =ROUNDUP(B8/C8,0) -> 0 | E8: =Parametrage!G12 -> 12 | F8: =B8/$B$24 -> 0 | G8: =#REF!/#REF! -> 0 | H8: =IF(#REF!=0,0,1/#REF!) -> 0 | I8: =Parametrage!H12 -> 1295 | J8: =#REF!/#REF! -> 3.3723958 | K8: =ROUNDUP(60/#REF!,0) -> 18 | L8: =#REF!/#REF! -> 0 | M8: =#REF!/$B$21 -> 0
A9: PSH002 | B9: =Parametrage!E13 -> 10710 | C9: =Parametrage!F13 -> 384 | D9: =ROUNDUP(B9/C9,0) -> 28 | E9: =Parametrage!G13 -> 12 | F9: =B9/$B$24 -> 116.41304 | G9: =#REF!/#REF! -> 0.30315897 | H9: =IF(#REF!=0,0,1/#REF!) -> 3.2985994 | I9: =Parametrage!H13 -> 1295 | J9: =#REF!/#REF! -> 3.3723958 | K9: =ROUNDUP(60/#REF!,0) -> 18 | L9: =#REF!/#REF! -> 8.2702703 | M9: =#REF!/$B$21 -> 0.083707189
A10: PSH004 | B10: =Parametrage!E14 -> 27897 | C10: =Parametrage!F14 -> 160 | D10: =ROUNDUP(B10/C10,0) -> 175 | E10: =Parametrage!G14 -> 11 | F10: =B10/$B$24 -> 303.22826 | G10: =#REF!/#REF! -> 1.8951766 | H10: =IF(#REF!=0,0,1/#REF!) -> 0.5276553 | I10: =Parametrage!H14 -> 584 | J10: =#REF!/#REF! -> 3.65 | K10: =ROUNDUP(60/#REF!,0) -> 17 | L10: =#REF!/#REF! -> 47.768836 | M10: =#REF!/$B$21 -> 0.48349024
A11: PSH007 | B11: =Parametrage!E15 -> 25233 | C11: =Parametrage!F15 -> 384 | D11: =ROUNDUP(B11/C11,0) -> 66 | E11: =Parametrage!G15 -> 12 | F11: =B11/$B$24 -> 274.27174 | G11: =#REF!/#REF! -> 0.71424932 | H11: =IF(#REF!=0,0,1/#REF!) -> 1.4000713 | I11: =Parametrage!H15 -> 1985 | J11: =#REF!/#REF! -> 5.1692708 | K11: =ROUNDUP(60/#REF!,0) -> 12 | L11: =#REF!/#REF! -> 12.711839 | M11: =#REF!/$B$21 -> 0.12866234
A12: ZFM32 | B12: =Parametrage!E16 -> 1344 | C12: =Parametrage!F16 -> 32 | D12: =ROUNDUP(B12/C12,0) -> 42 | E12: =Parametrage!G16 -> 9 | F12: =B12/$B$24 -> 14.608696 | G12: =#REF!/#REF! -> 0.45652174 | H12: =IF(#REF!=0,0,1/#REF!) -> 2.1904762 | I12: =Parametrage!H16 -> 60 | J12: =#REF!/#REF! -> 1.875 | K12: =ROUNDUP(60/#REF!,0) -> 32 | L12: =#REF!/#REF! -> 22.4 | M12: =#REF!/$B$21 -> 0.22672065
A13: Total | D13: =SUBTOTAL(109,#REF!) -> 350 | M13: =SUBTOTAL(109,Tableau1[Charge (%)]) -> 1.0440915
F15: donnée a modifier
A16: Données d'entrée : | F16: ne pas toucher | I16: Matin | J16: Après-Midi | K16: Nuit | L16: HS
A17: Temps d'ouverture (h) : | B17: =SUM(I24:L24) -> 126 | H17: Lundi | I17: 8 | J17: 8 | K17: 8 | L17: 6
A18: Tps. MN2 (h) : | B18: 2.5 | H18: Mardi | I18: 8 | J18: 8 | K18: 8
A19: Tps chgt série (h) : | B19: =(2*#REF!)/60 -> 11.666667 | C19: 2min par lot (QL=1 lot) | H19: Mercredi | I19: 8 | J19: 8 | K19: 8
A20: TRS (%) : | B20: 0.8 | H20: Jeudi | I20: 8 | J20: 8 | K20: 8
A21: Temps disponible (h) : | B21: =(B17-B18)*B20 -> 98.8 | H21: Vendredi | I21: 6 | J21: 6 | K21: 6 | L21: 6
H22: Samedi | I22: 0 | J22: 0 | K22: 0 | L22: 6 pour MN2
A23: Temps Ouverture 3x8 : | B23: 114 | H23: Dimanche | I23: 0 | J23: 0 | K23: 0 | M23: temps douverture
A24: Temps Ouverture 2x8 : | B24: 92 | H24: TOTAL | I24: =SUM(I17:I23) -> 38 | J24: =SUM(J17:J23) -> 38 | K24: =SUM(K17:K23) -> 38 | L24: =SUM(L17:L23) -> 12 | M24: =SUM(I24:L24) -> 126
L25: =L24+6 -> 18
