Workbook

Sheet BAS
A4: Les tickets et factures sont à ajouter manuellement uniquement ici. Le numéro de ticket est en gras si le ticket n'a pas encore été ajouté au classeur comptabilité. Le libellé est en gras si le paiement n'a pas encore été effectué.
A7: TOTAL | H7: =SUM(H10:H506) -> 0 | I7: =SUM(I10:I506) -> 226.85 | J7: =H7-I7 -> -226.85
A8: Date ticket | B8: Date compta | C8: Date banque | D8: Catégorie | E8: Sous-catégorie | F8: N° ticket | G8: libellé | H8: Recettes | I8: Dépenses | J8: Solde
A9: - | B9: - | C9: - | D9: - | E9: - | F9: - | G9: État du compte au début de l'exercice | J9: 8706.5
A10: 43442 | B10: 43445 | C10: 43446 | D10: PA / soupes d'ici et d'ailleurs | E10: - | F10: B1 | G10: Lait - Coop Pronto (Théophile) | I10: 3.6 | J10: =J9+H10-I10 -> 8702.9
A11: 43442 | B11: 43445 | C11: 43447 | D11: PA / soupes d'ici et d'ailleurs | E11: - | F11: B2 | G11: Oignons, bouillon et pain - Coop, Gerber et Wyss (Albane) | I11: 50.05 | J11: =J10+H11-I11 -> 8652.85
A12: 43449 | B12: 43450 | C12: 43453 | D12: Association / divers | E12: - | F12: C1 | G12: Matériel boîte, marche violences - Migros (Layla remboursée par Théophile) | I12: 15.05 | J12: =J11+H12-I12 -> 8637.8
A13: 43413 | B13: 43458 | C13: 43461 | D13: Association / fonctionnement | E13: Site internet | F13: C2 | G13: Hébergement et nom de domaine - Oxito (Théophile) | I13: 81.6 | J13: =J12+H13-I13 -> 8556.2
A14: 43442 | B14: 43473 | C14: 43474 | D14: PA / soupes d'ici et d'ailleurs | E14: - | F14: B3 | G14: Thé soupes d'ici et d'ailleurs - Thés du voyage (Matteo) | I14: 15.4 | J14: =J13+H14-I14 -> 8540.8
A15: 43455 | B15: 43473 | C15: 43474 | D15: PA / ensemble au studio | E15: - | F15: B4 | G15: Fondue au chocolat pour rencontre au studio - Coop Pronto (Matteo) | I15: 11.45 | J15: =J14+H15-I15 -> 8529.35
A16: 43465 | B16: 43473 | C16: 43465 | D16: Association / fonctionnement | E16: Site internet | F16: C3 | G16: Nom de domaine et DNS fin de période en cours (nouveau site) - Infomaniak (Théophile) | I16: 3.55 | J16: =J15+H16-I16 -> 8525.8
A17: 43465 | B17: 43473 | C17: 43465 | D17: Association / fonctionnement | E17: Banque | F17: C4 | G17: Frais bancaires annuels - BAS (Théophile) | I17: 46.15 | J17: =J16+H17-I17 -> 8479.65
J18: =J17+H18-I18 -> 8479.65
J19: =J18+H19-I19 -> 8479.65
J20: =J19+H20-I20 -> 8479.65
J21: =J20+H21-I21 -> 8479.65
J22: =J21+H22-I22 -> 8479.65
J23: =J22+H23-I23 -> 8479.65
J24: =J23+H24-I24 -> 8479.65
J25: =J24+H25-I25 -> 8479.65
J26: =J25+H26-I26 -> 8479.65
J27: =J26+H27-I27 -> 8479.65
J28: =J27+H28-I28 -> 8479.65
J29: =J28+H29-I29 -> 8479.65
... J554: =J553+H554-I554 -> 8479.65

Sheet Global catégories
A2: Entrées - sorties par catégories
B5: Entrées | C5: Sorties | D5: balance | E5: Initial (04-12-2018) | F5: Solde
A6: TOTAL | B6: =SUM(B8:B10) -> 0 | C6: =SUM(C8:C10) -> 226.85 | D6: =B6-C6 -> -226.85 | E6: =BAS!J9 -> 8706.5 | F6: =IFERROR(__xludf.DUMMYFUNCTION("INDEX(FILTER(BAS!J$9:J$508,(BAS!$C$10:$C$509>=$K$2)*(BAS!$C$10:$C$509<=$J$3)),1)"),8706.5) -> 8706.5
A7: libellés
A8: Festival | B8: =Festival!H5 -> 0 | C8: =Festival!I5 -> 0 | D8: =B8-C8 -> 0 | E8: 2000 | F8: =E8+D8 -> 2000
A9: PA | B9: ='Pole d''action'!H5 -> 0 | C9: ='Pole d''action'!I5 -> 80.5 | D9: =B9-C9 -> -80.5 | E9: 4213 | F9: =E9+D9 -> 4132.5
A10: Association | B10: =Association!H5 -> 0 | C10: =Association!I5 -> 146.35 | D10: =B10-C10 -> -146.35 | E10: =E6-E8-E9 -> 2493.5 | F10: =E10+D10 -> 2347.15

Sheet Liste catégories
A1: Catégorie | B1: Remarque
A2: Festival / comm / t-shirts flags
A3: Festival / comm / internet
A4: Festival / comm / impressions
A5: Festival / comm / graphisme
A6: Festival / comm / autres
A7: Festival / locaux
A8: Festival / logistique / STRID
A9: Festival / logistique / son
A10: Festival / logistique / tentes bancs tables
A11: Festival / logistique / transports
A12: Festival / logistique / divers
A13: Festival / décoration
... A37: Association / divers

Sheet Festival
A1: Festival
A3: N° ticket | B3: A
A5: TOTAL | H5: =SUM(H7:H510) -> 0 | I5: =SUM(I7:I510) -> 0 | J5: =H5-I5 -> 0
A6: Date ticket | B6: Date compta | C6: Date banque | D6: Catégorie | E6: Sous-catégorie | F6: N° ticket | G6: libellé | H6: Recettes | I6: Dépenses | J6: Bilan
A7: {=IFERROR(INDEX(BAS!A$10:A$510,SMALL(IF(MID(BAS!$F$10:$F$510,1,1)=$B$3,ROW(BAS!A$10:A$510)-MIN(ROW(BAS!A$10:A$510))+1),ROWS($A$7:A7))),"")} | B7: {=IFERROR(INDEX(BAS!B$10:B$510,SMALL(IF(MID(BAS!$F$10:$F$510,1,1)=$B$3,ROW(BAS!B$10:B$510)-MIN(ROW(BAS!B$10:B$510))+1),ROWS($A$7:B7))),"")} | C7: {=IFERROR(INDEX(BAS!C$10:C$510,SMALL(IF(MID(BAS!$F$10:$F$510,1,1)=$B$3,ROW(BAS!C$10:C$510)-MIN(ROW(BAS!C$10:C$510))+1),ROWS($A$7:C7))),"")} | D7: {=IFERROR(INDEX(BAS!D$10:D$510,SMALL(IF(MID(BAS!$F$10:$F$510,1,1)=$B$3,ROW(BAS!D$10:D$510)-MIN(ROW(BAS!D$10:D$510))+1),ROWS($A$7:D7))),"")} | E7: {=IFERROR(INDEX(BAS!E$10:E$510,SMALL(IF(MID(BAS!$F$10:$F$510,1,1)=$B$3,ROW(BAS!E$10:E$510)-MIN(ROW(BAS!E$10:E$510))+1),ROWS($A$7:E7))),"")} | F7: {=IFERROR(INDEX(BAS!F$10:F$510,SMALL(IF(MID(BAS!$F$10:$F$510,1,1)=$B$3,ROW(BAS!F$10:F$510)-MIN(ROW(BAS!F$10:F$510))+1),ROWS($A$7:F7))),"")} | G7: {=IFERROR(INDEX(BAS!G$10:G$510,SMALL(IF(MID(BAS!$F$10:$F$510,1,1)=$B$3,ROW(BAS!G$10:G$510)-MIN(ROW(BAS!G$10:G$510))+1),ROWS($A$7:G7))),"")} | H7: {=IFERROR(INDEX(BAS!H$10:H$510,SMALL(IF(MID(BAS!$F$10:$F$510,1,1)=$B$3,ROW(BAS!H$10:H$510)-MIN(ROW(BAS!H$10:H$510))+1),ROWS($A$7:H7))),"")} | I7: {=IFERROR(INDEX(BAS!I$10:I$510,SMALL(IF(MID(BAS!$F$10:$F$510,1,1)=$B$3,ROW(BAS!I$10:I$510)-MIN(ROW(BAS!I$10:I$510))+1),ROWS($A$7:I7))),"")} | J7: =IFERROR(H7-I7,"")
A8: {=IFERROR(INDEX(BAS!A$10:A$510,SMALL(IF(MID(BAS!$F$10:$F$510,1,1)=$B$3,ROW(BAS!A$10:A$510)-MIN(ROW(BAS!A$10:A$510))+1),ROWS($A$7:A8))),"")} | B8: {=IFERROR(INDEX(BAS!B$10:B$510,SMALL(IF(MID(BAS!$F$10:$F$510,1,1)=$B$3,ROW(BAS!B$10:B$510)-MIN(ROW(BAS!B$10:B$510))+1),ROWS($A$7:B8))),"")} | C8: {=IFERROR(INDEX(BAS!C$10:C$510,SMALL(IF(MID(BAS!$F$10:$F$510,1,1)=$B$3,ROW(BAS!C$10:C$510)-MIN(ROW(BAS!C$10:C$510))+1),ROWS($A$7:C8))),"")} | D8: {=IFERROR(INDEX(BAS!D$10:D$510,SMALL(IF(MID(BAS!$F$10:$F$510,1,1)=$B$3,ROW(BAS!D$10:D$510)-MIN(ROW(BAS!D$10:D$510))+1),ROWS($A$7:D8))),"")} | E8: {=IFERROR(INDEX(BAS!E$10:E$510,SMALL(IF(MID(BAS!$F$10:$F$510,1,1)=$B$3,ROW(BAS!E$10:E$510)-MIN(ROW(BAS!E$10:E$510))+1),ROWS($A$7:E8))),"")} | F8: {=IFERROR(INDEX(BAS!F$10:F$510,SMALL(IF(MID(BAS!$F$10:$F$510,1,1)=$B$3,ROW(BAS!F$10:F$510)-MIN(ROW(BAS!F$10:F$510))+1),ROWS($A$7:F8))),"")} | G8: {=IFERROR(INDEX(BAS!G$10:G$510,SMALL(IF(MID(BAS!$F$10:$F$510,1,1)=$B$3,ROW(BAS!G$10:G$510)-MIN(ROW(BAS!G$10:G$510))+1),ROWS($A$7:G8))),"")} | H8: {=IFERROR(INDEX(BAS!H$10:H$510,SMALL(IF(MID(BAS!$F$10:$F$510,1,1)=$B$3,ROW(BAS!H$10:H$510)-MIN(ROW(BAS!H$10:H$510))+1),ROWS($A$7:H8))),"")} | I8: {=IFERROR(INDEX(BAS!I$10:I$510,SMALL(IF(MID(BAS!$F$10:$F$510,1,1)=$B$3,ROW(BAS!I$10:I$510)-MIN(ROW(BAS!I$10:I$510))+1),ROWS($A$7:I8))),"")} | J8: =IFERROR(J7+H8-I8,"")
A9: {=IFERROR(INDEX(BAS!A$10:A$510,SMALL(IF(MID(BAS!$F$10:$F$510,1,1)=$B$3,ROW(BAS!A$10:A$510)-MIN(ROW(BAS!A$10:A$510))+1),ROWS($A$7:A9))),"")} | B9: {=IFERROR(INDEX(BAS!B$10:B$510,SMALL(IF(MID(BAS!$F$10:$F$510,1,1)=$B$3,ROW(BAS!B$10:B$510)-MIN(ROW(BAS!B$10:B$510))+1),ROWS($A$7:B9))),"")} | C9: {=IFERROR(INDEX(BAS!C$10:C$510,SMALL(IF(MID(BAS!$F$10:$F$510,1,1)=$B$3,ROW(BAS!C$10:C$510)-MIN(ROW(BAS!C$10:C$510))+1),ROWS($A$7:C9))),"")} | D9: {=IFERROR(INDEX(BAS!D$10:D$510,SMALL(IF(MID(BAS!$F$10:$F$510,1,1)=$B$3,ROW(BAS!D$10:D$510)-MIN(ROW(BAS!D$10:D$510))+1),ROWS($A$7:D9))),"")} | E9: {=IFERROR(INDEX(BAS!E$10:E$510,SMALL(IF(MID(BAS!$F$10:$F$510,1,1)=$B$3,ROW(BAS!E$10:E$510)-MIN(ROW(BAS!E$10:E$510))+1),ROWS($A$7:E9))),"")} | F9: {=IFERROR(INDEX(BAS!F$10:F$510,SMALL(IF(MID(BAS!$F$10:$F$510,1,1)=$B$3,ROW(BAS!F$10:F$510)-MIN(ROW(BAS!F$10:F$510))+1),ROWS($A$7:F9))),"")} | G9: {=IFERROR(INDEX(BAS!G$10:G$510,SMALL(IF(MID(BAS!$F$10:$F$510,1,1)=$B$3,ROW(BAS!G$10:G$510)-MIN(ROW(BAS!G$10:G$510))+1),ROWS($A$7:G9))),"")} | H9: {=IFERROR(INDEX(BAS!H$10:H$510,SMALL(IF(MID(BAS!$F$10:$F$510,1,1)=$B$3,ROW(BAS!H$10:H$510)-MIN(ROW(BAS!H$10:H$510))+1),ROWS($A$7:H9))),"")} | I9: {=IFERROR(INDEX(BAS!I$10:I$510,SMALL(IF(MID(BAS!$F$10:$F$510,1,1)=$B$3,ROW(BAS!I$10:I$510)-MIN(ROW(BAS!I$10:I$510))+1),ROWS($A$7:I9))),"")} | J9: =IFERROR(J8+H9-I9,"")
A10: {=IFERROR(INDEX(BAS!A$10:A$510,SMALL(IF(MID(BAS!$F$10:$F$510,1,1)=$B$3,ROW(BAS!A$10:A$510)-MIN(ROW(BAS!A$10:A$510))+1),ROWS($A$7:A10))),"")} | B10: {=IFERROR(INDEX(BAS!B$10:B$510,SMALL(IF(MID(BAS!$F$10:$F$510,1,1)=$B$3,ROW(BAS!B$10:B$510)-MIN(ROW(BAS!B$10:B$510))+1),ROWS($A$7:B10))),"")} | C10: {=IFERROR(INDEX(BAS!C$10:C$510,SMALL(IF(MID(BAS!$F$10:$F$510,1,1)=$B$3,ROW(BAS!C$10:C$510)-MIN(ROW(BAS!C$10:C$510))+1),ROWS($A$7:C10))),"")} | D10: {=IFERROR(INDEX(BAS!D$10:D$510,SMALL(IF(MID(BAS!$F$10:$F$510,1,1)=$B$3,ROW(BAS!D$10:D$510)-MIN(ROW(BAS!D$10:D$510))+1),ROWS($A$7:D10))),"")} | E10: {=IFERROR(INDEX(BAS!E$10:E$510,SMALL(IF(MID(BAS!$F$10:$F$510,1,1)=$B$3,ROW(BAS!E$10:E$510)-MIN(ROW(BAS!E$10:E$510))+1),ROWS($A$7:E10))),"")} | F10: {=IFERROR(INDEX(BAS!F$10:F$510,SMALL(IF(MID(BAS!$F$10:$F$510,1,1)=$B$3,ROW(BAS!F$10:F$510)-MIN(ROW(BAS!F$10:F$510))+1),ROWS($A$7:F10))),"")} | G10: {=IFERROR(INDEX(BAS!G$10:G$510,SMALL(IF(MID(BAS!$F$10:$F$510,1,1)=$B$3,ROW(BAS!G$10:G$510)-MIN(ROW(BAS!G$10:G$510))+1),ROWS($A$7:G10))),"")} | H10: {=IFERROR(INDEX(BAS!H$10:H$510,SMALL(IF(MID(BAS!$F$10:$F$510,1,1)=$B$3,ROW(BAS!H$10:H$510)-MIN(ROW(BAS!H$10:H$510))+1),ROWS($A$7:H10))),"")} | I10: {=IFERROR(INDEX(BAS!I$10:I$510,SMALL(IF(MID(BAS!$F$10:$F$510,1,1)=$B$3,ROW(BAS!I$10:I$510)-MIN(ROW(BAS!I$10:I$510))+1),ROWS($A$7:I10))),"")} | J10: =IFERROR(J9+H10-I10,"")
A11: {=IFERROR(INDEX(BAS!A$10:A$510,SMALL(IF(MID(BAS!$F$10:$F$510,1,1)=$B$3,ROW(BAS!A$10:A$510)-MIN(ROW(BAS!A$10:A$510))+1),ROWS($A$7:A11))),"")} | B11: {=IFERROR(INDEX(BAS!B$10:B$510,SMALL(IF(MID(BAS!$F$10:$F$510,1,1)=$B$3,ROW(BAS!B$10:B$510)-MIN(ROW(BAS!B$10:B$510))+1),ROWS($A$7:B11))),"")} | C11: {=IFERROR(INDEX(BAS!C$10:C$510,SMALL(IF(MID(BAS!$F$10:$F$510,1,1)=$B$3,ROW(BAS!C$10:C$510)-MIN(ROW(BAS!C$10:C$510))+1),ROWS($A$7:C11))),"")} | D11: {=IFERROR(INDEX(BAS!D$10:D$510,SMALL(IF(MID(BAS!$F$10:$F$510,1,1)=$B$3,ROW(BAS!D$10:D$510)-MIN(ROW(BAS!D$10:D$510))+1),ROWS($A$7:D11))),"")} | E11: {=IFERROR(INDEX(BAS!E$10:E$510,SMALL(IF(MID(BAS!$F$10:$F$510,1,1)=$B$3,ROW(BAS!E$10:E$510)-MIN(ROW(BAS!E$10:E$510))+1),ROWS($A$7:E11))),"")} | F11: {=IFERROR(INDEX(BAS!F$10:F$510,SMALL(IF(MID(BAS!$F$10:$F$510,1,1)=$B$3,ROW(BAS!F$10:F$510)-MIN(ROW(BAS!F$10:F$510))+1),ROWS($A$7:F11))),"")} | G11: {=IFERROR(INDEX(BAS!G$10:G$510,SMALL(IF(MID(BAS!$F$10:$F$510,1,1)=$B$3,ROW(BAS!G$10:G$510)-MIN(ROW(BAS!G$10:G$510))+1),ROWS($A$7:G11))),"")} | H11: {=IFERROR(INDEX(BAS!H$10:H$510,SMALL(IF(MID(BAS!$F$10:$F$510,1,1)=$B$3,ROW(BAS!H$10:H$510)-MIN(ROW(BAS!H$10:H$510))+1),ROWS($A$7:H11))),"")} | I11: {=IFERROR(INDEX(BAS!I$10:I$510,SMALL(IF(MID(BAS!$F$10:$F$510,1,1)=$B$3,ROW(BAS!I$10:I$510)-MIN(ROW(BAS!I$10:I$510))+1),ROWS($A$7:I11))),"")} | J11: =IFERROR(J10+H11-I11,"")
A12: {=IFERROR(INDEX(BAS!A$10:A$510,SMALL(IF(MID(BAS!$F$10:$F$510,1,1)=$B$3,ROW(BAS!A$10:A$510)-MIN(ROW(BAS!A$10:A$510))+1),ROWS($A$7:A12))),"")} | B12: {=IFERROR(INDEX(BAS!B$10:B$510,SMALL(IF(MID(BAS!$F$10:$F$510,1,1)=$B$3,ROW(BAS!B$10:B$510)-MIN(ROW(BAS!B$10:B$510))+1),ROWS($A$7:B12))),"")} | C12: {=IFERROR(INDEX(BAS!C$10:C$510,SMALL(IF(MID(BAS!$F$10:$F$510,1,1)=$B$3,ROW(BAS!C$10:C$510)-MIN(ROW(BAS!C$10:C$510))+1),ROWS($A$7:C12))),"")} | D12: {=IFERROR(INDEX(BAS!D$10:D$510,SMALL(IF(MID(BAS!$F$10:$F$510,1,1)=$B$3,ROW(BAS!D$10:D$510)-MIN(ROW(BAS!D$10:D$510))+1),ROWS($A$7:D12))),"")} | E12: {=IFERROR(INDEX(BAS!E$10:E$510,SMALL(IF(MID(BAS!$F$10:$F$510,1,1)=$B$3,ROW(BAS!E$10:E$510)-MIN(ROW(BAS!E$10:E$510))+1),ROWS($A$7:E12))),"")} | F12: {=IFERROR(INDEX(BAS!F$10:F$510,SMALL(IF(MID(BAS!$F$10:$F$510,1,1)=$B$3,ROW(BAS!F$10:F$510)-MIN(ROW(BAS!F$10:F$510))+1),ROWS($A$7:F12))),"")} | G12: {=IFERROR(INDEX(BAS!G$10:G$510,SMALL(IF(MID(BAS!$F$10:$F$510,1,1)=$B$3,ROW(BAS!G$10:G$510)-MIN(ROW(BAS!G$10:G$510))+1),ROWS($A$7:G12))),"")} | H12: {=IFERROR(INDEX(BAS!H$10:H$510,SMALL(IF(MID(BAS!$F$10:$F$510,1,1)=$B$3,ROW(BAS!H$10:H$510)-MIN(ROW(BAS!H$10:H$510))+1),ROWS($A$7:H12))),"")} | I12: {=IFERROR(INDEX(BAS!I$10:I$510,SMALL(IF(MID(BAS!$F$10:$F$510,1,1)=$B$3,ROW(BAS!I$10:I$510)-MIN(ROW(BAS!I$10:I$510))+1),ROWS($A$7:I12))),"")} | J12: =IFERROR(J11+H12-I12,"")
A13: {=IFERROR(INDEX(BAS!A$10:A$510,SMALL(IF(MID(BAS!$F$10:$F$510,1,1)=$B$3,ROW(BAS!A$10:A$510)-MIN(ROW(BAS!A$10:A$510))+1),ROWS($A$7:A13))),"")} | B13: {=IFERROR(INDEX(BAS!B$10:B$510,SMALL(IF(MID(BAS!$F$10:$F$510,1,1)=$B$3,ROW(BAS!B$10:B$510)-MIN(ROW(BAS!B$10:B$510))+1),ROWS($A$7:B13))),"")} | C13: {=IFERROR(INDEX(BAS!C$10:C$510,SMALL(IF(MID(BAS!$F$10:$F$510,1,1)=$B$3,ROW(BAS!C$10:C$510)-MIN(ROW(BAS!C$10:C$510))+1),ROWS($A$7:C13))),"")} | D13: {=IFERROR(INDEX(BAS!D$10:D$510,SMALL(IF(MID(BAS!$F$10:$F$510,1,1)=$B$3,ROW(BAS!D$10:D$510)-MIN(ROW(BAS!D$10:D$510))+1),ROWS($A$7:D13))),"")} | E13: {=IFERROR(INDEX(BAS!E$10:E$510,SMALL(IF(MID(BAS!$F$10:$F$510,1,1)=$B$3,ROW(BAS!E$10:E$510)-MIN(ROW(BAS!E$10:E$510))+1),ROWS($A$7:E13))),"")} | F13: {=IFERROR(INDEX(BAS!F$10:F$510,SMALL(IF(MID(BAS!$F$10:$F$510,1,1)=$B$3,ROW(BAS!F$10:F$510)-MIN(ROW(BAS!F$10:F$510))+1),ROWS($A$7:F13))),"")} | G13: {=IFERROR(INDEX(BAS!G$10:G$510,SMALL(IF(MID(BAS!$F$10:$F$510,1,1)=$B$3,ROW(BAS!G$10:G$510)-MIN(ROW(BAS!G$10:G$510))+1),ROWS($A$7:G13))),"")} | H13: {=IFERROR(INDEX(BAS!H$10:H$510,SMALL(IF(MID(BAS!$F$10:$F$510,1,1)=$B$3,ROW(BAS!H$10:H$510)-MIN(ROW(BAS!H$10:H$510))+1),ROWS($A$7:H13))),"")} | I13: {=IFERROR(INDEX(BAS!I$10:I$510,SMALL(IF(MID(BAS!$F$10:$F$510,1,1)=$B$3,ROW(BAS!I$10:I$510)-MIN(ROW(BAS!I$10:I$510))+1),ROWS($A$7:I13))),"")} | J13: =IFERROR(J12+H13-I13,"")
A14: {=IFERROR(INDEX(BAS!A$10:A$510,SMALL(IF(MID(BAS!$F$10:$F$510,1,1)=$B$3,ROW(BAS!A$10:A$510)-MIN(ROW(BAS!A$10:A$510))+1),ROWS($A$7:A14))),"")} | B14: {=IFERROR(INDEX(BAS!B$10:B$510,SMALL(IF(MID(BAS!$F$10:$F$510,1,1)=$B$3,ROW(BAS!B$10:B$510)-MIN(ROW(BAS!B$10:B$510))+1),ROWS($A$7:B14))),"")} | C14: {=IFERROR(INDEX(BAS!C$10:C$510,SMALL(IF(MID(BAS!$F$10:$F$510,1,1)=$B$3,ROW(BAS!C$10:C$510)-MIN(ROW(BAS!C$10:C$510))+1),ROWS($A$7:C14))),"")} | D14: {=IFERROR(INDEX(BAS!D$10:D$510,SMALL(IF(MID(BAS!$F$10:$F$510,1,1)=$B$3,ROW(BAS!D$10:D$510)-MIN(ROW(BAS!D$10:D$510))+1),ROWS($A$7:D14))),"")} | E14: {=IFERROR(INDEX(BAS!E$10:E$510,SMALL(IF(MID(BAS!$F$10:$F$510,1,1)=$B$3,ROW(BAS!E$10:E$510)-MIN(ROW(BAS!E$10:E$510))+1),ROWS($A$7:E14))),"")} | F14: {=IFERROR(INDEX(BAS!F$10:F$510,SMALL(IF(MID(BAS!$F$10:$F$510,1,1)=$B$3,ROW(BAS!F$10:F$510)-MIN(ROW(BAS!F$10:F$510))+1),ROWS($A$7:F14))),"")} | G14: {=IFERROR(INDEX(BAS!G$10:G$510,SMALL(IF(MID(BAS!$F$10:$F$510,1,1)=$B$3,ROW(BAS!G$10:G$510)-MIN(ROW(BAS!G$10:G$510))+1),ROWS($A$7:G14))),"")} | H14: {=IFERROR(INDEX(BAS!H$10:H$510,SMALL(IF(MID(BAS!$F$10:$F$510,1,1)=$B$3,ROW(BAS!H$10:H$510)-MIN(ROW(BAS!H$10:H$510))+1),ROWS($A$7:H14))),"")} | I14: {=IFERROR(INDEX(BAS!I$10:I$510,SMALL(IF(MID(BAS!$F$10:$F$510,1,1)=$B$3,ROW(BAS!I$10:I$510)-MIN(ROW(BAS!I$10:I$510))+1),ROWS($A$7:I14))),"")} | J14: =IFERROR(J13+H14-I14,"")
A15: {=IFERROR(INDEX(BAS!A$10:A$510,SMALL(IF(MID(BAS!$F$10:$F$510,1,1)=$B$3,ROW(BAS!A$10:A$510)-MIN(ROW(BAS!A$10:A$510))+1),ROWS($A$7:A15))),"")} | B15: {=IFERROR(INDEX(BAS!B$10:B$510,SMALL(IF(MID(BAS!$F$10:$F$510,1,1)=$B$3,ROW(BAS!B$10:B$510)-MIN(ROW(BAS!B$10:B$510))+1),ROWS($A$7:B15))),"")} | C15: {=IFERROR(INDEX(BAS!C$10:C$510,SMALL(IF(MID(BAS!$F$10:$F$510,1,1)=$B$3,ROW(BAS!C$10:C$510)-MIN(ROW(BAS!C$10:C$510))+1),ROWS($A$7:C15))),"")} | D15: {=IFERROR(INDEX(BAS!D$10:D$510,SMALL(IF(MID(BAS!$F$10:$F$510,1,1)=$B$3,ROW(BAS!D$10:D$510)-MIN(ROW(BAS!D$10:D$510))+1),ROWS($A$7:D15))),"")} | E15: {=IFERROR(INDEX(BAS!E$10:E$510,SMALL(IF(MID(BAS!$F$10:$F$510,1,1)=$B$3,ROW(BAS!E$10:E$510)-MIN(ROW(BAS!E$10:E$510))+1),ROWS($A$7:E15))),"")} | F15: {=IFERROR(INDEX(BAS!F$10:F$510,SMALL(IF(MID(BAS!$F$10:$F$510,1,1)=$B$3,ROW(BAS!F$10:F$510)-MIN(ROW(BAS!F$10:F$510))+1),ROWS($A$7:F15))),"")} | G15: {=IFERROR(INDEX(BAS!G$10:G$510,SMALL(IF(MID(BAS!$F$10:$F$510,1,1)=$B$3,ROW(BAS!G$10:G$510)-MIN(ROW(BAS!G$10:G$510))+1),ROWS($A$7:G15))),"")} | H15: {=IFERROR(INDEX(BAS!H$10:H$510,SMALL(IF(MID(BAS!$F$10:$F$510,1,1)=$B$3,ROW(BAS!H$10:H$510)-MIN(ROW(BAS!H$10:H$510))+1),ROWS($A$7:H15))),"")} | I15: {=IFERROR(INDEX(BAS!I$10:I$510,SMALL(IF(MID(BAS!$F$10:$F$510,1,1)=$B$3,ROW(BAS!I$10:I$510)-MIN(ROW(BAS!I$10:I$510))+1),ROWS($A$7:I15))),"")} | J15: =IFERROR(J14+H15-I15,"")
A16: {=IFERROR(INDEX(BAS!A$10:A$510,SMALL(IF(MID(BAS!$F$10:$F$510,1,1)=$B$3,ROW(BAS!A$10:A$510)-MIN(ROW(BAS!A$10:A$510))+1),ROWS($A$7:A16))),"")} | B16: {=IFERROR(INDEX(BAS!B$10:B$510,SMALL(IF(MID(BAS!$F$10:$F$510,1,1)=$B$3,ROW(BAS!B$10:B$510)-MIN(ROW(BAS!B$10:B$510))+1),ROWS($A$7:B16))),"")} | C16: {=IFERROR(INDEX(BAS!C$10:C$510,SMALL(IF(MID(BAS!$F$10:$F$510,1,1)=$B$3,ROW(BAS!C$10:C$510)-MIN(ROW(BAS!C$10:C$510))+1),ROWS($A$7:C16))),"")} | D16: {=IFERROR(INDEX(BAS!D$10:D$510,SMALL(IF(MID(BAS!$F$10:$F$510,1,1)=$B$3,ROW(BAS!D$10:D$510)-MIN(ROW(BAS!D$10:D$510))+1),ROWS($A$7:D16))),"")} | E16: {=IFERROR(INDEX(BAS!E$10:E$510,SMALL(IF(MID(BAS!$F$10:$F$510,1,1)=$B$3,ROW(BAS!E$10:E$510)-MIN(ROW(BAS!E$10:E$510))+1),ROWS($A$7:E16))),"")} | F16: {=IFERROR(INDEX(BAS!F$10:F$510,SMALL(IF(MID(BAS!$F$10:$F$510,1,1)=$B$3,ROW(BAS!F$10:F$510)-MIN(ROW(BAS!F$10:F$510))+1),ROWS($A$7:F16))),"")} | G16: {=IFERROR(INDEX(BAS!G$10:G$510,SMALL(IF(MID(BAS!$F$10:$F$510,1,1)=$B$3,ROW(BAS!G$10:G$510)-MIN(ROW(BAS!G$10:G$510))+1),ROWS($A$7:G16))),"")} | H16: {=IFERROR(INDEX(BAS!H$10:H$510,SMALL(IF(MID(BAS!$F$10:$F$510,1,1)=$B$3,ROW(BAS!H$10:H$510)-MIN(ROW(BAS!H$10:H$510))+1),ROWS($A$7:H16))),"")} | I16: {=IFERROR(INDEX(BAS!I$10:I$510,SMALL(IF(MID(BAS!$F$10:$F$510,1,1)=$B$3,ROW(BAS!I$10:I$510)-MIN(ROW(BAS!I$10:I$510))+1),ROWS($A$7:I16))),"")} | J16: =IFERROR(J15+H16-I16,"")
A17: {=IFERROR(INDEX(BAS!A$10:A$510,SMALL(IF(MID(BAS!$F$10:$F$510,1,1)=$B$3,ROW(BAS!A$10:A$510)-MIN(ROW(BAS!A$10:A$510))+1),ROWS($A$7:A17))),"")} | B17: {=IFERROR(INDEX(BAS!B$10:B$510,SMALL(IF(MID(BAS!$F$10:$F$510,1,1)=$B$3,ROW(BAS!B$10:B$510)-MIN(ROW(BAS!B$10:B$510))+1),ROWS($A$7:B17))),"")} | C17: {=IFERROR(INDEX(BAS!C$10:C$510,SMALL(IF(MID(BAS!$F$10:$F$510,1,1)=$B$3,ROW(BAS!C$10:C$510)-MIN(ROW(BAS!C$10:C$510))+1),ROWS($A$7:C17))),"")} | D17: {=IFERROR(INDEX(BAS!D$10:D$510,SMALL(IF(MID(BAS!$F$10:$F$510,1,1)=$B$3,ROW(BAS!D$10:D$510)-MIN(ROW(BAS!D$10:D$510))+1),ROWS($A$7:D17))),"")} | E17: {=IFERROR(INDEX(BAS!E$10:E$510,SMALL(IF(MID(BAS!$F$10:$F$510,1,1)=$B$3,ROW(BAS!E$10:E$510)-MIN(ROW(BAS!E$10:E$510))+1),ROWS($A$7:E17))),"")} | F17: {=IFERROR(INDEX(BAS!F$10:F$510,SMALL(IF(MID(BAS!$F$10:$F$510,1,1)=$B$3,ROW(BAS!F$10:F$510)-MIN(ROW(BAS!F$10:F$510))+1),ROWS($A$7:F17))),"")} | G17: {=IFERROR(INDEX(BAS!G$10:G$510,SMALL(IF(MID(BAS!$F$10:$F$510,1,1)=$B$3,ROW(BAS!G$10:G$510)-MIN(ROW(BAS!G$10:G$510))+1),ROWS($A$7:G17))),"")} | H17: {=IFERROR(INDEX(BAS!H$10:H$510,SMALL(IF(MID(BAS!$F$10:$F$510,1,1)=$B$3,ROW(BAS!H$10:H$510)-MIN(ROW(BAS!H$10:H$510))+1),ROWS($A$7:H17))),"")} | I17: {=IFERROR(INDEX(BAS!I$10:I$510,SMALL(IF(MID(BAS!$F$10:$F$510,1,1)=$B$3,ROW(BAS!I$10:I$510)-MIN(ROW(BAS!I$10:I$510))+1),ROWS($A$7:I17))),"")} | J17: =IFERROR(J16+H17-I17,"")
A18: {=IFERROR(INDEX(BAS!A$10:A$510,SMALL(IF(MID(BAS!$F$10:$F$510,1,1)=$B$3,ROW(BAS!A$10:A$510)-MIN(ROW(BAS!A$10:A$510))+1),ROWS($A$7:A18))),"")} | B18: {=IFERROR(INDEX(BAS!B$10:B$510,SMALL(IF(MID(BAS!$F$10:$F$510,1,1)=$B$3,ROW(BAS!B$10:B$510)-MIN(ROW(BAS!B$10:B$510))+1),ROWS($A$7:B18))),"")} | C18: {=IFERROR(INDEX(BAS!C$10:C$510,SMALL(IF(MID(BAS!$F$10:$F$510,1,1)=$B$3,ROW(BAS!C$10:C$510)-MIN(ROW(BAS!C$10:C$510))+1),ROWS($A$7:C18))),"")} | D18: {=IFERROR(INDEX(BAS!D$10:D$510,SMALL(IF(MID(BAS!$F$10:$F$510,1,1)=$B$3,ROW(BAS!D$10:D$510)-MIN(ROW(BAS!D$10:D$510))+1),ROWS($A$7:D18))),"")} | E18: {=IFERROR(INDEX(BAS!E$10:E$510,SMALL(IF(MID(BAS!$F$10:$F$510,1,1)=$B$3,ROW(BAS!E$10:E$510)-MIN(ROW(BAS!E$10:E$510))+1),ROWS($A$7:E18))),"")} | F18: {=IFERROR(INDEX(BAS!F$10:F$510,SMALL(IF(MID(BAS!$F$10:$F$510,1,1)=$B$3,ROW(BAS!F$10:F$510)-MIN(ROW(BAS!F$10:F$510))+1),ROWS($A$7:F18))),"")} | G18: {=IFERROR(INDEX(BAS!G$10:G$510,SMALL(IF(MID(BAS!$F$10:$F$510,1,1)=$B$3,ROW(BAS!G$10:G$510)-MIN(ROW(BAS!G$10:G$510))+1),ROWS($A$7:G18))),"")} | H18: {=IFERROR(INDEX(BAS!H$10:H$510,SMALL(IF(MID(BAS!$F$10:$F$510,1,1)=$B$3,ROW(BAS!H$10:H$510)-MIN(ROW(BAS!H$10:H$510))+1),ROWS($A$7:H18))),"")} | I18: {=IFERROR(INDEX(BAS!I$10:I$510,SMALL(IF(MID(BAS!$F$10:$F$510,1,1)=$B$3,ROW(BAS!I$10:I$510)-MIN(ROW(BAS!I$10:I$510))+1),ROWS($A$7:I18))),"")} | J18: =IFERROR(J17+H18-I18,"")
A19: {=IFERROR(INDEX(BAS!A$10:A$510,SMALL(IF(MID(BAS!$F$10:$F$510,1,1)=$B$3,ROW(BAS!A$10:A$510)-MIN(ROW(BAS!A$10:A$510))+1),ROWS($A$7:A19))),"")} | B19: {=IFERROR(INDEX(BAS!B$10:B$510,SMALL(IF(MID(BAS!$F$10:$F$510,1,1)=$B$3,ROW(BAS!B$10:B$510)-MIN(ROW(BAS!B$10:B$510))+1),ROWS($A$7:B19))),"")} | C19: {=IFERROR(INDEX(BAS!C$10:C$510,SMALL(IF(MID(BAS!$F$10:$F$510,1,1)=$B$3,ROW(BAS!C$10:C$510)-MIN(ROW(BAS!C$10:C$510))+1),ROWS($A$7:C19))),"")} | D19: {=IFERROR(INDEX(BAS!D$10:D$510,SMALL(IF(MID(BAS!$F$10:$F$510,1,1)=$B$3,ROW(BAS!D$10:D$510)-MIN(ROW(BAS!D$10:D$510))+1),ROWS($A$7:D19))),"")} | E19: {=IFERROR(INDEX(BAS!E$10:E$510,SMALL(IF(MID(BAS!$F$10:$F$510,1,1)=$B$3,ROW(BAS!E$10:E$510)-MIN(ROW(BAS!E$10:E$510))+1),ROWS($A$7:E19))),"")} | F19: {=IFERROR(INDEX(BAS!F$10:F$510,SMALL(IF(MID(BAS!$F$10:$F$510,1,1)=$B$3,ROW(BAS!F$10:F$510)-MIN(ROW(BAS!F$10:F$510))+1),ROWS($A$7:F19))),"")} | G19: {=IFERROR(INDEX(BAS!G$10:G$510,SMALL(IF(MID(BAS!$F$10:$F$510,1,1)=$B$3,ROW(BAS!G$10:G$510)-MIN(ROW(BAS!G$10:G$510))+1),ROWS($A$7:G19))),"")} | H19: {=IFERROR(INDEX(BAS!H$10:H$510,SMALL(IF(MID(BAS!$F$10:$F$510,1,1)=$B$3,ROW(BAS!H$10:H$510)-MIN(ROW(BAS!H$10:H$510))+1),ROWS($A$7:H19))),"")} | I19: {=IFERROR(INDEX(BAS!I$10:I$510,SMALL(IF(MID(BAS!$F$10:$F$510,1,1)=$B$3,ROW(BAS!I$10:I$510)-MIN(ROW(BAS!I$10:I$510))+1),ROWS($A$7:I19))),"")} | J19: =IFERROR(J18+H19-I19,"")
... A510: {=IFERROR(INDEX(BAS!A$10:A$510,SMALL(IF(MID(BAS!$F$10:$F$510,1,1)=$B$3,ROW(BAS!A$10:A$510)-MIN(ROW(BAS!A$10:A$510))+1),ROWS($A$7:A510))),"")} | B510: {=IFERROR(INDEX(BAS!B$10:B$510,SMALL(IF(MID(BAS!$F$10:$F$510,1,1)=$B$3,ROW(BAS!B$10:B$510)-MIN(ROW(BAS!B$10:B$510))+1),ROWS($A$7:B510))),"")} | C510: {=IFERROR(INDEX(BAS!C$10:C$510,SMALL(IF(MID(BAS!$F$10:$F$510,1,1)=$B$3,ROW(BAS!C$10:C$510)-MIN(ROW(BAS!C$10:C$510))+1),ROWS($A$7:C510))),"")} | D510: {=IFERROR(INDEX(BAS!D$10:D$510,SMALL(IF(MID(BAS!$F$10:$F$510,1,1)=$B$3,ROW(BAS!D$10:D$510)-MIN(ROW(BAS!D$10:D$510))+1),ROWS($A$7:D510))),"")} | E510: {=IFERROR(INDEX(BAS!E$10:E$510,SMALL(IF(MID(BAS!$F$10:$F$510,1,1)=$B$3,ROW(BAS!E$10:E$510)-MIN(ROW(BAS!E$10:E$510))+1),ROWS($A$7:E510))),"")} | F510: {=IFERROR(INDEX(BAS!F$10:F$510,SMALL(IF(MID(BAS!$F$10:$F$510,1,1)=$B$3,ROW(BAS!F$10:F$510)-MIN(ROW(BAS!F$10:F$510))+1),ROWS($A$7:F510))),"")} | G510: {=IFERROR(INDEX(BAS!G$10:G$510,SMALL(IF(MID(BAS!$F$10:$F$510,1,1)=$B$3,ROW(BAS!G$10:G$510)-MIN(ROW(BAS!G$10:G$510))+1),ROWS($A$7:G510))),"")} | H510: {=IFERROR(INDEX(BAS!H$10:H$510,SMALL(IF(MID(BAS!$F$10:$F$510,1,1)=$B$3,ROW(BAS!H$10:H$510)-MIN(ROW(BAS!H$10:H$510))+1),ROWS($A$7:H510))),"")} | I510: {=IFERROR(INDEX(BAS!I$10:I$510,SMALL(IF(MID(BAS!$F$10:$F$510,1,1)=$B$3,ROW(BAS!I$10:I$510)-MIN(ROW(BAS!I$10:I$510))+1),ROWS($A$7:I510))),"")} | J510: =IFERROR(J509+H510-I510,"")

Sheet Pole d'action
A1: Pole d'action
A3: N° ticket | B3: B
A5: TOTAL | H5: =SUM(H7:H510) -> 0 | I5: =SUM(I7:I510) -> 80.5 | J5: =H5-I5 -> -80.5
A6: Date ticket | B6: Date compta | C6: Date banque | D6: Catégorie | E6: Sous-catégorie | F6: N° ticket | G6: libellé | H6: Recettes | I6: Dépenses | J6: Bilan
A7: {=IFERROR(INDEX(BAS!A$10:A$510,SMALL(IF(MID(BAS!$F$10:$F$510,1,1)=$B$3,ROW(BAS!A$10:A$510)-MIN(ROW(BAS!A$10:A$510))+1),ROWS($A$7:A7))),"")} -> 43442 | B7: {=IFERROR(INDEX(BAS!B$10:B$510,SMALL(IF(MID(BAS!$F$10:$F$510,1,1)=$B$3,ROW(BAS!B$10:B$510)-MIN(ROW(BAS!B$10:B$510))+1),ROWS($A$7:B7))),"")} -> 43445 | C7: {=IFERROR(INDEX(BAS!C$10:C$510,SMALL(IF(MID(BAS!$F$10:$F$510,1,1)=$B$3,ROW(BAS!C$10:C$510)-MIN(ROW(BAS!C$10:C$510))+1),ROWS($A$7:C7))),"")} -> 43446 | D7: {=IFERROR(INDEX(BAS!D$10:D$510,SMALL(IF(MID(BAS!$F$10:$F$510,1,1)=$B$3,ROW(BAS!D$10:D$510)-MIN(ROW(BAS!D$10:D$510))+1),ROWS($A$7:D7))),"")} -> PA / soupes d'ici et d'ailleurs | E7: {=IFERROR(INDEX(BAS!E$10:E$510,SMALL(IF(MID(BAS!$F$10:$F$510,1,1)=$B$3,ROW(BAS!E$10:E$510)-MIN(ROW(BAS!E$10:E$510))+1),ROWS($A$7:E7))),"")} -> - | F7: {=IFERROR(INDEX(BAS!F$10:F$510,SMALL(IF(MID(BAS!$F$10:$F$510,1,1)=$B$3,ROW(BAS!F$10:F$510)-MIN(ROW(BAS!F$10:F$510))+1),ROWS($A$7:F7))),"")} -> B1 | G7: {=IFERROR(INDEX(BAS!G$10:G$510,SMALL(IF(MID(BAS!$F$10:$F$510,1,1)=$B$3,ROW(BAS!G$10:G$510)-MIN(ROW(BAS!G$10:G$510))+1),ROWS($A$7:G7))),"")} -> Lait - Coop Pronto (Théophile) | H7: {=IFERROR(INDEX(BAS!H$10:H$510,SMALL(IF(MID(BAS!$F$10:$F$510,1,1)=$B$3,ROW(BAS!H$10:H$510)-MIN(ROW(BAS!H$10:H$510))+1),ROWS($A$7:H7))),"")} -> 0 | I7: {=IFERROR(INDEX(BAS!I$10:I$510,SMALL(IF(MID(BAS!$F$10:$F$510,1,1)=$B$3,ROW(BAS!I$10:I$510)-MIN(ROW(BAS!I$10:I$510))+1),ROWS($A$7:I7))),"")} -> 3.6 | J7: =IFERROR(H7-I7,"") -> -3.6
A8: {=IFERROR(INDEX(BAS!A$10:A$510,SMALL(IF(MID(BAS!$F$10:$F$510,1,1)=$B$3,ROW(BAS!A$10:A$510)-MIN(ROW(BAS!A$10:A$510))+1),ROWS($A$7:A8))),"")} -> 43442 | B8: {=IFERROR(INDEX(BAS!B$10:B$510,SMALL(IF(MID(BAS!$F$10:$F$510,1,1)=$B$3,ROW(BAS!B$10:B$510)-MIN(ROW(BAS!B$10:B$510))+1),ROWS($A$7:B8))),"")} -> 43445 | C8: {=IFERROR(INDEX(BAS!C$10:C$510,SMALL(IF(MID(BAS!$F$10:$F$510,1,1)=$B$3,ROW(BAS!C$10:C$510)-MIN(ROW(BAS!C$10:C$510))+1),ROWS($A$7:C8))),"")} -> 43447 | D8: {=IFERROR(INDEX(BAS!D$10:D$510,SMALL(IF(MID(BAS!$F$10:$F$510,1,1)=$B$3,ROW(BAS!D$10:D$510)-MIN(ROW(BAS!D$10:D$510))+1),ROWS($A$7:D8))),"")} -> PA / soupes d'ici et d'ailleurs | E8: {=IFERROR(INDEX(BAS!E$10:E$510,SMALL(IF(MID(BAS!$F$10:$F$510,1,1)=$B$3,ROW(BAS!E$10:E$510)-MIN(ROW(BAS!E$10:E$510))+1),ROWS($A$7:E8))),"")} -> - | F8: {=IFERROR(INDEX(BAS!F$10:F$510,SMALL(IF(MID(BAS!$F$10:$F$510,1,1)=$B$3,ROW(BAS!F$10:F$510)-MIN(ROW(BAS!F$10:F$510))+1),ROWS($A$7:F8))),"")} -> B2 | G8: {=IFERROR(INDEX(BAS!G$10:G$510,SMALL(IF(MID(BAS!$F$10:$F$510,1,1)=$B$3,ROW(BAS!G$10:G$510)-MIN(ROW(BAS!G$10:G$510))+1),ROWS($A$7:G8))),"")} -> Oignons, bouillon et pain - Coop, Gerber et Wyss (Albane) | H8: {=IFERROR(INDEX(BAS!H$10:H$510,SMALL(IF(MID(BAS!$F$10:$F$510,1,1)=$B$3,ROW(BAS!H$10:H$510)-MIN(ROW(BAS!H$10:H$510))+1),ROWS($A$7:H8))),"")} -> 0 | I8: {=IFERROR(INDEX(BAS!I$10:I$510,SMALL(IF(MID(BAS!$F$10:$F$510,1,1)=$B$3,ROW(BAS!I$10:I$510)-MIN(ROW(BAS!I$10:I$510))+1),ROWS($A$7:I8))),"")} -> 50.05 | J8: =IFERROR(J7+H8-I8,"") -> -53.65
A9: {=IFERROR(INDEX(BAS!A$10:A$510,SMALL(IF(MID(BAS!$F$10:$F$510,1,1)=$B$3,ROW(BAS!A$10:A$510)-MIN(ROW(BAS!A$10:A$510))+1),ROWS($A$7:A9))),"")} -> 43442 | B9: {=IFERROR(INDEX(BAS!B$10:B$510,SMALL(IF(MID(BAS!$F$10:$F$510,1,1)=$B$3,ROW(BAS!B$10:B$510)-MIN(ROW(BAS!B$10:B$510))+1),ROWS($A$7:B9))),"")} -> 43473 | C9: {=IFERROR(INDEX(BAS!C$10:C$510,SMALL(IF(MID(BAS!$F$10:$F$510,1,1)=$B$3,ROW(BAS!C$10:C$510)-MIN(ROW(BAS!C$10:C$510))+1),ROWS($A$7:C9))),"")} -> 43474 | D9: {=IFERROR(INDEX(BAS!D$10:D$510,SMALL(IF(MID(BAS!$F$10:$F$510,1,1)=$B$3,ROW(BAS!D$10:D$510)-MIN(ROW(BAS!D$10:D$510))+1),ROWS($A$7:D9))),"")} -> PA / soupes d'ici et d'ailleurs | E9: {=IFERROR(INDEX(BAS!E$10:E$510,SMALL(IF(MID(BAS!$F$10:$F$510,1,1)=$B$3,ROW(BAS!E$10:E$510)-MIN(ROW(BAS!E$10:E$510))+1),ROWS($A$7:E9))),"")} -> - | F9: {=IFERROR(INDEX(BAS!F$10:F$510,SMALL(IF(MID(BAS!$F$10:$F$510,1,1)=$B$3,ROW(BAS!F$10:F$510)-MIN(ROW(BAS!F$10:F$510))+1),ROWS($A$7:F9))),"")} -> B3 | G9: {=IFERROR(INDEX(BAS!G$10:G$510,SMALL(IF(MID(BAS!$F$10:$F$510,1,1)=$B$3,ROW(BAS!G$10:G$510)-MIN(ROW(BAS!G$10:G$510))+1),ROWS($A$7:G9))),"")} -> Thé soupes d'ici et d'ailleurs - Thés du voyage (Matteo) | H9: {=IFERROR(INDEX(BAS!H$10:H$510,SMALL(IF(MID(BAS!$F$10:$F$510,1,1)=$B$3,ROW(BAS!H$10:H$510)-MIN(ROW(BAS!H$10:H$510))+1),ROWS($A$7:H9))),"")} -> 0 | I9: {=IFERROR(INDEX(BAS!I$10:I$510,SMALL(IF(MID(BAS!$F$10:$F$510,1,1)=$B$3,ROW(BAS!I$10:I$510)-MIN(ROW(BAS!I$10:I$510))+1),ROWS($A$7:I9))),"")} -> 15.4 | J9: =IFERROR(J8+H9-I9,"") -> -69.05
A10: {=IFERROR(INDEX(BAS!A$10:A$510,SMALL(IF(MID(BAS!$F$10:$F$510,1,1)=$B$3,ROW(BAS!A$10:A$510)-MIN(ROW(BAS!A$10:A$510))+1),ROWS($A$7:A10))),"")} -> 43455 | B10: {=IFERROR(INDEX(BAS!B$10:B$510,SMALL(IF(MID(BAS!$F$10:$F$510,1,1)=$B$3,ROW(BAS!B$10:B$510)-MIN(ROW(BAS!B$10:B$510))+1),ROWS($A$7:B10))),"")} -> 43473 | C10: {=IFERROR(INDEX(BAS!C$10:C$510,SMALL(IF(MID(BAS!$F$10:$F$510,1,1)=$B$3,ROW(BAS!C$10:C$510)-MIN(ROW(BAS!C$10:C$510))+1),ROWS($A$7:C10))),"")} -> 43474 | D10: {=IFERROR(INDEX(BAS!D$10:D$510,SMALL(IF(MID(BAS!$F$10:$F$510,1,1)=$B$3,ROW(BAS!D$10:D$510)-MIN(ROW(BAS!D$10:D$510))+1),ROWS($A$7:D10))),"")} -> PA / ensemble au studio | E10: {=IFERROR(INDEX(BAS!E$10:E$510,SMALL(IF(MID(BAS!$F$10:$F$510,1,1)=$B$3,ROW(BAS!E$10:E$510)-MIN(ROW(BAS!E$10:E$510))+1),ROWS($A$7:E10))),"")} -> - | F10: {=IFERROR(INDEX(BAS!F$10:F$510,SMALL(IF(MID(BAS!$F$10:$F$510,1,1)=$B$3,ROW(BAS!F$10:F$510)-MIN(ROW(BAS!F$10:F$510))+1),ROWS($A$7:F10))),"")} -> B4 | G10: {=IFERROR(INDEX(BAS!G$10:G$510,SMALL(IF(MID(BAS!$F$10:$F$510,1,1)=$B$3,ROW(BAS!G$10:G$510)-MIN(ROW(BAS!G$10:G$510))+1),ROWS($A$7:G10))),"")} -> Fondue au chocolat pour rencontre au studio - Coop Pronto (Matteo) | H10: {=IFERROR(INDEX(BAS!H$10:H$510,SMALL(IF(MID(BAS!$F$10:$F$510,1,1)=$B$3,ROW(BAS!H$10:H$510)-MIN(ROW(BAS!H$10:H$510))+1),ROWS($A$7:H10))),"")} -> 0 | I10: {=IFERROR(INDEX(BAS!I$10:I$510,SMALL(IF(MID(BAS!$F$10:$F$510,1,1)=$B$3,ROW(BAS!I$10:I$510)-MIN(ROW(BAS!I$10:I$510))+1),ROWS($A$7:I10))),"")} -> 11.45 | J10: =IFERROR(J9+H10-I10,"") -> -80.5
A11: {=IFERROR(INDEX(BAS!A$10:A$510,SMALL(IF(MID(BAS!$F$10:$F$510,1,1)=$B$3,ROW(BAS!A$10:A$510)-MIN(ROW(BAS!A$10:A$510))+1),ROWS($A$7:A11))),"")} | B11: {=IFERROR(INDEX(BAS!B$10:B$510,SMALL(IF(MID(BAS!$F$10:$F$510,1,1)=$B$3,ROW(BAS!B$10:B$510)-MIN(ROW(BAS!B$10:B$510))+1),ROWS($A$7:B11))),"")} | C11: {=IFERROR(INDEX(BAS!C$10:C$510,SMALL(IF(MID(BAS!$F$10:$F$510,1,1)=$B$3,ROW(BAS!C$10:C$510)-MIN(ROW(BAS!C$10:C$510))+1),ROWS($A$7:C11))),"")} | D11: {=IFERROR(INDEX(BAS!D$10:D$510,SMALL(IF(MID(BAS!$F$10:$F$510,1,1)=$B$3,ROW(BAS!D$10:D$510)-MIN(ROW(BAS!D$10:D$510))+1),ROWS($A$7:D11))),"")} | E11: {=IFERROR(INDEX(BAS!E$10:E$510,SMALL(IF(MID(BAS!$F$10:$F$510,1,1)=$B$3,ROW(BAS!E$10:E$510)-MIN(ROW(BAS!E$10:E$510))+1),ROWS($A$7:E11))),"")} | F11: {=IFERROR(INDEX(BAS!F$10:F$510,SMALL(IF(MID(BAS!$F$10:$F$510,1,1)=$B$3,ROW(BAS!F$10:F$510)-MIN(ROW(BAS!F$10:F$510))+1),ROWS($A$7:F11))),"")} | G11: {=IFERROR(INDEX(BAS!G$10:G$510,SMALL(IF(MID(BAS!$F$10:$F$510,1,1)=$B$3,ROW(BAS!G$10:G$510)-MIN(ROW(BAS!G$10:G$510))+1),ROWS($A$7:G11))),"")} | H11: {=IFERROR(INDEX(BAS!H$10:H$510,SMALL(IF(MID(BAS!$F$10:$F$510,1,1)=$B$3,ROW(BAS!H$10:H$510)-MIN(ROW(BAS!H$10:H$510))+1),ROWS($A$7:H11))),"")} | I11: {=IFERROR(INDEX(BAS!I$10:I$510,SMALL(IF(MID(BAS!$F$10:$F$510,1,1)=$B$3,ROW(BAS!I$10:I$510)-MIN(ROW(BAS!I$10:I$510))+1),ROWS($A$7:I11))),"")} | J11: =IFERROR(J10+H11-I11,"")
A12: {=IFERROR(INDEX(BAS!A$10:A$510,SMALL(IF(MID(BAS!$F$10:$F$510,1,1)=$B$3,ROW(BAS!A$10:A$510)-MIN(ROW(BAS!A$10:A$510))+1),ROWS($A$7:A12))),"")} | B12: {=IFERROR(INDEX(BAS!B$10:B$510,SMALL(IF(MID(BAS!$F$10:$F$510,1,1)=$B$3,ROW(BAS!B$10:B$510)-MIN(ROW(BAS!B$10:B$510))+1),ROWS($A$7:B12))),"")} | C12: {=IFERROR(INDEX(BAS!C$10:C$510,SMALL(IF(MID(BAS!$F$10:$F$510,1,1)=$B$3,ROW(BAS!C$10:C$510)-MIN(ROW(BAS!C$10:C$510))+1),ROWS($A$7:C12))),"")} | D12: {=IFERROR(INDEX(BAS!D$10:D$510,SMALL(IF(MID(BAS!$F$10:$F$510,1,1)=$B$3,ROW(BAS!D$10:D$510)-MIN(ROW(BAS!D$10:D$510))+1),ROWS($A$7:D12))),"")} | E12: {=IFERROR(INDEX(BAS!E$10:E$510,SMALL(IF(MID(BAS!$F$10:$F$510,1,1)=$B$3,ROW(BAS!E$10:E$510)-MIN(ROW(BAS!E$10:E$510))+1),ROWS($A$7:E12))),"")} | F12: {=IFERROR(INDEX(BAS!F$10:F$510,SMALL(IF(MID(BAS!$F$10:$F$510,1,1)=$B$3,ROW(BAS!F$10:F$510)-MIN(ROW(BAS!F$10:F$510))+1),ROWS($A$7:F12))),"")} | G12: {=IFERROR(INDEX(BAS!G$10:G$510,SMALL(IF(MID(BAS!$F$10:$F$510,1,1)=$B$3,ROW(BAS!G$10:G$510)-MIN(ROW(BAS!G$10:G$510))+1),ROWS($A$7:G12))),"")} | H12: {=IFERROR(INDEX(BAS!H$10:H$510,SMALL(IF(MID(BAS!$F$10:$F$510,1,1)=$B$3,ROW(BAS!H$10:H$510)-MIN(ROW(BAS!H$10:H$510))+1),ROWS($A$7:H12))),"")} | I12: {=IFERROR(INDEX(BAS!I$10:I$510,SMALL(IF(MID(BAS!$F$10:$F$510,1,1)=$B$3,ROW(BAS!I$10:I$510)-MIN(ROW(BAS!I$10:I$510))+1),ROWS($A$7:I12))),"")} | J12: =IFERROR(J11+H12-I12,"")
A13: {=IFERROR(INDEX(BAS!A$10:A$510,SMALL(IF(MID(BAS!$F$10:$F$510,1,1)=$B$3,ROW(BAS!A$10:A$510)-MIN(ROW(BAS!A$10:A$510))+1),ROWS($A$7:A13))),"")} | B13: {=IFERROR(INDEX(BAS!B$10:B$510,SMALL(IF(MID(BAS!$F$10:$F$510,1,1)=$B$3,ROW(BAS!B$10:B$510)-MIN(ROW(BAS!B$10:B$510))+1),ROWS($A$7:B13))),"")} | C13: {=IFERROR(INDEX(BAS!C$10:C$510,SMALL(IF(MID(BAS!$F$10:$F$510,1,1)=$B$3,ROW(BAS!C$10:C$510)-MIN(ROW(BAS!C$10:C$510))+1),ROWS($A$7:C13))),"")} | D13: {=IFERROR(INDEX(BAS!D$10:D$510,SMALL(IF(MID(BAS!$F$10:$F$510,1,1)=$B$3,ROW(BAS!D$10:D$510)-MIN(ROW(BAS!D$10:D$510))+1),ROWS($A$7:D13))),"")} | E13: {=IFERROR(INDEX(BAS!E$10:E$510,SMALL(IF(MID(BAS!$F$10:$F$510,1,1)=$B$3,ROW(BAS!E$10:E$510)-MIN(ROW(BAS!E$10:E$510))+1),ROWS($A$7:E13))),"")} | F13: {=IFERROR(INDEX(BAS!F$10:F$510,SMALL(IF(MID(BAS!$F$10:$F$510,1,1)=$B$3,ROW(BAS!F$10:F$510)-MIN(ROW(BAS!F$10:F$510))+1),ROWS($A$7:F13))),"")} | G13: {=IFERROR(INDEX(BAS!G$10:G$510,SMALL(IF(MID(BAS!$F$10:$F$510,1,1)=$B$3,ROW(BAS!G$10:G$510)-MIN(ROW(BAS!G$10:G$510))+1),ROWS($A$7:G13))),"")} | H13: {=IFERROR(INDEX(BAS!H$10:H$510,SMALL(IF(MID(BAS!$F$10:$F$510,1,1)=$B$3,ROW(BAS!H$10:H$510)-MIN(ROW(BAS!H$10:H$510))+1),ROWS($A$7:H13))),"")} | I13: {=IFERROR(INDEX(BAS!I$10:I$510,SMALL(IF(MID(BAS!$F$10:$F$510,1,1)=$B$3,ROW(BAS!I$10:I$510)-MIN(ROW(BAS!I$10:I$510))+1),ROWS($A$7:I13))),"")} | J13: =IFERROR(J12+H13-I13,"")
A14: {=IFERROR(INDEX(BAS!A$10:A$510,SMALL(IF(MID(BAS!$F$10:$F$510,1,1)=$B$3,ROW(BAS!A$10:A$510)-MIN(ROW(BAS!A$10:A$510))+1),ROWS($A$7:A14))),"")} | B14: {=IFERROR(INDEX(BAS!B$10:B$510,SMALL(IF(MID(BAS!$F$10:$F$510,1,1)=$B$3,ROW(BAS!B$10:B$510)-MIN(ROW(BAS!B$10:B$510))+1),ROWS($A$7:B14))),"")} | C14: {=IFERROR(INDEX(BAS!C$10:C$510,SMALL(IF(MID(BAS!$F$10:$F$510,1,1)=$B$3,ROW(BAS!C$10:C$510)-MIN(ROW(BAS!C$10:C$510))+1),ROWS($A$7:C14))),"")} | D14: {=IFERROR(INDEX(BAS!D$10:D$510,SMALL(IF(MID(BAS!$F$10:$F$510,1,1)=$B$3,ROW(BAS!D$10:D$510)-MIN(ROW(BAS!D$10:D$510))+1),ROWS($A$7:D14))),"")} | E14: {=IFERROR(INDEX(BAS!E$10:E$510,SMALL(IF(MID(BAS!$F$10:$F$510,1,1)=$B$3,ROW(BAS!E$10:E$510)-MIN(ROW(BAS!E$10:E$510))+1),ROWS($A$7:E14))),"")} | F14: {=IFERROR(INDEX(BAS!F$10:F$510,SMALL(IF(MID(BAS!$F$10:$F$510,1,1)=$B$3,ROW(BAS!F$10:F$510)-MIN(ROW(BAS!F$10:F$510))+1),ROWS($A$7:F14))),"")} | G14: {=IFERROR(INDEX(BAS!G$10:G$510,SMALL(IF(MID(BAS!$F$10:$F$510,1,1)=$B$3,ROW(BAS!G$10:G$510)-MIN(ROW(BAS!G$10:G$510))+1),ROWS($A$7:G14))),"")} | H14: {=IFERROR(INDEX(BAS!H$10:H$510,SMALL(IF(MID(BAS!$F$10:$F$510,1,1)=$B$3,ROW(BAS!H$10:H$510)-MIN(ROW(BAS!H$10:H$510))+1),ROWS($A$7:H14))),"")} | I14: {=IFERROR(INDEX(BAS!I$10:I$510,SMALL(IF(MID(BAS!$F$10:$F$510,1,1)=$B$3,ROW(BAS!I$10:I$510)-MIN(ROW(BAS!I$10:I$510))+1),ROWS($A$7:I14))),"")} | J14: =IFERROR(J13+H14-I14,"")
A15: {=IFERROR(INDEX(BAS!A$10:A$510,SMALL(IF(MID(BAS!$F$10:$F$510,1,1)=$B$3,ROW(BAS!A$10:A$510)-MIN(ROW(BAS!A$10:A$510))+1),ROWS($A$7:A15))),"")} | B15: {=IFERROR(INDEX(BAS!B$10:B$510,SMALL(IF(MID(BAS!$F$10:$F$510,1,1)=$B$3,ROW(BAS!B$10:B$510)-MIN(ROW(BAS!B$10:B$510))+1),ROWS($A$7:B15))),"")} | C15: {=IFERROR(INDEX(BAS!C$10:C$510,SMALL(IF(MID(BAS!$F$10:$F$510,1,1)=$B$3,ROW(BAS!C$10:C$510)-MIN(ROW(BAS!C$10:C$510))+1),ROWS($A$7:C15))),"")} | D15: {=IFERROR(INDEX(BAS!D$10:D$510,SMALL(IF(MID(BAS!$F$10:$F$510,1,1)=$B$3,ROW(BAS!D$10:D$510)-MIN(ROW(BAS!D$10:D$510))+1),ROWS($A$7:D15))),"")} | E15: {=IFERROR(INDEX(BAS!E$10:E$510,SMALL(IF(MID(BAS!$F$10:$F$510,1,1)=$B$3,ROW(BAS!E$10:E$510)-MIN(ROW(BAS!E$10:E$510))+1),ROWS($A$7:E15))),"")} | F15: {=IFERROR(INDEX(BAS!F$10:F$510,SMALL(IF(MID(BAS!$F$10:$F$510,1,1)=$B$3,ROW(BAS!F$10:F$510)-MIN(ROW(BAS!F$10:F$510))+1),ROWS($A$7:F15))),"")} | G15: {=IFERROR(INDEX(BAS!G$10:G$510,SMALL(IF(MID(BAS!$F$10:$F$510,1,1)=$B$3,ROW(BAS!G$10:G$510)-MIN(ROW(BAS!G$10:G$510))+1),ROWS($A$7:G15))),"")} | H15: {=IFERROR(INDEX(BAS!H$10:H$510,SMALL(IF(MID(BAS!$F$10:$F$510,1,1)=$B$3,ROW(BAS!H$10:H$510)-MIN(ROW(BAS!H$10:H$510))+1),ROWS($A$7:H15))),"")} | I15: {=IFERROR(INDEX(BAS!I$10:I$510,SMALL(IF(MID(BAS!$F$10:$F$510,1,1)=$B$3,ROW(BAS!I$10:I$510)-MIN(ROW(BAS!I$10:I$510))+1),ROWS($A$7:I15))),"")} | J15: =IFERROR(J14+H15-I15,"")
A16: {=IFERROR(INDEX(BAS!A$10:A$510,SMALL(IF(MID(BAS!$F$10:$F$510,1,1)=$B$3,ROW(BAS!A$10:A$510)-MIN(ROW(BAS!A$10:A$510))+1),ROWS($A$7:A16))),"")} | B16: {=IFERROR(INDEX(BAS!B$10:B$510,SMALL(IF(MID(BAS!$F$10:$F$510,1,1)=$B$3,ROW(BAS!B$10:B$510)-MIN(ROW(BAS!B$10:B$510))+1),ROWS($A$7:B16))),"")} | C16: {=IFERROR(INDEX(BAS!C$10:C$510,SMALL(IF(MID(BAS!$F$10:$F$510,1,1)=$B$3,ROW(BAS!C$10:C$510)-MIN(ROW(BAS!C$10:C$510))+1),ROWS($A$7:C16))),"")} | D16: {=IFERROR(INDEX(BAS!D$10:D$510,SMALL(IF(MID(BAS!$F$10:$F$510,1,1)=$B$3,ROW(BAS!D$10:D$510)-MIN(ROW(BAS!D$10:D$510))+1),ROWS($A$7:D16))),"")} | E16: {=IFERROR(INDEX(BAS!E$10:E$510,SMALL(IF(MID(BAS!$F$10:$F$510,1,1)=$B$3,ROW(BAS!E$10:E$510)-MIN(ROW(BAS!E$10:E$510))+1),ROWS($A$7:E16))),"")} | F16: {=IFERROR(INDEX(BAS!F$10:F$510,SMALL(IF(MID(BAS!$F$10:$F$510,1,1)=$B$3,ROW(BAS!F$10:F$510)-MIN(ROW(BAS!F$10:F$510))+1),ROWS($A$7:F16))),"")} | G16: {=IFERROR(INDEX(BAS!G$10:G$510,SMALL(IF(MID(BAS!$F$10:$F$510,1,1)=$B$3,ROW(BAS!G$10:G$510)-MIN(ROW(BAS!G$10:G$510))+1),ROWS($A$7:G16))),"")} | H16: {=IFERROR(INDEX(BAS!H$10:H$510,SMALL(IF(MID(BAS!$F$10:$F$510,1,1)=$B$3,ROW(BAS!H$10:H$510)-MIN(ROW(BAS!H$10:H$510))+1),ROWS($A$7:H16))),"")} | I16: {=IFERROR(INDEX(BAS!I$10:I$510,SMALL(IF(MID(BAS!$F$10:$F$510,1,1)=$B$3,ROW(BAS!I$10:I$510)-MIN(ROW(BAS!I$10:I$510))+1),ROWS($A$7:I16))),"")} | J16: =IFERROR(J15+H16-I16,"")
A17: {=IFERROR(INDEX(BAS!A$10:A$510,SMALL(IF(MID(BAS!$F$10:$F$510,1,1)=$B$3,ROW(BAS!A$10:A$510)-MIN(ROW(BAS!A$10:A$510))+1),ROWS($A$7:A17))),"")} | B17: {=IFERROR(INDEX(BAS!B$10:B$510,SMALL(IF(MID(BAS!$F$10:$F$510,1,1)=$B$3,ROW(BAS!B$10:B$510)-MIN(ROW(BAS!B$10:B$510))+1),ROWS($A$7:B17))),"")} | C17: {=IFERROR(INDEX(BAS!C$10:C$510,SMALL(IF(MID(BAS!$F$10:$F$510,1,1)=$B$3,ROW(BAS!C$10:C$510)-MIN(ROW(BAS!C$10:C$510))+1),ROWS($A$7:C17))),"")} | D17: {=IFERROR(INDEX(BAS!D$10:D$510,SMALL(IF(MID(BAS!$F$10:$F$510,1,1)=$B$3,ROW(BAS!D$10:D$510)-MIN(ROW(BAS!D$10:D$510))+1),ROWS($A$7:D17))),"")} | E17: {=IFERROR(INDEX(BAS!E$10:E$510,SMALL(IF(MID(BAS!$F$10:$F$510,1,1)=$B$3,ROW(BAS!E$10:E$510)-MIN(ROW(BAS!E$10:E$510))+1),ROWS($A$7:E17))),"")} | F17: {=IFERROR(INDEX(BAS!F$10:F$510,SMALL(IF(MID(BAS!$F$10:$F$510,1,1)=$B$3,ROW(BAS!F$10:F$510)-MIN(ROW(BAS!F$10:F$510))+1),ROWS($A$7:F17))),"")} | G17: {=IFERROR(INDEX(BAS!G$10:G$510,SMALL(IF(MID(BAS!$F$10:$F$510,1,1)=$B$3,ROW(BAS!G$10:G$510)-MIN(ROW(BAS!G$10:G$510))+1),ROWS($A$7:G17))),"")} | H17: {=IFERROR(INDEX(BAS!H$10:H$510,SMALL(IF(MID(BAS!$F$10:$F$510,1,1)=$B$3,ROW(BAS!H$10:H$510)-MIN(ROW(BAS!H$10:H$510))+1),ROWS($A$7:H17))),"")} | I17: {=IFERROR(INDEX(BAS!I$10:I$510,SMALL(IF(MID(BAS!$F$10:$F$510,1,1)=$B$3,ROW(BAS!I$10:I$510)-MIN(ROW(BAS!I$10:I$510))+1),ROWS($A$7:I17))),"")} | J17: =IFERROR(J16+H17-I17,"")
A18: {=IFERROR(INDEX(BAS!A$10:A$510,SMALL(IF(MID(BAS!$F$10:$F$510,1,1)=$B$3,ROW(BAS!A$10:A$510)-MIN(ROW(BAS!A$10:A$510))+1),ROWS($A$7:A18))),"")} | B18: {=IFERROR(INDEX(BAS!B$10:B$510,SMALL(IF(MID(BAS!$F$10:$F$510,1,1)=$B$3,ROW(BAS!B$10:B$510)-MIN(ROW(BAS!B$10:B$510))+1),ROWS($A$7:B18))),"")} | C18: {=IFERROR(INDEX(BAS!C$10:C$510,SMALL(IF(MID(BAS!$F$10:$F$510,1,1)=$B$3,ROW(BAS!C$10:C$510)-MIN(ROW(BAS!C$10:C$510))+1),ROWS($A$7:C18))),"")} | D18: {=IFERROR(INDEX(BAS!D$10:D$510,SMALL(IF(MID(BAS!$F$10:$F$510,1,1)=$B$3,ROW(BAS!D$10:D$510)-MIN(ROW(BAS!D$10:D$510))+1),ROWS($A$7:D18))),"")} | E18: {=IFERROR(INDEX(BAS!E$10:E$510,SMALL(IF(MID(BAS!$F$10:$F$510,1,1)=$B$3,ROW(BAS!E$10:E$510)-MIN(ROW(BAS!E$10:E$510))+1),ROWS($A$7:E18))),"")} | F18: {=IFERROR(INDEX(BAS!F$10:F$510,SMALL(IF(MID(BAS!$F$10:$F$510,1,1)=$B$3,ROW(BAS!F$10:F$510)-MIN(ROW(BAS!F$10:F$510))+1),ROWS($A$7:F18))),"")} | G18: {=IFERROR(INDEX(BAS!G$10:G$510,SMALL(IF(MID(BAS!$F$10:$F$510,1,1)=$B$3,ROW(BAS!G$10:G$510)-MIN(ROW(BAS!G$10:G$510))+1),ROWS($A$7:G18))),"")} | H18: {=IFERROR(INDEX(BAS!H$10:H$510,SMALL(IF(MID(BAS!$F$10:$F$510,1,1)=$B$3,ROW(BAS!H$10:H$510)-MIN(ROW(BAS!H$10:H$510))+1),ROWS($A$7:H18))),"")} | I18: {=IFERROR(INDEX(BAS!I$10:I$510,SMALL(IF(MID(BAS!$F$10:$F$510,1,1)=$B$3,ROW(BAS!I$10:I$510)-MIN(ROW(BAS!I$10:I$510))+1),ROWS($A$7:I18))),"")} | J18: =IFERROR(J17+H18-I18,"")
A19: {=IFERROR(INDEX(BAS!A$10:A$510,SMALL(IF(MID(BAS!$F$10:$F$510,1,1)=$B$3,ROW(BAS!A$10:A$510)-MIN(ROW(BAS!A$10:A$510))+1),ROWS($A$7:A19))),"")} | B19: {=IFERROR(INDEX(BAS!B$10:B$510,SMALL(IF(MID(BAS!$F$10:$F$510,1,1)=$B$3,ROW(BAS!B$10:B$510)-MIN(ROW(BAS!B$10:B$510))+1),ROWS($A$7:B19))),"")} | C19: {=IFERROR(INDEX(BAS!C$10:C$510,SMALL(IF(MID(BAS!$F$10:$F$510,1,1)=$B$3,ROW(BAS!C$10:C$510)-MIN(ROW(BAS!C$10:C$510))+1),ROWS($A$7:C19))),"")} | D19: {=IFERROR(INDEX(BAS!D$10:D$510,SMALL(IF(MID(BAS!$F$10:$F$510,1,1)=$B$3,ROW(BAS!D$10:D$510)-MIN(ROW(BAS!D$10:D$510))+1),ROWS($A$7:D19))),"")} | E19: {=IFERROR(INDEX(BAS!E$10:E$510,SMALL(IF(MID(BAS!$F$10:$F$510,1,1)=$B$3,ROW(BAS!E$10:E$510)-MIN(ROW(BAS!E$10:E$510))+1),ROWS($A$7:E19))),"")} | F19: {=IFERROR(INDEX(BAS!F$10:F$510,SMALL(IF(MID(BAS!$F$10:$F$510,1,1)=$B$3,ROW(BAS!F$10:F$510)-MIN(ROW(BAS!F$10:F$510))+1),ROWS($A$7:F19))),"")} | G19: {=IFERROR(INDEX(BAS!G$10:G$510,SMALL(IF(MID(BAS!$F$10:$F$510,1,1)=$B$3,ROW(BAS!G$10:G$510)-MIN(ROW(BAS!G$10:G$510))+1),ROWS($A$7:G19))),"")} | H19: {=IFERROR(INDEX(BAS!H$10:H$510,SMALL(IF(MID(BAS!$F$10:$F$510,1,1)=$B$3,ROW(BAS!H$10:H$510)-MIN(ROW(BAS!H$10:H$510))+1),ROWS($A$7:H19))),"")} | I19: {=IFERROR(INDEX(BAS!I$10:I$510,SMALL(IF(MID(BAS!$F$10:$F$510,1,1)=$B$3,ROW(BAS!I$10:I$510)-MIN(ROW(BAS!I$10:I$510))+1),ROWS($A$7:I19))),"")} | J19: =IFERROR(J18+H19-I19,"")
... A510: {=IFERROR(INDEX(BAS!A$10:A$510,SMALL(IF(MID(BAS!$F$10:$F$510,1,1)=$B$3,ROW(BAS!A$10:A$510)-MIN(ROW(BAS!A$10:A$510))+1),ROWS($A$7:A510))),"")} | B510: {=IFERROR(INDEX(BAS!B$10:B$510,SMALL(IF(MID(BAS!$F$10:$F$510,1,1)=$B$3,ROW(BAS!B$10:B$510)-MIN(ROW(BAS!B$10:B$510))+1),ROWS($A$7:B510))),"")} | C510: {=IFERROR(INDEX(BAS!C$10:C$510,SMALL(IF(MID(BAS!$F$10:$F$510,1,1)=$B$3,ROW(BAS!C$10:C$510)-MIN(ROW(BAS!C$10:C$510))+1),ROWS($A$7:C510))),"")} | D510: {=IFERROR(INDEX(BAS!D$10:D$510,SMALL(IF(MID(BAS!$F$10:$F$510,1,1)=$B$3,ROW(BAS!D$10:D$510)-MIN(ROW(BAS!D$10:D$510))+1),ROWS($A$7:D510))),"")} | E510: {=IFERROR(INDEX(BAS!E$10:E$510,SMALL(IF(MID(BAS!$F$10:$F$510,1,1)=$B$3,ROW(BAS!E$10:E$510)-MIN(ROW(BAS!E$10:E$510))+1),ROWS($A$7:E510))),"")} | F510: {=IFERROR(INDEX(BAS!F$10:F$510,SMALL(IF(MID(BAS!$F$10:$F$510,1,1)=$B$3,ROW(BAS!F$10:F$510)-MIN(ROW(BAS!F$10:F$510))+1),ROWS($A$7:F510))),"")} | G510: {=IFERROR(INDEX(BAS!G$10:G$510,SMALL(IF(MID(BAS!$F$10:$F$510,1,1)=$B$3,ROW(BAS!G$10:G$510)-MIN(ROW(BAS!G$10:G$510))+1),ROWS($A$7:G510))),"")} | H510: {=IFERROR(INDEX(BAS!H$10:H$510,SMALL(IF(MID(BAS!$F$10:$F$510,1,1)=$B$3,ROW(BAS!H$10:H$510)-MIN(ROW(BAS!H$10:H$510))+1),ROWS($A$7:H510))),"")} | I510: {=IFERROR(INDEX(BAS!I$10:I$510,SMALL(IF(MID(BAS!$F$10:$F$510,1,1)=$B$3,ROW(BAS!I$10:I$510)-MIN(ROW(BAS!I$10:I$510))+1),ROWS($A$7:I510))),"")} | J510: =IFERROR(J509+H510-I510,"")

Sheet Association
A1: Association
A3: N° ticket | B3: C
A5: TOTAL | H5: =SUM(H7:H510) -> 0 | I5: =SUM(I7:I510) -> 146.35 | J5: =H5-I5 -> -146.35
A6: Date ticket | B6: Date compta | C6: Date banque | D6: Catégorie | E6: Sous-catégorie | F6: N° ticket | G6: libellé | H6: Recettes | I6: Dépenses | J6: Bilan
A7: {=IFERROR(INDEX(BAS!A$10:A$510,SMALL(IF(MID(BAS!$F$10:$F$510,1,1)=$B$3,ROW(BAS!A$10:A$510)-MIN(ROW(BAS!A$10:A$510))+1),ROWS($A$7:A7))),"")} -> 43449 | B7: {=IFERROR(INDEX(BAS!B$10:B$510,SMALL(IF(MID(BAS!$F$10:$F$510,1,1)=$B$3,ROW(BAS!B$10:B$510)-MIN(ROW(BAS!B$10:B$510))+1),ROWS($A$7:B7))),"")} -> 43450 | C7: {=IFERROR(INDEX(BAS!C$10:C$510,SMALL(IF(MID(BAS!$F$10:$F$510,1,1)=$B$3,ROW(BAS!C$10:C$510)-MIN(ROW(BAS!C$10:C$510))+1),ROWS($A$7:C7))),"")} -> 43453 | D7: {=IFERROR(INDEX(BAS!D$10:D$510,SMALL(IF(MID(BAS!$F$10:$F$510,1,1)=$B$3,ROW(BAS!D$10:D$510)-MIN(ROW(BAS!D$10:D$510))+1),ROWS($A$7:D7))),"")} -> Association / divers | E7: {=IFERROR(INDEX(BAS!E$10:E$510,SMALL(IF(MID(BAS!$F$10:$F$510,1,1)=$B$3,ROW(BAS!E$10:E$510)-MIN(ROW(BAS!E$10:E$510))+1),ROWS($A$7:E7))),"")} -> - | F7: {=IFERROR(INDEX(BAS!F$10:F$510,SMALL(IF(MID(BAS!$F$10:$F$510,1,1)=$B$3,ROW(BAS!F$10:F$510)-MIN(ROW(BAS!F$10:F$510))+1),ROWS($A$7:F7))),"")} -> C1 | G7: {=IFERROR(INDEX(BAS!G$10:G$510,SMALL(IF(MID(BAS!$F$10:$F$510,1,1)=$B$3,ROW(BAS!G$10:G$510)-MIN(ROW(BAS!G$10:G$510))+1),ROWS($A$7:G7))),"")} -> Matériel boîte, marche violences - Migros (Layla remboursée par Théophile) | H7: {=IFERROR(INDEX(BAS!H$10:H$510,SMALL(IF(MID(BAS!$F$10:$F$510,1,1)=$B$3,ROW(BAS!H$10:H$510)-MIN(ROW(BAS!H$10:H$510))+1),ROWS($A$7:H7))),"")} -> 0 | I7: {=IFERROR(INDEX(BAS!I$10:I$510,SMALL(IF(MID(BAS!$F$10:$F$510,1,1)=$B$3,ROW(BAS!I$10:I$510)-MIN(ROW(BAS!I$10:I$510))+1),ROWS($A$7:I7))),"")} -> 15.05 | J7: =IFERROR(H7-I7,"") -> -15.05
A8: {=IFERROR(INDEX(BAS!A$10:A$510,SMALL(IF(MID(BAS!$F$10:$F$510,1,1)=$B$3,ROW(BAS!A$10:A$510)-MIN(ROW(BAS!A$10:A$510))+1),ROWS($A$7:A8))),"")} -> 43413 | B8: {=IFERROR(INDEX(BAS!B$10:B$510,SMALL(IF(MID(BAS!$F$10:$F$510,1,1)=$B$3,ROW(BAS!B$10:B$510)-MIN(ROW(BAS!B$10:B$510))+1),ROWS($A$7:B8))),"")} -> 43458 | C8: {=IFERROR(INDEX(BAS!C$10:C$510,SMALL(IF(MID(BAS!$F$10:$F$510,1,1)=$B$3,ROW(BAS!C$10:C$510)-MIN(ROW(BAS!C$10:C$510))+1),ROWS($A$7:C8))),"")} -> 43461 | D8: {=IFERROR(INDEX(BAS!D$10:D$510,SMALL(IF(MID(BAS!$F$10:$F$510,1,1)=$B$3,ROW(BAS!D$10:D$510)-MIN(ROW(BAS!D$10:D$510))+1),ROWS($A$7:D8))),"")} -> Association / fonctionnement | E8: {=IFERROR(INDEX(BAS!E$10:E$510,SMALL(IF(MID(BAS!$F$10:$F$510,1,1)=$B$3,ROW(BAS!E$10:E$510)-MIN(ROW(BAS!E$10:E$510))+1),ROWS($A$7:E8))),"")} -> Site internet | F8: {=IFERROR(INDEX(BAS!F$10:F$510,SMALL(IF(MID(BAS!$F$10:$F$510,1,1)=$B$3,ROW(BAS!F$10:F$510)-MIN(ROW(BAS!F$10:F$510))+1),ROWS($A$7:F8))),"")} -> C2 | G8: {=IFERROR(INDEX(BAS!G$10:G$510,SMALL(IF(MID(BAS!$F$10:$F$510,1,1)=$B$3,ROW(BAS!G$10:G$510)-MIN(ROW(BAS!G$10:G$510))+1),ROWS($A$7:G8))),"")} -> Hébergement et nom de domaine - Oxito (Théophile) | H8: {=IFERROR(INDEX(BAS!H$10:H$510,SMALL(IF(MID(BAS!$F$10:$F$510,1,1)=$B$3,ROW(BAS!H$10:H$510)-MIN(ROW(BAS!H$10:H$510))+1),ROWS($A$7:H8))),"")} -> 0 | I8: {=IFERROR(INDEX(BAS!I$10:I$510,SMALL(IF(MID(BAS!$F$10:$F$510,1,1)=$B$3,ROW(BAS!I$10:I$510)-MIN(ROW(BAS!I$10:I$510))+1),ROWS($A$7:I8))),"")} -> 81.6 | J8: =IFERROR(J7+H8-I8,"") -> -96.65
A9: {=IFERROR(INDEX(BAS!A$10:A$510,SMALL(IF(MID(BAS!$F$10:$F$510,1,1)=$B$3,ROW(BAS!A$10:A$510)-MIN(ROW(BAS!A$10:A$510))+1),ROWS($A$7:A9))),"")} -> 43465 | B9: {=IFERROR(INDEX(BAS!B$10:B$510,SMALL(IF(MID(BAS!$F$10:$F$510,1,1)=$B$3,ROW(BAS!B$10:B$510)-MIN(ROW(BAS!B$10:B$510))+1),ROWS($A$7:B9))),"")} -> 43473 | C9: {=IFERROR(INDEX(BAS!C$10:C$510,SMALL(IF(MID(BAS!$F$10:$F$510,1,1)=$B$3,ROW(BAS!C$10:C$510)-MIN(ROW(BAS!C$10:C$510))+1),ROWS($A$7:C9))),"")} -> 43465 | D9: {=IFERROR(INDEX(BAS!D$10:D$510,SMALL(IF(MID(BAS!$F$10:$F$510,1,1)=$B$3,ROW(BAS!D$10:D$510)-MIN(ROW(BAS!D$10:D$510))+1),ROWS($A$7:D9))),"")} -> Association / fonctionnement | E9: {=IFERROR(INDEX(BAS!E$10:E$510,SMALL(IF(MID(BAS!$F$10:$F$510,1,1)=$B$3,ROW(BAS!E$10:E$510)-MIN(ROW(BAS!E$10:E$510))+1),ROWS($A$7:E9))),"")} -> Site internet | F9: {=IFERROR(INDEX(BAS!F$10:F$510,SMALL(IF(MID(BAS!$F$10:$F$510,1,1)=$B$3,ROW(BAS!F$10:F$510)-MIN(ROW(BAS!F$10:F$510))+1),ROWS($A$7:F9))),"")} -> C3 | G9: {=IFERROR(INDEX(BAS!G$10:G$510,SMALL(IF(MID(BAS!$F$10:$F$510,1,1)=$B$3,ROW(BAS!G$10:G$510)-MIN(ROW(BAS!G$10:G$510))+1),ROWS($A$7:G9))),"")} -> Nom de domaine et DNS fin de période en cours (nouveau site) - Infomaniak (Théophile) | H9: {=IFERROR(INDEX(BAS!H$10:H$510,SMALL(IF(MID(BAS!$F$10:$F$510,1,1)=$B$3,ROW(BAS!H$10:H$510)-MIN(ROW(BAS!H$10:H$510))+1),ROWS($A$7:H9))),"")} -> 0 | I9: {=IFERROR(INDEX(BAS!I$10:I$510,SMALL(IF(MID(BAS!$F$10:$F$510,1,1)=$B$3,ROW(BAS!I$10:I$510)-MIN(ROW(BAS!I$10:I$510))+1),ROWS($A$7:I9))),"")} -> 3.55 | J9: =IFERROR(J8+H9-I9,"") -> -100.2
A10: {=IFERROR(INDEX(BAS!A$10:A$510,SMALL(IF(MID(BAS!$F$10:$F$510,1,1)=$B$3,ROW(BAS!A$10:A$510)-MIN(ROW(BAS!A$10:A$510))+1),ROWS($A$7:A10))),"")} -> 43465 | B10: {=IFERROR(INDEX(BAS!B$10:B$510,SMALL(IF(MID(BAS!$F$10:$F$510,1,1)=$B$3,ROW(BAS!B$10:B$510)-MIN(ROW(BAS!B$10:B$510))+1),ROWS($A$7:B10))),"")} -> 43473 | C10: {=IFERROR(INDEX(BAS!C$10:C$510,SMALL(IF(MID(BAS!$F$10:$F$510,1,1)=$B$3,ROW(BAS!C$10:C$510)-MIN(ROW(BAS!C$10:C$510))+1),ROWS($A$7:C10))),"")} -> 43465 | D10: {=IFERROR(INDEX(BAS!D$10:D$510,SMALL(IF(MID(BAS!$F$10:$F$510,1,1)=$B$3,ROW(BAS!D$10:D$510)-MIN(ROW(BAS!D$10:D$510))+1),ROWS($A$7:D10))),"")} -> Association / fonctionnement | E10: {=IFERROR(INDEX(BAS!E$10:E$510,SMALL(IF(MID(BAS!$F$10:$F$510,1,1)=$B$3,ROW(BAS!E$10:E$510)-MIN(ROW(BAS!E$10:E$510))+1),ROWS($A$7:E10))),"")} -> Banque | F10: {=IFERROR(INDEX(BAS!F$10:F$510,SMALL(IF(MID(BAS!$F$10:$F$510,1,1)=$B$3,ROW(BAS!F$10:F$510)-MIN(ROW(BAS!F$10:F$510))+1),ROWS($A$7:F10))),"")} -> C4 | G10: {=IFERROR(INDEX(BAS!G$10:G$510,SMALL(IF(MID(BAS!$F$10:$F$510,1,1)=$B$3,ROW(BAS!G$10:G$510)-MIN(ROW(BAS!G$10:G$510))+1),ROWS($A$7:G10))),"")} -> Frais bancaires annuels - BAS (Théophile) | H10: {=IFERROR(INDEX(BAS!H$10:H$510,SMALL(IF(MID(BAS!$F$10:$F$510,1,1)=$B$3,ROW(BAS!H$10:H$510)-MIN(ROW(BAS!H$10:H$510))+1),ROWS($A$7:H10))),"")} -> 0 | I10: {=IFERROR(INDEX(BAS!I$10:I$510,SMALL(IF(MID(BAS!$F$10:$F$510,1,1)=$B$3,ROW(BAS!I$10:I$510)-MIN(ROW(BAS!I$10:I$510))+1),ROWS($A$7:I10))),"")} -> 46.15 | J10: =IFERROR(J9+H10-I10,"") -> -146.35
A11: {=IFERROR(INDEX(BAS!A$10:A$510,SMALL(IF(MID(BAS!$F$10:$F$510,1,1)=$B$3,ROW(BAS!A$10:A$510)-MIN(ROW(BAS!A$10:A$510))+1),ROWS($A$7:A11))),"")} | B11: {=IFERROR(INDEX(BAS!B$10:B$510,SMALL(IF(MID(BAS!$F$10:$F$510,1,1)=$B$3,ROW(BAS!B$10:B$510)-MIN(ROW(BAS!B$10:B$510))+1),ROWS($A$7:B11))),"")} | C11: {=IFERROR(INDEX(BAS!C$10:C$510,SMALL(IF(MID(BAS!$F$10:$F$510,1,1)=$B$3,ROW(BAS!C$10:C$510)-MIN(ROW(BAS!C$10:C$510))+1),ROWS($A$7:C11))),"")} | D11: {=IFERROR(INDEX(BAS!D$10:D$510,SMALL(IF(MID(BAS!$F$10:$F$510,1,1)=$B$3,ROW(BAS!D$10:D$510)-MIN(ROW(BAS!D$10:D$510))+1),ROWS($A$7:D11))),"")} | E11: {=IFERROR(INDEX(BAS!E$10:E$510,SMALL(IF(MID(BAS!$F$10:$F$510,1,1)=$B$3,ROW(BAS!E$10:E$510)-MIN(ROW(BAS!E$10:E$510))+1),ROWS($A$7:E11))),"")} | F11: {=IFERROR(INDEX(BAS!F$10:F$510,SMALL(IF(MID(BAS!$F$10:$F$510,1,1)=$B$3,ROW(BAS!F$10:F$510)-MIN(ROW(BAS!F$10:F$510))+1),ROWS($A$7:F11))),"")} | G11: {=IFERROR(INDEX(BAS!G$10:G$510,SMALL(IF(MID(BAS!$F$10:$F$510,1,1)=$B$3,ROW(BAS!G$10:G$510)-MIN(ROW(BAS!G$10:G$510))+1),ROWS($A$7:G11))),"")} | H11: {=IFERROR(INDEX(BAS!H$10:H$510,SMALL(IF(MID(BAS!$F$10:$F$510,1,1)=$B$3,ROW(BAS!H$10:H$510)-MIN(ROW(BAS!H$10:H$510))+1),ROWS($A$7:H11))),"")} | I11: {=IFERROR(INDEX(BAS!I$10:I$510,SMALL(IF(MID(BAS!$F$10:$F$510,1,1)=$B$3,ROW(BAS!I$10:I$510)-MIN(ROW(BAS!I$10:I$510))+1),ROWS($A$7:I11))),"")} | J11: =IFERROR(J10+H11-I11,"")
A12: {=IFERROR(INDEX(BAS!A$10:A$510,SMALL(IF(MID(BAS!$F$10:$F$510,1,1)=$B$3,ROW(BAS!A$10:A$510)-MIN(ROW(BAS!A$10:A$510))+1),ROWS($A$7:A12))),"")} | B12: {=IFERROR(INDEX(BAS!B$10:B$510,SMALL(IF(MID(BAS!$F$10:$F$510,1,1)=$B$3,ROW(BAS!B$10:B$510)-MIN(ROW(BAS!B$10:B$510))+1),ROWS($A$7:B12))),"")} | C12: {=IFERROR(INDEX(BAS!C$10:C$510,SMALL(IF(MID(BAS!$F$10:$F$510,1,1)=$B$3,ROW(BAS!C$10:C$510)-MIN(ROW(BAS!C$10:C$510))+1),ROWS($A$7:C12))),"")} | D12: {=IFERROR(INDEX(BAS!D$10:D$510,SMALL(IF(MID(BAS!$F$10:$F$510,1,1)=$B$3,ROW(BAS!D$10:D$510)-MIN(ROW(BAS!D$10:D$510))+1),ROWS($A$7:D12))),"")} | E12: {=IFERROR(INDEX(BAS!E$10:E$510,SMALL(IF(MID(BAS!$F$10:$F$510,1,1)=$B$3,ROW(BAS!E$10:E$510)-MIN(ROW(BAS!E$10:E$510))+1),ROWS($A$7:E12))),"")} | F12: {=IFERROR(INDEX(BAS!F$10:F$510,SMALL(IF(MID(BAS!$F$10:$F$510,1,1)=$B$3,ROW(BAS!F$10:F$510)-MIN(ROW(BAS!F$10:F$510))+1),ROWS($A$7:F12))),"")} | G12: {=IFERROR(INDEX(BAS!G$10:G$510,SMALL(IF(MID(BAS!$F$10:$F$510,1,1)=$B$3,ROW(BAS!G$10:G$510)-MIN(ROW(BAS!G$10:G$510))+1),ROWS($A$7:G12))),"")} | H12: {=IFERROR(INDEX(BAS!H$10:H$510,SMALL(IF(MID(BAS!$F$10:$F$510,1,1)=$B$3,ROW(BAS!H$10:H$510)-MIN(ROW(BAS!H$10:H$510))+1),ROWS($A$7:H12))),"")} | I12: {=IFERROR(INDEX(BAS!I$10:I$510,SMALL(IF(MID(BAS!$F$10:$F$510,1,1)=$B$3,ROW(BAS!I$10:I$510)-MIN(ROW(BAS!I$10:I$510))+1),ROWS($A$7:I12))),"")} | J12: =IFERROR(J11+H12-I12,"")
A13: {=IFERROR(INDEX(BAS!A$10:A$510,SMALL(IF(MID(BAS!$F$10:$F$510,1,1)=$B$3,ROW(BAS!A$10:A$510)-MIN(ROW(BAS!A$10:A$510))+1),ROWS($A$7:A13))),"")} | B13: {=IFERROR(INDEX(BAS!B$10:B$510,SMALL(IF(MID(BAS!$F$10:$F$510,1,1)=$B$3,ROW(BAS!B$10:B$510)-MIN(ROW(BAS!B$10:B$510))+1),ROWS($A$7:B13))),"")} | C13: {=IFERROR(INDEX(BAS!C$10:C$510,SMALL(IF(MID(BAS!$F$10:$F$510,1,1)=$B$3,ROW(BAS!C$10:C$510)-MIN(ROW(BAS!C$10:C$510))+1),ROWS($A$7:C13))),"")} | D13: {=IFERROR(INDEX(BAS!D$10:D$510,SMALL(IF(MID(BAS!$F$10:$F$510,1,1)=$B$3,ROW(BAS!D$10:D$510)-MIN(ROW(BAS!D$10:D$510))+1),ROWS($A$7:D13))),"")} | E13: {=IFERROR(INDEX(BAS!E$10:E$510,SMALL(IF(MID(BAS!$F$10:$F$510,1,1)=$B$3,ROW(BAS!E$10:E$510)-MIN(ROW(BAS!E$10:E$510))+1),ROWS($A$7:E13))),"")} | F13: {=IFERROR(INDEX(BAS!F$10:F$510,SMALL(IF(MID(BAS!$F$10:$F$510,1,1)=$B$3,ROW(BAS!F$10:F$510)-MIN(ROW(BAS!F$10:F$510))+1),ROWS($A$7:F13))),"")} | G13: {=IFERROR(INDEX(BAS!G$10:G$510,SMALL(IF(MID(BAS!$F$10:$F$510,1,1)=$B$3,ROW(BAS!G$10:G$510)-MIN(ROW(BAS!G$10:G$510))+1),ROWS($A$7:G13))),"")} | H13: {=IFERROR(INDEX(BAS!H$10:H$510,SMALL(IF(MID(BAS!$F$10:$F$510,1,1)=$B$3,ROW(BAS!H$10:H$510)-MIN(ROW(BAS!H$10:H$510))+1),ROWS($A$7:H13))),"")} | I13: {=IFERROR(INDEX(BAS!I$10:I$510,SMALL(IF(MID(BAS!$F$10:$F$510,1,1)=$B$3,ROW(BAS!I$10:I$510)-MIN(ROW(BAS!I$10:I$510))+1),ROWS($A$7:I13))),"")} | J13: =IFERROR(J12+H13-I13,"")
A14: {=IFERROR(INDEX(BAS!A$10:A$510,SMALL(IF(MID(BAS!$F$10:$F$510,1,1)=$B$3,ROW(BAS!A$10:A$510)-MIN(ROW(BAS!A$10:A$510))+1),ROWS($A$7:A14))),"")} | B14: {=IFERROR(INDEX(BAS!B$10:B$510,SMALL(IF(MID(BAS!$F$10:$F$510,1,1)=$B$3,ROW(BAS!B$10:B$510)-MIN(ROW(BAS!B$10:B$510))+1),ROWS($A$7:B14))),"")} | C14: {=IFERROR(INDEX(BAS!C$10:C$510,SMALL(IF(MID(BAS!$F$10:$F$510,1,1)=$B$3,ROW(BAS!C$10:C$510)-MIN(ROW(BAS!C$10:C$510))+1),ROWS($A$7:C14))),"")} | D14: {=IFERROR(INDEX(BAS!D$10:D$510,SMALL(IF(MID(BAS!$F$10:$F$510,1,1)=$B$3,ROW(BAS!D$10:D$510)-MIN(ROW(BAS!D$10:D$510))+1),ROWS($A$7:D14))),"")} | E14: {=IFERROR(INDEX(BAS!E$10:E$510,SMALL(IF(MID(BAS!$F$10:$F$510,1,1)=$B$3,ROW(BAS!E$10:E$510)-MIN(ROW(BAS!E$10:E$510))+1),ROWS($A$7:E14))),"")} | F14: {=IFERROR(INDEX(BAS!F$10:F$510,SMALL(IF(MID(BAS!$F$10:$F$510,1,1)=$B$3,ROW(BAS!F$10:F$510)-MIN(ROW(BAS!F$10:F$510))+1),ROWS($A$7:F14))),"")} | G14: {=IFERROR(INDEX(BAS!G$10:G$510,SMALL(IF(MID(BAS!$F$10:$F$510,1,1)=$B$3,ROW(BAS!G$10:G$510)-MIN(ROW(BAS!G$10:G$510))+1),ROWS($A$7:G14))),"")} | H14: {=IFERROR(INDEX(BAS!H$10:H$510,SMALL(IF(MID(BAS!$F$10:$F$510,1,1)=$B$3,ROW(BAS!H$10:H$510)-MIN(ROW(BAS!H$10:H$510))+1),ROWS($A$7:H14))),"")} | I14: {=IFERROR(INDEX(BAS!I$10:I$510,SMALL(IF(MID(BAS!$F$10:$F$510,1,1)=$B$3,ROW(BAS!I$10:I$510)-MIN(ROW(BAS!I$10:I$510))+1),ROWS($A$7:I14))),"")} | J14: =IFERROR(J13+H14-I14,"")
A15: {=IFERROR(INDEX(BAS!A$10:A$510,SMALL(IF(MID(BAS!$F$10:$F$510,1,1)=$B$3,ROW(BAS!A$10:A$510)-MIN(ROW(BAS!A$10:A$510))+1),ROWS($A$7:A15))),"")} | B15: {=IFERROR(INDEX(BAS!B$10:B$510,SMALL(IF(MID(BAS!$F$10:$F$510,1,1)=$B$3,ROW(BAS!B$10:B$510)-MIN(ROW(BAS!B$10:B$510))+1),ROWS($A$7:B15))),"")} | C15: {=IFERROR(INDEX(BAS!C$10:C$510,SMALL(IF(MID(BAS!$F$10:$F$510,1,1)=$B$3,ROW(BAS!C$10:C$510)-MIN(ROW(BAS!C$10:C$510))+1),ROWS($A$7:C15))),"")} | D15: {=IFERROR(INDEX(BAS!D$10:D$510,SMALL(IF(MID(BAS!$F$10:$F$510,1,1)=$B$3,ROW(BAS!D$10:D$510)-MIN(ROW(BAS!D$10:D$510))+1),ROWS($A$7:D15))),"")} | E15: {=IFERROR(INDEX(BAS!E$10:E$510,SMALL(IF(MID(BAS!$F$10:$F$510,1,1)=$B$3,ROW(BAS!E$10:E$510)-MIN(ROW(BAS!E$10:E$510))+1),ROWS($A$7:E15))),"")} | F15: {=IFERROR(INDEX(BAS!F$10:F$510,SMALL(IF(MID(BAS!$F$10:$F$510,1,1)=$B$3,ROW(BAS!F$10:F$510)-MIN(ROW(BAS!F$10:F$510))+1),ROWS($A$7:F15))),"")} | G15: {=IFERROR(INDEX(BAS!G$10:G$510,SMALL(IF(MID(BAS!$F$10:$F$510,1,1)=$B$3,ROW(BAS!G$10:G$510)-MIN(ROW(BAS!G$10:G$510))+1),ROWS($A$7:G15))),"")} | H15: {=IFERROR(INDEX(BAS!H$10:H$510,SMALL(IF(MID(BAS!$F$10:$F$510,1,1)=$B$3,ROW(BAS!H$10:H$510)-MIN(ROW(BAS!H$10:H$510))+1),ROWS($A$7:H15))),"")} | I15: {=IFERROR(INDEX(BAS!I$10:I$510,SMALL(IF(MID(BAS!$F$10:$F$510,1,1)=$B$3,ROW(BAS!I$10:I$510)-MIN(ROW(BAS!I$10:I$510))+1),ROWS($A$7:I15))),"")} | J15: =IFERROR(J14+H15-I15,"")
A16: {=IFERROR(INDEX(BAS!A$10:A$510,SMALL(IF(MID(BAS!$F$10:$F$510,1,1)=$B$3,ROW(BAS!A$10:A$510)-MIN(ROW(BAS!A$10:A$510))+1),ROWS($A$7:A16))),"")} | B16: {=IFERROR(INDEX(BAS!B$10:B$510,SMALL(IF(MID(BAS!$F$10:$F$510,1,1)=$B$3,ROW(BAS!B$10:B$510)-MIN(ROW(BAS!B$10:B$510))+1),ROWS($A$7:B16))),"")} | C16: {=IFERROR(INDEX(BAS!C$10:C$510,SMALL(IF(MID(BAS!$F$10:$F$510,1,1)=$B$3,ROW(BAS!C$10:C$510)-MIN(ROW(BAS!C$10:C$510))+1),ROWS($A$7:C16))),"")} | D16: {=IFERROR(INDEX(BAS!D$10:D$510,SMALL(IF(MID(BAS!$F$10:$F$510,1,1)=$B$3,ROW(BAS!D$10:D$510)-MIN(ROW(BAS!D$10:D$510))+1),ROWS($A$7:D16))),"")} | E16: {=IFERROR(INDEX(BAS!E$10:E$510,SMALL(IF(MID(BAS!$F$10:$F$510,1,1)=$B$3,ROW(BAS!E$10:E$510)-MIN(ROW(BAS!E$10:E$510))+1),ROWS($A$7:E16))),"")} | F16: {=IFERROR(INDEX(BAS!F$10:F$510,SMALL(IF(MID(BAS!$F$10:$F$510,1,1)=$B$3,ROW(BAS!F$10:F$510)-MIN(ROW(BAS!F$10:F$510))+1),ROWS($A$7:F16))),"")} | G16: {=IFERROR(INDEX(BAS!G$10:G$510,SMALL(IF(MID(BAS!$F$10:$F$510,1,1)=$B$3,ROW(BAS!G$10:G$510)-MIN(ROW(BAS!G$10:G$510))+1),ROWS($A$7:G16))),"")} | H16: {=IFERROR(INDEX(BAS!H$10:H$510,SMALL(IF(MID(BAS!$F$10:$F$510,1,1)=$B$3,ROW(BAS!H$10:H$510)-MIN(ROW(BAS!H$10:H$510))+1),ROWS($A$7:H16))),"")} | I16: {=IFERROR(INDEX(BAS!I$10:I$510,SMALL(IF(MID(BAS!$F$10:$F$510,1,1)=$B$3,ROW(BAS!I$10:I$510)-MIN(ROW(BAS!I$10:I$510))+1),ROWS($A$7:I16))),"")} | J16: =IFERROR(J15+H16-I16,"")
A17: {=IFERROR(INDEX(BAS!A$10:A$510,SMALL(IF(MID(BAS!$F$10:$F$510,1,1)=$B$3,ROW(BAS!A$10:A$510)-MIN(ROW(BAS!A$10:A$510))+1),ROWS($A$7:A17))),"")} | B17: {=IFERROR(INDEX(BAS!B$10:B$510,SMALL(IF(MID(BAS!$F$10:$F$510,1,1)=$B$3,ROW(BAS!B$10:B$510)-MIN(ROW(BAS!B$10:B$510))+1),ROWS($A$7:B17))),"")} | C17: {=IFERROR(INDEX(BAS!C$10:C$510,SMALL(IF(MID(BAS!$F$10:$F$510,1,1)=$B$3,ROW(BAS!C$10:C$510)-MIN(ROW(BAS!C$10:C$510))+1),ROWS($A$7:C17))),"")} | D17: {=IFERROR(INDEX(BAS!D$10:D$510,SMALL(IF(MID(BAS!$F$10:$F$510,1,1)=$B$3,ROW(BAS!D$10:D$510)-MIN(ROW(BAS!D$10:D$510))+1),ROWS($A$7:D17))),"")} | E17: {=IFERROR(INDEX(BAS!E$10:E$510,SMALL(IF(MID(BAS!$F$10:$F$510,1,1)=$B$3,ROW(BAS!E$10:E$510)-MIN(ROW(BAS!E$10:E$510))+1),ROWS($A$7:E17))),"")} | F17: {=IFERROR(INDEX(BAS!F$10:F$510,SMALL(IF(MID(BAS!$F$10:$F$510,1,1)=$B$3,ROW(BAS!F$10:F$510)-MIN(ROW(BAS!F$10:F$510))+1),ROWS($A$7:F17))),"")} | G17: {=IFERROR(INDEX(BAS!G$10:G$510,SMALL(IF(MID(BAS!$F$10:$F$510,1,1)=$B$3,ROW(BAS!G$10:G$510)-MIN(ROW(BAS!G$10:G$510))+1),ROWS($A$7:G17))),"")} | H17: {=IFERROR(INDEX(BAS!H$10:H$510,SMALL(IF(MID(BAS!$F$10:$F$510,1,1)=$B$3,ROW(BAS!H$10:H$510)-MIN(ROW(BAS!H$10:H$510))+1),ROWS($A$7:H17))),"")} | I17: {=IFERROR(INDEX(BAS!I$10:I$510,SMALL(IF(MID(BAS!$F$10:$F$510,1,1)=$B$3,ROW(BAS!I$10:I$510)-MIN(ROW(BAS!I$10:I$510))+1),ROWS($A$7:I17))),"")} | J17: =IFERROR(J16+H17-I17,"")
