Workbook

Sheet Détails
A2: Semaine | B2: Date | C2: Intermarché Argelès | D2: LIDL Argelès | E2: Picard | F2: Marché Argelès | G2: Boucherie Espagne | H2: Supermarché Espagne | I2: Total Jour
A3: 41 | B3: 43385 | C3: 26.82 | D3: 52.32 | F3: 49.1 | I3: =SUM(C3:H3) -> 128.24
A4: 42 | B4: 43390 | F4: 13.43 | I4: =SUM(C4:H4) -> 13.43
A5: 42 | B5: 43392 | D5: 22.11 | I5: =SUM(C5:H5) -> 22.11
A6: 42 | B6: 43393 | F6: 24.62 | I6: =SUM(C6:H6) -> 24.62
A7: 43 | B7: 43395 | D7: 52.07 | E7: 24.75 | I7: =SUM(C7:H7) -> 76.82
A8: 43 | B8: 37553 | F8: 29.4 | I8: =SUM(C8:H8) -> 29.4
A9: 43 | B9: 43398 | C9: 93 | I9: =SUM(C9:H9) -> 93
A10: 44 | B10: 43404 | C10: 23.43 | F10: 15.78 | I10: =SUM(C10:H10) -> 39.21
A12: 44 | B12: 43406 | D12: 22.35 | I12: =SUM(C12:H12) -> 22.35
A13: 44 | B13: 43407 | F13: 35.54 | I13: =SUM(C13:H13) -> 35.54
A14: 45 | B14: 43411 | C14: 23.89 | D14: 8.5 | I14: =SUM(C14:H14) -> 32.39
A15: 45 | B15: 43412 | D15: 39.25 | I15: =SUM(C15:H15) -> 39.25
A16: 45 | B16: 43414 | F16: 26.58 | I16: =SUM(C16:H16) -> 26.58
A17: 46 | B17: 43416 | C17: 47.01 | I17: =SUM(C17:H17) -> 47.01
A18: 46 | B18: 43417 | F18: 21.03 | I18: =SUM(C18:H18) -> 21.03
A19: 46 | B19: 15 11 2018 | C19: 35.33 | I19: =SUM(C19:H19) -> 35.33
A20: 46 | B20: 43421 | F20: 32.38 | I20: =SUM(C20:H20) -> 32.38
A21: 47 | B21: 43424 | C21: 79.92 | I21: =SUM(C21:H21) -> 79.92
A22: 47 | B22: 43425 | F22: 8.27 | G22: 125.05 | H22: 84.56 | I22: =SUM(C22:H22) -> 217.88
A23: 47 | B23: 43428 | C23: 29.79 | I23: =SUM(C23:H23) -> 29.79
A24: 48 | B24: 43431 | C24: 28.59 | I24: =SUM(C24:H24) -> 28.59
A25: 48 | B25: 43432 | F25: 24.16 | I25: =SUM(C25:H25) -> 24.16
A26: 48 | B26: 43434 | C26: 37.7 | D26: 41.29 | F26: 28.3 | I26: =SUM(C26:H26) -> 107.29
A28: 48 | B28: 43435 | F28: 28.3 | I28: =SUM(C28:H28) -> 28.3
A29: 49 | B29: 43438 | D29: 8.46 | F29: 18.45 | I29: =SUM(C29:H29) -> 26.91
A30: 49 | B30: 43442 | F30: 27.2 | I30: =SUM(C30:H30) -> 27.2
A31: 50 | B31: 43446 | F31: 22.8 | I31: =SUM(C31:H31) -> 22.8
A32: 50 | B32: 43449 | F32: 36.32 | I32: =SUM(C32:H32) -> 36.32
A33: 51 | B33: 43453 | F33: 7 | I33: =SUM(C33:H33) -> 7
A34: 51 | B34: 43454 | C34: 14.57 | I34: =SUM(C34:H34) -> 14.57
A36: 1 | B36: 43468 | C36: 28.11 | D36: 25.42 | I36: =SUM(C36:H36) -> 53.53
A37: 1 | B37: 43469 | C37: 9.48 | I37: =SUM(C37:H37) -> 9.48
A38: 1 | B38: 43470 | F38: 30.55 | I38: =SUM(C38:H38) -> 30.55
A39: 2 | B39: 43474 | C39: 9.82 | F39: 13.53 | I39: =SUM(C39:H39) -> 23.35
A40: 2 | B40: 43476 | C40: 11.84 | I40: =SUM(C40:H40) -> 11.84
A41: 2 | B41: 43476 | C41: 43.9 | F41: 15.2 | I41: =SUM(C41:H41) -> 59.1
A42: 3 | I42: =SUM(C42:H42) -> 0 | K42: =I39+I40+I41 -> 94.29
A43: 3 | I43: =SUM(C43:H43) -> 0
C44: =SUM(C3:C43) -> 543.2 | D44: =SUM(D3:D43) -> 271.77 | E44: =SUM(E3:E43) -> 24.75 | F44: =SUM(F3:F43) -> 507.94 | G44: =SUM(G3:G43) -> 125.05 | H44: =SUM(H3:H43) -> 84.56 | I44: =SUM(I3:I43) -> 1557.27

Sheet Semaine-Mois
A2: N° Semaine | B2: Total Semaine | C2: Mois | D2: Total Mois | F2: Moyenne/mois | G2: =AVERAGE(D3:D8) -> 0
A3: 41 | B3: =SUMIF(Détails!A:A,A3,Détails!I:I) -> 128.24 | C3: 10 | D3: =SUMIF(Détails!B:B,MONTH(Détails!B11)='Semaine-Mois'!C3,Détails!I:I) -> 0 | F3: Moyenne/semaine | G3: =AVERAGE(B3:B18) -> 97.329375
A4: 42 | B4: =SUMIF(Détails!A:A,A4,Détails!I:I) -> 60.16 | C4: 11 | D4: =SUMIF(Détails!B:B,MONTH(Détails!B12)='Semaine-Mois'!C4,Détails!I:I) -> 0
A5: 43 | B5: =SUMIF(Détails!A:A,A5,Détails!I:I) -> 199.22 | C5: 12 | D5: =SUMIF(Détails!B:B,MONTH(Détails!B13)='Semaine-Mois'!C5,Détails!I:I) -> 0
A6: 44 | B6: =SUMIF(Détails!A:A,A6,Détails!I:I) -> 97.1 | C6: 1 | D6: =SUMIF(Détails!B:B,MONTH(Détails!B14)='Semaine-Mois'!C6,Détails!I:I) -> 0
A7: 45 | B7: =SUMIF(Détails!A:A,A7,Détails!I:I) -> 98.22 | C7: 2 | D7: =SUMIF(Détails!B:B,MONTH(Détails!B15)='Semaine-Mois'!C7,Détails!I:I) -> 0
A8: 46 | B8: =SUMIF(Détails!A:A,A8,Détails!I:I) -> 135.75 | C8: 3 | D8: =SUMIF(Détails!B:B,MONTH(Détails!B16)='Semaine-Mois'!C8,Détails!I:I) -> 0
A9: 47 | B9: =SUMIF(Détails!A:A,A9,Détails!I:I) -> 327.59
A10: 48 | B10: =SUMIF(Détails!A:A,A10,Détails!I:I) -> 188.34
A11: 49 | B11: =SUMIF(Détails!A:A,A11,Détails!I:I) -> 54.11
A12: 50 | B12: =SUMIF(Détails!A:A,A12,Détails!I:I) -> 59.12
A13: 51 | B13: =SUMIF(Détails!A:A,A13,Détails!I:I) -> 21.57
A14: 1 | B14: =SUMIF(Détails!A:A,A14,Détails!I:I) -> 93.56
A15: 2 | B15: =SUMIF(Détails!A:A,A15,Détails!I:I) -> 94.29
A16: 3 | B16: =SUMIF(Détails!A:A,A16,Détails!I:I) -> 0
A17: 4 | B17: =SUMIF(Détails!A:A,A17,Détails!I:I) -> 0
A18: 5 | B18: =SUMIF(Détails!A:A,A18,Détails!I:I) -> 0
A19: 6 | B19: =SUMIF(Détails!A:A,A19,Détails!I:I) -> 0
A20: 7 | B20: =SUMIF(Détails!A:A,A20,Détails!I:I) -> 0
B25: =+SUM(#REF!) -> #REF!
B27: =SUM(#REF!) -> #REF!
B29: =SUM(#REF!) -> #REF!
B31: =SUM(#REF!) -> #REF!

Sheet Feuil3
