Workbook

Sheet Equipes
A1: N° | B1: Equipes | D1: Consignes : - Inscrire le nom de l'équipe dans la case blanche dans l'ordre d'inscription | J1: {=IF(ROW()<=$F$8/2,INDEX($B$2:$B$101,(ROW()-1)*2+1),"")} -> a | K1: {=IF(ROW()<=$F$8/2,INDEX($B$2:$B$101,(ROW()-1)*2+2),"")} -> z | L1: {=_xlfn.SEQUENCE(50)} -> 1
A2: =IF(B2="","",ROW(A1)) -> 1 | B2: a | C2: =IF(B2="","",IF(ROW(A2)<=$F$8,RAND(),"")) -> 0.53171832 | J2: {=IF(ROW()<=$F$8/2,INDEX($B$2:$B$101,(ROW()-1)*2+1),"")} -> f | K2: {=IF(ROW()<=$F$8/2,INDEX($B$2:$B$101,(ROW()-1)*2+2),"")} -> r | L2: 2
A3: =IF(B3="","",ROW(A2)) -> 2 | B3: z | C3: =IF(B3="","",IF(ROW(A3)<=$F$8,RAND(),"")) -> 0.69617635 | J3: {=IF(ROW()<=$F$8/2,INDEX($B$2:$B$101,(ROW()-1)*2+1),"")} -> t | K3: {=IF(ROW()<=$F$8/2,INDEX($B$2:$B$101,(ROW()-1)*2+2),"")} -> y | L3: 3
A4: =IF(B4="","",ROW(A3)) -> 3 | B4: f | C4: =IF(B4="","",IF(ROW(A4)<=$F$8,RAND(),"")) -> 0.53647769 | J4: {=IF(ROW()<=$F$8/2,INDEX($B$2:$B$101,(ROW()-1)*2+1),"")} -> u | K4: {=IF(ROW()<=$F$8/2,INDEX($B$2:$B$101,(ROW()-1)*2+2),"")} -> 0 | L4: 4
A5: =IF(B5="","",ROW(A4)) -> 4 | B5: r | C5: =IF(B5="","",IF(ROW(A5)<=$F$8,RAND(),"")) -> 0.41146153 | J5: {=IF(ROW()<=$F$8/2,INDEX($B$2:$B$101,(ROW()-1)*2+1),"")} -> 0 | K5: {=IF(ROW()<=$F$8/2,INDEX($B$2:$B$101,(ROW()-1)*2+2),"")} -> 0 | L5: 5
A6: =IF(B6="","",ROW(A5)) -> 5 | B6: t | C6: =IF(B6="","",IF(ROW(A6)<=$F$8,RAND(),"")) -> 0.91595183 | J6: {=IF(ROW()<=$F$8/2,INDEX($B$2:$B$101,(ROW()-1)*2+1),"")} -> 0 | K6: {=IF(ROW()<=$F$8/2,INDEX($B$2:$B$101,(ROW()-1)*2+2),"")} -> 0 | L6: 6
A7: =IF(B7="","",ROW(A6)) -> 6 | B7: y | C7: =IF(B7="","",IF(ROW(A7)<=$F$8,RAND(),"")) -> 0.35113125 | J7: {=IF(ROW()<=$F$8/2,INDEX($B$2:$B$101,(ROW()-1)*2+1),"")} -> 0 | K7: {=IF(ROW()<=$F$8/2,INDEX($B$2:$B$101,(ROW()-1)*2+2),"")} -> 0 | L7: 7
A8: =IF(B8="","",ROW(A7)) -> 7 | B8: u | C8: =IF(B8="","",IF(ROW(A8)<=$F$8,RAND(),"")) -> 0.6554301 | F8: 100 | J8: {=IF(ROW()<=$F$8/2,INDEX($B$2:$B$101,(ROW()-1)*2+1),"")} -> 0 | K8: {=IF(ROW()<=$F$8/2,INDEX($B$2:$B$101,(ROW()-1)*2+2),"")} -> 0 | L8: 8
A9: =IF(B9="","",ROW(A8)) | C9: =IF(B9="","",IF(ROW(A9)<=$F$8,RAND(),"")) | J9: {=IF(ROW()<=$F$8/2,INDEX($B$2:$B$101,(ROW()-1)*2+1),"")} -> 0 | K9: {=IF(ROW()<=$F$8/2,INDEX($B$2:$B$101,(ROW()-1)*2+2),"")} -> 0 | L9: 9
A10: =IF(B10="","",ROW(A9)) | C10: =IF(B10="","",IF(ROW(A10)<=$F$8,RAND(),"")) | J10: {=IF(ROW()<=$F$8/2,INDEX($B$2:$B$101,(ROW()-1)*2+1),"")} -> 0 | K10: {=IF(ROW()<=$F$8/2,INDEX($B$2:$B$101,(ROW()-1)*2+2),"")} -> 0 | L10: 10
A11: =IF(B11="","",ROW(A10)) | C11: =IF(B11="","",IF(ROW(A11)<=$F$8,RAND(),"")) | J11: {=IF(ROW()<=$F$8/2,INDEX($B$2:$B$101,(ROW()-1)*2+1),"")} -> 0 | K11: {=IF(ROW()<=$F$8/2,INDEX($B$2:$B$101,(ROW()-1)*2+2),"")} -> 0 | L11: 11
A12: =IF(B12="","",ROW(A11)) | C12: =IF(B12="","",IF(ROW(A12)<=$F$8,RAND(),"")) | J12: {=IF(ROW()<=$F$8/2,INDEX($B$2:$B$101,(ROW()-1)*2+1),"")} -> 0 | K12: {=IF(ROW()<=$F$8/2,INDEX($B$2:$B$101,(ROW()-1)*2+2),"")} -> 0 | L12: 12
A13: =IF(B13="","",ROW(A12)) | C13: =IF(B13="","",IF(ROW(A13)<=$F$8,RAND(),"")) | J13: {=IF(ROW()<=$F$8/2,INDEX($B$2:$B$101,(ROW()-1)*2+1),"")} -> 0 | K13: {=IF(ROW()<=$F$8/2,INDEX($B$2:$B$101,(ROW()-1)*2+2),"")} -> 0 | L13: 13
A14: =IF(B14="","",ROW(A13)) | C14: =IF(B14="","",IF(ROW(A14)<=$F$8,RAND(),"")) | J14: {=IF(ROW()<=$F$8/2,INDEX($B$2:$B$101,(ROW()-1)*2+1),"")} -> 0 | K14: {=IF(ROW()<=$F$8/2,INDEX($B$2:$B$101,(ROW()-1)*2+2),"")} -> 0 | L14: 14
A15: =IF(B15="","",ROW(A14)) | C15: =IF(B15="","",IF(ROW(A15)<=$F$8,RAND(),"")) | J15: {=IF(ROW()<=$F$8/2,INDEX($B$2:$B$101,(ROW()-1)*2+1),"")} -> 0 | K15: {=IF(ROW()<=$F$8/2,INDEX($B$2:$B$101,(ROW()-1)*2+2),"")} -> 0 | L15: 15
A16: =IF(B16="","",ROW(A15)) | C16: =IF(B16="","",IF(ROW(A16)<=$F$8,RAND(),"")) | J16: {=IF(ROW()<=$F$8/2,INDEX($B$2:$B$101,(ROW()-1)*2+1),"")} -> 0 | K16: {=IF(ROW()<=$F$8/2,INDEX($B$2:$B$101,(ROW()-1)*2+2),"")} -> 0 | L16: 16
A17: =IF(B17="","",ROW(A16)) | C17: =IF(B17="","",IF(ROW(A17)<=$F$8,RAND(),"")) | J17: {=IF(ROW()<=$F$8/2,INDEX($B$2:$B$101,(ROW()-1)*2+1),"")} -> 0 | K17: {=IF(ROW()<=$F$8/2,INDEX($B$2:$B$101,(ROW()-1)*2+2),"")} -> 0 | L17: 17
A18: =IF(B18="","",ROW(A17)) | C18: =IF(B18="","",IF(ROW(A18)<=$F$8,RAND(),"")) | J18: {=IF(ROW()<=$F$8/2,INDEX($B$2:$B$101,(ROW()-1)*2+1),"")} -> 0 | K18: {=IF(ROW()<=$F$8/2,INDEX($B$2:$B$101,(ROW()-1)*2+2),"")} -> 0 | L18: 18
A19: =IF(B19="","",ROW(A18)) | C19: =IF(B19="","",IF(ROW(A19)<=$F$8,RAND(),"")) | J19: {=IF(ROW()<=$F$8/2,INDEX($B$2:$B$101,(ROW()-1)*2+1),"")} -> 0 | K19: {=IF(ROW()<=$F$8/2,INDEX($B$2:$B$101,(ROW()-1)*2+2),"")} -> 0 | L19: 19
A20: =IF(B20="","",ROW(A19)) | C20: =IF(B20="","",IF(ROW(A20)<=$F$8,RAND(),"")) | J20: {=IF(ROW()<=$F$8/2,INDEX($B$2:$B$101,(ROW()-1)*2+1),"")} -> 0 | K20: {=IF(ROW()<=$F$8/2,INDEX($B$2:$B$101,(ROW()-1)*2+2),"")} -> 0 | L20: 20
... A50: =IF(B50="","",ROW(A49)) | C50: =IF(B50="","",IF(ROW(A50)<=$F$8,RAND(),"")) | J50: {=IF(ROW()<=$F$8/2,INDEX($B$2:$B$101,(ROW()-1)*2+1),"")} -> n | K50: {=IF(ROW()<=$F$8/2,INDEX($B$2:$B$101,(ROW()-1)*2+2),"")} -> b | L50: 50
A51: =IF(B51="","",ROW(A50)) | C51: =IF(B51="","",IF(ROW(A51)<=$F$8,RAND(),""))
A52: =IF(B52="","",ROW(A51)) | C52: =IF(B52="","",IF(ROW(A52)<=$F$8,RAND(),""))
A53: =IF(B53="","",ROW(A52)) | C53: =IF(B53="","",IF(ROW(A53)<=$F$8,RAND(),""))
A54: =IF(B54="","",ROW(A53)) | C54: =IF(B54="","",IF(ROW(A54)<=$F$8,RAND(),""))
A55: =IF(B55="","",ROW(A54)) | C55: =IF(B55="","",IF(ROW(A55)<=$F$8,RAND(),""))
A56: =IF(B56="","",ROW(A55)) | C56: =IF(B56="","",IF(ROW(A56)<=$F$8,RAND(),""))
A57: =IF(B57="","",ROW(A56)) | C57: =IF(B57="","",IF(ROW(A57)<=$F$8,RAND(),""))
A58: =IF(B58="","",ROW(A57)) | C58: =IF(B58="","",IF(ROW(A58)<=$F$8,RAND(),""))
A59: =IF(B59="","",ROW(A58)) | C59: =IF(B59="","",IF(ROW(A59)<=$F$8,RAND(),""))
A60: =IF(B60="","",ROW(A59)) | C60: =IF(B60="","",IF(ROW(A60)<=$F$8,RAND(),""))
A61: =IF(B61="","",ROW(A60)) | C61: =IF(B61="","",IF(ROW(A61)<=$F$8,RAND(),""))
A62: =IF(B62="","",ROW(A61)) | C62: =IF(B62="","",IF(ROW(A62)<=$F$8,RAND(),""))
... A99: =IF(B99="","",ROW(A98)) | C99: =IF(B99="","",IF(ROW(A99)<=$F$8,RAND(),""))
A100: =IF(B100="","",ROW(A99)) -> 99 | B100: n | C100: =IF(B100="","",IF(ROW(A100)<=$F$8,RAND(),"")) -> 0.33376673
A101: =IF(B101="","",ROW(A100)) -> 100 | B101: b | C101: =IF(B101="","",IF(ROW(A101)<=$F$8,RAND(),""))

Sheet Tables
B1: Partie 1
H2: Consignes : - Dans la partie blanche, inscrire le score de chaque équipe.
A3: =IF(C3="","",IF(C3>D3,3,IF(C3=D3,1,0))) -> 3 | B3: =IF('Tirage au sort'!B1=0,"",'Tirage au sort'!B1) -> a | C3: 1 | D3: 0 | E3: =IF('Tirage au sort'!D1=0,"",'Tirage au sort'!D1) -> z | F3: =IF(D3="","",IF(D3>C3,3,IF(D3=C3,1,0))) -> 0
A4: =IF(C4="","",IF(C4>D4,3,IF(C4=D4,1,0))) | B4: =IF('Tirage au sort'!B2=0,"",'Tirage au sort'!B2) -> f | E4: =IF('Tirage au sort'!D2=0,"",'Tirage au sort'!D2) -> r | F4: =IF(D4="","",IF(D4>C4,3,IF(D4=C4,1,0)))
A5: =IF(C5="","",IF(C5>D5,3,IF(C5=D5,1,0))) | B5: =IF('Tirage au sort'!B3=0,"",'Tirage au sort'!B3) -> t | E5: =IF('Tirage au sort'!D3=0,"",'Tirage au sort'!D3) -> y | F5: =IF(D5="","",IF(D5>C5,3,IF(D5=C5,1,0)))
A6: =IF(C6="","",IF(C6>D6,3,IF(C6=D6,1,0))) | B6: =IF('Tirage au sort'!B4=0,"",'Tirage au sort'!B4) -> u | E6: =IF('Tirage au sort'!D4=0,"",'Tirage au sort'!D4) | F6: =IF(D6="","",IF(D6>C6,3,IF(D6=C6,1,0)))
A7: =IF(C7="","",IF(C7>D7,3,IF(C7=D7,1,0))) | B7: =IF('Tirage au sort'!B5=0,"",'Tirage au sort'!B5) | E7: =IF('Tirage au sort'!D5=0,"",'Tirage au sort'!D5) | F7: =IF(D7="","",IF(D7>C7,3,IF(D7=C7,1,0)))
A8: =IF(C8="","",IF(C8>D8,3,IF(C8=D8,1,0))) | B8: =IF('Tirage au sort'!B6=0,"",'Tirage au sort'!B6) | E8: =IF('Tirage au sort'!D6=0,"",'Tirage au sort'!D6) | F8: =IF(D8="","",IF(D8>C8,3,IF(D8=C8,1,0)))
A9: =IF(C9="","",IF(C9>D9,3,IF(C9=D9,1,0))) | B9: =IF('Tirage au sort'!B7=0,"",'Tirage au sort'!B7) | E9: =IF('Tirage au sort'!D7=0,"",'Tirage au sort'!D7) | F9: =IF(D9="","",IF(D9>C9,3,IF(D9=C9,1,0)))
A10: =IF(C10="","",IF(C10>D10,3,IF(C10=D10,1,0))) | B10: =IF('Tirage au sort'!B8=0,"",'Tirage au sort'!B8) | E10: =IF('Tirage au sort'!D8=0,"",'Tirage au sort'!D8) | F10: =IF(D10="","",IF(D10>C10,3,IF(D10=C10,1,0)))
A11: =IF(C11="","",IF(C11>D11,3,IF(C11=D11,1,0))) | B11: =IF('Tirage au sort'!B9=0,"",'Tirage au sort'!B9) | E11: =IF('Tirage au sort'!D9=0,"",'Tirage au sort'!D9) | F11: =IF(D11="","",IF(D11>C11,3,IF(D11=C11,1,0)))
A12: =IF(C12="","",IF(C12>D12,3,IF(C12=D12,1,0))) | B12: =IF('Tirage au sort'!B10=0,"",'Tirage au sort'!B10) | E12: =IF('Tirage au sort'!D10=0,"",'Tirage au sort'!D10) | F12: =IF(D12="","",IF(D12>C12,3,IF(D12=C12,1,0)))
A13: =IF(C13="","",IF(C13>D13,3,IF(C13=D13,1,0))) | B13: =IF('Tirage au sort'!B11=0,"",'Tirage au sort'!B11) | E13: =IF('Tirage au sort'!D11=0,"",'Tirage au sort'!D11) | F13: =IF(D13="","",IF(D13>C13,3,IF(D13=C13,1,0)))
A14: =IF(C14="","",IF(C14>D14,3,IF(C14=D14,1,0))) | B14: =IF('Tirage au sort'!B12=0,"",'Tirage au sort'!B12) | E14: =IF('Tirage au sort'!D12=0,"",'Tirage au sort'!D12) | F14: =IF(D14="","",IF(D14>C14,3,IF(D14=C14,1,0)))
A15: =IF(C15="","",IF(C15>D15,3,IF(C15=D15,1,0))) | B15: =IF('Tirage au sort'!B13=0,"",'Tirage au sort'!B13) | E15: =IF('Tirage au sort'!D13=0,"",'Tirage au sort'!D13) | F15: =IF(D15="","",IF(D15>C15,3,IF(D15=C15,1,0)))
... A52: =IF(C52="","",IF(C52>D52,3,IF(C52=D52,1,0))) | B52: =IF('Tirage au sort'!B50=0,"",'Tirage au sort'!B50) -> n | E52: =IF('Tirage au sort'!D50=0,"",'Tirage au sort'!D50) -> b | F52: =IF(D52="","",IF(D52>C52,3,IF(D52=C52,1,0)))
A53: =IF(C53="","",IF(C53>D53,3,IF(C53=D53,1,0))) | F53: =IF(D53="","",IF(D53>C53,3,IF(D53=C53,1,0)))
A54: =IF(C54="","",IF(C54>D54,3,IF(C54=D54,1,0))) | B54: Partie 2 | F54: =IF(D54="","",IF(D54>C54,3,IF(D54=C54,1,0)))
A55: =IF(C55="","",IF(C55>D55,3,IF(C55=D55,1,0))) | F55: =IF(D55="","",IF(D55>C55,3,IF(D55=C55,1,0)))
A56: =IF(C56="","",IF(C56>D56,3,IF(C56=D56,1,0))) | B56: =IF('Tirage au sort'!G1=0,"",'Tirage au sort'!G1) | E56: =IF('Tirage au sort'!I1=0,"",'Tirage au sort'!I1) | F56: =IF(D56="","",IF(D56>C56,3,IF(D56=C56,1,0)))
A57: =IF(C57="","",IF(C57>D57,3,IF(C57=D57,1,0))) | B57: =IF('Tirage au sort'!G2=0,"",'Tirage au sort'!G2) | E57: =IF('Tirage au sort'!I2=0,"",'Tirage au sort'!I2) | F57: =IF(D57="","",IF(D57>C57,3,IF(D57=C57,1,0)))
A58: =IF(C58="","",IF(C58>D58,3,IF(C58=D58,1,0))) | B58: =IF('Tirage au sort'!G3=0,"",'Tirage au sort'!G3) | E58: =IF('Tirage au sort'!I3=0,"",'Tirage au sort'!I3) | F58: =IF(D58="","",IF(D58>C58,3,IF(D58=C58,1,0)))
A59: =IF(C59="","",IF(C59>D59,3,IF(C59=D59,1,0))) | B59: =IF('Tirage au sort'!G4=0,"",'Tirage au sort'!G4) | E59: =IF('Tirage au sort'!I4=0,"",'Tirage au sort'!I4) | F59: =IF(D59="","",IF(D59>C59,3,IF(D59=C59,1,0)))
A60: =IF(C60="","",IF(C60>D60,3,IF(C60=D60,1,0))) | B60: =IF('Tirage au sort'!G5=0,"",'Tirage au sort'!G5) | E60: =IF('Tirage au sort'!I5=0,"",'Tirage au sort'!I5) | F60: =IF(D60="","",IF(D60>C60,3,IF(D60=C60,1,0)))
A61: =IF(C61="","",IF(C61>D61,3,IF(C61=D61,1,0))) | B61: =IF('Tirage au sort'!G6=0,"",'Tirage au sort'!G6) | E61: =IF('Tirage au sort'!I6=0,"",'Tirage au sort'!I6) | F61: =IF(D61="","",IF(D61>C61,3,IF(D61=C61,1,0)))
A62: =IF(C62="","",IF(C62>D62,3,IF(C62=D62,1,0))) | B62: =IF('Tirage au sort'!G7=0,"",'Tirage au sort'!G7) | E62: =IF('Tirage au sort'!I7=0,"",'Tirage au sort'!I7) | F62: =IF(D62="","",IF(D62>C62,3,IF(D62=C62,1,0)))
A63: =IF(C63="","",IF(C63>D63,3,IF(C63=D63,1,0))) | B63: =IF('Tirage au sort'!G8=0,"",'Tirage au sort'!G8) | E63: =IF('Tirage au sort'!I8=0,"",'Tirage au sort'!I8) | F63: =IF(D63="","",IF(D63>C63,3,IF(D63=C63,1,0)))
A64: =IF(C64="","",IF(C64>D64,3,IF(C64=D64,1,0))) | B64: =IF('Tirage au sort'!G9=0,"",'Tirage au sort'!G9) | E64: =IF('Tirage au sort'!I9=0,"",'Tirage au sort'!I9) | F64: =IF(D64="","",IF(D64>C64,3,IF(D64=C64,1,0)))
A65: =IF(C65="","",IF(C65>D65,3,IF(C65=D65,1,0))) | B65: =IF('Tirage au sort'!G10=0,"",'Tirage au sort'!G10) | E65: =IF('Tirage au sort'!I10=0,"",'Tirage au sort'!I10) | F65: =IF(D65="","",IF(D65>C65,3,IF(D65=C65,1,0)))
A66: =IF(C66="","",IF(C66>D66,3,IF(C66=D66,1,0))) | B66: =IF('Tirage au sort'!G11=0,"",'Tirage au sort'!G11) | E66: =IF('Tirage au sort'!I11=0,"",'Tirage au sort'!I11) | F66: =IF(D66="","",IF(D66>C66,3,IF(D66=C66,1,0)))
A67: =IF(C67="","",IF(C67>D67,3,IF(C67=D67,1,0))) | B67: =IF('Tirage au sort'!G12=0,"",'Tirage au sort'!G12) | E67: =IF('Tirage au sort'!I12=0,"",'Tirage au sort'!I12) | F67: =IF(D67="","",IF(D67>C67,3,IF(D67=C67,1,0)))
... A105: =IF(C105="","",IF(C105>D105,3,IF(C105=D105,1,0))) | B105: =IF('Tirage au sort'!G50=0,"",'Tirage au sort'!G50) | E105: =IF('Tirage au sort'!I50=0,"",'Tirage au sort'!I50) | F105: =IF(D105="","",IF(D105>C105,3,IF(D105=C105,1,0)))
A106: =IF(C106="","",IF(C106>D106,3,IF(C106=D106,1,0))) | F106: =IF(D106="","",IF(D106>C106,3,IF(D106=C106,1,0)))
A107: =IF(C107="","",IF(C107>D107,3,IF(C107=D107,1,0))) | B107: Partie 3 | F107: =IF(D107="","",IF(D107>C107,3,IF(D107=C107,1,0)))
A108: =IF(C108="","",IF(C108>D108,3,IF(C108=D108,1,0))) | F108: =IF(D108="","",IF(D108>C108,3,IF(D108=C108,1,0)))
A109: =IF(C109="","",IF(C109>D109,3,IF(C109=D109,1,0))) | B109: =IF('Tirage au sort'!L1=0,"",'Tirage au sort'!L1) | E109: =IF('Tirage au sort'!N1=0,"",'Tirage au sort'!N1) | F109: =IF(D109="","",IF(D109>C109,3,IF(D109=C109,1,0)))
A110: =IF(C110="","",IF(C110>D110,3,IF(C110=D110,1,0))) | B110: =IF('Tirage au sort'!L2=0,"",'Tirage au sort'!L2) | E110: =IF('Tirage au sort'!N2=0,"",'Tirage au sort'!N2) | F110: =IF(D110="","",IF(D110>C110,3,IF(D110=C110,1,0)))
A111: =IF(C111="","",IF(C111>D111,3,IF(C111=D111,1,0))) | B111: =IF('Tirage au sort'!L3=0,"",'Tirage au sort'!L3) | E111: =IF('Tirage au sort'!N3=0,"",'Tirage au sort'!N3) | F111: =IF(D111="","",IF(D111>C111,3,IF(D111=C111,1,0)))
A112: =IF(C112="","",IF(C112>D112,3,IF(C112=D112,1,0))) | B112: =IF('Tirage au sort'!L4=0,"",'Tirage au sort'!L4) | E112: =IF('Tirage au sort'!N4=0,"",'Tirage au sort'!N4) | F112: =IF(D112="","",IF(D112>C112,3,IF(D112=C112,1,0)))
A113: =IF(C113="","",IF(C113>D113,3,IF(C113=D113,1,0))) | B113: =IF('Tirage au sort'!L5=0,"",'Tirage au sort'!L5) | E113: =IF('Tirage au sort'!N5=0,"",'Tirage au sort'!N5) | F113: =IF(D113="","",IF(D113>C113,3,IF(D113=C113,1,0)))
...

Sheet Tirage au sort
A1: Rencontre 1 | B1: {=IF(ROW()<=Equipes!$F$8/2,INDEX(Equipes!$B$2:$B$101,(ROW()-1)*2+1),"")} -> a | D1: {=IF(ROW()<=Equipes!$F$8/2,INDEX(Equipes!$B$2:$B$101,(ROW()-1)*2+2),"")} -> z | F1: Rencontre 1 | K1: Rencontre 1 | P1: Rencontre 1 | U1: Rencontre 1
A2: Rencontre 2 | B2: {=IF(ROW()<=Equipes!$F$8/2,INDEX(Equipes!$B$2:$B$101,(ROW()-1)*2+1),"")} -> f | D2: {=IF(ROW()<=Equipes!$F$8/2,INDEX(Equipes!$B$2:$B$101,(ROW()-1)*2+2),"")} -> r | F2: Rencontre 2 | K2: Rencontre 2 | P2: Rencontre 2 | U2: Rencontre 2
A3: Rencontre 3 | B3: {=IF(ROW()<=Equipes!$F$8/2,INDEX(Equipes!$B$2:$B$101,(ROW()-1)*2+1),"")} -> t | D3: {=IF(ROW()<=Equipes!$F$8/2,INDEX(Equipes!$B$2:$B$101,(ROW()-1)*2+2),"")} -> y | F3: Rencontre 3 | K3: Rencontre 3 | P3: Rencontre 3 | U3: Rencontre 3
A4: Rencontre 4 | B4: {=IF(ROW()<=Equipes!$F$8/2,INDEX(Equipes!$B$2:$B$101,(ROW()-1)*2+1),"")} -> u | D4: {=IF(ROW()<=Equipes!$F$8/2,INDEX(Equipes!$B$2:$B$101,(ROW()-1)*2+2),"")} -> 0 | F4: Rencontre 4 | K4: Rencontre 4 | P4: Rencontre 4 | U4: Rencontre 4
A5: Rencontre 5 | B5: {=IF(ROW()<=Equipes!$F$8/2,INDEX(Equipes!$B$2:$B$101,(ROW()-1)*2+1),"")} -> 0 | D5: {=IF(ROW()<=Equipes!$F$8/2,INDEX(Equipes!$B$2:$B$101,(ROW()-1)*2+2),"")} -> 0 | F5: Rencontre 5 | K5: Rencontre 5 | P5: Rencontre 5 | U5: Rencontre 5
A6: Rencontre 6 | B6: {=IF(ROW()<=Equipes!$F$8/2,INDEX(Equipes!$B$2:$B$101,(ROW()-1)*2+1),"")} -> 0 | D6: {=IF(ROW()<=Equipes!$F$8/2,INDEX(Equipes!$B$2:$B$101,(ROW()-1)*2+2),"")} -> 0 | F6: Rencontre 6 | K6: Rencontre 6 | P6: Rencontre 6 | U6: Rencontre 6
A7: Rencontre 7 | B7: {=IF(ROW()<=Equipes!$F$8/2,INDEX(Equipes!$B$2:$B$101,(ROW()-1)*2+1),"")} -> 0 | D7: {=IF(ROW()<=Equipes!$F$8/2,INDEX(Equipes!$B$2:$B$101,(ROW()-1)*2+2),"")} -> 0 | F7: Rencontre 7 | K7: Rencontre 7 | P7: Rencontre 7 | U7: Rencontre 7
A8: Rencontre 8 | B8: {=IF(ROW()<=Equipes!$F$8/2,INDEX(Equipes!$B$2:$B$101,(ROW()-1)*2+1),"")} -> 0 | D8: {=IF(ROW()<=Equipes!$F$8/2,INDEX(Equipes!$B$2:$B$101,(ROW()-1)*2+2),"")} -> 0 | F8: Rencontre 8 | K8: Rencontre 8 | P8: Rencontre 8 | U8: Rencontre 8
A9: Rencontre 9 | B9: {=IF(ROW()<=Equipes!$F$8/2,INDEX(Equipes!$B$2:$B$101,(ROW()-1)*2+1),"")} -> 0 | D9: {=IF(ROW()<=Equipes!$F$8/2,INDEX(Equipes!$B$2:$B$101,(ROW()-1)*2+2),"")} -> 0 | F9: Rencontre 9 | K9: Rencontre 9 | P9: Rencontre 9 | U9: Rencontre 9
A10: Rencontre 10 | B10: {=IF(ROW()<=Equipes!$F$8/2,INDEX(Equipes!$B$2:$B$101,(ROW()-1)*2+1),"")} -> 0 | D10: {=IF(ROW()<=Equipes!$F$8/2,INDEX(Equipes!$B$2:$B$101,(ROW()-1)*2+2),"")} -> 0 | F10: Rencontre 10 | K10: Rencontre 10 | P10: Rencontre 10 | U10: Rencontre 10
A11: Rencontre 11 | B11: {=IF(ROW()<=Equipes!$F$8/2,INDEX(Equipes!$B$2:$B$101,(ROW()-1)*2+1),"")} -> 0 | D11: {=IF(ROW()<=Equipes!$F$8/2,INDEX(Equipes!$B$2:$B$101,(ROW()-1)*2+2),"")} -> 0 | F11: Rencontre 11 | K11: Rencontre 11 | P11: Rencontre 11 | U11: Rencontre 11
A12: Rencontre 12 | B12: {=IF(ROW()<=Equipes!$F$8/2,INDEX(Equipes!$B$2:$B$101,(ROW()-1)*2+1),"")} -> 0 | D12: {=IF(ROW()<=Equipes!$F$8/2,INDEX(Equipes!$B$2:$B$101,(ROW()-1)*2+2),"")} -> 0 | F12: Rencontre 12 | K12: Rencontre 12 | P12: Rencontre 12 | U12: Rencontre 12
... A50: Rencontre 50 | B50: {=IF(ROW()<=Equipes!$F$8/2,INDEX(Equipes!$B$2:$B$101,(ROW()-1)*2+1),"")} -> n | D50: {=IF(ROW()<=Equipes!$F$8/2,INDEX(Equipes!$B$2:$B$101,(ROW()-1)*2+2),"")} -> b | F50: Rencontre 50 | K50: Rencontre 50 | P50: Rencontre 50 | U50: Rencontre 50

Sheet Classement
A1: Equipe | B1: Victoire | C1: Egalité | D1: Perdu | E1: Pts Marqués | F1: Pts Subis | G1: Différence | H1: Rang | K1: Rang | L1: Equipe
A2: =IF(Equipes!B2="","",Equipes!B2) -> a | B2: =IF(A2="","",COUNTIFS(Tables!B:B,Classement!A2,Tables!A:A,3)+COUNTIFS(Tables!E:E,Classement!A2,Tables!F:F,3)) -> 1 | C2: =IF(A2="","",COUNTIFS(Tables!B:B,Classement!A2,Tables!A:A,1)+COUNTIFS(Tables!E:E,Classement!A2,Tables!F:F,1)) -> 0 | D2: =IF(A2="","",COUNTIFS(Tables!B:B,Classement!A2,Tables!A:A,0)+COUNTIFS(Tables!E:E,Classement!A2,Tables!F:F,0)) -> 0 | E2: =IF(A2="","",SUMIF(Tables!B:B,Classement!A2,Tables!C:C)+SUMIF(Tables!E:E,Classement!A2,Tables!D:D)) -> 1 | F2: =IF(A2="","",SUMIF(Tables!B:B,Classement!A2,Tables!D:D)+SUMIF(Tables!E:E,Classement!A2,Tables!C:C)) -> 0 | G2: =IF(A2="","",E2-F2) -> 1 | H2: =IF(A2="","",RANK(I2,I:I,0)) -> 1 | I2: =IF(A2="","",(B2*100000)+(C2*10000)+G2) -> 100001 | K2: {=_xlfn.SEQUENCE(COUNTA(A:A)-1)} -> 1 | L2: =_xlfn.XLOOKUP(K2,$H$2:$H$101,$A$2:$A$101,"") -> a
A3: =IF(Equipes!B3="","",Equipes!B3) -> z | B3: =IF(A3="","",COUNTIFS(Tables!B:B,Classement!A3,Tables!A:A,3)+COUNTIFS(Tables!E:E,Classement!A3,Tables!F:F,3)) -> 0 | C3: =IF(A3="","",COUNTIFS(Tables!B:B,Classement!A3,Tables!A:A,1)+COUNTIFS(Tables!E:E,Classement!A3,Tables!F:F,1)) -> 0 | D3: =IF(A3="","",COUNTIFS(Tables!B:B,Classement!A3,Tables!A:A,0)+COUNTIFS(Tables!E:E,Classement!A3,Tables!F:F,0)) -> 1 | E3: =IF(A3="","",SUMIF(Tables!B:B,Classement!A3,Tables!C:C)+SUMIF(Tables!E:E,Classement!A3,Tables!D:D)) -> 0 | F3: =IF(A3="","",SUMIF(Tables!B:B,Classement!A3,Tables!D:D)+SUMIF(Tables!E:E,Classement!A3,Tables!C:C)) -> 1 | G3: =IF(A3="","",E3-F3) -> -1 | H3: =IF(A3="","",RANK(I3,I:I,0)) -> 9 | I3: =IF(A3="","",(B3*100000)+(C3*10000)+G3) -> -1 | K3: 2 | L3: =_xlfn.XLOOKUP(K3,$H$2:$H$101,$A$2:$A$101,"") -> f | N3: Consignes : - NE RIEN REMPLIR DANS CETTE FEUILLE - TOUT EST AUTOMATIQUE !!!
A4: =IF(Equipes!B4="","",Equipes!B4) -> f | B4: =IF(A4="","",COUNTIFS(Tables!B:B,Classement!A4,Tables!A:A,3)+COUNTIFS(Tables!E:E,Classement!A4,Tables!F:F,3)) -> 0 | C4: =IF(A4="","",COUNTIFS(Tables!B:B,Classement!A4,Tables!A:A,1)+COUNTIFS(Tables!E:E,Classement!A4,Tables!F:F,1)) -> 0 | D4: =IF(A4="","",COUNTIFS(Tables!B:B,Classement!A4,Tables!A:A,0)+COUNTIFS(Tables!E:E,Classement!A4,Tables!F:F,0)) -> 0 | E4: =IF(A4="","",SUMIF(Tables!B:B,Classement!A4,Tables!C:C)+SUMIF(Tables!E:E,Classement!A4,Tables!D:D)) -> 0 | F4: =IF(A4="","",SUMIF(Tables!B:B,Classement!A4,Tables!D:D)+SUMIF(Tables!E:E,Classement!A4,Tables!C:C)) -> 0 | G4: =IF(A4="","",E4-F4) -> 0 | H4: =IF(A4="","",RANK(I4,I:I,0)) -> 2 | I4: =IF(A4="","",(B4*100000)+(C4*10000)+G4) -> 0 | K4: 3 | L4: =_xlfn.XLOOKUP(K4,$H$2:$H$101,$A$2:$A$101,"")
A5: =IF(Equipes!B5="","",Equipes!B5) -> r | B5: =IF(A5="","",COUNTIFS(Tables!B:B,Classement!A5,Tables!A:A,3)+COUNTIFS(Tables!E:E,Classement!A5,Tables!F:F,3)) -> 0 | C5: =IF(A5="","",COUNTIFS(Tables!B:B,Classement!A5,Tables!A:A,1)+COUNTIFS(Tables!E:E,Classement!A5,Tables!F:F,1)) -> 0 | D5: =IF(A5="","",COUNTIFS(Tables!B:B,Classement!A5,Tables!A:A,0)+COUNTIFS(Tables!E:E,Classement!A5,Tables!F:F,0)) -> 0 | E5: =IF(A5="","",SUMIF(Tables!B:B,Classement!A5,Tables!C:C)+SUMIF(Tables!E:E,Classement!A5,Tables!D:D)) -> 0 | F5: =IF(A5="","",SUMIF(Tables!B:B,Classement!A5,Tables!D:D)+SUMIF(Tables!E:E,Classement!A5,Tables!C:C)) -> 0 | G5: =IF(A5="","",E5-F5) -> 0 | H5: =IF(A5="","",RANK(I5,I:I,0)) -> 2 | I5: =IF(A5="","",(B5*100000)+(C5*10000)+G5) -> 0 | K5: 4 | L5: =_xlfn.XLOOKUP(K5,$H$2:$H$101,$A$2:$A$101,"")
A6: =IF(Equipes!B6="","",Equipes!B6) -> t | B6: =IF(A6="","",COUNTIFS(Tables!B:B,Classement!A6,Tables!A:A,3)+COUNTIFS(Tables!E:E,Classement!A6,Tables!F:F,3)) -> 0 | C6: =IF(A6="","",COUNTIFS(Tables!B:B,Classement!A6,Tables!A:A,1)+COUNTIFS(Tables!E:E,Classement!A6,Tables!F:F,1)) -> 0 | D6: =IF(A6="","",COUNTIFS(Tables!B:B,Classement!A6,Tables!A:A,0)+COUNTIFS(Tables!E:E,Classement!A6,Tables!F:F,0)) -> 0 | E6: =IF(A6="","",SUMIF(Tables!B:B,Classement!A6,Tables!C:C)+SUMIF(Tables!E:E,Classement!A6,Tables!D:D)) -> 0 | F6: =IF(A6="","",SUMIF(Tables!B:B,Classement!A6,Tables!D:D)+SUMIF(Tables!E:E,Classement!A6,Tables!C:C)) -> 0 | G6: =IF(A6="","",E6-F6) -> 0 | H6: =IF(A6="","",RANK(I6,I:I,0)) -> 2 | I6: =IF(A6="","",(B6*100000)+(C6*10000)+G6) -> 0 | K6: 5 | L6: =_xlfn.XLOOKUP(K6,$H$2:$H$101,$A$2:$A$101,"")
A7: =IF(Equipes!B7="","",Equipes!B7) -> y | B7: =IF(A7="","",COUNTIFS(Tables!B:B,Classement!A7,Tables!A:A,3)+COUNTIFS(Tables!E:E,Classement!A7,Tables!F:F,3)) -> 0 | C7: =IF(A7="","",COUNTIFS(Tables!B:B,Classement!A7,Tables!A:A,1)+COUNTIFS(Tables!E:E,Classement!A7,Tables!F:F,1)) -> 0 | D7: =IF(A7="","",COUNTIFS(Tables!B:B,Classement!A7,Tables!A:A,0)+COUNTIFS(Tables!E:E,Classement!A7,Tables!F:F,0)) -> 0 | E7: =IF(A7="","",SUMIF(Tables!B:B,Classement!A7,Tables!C:C)+SUMIF(Tables!E:E,Classement!A7,Tables!D:D)) -> 0 | F7: =IF(A7="","",SUMIF(Tables!B:B,Classement!A7,Tables!D:D)+SUMIF(Tables!E:E,Classement!A7,Tables!C:C)) -> 0 | G7: =IF(A7="","",E7-F7) -> 0 | H7: =IF(A7="","",RANK(I7,I:I,0)) -> 2 | I7: =IF(A7="","",(B7*100000)+(C7*10000)+G7) -> 0 | K7: 6 | L7: =_xlfn.XLOOKUP(K7,$H$2:$H$101,$A$2:$A$101,"")
A8: =IF(Equipes!B8="","",Equipes!B8) -> u | B8: =IF(A8="","",COUNTIFS(Tables!B:B,Classement!A8,Tables!A:A,3)+COUNTIFS(Tables!E:E,Classement!A8,Tables!F:F,3)) -> 0 | C8: =IF(A8="","",COUNTIFS(Tables!B:B,Classement!A8,Tables!A:A,1)+COUNTIFS(Tables!E:E,Classement!A8,Tables!F:F,1)) -> 0 | D8: =IF(A8="","",COUNTIFS(Tables!B:B,Classement!A8,Tables!A:A,0)+COUNTIFS(Tables!E:E,Classement!A8,Tables!F:F,0)) -> 0 | E8: =IF(A8="","",SUMIF(Tables!B:B,Classement!A8,Tables!C:C)+SUMIF(Tables!E:E,Classement!A8,Tables!D:D)) -> 0 | F8: =IF(A8="","",SUMIF(Tables!B:B,Classement!A8,Tables!D:D)+SUMIF(Tables!E:E,Classement!A8,Tables!C:C)) -> 0 | G8: =IF(A8="","",E8-F8) -> 0 | H8: =IF(A8="","",RANK(I8,I:I,0)) -> 2 | I8: =IF(A8="","",(B8*100000)+(C8*10000)+G8) -> 0 | K8: 7 | L8: =_xlfn.XLOOKUP(K8,$H$2:$H$101,$A$2:$A$101,"")
A9: =IF(Equipes!B9="","",Equipes!B9) | B9: =IF(A9="","",COUNTIFS(Tables!B:B,Classement!A9,Tables!A:A,3)+COUNTIFS(Tables!E:E,Classement!A9,Tables!F:F,3)) | C9: =IF(A9="","",COUNTIFS(Tables!B:B,Classement!A9,Tables!A:A,1)+COUNTIFS(Tables!E:E,Classement!A9,Tables!F:F,1)) | D9: =IF(A9="","",COUNTIFS(Tables!B:B,Classement!A9,Tables!A:A,0)+COUNTIFS(Tables!E:E,Classement!A9,Tables!F:F,0)) | E9: =IF(A9="","",SUMIF(Tables!B:B,Classement!A9,Tables!C:C)+SUMIF(Tables!E:E,Classement!A9,Tables!D:D)) | F9: =IF(A9="","",SUMIF(Tables!B:B,Classement!A9,Tables!D:D)+SUMIF(Tables!E:E,Classement!A9,Tables!C:C)) | G9: =IF(A9="","",E9-F9) | H9: =IF(A9="","",RANK(I9,I:I,0)) | I9: =IF(A9="","",(B9*100000)+(C9*10000)+G9) | K9: 8 | L9: =_xlfn.XLOOKUP(K9,$H$2:$H$101,$A$2:$A$101,"")
A10: =IF(Equipes!B10="","",Equipes!B10) | B10: =IF(A10="","",COUNTIFS(Tables!B:B,Classement!A10,Tables!A:A,3)+COUNTIFS(Tables!E:E,Classement!A10,Tables!F:F,3)) | C10: =IF(A10="","",COUNTIFS(Tables!B:B,Classement!A10,Tables!A:A,1)+COUNTIFS(Tables!E:E,Classement!A10,Tables!F:F,1)) | D10: =IF(A10="","",COUNTIFS(Tables!B:B,Classement!A10,Tables!A:A,0)+COUNTIFS(Tables!E:E,Classement!A10,Tables!F:F,0)) | E10: =IF(A10="","",SUMIF(Tables!B:B,Classement!A10,Tables!C:C)+SUMIF(Tables!E:E,Classement!A10,Tables!D:D)) | F10: =IF(A10="","",SUMIF(Tables!B:B,Classement!A10,Tables!D:D)+SUMIF(Tables!E:E,Classement!A10,Tables!C:C)) | G10: =IF(A10="","",E10-F10) | H10: =IF(A10="","",RANK(I10,I:I,0)) | I10: =IF(A10="","",(B10*100000)+(C10*10000)+G10) | K10: 9 | L10: =_xlfn.XLOOKUP(K10,$H$2:$H$101,$A$2:$A$101,"") -> z
A11: =IF(Equipes!B11="","",Equipes!B11) | B11: =IF(A11="","",COUNTIFS(Tables!B:B,Classement!A11,Tables!A:A,3)+COUNTIFS(Tables!E:E,Classement!A11,Tables!F:F,3)) | C11: =IF(A11="","",COUNTIFS(Tables!B:B,Classement!A11,Tables!A:A,1)+COUNTIFS(Tables!E:E,Classement!A11,Tables!F:F,1)) | D11: =IF(A11="","",COUNTIFS(Tables!B:B,Classement!A11,Tables!A:A,0)+COUNTIFS(Tables!E:E,Classement!A11,Tables!F:F,0)) | E11: =IF(A11="","",SUMIF(Tables!B:B,Classement!A11,Tables!C:C)+SUMIF(Tables!E:E,Classement!A11,Tables!D:D)) | F11: =IF(A11="","",SUMIF(Tables!B:B,Classement!A11,Tables!D:D)+SUMIF(Tables!E:E,Classement!A11,Tables!C:C)) | G11: =IF(A11="","",E11-F11) | H11: =IF(A11="","",RANK(I11,I:I,0)) | I11: =IF(A11="","",(B11*100000)+(C11*10000)+G11) | K11: 10 | L11: =_xlfn.XLOOKUP(K11,$H$2:$H$101,$A$2:$A$101,"")
A12: =IF(Equipes!B12="","",Equipes!B12) | B12: =IF(A12="","",COUNTIFS(Tables!B:B,Classement!A12,Tables!A:A,3)+COUNTIFS(Tables!E:E,Classement!A12,Tables!F:F,3)) | C12: =IF(A12="","",COUNTIFS(Tables!B:B,Classement!A12,Tables!A:A,1)+COUNTIFS(Tables!E:E,Classement!A12,Tables!F:F,1)) | D12: =IF(A12="","",COUNTIFS(Tables!B:B,Classement!A12,Tables!A:A,0)+COUNTIFS(Tables!E:E,Classement!A12,Tables!F:F,0)) | E12: =IF(A12="","",SUMIF(Tables!B:B,Classement!A12,Tables!C:C)+SUMIF(Tables!E:E,Classement!A12,Tables!D:D)) | F12: =IF(A12="","",SUMIF(Tables!B:B,Classement!A12,Tables!D:D)+SUMIF(Tables!E:E,Classement!A12,Tables!C:C)) | G12: =IF(A12="","",E12-F12) | H12: =IF(A12="","",RANK(I12,I:I,0)) | I12: =IF(A12="","",(B12*100000)+(C12*10000)+G12) | K12: 11 | L12: =_xlfn.XLOOKUP(K12,$H$2:$H$101,$A$2:$A$101,"")
A13: =IF(Equipes!B13="","",Equipes!B13) | B13: =IF(A13="","",COUNTIFS(Tables!B:B,Classement!A13,Tables!A:A,3)+COUNTIFS(Tables!E:E,Classement!A13,Tables!F:F,3)) | C13: =IF(A13="","",COUNTIFS(Tables!B:B,Classement!A13,Tables!A:A,1)+COUNTIFS(Tables!E:E,Classement!A13,Tables!F:F,1)) | D13: =IF(A13="","",COUNTIFS(Tables!B:B,Classement!A13,Tables!A:A,0)+COUNTIFS(Tables!E:E,Classement!A13,Tables!F:F,0)) | E13: =IF(A13="","",SUMIF(Tables!B:B,Classement!A13,Tables!C:C)+SUMIF(Tables!E:E,Classement!A13,Tables!D:D)) | F13: =IF(A13="","",SUMIF(Tables!B:B,Classement!A13,Tables!D:D)+SUMIF(Tables!E:E,Classement!A13,Tables!C:C)) | G13: =IF(A13="","",E13-F13) | H13: =IF(A13="","",RANK(I13,I:I,0)) | I13: =IF(A13="","",(B13*100000)+(C13*10000)+G13) | K13: 12 | L13: =_xlfn.XLOOKUP(K13,$H$2:$H$101,$A$2:$A$101,"")
A14: =IF(Equipes!B14="","",Equipes!B14) | B14: =IF(A14="","",COUNTIFS(Tables!B:B,Classement!A14,Tables!A:A,3)+COUNTIFS(Tables!E:E,Classement!A14,Tables!F:F,3)) | C14: =IF(A14="","",COUNTIFS(Tables!B:B,Classement!A14,Tables!A:A,1)+COUNTIFS(Tables!E:E,Classement!A14,Tables!F:F,1)) | D14: =IF(A14="","",COUNTIFS(Tables!B:B,Classement!A14,Tables!A:A,0)+COUNTIFS(Tables!E:E,Classement!A14,Tables!F:F,0)) | E14: =IF(A14="","",SUMIF(Tables!B:B,Classement!A14,Tables!C:C)+SUMIF(Tables!E:E,Classement!A14,Tables!D:D)) | F14: =IF(A14="","",SUMIF(Tables!B:B,Classement!A14,Tables!D:D)+SUMIF(Tables!E:E,Classement!A14,Tables!C:C)) | G14: =IF(A14="","",E14-F14) | H14: =IF(A14="","",RANK(I14,I:I,0)) | I14: =IF(A14="","",(B14*100000)+(C14*10000)+G14) | K14: 13 | L14: =_xlfn.XLOOKUP(K14,$H$2:$H$101,$A$2:$A$101,"")
A15: =IF(Equipes!B15="","",Equipes!B15) | B15: =IF(A15="","",COUNTIFS(Tables!B:B,Classement!A15,Tables!A:A,3)+COUNTIFS(Tables!E:E,Classement!A15,Tables!F:F,3)) | C15: =IF(A15="","",COUNTIFS(Tables!B:B,Classement!A15,Tables!A:A,1)+COUNTIFS(Tables!E:E,Classement!A15,Tables!F:F,1)) | D15: =IF(A15="","",COUNTIFS(Tables!B:B,Classement!A15,Tables!A:A,0)+COUNTIFS(Tables!E:E,Classement!A15,Tables!F:F,0)) | E15: =IF(A15="","",SUMIF(Tables!B:B,Classement!A15,Tables!C:C)+SUMIF(Tables!E:E,Classement!A15,Tables!D:D)) | F15: =IF(A15="","",SUMIF(Tables!B:B,Classement!A15,Tables!D:D)+SUMIF(Tables!E:E,Classement!A15,Tables!C:C)) | G15: =IF(A15="","",E15-F15) | H15: =IF(A15="","",RANK(I15,I:I,0)) | I15: =IF(A15="","",(B15*100000)+(C15*10000)+G15) | K15: 14 | L15: =_xlfn.XLOOKUP(K15,$H$2:$H$101,$A$2:$A$101,"")
... A101: =IF(Equipes!B101="","",Equipes!B101) -> b | B101: =IF(A101="","",COUNTIFS(Tables!B:B,Classement!A101,Tables!A:A,3)+COUNTIFS(Tables!E:E,Classement!A101,Tables!F:F,3)) -> 0 | C101: =IF(A101="","",COUNTIFS(Tables!B:B,Classement!A101,Tables!A:A,1)+COUNTIFS(Tables!E:E,Classement!A101,Tables!F:F,1)) -> 0 | D101: =IF(A101="","",COUNTIFS(Tables!B:B,Classement!A101,Tables!A:A,0)+COUNTIFS(Tables!E:E,Classement!A101,Tables!F:F,0)) -> 0 | E101: =IF(A101="","",SUMIF(Tables!B:B,Classement!A101,Tables!C:C)+SUMIF(Tables!E:E,Classement!A101,Tables!D:D)) -> 0 | F101: =IF(A101="","",SUMIF(Tables!B:B,Classement!A101,Tables!D:D)+SUMIF(Tables!E:E,Classement!A101,Tables!C:C)) -> 0 | G101: =IF(A101="","",E101-F101) -> 0 | H101: =IF(A101="","",RANK(I101,I:I,0)) -> 2 | I101: =IF(A101="","",(B101*100000)+(C101*10000)+G101) -> 0 | K101: 100 | L101: =_xlfn.XLOOKUP(K101,$H$2:$H$101,$A$2:$A$101,"")

Sheet Fiche de partie
A1: PARTIE | F1: PARTIE
A3: Equipes | D3: Annonces | F3: Equipes | I3: Annonces
A4: Tour 1 | F4: Tour 1
A5: Tour 2 | F5: Tour 2
A6: Tour 3 | F6: Tour 3
A7: Tour 4 | F7: Tour 4
A8: Tour 5 | F8: Tour 5
A9: Tour 6 | F9: Tour 6
A10: Tour 7 | F10: Tour 7
A11: Tour 8 | F11: Tour 8
A12: Tour 9 | F12: Tour 9
A13: Tour 10 | F13: Tour 10
A14: Tour 11 | F14: Tour 11
A15: Tour 12 | F15: Tour 12
... A20: PARTIE | F20: PARTIE
A22: Equipes | D22: Annonces | F22: Equipes | I22: Annonces
A23: Tour 1 | F23: Tour 1
A24: Tour 2 | F24: Tour 2
A25: Tour 3 | F25: Tour 3
A26: Tour 4 | F26: Tour 4
A27: Tour 5 | F27: Tour 5
A28: Tour 6 | F28: Tour 6
A29: Tour 7 | F29: Tour 7
A30: Tour 8 | F30: Tour 8
A31: Tour 9 | F31: Tour 9
A32: Tour 10 | F32: Tour 10
A33: Tour 11 | F33: Tour 11
A34: Tour 12 | F34: Tour 12
... A36: Pour les annonces, inscrire B pour Belote et C pour Capot | F36: Pour les annonces, inscrire B pour Belote et C pour Capot
