Workbook
Name Joursemaine: [1]Blcos!$A$1:$B$7

Sheet LISTE des arrets par ligne 
A1: LISTE DES ARRETS DE REFERENCE PAR LIGNES
A3: Arrêts de référence par ligne
A4: Ligne | B4: Pta | C4: Sens Aller | D4: Sens Retour | E4: Pta
A5: T1 | B5: LIBERTR | C5: A54 Caissargues | D5: GAMBETTA -COUPOLE | E5: GAMT1
B6: PARTR | C6: COSTIERES-PARNASSE | D6: ESPLANADE-FEUCHERES | E6: ESPT1
B7: LIBR | C7: LIBERTE | D7: DHUODA | E7: DHUOA
B8: DHUOR | C8: DHUODA | D8: NEMAUSA | E8: CSOLA
B9: ArenT | C9: ARENES | D9: COSTIERES-PARNASSE | E9: PARTA
D10: A54 Caissargues | E10: LIBERTA
A11: 2 | B11: CHUR | C11: CHU- CAREMEAU | D11: CITADELLE | E11: CITAT
B12: UNIAR | C12: TRAIT D'UNION | D12: PONT DE JUSTICE | E12: CBAT
B13: JAUAR | C13: JAURES | D13: ST BAUDILE | E13: BAUA
B14: FEU8 | C14: GARE FEUCHERES | D14: GARE FEUCHERES | E14: FEU1
B15: BAUR | C15: ST BAUDILE | D15: JAURES | E15: JAUBA
B16: JUSTR | C16: PONT DE JUSTICE | D16: TRAIT D'UNION | E16: UNIAA
B17: CITAR | C17: CITADELLE | D17: CHU- CAREMEAU | E17: CHUA
A18: 3 | B18: VALDT | C18: VALDEGOUR | D18: PONT DE JUSTICE | E18: CBAE
B19: UNIER | C19: TRAIT D'UNION | D19: OLIVIERS | E19: OLIA
B20: FEU8 | C20: GARE FEUCHERES | D20: GARE FEUCHERES | E20: FEU1
B21: OLIR | C21: OLIVIERS | D21: TRAIT D'UNION | E21: UNIEA
B22: CBAE | C22: PONT DE JUSTICE | D22: VALDEGOUR | E22: VALDT
A23: 4 | B23: GOLF | C23: GOLF | D23: PONT DE JUSTICE | E23: CBAT2
B24: CASTT | C24: VACQUEROLLES | D24: CHALVIDAN | E24: CHALA
B25: GOET | C25: GOELANDS | D25: GARE FEUCHERES | E25: FEU1
B26: MONTR | C26: A. CAMUS | D26: A. CAMUS | E26: MONTA
B27: FEU8 | C27: GARE FEUCHERES | D27: GOELANDS | E27: GOEA
B28: CHALR | C28: CHALVIDAN | D28: VACQUEROLLES | E28: VACQA
B29: CBAT2 | C29: PONT DE JUSTICE | D29: GOLF | E29: CASTT
A30: 5 | B30: CHUR | C30: CHU- CAREMEAU | D30: GARE FEUCHERES | E30: FEU1
B31: GERR | C31: I.U.T. | D31: MARECHAL JUIN | E31: JUIA
B32: JUIR | C32: MARECHAL JUIN | D32: I.U.T | E32: GERA
B33: FEU8 | C33: GARE FEUCHERES | D33: CHU- CAREMEAU | E33: CHUA
A34: 6 | B34: CALVT | C34: CALVAS | D34: CARRE SUD | E34: CARRST
B35: BOUIA | C35: JEAN BOUIN | D35: MULTIPLEXE | E35: FLECR
B36: PAUGT1 | C36: PORTE AUGUSTE | D36: GARE FEUCHERES | E36: FEU1
B37: FEU8 | C37: GARE FEUCHERES | D37: JEAN BOUIN | E37: BOUIR
B38: ABEA | C38: MULTIPLEXE | D38: CALVAS | E38: CALVT
B39: CARRST | C39: CARRE SUD
A40: 7 | B40: ACTD | C40: VILLE ACTIVE | D40: VALMY | E40: T
B41: PARNA | C41: PARNASSE | D41: BOUQUERIE | E41: BOUQR
B42: FEU1 | C42: GARE FEUCHERES | D42: GARE FEUCHERES | E42: FEU8
B43: BOUQA | C43: BOUQUERIE | D43: PARNASSE | E43: CASR
B44: T | C44: VALMY | D44: VILLE ACTIVE | E44: ACTA
A45: 8 | B45: VALDT | C45: VALDEGOUR | D45: PONT DE JUSTICE | E45: JUSTR
B46: UNIAR | C46: TRAIT D'UNION | D46: P. LAMOUR | E46: LAMA
B47: VIGNR | C47: MAS DE VIGNOLLES | D47: MAS DE VIGNOLLES | E47: VIGNCC
B48: LAMR | C48: P. LAMOUR | D48: TRAIT D'UNION | E48: UNIAA
B49: JUSTR | C49: PONT DE JUSTICE | D49: VALDEGOUR | E49: VALDT
A50: 9 | B50: ALEST | C50: ROUTE D'ALES | D50: 8 MAI 1945 (BOUILLARGUES) | E50: 8MAI45T
B51: GAFR | C51: GAFONNE | D51: ROUTE D'ARLES | E51: ARLT
B52: FEU8 | C52: GARE FEUCHERES | D52: GARE FEUCHERES | E52: FEU1
B53: NEMR | C53: NEMAUSUS | D53: STADE ROUTE D'ALES | E53: GAFA
B54: ARLT | C54: ROUTE D'ARLES | D54: ROUTE D'ALES | E54: ALEST
B55: 8MAI45T | C55: 8 MAI 1945 (BOUILLARGUES)
A56: 10 | B56: ESCAT | C56: MAS D'ESCATTES | D56: SERRE CAVALIER | E56: CAVART
B57: CITAT | C57: CITADELLE | D57: SULLY | E57: SULA
B58: BAUA | C58: ST BAUDILE | D58: GAMBETTA -COUPOLE | E58: GAMC
B59: FEU1 | C59: GARE FEUCHERES | D59: GARE FEUCHERES | E59: FEU8
B60: SULR | C60: SULLY | D60: ST BAUDILE | E60: BAUR
B61: CAVART | C61: SERRE CAVALIER | D61: MAS D'ESCATTES | E61: ESCAT
A62: 16 | B62: BOUIA | C62: JEAN BOUIN | D62: MIMOSAS | E62: PEUR
B63: GAMC | C63: GAMBETTA - COUPOLE | D63: JAURES | E63: JAUDR
B64: JAUDA | C64: JAURES | D64: GAMBETTA -COUPOLE | E64: GAMT1
B65: PEUA | C65: MIMOSAS | D65: JEAN BOUIN | E65: BOUIR

Sheet EXTRACTION DEMO
A1: RESEAU | B1: Ligne | C1: Sens | D1: Point d'arrêt | E1: Date heure d'exploitation - Réalisé - Départ | F1: Date heure d'exploitation - Théorique - Départ
A2: TANGO | B2: 2 | C2: Retour | D2: CITAT | E2: 42157.225 | F2: 42157.224
A3: TANGO | B3: 2 | C3: Retour | D3: VILA | E3: 42157.225 | F3: 42157.225
A4: TANGO | B4: 2 | C4: Retour | D4: MINA | E4: 42157.226 | F4: 42157.226
A5: TANGO | B5: 2 | C5: Retour | D5: CRAA | E5: 42157.226 | F5: 42157.226
A6: TANGO | B6: 2 | C6: Retour | D6: ORPA | E6: 42157.227 | F6: 42157.227
A7: TANGO | B7: 2 | C7: Retour | D7: TONA1 | E7: 42157.227 | F7: 42157.227
A8: TANGO | B8: 2 | C8: Aller | D8: CHUR | E8: 42157.228 | F8: 42157.228
A9: TANGO | B9: 2 | C9: Retour | D9: CBAT | E9: 42157.229 | F9: 42157.228
A10: TANGO | B10: 2 | C10: Aller | D10: CARTR | E10: 42157.229 | F10: 42157.228
A11: TANGO | B11: 2 | C11: Retour | D11: FELA | E11: 42157.229 | F11: 42157.229
A12: TANGO | B12: 2 | C12: Aller | D12: CAR1R | E12: 42157.229 | F12: 42157.229
A13: TANGO | B13: 2 | C13: Aller | D13: FACR | E13: 42157.23 | F13: 42157.229
... A16: TANGO | B16: 2 | C16: Retour | D16: TASA | E16: 42157.231 | F16: 42157.231
A17: TANGO | B17: 2 | C17: Aller | D17: MAISR | E17: 42157.231
A18: TANGO | B18: 2 | C18: Retour | D18: HAKA | E18: 42157.233 | F18: 42157.232
A19: TANGO | B19: 2 | C19: Retour | D19: BAUA | E19: 42157.234 | F19: 42157.233
A20: TANGO | B20: 2 | C20: Retour | D20: TALA | E20: 42157.235 | F20: 42157.234
A21: TANGO | B21: 2 | C21: Aller | D21: KENR | E21: 42157.236 | F21: 42157.236
A22: TANGO | B22: 2 | C22: Retour | D22: VIABA | E22: 42157.236 | F22: 42157.236
A23: TANGO | B23: 2 | C23: Retour | D23: FEU1 | E23: 42157.238 | F23: 42157.238
A24: TANGO | B24: 2 | C24: Retour | D24: CITAT | E24: 42157.238 | F24: 42157.238
A25: TANGO | B25: 2 | C25: Retour | D25: 11NBR | E25: 42157.238 | F25: 42157.238
A26: TANGO | B26: 2 | C26: Retour | D26: VILA | E26: 42157.239 | F26: 42157.239
A27: TANGO | B27: 2 | C27: Retour | D27: MONA | E27: 42157.24 | F27: 42157.24
A28: TANGO | B28: 2 | C28: Retour | D28: MINA | E28: 42157.24 | F28: 42157.24
A29: TANGO | B29: 2 | C29: Aller | D29: DHUOR | E29: 42157.24
A30: TANGO | B30: 2 | C30: Retour | D30: CRAA | E30: 42157.24 | F30: 42157.24
A31: TANGO | B31: 2 | C31: Retour | D31: ORPA | E31: 42157.241 | F31: 42157.24
A32: TANGO | B32: 2 | C32: Retour | D32: TONA1 | E32: 42157.241 | F32: 42157.241
A33: TANGO | B33: 2 | C33: Retour | D33: KENA | E33: 42157.242 | F33: 42157.242
A34: TANGO | B34: 2 | C34: Aller | D34: CHUR | E34: 42157.242 | F34: 42157.242
A35: TANGO | B35: 2 | C35: Aller | D35: 11NAR | E35: 42157.242 | F35: 42157.239
A36: TANGO | B36: 2 | C36: Retour | D36: AMAA | E36: 42157.242 | F36: 42157.243
A37: TANGO | B37: 2 | C37: Retour | D37: CBAT | E37: 42157.242 | F37: 42157.242
A38: TANGO | B38: 2 | C38: Retour | D38: FELA | E38: 42157.243 | F38: 42157.243
A39: TANGO | B39: 2 | C39: Aller | D39: CARTR | E39: 42157.243 | F39: 42157.242
A40: TANGO | B40: 2 | C40: Aller | D40: FEU8 | E40: 42157.243 | F40: 42157.24
A41: TANGO | B41: 2 | C41: Aller | D41: CAR1R | E41: 42157.243 | F41: 42157.243
... A49: TANGO | B49: 2 | C49: Aller | D49: TALR | E49: 42157.246 | F49: 42157.242
A50: TANGO | B50: 2 | C50: Aller | D50: MAISR | E50: 42157.246
A51: TANGO | B51: 2 | C51: Retour | D51: CAPA | E51: 42157.246 | F51: 42157.246
A52: TANGO | B52: 2 | C52: Retour | D52: HAKA | E52: 42157.246 | F52: 42157.246
A53: TANGO | B53: 2 | C53: Aller | D53: BAUR | E53: 42157.246 | F53: 42157.244
A54: TANGO | B54: 2 | C54: Aller | D54: CAP2R | E54: 42157.247 | F54: 42157.246
A55: TANGO | B55: 2 | C55: Retour | D55: MAIS | E55: 42157.247 | F55: 42157.247
A56: TANGO | B56: 2 | C56: Aller | D56: HAKR | E56: 42157.247 | F56: 42157.245
A57: TANGO | B57: 2 | C57: Retour | D57: BAUA | E57: 42157.247 | F57: 42157.247
A58: TANGO | B58: 2 | C58: Retour | D58: LAEA | E58: 42157.247 | F58: 42157.248
A59: TANGO | B59: 2 | C59: Aller | D59: BOURD | E59: 42157.247 | F59: 42157.246
A60: TANGO | B60: 2 | C60: Retour | D60: FACA | E60: 42157.248 | F60: 42157.248
A61: TANGO | B61: 2 | C61: Aller | D61: UNIAR | E61: 42157.248 | F61: 42157.247
A62: TANGO | B62: 2 | C62: Aller | D62: TASR | E62: 42157.248 | F62: 42157.247
... A85: TANGO | B85: 2 | C85: Retour | D85: CRAA | E85: 42157.254 | F85: 42157.254
A86: TANGO | B86: 2 | C86: Aller | D86: DHUOR | E86: 42157.255
A87: TANGO | B87: 2 | C87: Retour | D87: ORPA | E87: 42157.255 | F87: 42157.254
A88: TANGO | B88: 2 | C88: Retour | D88: TONA1 | E88: 42157.256 | F88: 42157.255
A89: TANGO | B89: 2 | C89: Retour | D89: KENR | E89: 42157.256
A90: TANGO | B90: 2 | C90: Retour | D90: KENA | E90: 42157.256 | F90: 42157.255
A91: TANGO | B91: 2 | C91: Aller | D91: CHUR | E91: 42157.257 | F91: 42157.256
A92: TANGO | B92: 2 | C92: Aller | D92: 11NAR | E92: 42157.257 | F92: 42157.253
A93: TANGO | B93: 2 | C93: Retour | D93: AMAA | E93: 42157.257 | F93: 42157.257
A94: TANGO | B94: 2 | C94: Retour | D94: CBAT | E94: 42157.257 | F94: 42157.256
A95: TANGO | B95: 2 | C95: Retour | D95: FELA | E95: 42157.258 | F95: 42157.257
A96: TANGO | B96: 2 | C96: Aller | D96: CARTR | E96: 42157.258 | F96: 42157.256
A97: TANGO | B97: 2 | C97: Aller | D97: FEU8 | E97: 42157.258 | F97: 42157.254
A98: TANGO | B98: 2 | C98: Aller | D98: CAR1R | E98: 42157.258 | F98: 42157.257
A99: TANGO | B99: 2 | C99: Retour | D99: MOUA | E99: 42157.258 | F99: 42157.257
A100: TANGO | B100: 2 | C100: Retour | D100: CONA | E100: 42157.258 | F100: 42157.258
A101: TANGO | B101: 2 | C101: Aller | D101: FACR | E101: 42157.259 | F101: 42157.257
... A162: TANGO | B162: 2 | C162: Retour | D162: TASA | E162: 42157.273 | F162: 42157.272
A163: TANGO | B163: 2 | C163: Aller | D163: MAISR | E163: 42157.274
A164: TANGO | B164: 2 | C164: Retour | D164: MAIS | E164: 42157.274 | F164: 42157.274
A165: TANGO | B165: 2 | C165: Aller | D165: CAP2R | E165: 42157.274 | F165: 42157.273
A166: TANGO | B166: 2 | C166: Retour | D166: LAEA | E166: 42157.274 | F166: 42157.275
A167: TANGO | B167: 2 | C167: Aller | D167: BAUR | E167: 42157.274 | F167: 42157.272
A168: TANGO | B168: 2 | C168: Aller | D168: HAKR | E168: 42157.275 | F168: 42157.273
A169: TANGO | B169: 2 | C169: Retour | D169: HAKA | E169: 42157.275 | F169: 42157.273
A170: TANGO | B170: 2 | C170: Aller | D170: BOURD | E170: 42157.275 | F170: 42157.274
A171: TANGO | B171: 2 | C171: Retour | D171: FACA | E171: 42157.275 | F171: 42157.276
A172: TANGO | B172: 2 | C172: Aller | D172: UNIAR | E172: 42157.275 | F172: 42157.274
A173: TANGO | B173: 2 | C173: Aller | D173: TASR | E173: 42157.276 | F173: 42157.274
A174: TANGO | B174: 2 | C174: Retour | D174: BAUA | E174: 42157.276 | F174: 42157.274
A175: TANGO | B175: 2 | C175: Retour | D175: CAR1 | E175: 42157.276 | F175: 42157.277
... A206: TANGO | B206: 2 | C206: Retour | D206: MOUA | E206: 42157.282 | F206: 42157.282
A207: TANGO | B207: 2 | C207: Aller | D207: MAISR | E207: 42157.282
A208: TANGO | B208: 2 | C208: Retour | D208: DOMBA | E208: 42157.283 | F208: 42157.282
A209: TANGO | B209: 2 | C209: Aller | D209: CAP2R | E209: 42157.283 | F209: 42157.282
A210: TANGO | B210: 2 | C210: Aller | D210: DHUOR | E210: 42157.284
A211: TANGO | B211: 2 | C211: Retour | D211: KENR | E211: 42157.284
A212: TANGO | B212: 2 | C212: Retour | D212: TASA | E212: 42157.284 | F212: 42157.283
A213: TANGO | B213: 2 | C213: Retour | D213: KENA | E213: 42157.284 | F213: 42157.283
A214: TANGO | B214: 2 | C214: Aller | D214: UNIAR | E214: 42157.284 | F214: 42157.283
A215: TANGO | B215: 2 | C215: Aller | D215: CHUR | E215: 42157.284 | F215: 42157.284
A216: TANGO | B216: 2 | C216: Aller | D216: CONR | E216: 42157.285 | F216: 42157.283
A217: TANGO | B217: 2 | C217: Retour | D217: AMAA | E217: 42157.285 | F217: 42157.285
A218: TANGO | B218: 2 | C218: Retour | D218: HAKA | E218: 42157.285 | F218: 42157.284
A219: TANGO | B219: 2 | C219: Aller | D219: 11NAR | E219: 42157.285 | F219: 42157.281
A220: TANGO | B220: 2 | C220: Aller | D220: CARTR | E220: 42157.285 | F220: 42157.285
A221: TANGO | B221: 2 | C221: Aller | D221: CAR1R | E221: 42157.286 | F221: 42157.285
...

Sheet Ponctualité 
A1: Synthèse trimestre
A5: Jour | B5: Jour2 | C5: Mois | D5: Date | E5: SI | F5: avance (entre -1 et 0 min) | G5: à l'heure (0 - 3min) | H5: Retard supérieur à 3 min | I5: Total | J5: Part SI | K5: Part avance | L5: Part à l'heure | M5: Part retard
A6: =VLOOKUP(B6,Joursemaine,2,FALSE) -> MARDI | B6: =WEEKDAY(D6,2) -> 2 | C6: =MONTH(D6) -> 1 | D6: 41647 | E6: =+'mardi 9 01 18'!H1300 -> 10 | F6: =+'mardi 9 01 18'!I1300 -> 10 | G6: =+'mardi 9 01 18'!J1300 -> 13 | H6: =+'mardi 9 01 18'!K1300 -> 3 | I6: =+'mardi 9 01 18'!L1300 -> 26 | J6: =+E6/$I6 -> 0.38461538 | K6: =+F6/$I6 -> 0.38461538 | L6: =+G6/$I6 -> 0.5 | M6: =+H6/$I6 -> 0.11538462
A7: =VLOOKUP(B7,Joursemaine,2,FALSE) -> SAMEDI | B7: =WEEKDAY(D7,2) -> 6 | C7: =MONTH(D7) -> 1 | D7: 41658 | E7: =+#REF! -> #REF! | F7: =+#REF! -> #REF! | G7: =+#REF! -> #REF! | H7: =+#REF! -> #REF! | I7: =+#REF! -> #REF! | J7: =+E7/$I7 -> #REF! | K7: =+F7/$I7 -> #REF! | L7: =+G7/$I7 -> #REF! | M7: =+H7/$I7 -> #REF!
A8: =VLOOKUP(B8,Joursemaine,2,FALSE) -> JEUDI | B8: =WEEKDAY(D8,2) -> 4 | C8: =MONTH(D8) -> 1 | D8: 41663 | E8: =+#REF! -> #REF! | F8: =+#REF! -> #REF! | G8: =+#REF! -> #REF! | H8: =+#REF! -> #REF! | I8: =+#REF! -> #REF! | J8: =+E8/$I8 -> #REF! | K8: =+F8/$I8 -> #REF! | L8: =+G8/$I8 -> #REF! | M8: =+H8/$I8 -> #REF!
A9: =VLOOKUP(B9,Joursemaine,2,FALSE) -> MERCREDI | B9: =WEEKDAY(D9,2) -> 3 | C9: =MONTH(D9) -> 2 | D9: 41676 | E9: =+#REF! -> #REF! | F9: =+#REF! -> #REF! | G9: =+#REF! -> #REF! | H9: =+#REF! -> #REF! | I9: =+#REF! -> #REF! | J9: =+E9/$I9 -> #REF! | K9: =+F9/$I9 -> #REF! | L9: =+G9/$I9 -> #REF! | M9: =+H9/$I9 -> #REF!
A10: =VLOOKUP(B10,Joursemaine,2,FALSE) -> JEUDI | B10: =WEEKDAY(D10,2) -> 4 | C10: =MONTH(D10) -> 2 | D10: 41677 | E10: =+#REF! -> #REF! | F10: =+#REF! -> #REF! | G10: =+#REF! -> #REF! | H10: =+#REF! -> #REF! | I10: =+#REF! -> #REF! | J10: =+E10/$I10 -> #REF! | K10: =+F10/$I10 -> #REF! | L10: =+G10/$I10 -> #REF! | M10: =+H10/$I10 -> #REF!
A11: =VLOOKUP(B11,Joursemaine,2,FALSE) -> LUNDI | B11: =WEEKDAY(D11,2) -> 1 | C11: =MONTH(D11) -> 2 | D11: 41688 | E11: =+#REF! -> #REF! | F11: =+#REF! -> #REF! | G11: =+#REF! -> #REF! | H11: =+#REF! -> #REF! | I11: =+#REF! -> #REF! | J11: =+E11/$I11 -> #REF! | K11: =+F11/$I11 -> #REF! | L11: =+G11/$I11 -> #REF! | M11: =+H11/$I11 -> #REF!
A12: =VLOOKUP(B12,Joursemaine,2,FALSE) -> LUNDI | B12: =WEEKDAY(D12,2) -> 1 | C12: =MONTH(D12) -> 3 | D12: 41702 | E12: =+#REF! -> #REF! | F12: =+#REF! -> #REF! | G12: =+#REF! -> #REF! | H12: =+#REF! -> #REF! | I12: =+#REF! -> #REF! | J12: =+E12/$I12 -> #REF! | K12: =+F12/$I12 -> #REF! | L12: =+G12/$I12 -> #REF! | M12: =+H12/$I12 -> #REF!
A13: =VLOOKUP(B13,Joursemaine,2,FALSE) -> VENDREDI | B13: =WEEKDAY(D13,2) -> 5 | C13: =MONTH(D13) -> 3 | D13: 41713 | E13: =+#REF! -> #REF! | F13: =+#REF! -> #REF! | G13: =+#REF! -> #REF! | H13: =+#REF! -> #REF! | I13: =+#REF! -> #REF! | J13: =+E13/$I13 -> #REF! | K13: =+F13/$I13 -> #REF! | L13: =+G13/$I13 -> #REF! | M13: =+H13/$I13 -> #REF!
A14: =VLOOKUP(B14,Joursemaine,2,FALSE) -> DIMANCHE | B14: =WEEKDAY(D14,2) -> 7 | C14: =MONTH(D14) -> 3 | D14: 41715 | E14: =+#REF! -> #REF! | F14: =+#REF! -> #REF! | G14: =+#REF! -> #REF! | H14: =+#REF! -> #REF! | I14: =+#REF! -> #REF! | J14: =+E14/$I14 -> #REF! | K14: =+F14/$I14 -> #REF! | L14: =+G14/$I14 -> #REF! | M14: =+H14/$I14 -> #REF!
A15: =VLOOKUP(B15,Joursemaine,2,FALSE) -> LUNDI | B15: =WEEKDAY(D15,2) -> 1 | C15: =MONTH(D15) -> 3 | D15: 41723 | E15: =+#REF! -> #REF! | F15: =+#REF! -> #REF! | G15: =+#REF! -> #REF! | H15: =+#REF! -> #REF! | I15: =+#REF! -> #REF! | J15: =+E15/$I15 -> #REF! | K15: =+F15/$I15 -> #REF! | L15: =+G15/$I15 -> #REF! | M15: =+H15/$I15 -> #REF!
E16: =SUM(E6:E15) -> #REF! | F16: =SUM(F6:F15) -> #REF! | G16: =SUM(G6:G15) -> #REF! | H16: =SUM(H6:H15) -> #REF! | I16: =SUM(I6:I15) -> #REF! | J16: =+E16/$I16 -> #REF! | K16: =+F16/$I16 -> #REF! | L16: =+G16/$I16 -> #REF! | M16: =+H16/$I16 -> #REF!
E17: =+E16/$I$16 -> #REF! | F17: =+F16/$I$16 -> #REF! | G17: =+G16/$I$16 -> #REF! | H17: =+H16/$I$16 -> #REF!
E18: =+E16 -> #REF! | F18: =+I16-E18-H18 -> #REF! | H18: =+H16 -> #REF! | I18: =SUM(E18:H18) -> #REF!
E19: =+E18/$I$18 -> #REF! | F19: =+F18/$I$18 -> #REF! | H19: =+H18/$I$18 -> #REF!

Sheet mardi 9 01 18
D1: tableau type après extract
A2: Réseau | B2: Ligne | C2: Sens | D2: Point d'arrêt | E2: Date heure d'exploitation - Réalisé - Départ | F2: Date heure d'exploitation - Théorique - Départ | G2: Passage réalisé/théorique | H2: -0.00069444444 | I2: 0 | J2: 0.0020833333 | K2: +3 minutes
A3: TANGO | B3: 2 | C3: Aller | D3: JUSTR | E3: 41647.551 | F3: 41647.552 | G3: =+E3-F3 -> -0.00069444445 | H3: =+IF(G3<=$H$2,1,0) -> 1 | I3: =IF(G3<$I$2,1,0) -> 1 | J3: =+IF(I3=1,0,IF(G3<=$J$2,1,0)) -> 0 | K3: =+IF(I3=1,0,IF(J3=1,0,1)) -> 0
A4: TANGO | B4: 2 | C4: Aller | D4: CITAR | H4: 0 | I4: 1 | J4: 0 | K4: 0
A5: TANGO | B5: 2 | C5: Aller | D5: JUSTR | E5: 41647.619 | F5: 41647.621 | G5: =+E5-F5 -> -0.0013888889 | H5: =+IF(G5<=$H$2,1,0) -> 1 | I5: =IF(G5<$I$2,1,0) -> 1 | J5: =+IF(I5=1,0,IF(G5<=$J$2,1,0)) -> 0 | K5: =+IF(I5=1,0,IF(J5=1,0,1)) -> 0
A6: TANGO | B6: 2 | C6: Aller | D6: CITAR | H6: 1 | I6: 1 | J6: 0 | K6: 0
A7: TANGO | B7: 2 | C7: Aller | D7: JUSTR | E7: 41647.413 | F7: 41647.415 | G7: =+E7-F7 -> -0.0013888889 | H7: =+IF(G7<=$H$2,1,0) -> 1 | I7: =IF(G7<$I$2,1,0) -> 1 | J7: =+IF(I7=1,0,IF(G7<=$J$2,1,0)) -> 0 | K7: =+IF(I7=1,0,IF(J7=1,0,1)) -> 0
A8: TANGO | B8: 2 | C8: Aller | D8: CITAR | H8: 0 | I8: 0 | J8: 1 | K8: 0
A9: TANGO | B9: 2 | C9: Aller | D9: JUSTR | E9: 41647.461 | F9: 41647.46 | G9: =+E9-F9 -> 0.00069444444 | H9: =+IF(G9<=$H$2,1,0) -> 0 | I9: =IF(G9<$I$2,1,0) -> 0 | J9: =+IF(I9=1,0,IF(G9<=$J$2,1,0)) -> 1 | K9: =+IF(I9=1,0,IF(J9=1,0,1)) -> 0
A10: TANGO | B10: 2 | C10: Aller | D10: CITAR | H10: 0 | I10: 0 | J10: 1 | K10: 0
A11: TANGO | B11: 2 | C11: Aller | D11: JUSTR | E11: 41647.277 | F11: 41647.278 | G11: =+E11-F11 -> -0.0013888889 | H11: =+IF(G11<=$H$2,1,0) -> 1 | I11: =IF(G11<$I$2,1,0) -> 1 | J11: =+IF(I11=1,0,IF(G11<=$J$2,1,0)) -> 0 | K11: =+IF(I11=1,0,IF(J11=1,0,1)) -> 0
A12: TANGO | B12: 2 | C12: Aller | D12: CITAR
A13: TANGO | B13: 2 | C13: Aller | D13: JUSTR | E13: 41647.422 | F13: 41647.422 | G13: =+E13-F13 -> -0.00069444445 | H13: =+IF(G13<=$H$2,1,0) -> 1 | I13: =IF(G13<$I$2,1,0) -> 1 | J13: =+IF(I13=1,0,IF(G13<=$J$2,1,0)) -> 0 | K13: =+IF(I13=1,0,IF(J13=1,0,1)) -> 0
A14: TANGO | B14: 2 | C14: Aller | D14: CITAR
A15: TANGO | B15: 2 | C15: Aller | D15: JUSTR | E15: 41647.74 | F15: 41647.739 | G15: =+E15-F15 -> 0.00069444445 | H15: =+IF(G15<=$H$2,1,0) -> 0 | I15: =IF(G15<$I$2,1,0) -> 0 | J15: =+IF(I15=1,0,IF(G15<=$J$2,1,0)) -> 1 | K15: =+IF(I15=1,0,IF(J15=1,0,1)) -> 0
A16: TANGO | B16: 2 | C16: Aller | D16: CITAR
A17: TANGO | B17: 2 | C17: Aller | D17: JUSTR | E17: 41647.316 | F17: 41647.317 | G17: =+E17-F17 -> -0.00069444445 | H17: =+IF(G17<=$H$2,1,0) -> 1 | I17: =IF(G17<$I$2,1,0) -> 1 | J17: =+IF(I17=1,0,IF(G17<=$J$2,1,0)) -> 0 | K17: =+IF(I17=1,0,IF(J17=1,0,1)) -> 0
A18: TANGO | B18: 2 | C18: Aller | D18: CITAR
A19: TANGO | B19: 2 | C19: Aller | D19: JUSTR | E19: 41647.817 | F19: 41647.816 | G19: =+E19-F19 -> 0.00069444445 | H19: =+IF(G19<=$H$2,1,0) -> 0 | I19: =IF(G19<$I$2,1,0) -> 0 | J19: =+IF(I19=1,0,IF(G19<=$J$2,1,0)) -> 1 | K19: =+IF(I19=1,0,IF(J19=1,0,1)) -> 0
A20: TANGO | B20: 2 | C20: Aller | D20: CITAR
A21: TANGO | B21: 2 | C21: Aller | D21: JUSTR | E21: 41647.533 | F21: 41647.53 | G21: =+E21-F21 -> 0.0027777778 | H21: =+IF(G21<=$H$2,1,0) -> 0 | I21: =IF(G21<$I$2,1,0) -> 0 | J21: =+IF(I21=1,0,IF(G21<=$J$2,1,0)) -> 0 | K21: =+IF(I21=1,0,IF(J21=1,0,1)) -> 1
A22: TANGO | B22: 2 | C22: Aller | D22: CITAR
A23: TANGO | B23: 2 | C23: Aller | D23: JUSTR | E23: 41647.597 | F23: 41647.598 | G23: =+E23-F23 -> -0.00069444445 | H23: =+IF(G23<=$H$2,1,0) -> 1 | I23: =IF(G23<$I$2,1,0) -> 1 | J23: =+IF(I23=1,0,IF(G23<=$J$2,1,0)) -> 0 | K23: =+IF(I23=1,0,IF(J23=1,0,1)) -> 0
A24: TANGO | B24: 2 | C24: Aller | D24: CITAR
A25: TANGO | B25: 2 | C25: Aller | D25: JUSTR | E25: 41647.665 | F25: 41647.667 | G25: =+E25-F25 -> -0.0013888889 | H25: =+IF(G25<=$H$2,1,0) -> 1 | I25: =IF(G25<$I$2,1,0) -> 1 | J25: =+IF(I25=1,0,IF(G25<=$J$2,1,0)) -> 0 | K25: =+IF(I25=1,0,IF(J25=1,0,1)) -> 0
A26: TANGO | B26: 2 | C26: Aller | D26: CITAR
A27: TANGO | B27: 2 | C27: Aller | D27: JUSTR | E27: 41647.614 | F27: 41647.613 | G27: =+E27-F27 -> 0.00069444445 | H27: =+IF(G27<=$H$2,1,0) -> 0 | I27: =IF(G27<$I$2,1,0) -> 0 | J27: =+IF(I27=1,0,IF(G27<=$J$2,1,0)) -> 1 | K27: =+IF(I27=1,0,IF(J27=1,0,1)) -> 0
A28: TANGO | B28: 2 | C28: Aller | D28: CITAR
A29: TANGO | B29: 2 | C29: Aller | D29: JUSTR | E29: 41647.684 | F29: 41647.682 | G29: =+E29-F29 -> 0.0020833333 | H29: =+IF(G29<=$H$2,1,0) -> 0 | I29: =IF(G29<$I$2,1,0) -> 0 | J29: =+IF(I29=1,0,IF(G29<=$J$2,1,0)) -> 0 | K29: =+IF(I29=1,0,IF(J29=1,0,1)) -> 1
A30: TANGO | B30: 2 | C30: Aller | D30: CITAR
A31: TANGO | B31: 2 | C31: Aller | D31: JUSTR | E31: 41647.76 | F31: 41647.754 | G31: =+E31-F31 -> 0.0055555556 | H31: =+IF(G31<=$H$2,1,0) -> 0 | I31: =IF(G31<$I$2,1,0) -> 0 | J31: =+IF(I31=1,0,IF(G31<=$J$2,1,0)) -> 0 | K31: =+IF(I31=1,0,IF(J31=1,0,1)) -> 1
A32: TANGO | B32: 2 | C32: Aller | D32: CITAR
A33: TANGO | B33: 2 | C33: Aller | D33: JUSTR | E33: 41647.476 | F33: 41647.476 | G33: =+E33-F33 -> 0 | H33: =+IF(G33<=$H$2,1,0) -> 0 | I33: =IF(G33<$I$2,1,0) -> 0 | J33: =+IF(I33=1,0,IF(G33<=$J$2,1,0)) -> 1 | K33: =+IF(I33=1,0,IF(J33=1,0,1)) -> 0
A34: TANGO | B34: 2 | C34: Aller | D34: CITAR
A35: TANGO | B35: 2 | C35: Aller | D35: JUSTR | E35: 41647.543 | F35: 41647.544 | G35: =+E35-F35 -> -0.0013888889 | H35: =+IF(G35<=$H$2,1,0) -> 1 | I35: =IF(G35<$I$2,1,0) -> 1 | J35: =+IF(I35=1,0,IF(G35<=$J$2,1,0)) -> 0 | K35: =+IF(I35=1,0,IF(J35=1,0,1)) -> 0
A36: TANGO | B36: 2 | C36: Aller | D36: CITAR
A37: TANGO | B37: 2 | C37: Aller | D37: JUSTR | E37: 41647.333 | F37: 41647.331 | G37: =+E37-F37 -> 0.0020833333 | H37: =+IF(G37<=$H$2,1,0) -> 0 | I37: =IF(G37<$I$2,1,0) -> 0 | J37: =+IF(I37=1,0,IF(G37<=$J$2,1,0)) -> 1 | K37: =+IF(I37=1,0,IF(J37=1,0,1)) -> 0
A38: TANGO | B38: 2 | C38: Aller | D38: CITAR
A39: TANGO | B39: 2 | C39: Aller | D39: JUSTR | E39: 41647.47 | F39: 41647.468 | G39: =+E39-F39 -> 0.0020833333 | H39: =+IF(G39<=$H$2,1,0) -> 0 | I39: =IF(G39<$I$2,1,0) -> 0 | J39: =+IF(I39=1,0,IF(G39<=$J$2,1,0)) -> 1 | K39: =+IF(I39=1,0,IF(J39=1,0,1)) -> 0
A40: TANGO | B40: 2 | C40: Aller | D40: CITAR
A41: TANGO | B41: 2 | C41: Aller | D41: JUSTR | E41: 41647.323 | F41: 41647.324 | G41: =+E41-F41 -> -0.00069444445 | H41: =+IF(G41<=$H$2,1,0) -> 1 | I41: =IF(G41<$I$2,1,0) -> 1 | J41: =+IF(I41=1,0,IF(G41<=$J$2,1,0)) -> 0 | K41: =+IF(I41=1,0,IF(J41=1,0,1)) -> 0
A42: TANGO | B42: 2 | C42: Aller | D42: CITAR
A43: TANGO | B43: 2 | C43: Aller | D43: JUSTR | E43: 41647.899 | F43: 41647.902 | G43: =+E43-F43 -> -0.0034722222 | H43: =+IF(G43<=$H$2,1,0) -> 1 | I43: =IF(G43<$I$2,1,0) -> 1 | J43: =+IF(I43=1,0,IF(G43<=$J$2,1,0)) -> 0 | K43: =+IF(I43=1,0,IF(J43=1,0,1)) -> 0
A44: TANGO | B44: 2 | C44: Aller | D44: CITAR
A45: TANGO | B45: 2 | C45: Aller | D45: JUSTR | E45: 41647.399 | F45: 41647.399 | G45: =+E45-F45 -> 0 | H45: =+IF(G45<=$H$2,1,0) -> 0 | I45: =IF(G45<$I$2,1,0) -> 0 | J45: =+IF(I45=1,0,IF(G45<=$J$2,1,0)) -> 1 | K45: =+IF(I45=1,0,IF(J45=1,0,1)) -> 0
A46: TANGO | B46: 2 | C46: Aller | D46: CITAR
A47: TANGO | B47: 2 | C47: Aller | D47: JUSTR | E47: 41647.545 | F47: 41647.537 | G47: =+E47-F47 -> 0.0076388889 | H47: =+IF(G47<=$H$2,1,0) -> 0 | I47: =IF(G47<$I$2,1,0) -> 0 | J47: =+IF(I47=1,0,IF(G47<=$J$2,1,0)) -> 0 | K47: =+IF(I47=1,0,IF(J47=1,0,1)) -> 1
A48: TANGO | B48: 2 | C48: Aller | D48: CITAR
A49: TANGO | B49: 2 | C49: Aller | D49: JUSTR | E49: 41647.679 | F49: 41647.674 | G49: =+E49-F49 -> 0.0048611111 | H49: =+IF(G49<=$H$2,1,0) -> 0 | I49: =IF(G49<$I$2,1,0) -> 0 | J49: =+IF(I49=1,0,IF(G49<=$J$2,1,0)) -> 0 | K49: =+IF(I49=1,0,IF(J49=1,0,1)) -> 1
A50: TANGO | B50: 2 | C50: Aller | D50: JUSTR | E50: 41647.746 | F50: 41647.747 | G50: =+E50-F50 -> -0.00069444445 | H50: =+IF(G50<=$H$2,1,0) -> 1 | I50: =IF(G50<$I$2,1,0) -> 1 | J50: =+IF(I50=1,0,IF(G50<=$J$2,1,0)) -> 0 | K50: =+IF(I50=1,0,IF(J50=1,0,1)) -> 0
A51: TANGO | B51: 2 | C51: Aller | D51: CITAR
A52: TANGO | B52: 2 | C52: Aller | D52: JUSTR | E52: 41647.837 | F52: 41647.836 | G52: =+E52-F52 -> 0.00069444445 | H52: =+IF(G52<=$H$2,1,0) -> 0 | I52: =IF(G52<$I$2,1,0) -> 0 | J52: =+IF(I52=1,0,IF(G52<=$J$2,1,0)) -> 1 | K52: =+IF(I52=1,0,IF(J52=1,0,1)) -> 0
A53: TANGO | B53: 2 | C53: Aller | D53: CITAR
A54: TANGO | B54: 2 | C54: Aller | D54: JUSTR | E54: 41647.768 | F54: 41647.762 | G54: =+E54-F54 -> 0.00625 | H54: =+IF(G54<=$H$2,1,0) -> 0 | I54: =IF(G54<$I$2,1,0) -> 0 | J54: =+IF(I54=1,0,IF(G54<=$J$2,1,0)) -> 0 | K54: =+IF(I54=1,0,IF(J54=1,0,1)) -> 1
A55: TANGO | B55: 2 | C55: Aller | D55: CITAR
A56: TANGO | B56: 2 | C56: Aller | D56: JUSTR | E56: 41647.251 | F56: 41647.251 | G56: =+E56-F56 -> 0 | H56: =+IF(G56<=$H$2,1,0) -> 0 | I56: =IF(G56<$I$2,1,0) -> 0 | J56: =+IF(I56=1,0,IF(G56<=$J$2,1,0)) -> 1 | K56: =+IF(I56=1,0,IF(J56=1,0,1)) -> 0
A57: TANGO | B57: 2 | C57: Aller | D57: CITAR
A58: TANGO | B58: 2 | C58: Aller | D58: JUSTR | E58: 41647.409 | F58: 41647.407 | G58: =+E58-F58 -> 0.0020833333 | H58: =+IF(G58<=$H$2,1,0) -> 0 | I58: =IF(G58<$I$2,1,0) -> 0 | J58: =+IF(I58=1,0,IF(G58<=$J$2,1,0)) -> 1 | K58: =+IF(I58=1,0,IF(J58=1,0,1)) -> 0
A59: TANGO | B59: 2 | C59: Aller | D59: CITAR
A60: TANGO | B60: 2 | C60: Aller | D60: JUSTR | E60: 41647.828 | F60: 41647.827 | G60: =+E60-F60 -> 0.00069444445 | H60: =+IF(G60<=$H$2,1,0) -> 0 | I60: =IF(G60<$I$2,1,0) -> 0 | J60: =+IF(I60=1,0,IF(G60<=$J$2,1,0)) -> 1 | K60: =+IF(I60=1,0,IF(J60=1,0,1)) -> 0
A61: TANGO | B61: 2 | C61: Aller | D61: CITAR
A62: TANGO | B62: 2 | C62: Aller | D62: JUSTR | E62: 41647.888 | F62: 41647.888 | G62: =+E62-F62 -> 0 | H62: =+IF(G62<=$H$2,1,0) -> 0 | I62: =IF(G62<$I$2,1,0) -> 0 | J62: =+IF(I62=1,0,IF(G62<=$J$2,1,0)) -> 1 | K62: =+IF(I62=1,0,IF(J62=1,0,1)) -> 0
A63: TANGO | B63: 2 | C63: Aller | D63: CITAR
A64: TANGO | B64: 2 | C64: Aller | D64: JUSTR | E64: 41647.608 | F64: 41647.606 | G64: =+E64-F64 -> 0.0020833333 | H64: =+IF(G64<=$H$2,1,0) -> 0 | I64: =IF(G64<$I$2,1,0) -> 0 | J64: =+IF(I64=1,0,IF(G64<=$J$2,1,0)) -> 1 | K64: =+IF(I64=1,0,IF(J64=1,0,1)) -> 0
A65: TANGO | B65: 2 | C65: Aller | D65: CITAR
A66: TANGO | B66: 2 | C66: Aller | D66: JUSTR | E66: 41647.265 | F66: 41647.265 | G66: =+E66-F66 -> 0 | H66: =+IF(G66<=$H$2,1,0) -> 0 | I66: =IF(G66<$I$2,1,0) -> 0 | J66: =+IF(I66=1,0,IF(G66<=$J$2,1,0)) -> 1 | K66: =+IF(I66=1,0,IF(J66=1,0,1)) -> 0
A67: TANGO | B67: 2 | C67: Aller | D67: CITAR
A68: TANGO | B68: 2 | C68: Aller | D68: JUSTR | E68: 41647.308 | F68: 41647.31 | G68: =+E68-F68 -> -0.0013888889 | H68: =+IF(G68<=$H$2,1,0) -> 1 | I68: =IF(G68<$I$2,1,0) -> 1 | J68: =+IF(I68=1,0,IF(G68<=$J$2,1,0)) -> 0 | K68: =+IF(I68=1,0,IF(J68=1,0,1)) -> 0
A69: TANGO | B69: 2 | C69: Aller | D69: CITAR
A70: TANGO | B70: 2 | C70: Aller | D70: JUSTR | E70: 41647.493 | F70: 41647.491 | G70: =+E70-F70 -> 0.0020833333 | H70: =+IF(G70<=$H$2,1,0) -> 0 | I70: =IF(G70<$I$2,1,0) -> 0 | J70: =+IF(I70=1,0,IF(G70<=$J$2,1,0)) -> 1 | K70: =+IF(I70=1,0,IF(J70=1,0,1)) -> 0
A71: TANGO | B71: 2 | C71: Aller | D71: CITAR
A72: TANGO | B72: 2 | C72: Aller | D72: JUSTR | E72: 41647.559 | F72: 41647.56 | G72: =+E72-F72 -> -0.00069444444 | H72: =+IF(G72<=$H$2,1,0) -> 0 | I72: =IF(G72<$I$2,1,0) -> 1 | J72: =+IF(I72=1,0,IF(G72<=$J$2,1,0)) -> 0 | K72: =+IF(I72=1,0,IF(J72=1,0,1)) -> 0
A73: TANGO | B73: 2 | C73: Aller | D73: CITAR
A74: TANGO | B74: 2 | C74: Aller | D74: JUSTR | E74: 41647.349 | F74: 41647.348 | G74: =+E74-F74 -> 0.0013888889 | H74: =+IF(G74<=$H$2,1,0) -> 0 | I74: =IF(G74<$I$2,1,0) -> 0 | J74: =+IF(I74=1,0,IF(G74<=$J$2,1,0)) -> 1 | K74: =+IF(I74=1,0,IF(J74=1,0,1)) -> 0
A75: TANGO | B75: 2 | C75: Aller | D75: CITAR
A76: TANGO | B76: 2 | C76: Aller | D76: JUSTR | E76: 41647.805 | F76: 41647.804 | G76: =+E76-F76 -> 0.00069444444 | H76: =+IF(G76<=$H$2,1,0) -> 0 | I76: =IF(G76<$I$2,1,0) -> 0 | J76: =+IF(I76=1,0,IF(G76<=$J$2,1,0)) -> 1 | K76: =+IF(I76=1,0,IF(J76=1,0,1)) -> 0
A77: TANGO | B77: 2 | C77: Aller | D77: CITAR
A78: TANGO | B78: 2 | C78: Aller | D78: JUSTR | E78: 41647.873 | F78: 41647.874 | G78: =+E78-F78 -> -0.0013888889 | H78: =+IF(G78<=$H$2,1,0) -> 1 | I78: =IF(G78<$I$2,1,0) -> 1 | J78: =+IF(I78=1,0,IF(G78<=$J$2,1,0)) -> 0 | K78: =+IF(I78=1,0,IF(J78=1,0,1)) -> 0
A79: TANGO | B79: 2 | C79: Aller | D79: CITAR
A80: TANGO | B80: 2 | C80: Aller | D80: JUSTR | E80: 41647.454 | F80: 41647.453 | G80: =+E80-F80 -> 0.0013888889 | H80: =+IF(G80<=$H$2,1,0) -> 0 | I80: =IF(G80<$I$2,1,0) -> 0 | J80: =+IF(I80=1,0,IF(G80<=$J$2,1,0)) -> 1 | K80: =+IF(I80=1,0,IF(J80=1,0,1)) -> 0
A81: TANGO | B81: 2 | C81: Aller | D81: CITAR
A82: TANGO | B82: 2 | C82: Aller | D82: JUSTR | E82: 41647.694 | F82: 41647.692 | G82: =+E82-F82 -> 0.0020833333 | H82: =+IF(G82<=$H$2,1,0) -> 0 | I82: =IF(G82<$I$2,1,0) -> 0 | J82: =+IF(I82=1,0,IF(G82<=$J$2,1,0)) -> 1 | K82: =+IF(I82=1,0,IF(J82=1,0,1)) -> 0
A83: TANGO | B83: 2 | C83: Aller | D83: CITAR
A84: TANGO | B84: 2 | C84: Aller | D84: JUSTR | E84: 41647.771 | F84: 41647.769 | G84: =+E84-F84 -> 0.0020833333 | H84: =+IF(G84<=$H$2,1,0) -> 0 | I84: =IF(G84<$I$2,1,0) -> 0 | J84: =+IF(I84=1,0,IF(G84<=$J$2,1,0)) -> 1 | K84: =+IF(I84=1,0,IF(J84=1,0,1)) -> 0
A85: TANGO | B85: 2 | C85: Aller | D85: CITAR
A86: TANGO | B86: 2 | C86: Aller | D86: JUSTR | E86: 41647.484 | F86: 41647.483 | G86: =+E86-F86 -> 0.00069444445 | H86: =+IF(G86<=$H$2,1,0) -> 0 | I86: =IF(G86<$I$2,1,0) -> 0 | J86: =+IF(I86=1,0,IF(G86<=$J$2,1,0)) -> 1 | K86: =+IF(I86=1,0,IF(J86=1,0,1)) -> 0
A87: TANGO | B87: 2 | C87: Aller | D87: CITAR
A88: TANGO | B88: 2 | C88: Aller | D88: JUSTR | E88: 41647.394 | F88: 41647.392 | G88: =+E88-F88 -> 0.0020833333 | H88: =+IF(G88<=$H$2,1,0) -> 0 | I88: =IF(G88<$I$2,1,0) -> 0 | J88: =+IF(I88=1,0,IF(G88<=$J$2,1,0)) -> 1 | K88: =+IF(I88=1,0,IF(J88=1,0,1)) -> 0
A89: TANGO | B89: 2 | C89: Aller | D89: CITAR
A90: TANGO | B90: 2 | C90: Aller | D90: JUSTR | E90: 41647.733 | F90: 41647.731 | G90: =+E90-F90 -> 0.0020833333 | H90: =+IF(G90<=$H$2,1,0) -> 0 | I90: =IF(G90<$I$2,1,0) -> 0 | J90: =+IF(I90=1,0,IF(G90<=$J$2,1,0)) -> 1 | K90: =+IF(I90=1,0,IF(J90=1,0,1)) -> 0
A91: TANGO | B91: 2 | C91: Aller | D91: CITAR
A92: TANGO | B92: 2 | C92: Aller | D92: JUSTR | E92: 41647.523 | F92: 41647.522 | G92: =+E92-F92 -> 0.0013888889 | H92: =+IF(G92<=$H$2,1,0) -> 0 | I92: =IF(G92<$I$2,1,0) -> 0 | J92: =+IF(I92=1,0,IF(G92<=$J$2,1,0)) -> 1 | K92: =+IF(I92=1,0,IF(J92=1,0,1)) -> 0
A93: TANGO | B93: 2 | C93: Aller | D93: CITAR
A94: TANGO | B94: 2 | C94: Aller | D94: JUSTR | E94: 41647.378 | F94: 41647.378 | G94: =+E94-F94 -> 0 | H94: =+IF(G94<=$H$2,1,0) -> 0 | I94: =IF(G94<$I$2,1,0) -> 0 | J94: =+IF(I94=1,0,IF(G94<=$J$2,1,0)) -> 1 | K94: =+IF(I94=1,0,IF(J94=1,0,1)) -> 0
A95: TANGO | B95: 2 | C95: Aller | D95: CITAR
A96: TANGO | B96: 2 | C96: Aller | D96: JUSTR | E96: 41647.664 | F96: 41647.659 | G96: =+E96-F96 -> 0.0048611111 | H96: =+IF(G96<=$H$2,1,0) -> 0 | I96: =IF(G96<$I$2,1,0) -> 0 | J96: =+IF(I96=1,0,IF(G96<=$J$2,1,0)) -> 0 | K96: =+IF(I96=1,0,IF(J96=1,0,1)) -> 1
A97: TANGO | B97: 2 | C97: Aller | D97: CITAR
A98: TANGO | B98: 2 | C98: Aller | D98: JUSTR | E98: 41647.592 | F98: 41647.59 | G98: =+E98-F98 -> 0.0013888889 | H98: =+IF(G98<=$H$2,1,0) -> 0 | I98: =IF(G98<$I$2,1,0) -> 0 | J98: =+IF(I98=1,0,IF(G98<=$J$2,1,0)) -> 1 | K98: =+IF(I98=1,0,IF(J98=1,0,1)) -> 0
A99: TANGO | B99: 2 | C99: Aller | D99: CITAR
A100: TANGO | B100: 2 | C100: Aller | D100: JUSTR | E100: 41647.385 | F100: 41647.385 | G100: =+E100-F100 -> 0 | H100: =+IF(G100<=$H$2,1,0) -> 0 | I100: =IF(G100<$I$2,1,0) -> 0 | J100: =+IF(I100=1,0,IF(G100<=$J$2,1,0)) -> 1 | K100: =+IF(I100=1,0,IF(J100=1,0,1)) -> 0
...
