Workbook

Sheet RECAP
C4: Sophie | D4: Delphine | E4: Bruno
B5: janvier | C5: =JANVIER!$AI$5 -> -10.36 | D5: =JANVIER!$AI$6 -> 9 | E5: =JANVIER!$AI$7 -> 9
B6: février | C6: =FEVRIER!$AF$5 -> 8 | D6: =FEVRIER!$AF$6 -> -8 | E6: =FEVRIER!$AF$7 -> -8
C7: =SUM(C5:C6) -> -2.36 | D7: =SUM(D5:D6) -> 1 | E7: =SUM(E5:E6) -> 1
B8: mars | C8: =MARS!$AI$5 -> -128.48 | D8: =MARS!$AI$6 -> -161 | E8: =MARS!$AI$7 -> -161
C9: =SUM(C7:C8) -> -130.84 | D9: =SUM(D7:D8) -> -160 | E9: =SUM(E7:E8) -> -160
B10: avril | C10: =AVRIL!$AH$5 -> -106.24 | D10: =AVRIL!$AH$6 -> -133 | E10: =AVRIL!$AH$7 -> -133
C11: =SUM(C9:C10) -> -237.08 | D11: =SUM(D9:D10) -> -293 | E11: =SUM(E9:E10) -> -293
B12: mai | C12: =MAI!$AI$5 -> -112 | D12: =MAI!$AI$6 -> -140 | E12: =MAI!$AI$7 -> -140
C13: =SUM(C11:C12) -> -349.08 | D13: =SUM(D11:D12) -> -433 | E13: =SUM(E11:E12) -> -433
B14: juin | C14: =JUIN!$AH$5 -> -123.12 | D14: =JUIN!$AH$6 -> -154
B16: juillet | C16: ='JUILLET '!$AI$5 -> -112 | D16: ='JUILLET '!$AI$6 -> -140 | E16: ='JUILLET '!$AI$7 -> -140
B18: août | C18: =AOUT!$AI$5 -> -123.12 | D18: =AOUT!$AI$6 -> -140 | E18: =AOUT!$AI$7 -> -140
B20: septembre | C20: =SEPTEMBRE!$AH$5 -> -117.36 | D20: =SEPTEMBRE!$AH$6 -> -147 | E20: =SEPTEMBRE!$AH$7 -> -147
B22: octobre | C22: =OCTOBRE!$AI$5 -> -123.12 | D22: =OCTOBRE!$AI$6 -> -154 | E22: =OCTOBRE!$AI$7 -> -154
B24: novembre | C24: =NOVEMBRE!$AH$5 -> -112 | D24: =NOVEMBRE!$AH$6 -> -140 | E24: =NOVEMBRE!$AH$7 -> -140
B26: décembre | C26: =DECEMBRE!$AI$5 -> -112 | D26: =DECEMBRE!$AI$6 -> -140 | E26: =DECEMBRE!$AI$7 -> -140

Sheet JANVIER
A1: GDL JANVIER 2023
AG2: R | AH2: Oblig | AI2: Différence
B3: DIM | C3: LUN | D3: MAR | E3: MER | F3: JEU | G3: VEN | H3: SAM | I3: DIM | J3: LUN | K3: MAR | L3: MER | M3: JEU | N3: VEN | O3: SAM | P3: DIM | Q3: LUN | R3: MAR | S3: MER | T3: JEU | U3: VEN | V3: SAM | W3: DIM | X3: LUN | Y3: MAR | Z3: MER | AA3: JEU | AB3: VEN | AC3: SAM | AD3: DIM | AE3: LUN | AF3: MAR
B4: 1 | C4: 2 | D4: 3 | E4: 4 | F4: 5 | G4: 6 | H4: 7 | I4: 8 | J4: 9 | K4: 10 | L4: 11 | M4: 12 | N4: 13 | O4: 14 | P4: 15 | Q4: 16 | R4: 17 | S4: 18 | T4: 19 | U4: 20 | V4: 21 | W4: 22 | X4: 23 | Y4: 24 | Z4: 25 | AA4: 26 | AB4: 27 | AC4: 28 | AD4: 29 | AE4: 30 | AF4: 31
A5: Sophie | B5: x | G5: x | J5: x | K5: x | P5: x | Q5: x | X5: CA | Y5: CA | Z5: CA | AA5: CA | AB5: CA | AG5: =SUMPRODUCT((B5:AF5="X")*12)+SUMPRODUCT((B5:AF5="CA")*7)+SUMPRODUCT((B5:AF5="F")*7)+SUMPRODUCT((B5:AF5="CAS")*5.5) -> 107 | AH5: 117.36 | AI5: =AG5-AH5 -> -10.36
A6: Delphine | C6: X | F6: X | L6: X | M6: X | R6: X | S6: X | V6: X | W6: X | Z6: X | AA6: X | AD6: X | AE6: X | AF6: X | AG6: =SUMPRODUCT((B6:AF6="X")*12)+SUMPRODUCT((B6:AF6="CA")*7)+SUMPRODUCT((B6:AF6="F")*7) -> 156 | AH6: 147 | AI6: =AG6-AH6 -> 9
A7: Bruno | D7: X | E7: X | H7: X | I7: X | N7: X | O7: X | T7: X | U7: X | X7: X | Y7: X | AB7: X | AC7: X | AF7: x | AG7: =SUMPRODUCT((B7:AF7="X")*12)+SUMPRODUCT((B7:AF7="CA")*7)+SUMPRODUCT((B7:AF7="F")*7) -> 156 | AH7: 147 | AI7: =AG7-AH7 -> 9
A11: PAS DE CONGES DU 9 JANVIER AU 15 FEVRIER INCLUS
A14: x = 12h
A15: CA = 7h
A16: F = 7h

Sheet FEVRIER
A1: GDL FEVRIER 2023
AD2: R | AE2: Oblig | AF2: Différence
B3: MER | C3: JEU | D3: VEN | E3: SAM | F3: DIM | G3: LUN | H3: MAR | I3: MER | J3: JEU | K3: VEN | L3: SAM | M3: DIM | N3: LUN | O3: MAR | P3: MER | Q3: JEU | R3: VEN | S3: SAM | T3: DIM | U3: LUN | V3: MAR | W3: MER | X3: JEU | Y3: VEN | Z3: SAM | AA3: DIM | AB3: LUN | AC3: MAR
B4: 1 | C4: 2 | D4: 3 | E4: 4 | F4: 5 | G4: 6 | H4: 7 | I4: 8 | J4: 9 | K4: 10 | L4: 11 | M4: 12 | N4: 13 | O4: 14 | P4: 15 | Q4: 16 | R4: 17 | S4: 18 | T4: 19 | U4: 20 | V4: 21 | W4: 22 | X4: 23 | Y4: 24 | Z4: 25 | AA4: 26 | AB4: 27 | AC4: 28
A5: Sophie | C5: x | D5: x | J5: x | K5: x | N5: x | O5: x | S5: x | T5: x | X5: x | Y5: x | AD5: =SUMPRODUCT((B5:AC5="X")*12)+SUMPRODUCT((B5:AC5="CA")*7) -> 120 | AE5: 112 | AF5: =AD5-AE5 -> 8
A6: Delphine | E6: x | F6: x | I6: x | J6: x | N6: x | O6: x | R6: x | V6: x | W6: x | Z6: x | AA6: x | AD6: =SUMPRODUCT((B6:AC6="X")*12)+SUMPRODUCT((B6:AC6="CA")*7) -> 132 | AE6: 140 | AF6: =AD6-AE6 -> -8
A7: Bruno | B7: x | G7: x | H7: x | L7: x | M7: x | P7: x | Q7: x | U7: x | V7: x | AB7: x | AC7: x | AD7: =SUMPRODUCT((B7:AC7="X")*12)+SUMPRODUCT((B7:AC7="CA")*7) -> 132 | AE7: 140 | AF7: =AD7-AE7 -> -8

Sheet MARS
A1: GDL MARS 2023
AG2: R | AH2: Oblig | AI2: Différence
B3: MER | C3: JEU | D3: VEN | E3: SAM | F3: DIM | G3: LUN | H3: MAR | I3: MER | J3: JEU | K3: VEN | L3: SAM | M3: DIM | N3: LUN | O3: MAR | P3: MER | Q3: JEU | R3: VEN | S3: SAM | T3: DIM | U3: LUN | V3: MAR | W3: MER | X3: JEU | Y3: VEN | Z3: SAM | AA3: DIM | AB3: LUN | AC3: MAR | AD3: MER | AE3: JEU | AF3: VEN
B4: 1 | C4: 2 | D4: 3 | E4: 4 | F4: 5 | G4: 6 | H4: 7 | I4: 8 | J4: 9 | K4: 10 | L4: 11 | M4: 12 | N4: 13 | O4: 14 | P4: 15 | Q4: 16 | R4: 17 | S4: 18 | T4: 19 | U4: 20 | V4: 21 | W4: 22 | X4: 23 | Y4: 24 | Z4: 25 | AA4: 26 | AB4: 27 | AC4: 28 | AD4: 29 | AE4: 30 | AF4: 31
A5: Sophie | AG5: =SUMPRODUCT((B5:AF5="X")*12)+SUMPRODUCT((B5:AF5="CA")*7) -> 0 | AH5: 128.48 | AI5: =AG5-AH5 -> -128.48
A6: Delphine | AG6: =SUMPRODUCT((B6:AF6="X")*12)+SUMPRODUCT((B6:AF6="CA")*7) -> 0 | AH6: 161 | AI6: =AG6-AH6 -> -161
A7: Bruno | AG7: =SUMPRODUCT((B7:AF7="X")*12)+SUMPRODUCT((B7:AF7="CA")*7) -> 0 | AH7: 161 | AI7: =AG7-AH7 -> -161

Sheet AVRIL
A1: GDL AVRIL 2023
AF2: R | AG2: Oblig | AH2: Différence
B3: SAM | C3: DIM | D3: LUN | E3: MAR | F3: MER | G3: JEU | H3: VEN | I3: SAM | J3: DIM | K3: LUN | L3: MAR | M3: MER | N3: JEU | O3: VEN | P3: SAM | Q3: DIM | R3: LUN | S3: MAR | T3: MER | U3: JEU | V3: VEN | W3: SAM | X3: DIM | Y3: LUN | Z3: MAR | AA3: MER | AB3: JEU | AC3: VEN | AD3: SAM | AE3: DIM
B4: 1 | C4: 2 | D4: 3 | E4: 4 | F4: 5 | G4: 6 | H4: 7 | I4: 8 | J4: 9 | K4: 10 | L4: 11 | M4: 12 | N4: 13 | O4: 14 | P4: 15 | Q4: 16 | R4: 17 | S4: 18 | T4: 19 | U4: 20 | V4: 21 | W4: 22 | X4: 23 | Y4: 24 | Z4: 25 | AA4: 26 | AB4: 27 | AC4: 28 | AD4: 29 | AE4: 30
A5: Sophie | AF5: =SUMPRODUCT((B5:AE5="X")*12)+SUMPRODUCT((B5:AE5="CA")*7) -> 0 | AG5: 106.24 | AH5: =AF5-AG5 -> -106.24
A6: Delphine | AF6: =SUMPRODUCT((B6:AE6="X")*12)+SUMPRODUCT((B6:AE6="CA")*7) -> 0 | AG6: 133 | AH6: =AF6-AG6 -> -133
A7: Bruno | AF7: =SUMPRODUCT((B7:AE7="X")*12)+SUMPRODUCT((B7:AE7="CA")*7) -> 0 | AG7: 133 | AH7: =AF7-AG7 -> -133

Sheet MAI
A1: GDL MAI 2023
AG2: R | AH2: Oblig | AI2: Différence
B3: LUN | C3: MAR | D3: MER | E3: JEU | F3: VEN | G3: SAM | H3: DIM | I3: LUN | J3: MAR | K3: MER | L3: JEU | M3: VEN | N3: SAM | O3: DIM | P3: LUN | Q3: MAR | R3: MER | S3: JEU | T3: VEN | U3: SAM | V3: DIM | W3: LUN | X3: MAR | Y3: MER | Z3: JEU | AA3: VEN | AB3: SAM | AC3: DIM | AD3: LUN | AE3: MAR | AF3: MER
B4: 1 | C4: 2 | D4: 3 | E4: 4 | F4: 5 | G4: 6 | H4: 7 | I4: 8 | J4: 9 | K4: 10 | L4: 11 | M4: 12 | N4: 13 | O4: 14 | P4: 15 | Q4: 16 | R4: 17 | S4: 18 | T4: 19 | U4: 20 | V4: 21 | W4: 22 | X4: 23 | Y4: 24 | Z4: 25 | AA4: 26 | AB4: 27 | AC4: 28 | AD4: 29 | AE4: 30 | AF4: 31
A5: Sophie | AG5: =SUMPRODUCT((B5:AF5="X")*12)+SUMPRODUCT((B5:AF5="CA")*7) -> 0 | AH5: 112 | AI5: =AG5-AH5 -> -112
A6: Delphine | AG6: =SUMPRODUCT((B6:AF6="X")*12)+SUMPRODUCT((B6:AF6="CA")*7) -> 0 | AH6: 140 | AI6: =AG6-AH6 -> -140
A7: Bruno | AG7: =SUMPRODUCT((B7:AF7="X")*12)+SUMPRODUCT((B7:AF7="CA")*7) -> 0 | AH7: 140 | AI7: =AG7-AH7 -> -140

Sheet JUIN
A1: GDL JUIN 2023
AF2: R | AG2: Oblig | AH2: Différence
B3: JEU | C3: VEN | D3: SAM | E3: DIM | F3: LUN | G3: MAR | H3: MER | I3: JEU | J3: VEN | K3: SAM | L3: DIM | M3: LUN | N3: MAR | O3: MER | P3: JEU | Q3: VEN | R3: SAM | S3: DIM | T3: LUN | U3: MAR | V3: MER | W3: JEU | X3: VEN | Y3: SAM | Z3: DIM | AA3: LUN | AB3: MAR | AC3: MER | AD3: JEU | AE3: VEN
B4: 1 | C4: 2 | D4: 3 | E4: 4 | F4: 5 | G4: 6 | H4: 7 | I4: 8 | J4: 9 | K4: 10 | L4: 11 | M4: 12 | N4: 13 | O4: 14 | P4: 15 | Q4: 16 | R4: 17 | S4: 18 | T4: 19 | U4: 20 | V4: 21 | W4: 22 | X4: 23 | Y4: 24 | Z4: 25 | AA4: 26 | AB4: 27 | AC4: 28 | AD4: 29 | AE4: 30
A5: Sophie | AF5: =SUMPRODUCT((B5:AE5="X")*12)+SUMPRODUCT((B5:AE5="CA")*7) -> 0 | AG5: 123.12 | AH5: =AF5-AG5 -> -123.12
A6: Delphine | AF6: =SUMPRODUCT((B6:AE6="X")*12)+SUMPRODUCT((B6:AE6="CA")*7) -> 0 | AG6: 154 | AH6: =AF6-AG6 -> -154
A7: Bruno | AF7: =SUMPRODUCT((B7:AE7="X")*12)+SUMPRODUCT((B7:AE7="CA")*7) -> 0 | AG7: 154 | AH7: =AF7-AG7 -> -154

Sheet JUILLET 
A1: GDL JUILLET 2023
AG2: R | AH2: Oblig | AI2: Différence
B3: SAM | C3: DIM | D3: LUN | E3: MAR | F3: MER | G3: JEU | H3: VEN | I3: SAM | J3: DIM | K3: LUN | L3: MAR | M3: MER | N3: JEU | O3: VEN | P3: SAM | Q3: DIM | R3: LUN | S3: MAR | T3: MER | U3: JEU | V3: VEN | W3: SAM | X3: DIM | Y3: LUN | Z3: MAR | AA3: MER | AB3: JEU | AC3: VEN | AD3: SAM | AE3: DIM | AF3: LUN
B4: 1 | C4: 2 | D4: 3 | E4: 4 | F4: 5 | G4: 6 | H4: 7 | I4: 8 | J4: 9 | K4: 10 | L4: 11 | M4: 12 | N4: 13 | O4: 14 | P4: 15 | Q4: 16 | R4: 17 | S4: 18 | T4: 19 | U4: 20 | V4: 21 | W4: 22 | X4: 23 | Y4: 24 | Z4: 25 | AA4: 26 | AB4: 27 | AC4: 28 | AD4: 29 | AE4: 30 | AF4: 31
A5: Sophie | AG5: =SUMPRODUCT((B5:AF5="X")*12)+SUMPRODUCT((B5:AF5="CA")*7) -> 0 | AH5: 112 | AI5: =AG5-AH5 -> -112
A6: Delphine | AG6: =SUMPRODUCT((B6:AF6="X")*12)+SUMPRODUCT((B6:AF6="CA")*7) -> 0 | AH6: 140 | AI6: =AG6-AH6 -> -140
A7: Bruno | AG7: =SUMPRODUCT((B7:AF7="X")*12)+SUMPRODUCT((B7:AF7="CA")*7) -> 0 | AH7: 140 | AI7: =AG7-AH7 -> -140

Sheet AOUT
A1: GDL AOUT 2023
AG2: R | AH2: Oblig | AI2: Différence
B3: MAR | C3: MER | D3: JEU | E3: VEN | F3: SAM | G3: DIM | H3: LUN | I3: MAR | J3: MER | K3: JEU | L3: VEN | M3: SAM | N3: DIM | O3: LUN | P3: MAR | Q3: MER | R3: JEU | S3: VEN | T3: SAM | U3: DIM | V3: LUN | W3: MAR | X3: MER | Y3: JEU | Z3: VEN | AA3: SAM | AB3: DIM | AC3: LUN | AD3: MAR | AE3: MER | AF3: JEU
B4: 1 | C4: 2 | D4: 3 | E4: 4 | F4: 5 | G4: 6 | H4: 7 | I4: 8 | J4: 9 | K4: 10 | L4: 11 | M4: 12 | N4: 13 | O4: 14 | P4: 15 | Q4: 16 | R4: 17 | S4: 18 | T4: 19 | U4: 20 | V4: 21 | W4: 22 | X4: 23 | Y4: 24 | Z4: 25 | AA4: 26 | AB4: 27 | AC4: 28 | AD4: 29 | AE4: 30 | AF4: 31
A5: Sophie | AG5: =SUMPRODUCT((B5:AF5="X")*12)+SUMPRODUCT((B5:AF5="CA")*7) -> 0 | AH5: 123.12 | AI5: =AG5-AH5 -> -123.12
A6: Delphine | AG6: =SUMPRODUCT((B6:AF6="X")*12)+SUMPRODUCT((B6:AF6="CA")*7) -> 0 | AH6: 140 | AI6: =AG6-AH6 -> -140
A7: Bruno | AG7: =SUMPRODUCT((B7:AF7="X")*12)+SUMPRODUCT((B7:AF7="CA")*7) -> 0 | AH7: 140 | AI7: =AG7-AH7 -> -140

Sheet SEPTEMBRE
A1: GDL SEPTEMBRE 2023
AF2: R | AG2: Oblig | AH2: Différence
B3: VEN | C3: SAM | D3: DIM | E3: LUN | F3: MAR | G3: MER | H3: JEU | I3: VEN | J3: SAM | K3: DIM | L3: LUN | M3: MAR | N3: MER | O3: JEU | P3: VEN | Q3: SAM | R3: DIM | S3: LUN | T3: MAR | U3: MER | V3: JEU | W3: VEN | X3: SAM | Y3: DIM | Z3: LUN | AA3: MAR | AB3: MER | AC3: JEU | AD3: VEN | AE3: SAM
B4: 1 | C4: 2 | D4: 3 | E4: 4 | F4: 5 | G4: 6 | H4: 7 | I4: 8 | J4: 9 | K4: 10 | L4: 11 | M4: 12 | N4: 13 | O4: 14 | P4: 15 | Q4: 16 | R4: 17 | S4: 18 | T4: 19 | U4: 20 | V4: 21 | W4: 22 | X4: 23 | Y4: 24 | Z4: 25 | AA4: 26 | AB4: 27 | AC4: 28 | AD4: 29 | AE4: 30
A5: Sophie | AF5: =SUMPRODUCT((B5:AE5="X")*12)+SUMPRODUCT((B5:AE5="CA")*7) -> 0 | AG5: 117.36 | AH5: =AF5-AG5 -> -117.36
A6: Delphine | AF6: =SUMPRODUCT((B6:AE6="X")*12)+SUMPRODUCT((B6:AE6="CA")*7) -> 0 | AG6: 147 | AH6: =AF6-AG6 -> -147
A7: Bruno | AF7: =SUMPRODUCT((B7:AE7="X")*12)+SUMPRODUCT((B7:AE7="CA")*7) -> 0 | AG7: 147 | AH7: =AF7-AG7 -> -147

Sheet OCTOBRE
A1: GDL OCTOBRE 2023
AG2: R | AH2: Oblig | AI2: Différence
B3: DIM | C3: LUN | D3: MAR | E3: MER | F3: JEU | G3: VEN | H3: SAM | I3: DIM | J3: LUN | K3: MAR | L3: MER | M3: JEU | N3: VEN | O3: SAM | P3: DIM | Q3: LUN | R3: MAR | S3: MER | T3: JEU | U3: VEN | V3: SAM | W3: DIM | X3: LUN | Y3: MAR | Z3: MER | AA3: JEU | AB3: VEN | AC3: SAM | AD3: DIM | AE3: LUN | AF3: MAR
B4: 1 | C4: 2 | D4: 3 | E4: 4 | F4: 5 | G4: 6 | H4: 7 | I4: 8 | J4: 9 | K4: 10 | L4: 11 | M4: 12 | N4: 13 | O4: 14 | P4: 15 | Q4: 16 | R4: 17 | S4: 18 | T4: 19 | U4: 20 | V4: 21 | W4: 22 | X4: 23 | Y4: 24 | Z4: 25 | AA4: 26 | AB4: 27 | AC4: 28 | AD4: 29 | AE4: 30 | AF4: 31
A5: Sophie | AG5: =SUMPRODUCT((B5:AF5="X")*12)+SUMPRODUCT((B5:AF5="CA")*7) -> 0 | AH5: 123.12 | AI5: =AG5-AH5 -> -123.12
A6: Delphine | AG6: =SUMPRODUCT((B6:AF6="X")*12)+SUMPRODUCT((B6:AF6="CA")*7) -> 0 | AH6: 154 | AI6: =AG6-AH6 -> -154
A7: Bruno | AG7: =SUMPRODUCT((B7:AF7="X")*12)+SUMPRODUCT((B7:AF7="CA")*7) -> 0 | AH7: 154 | AI7: =AG7-AH7 -> -154

Sheet NOVEMBRE
A1: GDL NOVEMBRE 2023
AF2: R | AG2: Oblig | AH2: Différence
B3: MER | C3: JEU | D3: VEN | E3: SAM | F3: DIM | G3: LUN | H3: MAR | I3: MER | J3: JEU | K3: VEN | L3: SAM | M3: DIM | N3: LUN | O3: MAR | P3: MER | Q3: JEU | R3: VEN | S3: SAM | T3: DIM | U3: LUN | V3: MAR | W3: MER | X3: JEU | Y3: VEN | Z3: SAM | AA3: DIM | AB3: LUN | AC3: MAR | AD3: MER | AE3: JEU
B4: 1 | C4: 2 | D4: 3 | E4: 4 | F4: 5 | G4: 6 | H4: 7 | I4: 8 | J4: 9 | K4: 10 | L4: 11 | M4: 12 | N4: 13 | O4: 14 | P4: 15 | Q4: 16 | R4: 17 | S4: 18 | T4: 19 | U4: 20 | V4: 21 | W4: 22 | X4: 23 | Y4: 24 | Z4: 25 | AA4: 26 | AB4: 27 | AC4: 28 | AD4: 29 | AE4: 30
A5: Sophie | AF5: =SUMPRODUCT((B5:AE5="X")*12)+SUMPRODUCT((B5:AE5="CA")*7) -> 0 | AG5: 112 | AH5: =AF5-AG5 -> -112
A6: Delphine | AF6: =SUMPRODUCT((B6:AE6="X")*12)+SUMPRODUCT((B6:AE6="CA")*7) -> 0 | AG6: 140 | AH6: =AF6-AG6 -> -140
A7: Bruno | AF7: =SUMPRODUCT((B7:AE7="X")*12)+SUMPRODUCT((B7:AE7="CA")*7) -> 0 | AG7: 140 | AH7: =AF7-AG7 -> -140

Sheet DECEMBRE
B3: VEN | C3: SAM | D3: DIM | E3: LUN | F3: MAR | G3: MER | H3: JEU | I3: VEN | J3: SAM | K3: DIM | L3: LUN | M3: MAR | N3: MER | O3: JEU | P3: VEN | Q3: SAM | R3: DIM | S3: LUN | T3: MAR | U3: MER | V3: JEU | W3: VEN | X3: SAM | Y3: DIM | Z3: LUN | AA3: MAR | AB3: MER | AC3: JEU | AD3: VEN | AE3: SAM | AF3: DIM
B4: 1 | C4: 2 | D4: 3 | E4: 4 | F4: 5 | G4: 6 | H4: 7 | I4: 8 | J4: 9 | K4: 10 | L4: 11 | M4: 12 | N4: 13 | O4: 14 | P4: 15 | Q4: 16 | R4: 17 | S4: 18 | T4: 19 | U4: 20 | V4: 21 | W4: 22 | X4: 23 | Y4: 24 | Z4: 25 | AA4: 26 | AB4: 27 | AC4: 28 | AD4: 29 | AE4: 30 | AF4: 31
A5: Sophie | AG5: =SUMPRODUCT((B5:AF5="X")*12)+SUMPRODUCT((B5:AF5="CA")*7) -> 0 | AH5: 112 | AI5: =AG5-AH5 -> -112
A6: Delphine | AG6: =SUMPRODUCT((B6:AF6="X")*12)+SUMPRODUCT((B6:AF6="CA")*7) -> 0 | AH6: 140 | AI6: =AG6-AH6 -> -140
A7: Bruno | AG7: =SUMPRODUCT((B7:AF7="X")*12)+SUMPRODUCT((B7:AF7="CA")*7) -> 0 | AH7: 140 | AI7: =AG7-AH7 -> -140
