Workbook

Sheet RECAP

Sheet CPP2022
A2: Initiales | B2: Nombre de dosssier | C2: Date entrée | D2: Patient | E2: Provenance | F2: Service receveur | G2: Mode de vie | H2: Validation des aides | I2: AS | J2: Début Pec | K2: Demandes | L2: Date de la demande | M2: Etat du dossier | N2: Dossier inscrit dans Globule | O2: Date de relance | P2: Sortie | Q2: Date de sortie | R2: Suivi post hospitalisation | S2: Commentaires | T2: Nb jour
B3: 1 | E3: Domicile | F3: Med A/C | N3: oui | R3: oui
B4: 2 | E4: Domicile | F4: Viscerale | N4: oui
B5: 3 | E5: Domicile | F5: CARDIO | N5: oui | R5: oui
B6: 4 | E6: Domicile | F6: CSG | N6: oui | R6: oui
B7: 5 | E7: Domicile | F7: Med A/C | N7: oui | R7: oui
B8: 6 | E8: Domicile | F8: CSG | N8: oui | R8: oui
B9: 7 | E9: Domicile | F9: Med A/C | N9: oui | R9: oui
B10: 8 | E10: Domicile | F10: Ortho | N10: oui
B11: 9 | E11: Domicile | F11: CSG | N11: oui
B12: 10 | E12: Domicile | F12: CSG | R12: oui
G15: Nombre de suivi post hospitalisation = nombre de oui par rapport au nombre de patient
G17: Nombre de doosier inscrit dans Globule = nombre de oui par rapport au nombre de patient

Sheet TEL IDE
B3: Nom | C3: Prénom | D3: Téléphone | E3: Portable | F3: Région | G3: Secteurs

Sheet TEL KINE
B3: Nom | C3: Prénom | D3: Téléphone | E3: Portable | F3: Région | G3: Secteurs
B68: Leca /Franceschini | E68: 06 21 06 13 23 | F68: Alata | G68: San Benedetto
B69: Mathenet | C69: JB | E69: 06 10 85 36 43 | F69: Alata
B71: Peretti | C71: E | E71: 06 82 45 19 39 | F71: Appietto | G71: Volpaja
B73: Hamon | C73: Chantal | E73: 06 85 17 04 43 | F73: Bastelicaccia
B74: Trojani | C74: Lysianne | E74: 06 12 46 67 16 | F74: Bastelicaccia
B76: Maximo | C76: Patricia | E76: 06 84 37 88 57 | F76: Cauro | G76: Occana Prunelli II
B78: Cristiani | C78: PA | E78: 06 83 88 16 44 | F78: Cuttoli
B80: Castellani | C80: Sophie | E80: 06 21 01 79 54 | F80: Frasetto
B81: Vero | C81: Anne Laure | E81: 06 22 24 06 87 | F81: Frasetto
B83: Baggio | C83: Stéphanie | E83: 06 15 68 08 95 | F83: Mezzavia | G83: Confina - Mezzavia
B84: Contournet | C84: A | E84: 06 24 40 65 29 | F84: Mezzavia | G84: Cannes- Domitys
B85: Magnan | C85: Clara | E85: 06 95 22 67 35 | F85: Mezzavia | G85: Cannes- Domitys
B87: Olive | C87: Caroline | E87: 06 18 09 75 69 | F87: Peri
B89: Mondoloni | C89: JA | E89: 06 82 05 87 12 | F89: Porticcio
B90: Sigrist | C90: Fréderic | E90: 06 14 76 04 70 | F90: Porticcio | G90: Aqua d'oria
B92: Leandri | C92: Vannina | E92: 06 47 32 57 79 | F92: Sarrola | G92: Effrico
B94: Tafani | C94: Huguette | E94: 06 20 46 30 62
B95: Ambrosini | C95: Nicole | E95: 06 09 60 36 36
B96: Charpentier | C96: Julia | D96: 04 95 25 05 91 | E96: 06 84 99 62 67
B97: Leroux | C97: Gaston | E97: 06 11 24 72 72
B98: Vanherrenthals | C98: Mathieu | D98: 04 95 25 05 91 | E98: 06 31 89 03 83

Sheet Statistiques
A2: Statistiques | E2: Novembre à décembre 2022
B4: Etablissement | C4: Nombre retour | L4: Nombre de suivi post hospitalisation
C5: =COUNTIF('CPP2022'!$P$3:$P$440,"CAPPA") -> 0
C6: =COUNTIF('CPP2022'!P3:P441,"Casa Serena") -> 0
C7: =COUNTIF('CPP2022'!P3:P442,"Castelluccio") -> 0
C8: =COUNTIF('CPP2022'!P3:P443,"CH Sartene") -> 0
C9: =COUNTIF('CPP2022'!P3:P444,"Ciste") -> 0
C10: =COUNTIF('CPP2022'!P3:P445,"Domicile") -> 0
C11: =COUNTIF('CPP2022'!P3:P446,"Domitys") -> 0
C12: =COUNTIF('CPP2022'!P3:P447,"EHPAD Cargese") -> 0
C13: =COUNTIF('CPP2022'!P3:P448,"EHPAD continent") -> 0
C14: =COUNTIF('CPP2022'!P3:P449,"EHPAD Eugénie") -> 0
C15: =COUNTIF('CPP2022'!P3:P450,"EHPAD Sarrola") -> 0
C16: =COUNTIF('CPP2022'!P3:P451,"EHPAD Sartène ") -> 0
C17: =COUNTIF('CPP2022'!P3:P452,"EHPAD STE Cecile") -> 0
C18: =COUNTIF('CPP2022'!P3:P469,"FINOSELLO") -> 0
C19: =COUNTIF('CPP2022'!P3:P451,"IDB") -> 0
C20: =COUNTIF('CPP2022'!P13:P456,"Molini") -> 0
C21: =COUNTIF('CPP2022'!P13:P457,"Olivier bleu") -> 0
C22: =COUNTIF('CPP2022'!P13:P459,"RAD") -> 0
C23: =COUNTIF('CPP2022'!P13:P460,"SSR Bonifaccio") -> 0
C24: =COUNTIF('CPP2022'!P13:P461,"SSR Eugenie") -> 0
C25: =COUNTIF('CPP2022'!P13:P464,"SSR Sartène") -> 0
C26: =COUNTIF('CPP2022'!P13:P465,"SSR Sorba") -> 0
C27: =COUNTIF('CPP2022'!P13:P466,"Tattone") -> 0
C28: =COUNTIF('CPP2022'!P13:P467,"USLD Eugenie") -> 0
C29: =COUNTIF('CPP2022'!P13:P468,"USLD Sartène") -> 0

Sheet Feuil3
