Workbook

Sheet Feuil1
A2: Date de la dernière actualisation : | B2: 43889
A6: MACHINES | B6: Commentaires | C6: =WEEKNUM(B2)+5 -> 14
A7: a | B7: CFAO B | C7: =IF(Feuil2!OQ2<0,"0",Feuil2!OQ2) -> 0
A8: b | C8: =IF(Feuil2!OQ3<0,"0",Feuil2!OQ3) -> 0
A9: c | C9: =IF(Feuil2!OQ4<0,"0",Feuil2!OQ4) -> 30
A10: d | C10: =IF(Feuil2!OQ5<0,"0",Feuil2!OQ5) -> 20
A11: e | C11: =IF(Feuil2!OQ6<0,"0",Feuil2!OQ6) -> 0
A12: f | C12: =IF(Feuil2!OQ7<0,"0",Feuil2!OQ7) -> 0
A13: g | C13: =IF(Feuil2!OQ8<0,"0",Feuil2!OQ8) -> 0
A14: h | B14: CFAO DMU | C14: =IF(Feuil2!OQ9<0,"0",Feuil2!OQ9) -> 0
A15: i | B15: CFAO ST10 | C15: =IF(Feuil2!OQ10<0,"0",Feuil2!OQ10) -> 0
A16: j | B16: CFAO B | C16: =IF(Feuil2!OQ11<0,"0",Feuil2!OQ11) -> 0
A17: k | C17: =IF(Feuil2!OQ12<0,"0",Feuil2!OQ12) -> 13
A18: l | C18: =IF(Feuil2!OQ13<0,"0",Feuil2!OQ13) -> 18
A19: m | C19: =IF(Feuil2!OQ14<0,"0",Feuil2!OQ14) -> 20
A20: n | C20: =IF(Feuil2!OQ15<0,"0",Feuil2!OQ15) -> 9
A21: o | B21: CFAO VF4-2 | C21: =IF(Feuil2!OQ16<0,"0",Feuil2!OQ16) -> 0
A22: p | C22: =IF(Feuil2!OQ17<0,"0",Feuil2!OQ17) -> 0
A23: q | C23: =IF(Feuil2!OQ18<0,"0",Feuil2!OQ18) -> 10
A24: r | C24: =IF(Feuil2!OQ19<0,"0",Feuil2!OQ19) -> 10
A26: CFAO G
A28: PETITE SERIE | B28: CFAO CU | C28: AF1060 + S-PLUS 10
A29: GRANDE SERIE
A30: MAZAK QT | B30: CFAO T

Sheet Feuil2
D1: s50-10/12 | E1: 43409 | F1: 43410 | G1: 43411 | H1: 43412 | I1: 43413 | J1: s51-17/12 | K1: 43416 | L1: 43417 | M1: 43418 | N1: 43419 | O1: 43420 | P1: s52-24/12 | Q1: 43423 | R1: 43424 | S1: 43425 | T1: 43426 | U1: 43427 | V1: s1-31/12 | W1: 43430 | X1: 43431 | Y1: 43432 | Z1: 43433 | AA1: 43434 | AB1: s2-7/1 | AC1: 43437 | AD1: 43438 | AE1: 43439 | AF1: 43440 | AG1: 43441 | AH1: S3-14/1 | AI1: 43444 | AJ1: 43445 | AK1: 43446 | AL1: 43447 | AM1: 43448 | AN1: S4-21/1 | AO1: 43451 | AP1: 43452 | AQ1: 43453 | AR1: 43454 | AS1: 43455 | AT1: S5-28/1 | AU1: 43458 | AV1: 43459 | AW1: 43460 | AX1: 43461 | AY1: 43462 | AZ1: S6-4/2 | BA1: 43465 | BB1: 43101 | BC1: 43102 | BD1: 43103 | BE1: 43104 | BF1: S7-11/2 | BG1: 43472 | BH1: 43473 | BI1: 43474 | BJ1: 43475 | BK1: 43476 | BL1: S8-18/2 | BM1: 43479 | BN1: 43480 | BO1: 43481 | BP1: 43482 | BQ1: 43476 | BR1: S9-25/2 | BS1: 43486 | BT1: 43487 | BU1: 43488 | BV1: 43489 | BW1: 43490 | BX1: S10 | BY1: S11-4/3 | BZ1: 43500 | CA1: 43501 | CB1: 43502 | CC1: 43503 | CD1: 43504 | CE1: S12-11/3 | CF1: 43507 | CG1: 43508 | CH1: 43509 | CI1: 43510 | CJ1: 43511 | CK1: S13-18/3 | CL1: 43514 | CM1: 43515 | CN1: 43516 | CO1: 43517 | CP1: 43518 | CQ1: S14-25/3 | CR1: 43521 | CS1: 43522 | CT1: 43523 | CU1: 43524 | CV1: 43525 | CW1: S15-1/4 | CX1: 43528 | CY1: 43529 | CZ1: 43530 | DA1: 43531 | DB1: 43532 | DC1: S16-8/4 | DD1: 43535 | DE1: 43536 | DF1: 43537 | DG1: 43538 | DH1: 43539 | DI1: S17-15/4 | DJ1: 43542 | DK1: 43543 | DL1: 43544 | DM1: 43545 | DN1: 43546 | DO1: S18-22/4 | DP1: 43549 | DQ1: 43550 | DR1: 43551 | DS1: 43552 | DT1: 43553 | DU1: S19-29/4 | DV1: 43556 | DW1: 43557 | DX1: 43558 | DY1: 43559 | DZ1: 43560 | EA1: S20-6/5 | EB1: 43563 | EC1: 43564 | ED1: 43565 | EE1: 43566 | EF1: 43567 | EG1: S21-13/5 | EH1: 43570 | EI1: 43571 | EJ1: 43572 | EK1: 43573 | EL1: 43574 | EM1: S22-20/5 | EN1: 43577 | EO1: 43578 | EP1: 43579 | EQ1: 43580 | ER1: 43581 | ES1: S23-27/5 | ET1: 43584 | EU1: 43585 | EV1: 43586 | EW1: 43587 | EX1: 43588 | EY1: S24-3/6 | EZ1: 43591 | FA1: 43592 | FB1: 43593 | FC1: 43594 | FD1: 43595 | FE1: S25-10/6 | FF1: 43598 | FG1: 43599 | FH1: 43600 | FI1: 43601 | FJ1: 43602 | FK1: S26-17/6 | FL1: 43605 | FM1: 43606 | FN1: 43607 | FO1: 43608 | FP1: 43609 | FQ1: S27-24/6 | FR1: 43612 | FS1: 43613 | FT1: 43614 | FU1: 43615 | FV1: 43616 | FW1: S28-1/7 | FX1: 43619 | FY1: 43620 | FZ1: 43621 | GA1: 43622 | GB1: 43623 | GC1: S29-8/7 | GD1: 43626 | GE1: 43627 | GF1: 43628 | GG1: 43629 | GH1: 43630 | GI1: S30-15/7 | GJ1: 43633 | GK1: 43634 | GL1: 43635 | GM1: 43636 | GN1: 43637 | GO1: S31-22/7 | GP1: 43640 | GQ1: 43641 | GR1: 43642 | GS1: 43643 | GT1: 43644 | GU1: S32-29/7 | GV1: 43647 | GW1: 43648 | GX1: 43649 | GY1: 43650 | GZ1: 43651 | HA1: S33-5/8 | HB1: 43654 | HC1: 43655 | HD1: 43656 | HE1: 43657 | HF1: 43658 | HG1: S34-12/8 | HH1: 43661 | HI1: 43662 | HJ1: 43663 | HK1: 43664 | HL1: 43665 | HM1: S35-19/8 | HN1: 43668 | HO1: 43669 | HP1: 43670 | HQ1: 43671 | HR1: 43672 | HS1: S36-26/8 | HT1: 43675 | HU1: 43676 | HV1: 43677 | HW1: 43678 | HX1: 43679 | HY1: S37-2/9 | HZ1: 43682 | IA1: 43683 | IB1: 43684 | IC1: 43685 | ID1: 43686 | IE1: S38-9/9 | IF1: 43689 | IG1: 43690 | IH1: 43691 | II1: 43692 | IJ1: 43693 | IK1: S39-16/9 | IL1: 43696 | IM1: 43697 | IN1: 43698 | IO1: 43699 | IP1: 43700 | IQ1: S40-23/9 | IR1: 43703 | IS1: 43704 | IT1: 43705 | IU1: 43706 | IV1: 43707 | IW1: S41-30/9 | IX1: 43710 | IY1: 43711 | IZ1: 43712 | JA1: 43713 | JB1: 43714 | JC1: S42-7/10 | JD1: 43717 | JE1: 43718 | JF1: 43719 | JG1: 43720 | JH1: 43721 | JI1: S43-14/10 | JJ1: 43724 | JK1: 43725 | JL1: 43726 | JM1: 43727 | JN1: 43728 | JO1: S44-21/10 | JP1: 43731 | JQ1: 43732 | JR1: 43733 | JS1: 43734 | JT1: 43735 | JU1: S45-28/10 | JV1: 43738 | JW1: 43739 | JX1: 43740 | JY1: 43741 | JZ1: 43742 | KA1: S46-4/11 | KB1: 43745 | KC1: 43746 | KD1: 43747 | KE1: 43748 | KF1: 43749 | KG1: S47-11/11 | KH1: 43752 | KI1: 43753 | KJ1: 43754 | KK1: 43755 | KL1: 43756 | KM1: S48-18/11 | KN1: 43759 | KO1: 43760 | KP1: 43761 | KQ1: 43762 | KR1: 43763 | KS1: S49-25/11 | KT1: 43766 | KU1: 43767 | KV1: 43768 | KW1: 43769 | KX1: 43770 | KY1: S50-2/12 | KZ1: 43773 | LA1: 43774 | LB1: 43775 | LC1: 43776 | LD1: 43777 | LE1: S51-9/12 | LF1: 43780 | LG1: 43781 | LH1: 43782 | LI1: 43783 | LJ1: 43784 | LK1: S52-16/12 | LL1: 43787 | LM1: 43788 | LN1: 43789 | LO1: 43790 | LP1: 43791 | LQ1: S1-23/12 | LR1: 43794 | LS1: 43795 | LT1: 43796 | LU1: 43797 | LV1: 43798 | LW1: S2-30/12 | LX1: 43801 | LY1: 43802 | LZ1: 43803 | MA1: 43804 | MB1: 43805 | MC1: S3-6/1 | MD1: 43808 | ME1: 43809 | MF1: 43810 | MG1: 43811 | MH1: 43812 | MI1: S4-13/1 | MJ1: =+MD1+7 -> 43815 | MK1: =+ME1+7 -> 43816 | ML1: =+MF1+7 -> 43817 | MM1: =+MG1+7 -> 43818 | MN1: =+MH1+7 -> 43819 | MO1: S5-20/1 | MP1: =+MJ1+7 -> 43822 | MQ1: =+MK1+7 -> 43823 | MR1: =+ML1+7 -> 43824 | MS1: =+MM1+7 -> 43825 | MT1: =+MN1+7 -> 43826 | MU1: S6-27/1 | MV1: =+MP1+7 -> 43829 | MW1: =+MQ1+7 -> 43830 | MX1: =+MR1+7 -> 43831 | MY1: =+MS1+7 -> 43832 | MZ1: =+MT1+7 -> 43833 | NA1: S7-3/2 | NB1: =+MV1+7 -> 43836 | NC1: =+MW1+7 -> 43837 | ND1: =+MX1+7 -> 43838 | NE1: =+MY1+7 -> 43839 | NF1: =+MZ1+7 -> 43840 | NG1: S8-10/2 | NH1: =+NB1+7 -> 43843 | NI1: =+NC1+7 -> 43844 | NJ1: =+ND1+7 -> 43845 | NK1: =+NE1+7 -> 43846 | NL1: =+NF1+7 -> 43847 | NM1: S9-17/2 | NN1: =+NH1+7 -> 43850 | NO1: =+NI1+7 -> 43851 | NP1: =+NJ1+7 -> 43852 | NQ1: =+NK1+7 -> 43853 | NR1: =+NL1+7 -> 43854 | NS1: S10-24/2 | NT1: =+NN1+7 -> 43857 | NU1: =+NO1+7 -> 43858 | NV1: =+NP1+7 -> 43859 | NW1: =+NQ1+7 -> 43860 | NX1: =+NR1+7 -> 43861 | NY1: S11-2/3 | NZ1: =+NT1+7 -> 43864 | OA1: =+NU1+7 -> 43865 | OB1: =+NV1+7 -> 43866 | OC1: =+NW1+7 -> 43867 | OD1: =+NX1+7 -> 43868 | OE1: S12-9/3 | OF1: =+NZ1+7 -> 43871 | OG1: =+OA1+7 -> 43872 | OH1: =+OB1+7 -> 43873 | OI1: =+OC1+7 -> 43874 | OJ1: =+OD1+7 -> 43875 | OK1: S13-16/3 | OL1: =+OF1+7 -> 43878 | OM1: =+OG1+7 -> 43879 | ON1: =+OH1+7 -> 43880 | OO1: =+OI1+7 -> 43881 | OP1: =+OJ1+7 -> 43882 | OQ1: S14-23/3 | OR1: =+OL1+7 -> 43885 | OS1: =+OM1+7 -> 43886 | OT1: =+ON1+7 -> 43887 | OU1: =+OO1+7 -> 43888 | OV1: =+OP1+7 -> 43889
A2: a | B2: 23 | C2: 8 | D2: 0 | E2: 15 | G2: 5 | J2: 0 | P2: =(B25+B2)-(SUM(Q2:U2)) -> 23 | V2: =(B25+B2)-(SUM(W2:AA2)) -> 23 | AB2: 0 | AH2: =(B25+B2)-(SUM(AI2:AM2)) -> 23 | AN2: =(B25+B2)-(SUM(AO2:AS2)) -> -14 | AO2: 37 | AT2: 0 | AZ2: =(B25+B2)-(SUM(BA2:BE2)) -> 23 | BF2: =(B25+B2)-(SUM(BG2:BK2)) -> -14 | BG2: 12 | BI2: 25 | BL2: 0 | BR2: 0 | BT2: 15 | BX2: 0 | BY2: =(B25+B2)-(SUM(BZ2:CD2)) -> 23 | CE2: =(B25+B2)-(SUM(CF2:CJ2)) -> -1 | CI2: 24 | CK2: =(B25+B2)-(SUM(CL2:CP2)) -> -1 | CM2: 24 | CQ2: =(B25+B2)-(SUM(CR2:CV2)) -> 23 | CW2: =(B25+B2)-(SUM(CX2:DB2)) -> 23 | DC2: =(B25+B2)-(SUM(DD2:DH2)) -> 23 | DI2: =($C25+$C2)-(SUM(DJ2:DN2)) -> -16 | DK2: 24 | DO2: =($C25+$C2)-(SUM(DP2:DT2)) -> 8 | DU2: =ROUNDDOWN(($C2+$C25)*4/5,0)-SUM(DV2:DZ2) -> 6 | EA2: =ROUNDDOWN(($C2+$C25)*4/5,0)-SUM(EB2:EF2) -> -13 | EC2: 19 | EG2: =($C25+$C2)-(SUM(EH2:EL2)) -> 8 | EM2: =($C25+$C2)-(SUM(EN2:ER2)) -> 8 | ES2: =ROUNDDOWN(($C2+$C25)*4/5,0)-SUM(ET2:EX2) -> 6 | EY2: =($C25+$C2)-(SUM(EZ2:FD2)) -> 8 | FE2: =ROUNDDOWN(($C2+$C25)*4/5,0)-SUM(FF2:FJ2) -> -13 | FF2: 19 | FK2: =($C25+$C2)-(SUM(FL2:FP2)) -> 8 | FQ2: =($C25+$C2)-(SUM(FR2:FV2)) -> 8 | FW2: =($C25+$C2)-(SUM(FX2:GB2)) -> 8 | GC2: =($C25+$C2)-(SUM(GD2:GH2)) -> 8 | GI2: =(18)-(SUM(GJ2:GN2)) -> 18 | GO2: =(16)-(SUM(GP2:GT2)) -> 16 | GU2: 0 | HA2: 0 | HG2: 0 | HM2: 0 | HS2: 0 | HY2: 0 | IE2: 0 | IK2: =($C25+$C2)-(SUM(IL2:IP2)) -> 8 | IQ2: =($C25+$C2)-(SUM(IR2:IV2)) -> 8 | IW2: =($C25+$C2)-(SUM(IX2:JB2)) -> -7 | IY2: 15 | JC2: =($C25+$C2)-(SUM(JD2:JH2)) -> -4 | JG2: 12 | JI2: =($C25+$C2)-(SUM(JJ2:JN2)) -> 8 | JO2: =($C25+$C2)-(SUM(JP2:JT2)) -> 1 | JP2: 7 | JU2: =($C25+$C2)-(SUM(JV2:JZ2)) -> -26 | JV2: 18 | JX2: 16 | KA2: =($C25+$C2)-(SUM(KB2:KF2)) -> -7 | KE2: 15 | KG2: =($C25+$C2)-(SUM(KH2:KL2)) -> -26 | KJ2: 34 | KM2: =($C25+$C2)-(SUM(KN2:KR2)) -> 8 | KS2: =($C25+$C2)-(SUM(KT2:KX2)) -> 8 | KY2: =($C25+$C2)-(SUM(KZ2:LD2)) -> -26 | KZ2: 9 | LC2: 25 | LE2: =($C25+$C2)-(SUM(LF2:LJ2)) -> 8 | LK2: =($C25+$C2)-(SUM(LL2:LP2)) -> -10 | LL2: 18 | LQ2: 0 | LW2: 0 | MC2: =($C25+$C2)-(SUM(MD2:MH2)) -> 8 | MI2: =($C25+$C2)-(SUM(MJ2:MN2)) -> -26 | ML2: 34 | MO2: 0 | MU2: =($C25+$C2)-(SUM(MV2:MZ2)) -> 8 | NA2: =($C25+$C2)-(SUM(NB2:NF2)) -> 8 | NG2: =($C25+$C2)-(SUM(NH2:NL2)) -> -23 | NJ2: 19 | NK2: 12 | NM2: =($C25+$C2)-(SUM(NN2:NR2)) -> -23 | NO2: 31 | NS2: =($C25+$C2)-(SUM(NT2:NX2)) -> -11 | NT2: 19 | NY2: =($C25+$C2)-(SUM(NZ2:OD2)) -> -23 | OB2: 31 | OE2: =($C25+$C2)-(SUM(OF2:OJ2)) -> -7 | OI2: 15 | OK2: =($C25+$C2)-(SUM(OL2:OP2)) -> 8 | OQ2: =($B2+$C2)-(SUM(OR2:OV2)) -> 0 | OU2: 31
A3: b | B3: 7 | C3: 35 | D3: =(B26+B3)-(SUM(E3:I3)) -> -47 | E3: 54 | J3: 0 | P3: =(B26+B3)-(SUM(Q3:U3)) -> 7 | V3: =(B26+B3)-(SUM(W3:AA3)) -> 7 | AB3: 0 | AH3: =(B26+B3)-(SUM(AI3:AM3)) -> 7 | AN3: 0 | AT3: 0 | AZ3: =(B26+B3)-(SUM(BA3:BE3)) -> 7 | BF3: 0 | BL3: 0 | BR3: 0 | BX3: 0 | BY3: =(B26+B3)-(SUM(BZ3:CD3)) -> -47 | BZ3: 54 | CE3: =(B26+B3)-(SUM(CF3:CJ3)) -> 7 | CK3: =(B26+B3)-(SUM(CL3:CP3)) -> -48 | CN3: 55 | CQ3: =(B26+B3)-(SUM(CR3:CV3)) -> 7 | CW3: =(B26+B3)-(SUM(CX3:DB3)) -> 7 | DC3: =(B26+B3)-(SUM(DD3:DH3)) -> 7 | DI3: =(B26+B3)-(SUM(DJ3:DN3)) -> -48 | DJ3: 55 | DO3: =($C26+$C3)-(SUM(DP3:DT3)) -> 35 | DU3: =ROUNDDOWN(($C3+$C26)*4/5,0)-SUM(DV3:DZ3) -> 28 | EA3: =ROUNDDOWN(($C3+$C26)*4/5,0)-SUM(EB3:EF3) -> -16 | ED3: 44 | EG3: =($C26+$C3)-(SUM(EH3:EL3)) -> 35 | EM3: =($C26+$C3)-(SUM(EN3:ER3)) -> 35 | ES3: =ROUNDDOWN(($C3+$C26)*4/5,0)-SUM(ET3:EX3) -> 28 | EY3: =($C26+$C3)-(SUM(EZ3:FD3)) -> 2 | FA3: 33 | FE3: =ROUNDDOWN(($C3+$C26)*4/5,0)-SUM(FF3:FJ3) -> 28 | FK3: =($C26+$C3)-(SUM(FL3:FP3)) -> 35 | FQ3: =($C26+$C3)-(SUM(FR3:FV3)) -> -20 | FS3: 55 | FW3: =($C26+$C3)-(SUM(FX3:GB3)) -> 35 | GC3: =($C26+$C3)-(SUM(GD3:GH3)) -> 35 | GI3: =(45)-(SUM(GJ3:GN3)) -> 45 | GO3: =(38)-(SUM(GP3:GT3)) -> 38 | GU3: 0 | HA3: 0 | HG3: 0 | HM3: 0 | HS3: 0 | HY3: 0 | IE3: 0 | IK3: =($C26+$C3)-(SUM(IL3:IP3)) -> 35 | IQ3: =($C26+$C3)-(SUM(IR3:IV3)) -> 35 | IW3: =($C26+$C3)-(SUM(IX3:JB3)) -> 35 | JC3: =($C26+$C3)-(SUM(JD3:JH3)) -> -7 | JG3: 42 | JI3: =($C26+$C3)-(SUM(JJ3:JN3)) -> -7 | JL3: 42 | JO3: =($C26+$C3)-(SUM(JP3:JT3)) -> 2 | JQ3: 33 | JU3: =($C26+$C3)-(SUM(JV3:JZ3)) -> 35 | KA3: =($C26+$C3)-(SUM(KB3:KF3)) -> -7 | KB3: 18 | KC3: 24 | KG3: =($C26+$C3)-(SUM(KH3:KL3)) -> 35 | KM3: =($C26+$C3)-(SUM(KN3:KR3)) -> 35 | KS3: =($C26+$C3)-(SUM(KT3:KX3)) -> 35 | KY3: =($C26+$C3)-(SUM(KZ3:LD3)) -> 35 | LE3: =($C26+$C3)-(SUM(LF3:LJ3)) -> 35 | LK3: =($C26+$C3)-(SUM(LL3:LP3)) -> 35 | LQ3: 0 | LW3: 0 | MC3: =($C26+$C3)-(SUM(MD3:MH3)) -> 0 | MD3: 35 | MI3: =($C26+$C3)-(SUM(MJ3:MN3)) -> 35 | MO3: 0 | MU3: =($C26+$C3)-(SUM(MV3:MZ3)) -> 35 | NA3: =($C26+$C3)-(SUM(NB3:NF3)) -> 35 | NG3: =($C26+$C3)-(SUM(NH3:NL3)) -> -7 | NJ3: 42 | NM3: =($C26+$C3)-(SUM(NN3:NR3)) -> -7 | NO3: 42 | NS3: =($C26+$C3)-(SUM(NT3:NX3)) -> 35 | NY3: =($C26+$C3)-(SUM(NZ3:OD3)) -> -7 | OB3: 42 | OE3: =($C26+$C3)-(SUM(OF3:OJ3)) -> 35 | OK3: =($C26+$C3)-(SUM(OL3:OP3)) -> 35 | OQ3: =($B3+$C3)-(SUM(OR3:OV3)) -> 0 | OU3: 42
A4: c | B4: 35 | C4: 13 | D4: 0 | J4: 0 | P4: =(B27+B4)-(SUM(Q4:U4)) -> 35 | V4: =(B27+B4)-(SUM(W4:AA4)) -> 35 | AB4: 0 | AH4: =(B27+B4)-(SUM(AI4:AM4)) -> -9 | AK4: 44 | AN4: =(B27+B4)-(SUM(AO4:AS4)) -> -9 | AO4: 44 | AT4: 0 | AZ4: =(B27+B4)-(SUM(BA4:BE4)) -> 35 | BF4: =(B27+B4)-(SUM(BG4:BK4)) -> -9 | BG4: 44 | BL4: 0 | BR4: =(B27+B4)-(SUM(BS4:BW4)) -> -9 | BT4: 44 | BX4: 0 | BY4: =(B27+B4)-(SUM(BZ4:CD4)) -> 35 | CE4: =(B27+B4)-(SUM(CF4:CJ4)) -> -24 | CF4: 44 | CI4: 15 | CK4: =(B27+B4)-(SUM(CL4:CP4)) -> -24 | CL4: 42 | CN4: 17 | CQ4: =(B27+B4)-(SUM(CR4:CV4)) -> 35 | CW4: =(B27+B4)-(SUM(CX4:DB4)) -> 25 | CZ4: 10 | DC4: =(B27+B4)-(SUM(DD4:DH4)) -> 35 | DI4: =(B27+B4)-(SUM(DJ4:DN4)) -> -9 | DL4: 34 | DM4: 10 | DO4: =($C27+$C4)-(SUM(DP4:DT4)) -> -5 | DQ4: 18 | DU4: =ROUNDDOWN(($C4+$C27)*4/5,0)-SUM(DV4:DZ4) -> -15 | DX4: 17 | DY4: 8 | EA4: =ROUNDDOWN(($C4+$C27)*4/5,0)-SUM(EB4:EF4) -> -37 | ED4: 47 | EG4: =($C27+$C4)-(SUM(EH4:EL4)) -> 13 | EM4: =($C27+$C4)-(SUM(EN4:ER4)) -> 13 | ES4: =ROUNDDOWN(($C4+$C27)*4/5,0)-SUM(ET4:EX4) -> 3 | EW4: 7 | EY4: =($C27+$C4)-(SUM(EZ4:FD4)) -> 13 | FE4: =ROUNDDOWN(($C4+$C27)*4/5,0)-SUM(FF4:FJ4) -> -37 | FF4: 5 | FH4: 42 | FK4: =($C27+$C4)-(SUM(FL4:FP4)) -> 13 | FQ4: =($C27+$C4)-(SUM(FR4:FV4)) -> -7 | FS4: 20 | FW4: =($C27+$C4)-(SUM(FX4:GB4)) -> -46 | FX4: 59 | GC4: =($C27+$C4)-(SUM(GE4:GH4)) -> -46 | GE4: 59 | GI4: =($C27+$C4)-(SUM(GJ4:GN4)) -> -46 | GJ4: 59 | GO4: =(40)-(SUM(GP4:GT4)) -> 40 | GU4: 0 | HA4: 0 | HG4: 0 | HM4: 0 | HP4: 12 | HS4: 0 | HY4: 0 | IE4: 0 | IK4: =($C27+$C4)-(SUM(IL4:IP4)) -> 13 | IQ4: =($C27+$C4)-(SUM(IR4:IV4)) -> 13 | IW4: =($C27+$C4)-(SUM(IX4:JB4)) -> 2 | IZ4: 11 | JC4: =($C27+$C4)-(SUM(JD4:JH4)) -> -36 | JE4: 49 | JI4: =($C27+$C4)-(SUM(JJ4:JN4)) -> -36 | JL4: 49 | JO4: =($C27+$C4)-(SUM(JP4:JT4)) -> 1 | JQ4: 12 | JU4: =($C27+$C4)-(SUM(JV4:JZ4)) -> -1 | JW4: 14 | KA4: =($C27+$C4)-(SUM(KB4:KF4)) -> -10 | KD4: 5 | KE4: 18 | KG4: =($C27+$C4)-(SUM(KH4:KL4)) -> -36 | KJ4: 49 | KM4: =($C27+$C4)-(SUM(KN4:KR4)) -> 13 | KS4: =($C27+$C4)-(SUM(KT4:KX4)) -> 13 | KY4: =($C27+$C4)-(SUM(KZ4:LD4)) -> -24 | LA4: 10 | LB4: 27 | LE4: =($C27+$C4)-(SUM(LF4:LJ4)) -> 13 | LK4: =($C27+$C4)-(SUM(LL4:LP4)) -> 13 | LQ4: 0 | LW4: 0 | MC4: =($C27+$C4)-(SUM(MD4:MH4)) -> 13 | MI4: =($C27+$C4)-(SUM(MJ4:MN4)) -> 13 | MO4: 0 | MU4: =($C27+$C4)-(SUM(MV4:MZ4)) -> 13 | NA4: =($C27+$C4)-(SUM(NB4:NF4)) -> 13 | NG4: =($C27+$C4)-(SUM(NH4:NL4)) -> -32 | NH4: 14 | NJ4: 31 | NM4: =($C27+$C4)-(SUM(NN4:NR4)) -> -35 | NN4: 48 | NS4: =($C27+$C4)-(SUM(NT4:NX4)) -> -5 | NT4: 18 | NY4: =($C27+$C4)-(SUM(NZ4:OD4)) -> -18 | NZ4: 3 | OB4: 28 | OE4: =($C27+$C4)-(SUM(OF4:OJ4)) -> 13 | OK4: =($C27+$C4)-(SUM(OL4:OP4)) -> 13 | OQ4: =($B4+$C4)-(SUM(OR4:OV4)) -> 30 | OU4: 18
A5: d | B5: 14 | C5: 6 | CE5: =(B28+B5)-(SUM(CF5:CJ5)) -> 14 | CK5: =(B28+B5)-(SUM(CL5:CP5)) -> 14 | CQ5: =(B28+B5)-(SUM(CR5:CV5)) -> 14 | CW5: =(B28+B5)-(SUM(CX5:DB5)) -> -6 | CZ5: 20 | DC5: =(B28+B5)-(SUM(DD5:DH5)) -> -4 | DD5: 9 | DG5: 9 | DI5: =(B28+B5)-(SUM(DJ5:DN5)) -> 9 | DJ5: 5 | DO5: =($C28+$C5)-(SUM(DP5:DT5)) -> -21 | DQ5: 27 | DU5: =ROUNDDOWN(($C5+$C28)*4/5,0)-SUM(DV5:DZ5) -> 4 | EA5: =ROUNDDOWN(($C5+$C28)*4/5,0)-SUM(EB5:EF5) -> -14 | EE5: 18 | EG5: =($C28+$C5)-(SUM(EH5:EL5)) -> 6 | EM5: =($C28+$C5)-(SUM(EN5:ER5)) -> 6 | ES5: =ROUNDDOWN(($C5+$C28)*4/5,0)-SUM(ET5:EX5) -> 4 | EY5: =($C28+$C5)-(SUM(EZ5:FD5)) -> 6 | FE5: =ROUNDDOWN(($C5+$C28)*4/5,0)-SUM(FF5:FJ5) -> -20 | FG5: 10 | FH5: 14 | FK5: =($C28+$C5)-(SUM(FL5:FP5)) -> -25 | FL5: 28 | FN5: 3 | FQ5: =($C28+$C5)-(SUM(FR5:FV5)) -> 6 | FW5: =($C28+$C5)-(SUM(FX5:GB5)) -> 1 | FY5: 5 | GC5: =($C28+$C5)-(SUM(GE5:GH5)) -> -23 | GF5: 29 | GI5: =($C28+$C5)-(SUM(GJ5:GN5)) -> 1 | GL5: 5 | GO5: =(21)-(SUM(GP5:GT5)) -> 2 | GP5: 19 | GU5: 0 | HA5: 0 | HG5: 0 | HM5: 0 | HS5: 0 | HV5: 9 | HY5: 0 | IE5: 0 | IK5: =($C28+$C5)-(SUM(IL5:IP5)) -> 6 | IQ5: =($C28+$C5)-(SUM(IR5:IV5)) -> 6 | IW5: =($C28+$C5)-(SUM(IX5:JB5)) -> -1 | IY5: 7 | JC5: =($C28+$C5)-(SUM(JD5:JH5)) -> -12 | JG5: 18 | JI5: =($C28+$C5)-(SUM(JJ5:JN5)) -> -1 | JK5: 7 | JO5: =($C28+$C5)-(SUM(JP5:JT5)) -> 6 | JU5: =($C28+$C5)-(SUM(JV5:JZ5)) -> 6 | KA5: =($C28+$C5)-(SUM(KB5:KF5)) -> -12 | KB5: 13 | KD5: 5 | KG5: =($C28+$C5)-(SUM(KH5:KL5)) -> 1 | KJ5: 5 | KM5: =($C28+$C5)-(SUM(KN5:KR5)) -> -18 | KP5: =9+12 -> 21 | KQ5: 3 | KS5: =($C28+$C5)-(SUM(KT5:KX5)) -> 6 | KY5: =($C28+$C5)-(SUM(KZ5:LD5)) -> 1 | KZ5: 5 | LE5: =($C28+$C5)-(SUM(LF5:LJ5)) -> 6 | LK5: =($C28+$C5)-(SUM(LL5:LP5)) -> 2 | LL5: 4 | LQ5: 0 | LW5: 0 | MC5: =($C28+$C5)-(SUM(MD5:MH5)) -> -18 | ME5: 24 | MI5: =($C28+$C5)-(SUM(MJ5:MN5)) -> 1 | ML5: 5 | MO5: 0 | MU5: =($C28+$C5)-(SUM(MV5:MZ5)) -> 6 | NA5: =($C28+$C5)-(SUM(NB5:NF5)) -> 6 | NG5: =($C28+$C5)-(SUM(NH5:NL5)) -> -14 | NH5: 20 | NM5: =($C28+$C5)-(SUM(NN5:NR5)) -> 2 | NO5: 3 | NP5: 1 | NS5: =($C28+$C5)-(SUM(NT5:NX5)) -> -14 | NU5: 20 | NY5: =($C28+$C5)-(SUM(NZ5:OD5)) -> -6 | OB5: 12 | OE5: =($C28+$C5)-(SUM(OF5:OJ5)) -> 1 | OI5: 5 | OK5: =($C28+$C5)-(SUM(OL5:OP5)) -> -1 | OM5: 4 | OO5: 3 | OQ5: =($B5+$C5)-(SUM(OR5:OV5)) -> 20
A6: e | B6: 5 | C6: 32 | D6: 0 | J6: 0 | M6: 5 | P6: =(B28+B6)-(SUM(Q6:U6)) -> 5 | V6: =(B28+B6)-(SUM(W6:AA6)) -> 5 | AB6: 0 | AH6: =(B28+B6)-(SUM(AI6:AM6)) -> -42 | AI6: 47 | AN6: 0 | AT6: 0 | AZ6: =(B28+B6)-(SUM(BA6:BE6)) -> 5 | BF6: 0 | BG6: 24 | BL6: 0 | BR6: =(B28+B6)-(SUM(BS6:BW6)) -> -42 | BT6: 25 | BU6: 22 | BX6: 0 | BY6: =(B28+B6)-(SUM(BZ6:CD6)) -> -42 | BZ6: 27 | CC6: 20 | CE6: =(B29+B6)-(SUM(CF6:CJ6)) -> -9 | CF6: 14 | CK6: =(B29+B6)-(SUM(CL6:CP6)) -> -37 | CL6: 42 | CQ6: =(B29+B6)-(SUM(CR6:CV6)) -> -19 | CS6: 24 | CW6: =(B29+B6)-(SUM(CX6:DB6)) -> -37 | CZ6: 28 | DA6: 14 | DC6: =(B29+B6)-(SUM(DD6:DH6)) -> 5 | DI6: =(B29+B6)-(SUM(DJ6:DN6)) -> 5 | DO6: =($C29+$C6)-(SUM(DP6:DT6)) -> 32 | DU6: =ROUNDDOWN(($C6+$C29)*4/5,0)-SUM(DV6:DZ6) -> 1 | DY6: 24 | EA6: =ROUNDDOWN(($C6+$C29)*4/5,0)-SUM(EB6:EF6) -> -3 | EE6: 28 | EG6: =($C29+$C6)-(SUM(EH6:EL6)) -> 32 | EM6: =($C29+$C6)-(SUM(EN6:ER6)) -> 32 | ES6: =ROUNDDOWN(($C6+$C29)*4/5,0)-SUM(ET6:EX6) -> -8 | EW6: 33 | EY6: =($C29+$C6)-(SUM(EZ6:FD6)) -> 32 | FE6: =ROUNDDOWN(($C6+$C29)*4/5,0)-SUM(FF6:FJ6) -> 25 | FK6: =($C29+$C6)-(SUM(FL6:FP6)) -> 32 | FQ6: =($C29+$C6)-(SUM(FR6:FV6)) -> 32 | FW6: =($C29+$C6)-(SUM(FX6:GB6)) -> -10 | FY6: 24 | GA6: 18 | GC6: =($C29+$C6)-(SUM(GE6:GH6)) -> -10 | GF6: 42 | GI6: =($C29+$C6)-(SUM(GJ6:GN6)) -> 32 | GO6: =(29)-(SUM(GP6:GT6)) -> 5 | GQ6: 24 | GU6: 0 | HA6: 0 | HG6: 0 | HM6: 0 | HS6: 0 | HY6: 0 | IE6: 0 | IK6: =($C29+$C6)-(SUM(IL6:IP6)) -> 32 | IQ6: =($C29+$C6)-(SUM(IR6:IV6)) -> 32 | IW6: =($C29+$C6)-(SUM(IX6:JB6)) -> 32 | JC6: =($C29+$C6)-(SUM(JD6:JH6)) -> 32 | JI6: =($C29+$C6)-(SUM(JJ6:JN6)) -> 0 | JL6: 32 | JO6: =($C29+$C6)-(SUM(JP6:JT6)) -> 0 | JS6: 32 | JU6: =($C29+$C6)-(SUM(JV6:JZ6)) -> 32 | KA6: =($C29+$C6)-(SUM(KB6:KF6)) -> 0 | KC6: 24 | KE6: 8 | KG6: =($C29+$C6)-(SUM(KH6:KL6)) -> 32 | KM6: =($C29+$C6)-(SUM(KN6:KR6)) -> 4 | KP6: 28 | KS6: =($C29+$C6)-(SUM(KT6:KX6)) -> 32 | KY6: =($C29+$C6)-(SUM(KZ6:LD6)) -> 32 | LE6: =($C29+$C6)-(SUM(LF6:LJ6)) -> 32 | LK6: =($C29+$C6)-(SUM(LL6:LP6)) -> 0 | LL6: 32 | LQ6: 0 | LW6: 0 | MC6: =($C29+$C6)-(SUM(MD6:MH6)) -> 8 | MG6: 24 | MI6: =($C29+$C6)-(SUM(MJ6:MN6)) -> 32 | MO6: 0 | MU6: =($C29+$C6)-(SUM(MV6:MZ6)) -> 32 | NA6: =($C29+$C6)-(SUM(NB6:NF6)) -> 32 | NG6: =($C29+$C6)-(SUM(NH6:NL6)) -> 32 | NM6: =($C29+$C6)-(SUM(NN6:NR6)) -> 13 | NO6: 19 | NS6: =($C29+$C6)-(SUM(NT6:NX6)) -> 32 | NY6: =($C29+$C6)-(SUM(NZ6:OD6)) -> 8 | OB6: 24 | OE6: =($C29+$C6)-(SUM(OF6:OJ6)) -> -5 | OI6: 37 | OK6: =($C29+$C6)-(SUM(OL6:OP6)) -> 32 | OQ6: =($B6+$C6)-(SUM(OR6:OV6)) -> -23 | OS6: 60
A7: f | B7: 18 | C7: 8 | D7: 0 | J7: =(B30+B7)-(SUM(K7:O7)) -> -8 | K7: 26 | P7: =(B30+B7)-(SUM(Q7:U7)) -> 18 | V7: =(B30+B7)-(SUM(W7:AA7)) -> 18 | AB7: 0 | AH7: =(B30+B7)-(SUM(AI7:AM7)) -> 18 | AN7: =(B30+B7)-(SUM(AO7:AS7)) -> -8 | AO7: 26 | AT7: 0 | AZ7: 0 | BF7: 0 | BG7: 1 | BL7: 0 | BR7: 0 | BT7: 13 | BX7: 0 | BY7: =(B30+B7)-(SUM(BZ7:CD7)) -> 18 | CE7: =(B30+B7)-(SUM(CF7:CJ7)) -> -7 | CF7: 14 | CG7: 11 | CK7: =(B30+B7)-(SUM(CL7:CP7)) -> 3 | CL7: 9 | CN7: 6 | CQ7: =(B30+B7)-(SUM(CR7:CV7)) -> 9 | CR7: 6 | CS7: 3 | CW7: =(B30+B7)-(SUM(CX7:DB7)) -> -12 | CY7: 14 | CZ7: 16 | DC7: =(B30+B7)-(SUM(DD7:DH7)) -> -12 | DD7: 30 | DI7: =(B30+B7)-(SUM(DJ7:DN7)) -> 4 | DJ7: 2 | DL7: 12 | DO7: =($C30+$C7)-(SUM(DP7:DT7)) -> 8 | DU7: =ROUNDDOWN(($C7+$C30)*4/5,0)-SUM(DV7:DZ7) -> -18 | DX7: 24 | EA7: =ROUNDDOWN(($C7+$C30)*4/5,0)-SUM(EB7:EF7) -> -18 | EC7: 24 | EG7: =($C30+$C7)-(SUM(EH7:EL7)) -> -6 | EJ7: 14 | EM7: =($C30+$C7)-(SUM(EN7:ER7)) -> -7 | EQ7: 15 | ES7: =ROUNDDOWN(($C7+$C30)*4/5,0)-SUM(ET7:EX7) -> -1 | ET7: 7 | EY7: =($C30+$C7)-(SUM(EZ7:FD7)) -> 8 | FE7: =ROUNDDOWN(($C7+$C30)*4/5,0)-SUM(FF7:FJ7) -> -15 | FH7: 18 | FI7: 3 | FK7: =($C30+$C7)-(SUM(FL7:FP7)) -> 8 | FQ7: =($C30+$C7)-(SUM(FR7:FV7)) -> 8 | FW7: =($C30+$C7)-(SUM(FX7:GB7)) -> -6 | FY7: 14 | GC7: =($C30+$C7)-(SUM(GE7:GH7)) -> -20 | GE7: 9 | GF7: 19 | GI7: =($C30+$C7)-(SUM(GJ7:GN7)) -> 8 | GO7: =(19)-(SUM(GP7:GT7)) -> 19 | GU7: 0 | HA7: 0 | HG7: 0 | HM7: 0 | HS7: 0 | HY7: 0 | IE7: 0 | IK7: =($C30+$C7)-(SUM(IL7:IP7)) -> 8 | IQ7: =($C30+$C7)-(SUM(IR7:IV7)) -> 8 | IW7: =($C30+$C7)-(SUM(IX7:JB7)) -> 5 | IX7: 3 | JC7: =($C30+$C7)-(SUM(JD7:JH7)) -> 8 | JI7: =($C30+$C7)-(SUM(JJ7:JN7)) -> 6 | JL7: 2 | JO7: =($C30+$C7)-(SUM(JP7:JT7)) -> -18 | JP7: 26 | JU7: =($C30+$C7)-(SUM(JV7:JZ7)) -> 2 | JX7: 6 | KA7: =($C30+$C7)-(SUM(KB7:KF7)) -> 5 | KB7: 3 | KG7: =($C30+$C7)-(SUM(KH7:KL7)) -> 8 | KM7: =($C30+$C7)-(SUM(KN7:KR7)) -> 8 | KS7: =($C30+$C7)-(SUM(KT7:KX7)) -> 8 | KY7: =($C30+$C7)-(SUM(KZ7:LD7)) -> -12 | KZ7: 3 | LC7: 17 | LE7: =($C30+$C7)-(SUM(LF7:LJ7)) -> 8 | LK7: =($C30+$C7)-(SUM(LL7:LP7)) -> 3 | LL7: 5 | LQ7: 0 | LW7: 0 | MC7: =($C30+$C7)-(SUM(MD7:MH7)) -> -18 | MF7: 26 | MI7: =($C30+$C7)-(SUM(MJ7:MN7)) -> 2 | ML7: 6 | MO7: 0 | MU7: =($C30+$C7)-(SUM(MV7:MZ7)) -> 8 | NA7: =($C30+$C7)-(SUM(NB7:NF7)) -> 2 | NB7: 6 | NG7: =($C30+$C7)-(SUM(NH7:NL7)) -> -18 | NJ7: 26 | NM7: =($C30+$C7)-(SUM(NN7:NR7)) -> -18 | NO7: 9 | NP7: 17 | NS7: =($C30+$C7)-(SUM(NT7:NX7)) -> 8 | NY7: =($C30+$C7)-(SUM(NZ7:OD7)) -> -18 | NZ7: 26 | OE7: =($C30+$C7)-(SUM(OF7:OJ7)) -> 3 | OI7: 5 | OK7: =($C30+$C7)-(SUM(OL7:OP7)) -> 8 | OQ7: =($B7+$C7)-(SUM(OR7:OV7)) -> 0 | OT7: 5 | OU7: 21
A8: g | B8: 10 | C8: 8 | D8: 0 | J8: 0 | L8: 6 | P8: =(B31+B8)-(SUM(Q8:U8)) -> 10 | V8: =(B31+B8)-(SUM(W8:AA8)) -> 10 | AB8: 0 | AC8: 4 | AH8: =(B31+B8)-(SUM(AI8:AM8)) -> 5 | AK8: 5 | AN8: 0 | AO8: 8 | AT8: 0 | AZ8: =(B31+B8)-(SUM(BA8:BE8)) -> 10 | BF8: 0 | BL8: 0 | BM8: 7 | BR8: 0 | BT8: 8 | BX8: 0 | BY8: =(B31+B8)-(SUM(BZ8:CD8)) -> 10 | CE8: =(B31+B8)-(SUM(CF8:CJ8)) -> 10 | CK8: =(B31+B8)-(SUM(CL8:CP8)) -> -7 | CL8: 17 | CQ8: =(B31+B8)-(SUM(CR8:CV8)) -> 1 | CS8: 9 | CW8: =(B31+B8)-(SUM(CX8:DB8)) -> -7 | CZ8: 6 | DA8: 11 | DC8: =(B31+B8)-(SUM(DD8:DH8)) -> 10 | DI8: 0 | DO8: 0 | DU8: =ROUNDDOWN(($C8+$C31)*4/5,0)-SUM(DV8:DZ8) -> 1 | DV8: 5 | EA8: =ROUNDDOWN(($C8+$C31)*4/5,0)-SUM(EB8:EF8) -> -7 | EB8: 9 | EE8: 4 | EG8: =($C31+$C8)-(SUM(EH8:EL8)) -> -9 | EJ8: 17 | EM8: =($C31+$C8)-(SUM(EN8:ER8)) -> -1 | EO8: 4 | EQ8: 5 | ES8: =ROUNDDOWN(($C8+$C31)*4/5,0)-SUM(ET8:EX8) -> 2 | EW8: 4 | EY8: =($C31+$C8)-(SUM(EZ8:FD8)) -> 8 | FE8: =ROUNDDOWN(($C8+$C31)*4/5,0)-SUM(FF8:FJ8) -> -7 | FF8: 13 | FK8: =($C31+$C8)-(SUM(FL8:FP8)) -> -4 | FN8: 12 | FQ8: =($C31+$C8)-(SUM(FR8:FV8)) -> 8 | FW8: =($C31+$C8)-(SUM(FX8:GB8)) -> -9 | FY8: 17 | GC8: =($C31+$C8)-(SUM(GE8:GH8)) -> -9 | GE8: 17 | GI8: =($C31+$C8)-(SUM(GJ8:GN8)) -> 8 | GO8: =($C31+$C8)-(SUM(GP8:GT8)) -> 8 | GU8: 0 | HA8: 0 | HG8: 0 | HM8: 0 | HS8: 0 | HY8: 0 | IE8: 0 | IK8: =($C31+$C8)-(SUM(IL8:IP8)) -> 8 | IQ8: =($C31+$C8)-(SUM(IR8:IV8)) -> 8 | IW8: =($C31+$C8)-(SUM(IX8:JB8)) -> -2 | IX8: 10 | JC8: =($C31+$C8)-(SUM(JD8:JH8)) -> 3 | JG8: 5 | JI8: =($C31+$C8)-(SUM(JJ8:JN8)) -> -4 | JJ8: 7 | JM8: 5 | JO8: =($C31+$C8)-(SUM(JP8:JT8)) -> 8 | JU8: =($C31+$C8)-(SUM(JV8:JZ8)) -> 8 | KA8: =($C31+$C8)-(SUM(KB8:KF8)) -> -12 | KB8: 20 | KG8: =($C31+$C8)-(SUM(KH8:KL8)) -> 8 | KM8: =($C31+$C8)-(SUM(KN8:KR8)) -> 6 | KO8: 2 | KS8: =($C31+$C8)-(SUM(KT8:KX8)) -> 8 | KY8: =($C31+$C8)-(SUM(KZ8:LD8)) -> -12 | LC8: 20 | LE8: =($C31+$C8)-(SUM(LF8:LJ8)) -> 0 | LI8: 8 | LK8: =($C31+$C8)-(SUM(LL8:LP8)) -> -12 | LL8: 20 | LQ8: 0 | LW8: 0 | MC8: =($C31+$C8)-(SUM(MD8:MH8)) -> -12 | MF8: 20 | MI8: =($C31+$C8)-(SUM(MJ8:MN8)) -> -12 | ML8: 20 | MO8: 0 | MU8: =($C31+$C8)-(SUM(MV8:MZ8)) -> 8 | NA8: =($C31+$C8)-(SUM(NB8:NF8)) -> -2 | NC8: 10 | NG8: =($C31+$C8)-(SUM(NH8:NL8)) -> 3 | NH8: 5 | NM8: =($C31+$C8)-(SUM(NN8:NR8)) -> -10 | NN8: 18 | NS8: =($C31+$C8)-(SUM(NT8:NX8)) -> -10 | NT8: 18 | NY8: =($C31+$C8)-(SUM(NZ8:OD8)) -> 8 | OE8: =($C31+$C8)-(SUM(OF8:OJ8)) -> -2 | OI8: 10 | OK8: =($C31+$C8)-(SUM(OL8:OP8)) -> -10 | OM8: 18 | OQ8: =($B8+$C8)-(SUM(OR8:OV8)) -> 0 | OT8: 15 | OU8: 3
A9: h | B9: 64 | C9: 5 | D9: =(B32+B9)-(SUM(E9:I9)) -> 1 | G9: 63 | J9: 0 | K9: 11 | L9: 12 | P9: =(B32+B9)-(SUM(Q9:U9)) -> 64 | V9: =(B32+B9)-(SUM(W9:AA9)) -> 64 | AB9: 0 | AH9: =(B32+B9)-(SUM(AI9:AM9)) -> 1 | AI9: 63 | AN9: =(B32+B9)-(SUM(AO9:AS9)) -> 1 | AO9: 63 | AT9: 0 | AZ9: =(B32+B9)-(SUM(BA9:BE9)) -> 34 | BC9: 30 | BF9: 0 | BG9: 21 | BL9: 0 | BR9: 0 | BX9: 0 | BY9: =(B32+B9)-(SUM(BZ9:CD9)) -> 1 | BZ9: 33 | CC9: 30 | CE9: =(B32+B9)-(SUM(CF9:CJ9)) -> 48 | CI9: 16 | CK9: =(B32+B9)-(SUM(CL9:CP9)) -> -10 | CL9: 35 | CM9: 39 | CQ9: =(B32+B9)-(SUM(CR9:CV9)) -> 64 | CW9: =(B32+B9)-(SUM(CX9:DB9)) -> -10 | CX9: 74 | DC9: =(B32+B9)-(SUM(DD9:DH9)) -> 31 | DE9: 33 | DI9: =(B32+B9)-(SUM(DJ9:DN9)) -> -10 | DM9: 74 | DO9: =($C32+$C9)-(SUM(DP9:DT9)) -> 5 | DU9: =ROUNDDOWN(($C9+$C32)*4/5,0)-SUM(DV9:DZ9) -> -55 | DV9: 59 | EA9: =ROUNDDOWN(($C9+$C32)*4/5,0)-SUM(EB9:EF9) -> -55 | EB9: 59 | EG9: =($C32+$C9)-(SUM(EH9:EL9)) -> 5 | EM9: =($C32+$C9)-(SUM(EN9:ER9)) -> -6 | EP9: 11 | ES9: =ROUNDDOWN(($C9+$C32)*4/5,0)-SUM(ET9:EX9) -> 4 | EY9: =($C32+$C9)-(SUM(EZ9:FD9)) -> -38 | EZ9: 20 | FA9: 23 | FE9: =ROUNDDOWN(($C9+$C32)*4/5,0)-SUM(FF9:FJ9) -> -55 | FG9: 28 | FH9: 31 | FK9: =($C32+$C9)-(SUM(FL9:FP9)) -> -69 | FL9: 74 | FQ9: =($C32+$C9)-(SUM(FR9:FV9)) -> 5 | FW9: =($C32+$C9)-(SUM(FX9:GB9)) -> -69 | FX9: 21 | FY9: 53 | GC9: =($C32+$C9)-(SUM(GE9:GH9)) -> -69 | GE9: 74 | GI9: =($C32+$C9)-(SUM(GJ9:GN9)) -> -69 | GK9: 74 | GO9: =($C32+$C9)-(SUM(GP9:GT9)) -> 0 | GP9: 5 | GU9: 0 | HA9: 0 | HG9: 0 | HM9: 0 | HS9: 0 | HT9: 13 | HY9: 0 | IE9: 0 | IK9: =($C32+$C9)-(SUM(IL9:IP9)) -> 5 | IQ9: =($C32+$C9)-(SUM(IR9:IV9)) -> -73 | IR9: 75 | IT9: 3 | IW9: =($C32+$C9)-(SUM(IX9:JB9)) -> 5 | JC9: =($C32+$C9)-(SUM(JD9:JH9)) -> -73 | JE9: 71 | JG9: 7 | JI9: =($C32+$C9)-(SUM(JJ9:JN9)) -> -73 | JK9: 78 | JO9: =($C32+$C9)-(SUM(JP9:JT9)) -> -73 | JP9: 60 | JR9: 18 | JU9: =($C32+$C9)-(SUM(JV9:JZ9)) -> 5 | KA9: =($C32+$C9)-(SUM(KB9:KF9)) -> -73 | KB9: 31 | KC9: 41 | KE9: 6 | KG9: =($C32+$C9)-(SUM(KH9:KL9)) -> 5 | KM9: =($C32+$C9)-(SUM(KN9:KR9)) -> -53 | KN9: 10 | KO9: 48 | KS9: =($C32+$C9)-(SUM(KT9:KX9)) -> 5 | KY9: =($C32+$C9)-(SUM(KZ9:LD9)) -> -18 | LA9: 23 | LE9: =($C32+$C9)-(SUM(LF9:LJ9)) -> 5 | LK9: =($C32+$C9)-(SUM(LL9:LP9)) -> -9 | LL9: 14 | LQ9: 0 | LW9: 0 | MC9: =($C32+$C9)-(SUM(MD9:MH9)) -> -18 | MD9: 23 | MI9: =($C32+$C9)-(SUM(MJ9:MN9)) -> -63 | MK9: 47 | ML9: 21 | MO9: 0 | MU9: =($C32+$C9)-(SUM(MV9:MZ9)) -> 5 | NA9: =($C32+$C9)-(SUM(NB9:NF9)) -> 5 | NG9: =($C32+$C9)-(SUM(NH9:NL9)) -> -11 | NI9: 16 | NM9: =($C32+$C9)-(SUM(NN9:NR9)) -> -59 | NP9: 12 | NQ9: 52 | NS9: =($C32+$C9)-(SUM(NT9:NX9)) -> -64 | NT9: 69 | NY9: =($C32+$C9)-(SUM(NZ9:OD9)) -> -3 | NZ9: 8 | OE9: =($C32+$C9)-(SUM(OF9:OJ9)) -> -49 | OG9: 7 | OH9: 39 | OI9: 8 | OK9: =($C32+$C9)-(SUM(OL9:OP9)) -> 2 | OO9: 3 | OQ9: =($B9+$C9)-(SUM(OR9:OV9)) -> 0 | OR9: 14 | OS9: 9 | OU9: 46
A10: i | B10: 14 | C10: 8 | D10: 0 | J10: 0 | P10: =(B33+B10)-(SUM(Q10:U10)) -> 14 | V10: =(B33+B10)-(SUM(W10:AA10)) -> 14 | AB10: 0 | AH10: =(B33+B10)-(SUM(AI10:AM10)) -> -4 | AI10: 12 | AK10: 3 | AL10: 3 | AN10: 0 | AP10: 5 | AT10: 0 | AZ10: =(B33+B10)-(SUM(BA10:BE10)) -> 3 | BC10: 11 | BF10: 0 | BG10: 18 | BL10: 0 | BR10: 0 | BT10: 2 | BX10: 0 | BY10: =(B33+B10)-(SUM(BZ10:CD10)) -> 6 | CC10: 8 | CE10: =(B33+B10)-(SUM(CF10:CJ10)) -> 9 | CF10: 3 | CG10: 2 | CK10: =(B33+B10)-(SUM(CL10:CP10)) -> -7 | CL10: 16 | CN10: 5 | CQ10: =(B33+B10)-(SUM(CR10:CV10)) -> 12 | CU10: 2 | CW10: =(B33+B10)-(SUM(CX10:DB10)) -> -14 | CX10: 7 | CY10: 3 | CZ10: 15 | DA10: 3 | DC10: =(B33+B10)-(SUM(DD10:DH10)) -> -4 | DD10: 7 | DG10: 11 | DI10: =(B33+B10)-(SUM(DJ10:DN10)) -> -14 | DJ10: 6 | DL10: 14 | DM10: 8 | DO10: =($C33+$C10)-(SUM(DP10:DT10)) -> -8 | DR10: 16 | DU10: =ROUNDDOWN(($C10+$C33)*4/5,0)-SUM(DV10:DZ10) -> -16 | DX10: 22 | EA10: =ROUNDDOWN(($C10+$C33)*4/5,0)-SUM(EB10:EF10) -> -16 | EB10: 22 | EG10: =($C33+$C10)-(SUM(EH10:EL10)) -> 8 | EM10: =($C33+$C10)-(SUM(EN10:ER10)) -> 8 | ES10: =ROUNDDOWN(($C10+$C33)*4/5,0)-SUM(ET10:EX10) -> 6 | EY10: =($C33+$C10)-(SUM(EZ10:FD10)) -> 4 | FA10: 4 | FE10: =ROUNDDOWN(($C10+$C33)*4/5,0)-SUM(FF10:FJ10) -> -16 | FF10: 2 | FH10: 20 | FK10: =($C33+$C10)-(SUM(FL10:FP10)) -> 8 | FQ10: =($C33+$C10)-(SUM(FR10:FV10)) -> 5 | FS10: 3 | FW10: =($C33+$C10)-(SUM(FX10:GB10)) -> -8 | FX10: 2 | FY10: 8 | GA10: 6 | GC10: =($C33+$C10)-(SUM(GE10:GH10)) -> -5 | GE10: 10 | GF10: 3 | GI10: =($C33+$C10)-(SUM(GJ10:GN10)) -> -12 | GJ10: 7 | GK10: 13 | GO10: =($C33+$C10)-(SUM(GP10:GT10)) -> 3 | GP10: 2 | GR10: 3 | GU10: 0 | HA10: 0 | HG10: 0 | HM10: 0 | HS10: 0 | HY10: 0 | IE10: 0 | IK10: =($C33+$C10)-(SUM(IL10:IP10)) -> 8 | IQ10: =($C33+$C10)-(SUM(IR10:IV10)) -> -10 | IR10: 17 | IT10: 1 | IW10: =($C33+$C10)-(SUM(IX10:JB10)) -> -1 | IX10: 6 | IZ10: 3 | JC10: =($C33+$C10)-(SUM(JD10:JH10)) -> -6 | JG10: 14 | JI10: =($C33+$C10)-(SUM(JJ10:JN10)) -> -1 | JL10: 9 | JO10: =($C33+$C10)-(SUM(JP10:JT10)) -> 3 | JQ10: 3 | JS10: 2 | JU10: =($C33+$C10)-(SUM(JV10:JZ10)) -> 1 | JX10: 7 | KA10: =($C33+$C10)-(SUM(KB10:KF10)) -> -17 | KB10: 9 | KC10: 16 | KG10: =($C33+$C10)-(SUM(KH10:KL10)) -> -7 | KJ10: 15 | KM10: =($C33+$C10)-(SUM(KN10:KR10)) -> 8 | KS10: =($C33+$C10)-(SUM(KT10:KX10)) -> 8 | KY10: =($C33+$C10)-(SUM(KZ10:LD10)) -> -17 | KZ10: 5 | LA10: 20 | LE10: =($C33+$C10)-(SUM(LF10:LJ10)) -> 6 | LI10: 2 | LK10: =($C33+$C10)-(SUM(LL10:LP10)) -> -12 | LL10: 2 | LN10: 7 | LO10: 11 | LQ10: 0 | LW10: 0 | MC10: =($C33+$C10)-(SUM(MD10:MH10)) -> 0 | MG10: 8 | MI10: =($C33+$C10)-(SUM(MJ10:MN10)) -> -10 | ML10: 18 | MO10: 0 | MU10: =($C33+$C10)-(SUM(MV10:MZ10)) -> 8 | NA10: =($C33+$C10)-(SUM(NB10:NF10)) -> -14 | NB10: 8 | NC10: 14 | NG10: =($C33+$C10)-(SUM(NH10:NL10)) -> -14 | NH10: 22 | NM10: =($C33+$C10)-(SUM(NN10:NR10)) -> 3 | NO10: 3 | NP10: 2 | NS10: =($C33+$C10)-(SUM(NT10:NX10)) -> 6 | NT10: 2 | NY10: =($C33+$C10)-(SUM(NZ10:OD10)) -> -3 | OB10: 11 | OE10: =($C33+$C10)-(SUM(OF10:OJ10)) -> -13 | OG10: 16 | OI10: 5 | OK10: =($C33+$C10)-(SUM(OL10:OP10)) -> 6 | OM10: 2 | OQ10: =($B10+$C10)-(SUM(OR10:OV10)) -> 0 | OT10: 22
A11: j | B11: 12 | C11: 10 | D11: =(B34+B11)-(SUM(E11:I11)) -> -6 | E11: 8 | G11: 10 | J11: 0 | P11: =(B34+B11)-(SUM(Q11:U11)) -> 12 | V11: =(B34+B11)-(SUM(W11:AA11)) -> 12 | AB11: 0 | AC11: 4 | AH11: =(B34+B11)-(SUM(AI11:AM11)) -> -2 | AI11: 2 | AJ11: 6 | AK11: 3 | AL11: 3 | AN11: 0 | AO11: 3 | AT11: 0 | AZ11: =(B34+B11)-(SUM(BA11:BE11)) -> 12 | BF11: =(B34+B11)-(SUM(BG11:BK11)) -> -6 | BG11: 18 | BL11: 0 | BR11: =(B34+B11)-(SUM(BS11:BW11)) -> -6 | BT11: 18 | BX11: 0 | BY11: =(B34+B11)-(SUM(BZ11:CD11)) -> 2 | BZ11: 2 | CC11: 8 | CE11: =(B34+B11)-(SUM(CF11:CJ11)) -> 6 | CF11: 6 | CK11: =(B34+B11)-(SUM(CL11:CP11)) -> -9 | CL11: 21 | CQ11: =(B34+B11)-(SUM(CR11:CV11)) -> -9 | CR11: 7 | CS11: 14 | CW11: =(B34+B11)-(SUM(CX11:DB11)) -> -9 | CZ11: 21 | DC11: =(B34+B11)-(SUM(DD11:DH11)) -> -9 | DD11: 5 | DE11: 10 | DG11: 6 | DI11: =(B34+B11)-(SUM(DJ11:DN11)) -> -2 | DJ11: 4 | DL11: 10 | DO11: =($C34+$C11)-(SUM(DP11:DT11)) -> 10 | DU11: =ROUNDDOWN(($C11+$C34)*4/5,0)-SUM(DV11:DZ11) -> -8 | DV11: 2 | DX11: 14 | EA11: =ROUNDDOWN(($C11+$C34)*4/5,0)-SUM(EB11:EF11) -> -7 | ED11: 6 | EE11: 9 | EG11: =($C34+$C11)-(SUM(EH11:EL11)) -> 10 | EM11: =($C34+$C11)-(SUM(EN11:ER11)) -> 6 | EO11: 2 | EQ11: 2 | ES11: =ROUNDDOWN(($C11+$C34)*4/5,0)-SUM(ET11:EX11) -> 8 | EY11: =($C34+$C11)-(SUM(EZ11:FD11)) -> -3 | EZ11: 2 | FA11: 11 | FE11: =ROUNDDOWN(($C11+$C34)*4/5,0)-SUM(FF11:FJ11) -> -7 | FF11: 3 | FG11: 5 | FI11: 7 | FK11: =($C34+$C11)-(SUM(FL11:FP11)) -> 10 | FQ11: =($C34+$C11)-(SUM(FR11:FV11)) -> 5 | FS11: 5 | FW11: =($C34+$C11)-(SUM(FX11:GB11)) -> -11 | FX11: 21 | GC11: =($C34+$C11)-(SUM(GE11:GH11)) -> -11 | GE11: 21 | GI11: =($C34+$C11)-(SUM(GJ11:GN11)) -> 4 | GK11: 6 | GO11: =($C34+$C11)-(SUM(GP11:GT11)) -> -11 | GP11: 17 | GQ11: 4 | GU11: 0 | HA11: 0 | HG11: 0 | HM11: 0 | HS11: 0 | HY11: 0 | IE11: 0 | IK11: =($C34+$C11)-(SUM(IL11:IP11)) -> 10 | IQ11: =($C34+$C11)-(SUM(IR11:IV11)) -> 6 | IS11: 4 | IW11: =($C34+$C11)-(SUM(IX11:JB11)) -> 8 | IX11: 2 | JC11: =($C34+$C11)-(SUM(JD11:JH11)) -> 0 | JE11: 10 | JI11: =($C34+$C11)-(SUM(JJ11:JN11)) -> 4 | JK11: 3 | JM11: 3 | JO11: =($C34+$C11)-(SUM(JP11:JT11)) -> -12 | JS11: 22 | JU11: =($C34+$C11)-(SUM(JV11:JZ11)) -> 7 | JW11: 3 | KA11: =($C34+$C11)-(SUM(KB11:KF11)) -> -12 | KB11: 18 | KC11: 4 | KG11: =($C34+$C11)-(SUM(KH11:KL11)) -> 3 | KJ11: 5 | KK11: 2 | KM11: =($C34+$C11)-(SUM(KN11:KR11)) -> 1 | KO11: 1 | KP11: 8 | KS11: =($C34+$C11)-(SUM(KT11:KX11)) -> 10 | KY11: =($C34+$C11)-(SUM(KZ11:LD11)) -> -9 | LA11: 7 | LB11: 4 | LC11: 8 | LE11: =($C34+$C11)-(SUM(LF11:LJ11)) -> -7 | LI11: 17 | LK11: =($C34+$C11)-(SUM(LL11:LP11)) -> -12 | LL11: 22 | LQ11: 0 | LW11: 0 | MC11: =($C34+$C11)-(SUM(MD11:MH11)) -> 4 | MG11: 6 | MI11: =($C34+$C11)-(SUM(MJ11:MN11)) -> 1 | MJ11: 7 | ML11: 2 | MO11: 0 | MU11: =($C34+$C11)-(SUM(MV11:MZ11)) -> 10 | NA11: =($C34+$C11)-(SUM(NB11:NF11)) -> 6 | NC11: 4 | NG11: =($C34+$C11)-(SUM(NH11:NL11)) -> -10 | NH11: 8 | NJ11: 12 | NM11: =($C34+$C11)-(SUM(NN11:NR11)) -> -12 | NO11: 22 | NS11: =($C34+$C11)-(SUM(NT11:NX11)) -> -12 | NT11: 22 | NY11: =($C34+$C11)-(SUM(NZ11:OD11)) -> -2 | OB11: 12 | OE11: =($C34+$C11)-(SUM(OF11:OJ11)) -> 2 | OF11: 8 | OK11: =($C34+$C11)-(SUM(OL11:OP11)) -> 7 | OO11: 3 | OQ11: =($B11+$C11)-(SUM(OR11:OV11)) -> 0 | OR11: 2 | OT11: 20
A12: k | B12: 9 | C12: 4 | D12: 0 | J12: 0 | L12: 6 | P12: =(B35+B12)-(SUM(Q12:U12)) -> 9 | V12: =(B35+B12)-(SUM(W12:AA12)) -> 9 | AB12: 0 | AH12: =(B35+B12)-(SUM(AI12:AM12)) -> 9 | AN12: 0 | AT12: 0 | AZ12: =(B35+B12)-(SUM(BA12:BE12)) -> 2 | BC12: 7 | BF12: =(B35+B12)-(SUM(BG12:BK12)) -> -4 | BG12: 13 | BL12: 0 | BR12: 0 | BX12: 0 | BY12: =(B35+B12)-(SUM(BZ12:CD12)) -> 5 | BZ12: 4 | CE12: =(B35+B12)-(SUM(CF12:CJ12)) -> 9 | CK12: =(B35+B12)-(SUM(CL12:CP12)) -> 9 | CQ12: =(B35+B12)-(SUM(CR12:CV12)) -> 9 | CW12: =(B35+B12)-(SUM(CX12:DB12)) -> -3 | CZ12: 12 | DC12: =(B35+B12)-(SUM(DD12:DH12)) -> 7 | DE12: 2 | DI12: =(B35+B12)-(SUM(DJ12:DN12)) -> 1 | DJ12: 8 | DO12: =($C35+$C12)-(SUM(DP12:DT12)) -> 4 | DU12: =ROUNDDOWN(($C12+$C35)*4/5,0)-SUM(DV12:DZ12) -> -6 | DX12: 7 | DY12: 2 | EA12: =ROUNDDOWN(($C12+$C35)*4/5,0)-SUM(EB12:EF12) -> -5 | EC12: 4 | EE12: 4 | EG12: =($C35+$C12)-(SUM(EH12:EL12)) -> 4 | EM12: =($C35+$C12)-(SUM(EN12:ER12)) -> 4 | ES12: =ROUNDDOWN(($C12+$C35)*4/5,0)-SUM(ET12:EX12) -> 3 | EY12: =($C35+$C12)-(SUM(EZ12:FD12)) -> -8 | FA12: 12 | FE12: =ROUNDDOWN(($C12+$C35)*4/5,0)-SUM(FF12:FJ12) -> -6 | FI12: 9 | FK12: =($C35+$C12)-(SUM(FL12:FP12)) -> 4 | FQ12: =($C35+$C12)-(SUM(FR12:FV12)) -> 4 | FW12: =($C35+$C12)-(SUM(FX12:GB12)) -> -3 | FX12: 7 | GC12: =($C35+$C12)-(SUM(GE12:GH12)) -> 4 | GI12: =($C35+$C12)-(SUM(GJ12:GN12)) -> -8 | GJ12: 12 | GO12: =($C35+$C12)-(SUM(GP12:GT12)) -> 4 | GU12: 0 | HA12: 0 | HG12: 0 | HM12: 0 | HS12: 0 | HY12: 0 | IE12: 0 | IK12: =($C35+$C12)-(SUM(IL12:IP12)) -> 4 | IQ12: =($C35+$C12)-(SUM(IR12:IV12)) -> 4 | IW12: =($C35+$C12)-(SUM(IX12:JB12)) -> 4 | JC12: =($C35+$C12)-(SUM(JD12:JH12)) -> 4 | JI12: =($C35+$C12)-(SUM(JJ12:JN12)) -> -6 | JL12: 10 | JO12: =($C35+$C12)-(SUM(JP12:JT12)) -> -6 | JS12: 10 | JU12: =($C35+$C12)-(SUM(JV12:JZ12)) -> 4 | KA12: =($C35+$C12)-(SUM(KB12:KF12)) -> -6 | KC12: 10 | KG12: =($C35+$C12)-(SUM(KH12:KL12)) -> -3 | KJ12: 7 | KM12: =($C35+$C12)-(SUM(KN12:KR12)) -> 4 | KS12: =($C35+$C12)-(SUM(KT12:KX12)) -> 4 | KY12: =($C35+$C12)-(SUM(KZ12:LD12)) -> -1 | LA12: 5 | LE12: =($C35+$C12)-(SUM(LF12:LJ12)) -> -6 | LI12: 10 | LK12: =($C35+$C12)-(SUM(LL12:LP12)) -> 0 | LN12: 4 | LQ12: 0 | LW12: 0 | MC12: =($C35+$C12)-(SUM(MD12:MH12)) -> 4 | MI12: =($C35+$C12)-(SUM(MJ12:MN12)) -> 4 | MO12: 0 | MU12: =($C35+$C12)-(SUM(MV12:MZ12)) -> 4 | NA12: =($C35+$C12)-(SUM(NB12:NF12)) -> 0 | NC12: 4 | NG12: =($C35+$C12)-(SUM(NH12:NL12)) -> 4 | NM12: =($C35+$C12)-(SUM(NN12:NR12)) -> 4 | NS12: =($C35+$C12)-(SUM(NT12:NX12)) -> -1 | NT12: 5 | NY12: =($C35+$C12)-(SUM(NZ12:OD12)) -> 4 | OE12: =($C35+$C12)-(SUM(OF12:OJ12)) -> -9 | OI12: 13 | OK12: =($C35+$C12)-(SUM(OL12:OP12)) -> 1 | OO12: 3 | OQ12: =($B12+$C12)-(SUM(OR12:OV12)) -> 13
A13: l | B13: 17 | C13: 1 | D13: 0 | G13: 13 | J13: =(B36+B13)-(SUM(K13:O13)) -> -4 | K13: 21 | P13: =(B36+B13)-(SUM(Q13:U13)) -> 17 | V13: =(B36+B13)-(SUM(W13:AA13)) -> 17 | AB13: 0 | AH13: =(B36+B13)-(SUM(AI13:AM13)) -> 17 | AN13: 0 | AT13: 0 | AZ13: =(B36+B13)-(SUM(BA13:BE13)) -> 17 | BF13: 0 | BL13: 0 | BR13: 0 | BX13: 0 | BY13: =(B36+B13)-(SUM(BZ13:CD13)) -> 7 | CC13: 10 | CE13: =(B36+B13)-(SUM(CF13:CJ13)) -> 17 | CK13: =(B36+B13)-(SUM(CL13:CP13)) -> 17 | CQ13: =(B36+B13)-(SUM(CR13:CV13)) -> -17 | CR13: 34 | CW13: =(B36+B13)-(SUM(CX13:DB13)) -> 3 | CZ13: 14 | DC13: =(B36+B13)-(SUM(DD13:DH13)) -> 17 | DI13: =(B36+B13)-(SUM(DJ13:DN13)) -> -17 | DJ13: 2 | DM13: 32 | DO13: =($C36+$C13)-(SUM(DP13:DT13)) -> 1 | DU13: =ROUNDDOWN(($C13+$C36)*4/5,0)-SUM(DV13:DZ13) -> -25 | DV13: 7 | DW13: 18 | EA13: =ROUNDDOWN(($C13+$C36)*4/5,0)-SUM(EB13:EF13) -> -27 | EE13: 27 | EG13: =ROUNDDOWN(($C13+$C36)*2/5,0)-SUM(EH13:EL13) -> -9 | EI13: 9 | EM13: =($C36+$C13)-(SUM(EN13:ER13)) -> 1 | ES13: =ROUNDDOWN(($C13+$C36)*4/5,0)-SUM(ET13:EX13) -> 0 | EY13: =($C36+$C13)-(SUM(EZ13:FD13)) -> 1 | FE13: =ROUNDDOWN(($C13+$C36)*4/5,0)-SUM(FF13:FJ13) -> -24 | FH13: 24 | FK13: =($C36+$C13)-(SUM(FL13:FP13)) -> 1 | FQ13: =($C36+$C13)-(SUM(FR13:FV13)) -> 1 | FW13: =($C36+$C13)-(SUM(FX13:GB13)) -> -15 | FX13: 16 | GC13: =($C36+$C13)-(SUM(GE13:GH13)) -> -3 | GG13: 4 | GI13: =($C36+$C13)-(SUM(GJ13:GN13)) -> 1 | GO13: =(17)-(SUM(GP13:GT13)) -> 17 | GU13: 0 | HA13: 0 | HG13: 0 | HM13: 0 | HS13: 0 | HY13: 0 | IE13: 0 | IK13: =($C36+$C13)-(SUM(IL13:IP13)) -> 1 | IQ13: =($C36+$C13)-(SUM(IR13:IV13)) -> 1 | IW13: =($C36+$C13)-(SUM(IX13:JB13)) -> 1 | JC13: =($C36+$C13)-(SUM(JD13:JH13)) -> 1 | JI13: =($C36+$C13)-(SUM(JJ13:JN13)) -> -8 | JL13: 9 | JO13: =($C36+$C13)-(SUM(JP13:JT13)) -> 1 | JU13: =($C36+$C13)-(SUM(JV13:JZ13)) -> 1 | KA13: =($C36+$C13)-(SUM(KB13:KF13)) -> -14 | KB13: 15 | KG13: =($C36+$C13)-(SUM(KH13:KL13)) -> -4 | KJ13: 5 | KM13: =($C36+$C13)-(SUM(KN13:KR13)) -> -14 | KO13: 15 | KS13: =($C36+$C13)-(SUM(KT13:KX13)) -> 1 | KY13: =($C36+$C13)-(SUM(KZ13:LD13)) -> 1 | LE13: =($C36+$C13)-(SUM(LF13:LJ13)) -> 1 | LK13: =($C36+$C13)-(SUM(LL13:LP13)) -> 1 | LQ13: 0 | LW13: 0 | MC13: =($C36+$C13)-(SUM(MD13:MH13)) -> 1 | MI13: =($C36+$C13)-(SUM(MJ13:MN13)) -> -1 | ML13: 2 | MO13: 0 | MU13: =($C36+$C13)-(SUM(MV13:MZ13)) -> 1 | NA13: =($C36+$C13)-(SUM(NB13:NF13)) -> 1 | NG13: =($C36+$C13)-(SUM(NH13:NL13)) -> 1 | NM13: =($C36+$C13)-(SUM(NN13:NR13)) -> -1 | NO13: 2 | NS13: =($C36+$C13)-(SUM(NT13:NX13)) -> 1 | NY13: =($C36+$C13)-(SUM(NZ13:OD13)) -> 1 | OE13: =($C36+$C13)-(SUM(OF13:OJ13)) -> 1 | OK13: =($C36+$C13)-(SUM(OL13:OP13)) -> 1 | OQ13: =($B13+$C13)-(SUM(OR13:OV13)) -> 18
A14: m | B14: 8 | C14: 12 | D14: 0 | J14: 0 | M14: 4 | P14: =(B37+B14)-(SUM(Q14:U14)) -> 8 | V14: =(B37+B14)-(SUM(W14:AA14)) -> 8 | AB14: 0 | AC14: 6 | AH14: =(B37+B14)-(SUM(AI14:AM14)) -> 4 | AL14: 4 | AN14: 0 | AT14: 0 | AZ14: =(B37+B14)-(SUM(BA14:BE14)) -> -6 | BD14: 14 | BF14: =(B37+B14)-(SUM(BG14:BK14)) -> -16 | BG14: 24 | BL14: 0 | BR14: =(B37+B14)-(SUM(BS14:BW14)) -> -16 | BS14: 1 | BT14: 23 | BX14: 0 | BY14: =(B37+B14)-(SUM(BZ14:CD14)) -> -14 | BZ14: =9+13 -> 22 | CE14: =(B37+B14)-(SUM(CF14:CJ14)) -> -10 | CF14: 18 | CK14: =(B37+B14)-(SUM(CL14:CP14)) -> -7 | CL14: 14 | CO14: 1 | CQ14: =(B37+B14)-(SUM(CR14:CV14)) -> 1 | CR14: 2 | CT14: 5 | CW14: =(B37+B14)-(SUM(CX14:DB14)) -> -10 | CZ14: 10 | DA14: 8 | DC14: =(B37+B14)-(SUM(DD14:DH14)) -> -4 | DE14: 7 | DG14: 5 | DI14: 0 | DO14: =($C37+$C14)-(SUM(DP14:DT14)) -> 12 | DU14: =ROUNDDOWN(($C14+$C37)*4/5,0)-SUM(DV14:DZ14) -> -5 | DW14: 8 | DX14: 6 | EA14: =ROUNDDOWN(($C14+$C37)*4/5,0)-SUM(EB14:EF14) -> -5 | EC14: 14 | EG14: =ROUNDDOWN(($C14+$C37)*2/5,0)-SUM(EH14:EL14) -> 4 | EM14: =($C37+$C14)-(SUM(EN14:ER14)) -> 1 | EO14: 7 | EP14: 4 | ES14: =ROUNDDOWN(($C14+$C37)*4/5,0)-SUM(ET14:EX14) -> -5 | EW14: 14 | EY14: =($C37+$C14)-(SUM(EZ14:FD14)) -> 0 | EZ14: 5 | FA14: 7 | FE14: =ROUNDDOWN(($C14+$C37)*4/5,0)-SUM(FF14:FJ14) -> -5 | FI14: 14 | FK14: =($C37+$C14)-(SUM(FL14:FP14)) -> 9 | FM14: 3 | FQ14: =($C37+$C14)-(SUM(FR14:FV14)) -> 12 | FW14: =($C37+$C14)-(SUM(FX14:GB14)) -> -6 | FY14: 10 | FZ14: 8 | GC14: =($C37+$C14)-(SUM(GE14:GH14)) -> -6 | GE14: 18 | GI14: =($C37+$C14)-(SUM(GJ14:GN14)) -> 5 | GL14: 7 | GO14: 0 | GU14: 0 | HA14: 0 | HG14: 0 | HM14: 0 | HS14: 0 | HY14: 0 | IE14: 0 | IK14: =($C37+$C14)-(SUM(IL14:IP14)) -> 12 | IQ14: =($C37+$C14)-(SUM(IR14:IV14)) -> 12 | IW14: =($C37+$C14)-(SUM(IX14:JB14)) -> -2 | IX14: 8 | JA14: 6 | JC14: =($C37+$C14)-(SUM(JD14:JH14)) -> -6 | JF14: 8 | JG14: 10 | JI14: =($C37+$C14)-(SUM(JJ14:JN14)) -> 3 | JL14: 9 | JO14: =($C37+$C14)-(SUM(JP14:JT14)) -> -3 | JS14: 15 | JU14: =($C37+$C14)-(SUM(JV14:JZ14)) -> 5 | JV14: 7 | KA14: =($C37+$C14)-(SUM(KB14:KF14)) -> -10 | KB14: 22 | KG14: =($C37+$C14)-(SUM(KH14:KL14)) -> -10 | KH14: 22 | KM14: =($C37+$C14)-(SUM(KN14:KR14)) -> 10 | KP14: 2 | KS14: =($C37+$C14)-(SUM(KT14:KX14)) -> 12 | KY14: =($C37+$C14)-(SUM(KZ14:LD14)) -> -10 | KZ14: 6 | LA14: 3 | LC14: 13 | LE14: =($C37+$C14)-(SUM(LF14:LJ14)) -> 12 | LK14: =($C37+$C14)-(SUM(LL14:LP14)) -> -9 | LL14: 18 | LN14: 3 | LQ14: 0 | LW14: 0 | MC14: =($C37+$C14)-(SUM(MD14:MH14)) -> 0 | MG14: 12 | MI14: =($C37+$C14)-(SUM(MJ14:MN14)) -> -10 | MJ14: 22 | MO14: 0 | MU14: =($C37+$C14)-(SUM(MV14:MZ14)) -> 12 | NA14: =($C37+$C14)-(SUM(NB14:NF14)) -> 12 | NG14: =($C37+$C14)-(SUM(NH14:NL14)) -> 12 | NM14: =($C37+$C14)-(SUM(NN14:NR14)) -> -8 | NO14: 15 | NP14: 5 | NS14: =($C37+$C14)-(SUM(NT14:NX14)) -> -3 | NT14: 15 | NY14: =($C37+$C14)-(SUM(NZ14:OD14)) -> 7 | OB14: 5 | OE14: =($C37+$C14)-(SUM(OF14:OJ14)) -> 8 | OH14: 4 | OK14: =($C37+$C14)-(SUM(OL14:OP14)) -> -8 | OM14: 4 | ON14: 16 | OQ14: =($B14+$C14)-(SUM(OR14:OV14)) -> 20
A15: n | B15: 5 | C15: 12 | D15: 0 | J15: 0 | P15: =(B38+B15)-(SUM(Q15:U15)) -> 5 | V15: =(B38+B15)-(SUM(W15:AA15)) -> 5 | AB15: 0 | AH15: =(B38+B15)-(SUM(AI15:AM15)) -> -2 | AI15: 7 | AN15: =(B38+B15)-(SUM(AO15:AS15)) -> -13 | AO15: 18 | AT15: 0 | AZ15: =(B38+B15)-(SUM(BA15:BE15)) -> -13 | BD15: 18 | BF15: =(B38+B15)-(SUM(BG15:BK15)) -> -13 | BG15: 18 | BL15: 0 | BR15: 0 | BT15: 4 | BU15: 2 | BX15: 0 | BY15: =(B38+B15)-(SUM(BZ15:CD15)) -> -10 | BZ15: 7 | CC15: 8 | CE15: =(B38+B15)-(SUM(CF15:CJ15)) -> 5 | CK15: =(B38+B15)-(SUM(CL15:CP15)) -> -16 | CL15: 3 | CN15: 18 | CQ15: =(B38+B15)-(SUM(CR15:CV15)) -> -18 | CS15: 3 | CU15: 20 | CW15: =(B38+B15)-(SUM(CX15:DB15)) -> -18 | CZ15: 23 | DC15: =(B38+B15)-(SUM(DD15:DH15)) -> 5 | DI15: =(B38+B15)-(SUM(DJ15:DN15)) -> 0 | DJ15: 2 | DM15: 3 | DO15: =($C38+$C15)-(SUM(DP15:DT15)) -> 12 | DU15: 0 | EA15: =ROUNDDOWN(($C15+$C38)*4/5,0)-SUM(EB15:EF15) -> 7 | EE15: 2 | EG15: =($C38+$C15)-(SUM(EH15:EL15)) -> -11 | EH15: 23 | EM15: =($C38+$C15)-(SUM(EN15:ER15)) -> 12 | ES15: =ROUNDDOWN(($C15+$C38)*4/5,0)-SUM(ET15:EX15) -> 9 | EY15: =($C38+$C15)-(SUM(EZ15:FD15)) -> -5 | FA15: 17 | FE15: =ROUNDDOWN(($C15+$C38)*4/5,0)-SUM(FF15:FJ15) -> 3 | FH15: 2 | FI15: 4 | FK15: =($C38+$C15)-(SUM(FL15:FP15)) -> 10 | FN15: 2 | FQ15: =($C38+$C15)-(SUM(FR15:FV15)) -> -6 | FS15: 18 | FW15: =($C38+$C15)-(SUM(FX15:GB15)) -> -9 | FY15: 18 | GA15: 3 | GC15: =($C38+$C15)-(SUM(GE15:GH15)) -> 12 | GI15: =($C38+$C15)-(SUM(GJ15:GN15)) -> 8 | GJ15: 4 | GO15: 0 | GU15: 0 | HA15: 0 | HG15: 0 | HM15: 0 | HS15: 0 | HU15: 2 | HY15: 0 | IE15: 0 | IK15: =($C38+$C15)-(SUM(IL15:IP15)) -> 12 | IQ15: =($C38+$C15)-(SUM(IR15:IV15)) -> 12 | IW15: =($C38+$C15)-(SUM(IX15:JB15)) -> 5 | IX15: 7 | JC15: =($C38+$C15)-(SUM(JD15:JH15)) -> -8 | JG15: 20 | JI15: =($C38+$C15)-(SUM(JJ15:JN15)) -> 4 | JK15: 3 | JL15: 5 | JO15: =($C38+$C15)-(SUM(JP15:JT15)) -> -8 | JS15: 20 | JU15: =($C38+$C15)-(SUM(JV15:JZ15)) -> -8 | JY15: 20 | KA15: =($C38+$C15)-(SUM(KB15:KF15)) -> 6 | KB15: 2 | KC15: 4 | KG15: =($C38+$C15)-(SUM(KH15:KL15)) -> 10 | KJ15: 2 | KM15: =($C38+$C15)-(SUM(KN15:KR15)) -> -2 | KN15: 8 | KO15: 1 | KP15: 5 | KS15: =($C38+$C15)-(SUM(KT15:KX15)) -> 12 | KY15: =($C38+$C15)-(SUM(KZ15:LD15)) -> 4 | LC15: 8 | LE15: =($C38+$C15)-(SUM(LF15:LJ15)) -> 12 | LK15: =($C38+$C15)-(SUM(LL15:LP15)) -> 5 | LL15: 7 | LQ15: 0 | LW15: 0 | MC15: =($C38+$C15)-(SUM(MD15:MH15)) -> 12 | MI15: =($C38+$C15)-(SUM(MJ15:MN15)) -> 12 | MO15: 0 | MU15: =($C38+$C15)-(SUM(MV15:MZ15)) -> 12 | NA15: =($C38+$C15)-(SUM(NB15:NF15)) -> 8 | NB15: 4 | NG15: =($C38+$C15)-(SUM(NH15:NL15)) -> -5 | NH15: 3 | NI15: 14 | NM15: =($C38+$C15)-(SUM(NN15:NR15)) -> -5 | NO15: 11 | NP15: 6 | NS15: =($C38+$C15)-(SUM(NT15:NX15)) -> 5 | NT15: 4 | NU15: 3 | NY15: =($C38+$C15)-(SUM(NZ15:OD15)) -> -5 | NZ15: 17 | OE15: =($C38+$C15)-(SUM(OF15:OJ15)) -> -4 | OI15: 16 | OK15: =($C38+$C15)-(SUM(OL15:OP15)) -> 12 | OQ15: =($B15+$C15)-(SUM(OR15:OV15)) -> 9 | OR15: 6 | OU15: 2
A16: o | B16: 34 | C16: 6 | D16: =(B39+B16)-(SUM(E16:I16)) -> 12 | E16: 14 | G16: 8 | J16: 0 | P16: =(B39+B16)-(SUM(Q16:U16)) -> 34 | V16: =(B39+B16)-(SUM(W16:AA16)) -> 34 | AB16: 0 | AH16: =(B39+B16)-(SUM(AI16:AM16)) -> 27 | AJ16: 7 | AN16: 0 | AO16: 4 | AT16: 0 | AZ16: =(B39+B16)-(SUM(BA16:BE16)) -> 28 | BD16: 6 | BF16: =(B39+B16)-(SUM(BG16:BK16)) -> 12 | BG16: 22 | BL16: 0 | BR16: =(B39+B16)-(SUM(BS16:BW16)) -> 12 | BT16: 22 | BX16: 0 | BY16: =(B39+B16)-(SUM(BZ16:CD16)) -> 12 | BZ16: 13 | CC16: 9 | CE16: =(B39+B16)-(SUM(CF16:CJ16)) -> 20 | CF16: 14 | CK16: =(B39+B16)-(SUM(CL16:CP16)) -> 16 | CN16: 18 | CQ16: =(B39+B16)-(SUM(CR16:CV16)) -> 34 | CW16: =(B39+B16)-(SUM(CX16:DB16)) -> 13 | CY16: 6 | CZ16: 15 | DC16: =(B39+B16)-(SUM(DD16:DH16)) -> 34 | DI16: =(B39+B16)-(SUM(DJ16:DN16)) -> 11 | DM16: 23 | DO16: =($C39+$C16)-(SUM(DP16:DT16)) -> 1 | DQ16: 5 | DU16: =ROUNDDOWN(($C16+$C39)*4/5,0)-SUM(DV16:DZ16) -> -8 | DV16: 7 | DX16: 5 | EA16: =ROUNDDOWN(($C16+$C39)*4/5,0)-SUM(EB16:EF16) -> -5 | ED16: 5 | EE16: 4 | EG16: =($C39+$C16)-(SUM(EH16:EL16)) -> 1 | EJ16: 5 | EM16: =($C39+$C16)-(SUM(EN16:ER16)) -> 6 | ES16: =ROUNDDOWN(($C16+$C39)*4/5,0)-SUM(ET16:EX16) -> 4 | EY16: =($C39+$C16)-(SUM(EZ16:FD16)) -> 6 | FE16: =ROUNDDOWN(($C16+$C39)*4/5,0)-SUM(FF16:FJ16) -> -14 | FH16: 18 | FK16: =($C39+$C16)-(SUM(FL16:FP16)) -> -17 | FO16: 23 | FQ16: =($C39+$C16)-(SUM(FR16:FV16)) -> 6 | FW16: =($C39+$C16)-(SUM(FX16:GB16)) -> -7 | FX16: 7 | FY16: 6 | GC16: =($C39+$C16)-(SUM(GE16:GH16)) -> -17 | GE16: 23 | GI16: =(14)-(SUM(GJ16:GN16)) -> 14 | GO16: =(14)-(SUM(GP16:GT16)) -> 14 | GU16: 0 | HA16: 0 | HG16: 0 | HM16: 0 | HS16: 0 | HY16: 0 | IE16: 0 | IK16: =($C39+$C16)-(SUM(IL16:IP16)) -> 6 | IQ16: =($C39+$C16)-(SUM(IR16:IV16)) -> 6 | IW16: =($C39+$C16)-(SUM(IX16:JB16)) -> -9 | IX16: 15 | JC16: =($C39+$C16)-(SUM(JD16:JH16)) -> -24 | JE16: 30 | JI16: =($C39+$C16)-(SUM(JJ16:JN16)) -> -24 | JJ16: 30 | JO16: =($C39+$C16)-(SUM(JP16:JT16)) -> 6 | JU16: =($C39+$C16)-(SUM(JV16:JZ16)) -> 6 | KA16: =($C39+$C16)-(SUM(KB16:KF16)) -> -19 | KB16: 21 | KE16: 4 | KG16: =($C39+$C16)-(SUM(KH16:KL16)) -> -24 | KH16: 30 | KM16: =($C39+$C16)-(SUM(KN16:KR16)) -> -1 | KO16: 7 | KS16: =($C39+$C16)-(SUM(KT16:KX16)) -> 6 | KY16: =($C39+$C16)-(SUM(KZ16:LD16)) -> -24 | LB16: 30 | LE16: =($C39+$C16)-(SUM(LF16:LJ16)) -> -20 | LG16: 26 | LK16: =($C39+$C16)-(SUM(LL16:LP16)) -> -24 | LL16: 30 | LQ16: 0 | LW16: 0 | MC16: =($C39+$C16)-(SUM(MD16:MH16)) -> 6 | MI16: =($C39+$C16)-(SUM(MJ16:MN16)) -> -24 | ML16: 30 | MO16: 0 | MU16: =($C39+$C16)-(SUM(MV16:MZ16)) -> 6 | NA16: =($C39+$C16)-(SUM(NB16:NF16)) -> -8 | NC16: 14 | NG16: =($C39+$C16)-(SUM(NH16:NL16)) -> -34 | NH16: 40 | NM16: =($C39+$C16)-(SUM(NN16:NR16)) -> 6 | NS16: =($C39+$C16)-(SUM(NT16:NX16)) -> -1 | NT16: 7 | NY16: =($C39+$C16)-(SUM(NZ16:OD16)) -> 6 | OE16: =($C39+$C16)-(SUM(OF16:OJ16)) -> -20 | OF16: 4 | OH16: 22 | OK16: =($C39+$C16)-(SUM(OL16:OP16)) -> -34 | OL16: 40 | OQ16: =($B16+$C16)-(SUM(OR16:OV16)) -> 0 | OS16: 11 | OU16: 29
A17: p | B17: 9 | C17: 5 | D17: 0 | J17: 0 | P17: =(B40+B17)-(SUM(Q17:U17)) -> 9 | V17: =(B40+B17)-(SUM(W17:AA17)) -> 9 | AB17: 0 | AC17: 4 | AH17: =(B40+B17)-(SUM(AI17:AM17)) -> 9 | AN17: =(B40+B17)-(SUM(AO17:AS17)) -> -4 | AO17: 13 | AT17: 0 | AZ17: =(B40+B17)-(SUM(BA17:BE17)) -> 6 | BD17: 3 | BF17: 0 | BG17: 2 | BL17: 0 | BR17: =(B40+B17)-(SUM(BS17:BW17)) -> -4 | BT17: 13 | BX17: 0 | BY17: =(B40+B17)-(SUM(BZ17:CD17)) -> 7 | BZ17: 2 | CE17: =(B40+B17)-(SUM(CF17:CJ17)) -> 5 | CF17: 4 | CK17: =(B40+B17)-(SUM(CL17:CP17)) -> 3 | CO17: 6 | CQ17: =(B40+B17)-(SUM(CR17:CV17)) -> -8 | CT17: 3 | CU17: 14 | CW17: =(B40+B17)-(SUM(CX17:DB17)) -> -11 | CZ17: 20 | DC17: =(B40+B17)-(SUM(DD17:DH17)) -> -11 | DG17: 20 | DI17: =(B40+B17)-(SUM(DJ17:DN17)) -> 9 | DO17: =($C40+$C17)-(SUM(DP17:DT17)) -> -7 | DP17: 12 | DU17: =ROUNDDOWN(($C17+$C40)*4/5,0)-SUM(DV17:DZ17) -> -10 | DW17: 6 | DX17: 8 | EA17: =ROUNDDOWN(($C17+$C40)*4/5,0)-SUM(EB17:EF17) -> -2 | EE17: 6 | EG17: =($C40+$C17)-(SUM(EH17:EL17)) -> 5 | EM17: =($C40+$C17)-(SUM(EN17:ER17)) -> -15 | EP17: 6 | EQ17: 14 | ES17: =ROUNDDOWN(($C17+$C40)*4/5,0)-SUM(ET17:EX17) -> -9 | EW17: 13 | EY17: =($C40+$C17)-(SUM(EZ17:FD17)) -> 5 | FE17: =ROUNDDOWN(($C17+$C40)*4/5,0)-SUM(FF17:FJ17) -> -12 | FI17: 16 | FK17: =($C40+$C17)-(SUM(FL17:FP17)) -> 5 | FQ17: =($C40+$C17)-(SUM(FR17:FV17)) -> 5 | FW17: =($C40+$C17)-(SUM(FX17:GB17)) -> -3 | FZ17: 8 | GC17: =($C40+$C17)-(SUM(GE17:GH17)) -> -15 | GE17: 20 | GI17: =($C40+$C17)-(SUM(GJ17:GN17)) -> 2 | GJ17: 3 | GO17: =(8)-(SUM(GP17:GT17)) -> 8 | GU17: 0 | HA17: 0 | HG17: 0 | HM17: =(8)-(SUM(HN17:HR17)) -> 0 | HP17: 8 | HS17: 0 | HV17: 14 | HY17: 0 | IE17: 0 | IK17: =($C40+$C17)-(SUM(IL17:IP17)) -> 5 | IQ17: =($C40+$C17)-(SUM(IR17:IV17)) -> 5 | IW17: =($C40+$C17)-(SUM(IX17:JB17)) -> -2 | IX17: 3 | JA17: 4 | JC17: =($C40+$C17)-(SUM(JD17:JH17)) -> -9 | JF17: 4 | JG17: 10 | JI17: =($C40+$C17)-(SUM(JJ17:JN17)) -> -9 | JJ17: 7 | JK17: 7 | JO17: =($C40+$C17)-(SUM(JP17:JT17)) -> -9 | JP17: 10 | JS17: 4 | JU17: =($C40+$C17)-(SUM(JV17:JZ17)) -> -5 | JY17: 10 | KA17: =($C40+$C17)-(SUM(KB17:KF17)) -> -9 | KE17: 14 | KG17: =($C40+$C17)-(SUM(KH17:KL17)) -> -9 | KJ17: 14 | KM17: =($C40+$C17)-(SUM(KN17:KR17)) -> -8 | KN17: 13 | KS17: =($C40+$C17)-(SUM(KT17:KX17)) -> 5 | KY17: =($C40+$C17)-(SUM(KZ17:LD17)) -> -4 | KZ17: 3 | LC17: 6 | LE17: =($C40+$C17)-(SUM(LF17:LJ17)) -> 5 | LK17: =($C40+$C17)-(SUM(LL17:LP17)) -> -9 | LL17: 14 | LQ17: 0 | LW17: 0 | MC17: =($C40+$C17)-(SUM(MD17:MH17)) -> 1 | MG17: 4 | MI17: =($C40+$C17)-(SUM(MJ17:MN17)) -> -9 | MJ17: 14 | MO17: 0 | MU17: =($C40+$C17)-(SUM(MV17:MZ17)) -> 5 | NA17: =($C40+$C17)-(SUM(NB17:NF17)) -> 3 | NB17: 2 | NG17: =($C40+$C17)-(SUM(NH17:NL17)) -> -7 | NH17: 1 | NK17: 11 | NM17: =($C40+$C17)-(SUM(NN17:NR17)) -> -9 | NO17: 14 | NS17: =($C40+$C17)-(SUM(NT17:NX17)) -> -2 | NT17: 7 | NY17: =($C40+$C17)-(SUM(NZ17:OD17)) -> -2 | NZ17: 7 | OE17: =($C40+$C17)-(SUM(OF17:OJ17)) -> 1 | OH17: 4 | OK17: =($C40+$C17)-(SUM(OL17:OP17)) -> -9 | OL17: 7 | ON17: 7 | OQ17: =($B17+$C17)-(SUM(OR17:OV17)) -> 0 | OR17: 8 | OT17: 6
A18: q | B18: 9 | C18: 3 | D18: 0 | J18: 0 | P18: =(B41+B18)-(SUM(Q18:U18)) -> 9 | V18: =(B41+B18)-(SUM(W18:AA18)) -> 9 | AB18: 0 | AC18: 5 | AH18: =(B41+B18)-(SUM(AI18:AM18)) -> -6 | AI18: 15 | AN18: 0 | AT18: 0 | AZ18: =(B41+B18)-(SUM(BA18:BE18)) -> 9 | BF18: 0 | BG18: 6 | BL18: 0 | BR18: 0 | BT18: 14 | BX18: 0 | BY18: =(B41+B18)-(SUM(BZ18:CD18)) -> -4 | BZ18: 7 | CC18: 6 | CE18: =(B41+B18)-(SUM(CF18:CJ18)) -> 9 | CK18: =(B41+B18)-(SUM(CL18:CP18)) -> -4 | CM18: 9 | CN18: 4 | CQ18: =(B41+B18)-(SUM(CR18:CV18)) -> -4 | CS18: 7 | CU18: 6 | CW18: =(B41+B18)-(SUM(CX18:DB18)) -> 9 | DC18: =(B41+B18)-(SUM(DD18:DH18)) -> -4 | DG18: 13 | DI18: =(B41+B18)-(SUM(DJ18:DN18)) -> 6 | DJ18: 3 | DO18: =($C41+$C18)-(SUM(DP18:DT18)) -> 3 | DU18: =ROUNDDOWN(($C18+$C41)*4/5,0)-SUM(DV18:DZ18) -> -8 | DW18: 10 | EA18: 0 | EG18: =($C41+$C18)-(SUM(EH18:EL18)) -> 3 | EM18: =($C41+$C18)-(SUM(EN18:ER18)) -> 3 | ES18: =ROUNDDOWN(($C18+$C41)*4/5,0)-SUM(ET18:EX18) -> 2 | EY18: =($C41+$C18)-(SUM(EZ18:FD18)) -> -6 | EZ18: 3 | FA18: 6 | FE18: =ROUNDDOWN(($C18+$C41)*4/5,0)-SUM(FF18:FJ18) -> 2 | FK18: =($C41+$C18)-(SUM(FL18:FP18)) -> -10 | FN18: 6 | FO18: 7 | FQ18: =($C41+$C18)-(SUM(FR18:FV18)) -> -9 | FR18: 6 | FS18: 6 | FW18: =($C41+$C18)-(SUM(FX18:GB18)) -> -8 | FZ18: 11 | GC18: =($C41+$C18)-(SUM(GE18:GH18)) -> 3 | GI18: =($C41+$C18)-(SUM(GJ18:GN18)) -> 3 | GO18: =(3)-(SUM(GP18:GT18)) -> 3 | GU18: 0 | HA18: 0 | HG18: 0 | HM18: 0 | HO18: 11 | HS18: 0 | HY18: 0 | IE18: 0 | IK18: =($C41+$C18)-(SUM(IL18:IP18)) -> 3 | IQ18: =($C41+$C18)-(SUM(IR18:IV18)) -> -9 | IR18: 12 | IW18: =($C41+$C18)-(SUM(IX18:JB18)) -> 3 | JC18: =($C41+$C18)-(SUM(JD18:JH18)) -> 0 | JG18: 3 | JI18: =($C41+$C18)-(SUM(JJ18:JN18)) -> 3 | JO18: =($C41+$C18)-(SUM(JP18:JT18)) -> 1 | JS18: 2 | JU18: =($C41+$C18)-(SUM(JV18:JZ18)) -> -9 | JY18: 12 | KA18: =($C41+$C18)-(SUM(KB18:KF18)) -> -3 | KD18: 6 | KG18: =($C41+$C18)-(SUM(KH18:KL18)) -> -9 | KJ18: 12 | KM18: =($C41+$C18)-(SUM(KN18:KR18)) -> 3 | KS18: =($C41+$C18)-(SUM(KT18:KX18)) -> 3 | KY18: =($C41+$C18)-(SUM(KZ18:LD18)) -> -3 | LB18: 6 | LE18: =($C41+$C18)-(SUM(LF18:LJ18)) -> -3 | LI18: 6 | LK18: =($C41+$C18)-(SUM(LL18:LP18)) -> -3 | LL18: 6 | LQ18: 0 | LW18: 0 | MC18: =($C41+$C18)-(SUM(MD18:MH18)) -> 3 | MI18: =($C41+$C18)-(SUM(MJ18:MN18)) -> 3 | MO18: 0 | MU18: =($C41+$C18)-(SUM(MV18:MZ18)) -> 3 | NA18: =($C41+$C18)-(SUM(NB18:NF18)) -> 3 | NG18: =($C41+$C18)-(SUM(NH18:NL18)) -> 1 | NI18: 2 | NM18: =($C41+$C18)-(SUM(NN18:NR18)) -> -9 | NP18: 12 | NS18: =($C41+$C18)-(SUM(NT18:NX18)) -> -9 | NT18: 1 | NU18: 5 | NV18: 6 | NY18: =($C41+$C18)-(SUM(NZ18:OD18)) -> 3 | OE18: =($C41+$C18)-(SUM(OF18:OJ18)) -> 3 | OK18: =($C41+$C18)-(SUM(OL18:OP18)) -> -7 | OM18: 10 | OQ18: =($B18+$C18)-(SUM(OR18:OV18)) -> 10 | OT18: 2
A19: r | B19: 10 | C19: 2 | D19: 0 | J19: 0 | P19: =(B42+B19)-(SUM(Q19:U19)) -> 10 | V19: =(B42+B19)-(SUM(W19:AA19)) -> 10 | AB19: 0 | AH19: =(B42+B19)-(SUM(AI19:AM19)) -> 10 | AN19: 0 | AT19: 0 | AZ19: =(B42+B19)-(SUM(BA19:BE19)) -> 10 | BF19: 0 | BG19: 4 | BL19: 0 | BR19: 0 | BT19: 8 | BX19: 0 | BY19: =(B42+B19)-(SUM(BZ19:CD19)) -> 10 | CE19: =(B42+B19)-(SUM(CF19:CJ19)) -> 10 | CK19: =(B42+B19)-(SUM(CL19:CP19)) -> -2 | CL19: 12 | CQ19: =(B42+B19)-(SUM(CR19:CV19)) -> 4 | CU19: 6 | CW19: =(B42+B19)-(SUM(CX19:DB19)) -> -2 | CZ19: 12 | DC19: =(B42+B19)-(SUM(DD19:DH19)) -> -2 | DE19: 2 | DG19: 10 | DI19: =(B42+B19)-(SUM(DJ19:DN19)) -> 8 | DL19: 2 | DO19: =($C42+$C19)-(SUM(DP19:DT19)) -> -10 | DQ19: 12 | DU19: =ROUNDDOWN(($C19+$C42)*4/5,0)-SUM(DV19:DZ19) -> 1 | EA19: 0 | EG19: =($C42+$C19)-(SUM(EH19:EL19)) -> 2 | EM19: =($C42+$C19)-(SUM(EN19:ER19)) -> 2 | ES19: =ROUNDDOWN(($C19+$C42)*4/5,0)-SUM(ET19:EX19) -> 1 | EY19: =($C42+$C19)-(SUM(EZ19:FD19)) -> -3 | FA19: 5 | FE19: =ROUNDDOWN(($C19+$C42)*4/5,0)-SUM(FF19:FJ19) -> -8 | FH19: 9 | FK19: =($C42+$C19)-(SUM(FL19:FP19)) -> 0 | FO19: 2 | FQ19: =($C42+$C19)-(SUM(FR19:FV19)) -> 2 | FW19: =($C42+$C19)-(SUM(FX19:GB19)) -> -4 | FX19: 6 | GC19: =($C42+$C19)-(SUM(GE19:GH19)) -> 2 | GI19: =($C42+$C19)-(SUM(GJ19:GN19)) -> 2 | GO19: =(3)-(SUM(GP19:GT19)) -> 3 | GU19: 0 | HA19: 0 | HG19: 0 | HM19: 0 | HP19: 9 | HS19: 0 | HY19: 0 | IE19: 0 | IK19: =($C42+$C19)-(SUM(IL19:IP19)) -> 2 | IQ19: =($C42+$C19)-(SUM(IR19:IV19)) -> 1 | IR19: 1 | IW19: =($C42+$C19)-(SUM(IX19:JB19)) -> -14 | IX19: 6 | IZ19: 10 | JC19: =($C42+$C19)-(SUM(JD19:JH19)) -> -14 | JG19: 16 | JI19: =($C42+$C19)-(SUM(JJ19:JN19)) -> -5 | JJ19: 1 | JM19: 6 | JO19: =($C42+$C19)-(SUM(JP19:JT19)) -> 2 | JU19: =($C42+$C19)-(SUM(JV19:JZ19)) -> 2 | KA19: =($C42+$C19)-(SUM(KB19:KF19)) -> -14 | KB19: 16 | KG19: =($C42+$C19)-(SUM(KH19:KL19)) -> -14 | KH19: 16 | KM19: =($C42+$C19)-(SUM(KN19:KR19)) -> -12 | KN19: 12 | KO19: 2 | KS19: =($C42+$C19)-(SUM(KT19:KX19)) -> 2 | KY19: =($C42+$C19)-(SUM(KZ19:LD19)) -> 2 | LE19: =($C42+$C19)-(SUM(LF19:LJ19)) -> 2 | LK19: =($C42+$C19)-(SUM(LL19:LP19)) -> -14 | LL19: 16 | LQ19: 0 | LW19: 0 | MC19: =($C42+$C19)-(SUM(MD19:MH19)) -> 2 | MI19: =($C42+$C19)-(SUM(MJ19:MN19)) -> -14 | MJ19: 16 | MO19: 0 | MU19: =($C42+$C19)-(SUM(MV19:MZ19)) -> 2 | NA19: =($C42+$C19)-(SUM(NB19:NF19)) -> -10 | NB19: 12 | NG19: =($C42+$C19)-(SUM(NH19:NL19)) -> 0 | NI19: 2 | NM19: =($C42+$C19)-(SUM(NN19:NR19)) -> -10 | NN19: 12 | NS19: =($C42+$C19)-(SUM(NT19:NX19)) -> -4 | NT19: 6 | NY19: =($C42+$C19)-(SUM(NZ19:OD19)) -> 2 | OE19: =($C42+$C19)-(SUM(OF19:OJ19)) -> 0 | OH19: 2 | OK19: =($C42+$C19)-(SUM(OL19:OP19)) -> -10 | OL19: 12 | OQ19: =($B19+$C19)-(SUM(OR19:OV19)) -> 10 | OU19: 2
IE20: sem 33
