Workbook
Name AnnéeCalendrier: Janvier!$AH$4
Name CléCongé: Janvier!$C$2
Name Clédemijournee: Janvier!$AG$2
Name CléException: Janvier!$AB$2
Name CléMaladie: Janvier!$J$2
Name CléPersonnalisée1: Janvier!$M$2
Name CléPersonnalisée2: Janvier!$R$2
Name CléPersonnalisée3: [1]Janvier!$X$2
Name CléPersonnel: Janvier!$F$2
Name CléRécupération: Janvier!$W$2
Name Etiquette_demijournee: Janvier!$AH$2
Name Etiquette_Exceptionnel: Janvier!$AC$2
Name Etiquette_Récupération: Janvier!$X$2
Name ÉtiquetteCléCongé: Janvier!$D$2
Name ÉtiquetteCléMaladie: Janvier!$K$2
Name ÉtiquetteCléPersonnalisée1: Janvier!$N$2
Name ÉtiquetteCléPersonnalisée2: Janvier!$S$2
Name ÉtiquetteCléPersonnel: Janvier!$G$2
Name Nom_clé: Janvier!$B$2
Name NomMois: Janvier!$B$4
Name Titre_Absence_Employé: Janvier!$B$1
Name Titre1: Janvier[[#Headers],[Nom de l’employé]]
Name Titre10: [2]!Octobre[[#Headers],[Nom de l’employé]]
Name Titre11: [2]!Novembre[[#Headers],[Nom de l’employé]]
Name Titre12: [2]!Décembre[[#Headers],[Nom de l’employé]]
Name Titre2: [2]!Février[[#Headers],[Nom de l’employé]]
Name Titre3: [2]!Mars[[#Headers],[Nom de l’employé]]
Name Titre4: [2]!Avril[[#Headers],[Nom de l’employé]]
Name Titre5: [2]!Mai[[#Headers],[Nom de l’employé]]
Name Titre6: [2]!Juin[[#Headers],[Nom de l’employé]]
Name Titre7: [2]!Juillet[[#Headers],[Nom de l’employé]]
Name Titre8: [2]!Août[[#Headers],[Nom de l’employé]]
Name Titre9: [2]!Septembre[[#Headers],[Nom de l’employé]]
Name TitreColonne13: [2]!NomEmployé[[#Headers],[Noms des employés]]

Sheet Janvier
B1: Calendrier des absences des employés
B2: Clé de motif d’absence | C2: C | D2: Congé | F2: R | G2: RTT | J2: M | K2: Maladie | M2: S | N2: Syndicat | R2: F | S2: Formation | W2: P | X2: Récupération | AB2: E | AC2: Exceptionnel | AG2: 0.5 | AH2: Demi journée
AH3: Entrez l’année :
B4: Janvier | C4: Dates d’absence | AH4: 2020
C5: =TEXT(WEEKDAY(DATE(AnnéeCalendrier,1,1),1),"jjj") -> mer | D5: =TEXT(WEEKDAY(DATE(AnnéeCalendrier,1,2),1),"jjj") -> jeu | E5: =TEXT(WEEKDAY(DATE(AnnéeCalendrier,1,3),1),"jjj") -> ven | F5: =TEXT(WEEKDAY(DATE(AnnéeCalendrier,1,4),1),"jjj") -> sam | G5: =TEXT(WEEKDAY(DATE(AnnéeCalendrier,1,5),1),"jjj") -> dim | H5: =TEXT(WEEKDAY(DATE(AnnéeCalendrier,1,6),1),"jjj") -> lun | I5: =TEXT(WEEKDAY(DATE(AnnéeCalendrier,1,7),1),"jjj") -> mar | J5: =TEXT(WEEKDAY(DATE(AnnéeCalendrier,1,8),1),"jjj") -> mer | K5: =TEXT(WEEKDAY(DATE(AnnéeCalendrier,1,9),1),"jjj") -> jeu | L5: =TEXT(WEEKDAY(DATE(AnnéeCalendrier,1,10),1),"jjj") -> ven | M5: =TEXT(WEEKDAY(DATE(AnnéeCalendrier,1,11),1),"jjj") -> sam | N5: =TEXT(WEEKDAY(DATE(AnnéeCalendrier,1,12),1),"jjj") -> dim | O5: =TEXT(WEEKDAY(DATE(AnnéeCalendrier,1,13),1),"jjj") -> lun | P5: =TEXT(WEEKDAY(DATE(AnnéeCalendrier,1,14),1),"jjj") -> mar | Q5: =TEXT(WEEKDAY(DATE(AnnéeCalendrier,1,15),1),"jjj") -> mer | R5: =TEXT(WEEKDAY(DATE(AnnéeCalendrier,1,16),1),"jjj") -> jeu | S5: =TEXT(WEEKDAY(DATE(AnnéeCalendrier,1,17),1),"jjj") -> ven | T5: =TEXT(WEEKDAY(DATE(AnnéeCalendrier,1,18),1),"jjj") -> sam | U5: =TEXT(WEEKDAY(DATE(AnnéeCalendrier,1,19),1),"jjj") -> dim | V5: =TEXT(WEEKDAY(DATE(AnnéeCalendrier,1,20),1),"jjj") -> lun | W5: =TEXT(WEEKDAY(DATE(AnnéeCalendrier,1,21),1),"jjj") -> mar | X5: =TEXT(WEEKDAY(DATE(AnnéeCalendrier,1,22),1),"jjj") -> mer | Y5: =TEXT(WEEKDAY(DATE(AnnéeCalendrier,1,23),1),"jjj") -> jeu | Z5: =TEXT(WEEKDAY(DATE(AnnéeCalendrier,1,24),1),"jjj") -> ven | AA5: =TEXT(WEEKDAY(DATE(AnnéeCalendrier,1,25),1),"jjj") -> sam | AB5: =TEXT(WEEKDAY(DATE(AnnéeCalendrier,1,26),1),"jjj") -> dim | AC5: =TEXT(WEEKDAY(DATE(AnnéeCalendrier,1,27),1),"jjj") -> lun | AD5: =TEXT(WEEKDAY(DATE(AnnéeCalendrier,1,28),1),"jjj") -> mar | AE5: =TEXT(WEEKDAY(DATE(AnnéeCalendrier,1,29),1),"jjj") -> mer | AF5: =TEXT(WEEKDAY(DATE(AnnéeCalendrier,1,30),1),"jjj") -> jeu | AG5: =TEXT(WEEKDAY(DATE(AnnéeCalendrier,1,31),1),"jjj") -> ven
B6: Nom de l’employé | C6: 1 | D6: 2 | E6: 3 | F6: 4 | G6: 5 | H6: 6 | I6: 7 | J6: 8 | K6: 9 | L6: 10 | M6: 11 | N6: 12 | O6: 13 | P6: 14 | Q6: 15 | R6: 16 | S6: 17 | T6: 18 | U6: 19 | V6: 20 | W6: 21 | X6: 22 | Y6: 23 | Z6: 24 | AA6: 25 | AB6: 26 | AC6: 27 | AD6: 28 | AE6: 29 | AF6: 30 | AG6: 31 | AH6: Total des jours
W7: 0.5 | AB7: F | AC7: E | AE7: 0.5 | AH7: =(COUNTIF(C7:AG7,"C")+COUNTIF(C7:AG7,"R")+COUNTIF(C7:AG7,"M")+COUNTIF(C7:AG7,"S")+COUNTIF(C7:AG7,"F")+COUNTIF(C7:AG7,"P")+COUNTIF(C7:AG7,"E")+SUMIF(C7:AG7,0.5,C7:AG7)) -> 3
AH8: =(COUNTIF(C8:AG8,"C")+COUNTIF(C8:AG8,"R")+COUNTIF(C8:AG8,"M")+COUNTIF(C8:AG8,"S")+COUNTIF(C8:AG8,"F")+COUNTIF(C8:AG8,"P")+COUNTIF(C8:AG8,"E")+SUMIF(C8:AG8,0.5,C8:AG8)) -> 0
AC9: E | AD9: 0.5 | AH9: =(COUNTIF(C9:AG9,"C")+COUNTIF(C9:AG9,"R")+COUNTIF(C9:AG9,"M")+COUNTIF(C9:AG9,"S")+COUNTIF(C9:AG9,"F")+COUNTIF(C9:AG9,"P")+COUNTIF(C9:AG9,"E")+SUMIF(C9:AG9,0.5,C9:AG9)) -> 1.5
V10: p | W10: F | AH10: =(COUNTIF(C10:AG10,"C")+COUNTIF(C10:AG10,"R")+COUNTIF(C10:AG10,"M")+COUNTIF(C10:AG10,"S")+COUNTIF(C10:AG10,"F")+COUNTIF(C10:AG10,"P")+COUNTIF(C10:AG10,"E")+SUMIF(C10:AG10,0.5,C10:AG10)) -> 2
AD11: 0.5 | AH11: =(COUNTIF(C11:AG11,"C")+COUNTIF(C11:AG11,"R")+COUNTIF(C11:AG11,"M")+COUNTIF(C11:AG11,"S")+COUNTIF(C11:AG11,"F")+COUNTIF(C11:AG11,"P")+COUNTIF(C11:AG11,"E")+SUMIF(C11:AG11,0.5,C11:AG11)) -> 0.5
T12: 0.5 | Z12: 0.5 | AH12: =(COUNTIF(C12:AG12,"C")+COUNTIF(C12:AG12,"R")+COUNTIF(C12:AG12,"M")+COUNTIF(C12:AG12,"S")+COUNTIF(C12:AG12,"F")+COUNTIF(C12:AG12,"P")+COUNTIF(C12:AG12,"E")+SUMIF(C12:AG12,0.5,C12:AG12)) -> 1
AH13: =(COUNTIF(C13:AG13,"C")+COUNTIF(C13:AG13,"R")+COUNTIF(C13:AG13,"M")+COUNTIF(C13:AG13,"S")+COUNTIF(C13:AG13,"F")+COUNTIF(C13:AG13,"P")+COUNTIF(C13:AG13,"E")+SUMIF(C13:AG13,0.5,C13:AG13)) -> 0
AH14: =(COUNTIF(C14:AG14,"C")+COUNTIF(C14:AG14,"R")+COUNTIF(C14:AG14,"M")+COUNTIF(C14:AG14,"S")+COUNTIF(C14:AG14,"F")+COUNTIF(C14:AG14,"P")+COUNTIF(C14:AG14,"E")+SUMIF(C14:AG14,0.5,C14:AG14)) -> 0
AH15: =(COUNTIF(C15:AG15,"C")+COUNTIF(C15:AG15,"R")+COUNTIF(C15:AG15,"M")+COUNTIF(C15:AG15,"S")+COUNTIF(C15:AG15,"F")+COUNTIF(C15:AG15,"P")+COUNTIF(C15:AG15,"E")+SUMIF(C15:AG15,0.5,C15:AG15)) -> 0
AH16: =(COUNTIF(C16:AG16,"C")+COUNTIF(C16:AG16,"R")+COUNTIF(C16:AG16,"M")+COUNTIF(C16:AG16,"S")+COUNTIF(C16:AG16,"F")+COUNTIF(C16:AG16,"P")+COUNTIF(C16:AG16,"E")+SUMIF(C16:AG16,0.5,C16:AG16)) -> 0
AH17: =(COUNTIF(C17:AG17,"C")+COUNTIF(C17:AG17,"R")+COUNTIF(C17:AG17,"M")+COUNTIF(C17:AG17,"S")+COUNTIF(C17:AG17,"F")+COUNTIF(C17:AG17,"P")+COUNTIF(C17:AG17,"E")+SUMIF(C17:AG17,0.5,C17:AG17)) -> 0
AH18: =(COUNTIF(C18:AG18,"C")+COUNTIF(C18:AG18,"R")+COUNTIF(C18:AG18,"M")+COUNTIF(C18:AG18,"S")+COUNTIF(C18:AG18,"F")+COUNTIF(C18:AG18,"P")+COUNTIF(C18:AG18,"E")+SUMIF(C18:AG18,0.5,C18:AG18)) -> 0
AH19: =(COUNTIF(C19:AG19,"C")+COUNTIF(C19:AG19,"R")+COUNTIF(C19:AG19,"M")+COUNTIF(C19:AG19,"S")+COUNTIF(C19:AG19,"F")+COUNTIF(C19:AG19,"P")+COUNTIF(C19:AG19,"E")+SUMIF(C19:AG19,0.5,C19:AG19)) -> 0
AH20: =(COUNTIF(C20:AG20,"C")+COUNTIF(C20:AG20,"R")+COUNTIF(C20:AG20,"M")+COUNTIF(C20:AG20,"S")+COUNTIF(C20:AG20,"F")+COUNTIF(C20:AG20,"P")+COUNTIF(C20:AG20,"E")+SUMIF(C20:AG20,0.5,C20:AG20)) -> 0
AH21: =(COUNTIF(C21:AG21,"C")+COUNTIF(C21:AG21,"R")+COUNTIF(C21:AG21,"M")+COUNTIF(C21:AG21,"S")+COUNTIF(C21:AG21,"F")+COUNTIF(C21:AG21,"P")+COUNTIF(C21:AG21,"E")+SUMIF(C21:AG21,0.5,C21:AG21)) -> 0
AH22: =(COUNTIF(C22:AG22,"C")+COUNTIF(C22:AG22,"R")+COUNTIF(C22:AG22,"M")+COUNTIF(C22:AG22,"S")+COUNTIF(C22:AG22,"F")+COUNTIF(C22:AG22,"P")+COUNTIF(C22:AG22,"E")+SUMIF(C22:AG22,0.5,C22:AG22)) -> 0
AH23: =(COUNTIF(C23:AG23,"C")+COUNTIF(C23:AG23,"R")+COUNTIF(C23:AG23,"M")+COUNTIF(C23:AG23,"S")+COUNTIF(C23:AG23,"F")+COUNTIF(C23:AG23,"P")+COUNTIF(C23:AG23,"E")+SUMIF(C23:AG23,0.5,C23:AG23)) -> 0
AH24: =(COUNTIF(C24:AG24,"C")+COUNTIF(C24:AG24,"R")+COUNTIF(C24:AG24,"M")+COUNTIF(C24:AG24,"S")+COUNTIF(C24:AG24,"F")+COUNTIF(C24:AG24,"P")+COUNTIF(C24:AG24,"E")+SUMIF(C24:AG24,0.5,C24:AG24)) -> 0
... AH75: =(COUNTIF(C75:AG75,"C")+COUNTIF(C75:AG75,"R")+COUNTIF(C75:AG75,"M")+COUNTIF(C75:AG75,"S")+COUNTIF(C75:AG75,"F")+COUNTIF(C75:AG75,"P")+COUNTIF(C75:AG75,"E")+SUMIF(C75:AG75,0.5,C75:AG75)) -> 0
B76: =NomMois&" Total" -> Janvier Total | C76: =SUBTOTAL(103,Janvier!$C$7:$C$75) -> 0 | D76: =SUBTOTAL(103,Janvier!$D$7:$D$75) -> 0 | E76: =SUBTOTAL(103,Janvier!$E$7:$E$75) -> 0 | F76: =SUBTOTAL(103,Janvier!$F$7:$F$75) -> 0 | G76: =SUBTOTAL(103,Janvier!$G$7:$G$75) -> 0 | H76: =SUBTOTAL(103,Janvier!$H$7:$H$75) -> 0 | I76: =SUBTOTAL(103,Janvier!$I$7:$I$75) -> 0 | J76: =SUBTOTAL(103,Janvier!$J$7:$J$75) -> 0 | K76: =SUBTOTAL(103,Janvier!$K$7:$K$75) -> 0 | L76: =SUBTOTAL(103,Janvier!$L$7:$L$75) -> 0 | M76: =SUBTOTAL(103,Janvier!$M$7:$M$75) -> 0 | N76: =SUBTOTAL(103,Janvier!$N$7:$N$75) -> 0 | O76: =SUBTOTAL(103,Janvier!$O$7:$O$75) -> 0 | P76: =SUBTOTAL(103,Janvier!$P$7:$P$75) -> 0 | Q76: =SUBTOTAL(103,Janvier!$Q$7:$Q$75) -> 0 | R76: =SUBTOTAL(103,Janvier!$R$7:$R$75) -> 0 | S76: =SUBTOTAL(103,Janvier!$S$7:$S$75) -> 0 | T76: =SUBTOTAL(103,Janvier!$T$7:$T$75) -> 1 | U76: =SUBTOTAL(103,Janvier!$U$7:$U$75) -> 0 | V76: =SUBTOTAL(103,Janvier!$V$7:$V$75) -> 1 | W76: =SUBTOTAL(103,Janvier!$W$7:$W$75) -> 2 | X76: =SUBTOTAL(103,Janvier!$X$7:$X$75) -> 0 | Y76: =SUBTOTAL(103,Janvier!$Y$7:$Y$75) -> 0 | Z76: =SUBTOTAL(103,Janvier!$Z$7:$Z$75) -> 1 | AA76: =SUBTOTAL(103,Janvier!$AA$7:$AA$75) -> 0 | AB76: =SUBTOTAL(103,Janvier!$AB$7:$AB$75) -> 1 | AC76: =SUBTOTAL(103,Janvier!$AC$7:$AC$75) -> 2 | AD76: =SUBTOTAL(103,Janvier!$AD$7:$AD$75) -> 2 | AE76: =SUBTOTAL(103,Janvier!$AE$7:$AE$75) -> 1 | AF76: =SUBTOTAL(103,Janvier!$AF$7:$AF$75) -> 0 | AG76: =SUBTOTAL(103,Janvier!$AG$7:$AG$75) -> 0 | AH76: =SUBTOTAL(109,Janvier[Total des jours]) -> 8
