Workbook
Name calculons: 'FT type ganache'!$A:$B
Name CHAPEAU: 'MP ( liste-coût )'!$B:$C
Name code: 'MP ( liste-coût )'!$B:$B
Name dose: 'MP ( liste-coût )'!$B:$C,'MP ( liste-coût )'!$OL$1
Name ingredients: 'MP ( liste-coût )'!$C:$C

Sheet FT type ganache
A1: Nom + logo | B1: Nom de la fiche technique
B2: Quantité fabriquée en Kg. (net) | C2: 5 | E2: DDM ( DLUO ) :
A5: Code | B5: Ingrédients | D5: Poids | E5: Unités | F5: % | G5: Coût M.P
A6: 1 | B6: =VLOOKUP(A6,'MP ( liste-coût )'!$A$2:$B$50,2,FALSE) -> Crème 35% | D6: =0.3578*C2 -> 1.789 | E6: kg | F6: =D6/$C$2*100 -> 35.78
A7: 3 | B7: =VLOOKUP(A7,'MP ( liste-coût )'!$A$2:$B$50,2,FALSE) -> glucose sirop DE60 | D7: =0.0592*C2 -> 0.296 | E7: kg | F7: =D7/$C$2*100 -> 5.92
A8: 4 | B8: =VLOOKUP(A8,'MP ( liste-coût )'!$A$2:$B$50,2,FALSE) -> trimoline | D8: =0.0404*C2 -> 0.202 | E8: kg | F8: =D8/$C$2*100 -> 4.04
A9: 5 | B9: =VLOOKUP(A9,'MP ( liste-coût )'!$A$2:$B$50,2,FALSE) -> sorbitol | D9: =0.0544*C2 -> 0.272 | E9: kg | F9: =D9/$C$2*100 -> 5.44
A10: 10 | B10: =VLOOKUP(A10,'MP ( liste-coût )'!$A$2:$B$50,2,FALSE) -> beurre frais 82% | D10: =0.0648*C2 -> 0.324 | E10: kg | F10: =D10/$C$2*100 -> 6.48
A11: 16 | B11: =VLOOKUP(A11,'MP ( liste-coût )'!$A$2:$B$50,2,FALSE) -> couverture passy | D11: =0.2072*C2 -> 1.036 | E11: kg | F11: =D11/$C$2*100 -> 20.72
A12: 17 | B12: =VLOOKUP(A12,'MP ( liste-coût )'!$A$2:$B$50,2,FALSE) -> couverture ganache | D12: =0.259*C2 -> 1.295 | E12: kg | F12: =D12/$C$2*100 -> 25.9
B13: =VLOOKUP(A13,'MP ( liste-coût )'!$A$2:$B$50,2,FALSE) -> #N/A | F13: =D13/$C$2*100 -> 0
B14: =VLOOKUP(A14,'MP ( liste-coût )'!$A$2:$B$50,2,FALSE) -> #N/A | F14: =D14/$C$2*100 -> 0
B15: =VLOOKUP(A15,'MP ( liste-coût )'!$A$2:$B$50,2,FALSE) -> #N/A | F15: =D15/$C$2*100 -> 0
B16: =VLOOKUP(A16,'MP ( liste-coût )'!$A$2:$B$50,2,FALSE) -> #N/A | F16: =D16/$C$2*100 -> 0
B17: =VLOOKUP(A17,'MP ( liste-coût )'!$A$2:$B$50,2,FALSE) -> #N/A | F17: =D17/$C$2*100 -> 0
B18: =VLOOKUP(A18,'MP ( liste-coût )'!$A$2:$B$50,2,FALSE) -> #N/A | F18: =D18/$C$2*100 -> 0
B19: =VLOOKUP(A19,'MP ( liste-coût )'!$A$2:$B$50,2,FALSE) -> #N/A | F19: =D19/$C$2*100 -> 0
A20: Total ( avant évaporation ) | D20: =SUM(D6:D19) -> 5.214
A21: Procedé de fabrication :

Sheet FT type praliné-cuisson
A1: Nom + logo | B1: Nom de la fiche technique
B2: Quantité fabriquée en Kg. (net) | C2: 8 | E2: DDM ( DLUO ) :
A5: Code | B5: Ingrédients | D5: Poids | E5: Unités | F5: % | G5: Coût M.P
A6: 18 | B6: =VLOOKUP(A6,'MP ( liste-coût )'!$A$2:$B$50,2,FALSE) -> eau | D6: =0.12125*C2 -> 0.97 | E6: kg | F6: =D6/$C$2*100 -> 12.125
A7: 8 | B7: =VLOOKUP(A7,'MP ( liste-coût )'!$A$2:$B$50,2,FALSE) -> sucre cristal | D7: =0.42425*C2 -> 3.394 | E7: kg | F7: =D7/$C$2*100 -> 42.425
A8: 12 | B8: =VLOOKUP(A8,'MP ( liste-coût )'!$A$2:$B$50,2,FALSE) -> Noisettes piémont | D8: =0.606*C2 -> 4.848 | E8: kg | F8: =D8/$C$2*100 -> 60.6
A9: 15 | B9: =VLOOKUP(A9,'MP ( liste-coût )'!$A$2:$B$50,2,FALSE) -> Vanille gousse bourbon | D9: =0.002*C2 -> 0.016 | E9: kg | F9: =D9/$C$2*100 -> 0.2
B10: =VLOOKUP(A10,'MP ( liste-coût )'!$A$2:$B$50,2,FALSE) -> #N/A | E10: kg | F10: =D10/$C$2*100 -> 0
B11: =VLOOKUP(A11,'MP ( liste-coût )'!$A$2:$B$50,2,FALSE) -> #N/A | E11: kg | F11: =D11/$C$2*100 -> 0
B12: =VLOOKUP(A12,'MP ( liste-coût )'!$A$2:$B$50,2,FALSE) -> #N/A | E12: kg | F12: =D12/$C$2*100 -> 0
B13: =VLOOKUP(A13,'MP ( liste-coût )'!$A$2:$B$50,2,FALSE) -> #N/A | E13: kg | F13: =D13/$C$2*100 -> 0
B14: =VLOOKUP(A14,'MP ( liste-coût )'!$A$2:$B$50,2,FALSE) -> #N/A | E14: kg | F14: =D14/$C$2*100 -> 0
B15: =VLOOKUP(A15,'MP ( liste-coût )'!$A$2:$B$50,2,FALSE) -> #N/A | E15: kg | F15: =D15/$C$2*100 -> 0
B16: =VLOOKUP(A16,'MP ( liste-coût )'!$A$2:$B$50,2,FALSE) -> #N/A | E16: kg | F16: =D16/$C$2*100 -> 0
B17: =VLOOKUP(A17,'MP ( liste-coût )'!$A$2:$B$50,2,FALSE) -> #N/A | E17: kg | F17: =D17/$C$2*100 -> 0
B18: =VLOOKUP(A18,'MP ( liste-coût )'!$A$2:$B$50,2,FALSE) -> #N/A | E18: kg | F18: =D18/$C$2*100 -> 0
B19: =VLOOKUP(A19,'MP ( liste-coût )'!$A$2:$B$50,2,FALSE) -> #N/A | E19: kg | F19: =D19/$C$2*100 -> 0
A20: Total ( avant évaporation ) | D20: =SUM(D6:D19) -> 9.228 | E20: kg
A21: Procedé de fabrication :

Sheet MP ( liste-coût )
A1: Code | B1: Matières premières | C1: Prix au kilos ( en euros ) | D1: Fournisseurs
A2: 1 | B2: Crème 35% | C2: 2.41 | D2: Patisfrance
A3: 2 | B3: glucose deshydraté DE40 | C3: 8.9 | D3: Louis francois
A4: 3 | B4: glucose sirop DE60 | C4: 4 | D4: Patisfrance
A5: 4 | B5: trimoline | C5: 2.22 | D5: Patisfrance
A6: 5 | B6: sorbitol | C6: 5.49 | D6: Patisfrance
A7: 6 | B7: dextrose | C7: 2.44 | D7: Patisfrance
A8: 7 | B8: sucre semoule | C8: 0.9 | D8: Patisfrance
A9: 8 | B9: sucre cristal | C9: 0.73 | D9: Patisfrance
A10: 9 | B10: sucre glace | C10: 1.15 | D10: Patisfrance
A11: 10 | B11: beurre frais 82% | C11: 6 | D11: Patisfrance
A12: 11 | B12: beurre deshydraté 99% | C12: 8
A13: 12 | B13: Noisettes piémont | C13: 36.5 | D13: Selectissime
A14: 13 | B14: Amandes valencia | C14: 26.5 | D14: Selectissime
A15: 14 | B15: coriandre graines | C15: 22.3
A16: 15 | B16: Vanille gousse bourbon | C16: 400
A17: 16 | B17: couverture passy | C17: 8.5 | D17: prix fictifs
A18: 17 | B18: couverture ganache | C18: 7.5 | D18: prix fictifs
A19: 18 | B19: eau
A35: 25 | B35: avocat
