Workbook
Name PU_GEFC: [1]Données!$C$763:$EL$903
Name TRS: [1]Données!$C$876:$EL$903
Name TU_CEFP: 'Grilles tarifs'!$A$1:$EH$127

Sheet Données
A1: J | B1: Code | C1: Date | D1: nom1 | E1: NB Palettes | F1: 2ème Etage | G1: Poids | H1: Camions | I1: nom2 | J1: Total/J | K1: Jour semaine | L1: Code2 | M1: Code1 | N1: Code nécessaire | O1: Type expl | P1: Prix unitaire | Q1: Valorisation
A2: J1 | B2: C793 | C2: 43466 | D2: CFE | E2: 23 | H2: 1 | I2: NICOLAS | J2: 23 | L2: =B2&D2&I2 -> C793CFENICOLAS | M2: =B2&I2 -> C793NICOLAS | N2: =IFERROR(VLOOKUP(L2,TU_CEFP,1,FALSE),VLOOKUP(M2,TU_CEFP,1,FALSE)) -> C793NICOLAS | O2: CEFP | P2: {=INDEX(OFFSET('Grilles tarifs'!G1:G127,,IF(OR(O2="CEFP",O2="SAMEDI"),E2-1,0)),MATCH(N2&O2,'Grilles tarifs'!A1:A127&'Grilles tarifs'!E1:E127,0))} -> 125
A3: J1 | B3: C793 | C3: 43466 | D3: CFC | E3: 0 | G3: 12.182 | H3: 2 | I3: NICOLAS | J3: 23 | L3: =B3&D3&I3 -> C793CFCNICOLAS | M3: =B3&I3 -> C793NICOLAS | N3: =IFERROR(VLOOKUP(L3,TU_CEFP,1,FALSE),VLOOKUP(M3,TU_CEFP,1,FALSE)) -> C793NICOLAS | O3: CEFP | P3: {=INDEX(OFFSET('Grilles tarifs'!G2:G128,,IF(OR(O3="CEFP",O3="SAMEDI"),E3-1,0)),MATCH(N3&O3,'Grilles tarifs'!A2:A128&'Grilles tarifs'!E2:E128,0))} -> 0
A4: J1 | B4: C793 | C4: 43466 | D4: PRESSCHEST | E4: 1 | G4: 0 | H4: 2 | I4: NICOLAS | J4: 23 | L4: =B4&D4&I4 -> C793PRESSCHESTNICOLAS | M4: =B4&I4 -> C793NICOLAS | N4: =IFERROR(VLOOKUP(L4,TU_CEFP,1,FALSE),VLOOKUP(M4,TU_CEFP,1,FALSE)) -> C793PRESSCHESTNICOLAS | O4: CEFP | P4: {=INDEX(OFFSET('Grilles tarifs'!G3:G129,,IF(OR(O4="CEFP",O4="SAMEDI"),E4-1,0)),MATCH(N4&O4,'Grilles tarifs'!A3:A129&'Grilles tarifs'!E3:E129,0))} -> 68
A5: J1 | B5: C213 | C5: 43466 | D5: CFE | E5: 9 | F5: 3 | H5: 1 | I5: NICOLAS | J5: 16 | L5: =B5&D5&I5 -> C213CFENICOLAS | M5: =B5&I5 -> C213NICOLAS | N5: =IFERROR(VLOOKUP(L5,TU_CEFP,1,FALSE),VLOOKUP(M5,TU_CEFP,1,FALSE)) -> C213NICOLAS | O5: TU | P5: {=INDEX(OFFSET('Grilles tarifs'!G4:G130,,IF(OR(O5="CEFP",O5="SAMEDI"),E5-1,0)),MATCH(N5&O5,'Grilles tarifs'!A4:A130&'Grilles tarifs'!E4:E130,0))} -> 89
A6: J1 | B6: C213 | C6: 43466 | D6: COURIR | E6: 1 | H6: 1 | I6: NICOLAS | J6: 16 | L6: =B6&D6&I6 -> C213COURIRNICOLAS | M6: =B6&I6 -> C213NICOLAS | N6: =IFERROR(VLOOKUP(L6,TU_CEFP,1,FALSE),VLOOKUP(M6,TU_CEFP,1,FALSE)) -> C213COURIRNICOLAS | O6: TU | P6: {=INDEX(OFFSET('Grilles tarifs'!G5:G131,,IF(OR(O6="CEFP",O6="SAMEDI"),E6-1,0)),MATCH(N6&O6,'Grilles tarifs'!A5:A131&'Grilles tarifs'!E5:E131,0))} -> 16
A7: J1 | B7: C213 | C7: 43466 | D7: CHALE | E7: 1 | H7: 1 | I7: NICOLAS | J7: 16 | L7: =B7&D7&I7 -> C213CHALENICOLAS | M7: =B7&I7 -> C213NICOLAS | N7: =IFERROR(VLOOKUP(L7,TU_CEFP,1,FALSE),VLOOKUP(M7,TU_CEFP,1,FALSE)) -> C213CHALENICOLAS | O7: TU | P7: {=INDEX(OFFSET('Grilles tarifs'!G6:G132,,IF(OR(O7="CEFP",O7="SAMEDI"),E7-1,0)),MATCH(N7&O7,'Grilles tarifs'!A6:A132&'Grilles tarifs'!E6:E132,0))} -> 19
A8: J1 | B8: C213 | C8: 43466 | D8: CFC | E8: 0 | G8: 12.336 | H8: 1 | I8: NICOLAS | J8: 16 | L8: =B8&D8&I8 -> C213CFCNICOLAS | M8: =B8&I8 -> C213NICOLAS | N8: =IFERROR(VLOOKUP(L8,TU_CEFP,1,FALSE),VLOOKUP(M8,TU_CEFP,1,FALSE)) -> C213CFCNICOLAS | O8: TU | P8: {=INDEX(OFFSET('Grilles tarifs'!G7:G133,,IF(OR(O8="CEFP",O8="SAMEDI"),E8-1,0)),MATCH(N8&O8,'Grilles tarifs'!A7:A133&'Grilles tarifs'!E7:E133,0))} -> 76
A9: J1 | B9: C213 | C9: 43466 | D9: QATAR | E9: 1 | H9: 1 | I9: NICOLAS | J9: 16 | L9: =B9&D9&I9 -> C213QATARNICOLAS | M9: =B9&I9 -> C213NICOLAS | N9: =IFERROR(VLOOKUP(L9,TU_CEFP,1,FALSE),VLOOKUP(M9,TU_CEFP,1,FALSE)) -> C213QATARNICOLAS | O9: TU | P9: {=INDEX(OFFSET('Grilles tarifs'!G8:G134,,IF(OR(O9="CEFP",O9="SAMEDI"),E9-1,0)),MATCH(N9&O9,'Grilles tarifs'!A8:A134&'Grilles tarifs'!E8:E134,0))} -> 22
A10: J1 | B10: C213 | C10: 43466 | D10: PARTIR | E10: 1 | H10: 1 | I10: NICOLAS | J10: 16 | L10: =B10&D10&I10 -> C213PARTIRNICOLAS | M10: =B10&I10 -> C213NICOLAS | N10: =IFERROR(VLOOKUP(L10,TU_CEFP,1,FALSE),VLOOKUP(M10,TU_CEFP,1,FALSE)) -> C213PARTIRNICOLAS | O10: TU | P10: {=INDEX(OFFSET('Grilles tarifs'!G9:G135,,IF(OR(O10="CEFP",O10="SAMEDI"),E10-1,0)),MATCH(N10&O10,'Grilles tarifs'!A9:A135&'Grilles tarifs'!E9:E135,0))} -> 18
A11: J1 | B11: C143 | C11: 43466 | D11: CFE | E11: 12 | G11: 0 | H11: 1 | I11: NICOLAS | J11: 17 | L11: =B11&D11&I11 -> C143CFENICOLAS | M11: =B11&I11 -> C143NICOLAS | N11: =IFERROR(VLOOKUP(L11,TU_CEFP,1,FALSE),VLOOKUP(M11,TU_CEFP,1,FALSE)) -> C143NICOLAS | O11: TU | P11: {=INDEX(OFFSET('Grilles tarifs'!G10:G136,,IF(OR(O11="CEFP",O11="SAMEDI"),E11-1,0)),MATCH(N11&O11,'Grilles tarifs'!A10:A136&'Grilles tarifs'!E10:E136,0))} -> 87
A12: J1 | B12: C143 | C12: 43466 | D12: COURIR | E12: 1 | H12: 1 | I12: NICOLAS | J12: 17 | L12: =B12&D12&I12 -> C143COURIRNICOLAS | M12: =B12&I12 -> C143NICOLAS | N12: =IFERROR(VLOOKUP(L12,TU_CEFP,1,FALSE),VLOOKUP(M12,TU_CEFP,1,FALSE)) -> C143COURIRNICOLAS | O12: TU | P12: {=INDEX(OFFSET('Grilles tarifs'!G11:G137,,IF(OR(O12="CEFP",O12="SAMEDI"),E12-1,0)),MATCH(N12&O12,'Grilles tarifs'!A11:A137&'Grilles tarifs'!E11:E137,0))} -> #N/A
A13: J1 | B13: C143 | C13: 43466 | D13: CHALE | E13: 2 | H13: 1 | I13: NICOLAS | J13: 17 | L13: =B13&D13&I13 -> C143CHALENICOLAS | M13: =B13&I13 -> C143NICOLAS | N13: =IFERROR(VLOOKUP(L13,TU_CEFP,1,FALSE),VLOOKUP(M13,TU_CEFP,1,FALSE)) -> C143CHALENICOLAS | O13: TU | P13: {=INDEX(OFFSET('Grilles tarifs'!G12:G138,,IF(OR(O13="CEFP",O13="SAMEDI"),E13-1,0)),MATCH(N13&O13,'Grilles tarifs'!A12:A138&'Grilles tarifs'!E12:E138,0))} -> #N/A
A14: J1 | B14: C143 | C14: 43466 | D14: CFC | E14: 0 | G14: 17.184 | H14: 1 | I14: NICOLAS | J14: 17 | L14: =B14&D14&I14 -> C143CFCNICOLAS | M14: =B14&I14 -> C143NICOLAS | N14: =IFERROR(VLOOKUP(L14,TU_CEFP,1,FALSE),VLOOKUP(M14,TU_CEFP,1,FALSE)) -> C143CFCNICOLAS | O14: TU | P14: {=INDEX(OFFSET('Grilles tarifs'!G13:G139,,IF(OR(O14="CEFP",O14="SAMEDI"),E14-1,0)),MATCH(N14&O14,'Grilles tarifs'!A13:A139&'Grilles tarifs'!E13:E139,0))} -> #N/A
A15: J1 | B15: C143 | C15: 43466 | D15: QATAR | E15: 1 | H15: 1 | I15: NICOLAS | J15: 17 | L15: =B15&D15&I15 -> C143QATARNICOLAS | M15: =B15&I15 -> C143NICOLAS | N15: =IFERROR(VLOOKUP(L15,TU_CEFP,1,FALSE),VLOOKUP(M15,TU_CEFP,1,FALSE)) -> C143QATARNICOLAS | O15: TU | P15: {=INDEX(OFFSET('Grilles tarifs'!G14:G140,,IF(OR(O15="CEFP",O15="SAMEDI"),E15-1,0)),MATCH(N15&O15,'Grilles tarifs'!A14:A140&'Grilles tarifs'!E14:E140,0))} -> 20
A16: J1 | B16: C143 | C16: 43466 | D16: RAFOU | E16: 1 | G16: 22.19 | H16: 1 | I16: NICOLAS | J16: 17 | L16: =B16&D16&I16 -> C143RAFOUNICOLAS | M16: =B16&I16 -> C143NICOLAS | N16: =IFERROR(VLOOKUP(L16,TU_CEFP,1,FALSE),VLOOKUP(M16,TU_CEFP,1,FALSE)) -> C143RAFOUNICOLAS | O16: TU | P16: {=INDEX(OFFSET('Grilles tarifs'!G15:G141,,IF(OR(O16="CEFP",O16="SAMEDI"),E16-1,0)),MATCH(N16&O16,'Grilles tarifs'!A15:A141&'Grilles tarifs'!E15:E141,0))} -> 1.407
A17: J1 | B17: C153 | C17: 43466 | D17: CFE | E17: 5 | H17: 1 | I17: NICOLAS | J17: 8 | L17: =B17&D17&I17 -> C153CFENICOLAS | M17: =B17&I17 -> C153NICOLAS | N17: =IFERROR(VLOOKUP(L17,TU_CEFP,1,FALSE),VLOOKUP(M17,TU_CEFP,1,FALSE)) -> C153NICOLAS | O17: TU | P17: {=INDEX(OFFSET('Grilles tarifs'!G16:G142,,IF(OR(O17="CEFP",O17="SAMEDI"),E17-1,0)),MATCH(N17&O17,'Grilles tarifs'!A16:A142&'Grilles tarifs'!E16:E142,0))} -> 88
A18: J1 | B18: C153 | C18: 43466 | D18: COURIR | E18: 1 | H18: 1 | I18: NICOLAS | J18: 8 | L18: =B18&D18&I18 -> C153COURIRNICOLAS | M18: =B18&I18 -> C153NICOLAS | N18: =IFERROR(VLOOKUP(L18,TU_CEFP,1,FALSE),VLOOKUP(M18,TU_CEFP,1,FALSE)) -> C153COURIRNICOLAS | O18: TU | P18: {=INDEX(OFFSET('Grilles tarifs'!G17:G143,,IF(OR(O18="CEFP",O18="SAMEDI"),E18-1,0)),MATCH(N18&O18,'Grilles tarifs'!A17:A143&'Grilles tarifs'!E17:E143,0))} -> #N/A
A19: J1 | B19: C153 | C19: 43466 | D19: CHALE | E19: 1 | H19: 1 | I19: NICOLAS | J19: 8 | L19: =B19&D19&I19 -> C153CHALENICOLAS | M19: =B19&I19 -> C153NICOLAS | N19: =IFERROR(VLOOKUP(L19,TU_CEFP,1,FALSE),VLOOKUP(M19,TU_CEFP,1,FALSE)) -> C153CHALENICOLAS | O19: TU | P19: {=INDEX(OFFSET('Grilles tarifs'!G18:G144,,IF(OR(O19="CEFP",O19="SAMEDI"),E19-1,0)),MATCH(N19&O19,'Grilles tarifs'!A18:A144&'Grilles tarifs'!E18:E144,0))} -> #N/A
A20: J1 | B20: C153 | C20: 43466 | D20: CFC | E20: 0 | G20: 20 | H20: 1 | I20: NICOLAS | J20: 8 | L20: =B20&D20&I20 -> C153CFCNICOLAS | M20: =B20&I20 -> C153NICOLAS | N20: =IFERROR(VLOOKUP(L20,TU_CEFP,1,FALSE),VLOOKUP(M20,TU_CEFP,1,FALSE)) -> C153CFCNICOLAS | O20: TU | P20: {=INDEX(OFFSET('Grilles tarifs'!G19:G145,,IF(OR(O20="CEFP",O20="SAMEDI"),E20-1,0)),MATCH(N20&O20,'Grilles tarifs'!A19:A145&'Grilles tarifs'!E19:E145,0))} -> #N/A
A21: J1 | B21: C153 | C21: 43466 | D21: QATAR | E21: 1 | H21: 1 | I21: NICOLAS | J21: 8 | L21: =B21&D21&I21 -> C153QATARNICOLAS | M21: =B21&I21 -> C153NICOLAS | N21: =IFERROR(VLOOKUP(L21,TU_CEFP,1,FALSE),VLOOKUP(M21,TU_CEFP,1,FALSE)) -> C153QATARNICOLAS | O21: TU | P21: {=INDEX(OFFSET('Grilles tarifs'!G20:G146,,IF(OR(O21="CEFP",O21="SAMEDI"),E21-1,0)),MATCH(N21&O21,'Grilles tarifs'!A20:A146&'Grilles tarifs'!E20:E146,0))} -> #N/A
A22: J1 | B22: C153 | C22: 43466 | D22: RAFOU | E22: 0 | G22: 13.17 | H22: 1 | I22: NICOLAS | J22: 8 | L22: =B22&D22&I22 -> C153RAFOUNICOLAS | M22: =B22&I22 -> C153NICOLAS | N22: =IFERROR(VLOOKUP(L22,TU_CEFP,1,FALSE),VLOOKUP(M22,TU_CEFP,1,FALSE)) -> C153RAFOUNICOLAS | O22: TU | P22: {=INDEX(OFFSET('Grilles tarifs'!G21:G147,,IF(OR(O22="CEFP",O22="SAMEDI"),E22-1,0)),MATCH(N22&O22,'Grilles tarifs'!A21:A147&'Grilles tarifs'!E21:E147,0))} -> 1.616
A23: J1 | B23: C293 | C23: 43466 | D23: CFE | E23: 5 | H23: 1 | I23: NEVER | J23: 6 | L23: =B23&D23&I23 -> C293CFENEVER | M23: =B23&I23 -> C293NEVER | N23: =IFERROR(VLOOKUP(L23,TU_CEFP,1,FALSE),VLOOKUP(M23,TU_CEFP,1,FALSE)) -> C293NEVER | O23: CEFP | P23: {=INDEX(OFFSET('Grilles tarifs'!G22:G148,,IF(OR(O23="CEFP",O23="SAMEDI"),E23-1,0)),MATCH(N23&O23,'Grilles tarifs'!A22:A148&'Grilles tarifs'!E22:E148,0))} -> 86
A24: J1 | B24: C293 | C24: 43466 | D24: COURIR | E24: 1 | H24: 1 | I24: NEVER | J24: 6 | L24: =B24&D24&I24 -> C293COURIRNEVER | M24: =B24&I24 -> C293NEVER | N24: =IFERROR(VLOOKUP(L24,TU_CEFP,1,FALSE),VLOOKUP(M24,TU_CEFP,1,FALSE)) -> C293COURIRNEVER | O24: CEFP | P24: {=INDEX(OFFSET('Grilles tarifs'!G23:G149,,IF(OR(O24="CEFP",O24="SAMEDI"),E24-1,0)),MATCH(N24&O24,'Grilles tarifs'!A23:A149&'Grilles tarifs'!E23:E149,0))} -> 45
A25: J1 | B25: C293 | C25: 43466 | D25: CFC | E25: 0 | G25: 17.266 | H25: 1 | I25: NEVER | J25: 6 | L25: =B25&D25&I25 -> C293CFCNEVER | M25: =B25&I25 -> C293NEVER | N25: =IFERROR(VLOOKUP(L25,TU_CEFP,1,FALSE),VLOOKUP(M25,TU_CEFP,1,FALSE)) -> C293CFCNEVER | O25: CEFP | P25: {=INDEX(OFFSET('Grilles tarifs'!G24:G150,,IF(OR(O25="CEFP",O25="SAMEDI"),E25-1,0)),MATCH(N25&O25,'Grilles tarifs'!A24:A150&'Grilles tarifs'!E24:E150,0))} -> 0
A26: J1 | B26: C633 | C26: 43466 | D26: CFE | E26: 1 | G26: 0 | H26: 1 | I26: NEVER | J26: 6 | L26: =B26&D26&I26 -> C633CFENEVER | M26: =B26&I26 -> C633NEVER | N26: =IFERROR(VLOOKUP(L26,TU_CEFP,1,FALSE),VLOOKUP(M26,TU_CEFP,1,FALSE)) -> C633NEVER | O26: CEFP | P26: {=INDEX(OFFSET('Grilles tarifs'!G25:G151,,IF(OR(O26="CEFP",O26="SAMEDI"),E26-1,0)),MATCH(N26&O26,'Grilles tarifs'!A25:A151&'Grilles tarifs'!E25:E151,0))} -> 83
A27: J1 | B27: C633 | C27: 43466 | D27: CHALE | E27: 2 | H27: 1 | I27: NEVER | J27: 6 | L27: =B27&D27&I27 -> C633CHALENEVER | M27: =B27&I27 -> C633NEVER | N27: =IFERROR(VLOOKUP(L27,TU_CEFP,1,FALSE),VLOOKUP(M27,TU_CEFP,1,FALSE)) -> C633CHALENEVER | O27: CEFP | P27: {=INDEX(OFFSET('Grilles tarifs'!G26:G152,,IF(OR(O27="CEFP",O27="SAMEDI"),E27-1,0)),MATCH(N27&O27,'Grilles tarifs'!A26:A152&'Grilles tarifs'!E26:E152,0))} -> 51
A28: J1 | B28: C633 | C28: 43466 | D28: CHOPPER | E28: 1 | H28: 1 | I28: NEVER | J28: 6 | L28: =B28&D28&I28 -> C633CHOPPERNEVER | M28: =B28&I28 -> C633NEVER | N28: =IFERROR(VLOOKUP(L28,TU_CEFP,1,FALSE),VLOOKUP(M28,TU_CEFP,1,FALSE)) -> C633CHOPPERNEVER | O28: CEFP | P28: {=INDEX(OFFSET('Grilles tarifs'!G27:G153,,IF(OR(O28="CEFP",O28="SAMEDI"),E28-1,0)),MATCH(N28&O28,'Grilles tarifs'!A27:A153&'Grilles tarifs'!E27:E153,0))} -> 65
A29: J1 | B29: C633 | C29: 43466 | D29: PAYS | E29: 1 | H29: 1 | I29: NEVER | J29: 6 | L29: =B29&D29&I29 -> C633PAYSNEVER | M29: =B29&I29 -> C633NEVER | N29: =IFERROR(VLOOKUP(L29,TU_CEFP,1,FALSE),VLOOKUP(M29,TU_CEFP,1,FALSE)) -> C633PAYSNEVER | O29: CEFP | P29: {=INDEX(OFFSET('Grilles tarifs'!G28:G154,,IF(OR(O29="CEFP",O29="SAMEDI"),E29-1,0)),MATCH(N29&O29,'Grilles tarifs'!A28:A154&'Grilles tarifs'!E28:E154,0))} -> 72
A30: J1 | B30: C633 | C30: 43466 | D30: QATAR | E30: 1 | H30: 1 | I30: NEVER | J30: 6 | L30: =B30&D30&I30 -> C633QATARNEVER | M30: =B30&I30 -> C633NEVER | N30: =IFERROR(VLOOKUP(L30,TU_CEFP,1,FALSE),VLOOKUP(M30,TU_CEFP,1,FALSE)) -> C633QATARNEVER | O30: CEFP | P30: {=INDEX(OFFSET('Grilles tarifs'!G29:G155,,IF(OR(O30="CEFP",O30="SAMEDI"),E30-1,0)),MATCH(N30&O30,'Grilles tarifs'!A29:A155&'Grilles tarifs'!E29:E155,0))} -> 54
A31: J1 | B31: C633 | C31: 43466 | D31: RAFOU | E31: 0 | G31: 10 | H31: 1 | I31: NEVER | J31: 6 | L31: =B31&D31&I31 -> C633RAFOUNEVER | M31: =B31&I31 -> C633NEVER | N31: =IFERROR(VLOOKUP(L31,TU_CEFP,1,FALSE),VLOOKUP(M31,TU_CEFP,1,FALSE)) -> C633RAFOUNEVER | O31: CEFP | P31: {=INDEX(OFFSET('Grilles tarifs'!G30:G156,,IF(OR(O31="CEFP",O31="SAMEDI"),E31-1,0)),MATCH(N31&O31,'Grilles tarifs'!A30:A156&'Grilles tarifs'!E30:E156,0))} -> 1.627
A32: J1 | B32: C083 | C32: 43466 | D32: CFE | E32: 19 | H32: 1 | I32: STAT | J32: 23 | L32: =B32&D32&I32 -> C083CFESTAT | M32: =B32&I32 -> C083STAT | N32: =IFERROR(VLOOKUP(L32,TU_CEFP,1,FALSE),VLOOKUP(M32,TU_CEFP,1,FALSE)) -> C083STAT | O32: CEFP | P32: {=INDEX(OFFSET('Grilles tarifs'!G31:G157,,IF(OR(O32="CEFP",O32="SAMEDI"),E32-1,0)),MATCH(N32&O32,'Grilles tarifs'!A31:A157&'Grilles tarifs'!E31:E157,0))} -> 103
A33: J1 | B33: C083 | C33: 43466 | D33: COURIR | E33: 1 | H33: 1 | I33: STAT | J33: 23 | L33: =B33&D33&I33 -> C083COURIRSTAT | M33: =B33&I33 -> C083STAT | N33: =IFERROR(VLOOKUP(L33,TU_CEFP,1,FALSE),VLOOKUP(M33,TU_CEFP,1,FALSE)) -> C083STAT | O33: CEFP | P33: {=INDEX(OFFSET('Grilles tarifs'!G32:G158,,IF(OR(O33="CEFP",O33="SAMEDI"),E33-1,0)),MATCH(N33&O33,'Grilles tarifs'!A32:A158&'Grilles tarifs'!E32:E158,0))} -> 85
A34: J1 | B34: C083 | C34: 43466 | D34: CFC | E34: 1 | G34: 73.935 | H34: 1 | I34: STAT | J34: 23 | L34: =B34&D34&I34 -> C083CFCSTAT | M34: =B34&I34 -> C083STAT | N34: =IFERROR(VLOOKUP(L34,TU_CEFP,1,FALSE),VLOOKUP(M34,TU_CEFP,1,FALSE)) -> C083STAT | O34: CEFP | P34: {=INDEX(OFFSET('Grilles tarifs'!G33:G159,,IF(OR(O34="CEFP",O34="SAMEDI"),E34-1,0)),MATCH(N34&O34,'Grilles tarifs'!A33:A159&'Grilles tarifs'!E33:E159,0))} -> 85
A35: J1 | B35: C083 | C35: 43466 | D35: PARTIR | E35: 2 | H35: 1 | I35: STAT | J35: 23 | L35: =B35&D35&I35 -> C083PARTIRSTAT | M35: =B35&I35 -> C083STAT | N35: =IFERROR(VLOOKUP(L35,TU_CEFP,1,FALSE),VLOOKUP(M35,TU_CEFP,1,FALSE)) -> C083STAT | O35: CEFP | P35: {=INDEX(OFFSET('Grilles tarifs'!G34:G160,,IF(OR(O35="CEFP",O35="SAMEDI"),E35-1,0)),MATCH(N35&O35,'Grilles tarifs'!A34:A160&'Grilles tarifs'!E34:E160,0))} -> 86
A36: J1 | B36: C725 | C36: 43466 | D36: CFE | E36: 3 | G36: 0 | H36: 1 | I36: STAT | J36: 7 | L36: =B36&D36&I36 -> C725CFESTAT | M36: =B36&I36 -> C725STAT | N36: =IFERROR(VLOOKUP(L36,TU_CEFP,1,FALSE),VLOOKUP(M36,TU_CEFP,1,FALSE)) -> C725STAT | O36: CEFP | P36: {=INDEX(OFFSET('Grilles tarifs'!G35:G161,,IF(OR(O36="CEFP",O36="SAMEDI"),E36-1,0)),MATCH(N36&O36,'Grilles tarifs'!A35:A161&'Grilles tarifs'!E35:E161,0))} -> 88
A37: J1 | B37: C725 | C37: 43466 | D37: COURIR | E37: 1 | H37: 1 | I37: STAT | J37: 7 | L37: =B37&D37&I37 -> C725COURIRSTAT | M37: =B37&I37 -> C725STAT | N37: =IFERROR(VLOOKUP(L37,TU_CEFP,1,FALSE),VLOOKUP(M37,TU_CEFP,1,FALSE)) -> C725STAT | O37: CEFP | P37: {=INDEX(OFFSET('Grilles tarifs'!G36:G162,,IF(OR(O37="CEFP",O37="SAMEDI"),E37-1,0)),MATCH(N37&O37,'Grilles tarifs'!A36:A162&'Grilles tarifs'!E36:E162,0))} -> 86
A38: J1 | B38: C725 | C38: 43466 | D38: CHALE | E38: 1 | H38: 1 | I38: STAT | J38: 7 | L38: =B38&D38&I38 -> C725CHALESTAT | M38: =B38&I38 -> C725STAT | N38: =IFERROR(VLOOKUP(L38,TU_CEFP,1,FALSE),VLOOKUP(M38,TU_CEFP,1,FALSE)) -> C725STAT | O38: CEFP | P38: {=INDEX(OFFSET('Grilles tarifs'!G37:G163,,IF(OR(O38="CEFP",O38="SAMEDI"),E38-1,0)),MATCH(N38&O38,'Grilles tarifs'!A37:A163&'Grilles tarifs'!E37:E163,0))} -> 86
A39: J1 | B39: C725 | C39: 43466 | D39: QATAR | E39: 1 | H39: 1 | I39: STAT | J39: 7 | L39: =B39&D39&I39 -> C725QATARSTAT | M39: =B39&I39 -> C725STAT | N39: =IFERROR(VLOOKUP(L39,TU_CEFP,1,FALSE),VLOOKUP(M39,TU_CEFP,1,FALSE)) -> C725STAT | O39: CEFP | P39: {=INDEX(OFFSET('Grilles tarifs'!G38:G164,,IF(OR(O39="CEFP",O39="SAMEDI"),E39-1,0)),MATCH(N39&O39,'Grilles tarifs'!A38:A164&'Grilles tarifs'!E38:E164,0))} -> 86
A40: J1 | B40: C725 | C40: 43466 | D40: RAFOU | E40: 1 | G40: 47.8 | H40: 1 | I40: STAT | J40: 7 | L40: =B40&D40&I40 -> C725RAFOUSTAT | M40: =B40&I40 -> C725STAT | N40: =IFERROR(VLOOKUP(L40,TU_CEFP,1,FALSE),VLOOKUP(M40,TU_CEFP,1,FALSE)) -> C725STAT | O40: CEFP | P40: {=INDEX(OFFSET('Grilles tarifs'!G39:G165,,IF(OR(O40="CEFP",O40="SAMEDI"),E40-1,0)),MATCH(N40&O40,'Grilles tarifs'!A39:A165&'Grilles tarifs'!E39:E165,0))} -> 86
A41: J1 | B41: C223 | C41: 43466 | D41: CFE | E41: 9 | H41: 1 | I41: BFM | J41: 11 | L41: =B41&D41&I41 -> C223CFEBFM | M41: =B41&I41 -> C223BFM | N41: =IFERROR(VLOOKUP(L41,TU_CEFP,1,FALSE),VLOOKUP(M41,TU_CEFP,1,FALSE)) -> C223BFM | O41: CEFP | P41: {=INDEX(OFFSET('Grilles tarifs'!G40:G166,,IF(OR(O41="CEFP",O41="SAMEDI"),E41-1,0)),MATCH(N41&O41,'Grilles tarifs'!A40:A166&'Grilles tarifs'!E40:E166,0))} -> 92
A42: J1 | B42: C223 | C42: 43466 | D42: COURIR | E42: 1 | H42: 1 | I42: BFM | J42: 11 | L42: =B42&D42&I42 -> C223COURIRBFM | M42: =B42&I42 -> C223BFM | N42: =IFERROR(VLOOKUP(L42,TU_CEFP,1,FALSE),VLOOKUP(M42,TU_CEFP,1,FALSE)) -> C223BFM | O42: CEFP | P42: {=INDEX(OFFSET('Grilles tarifs'!G41:G167,,IF(OR(O42="CEFP",O42="SAMEDI"),E42-1,0)),MATCH(N42&O42,'Grilles tarifs'!A41:A167&'Grilles tarifs'!E41:E167,0))} -> 84
A43: J1 | B43: C223 | C43: 43466 | D43: CFC | E43: 0 | G43: 19.176 | H43: 1 | I43: BFM | J43: 11 | L43: =B43&D43&I43 -> C223CFCBFM | M43: =B43&I43 -> C223BFM | N43: =IFERROR(VLOOKUP(L43,TU_CEFP,1,FALSE),VLOOKUP(M43,TU_CEFP,1,FALSE)) -> C223BFM | O43: CEFP | P43: {=INDEX(OFFSET('Grilles tarifs'!G42:G168,,IF(OR(O43="CEFP",O43="SAMEDI"),E43-1,0)),MATCH(N43&O43,'Grilles tarifs'!A42:A168&'Grilles tarifs'!E42:E168,0))} -> 0
A44: J1 | B44: C223 | C44: 43466 | D44: PARTIR | E44: 1 | H44: 1 | I44: BFM | J44: 11 | L44: =B44&D44&I44 -> C223PARTIRBFM | M44: =B44&I44 -> C223BFM | N44: =IFERROR(VLOOKUP(L44,TU_CEFP,1,FALSE),VLOOKUP(M44,TU_CEFP,1,FALSE)) -> C223BFM | O44: CEFP | P44: {=INDEX(OFFSET('Grilles tarifs'!G43:G169,,IF(OR(O44="CEFP",O44="SAMEDI"),E44-1,0)),MATCH(N44&O44,'Grilles tarifs'!A43:A169&'Grilles tarifs'!E43:E169,0))} -> 84
A45: J1 | B45: C073 | C45: 43466 | D45: CFC | E45: 1 | G45: 59.653 | H45: 0 | I45: VAR | J45: 5 | L45: =B45&D45&I45 -> C073CFCVAR | M45: =B45&I45 -> C073VAR | N45: =IFERROR(VLOOKUP(L45,TU_CEFP,1,FALSE),VLOOKUP(M45,TU_CEFP,1,FALSE)) -> C073VAR | O45: FORFAITCFC | P45: {=INDEX(OFFSET('Grilles tarifs'!G44:G170,,IF(OR(O45="CEFP",O45="SAMEDI"),E45-1,0)),MATCH(N45&O45,'Grilles tarifs'!A44:A170&'Grilles tarifs'!E44:E170,0))} -> 79
A46: J1 | B46: C073 | C46: 43466 | D46: QATAR | E46: 1 | H46: 0 | I46: GEGE | J46: 5 | L46: =B46&D46&I46 -> C073QATARGEGE | M46: =B46&I46 -> C073GEGE | N46: =IFERROR(VLOOKUP(L46,TU_CEFP,1,FALSE),VLOOKUP(M46,TU_CEFP,1,FALSE)) -> C073QATARGEGE | O46: TU | P46: {=INDEX(OFFSET('Grilles tarifs'!G45:G171,,IF(OR(O46="CEFP",O46="SAMEDI"),E46-1,0)),MATCH(N46&O46,'Grilles tarifs'!A45:A171&'Grilles tarifs'!E45:E171,0))} -> #N/A
A47: J1 | B47: C073 | C47: 43466 | D47: PARTIR | E47: 0 | H47: 0 | I47: GEGE | J47: 5 | L47: =B47&D47&I47 -> C073PARTIRGEGE | M47: =B47&I47 -> C073GEGE | N47: =IFERROR(VLOOKUP(L47,TU_CEFP,1,FALSE),VLOOKUP(M47,TU_CEFP,1,FALSE)) -> C073GEGE | O47: FORFAITPART1 | P47: {=INDEX(OFFSET('Grilles tarifs'!G46:G172,,IF(OR(O47="CEFP",O47="SAMEDI"),E47-1,0)),MATCH(N47&O47,'Grilles tarifs'!A46:A172&'Grilles tarifs'!E46:E172,0))} -> 81
A48: J1 | B48: C073 | C48: 43466 | D48: RAFOU | E48: 3 | G48: 258.714 | H48: 0 | I48: GEGE | J48: 5 | L48: =B48&D48&I48 -> C073RAFOUGEGE | M48: =B48&I48 -> C073GEGE | N48: =IFERROR(VLOOKUP(L48,TU_CEFP,1,FALSE),VLOOKUP(M48,TU_CEFP,1,FALSE)) -> C073RAFOUGEGE | O48: FORFAITRAFOU | P48: {=INDEX(OFFSET('Grilles tarifs'!G47:G173,,IF(OR(O48="CEFP",O48="SAMEDI"),E48-1,0)),MATCH(N48&O48,'Grilles tarifs'!A47:A173&'Grilles tarifs'!E47:E173,0))} -> #N/A

Sheet Grilles tarifs
A1: TU | F1: 0 | G1: 1 | H1: 2 | I1: 3 | J1: 4 | K1: 5 | L1: 6 | M1: 7 | N1: 8 | O1: 9 | P1: 10 | Q1: 11 | R1: 12 | S1: 13 | T1: 14 | U1: 15 | V1: 16 | W1: 17 | X1: 18 | Y1: 19 | Z1: 20 | AA1: 21 | AB1: 22 | AC1: 23 | AD1: 24 | AE1: 25 | AF1: 26 | AG1: 27 | AH1: 28 | AI1: 29 | AJ1: 30 | AK1: 31 | AL1: 32 | AM1: 33 | AN1: 34 | AO1: 35 | AP1: 36 | AQ1: 37 | AR1: 38 | AS1: 39 | AT1: 40 | AU1: 41 | AV1: 42 | AW1: 43 | AX1: 44 | AY1: 45 | AZ1: 46 | BA1: 47 | BB1: 48 | BC1: 49 | BD1: 50 | BE1: 51 | BF1: 52
A2: =B2&C2&D2 -> C143PAULNICOLAS | B2: C143 | C2: PAUL | D2: NICOLAS | E2: TU | F2: 0 | G2: 6 | H2: 7 | I2: 8 | J2: 9 | K2: 10 | L2: 11 | M2: 12 | N2: 13 | O2: 14 | P2: 15 | Q2: 16 | R2: 17 | S2: 18 | T2: 19 | U2: 20 | V2: 21 | W2: 22 | X2: 23 | Y2: 24 | Z2: 25 | AA2: 26 | AB2: 27 | AC2: 28 | AD2: 29 | AE2: 30 | AF2: 31 | AG2: 32 | AH2: 33 | AI2: 34 | AJ2: 35 | AK2: 36 | AL2: 37 | AM2: 38 | AN2: 39 | AO2: 40 | AP2: 41 | AQ2: 42 | AR2: 43 | AS2: 44 | AT2: 45 | AU2: 46 | AV2: 47 | AW2: 48 | AX2: 49 | AY2: 50 | AZ2: 51 | BA2: 52 | BB2: 53 | BC2: 54 | BD2: 55 | BE2: 56 | BF2: 57
A3: =B3&C3&D3 -> C143CFCNICOLAS | B3: C143 | C3: CFC | D3: NICOLAS | E3: TU | F3: 31 | G3: 31
A4: =B4&C4&D4 -> C143COURIRNICOLAS | B4: C143 | C4: COURIR | D4: NICOLAS | E4: TU | F4: 0 | G4: 7 | H4: 8 | I4: 9 | J4: 10 | K4: 11 | L4: 12 | M4: 13 | N4: 14 | O4: 15 | P4: 16 | Q4: 17 | R4: 18 | S4: 19 | T4: 20 | U4: 21 | V4: 22 | W4: 23 | X4: 24 | Y4: 25 | Z4: 26 | AA4: 27 | AB4: 28 | AC4: 29 | AD4: 30 | AE4: 31 | AF4: 32 | AG4: 33 | AH4: 34 | AI4: 35 | AJ4: 36 | AK4: 37 | AL4: 38 | AM4: 39 | AN4: 40 | AO4: 41 | AP4: 42 | AQ4: 43 | AR4: 44 | AS4: 45 | AT4: 46 | AU4: 47 | AV4: 48 | AW4: 49 | AX4: 50 | AY4: 51 | AZ4: 52 | BA4: 53 | BB4: 54 | BC4: 55 | BD4: 56 | BE4: 57 | BF4: 58
A5: =B5&C5&D5 -> C143DLCNICOLAS | B5: C143 | C5: DLC | D5: NICOLAS | E5: TU | F5: 0 | G5: 8 | H5: 9 | I5: 10 | J5: 11 | K5: 12 | L5: 13 | M5: 14 | N5: 15 | O5: 16 | P5: 17 | Q5: 18 | R5: 19 | S5: 20 | T5: 21 | U5: 22 | V5: 23 | W5: 24 | X5: 25
A6: =B6&C6&D6 -> C143CHALENICOLAS | B6: C143 | C6: CHALE | D6: NICOLAS | E6: TU | F6: 0 | G6: 9 | H6: 10 | I6: 11 | J6: 12 | K6: 13 | L6: 14 | M6: 15 | N6: 16 | O6: 17 | P6: 18 | Q6: 19 | R6: 20 | S6: 21 | T6: 22 | U6: 23 | V6: 24 | W6: 25 | X6: 26 | Y6: 27 | Z6: 28 | AA6: 29 | AB6: 30 | AC6: 31 | AD6: 32 | AE6: 33 | AF6: 34 | AG6: 35 | AH6: 36 | AI6: 37 | AJ6: 38 | AK6: 39 | AL6: 40 | AM6: 41
A7: =B7&C7&D7 -> C153PAULNICOLAS | B7: C153 | C7: PAUL | D7: NICOLAS | E7: TU | F7: 0 | G7: 10 | H7: 11 | I7: 12 | J7: 13 | K7: 14 | L7: 15 | M7: 16 | N7: 17 | O7: 18 | P7: 19 | Q7: 20 | R7: 21 | S7: 22 | T7: 23 | U7: 24 | V7: 25 | W7: 26 | X7: 27 | Y7: 28 | Z7: 29 | AA7: 30 | AB7: 31 | AC7: 32 | AD7: 33 | AE7: 34 | AF7: 35 | AG7: 36 | AH7: 37 | AI7: 38 | AJ7: 39 | AK7: 40 | AL7: 41 | AM7: 42 | AN7: 43 | AO7: 44 | AP7: 45 | AQ7: 46 | AR7: 47 | AS7: 48 | AT7: 49 | AU7: 50 | AV7: 51 | AW7: 52 | AX7: 53 | AY7: 54 | AZ7: 55 | BA7: 56 | BB7: 57 | BC7: 58 | BD7: 59 | BE7: 60 | BF7: 61
A8: =B8&C8&D8 -> C153CFCNICOLAS | B8: C153 | C8: CFC | D8: NICOLAS | E8: TU | F8: 11 | G8: 11
A9: =B9&C9&D9 -> C153COURIRNICOLAS | B9: C153 | C9: COURIR | D9: NICOLAS | E9: TU | F9: 0 | G9: 12 | H9: 13 | I9: 14 | J9: 15 | K9: 16 | L9: 17 | M9: 18 | N9: 19 | O9: 20 | P9: 21 | Q9: 22 | R9: 23 | S9: 24 | T9: 25 | U9: 26 | V9: 27 | W9: 28 | X9: 29 | Y9: 30 | Z9: 31 | AA9: 32 | AB9: 33 | AC9: 34 | AD9: 35 | AE9: 36 | AF9: 37 | AG9: 38 | AH9: 39 | AI9: 40 | AJ9: 41 | AK9: 42 | AL9: 43 | AM9: 44 | AN9: 45 | AO9: 46 | AP9: 47 | AQ9: 48 | AR9: 49 | AS9: 50 | AT9: 51 | AU9: 52 | AV9: 53 | AW9: 54 | AX9: 55 | AY9: 56 | AZ9: 57 | BA9: 58 | BB9: 59 | BC9: 60 | BD9: 61 | BE9: 62 | BF9: 63
A10: =B10&C10&D10 -> C153DLCNICOLAS | B10: C153 | C10: DLC | D10: NICOLAS | E10: TU | F10: 0 | G10: 13 | H10: 14 | I10: 15 | J10: 16 | K10: 17 | L10: 18 | M10: 19 | N10: 20 | O10: 21 | P10: 22 | Q10: 23 | R10: 24 | S10: 25 | T10: 26 | U10: 27 | V10: 28 | W10: 29 | X10: 30
A11: =B11&C11&D11 -> C153CHALENICOLAS | B11: C153 | C11: CHALE | D11: NICOLAS | E11: TU | F11: 0 | G11: 14 | H11: 15 | I11: 16 | J11: 17 | K11: 18 | L11: 19 | M11: 20 | N11: 21 | O11: 22 | P11: 23 | Q11: 24 | R11: 25 | S11: 26 | T11: 27 | U11: 28 | V11: 29 | W11: 30 | X11: 31 | Y11: 32 | Z11: 33 | AA11: 34 | AB11: 35 | AC11: 36 | AD11: 37 | AE11: 38 | AF11: 39 | AG11: 40 | AH11: 41 | AI11: 42 | AJ11: 43 | AK11: 44 | AL11: 45 | AM11: 46
A12: =B12&C12&D12 -> C213PAULNICOLAS | B12: C213 | C12: PAUL | D12: NICOLAS | E12: TU | F12: 0 | G12: 15 | H12: 16 | I12: 17 | J12: 18 | K12: 19 | L12: 20 | M12: 21 | N12: 22 | O12: 23 | P12: 24 | Q12: 25 | R12: 26 | S12: 27 | T12: 28 | U12: 29 | V12: 30 | W12: 31 | X12: 32 | Y12: 33 | Z12: 34 | AA12: 35 | AB12: 36 | AC12: 37 | AD12: 38 | AE12: 39 | AF12: 40 | AG12: 41 | AH12: 42 | AI12: 43 | AJ12: 44 | AK12: 45 | AL12: 46 | AM12: 47 | AN12: 48 | AO12: 49 | AP12: 50 | AQ12: 51 | AR12: 52 | AS12: 53 | AT12: 54 | AU12: 55 | AV12: 56 | AW12: 57 | AX12: 58 | AY12: 59 | AZ12: 60 | BA12: 61 | BB12: 62 | BC12: 63 | BD12: 64 | BE12: 65 | BF12: 66
A13: =B13&C13&D13 -> C213CFCNICOLAS | B13: C213 | C13: CFC | D13: NICOLAS | E13: TU | F13: 76 | G13: 76
A14: =B14&C14&D14 -> C213COURIRNICOLAS | B14: C213 | C14: COURIR | D14: NICOLAS | E14: TU | F14: 0 | G14: 16 | H14: 17 | I14: 18 | J14: 19 | K14: 20 | L14: 21 | M14: 22 | N14: 23 | O14: 24 | P14: 25 | Q14: 26 | R14: 27 | S14: 28 | T14: 29 | U14: 30 | V14: 31 | W14: 32 | X14: 33 | Y14: 34 | Z14: 35 | AA14: 36 | AB14: 37 | AC14: 38 | AD14: 39 | AE14: 40 | AF14: 41 | AG14: 42 | AH14: 43 | AI14: 44 | AJ14: 45 | AK14: 46 | AL14: 47 | AM14: 48 | AN14: 49 | AO14: 50 | AP14: 51 | AQ14: 52 | AR14: 53 | AS14: 54 | AT14: 55 | AU14: 56 | AV14: 57 | AW14: 58 | AX14: 59 | AY14: 60 | AZ14: 61 | BA14: 62 | BB14: 63 | BC14: 64 | BD14: 65 | BE14: 66 | BF14: 67
A15: =B15&C15&D15 -> C213DLCNICOLAS | B15: C213 | C15: DLC | D15: NICOLAS | E15: TU | F15: 0 | G15: 17 | H15: 18 | I15: 19 | J15: 20 | K15: 21 | L15: 22 | M15: 23 | N15: 24 | O15: 25 | P15: 26 | Q15: 27 | R15: 28 | S15: 29 | T15: 30 | U15: 31 | V15: 32 | W15: 33 | X15: 34
A16: =B16&C16&D16 -> C213PARTIRNICOLAS | B16: C213 | C16: PARTIR | D16: NICOLAS | E16: TU | F16: 0 | G16: 18 | H16: 19 | I16: 20 | J16: 21 | K16: 22 | L16: 23 | M16: 24 | N16: 25 | O16: 26 | P16: 27 | Q16: 28 | R16: 29 | S16: 30 | T16: 31 | U16: 32 | V16: 33 | W16: 34 | X16: 35 | Y16: 36 | Z16: 37 | AA16: 38 | AB16: 39 | AC16: 40 | AD16: 41 | AE16: 42 | AF16: 43 | AG16: 44 | AH16: 45 | AI16: 46 | AJ16: 47 | AK16: 48 | AL16: 49 | AM16: 50
A17: =B17&C17&D17 -> C213CHALENICOLAS | B17: C213 | C17: CHALE | D17: NICOLAS | E17: TU | F17: 0 | G17: 19 | H17: 20 | I17: 21 | J17: 22 | K17: 23 | L17: 24 | M17: 25 | N17: 26 | O17: 27 | P17: 28 | Q17: 29 | R17: 30 | S17: 31 | T17: 32 | U17: 33 | V17: 34 | W17: 35 | X17: 36 | Y17: 37 | Z17: 38 | AA17: 39 | AB17: 40 | AC17: 41 | AD17: 42 | AE17: 43 | AF17: 44 | AG17: 45 | AH17: 46 | AI17: 47 | AJ17: 48 | AK17: 49 | AL17: 50 | AM17: 51
A18: =B18&C18&D18 -> C143QATARNICOLAS | B18: C143 | C18: QATAR | D18: NICOLAS | E18: TU | F18: 0 | G18: 20 | H18: 21 | I18: 22 | J18: 23 | K18: 24 | L18: 25 | M18: 26 | N18: 27 | O18: 28 | P18: 29 | Q18: 30 | R18: 31 | S18: 32 | T18: 33 | U18: 34 | V18: 35 | W18: 36 | X18: 37 | Y18: 38 | Z18: 39 | AA18: 40 | AB18: 41 | AC18: 42 | AD18: 43 | AE18: 44 | AF18: 45 | AG18: 46 | AH18: 47 | AI18: 48 | AJ18: 49 | AK18: 50 | AL18: 51 | AM18: 52 | AN18: 53 | AO18: 54 | AP18: 55 | AQ18: 56 | AR18: 57 | AS18: 58 | AT18: 59 | AU18: 60 | AV18: 61 | AW18: 62 | AX18: 63 | AY18: 64 | AZ18: 65 | BA18: 66 | BB18: 67 | BC18: 68 | BD18: 69 | BE18: 70 | BF18: 71
A19: =B19&C19&D19 -> C153QATARNICOLAS | B19: C153 | C19: QATAR | D19: NICOLAS | E19: TU | F19: 0 | G19: 21 | H19: 22 | I19: 23 | J19: 24 | K19: 25 | L19: 26 | M19: 27 | N19: 28 | O19: 29 | P19: 30 | Q19: 31 | R19: 32 | S19: 33 | T19: 34 | U19: 35 | V19: 36 | W19: 37 | X19: 38 | Y19: 39 | Z19: 40 | AA19: 41 | AB19: 42 | AC19: 43 | AD19: 44 | AE19: 45 | AF19: 46 | AG19: 47 | AH19: 48 | AI19: 49 | AJ19: 50 | AK19: 51 | AL19: 52 | AM19: 53 | AN19: 54 | AO19: 55 | AP19: 56 | AQ19: 57 | AR19: 58 | AS19: 59 | AT19: 60 | AU19: 61 | AV19: 62 | AW19: 63 | AX19: 64 | AY19: 65 | AZ19: 66 | BA19: 67 | BB19: 68 | BC19: 69 | BD19: 70 | BE19: 71 | BF19: 72
A20: =B20&C20&D20 -> C213QATARNICOLAS | B20: C213 | C20: QATAR | D20: NICOLAS | E20: TU | F20: 0 | G20: 22 | H20: 23 | I20: 24 | J20: 25 | K20: 26 | L20: 27 | M20: 28 | N20: 29 | O20: 30 | P20: 31 | Q20: 32 | R20: 33 | S20: 34 | T20: 35 | U20: 36 | V20: 37 | W20: 38 | X20: 39 | Y20: 40 | Z20: 41 | AA20: 42 | AB20: 43 | AC20: 44 | AD20: 45 | AE20: 46 | AF20: 47 | AG20: 48 | AH20: 49 | AI20: 50 | AJ20: 51 | AK20: 52 | AL20: 53 | AM20: 54 | AN20: 55 | AO20: 56 | AP20: 57 | AQ20: 58 | AR20: 59 | AS20: 60 | AT20: 61 | AU20: 62 | AV20: 63 | AW20: 64 | AX20: 65 | AY20: 66 | AZ20: 67 | BA20: 68 | BB20: 69 | BC20: 70 | BD20: 71 | BE20: 72 | BF20: 73
A21: =B21&C21&D21 -> C073QATARGEGE | B21: C073 | C21: QATAR | D21: GEGE | E21: TU | F21: 0 | G21: 23 | H21: 24 | I21: 25 | J21: 26 | K21: 27 | L21: 28 | M21: 29 | N21: 30 | O21: 31 | P21: 32 | Q21: 33 | R21: 34 | S21: 35 | T21: 36 | U21: 37 | V21: 38 | W21: 39 | X21: 40 | Y21: 41 | Z21: 42 | AA21: 43 | AB21: 44 | AC21: 45 | AD21: 46 | AE21: 47 | AF21: 48 | AG21: 49 | AH21: 50 | AI21: 51 | AJ21: 52 | AK21: 53 | AL21: 54 | AM21: 55 | AN21: 56 | AO21: 57 | AP21: 58 | AQ21: 59 | AR21: 60 | AS21: 61 | AT21: 62 | AU21: 63 | AV21: 64 | AW21: 65 | AX21: 66 | AY21: 67 | AZ21: 68 | BA21: 69 | BB21: 70 | BC21: 71 | BD21: 72 | BE21: 73 | BF21: 74
A22: =B22&C22&D22 -> C143PRESSCHESTNICOLAS | B22: C143 | C22: PRESSCHEST | D22: NICOLAS | E22: TU | F22: 0 | G22: 24 | H22: 25 | I22: 26 | J22: 27 | K22: 28 | L22: 29 | M22: 30 | N22: 31 | O22: 32 | P22: 33 | Q22: 34 | R22: 35 | S22: 36 | T22: 37 | U22: 38 | V22: 39 | W22: 40 | X22: 41 | Y22: 42 | Z22: 43 | AA22: 44 | AB22: 45 | AC22: 46 | AD22: 47 | AE22: 48 | AF22: 49 | AG22: 50 | AH22: 51 | AI22: 52 | AJ22: 53 | AK22: 54 | AL22: 55 | AM22: 56 | AN22: 57 | AO22: 58 | AP22: 59 | AQ22: 60 | AR22: 61 | AS22: 62 | AT22: 63 | AU22: 64 | AV22: 65 | AW22: 66 | AX22: 67 | AY22: 68 | AZ22: 69 | BA22: 70 | BB22: 71 | BC22: 72 | BD22: 73 | BE22: 74 | BF22: 75
A23: =B23&C23&D23 -> C153PRESSCHESTNICOLAS | B23: C153 | C23: PRESSCHEST | D23: NICOLAS | E23: TU | F23: 0 | G23: 25 | H23: 26 | I23: 27 | J23: 28 | K23: 29 | L23: 30 | M23: 31 | N23: 32 | O23: 33 | P23: 34 | Q23: 35 | R23: 36 | S23: 37 | T23: 38 | U23: 39 | V23: 40 | W23: 41 | X23: 42 | Y23: 43 | Z23: 44 | AA23: 45 | AB23: 46 | AC23: 47 | AD23: 48 | AE23: 49 | AF23: 50 | AG23: 51 | AH23: 52 | AI23: 53 | AJ23: 54 | AK23: 55 | AL23: 56 | AM23: 57 | AN23: 58 | AO23: 59 | AP23: 60 | AQ23: 61 | AR23: 62 | AS23: 63 | AT23: 64 | AU23: 65 | AV23: 66 | AW23: 67 | AX23: 68 | AY23: 69 | AZ23: 70 | BA23: 71 | BB23: 72 | BC23: 73 | BD23: 74 | BE23: 75 | BF23: 76
A24: =B24&C24&D24 -> C213PRESSCHESTNICOLAS | B24: C213 | C24: PRESSCHEST | D24: NICOLAS | E24: TU | F24: 0 | G24: 26 | H24: 27 | I24: 28 | J24: 29 | K24: 30 | L24: 31 | M24: 32 | N24: 33 | O24: 34 | P24: 35 | Q24: 36 | R24: 37 | S24: 38 | T24: 39 | U24: 40 | V24: 41 | W24: 42 | X24: 43 | Y24: 44 | Z24: 45 | AA24: 46 | AB24: 47 | AC24: 48 | AD24: 49 | AE24: 50 | AF24: 51 | AG24: 52 | AH24: 53 | AI24: 54 | AJ24: 55 | AK24: 56 | AL24: 57 | AM24: 58 | AN24: 59 | AO24: 60 | AP24: 61 | AQ24: 62 | AR24: 63 | AS24: 64 | AT24: 65 | AU24: 66 | AV24: 67 | AW24: 68 | AX24: 69 | AY24: 70 | AZ24: 71 | BA24: 72 | BB24: 73 | BC24: 74 | BD24: 75 | BE24: 76 | BF24: 77
A25: =B25&C25&D25 -> C143CHALESAMEDINICOLAS | B25: C143 | C25: CHALESAMEDI | D25: NICOLAS | E25: samedi | F25: 0 | G25: 27 | H25: 28 | I25: 29 | J25: 30 | K25: 31 | L25: 32 | M25: 33 | N25: 34 | O25: 35 | P25: 36 | Q25: 37 | R25: 38 | S25: 39 | T25: 40 | U25: 41 | V25: 42 | W25: 43 | X25: 44 | Y25: 45 | Z25: 46 | AA25: 47 | AB25: 48 | AC25: 49 | AD25: 50 | AE25: 51 | AF25: 52 | AG25: 53 | AH25: 54 | AI25: 55 | AJ25: 56 | AK25: 57 | AL25: 58 | AM25: 59
A26: =B26&C26&D26 -> C153CHALESAMEDINICOLAS | B26: C153 | C26: CHALESAMEDI | D26: NICOLAS | E26: samedi | F26: 0 | G26: 28 | H26: 29 | I26: 30 | J26: 31 | K26: 32 | L26: 33 | M26: 34 | N26: 35 | O26: 36 | P26: 37 | Q26: 38 | R26: 39 | S26: 40 | T26: 41 | U26: 42 | V26: 43 | W26: 44 | X26: 45 | Y26: 46 | Z26: 47 | AA26: 48 | AB26: 49 | AC26: 50 | AD26: 51 | AE26: 52 | AF26: 53 | AG26: 54 | AH26: 55 | AI26: 56 | AJ26: 57 | AK26: 58 | AL26: 59 | AM26: 60
A27: =B27&C27&D27 -> C213CHALESAMEDINICOLAS | B27: C213 | C27: CHALESAMEDI | D27: NICOLAS | E27: samedi | F27: 0 | G27: 29 | H27: 30 | I27: 31 | J27: 32 | K27: 33 | L27: 34 | M27: 35 | N27: 36 | O27: 37 | P27: 38 | Q27: 39 | R27: 40 | S27: 41 | T27: 42 | U27: 43 | V27: 44 | W27: 45 | X27: 46 | Y27: 47 | Z27: 48 | AA27: 49 | AB27: 50 | AC27: 51 | AD27: 52 | AE27: 53 | AF27: 54 | AG27: 55 | AH27: 56 | AI27: 57 | AJ27: 58 | AK27: 59 | AL27: 60 | AM27: 61
A28: =B28&C28&D28 -> C073RAFOUGEGE | B28: C073 | C28: RAFOU | D28: GEGE | E28: FORFAITRAFOU | F28: 1.096 | G28: 1.096
A29: =B29&C29&D29 -> C143RAFOUNICOLAS | B29: C143 | C29: RAFOU | D29: NICOLAS | E29: TU | F29: 1.407 | G29: 1.407
A30: =B30&C30&D30 -> C153RAFOUNICOLAS | B30: C153 | C30: RAFOU | D30: NICOLAS | E30: TU | F30: 1.616 | G30: 1.616
A31: =B31&C31&D31 -> C213RAFOUNICOLAS | B31: C213 | C31: RAFOU | D31: NICOLAS | E31: TU | F31: 1.924 | G31: 1.924
A32: =B32&C32&D32 -> C143PARTIRNICOLAS | B32: C143 | C32: PARTIR | D32: NICOLAS | E32: TU | F32: 0 | G32: 30 | H32: 31 | I32: 32 | J32: 33 | K32: 34 | L32: 35 | M32: 36 | N32: 37 | O32: 38 | P32: 39 | Q32: 40 | R32: 41 | S32: 42 | T32: 43 | U32: 44 | V32: 45 | W32: 46 | X32: 47 | Y32: 48 | Z32: 49 | AA32: 50 | AB32: 51 | AC32: 52 | AD32: 53 | AE32: 54 | AF32: 55 | AG32: 56 | AH32: 57 | AI32: 58 | AJ32: 59 | AK32: 60 | AL32: 61 | AM32: 62
A33: =B33&C33&D33 -> C153PARTIRNICOLAS | B33: C153 | C33: PARTIR | D33: NICOLAS | E33: TU | F33: 0 | G33: 31 | H33: 32 | I33: 33 | J33: 34 | K33: 35 | L33: 36 | M33: 37 | N33: 38 | O33: 39 | P33: 40 | Q33: 41 | R33: 42 | S33: 43 | T33: 44 | U33: 45 | V33: 46 | W33: 47 | X33: 48 | Y33: 49 | Z33: 50 | AA33: 51 | AB33: 52 | AC33: 53 | AD33: 54 | AE33: 55 | AF33: 56 | AG33: 57 | AH33: 58 | AI33: 59 | AJ33: 60 | AK33: 61 | AL33: 62 | AM33: 63
A34: =B34&C34&D34 -> C633CHALESAMEDINEVER | B34: C633 | C34: CHALESAMEDI | D34: NEVER | E34: samedi | F34: 0 | G34: 32 | H34: 33 | I34: 34 | J34: 35 | K34: 36 | L34: 37 | M34: 38 | N34: 39 | O34: 40 | P34: 41 | Q34: 42 | R34: 43 | S34: 44 | T34: 45 | U34: 46 | V34: 47 | W34: 48 | X34: 49 | Y34: 50 | Z34: 51 | AA34: 52 | AB34: 53 | AC34: 54 | AD34: 55 | AE34: 56 | AF34: 57 | AG34: 58 | AH34: 59 | AI34: 60 | AJ34: 61 | AK34: 62 | AL34: 63 | AM34: 64
A35: =B35&C35&D35 -> C223COURIRSAMEDISNCF | B35: C223 | C35: COURIRSAMEDI | D35: SNCF | E35: samedi | F35: 0 | G35: 33 | H35: 34 | I35: 35 | J35: 36 | K35: 37 | L35: 38 | M35: 39 | N35: 40 | O35: 41 | P35: 42 | Q35: 43 | R35: 44 | S35: 45 | T35: 46 | U35: 47 | V35: 48 | W35: 49 | X35: 50 | Y35: 51 | Z35: 52 | AA35: 53 | AB35: 54 | AC35: 55 | AD35: 56 | AE35: 57 | AF35: 58 | AG35: 59 | AH35: 60 | AI35: 61 | AJ35: 62 | AK35: 63 | AL35: 64 | AM35: 65 | AN35: 66 | AO35: 67 | AP35: 68 | AQ35: 69 | AR35: 70 | AS35: 71 | AT35: 72 | AU35: 73 | AV35: 74 | AW35: 75 | AX35: 76 | AY35: 77 | AZ35: 78 | BA35: 79 | BB35: 80 | BC35: 81 | BD35: 82 | BE35: 83 | BF35: 84
A36: =B36&C36&D36 -> C073SIVETVAR | B36: C073 | C36: SIVET | D36: VAR | E36: FORFAITSIVET | F36: 0 | G36: 34 | H36: 35 | I36: 36 | J36: 37 | K36: 38 | L36: 39 | M36: 40 | N36: 41 | O36: 42 | P36: 43
A37: =B37&C37&D37 -> C143SIVETNICOLAS | B37: C143 | C37: SIVET | D37: NICOLAS | E37: TU | F37: 0 | G37: 0 | H37: 0 | I37: 0 | J37: 0 | K37: 0 | L37: 0 | M37: 0 | N37: 0 | O37: 0 | P37: 0
A38: =B38&C38&D38 -> C153SIVETNICOLAS | B38: C153 | C38: SIVET | D38: NICOLAS | E38: TU | F38: 0 | G38: 0 | H38: 0 | I38: 0 | J38: 0 | K38: 0 | L38: 0 | M38: 0 | N38: 0 | O38: 0 | P38: 0
A39: =B39&C39&D39 -> C213SIVETNICOLAS | B39: C213 | C39: SIVET | D39: NICOLAS | E39: TU | F39: 0 | G39: 0 | H39: 0 | I39: 0 | J39: 0 | K39: 0 | L39: 0 | M39: 0 | N39: 0 | O39: 0 | P39: 0
A40: =B40&C40&D40 -> C143CHOPPERNICOLAS | B40: C143 | C40: CHOPPER | D40: NICOLAS | E40: TU | F40: 0 | G40: 35 | H40: 36 | I40: 37
A41: =B41&C41&D41 -> C073DURDANGER | B41: C073 | C41: DUR | D41: DANGER | E41: FORFAITDUR | G41: 36 | H41: 37 | I41: 38 | J41: 39 | K41: 40 | L41: 41 | M41: 42 | N41: 43 | O41: 44 | P41: 45 | Q41: 46 | R41: 47 | S41: 48 | T41: 49 | U41: 50 | V41: 51 | W41: 52 | X41: 53 | Y41: 54 | Z41: 55 | AA41: 56 | AB41: 57 | AC41: 58 | AD41: 59 | AE41: 60 | AF41: 61 | AG41: 62 | AH41: 63 | AI41: 64 | AJ41: 65 | AK41: 66 | AL41: 67 | AM41: 68
A42: =B42&C42&D42 -> C213DURNICOLAS | B42: C213 | C42: DUR | D42: NICOLAS | E42: TU | G42: 37 | H42: 38 | I42: 39 | J42: 40 | K42: 41 | L42: 42 | M42: 43 | N42: 44 | O42: 45 | P42: 46 | Q42: 47 | R42: 48 | S42: 49 | T42: 50 | U42: 51 | V42: 52 | W42: 53
A43: =B43&C43&D43 -> C143COURIRSAMEDINICOLAS | B43: C143 | C43: COURIRSAMEDI | D43: NICOLAS | E43: samedi | F43: 0 | G43: 38 | H43: 39 | I43: 40 | J43: 41 | K43: 42 | L43: 43 | M43: 44 | N43: 45 | O43: 46 | P43: 47
A44: CEFP CI-DESSOUS | F44: 0 | G44: 1 | H44: 2 | I44: 3 | J44: 4 | K44: 5 | L44: 6 | M44: 7 | N44: 8 | O44: 9 | P44: 10 | Q44: 11 | R44: 12 | S44: 13 | T44: 14 | U44: 15 | V44: 16 | W44: 17 | X44: 18 | Y44: 19 | Z44: 20 | AA44: 21 | AB44: 22 | AC44: 23 | AD44: 24 | AE44: 25 | AF44: 26 | AG44: 27 | AH44: 28 | AI44: 29 | AJ44: 30 | AK44: 31 | AL44: 32 | AM44: 33 | AN44: 34 | AO44: 35 | AP44: 36 | AQ44: 37 | AR44: 38 | AS44: 39 | AT44: 40 | AU44: 41 | AV44: 42 | AW44: 43 | AX44: 44 | AY44: 45 | AZ44: 46 | BA44: 47 | BB44: 48 | BC44: 49 | BD44: 50 | BE44: 51 | BF44: 52 | BG44: 53 | BH44: 54 | BI44: 55 | BJ44: 56 | BK44: 57 | BL44: 58 | BM44: 59 | BN44: 60 | BO44: 61 | BP44: 62 | BQ44: 63 | BR44: 64 | BS44: 65 | BT44: 66 | BU44: 67 | BV44: 68 | BW44: 69 | BX44: 70 | BY44: 71 | BZ44: 72 | CA44: 73 | CB44: 74 | CC44: 75 | CD44: 76 | CE44: 77 | CF44: 78 | CG44: 79 | CH44: 80 | CI44: 81 | CJ44: 82 | CK44: 83 | CL44: 84 | CM44: 85 | CN44: 86 | CO44: 87 | CP44: 88 | CQ44: 89 | CR44: 90 | CS44: 91 | CT44: 92 | CU44: 93 | CV44: 94 | CW44: 95 | CX44: 96 | CY44: 97 | CZ44: 98 | DA44: 99 | DB44: 100 | DC44: 101 | DD44: 102 | DE44: 103 | DF44: 104 | DG44: 105 | DH44: 106 | DI44: 107 | DJ44: 108 | DK44: 109 | DL44: 110 | DM44: 111 | DN44: 112 | DO44: 113 | DP44: 114 | DQ44: 115 | DR44: 116 | DS44: 117 | DT44: 118 | DU44: 119 | DV44: 120 | DW44: 121 | DX44: 122 | DY44: 123 | DZ44: 124 | EA44: 125 | EB44: 126 | EC44: 127 | ED44: 128 | EE44: 129 | EF44: 130 | EG44: 131 | EH44: 132
A45: =B45&C45&D45 -> C083COURIRLUCIFER | B45: C083 | C45: COURIR | D45: LUCIFER | E45: CEFP | F45: 0 | G45: 39 | H45: 40 | I45: 41 | J45: 42 | K45: 43 | L45: 44 | M45: 45 | N45: 46 | O45: 47 | P45: 48 | Q45: 49 | R45: 50 | S45: 51 | T45: 52 | U45: 53 | V45: 54 | W45: 55 | X45: 56 | Y45: 57 | Z45: 58 | AA45: 59 | AB45: 60 | AC45: 61 | AD45: 62 | AE45: 63 | AF45: 64 | AG45: 65 | AH45: 66 | AI45: 67 | AJ45: 68 | AK45: 69 | AL45: 70 | AM45: 71 | AN45: 72 | AO45: 73 | AP45: 74 | AQ45: 75 | AR45: 76 | AS45: 77 | AT45: 78 | AU45: 79 | AV45: 80 | AW45: 81 | AX45: 82 | AY45: 83 | AZ45: 84 | BA45: 85 | BB45: 86 | BC45: 87 | BD45: 88 | BE45: 89 | BF45: 90
A46: =B46&C46&D46 -> C083PARTIRLUCIFER | B46: C083 | C46: PARTIR | D46: LUCIFER | E46: CEFP | F46: 0 | G46: 40 | H46: 41 | I46: 42 | J46: 43 | K46: 44 | L46: 45 | M46: 46 | N46: 47 | O46: 48 | P46: 49 | Q46: 50 | R46: 51 | S46: 52 | T46: 53 | U46: 54 | V46: 55 | W46: 56 | X46: 57 | Y46: 58 | Z46: 59 | AA46: 60 | AB46: 61 | AC46: 62 | AD46: 63 | AE46: 64 | AF46: 65 | AG46: 66 | AH46: 67 | AI46: 68 | AJ46: 69 | AK46: 70 | AL46: 71 | AM46: 72
A47: =B47&C47&D47 -> C223COURIRSNCF | B47: C223 | C47: COURIR | D47: SNCF | E47: CEFP | F47: 0 | G47: 41 | H47: 42 | I47: 43 | J47: 44 | K47: 45 | L47: 46 | M47: 47 | N47: 48 | O47: 49 | P47: 50 | Q47: 51 | R47: 52 | S47: 53 | T47: 54 | U47: 55 | V47: 56 | W47: 57 | X47: 58 | Y47: 59 | Z47: 60 | AA47: 61 | AB47: 62 | AC47: 63 | AD47: 64 | AE47: 65 | AF47: 66 | AG47: 67 | AH47: 68 | AI47: 69 | AJ47: 70 | AK47: 71 | AL47: 72 | AM47: 73 | AN47: 74 | AO47: 75 | AP47: 76 | AQ47: 77 | AR47: 78 | AS47: 79 | AT47: 80 | AU47: 81 | AV47: 82 | AW47: 83 | AX47: 84 | AY47: 85 | AZ47: 86 | BA47: 87 | BB47: 88 | BC47: 89 | BD47: 90 | BE47: 91 | BF47: 92
A48: =B48&C48&D48 -> C223PARTIRSNCF | B48: C223 | C48: PARTIR | D48: SNCF | E48: CEFP | F48: 0 | G48: 42 | H48: 43 | I48: 44 | J48: 45 | K48: 46 | L48: 47 | M48: 48 | N48: 49 | O48: 50 | P48: 51 | Q48: 52 | R48: 53 | S48: 54 | T48: 55 | U48: 56 | V48: 57 | W48: 58 | X48: 59 | Y48: 60 | Z48: 61 | AA48: 62 | AB48: 63 | AC48: 64 | AD48: 65 | AE48: 66 | AF48: 67 | AG48: 68 | AH48: 69 | AI48: 70 | AJ48: 71 | AK48: 72 | AL48: 73 | AM48: 74
A49: =B49&C49&D49 -> C223QATARSNCF | B49: C223 | C49: QATAR | D49: SNCF | E49: CEFP | F49: 0 | G49: 0
A50: =B50&C50&D50 -> C293PAULNEVER | B50: C293 | C50: PAUL | D50: NEVER | E50: CEFP | F50: 0 | G50: 43 | H50: 44 | I50: 45 | J50: 46 | K50: 47 | L50: 48 | M50: 49 | N50: 50 | O50: 51 | P50: 52 | Q50: 53 | R50: 54 | S50: 55 | T50: 56 | U50: 57 | V50: 58 | W50: 59 | X50: 60 | Y50: 61 | Z50: 62 | AA50: 63 | AB50: 64 | AC50: 65 | AD50: 66 | AE50: 67 | AF50: 68 | AG50: 69 | AH50: 70 | AI50: 71 | AJ50: 72 | AK50: 73 | AL50: 74 | AM50: 75 | AN50: 76 | AO50: 77 | AP50: 78 | AQ50: 79 | AR50: 80 | AS50: 81 | AT50: 82 | AU50: 83 | AV50: 84 | AW50: 85 | AX50: 86 | AY50: 87 | AZ50: 88 | BA50: 89 | BB50: 90 | BC50: 91 | BD50: 92 | BE50: 93 | BF50: 94
A51: =B51&C51&D51 -> C293CFCNEVER | B51: C293 | C51: CFC | D51: NEVER | E51: CEFP | F51: 0 | G51: 44 | H51: 45 | I51: 46 | J51: 47 | K51: 48 | L51: 49 | M51: 50 | N51: 51 | O51: 52 | P51: 53 | Q51: 54 | R51: 55 | S51: 56 | T51: 57 | U51: 58 | V51: 59 | W51: 60 | X51: 61 | Y51: 62 | Z51: 63 | AA51: 64 | AB51: 65 | AC51: 66 | AD51: 67 | AE51: 68 | AF51: 69 | AG51: 70 | AH51: 71 | AI51: 72 | AJ51: 73 | AK51: 74 | AL51: 75 | AM51: 76 | AN51: 77 | AO51: 78 | AP51: 79 | AQ51: 80 | AR51: 81 | AS51: 82 | AT51: 83 | AU51: 84 | AV51: 85 | AW51: 86 | AX51: 87 | AY51: 88 | AZ51: 89 | BA51: 90 | BB51: 91 | BC51: 92 | BD51: 93 | BE51: 94 | BF51: 95 | BG51: 96 | BH51: 97 | BI51: 98 | BJ51: 99 | BK51: 100 | BL51: 101 | BM51: 102 | BN51: 103 | BO51: 104 | BP51: 105 | BQ51: 106 | BR51: 107 | BS51: 108 | BT51: 109 | BU51: 110 | BV51: 111 | BW51: 112 | BX51: 113 | BY51: 114 | BZ51: 115 | CA51: 116 | CB51: 117 | CC51: 118 | CD51: 119 | CE51: 120 | CF51: 121 | CG51: 122 | CH51: 123 | CI51: 124 | CJ51: 125 | CK51: 126 | CL51: 127 | CM51: 128 | CN51: 129 | CO51: 130 | CP51: 131 | CQ51: 132 | CR51: 133 | CS51: 134 | CT51: 135 | CU51: 136 | CV51: 137 | CW51: 138 | CX51: 139 | CY51: 140 | CZ51: 141 | DA51: 142 | DB51: 143 | DC51: 144 | DD51: 145 | DE51: 146 | DF51: 147 | DG51: 148 | DH51: 149 | DI51: 150 | DJ51: 151 | DK51: 152 | DL51: 153 | DM51: 154 | DN51: 155 | DO51: 156 | DP51: 157 | DQ51: 158 | DR51: 159 | DS51: 160 | DT51: 161 | DU51: 162 | DV51: 163 | DW51: 164 | DX51: 165 | DY51: 166 | DZ51: 167 | EA51: 168 | EB51: 169 | EC51: 170 | ED51: 171 | EE51: 172 | EF51: 173 | EG51: 174 | EH51: 175
A52: =B52&C52&D52 -> C293COURIRNEVER | B52: C293 | C52: COURIR | D52: NEVER | E52: CEFP | F52: 0 | G52: 45 | H52: 46 | I52: 47 | J52: 48 | K52: 49 | L52: 50 | M52: 51 | N52: 52 | O52: 53 | P52: 54 | Q52: 55 | R52: 56 | S52: 57 | T52: 58 | U52: 59 | V52: 60 | W52: 61 | X52: 62 | Y52: 63 | Z52: 64 | AA52: 65 | AB52: 66 | AC52: 67 | AD52: 68 | AE52: 69 | AF52: 70 | AG52: 71 | AH52: 72 | AI52: 73 | AJ52: 74 | AK52: 75 | AL52: 76 | AM52: 77 | AN52: 78 | AO52: 79 | AP52: 80 | AQ52: 81 | AR52: 82 | AS52: 83 | AT52: 84 | AU52: 85 | AV52: 86 | AW52: 87 | AX52: 88 | AY52: 89 | AZ52: 90 | BA52: 91 | BB52: 92 | BC52: 93 | BD52: 94 | BE52: 95 | BF52: 96
A53: =B53&C53&D53 -> C293DLCNEVER | B53: C293 | C53: DLC | D53: NEVER | E53: CEFP | F53: 0 | G53: 46 | H53: 47 | I53: 48 | J53: 49 | K53: 50 | L53: 51 | M53: 52 | N53: 53 | O53: 54 | P53: 55 | Q53: 56 | R53: 57 | S53: 58 | T53: 59 | U53: 60 | V53: 61 | W53: 62 | X53: 63
A54: =B54&C54&D54 -> C633PAULNEVER | B54: C633 | C54: PAUL | D54: NEVER | E54: CEFP | F54: 0 | G54: 47 | H54: 48 | I54: 49 | J54: 50 | K54: 51 | L54: 52 | M54: 53 | N54: 54 | O54: 55 | P54: 56 | Q54: 57 | R54: 58 | S54: 59 | T54: 60 | U54: 61 | V54: 62 | W54: 63 | X54: 64 | Y54: 65 | Z54: 66 | AA54: 67 | AB54: 68 | AC54: 69 | AD54: 70 | AE54: 71 | AF54: 72 | AG54: 73 | AH54: 74 | AI54: 75 | AJ54: 76 | AK54: 77 | AL54: 78 | AM54: 79 | AN54: 80 | AO54: 81 | AP54: 82 | AQ54: 83 | AR54: 84 | AS54: 85 | AT54: 86 | AU54: 87 | AV54: 88 | AW54: 89 | AX54: 90 | AY54: 91 | AZ54: 92 | BA54: 93 | BB54: 94 | BC54: 95 | BD54: 96 | BE54: 97 | BF54: 98
A55: =B55&C55&D55 -> C633COURIRNEVER | B55: C633 | C55: COURIR | D55: NEVER | E55: CEFP | F55: 0 | G55: 48 | H55: 49 | I55: 50 | J55: 51 | K55: 52 | L55: 53 | M55: 54 | N55: 55 | O55: 56 | P55: 57 | Q55: 58 | R55: 59 | S55: 60 | T55: 61 | U55: 62 | V55: 63 | W55: 64 | X55: 65 | Y55: 66 | Z55: 67 | AA55: 68 | AB55: 69 | AC55: 70 | AD55: 71 | AE55: 72 | AF55: 73 | AG55: 74 | AH55: 75 | AI55: 76 | AJ55: 77 | AK55: 78 | AL55: 79 | AM55: 80 | AN55: 81 | AO55: 82 | AP55: 83 | AQ55: 84 | AR55: 85 | AS55: 86 | AT55: 87 | AU55: 88 | AV55: 89 | AW55: 90 | AX55: 91 | AY55: 92 | AZ55: 93 | BA55: 94 | BB55: 95 | BC55: 96 | BD55: 97 | BE55: 98 | BF55: 99
A56: =B56&C56&D56 -> C633DLCNEVER | B56: C633 | C56: DLC | D56: NEVER | E56: CEFP | F56: 0 | G56: 49 | H56: 50 | I56: 51 | J56: 52 | K56: 53 | L56: 54 | M56: 55 | N56: 56 | O56: 57 | P56: 58 | Q56: 59 | R56: 60 | S56: 61 | T56: 62 | U56: 63 | V56: 64 | W56: 65 | X56: 66
A57: =B57&C57&D57 -> C633CHALENEVER | B57: C633 | C57: CHALE | D57: NEVER | E57: CEFP | F57: 0 | G57: 50 | H57: 51 | I57: 52 | J57: 53 | K57: 54 | L57: 55 | M57: 56 | N57: 57 | O57: 58 | P57: 59 | Q57: 60 | R57: 61 | S57: 62 | T57: 63 | U57: 64 | V57: 65 | W57: 66 | X57: 67 | Y57: 68 | Z57: 69 | AA57: 70 | AB57: 71 | AC57: 72 | AD57: 73 | AE57: 74 | AF57: 75 | AG57: 76 | AH57: 77 | AI57: 78 | AJ57: 79 | AK57: 80 | AL57: 81 | AM57: 82
A58: =B58&C58&D58 -> C725PAULLUCIFER | B58: C725 | C58: PAUL | D58: LUCIFER | E58: CEFP | F58: 0 | G58: 51 | H58: 52 | I58: 53 | J58: 54 | K58: 55 | L58: 56 | M58: 57 | N58: 58 | O58: 59 | P58: 60 | Q58: 61 | R58: 62 | S58: 63 | T58: 64 | U58: 65 | V58: 66 | W58: 67 | X58: 68 | Y58: 69 | Z58: 70 | AA58: 71 | AB58: 72 | AC58: 73 | AD58: 74 | AE58: 75 | AF58: 76 | AG58: 77 | AH58: 78 | AI58: 79 | AJ58: 80 | AK58: 81 | AL58: 82 | AM58: 83 | AN58: 84 | AO58: 85 | AP58: 86 | AQ58: 87 | AR58: 88 | AS58: 89 | AT58: 90 | AU58: 91 | AV58: 92 | AW58: 93 | AX58: 94 | AY58: 95 | AZ58: 96 | BA58: 97 | BB58: 98 | BC58: 99 | BD58: 100 | BE58: 101 | BF58: 102
A59: =B59&C59&D59 -> C725COURIRLUCIFER | B59: C725 | C59: COURIR | D59: LUCIFER | E59: CEFP | F59: 0 | G59: 52 | H59: 53 | I59: 54 | J59: 55 | K59: 56 | L59: 57 | M59: 58 | N59: 59 | O59: 60 | P59: 61 | Q59: 62 | R59: 63 | S59: 64 | T59: 65 | U59: 66 | V59: 67 | W59: 68 | X59: 69 | Y59: 70 | Z59: 71 | AA59: 72 | AB59: 73 | AC59: 74 | AD59: 75 | AE59: 76 | AF59: 77 | AG59: 78 | AH59: 79 | AI59: 80 | AJ59: 81 | AK59: 82 | AL59: 83 | AM59: 84 | AN59: 85 | AO59: 86 | AP59: 87 | AQ59: 88 | AR59: 89 | AS59: 90 | AT59: 91 | AU59: 92 | AV59: 93 | AW59: 94 | AX59: 95 | AY59: 96 | AZ59: 97 | BA59: 98 | BB59: 99 | BC59: 100 | BD59: 101 | BE59: 102 | BF59: 103
A60: =B60&C60&D60 -> C725DLCLUCIFER | B60: C725 | C60: DLC | D60: LUCIFER | E60: CEFP | F60: 0 | G60: 53 | H60: 54 | I60: 55 | J60: 56 | K60: 57 | L60: 58 | M60: 59 | N60: 60 | O60: 61 | P60: 62 | Q60: 63 | R60: 64 | S60: 65 | T60: 66 | U60: 67 | V60: 68 | W60: 69 | X60: 70
A61: =B61&C61&D61 -> C633QATARNEVER | B61: C633 | C61: QATAR | D61: NEVER | E61: CEFP | F61: 0 | G61: 54 | H61: 55 | I61: 56 | J61: 57 | K61: 58 | L61: 59 | M61: 60 | N61: 61 | O61: 62 | P61: 63 | Q61: 64 | R61: 65 | S61: 66 | T61: 67 | U61: 68 | V61: 69 | W61: 70 | X61: 71 | Y61: 72 | Z61: 73 | AA61: 74 | AB61: 75 | AC61: 76 | AD61: 77 | AE61: 78 | AF61: 79 | AG61: 80 | AH61: 81 | AI61: 82 | AJ61: 83 | AK61: 84 | AL61: 85 | AM61: 86 | AN61: 87 | AO61: 88 | AP61: 89 | AQ61: 90 | AR61: 91 | AS61: 92 | AT61: 93 | AU61: 94 | AV61: 95 | AW61: 96 | AX61: 97 | AY61: 98 | AZ61: 99 | BA61: 100 | BB61: 101 | BC61: 102 | BD61: 103 | BE61: 104 | BF61: 105
A62: =B62&C62&D62 -> C223PRESSCHESTSNCF | B62: C223 | C62: PRESSCHEST | D62: SNCF | E62: CEFP | F62: 0 | G62: 55 | H62: 56 | I62: 57 | J62: 58 | K62: 59 | L62: 60 | M62: 61 | N62: 62 | O62: 63 | P62: 64 | Q62: 65 | R62: 66 | S62: 67 | T62: 68 | U62: 69 | V62: 70 | W62: 71 | X62: 72 | Y62: 73 | Z62: 74 | AA62: 75 | AB62: 76 | AC62: 77 | AD62: 78 | AE62: 79 | AF62: 80 | AG62: 81 | AH62: 82 | AI62: 83 | AJ62: 84 | AK62: 85 | AL62: 86 | AM62: 87 | AN62: 88 | AO62: 89 | AP62: 90 | AQ62: 91 | AR62: 92 | AS62: 93 | AT62: 94 | AU62: 95 | AV62: 96 | AW62: 97 | AX62: 98 | AY62: 99 | AZ62: 100 | BA62: 101 | BB62: 102 | BC62: 103 | BD62: 104 | BE62: 105 | BF62: 106
A63: =B63&C63&D63 -> C293PRESSCHESTNEVER | B63: C293 | C63: PRESSCHEST | D63: NEVER | E63: CEFP | F63: 0 | G63: 56 | H63: 57 | I63: 58 | J63: 59 | K63: 60 | L63: 61 | M63: 62 | N63: 63 | O63: 64 | P63: 65 | Q63: 66 | R63: 67 | S63: 68 | T63: 69 | U63: 70 | V63: 71 | W63: 72 | X63: 73 | Y63: 74 | Z63: 75 | AA63: 76 | AB63: 77 | AC63: 78 | AD63: 79 | AE63: 80 | AF63: 81 | AG63: 82 | AH63: 83 | AI63: 84 | AJ63: 85 | AK63: 86 | AL63: 87 | AM63: 88 | AN63: 89 | AO63: 90 | AP63: 91 | AQ63: 92 | AR63: 93 | AS63: 94 | AT63: 95 | AU63: 96 | AV63: 97 | AW63: 98 | AX63: 99 | AY63: 100 | AZ63: 101 | BA63: 102 | BB63: 103 | BC63: 104 | BD63: 105 | BE63: 106 | BF63: 107
A64: =B64&C64&D64 -> C633PRESSCHESTNEVER | B64: C633 | C64: PRESSCHEST | D64: NEVER | E64: CEFP | F64: 0 | G64: 57 | H64: 58 | I64: 59 | J64: 60 | K64: 61 | L64: 62 | M64: 63 | N64: 64 | O64: 65 | P64: 66 | Q64: 67 | R64: 68 | S64: 69 | T64: 70 | U64: 71 | V64: 72 | W64: 73 | X64: 74 | Y64: 75 | Z64: 76 | AA64: 77 | AB64: 78 | AC64: 79 | AD64: 80 | AE64: 81 | AF64: 82 | AG64: 83 | AH64: 84 | AI64: 85 | AJ64: 86 | AK64: 87 | AL64: 88 | AM64: 89 | AN64: 90 | AO64: 91 | AP64: 92 | AQ64: 93 | AR64: 94 | AS64: 95 | AT64: 96 | AU64: 97 | AV64: 98 | AW64: 99 | AX64: 100 | AY64: 101 | AZ64: 102 | BA64: 103 | BB64: 104 | BC64: 105 | BD64: 106 | BE64: 107 | BF64: 108
A65: =B65&C65&D65 -> C223RAFOUSNCF | B65: C223 | C65: RAFOU | D65: SNCF | E65: CEFP | F65: 1.132 | G65: 1.132
A66: =B66&C66&D66 -> C293RAFOUNEVER | B66: C293 | C66: RAFOU | D66: NEVER | E66: CEFP | F66: 1.792 | G66: 1.792
A67: =B67&C67&D67 -> C633RAFOUNEVER | B67: C633 | C67: RAFOU | D67: NEVER | E67: CEFP | F67: 1.627 | G67: 1.627
A68: =B68&C68&D68 -> C725CHALELUCIFER | B68: C725 | C68: CHALE | D68: LUCIFER | E68: CEFP | F68: 0 | G68: 58 | H68: 59 | I68: 60 | J68: 61 | K68: 62 | L68: 63 | M68: 64 | N68: 65 | O68: 66 | P68: 67 | Q68: 68 | R68: 69 | S68: 70 | T68: 71 | U68: 72 | V68: 73 | W68: 74 | X68: 75 | Y68: 76 | Z68: 77 | AA68: 78 | AB68: 79 | AC68: 80 | AD68: 81 | AE68: 82 | AF68: 83 | AG68: 84 | AH68: 85 | AI68: 86 | AJ68: 87 | AK68: 88 | AL68: 89 | AM68: 90
A69: =B69&C69&D69 -> C725QATARLUCIFER | B69: C725 | C69: QATAR | D69: LUCIFER | E69: CEFP | F69: 0 | G69: 59 | H69: 60 | I69: 61 | J69: 62 | K69: 63 | L69: 64 | M69: 65 | N69: 66 | O69: 67 | P69: 68 | Q69: 69 | R69: 70 | S69: 71 | T69: 72 | U69: 73 | V69: 74 | W69: 75 | X69: 76 | Y69: 77 | Z69: 78 | AA69: 79 | AB69: 80 | AC69: 81 | AD69: 82 | AE69: 83 | AF69: 84 | AG69: 85 | AH69: 86 | AI69: 87 | AJ69: 88 | AK69: 89 | AL69: 90 | AM69: 91 | AN69: 92 | AO69: 93 | AP69: 94 | AQ69: 95 | AR69: 96 | AS69: 97 | AT69: 98 | AU69: 99 | AV69: 100 | AW69: 101 | AX69: 102 | AY69: 103 | AZ69: 104 | BA69: 105 | BB69: 106 | BC69: 107 | BD69: 108 | BE69: 109 | BF69: 110
A70: =B70&C70&D70 -> C725PARTIRLUCIFER | B70: C725 | C70: PARTIR | D70: LUCIFER | E70: CEFP | F70: 0 | G70: 60 | H70: 61 | I70: 62 | J70: 63 | K70: 64 | L70: 65 | M70: 66 | N70: 67 | O70: 68 | P70: 69 | Q70: 70 | R70: 71 | S70: 72 | T70: 73 | U70: 74 | V70: 75 | W70: 76 | X70: 77 | Y70: 78 | Z70: 79 | AA70: 80 | AB70: 81 | AC70: 82 | AD70: 83 | AE70: 84 | AF70: 85 | AG70: 86 | AH70: 87 | AI70: 88 | AJ70: 89 | AK70: 90 | AL70: 91 | AM70: 92
A71: =B71&C71&D71 -> C083RAFOULUCIFER | B71: C083 | C71: RAFOU | D71: LUCIFER | E71: CEFP | F71: 1.275 | G71: 1.275
A72: =B72&C72&D72 -> C725RAFOULUCIFER | B72: C725 | C72: RAFOU | D72: LUCIFER | E72: CEFP | F72: 1.275 | G72: 1.275
A73: =B73&C73&D73 -> C083PRESSCHESTLUCIFER | B73: C083 | C73: PRESSCHEST | D73: LUCIFER | E73: CEFP | F73: 0 | G73: 61 | H73: 62 | I73: 63 | J73: 64 | K73: 65 | L73: 66 | M73: 67 | N73: 68 | O73: 69 | P73: 70 | Q73: 71 | R73: 72 | S73: 73 | T73: 74 | U73: 75 | V73: 76 | W73: 77 | X73: 78 | Y73: 79 | Z73: 80 | AA73: 81 | AB73: 82 | AC73: 83 | AD73: 84 | AE73: 85 | AF73: 86 | AG73: 87 | AH73: 88 | AI73: 89 | AJ73: 90 | AK73: 91 | AL73: 92 | AM73: 93 | AN73: 94 | AO73: 95 | AP73: 96 | AQ73: 97 | AR73: 98 | AS73: 99 | AT73: 100 | AU73: 101 | AV73: 102 | AW73: 103 | AX73: 104 | AY73: 105 | AZ73: 106 | BA73: 107 | BB73: 108 | BC73: 109 | BD73: 110 | BE73: 111 | BF73: 112
A74: =B74&C74&D74 -> C725PRESSCHESTLUCIFER | B74: C725 | C74: PRESSCHEST | D74: LUCIFER | E74: CEFP | F74: 0 | G74: 62 | H74: 63 | I74: 64 | J74: 65 | K74: 66 | L74: 67 | M74: 68 | N74: 69 | O74: 70 | P74: 71 | Q74: 72 | R74: 73 | S74: 74 | T74: 75 | U74: 76 | V74: 77 | W74: 78 | X74: 79 | Y74: 80 | Z74: 81 | AA74: 82 | AB74: 83 | AC74: 84 | AD74: 85 | AE74: 86 | AF74: 87 | AG74: 88 | AH74: 89 | AI74: 90 | AJ74: 91 | AK74: 92 | AL74: 93 | AM74: 94 | AN74: 95 | AO74: 96 | AP74: 97 | AQ74: 98 | AR74: 99 | AS74: 100 | AT74: 101 | AU74: 102 | AV74: 103 | AW74: 104 | AX74: 105 | AY74: 106 | AZ74: 107 | BA74: 108 | BB74: 109 | BC74: 110 | BD74: 111 | BE74: 112 | BF74: 113
A75: =B75&C75&D75 -> C083CHALELUCIFER | B75: C083 | C75: CHALE | D75: LUCIFER | E75: CEFP | F75: 0 | G75: 63 | H75: 64 | I75: 65 | J75: 66 | K75: 67 | L75: 68 | M75: 69 | N75: 70 | O75: 71 | P75: 72 | Q75: 73 | R75: 74 | S75: 75 | T75: 76 | U75: 77 | V75: 78 | W75: 79 | X75: 80 | Y75: 81 | Z75: 82 | AA75: 83 | AB75: 84 | AC75: 85 | AD75: 86 | AE75: 87 | AF75: 88 | AG75: 89 | AH75: 90 | AI75: 91 | AJ75: 92 | AK75: 93 | AL75: 94 | AM75: 95
A76: =B76&C76&D76 -> C633PARTIRNEVER | B76: C633 | C76: PARTIR | D76: NEVER | E76: CEFP | F76: 0 | G76: 64 | H76: 65 | I76: 66 | J76: 67 | K76: 68 | L76: 69 | M76: 70 | N76: 71 | O76: 72 | P76: 73 | Q76: 74 | R76: 75 | S76: 76 | T76: 77 | U76: 78 | V76: 79 | W76: 80 | X76: 81 | Y76: 82 | Z76: 83 | AA76: 84 | AB76: 85 | AC76: 86 | AD76: 87 | AE76: 88 | AF76: 89 | AG76: 90 | AH76: 91 | AI76: 92 | AJ76: 93 | AK76: 94 | AL76: 95 | AM76: 96
A77: =B77&C77&D77 -> C633CHOPPERNEVER | B77: C633 | C77: CHOPPER | D77: NEVER | E77: CEFP | F77: 0 | G77: 65 | H77: 66 | I77: 67 | J77: 68 | K77: 69 | L77: 70 | M77: 71 | N77: 72 | O77: 73 | P77: 74
A78: =B78&C78&D78 -> C223SIVETSNCF | B78: C223 | C78: SIVET | D78: SNCF | E78: CEFP | F78: 0 | G78: 0 | H78: 0 | I78: 0 | J78: 0 | K78: 0 | L78: 0 | M78: 0 | N78: 0 | O78: 0 | P78: 0
A79: =B79&C79&D79 -> C293SIVETNEVER | B79: C293 | C79: SIVET | D79: NEVER | E79: CEFP | F79: 0 | G79: 0 | H79: 0 | I79: 0 | J79: 0 | K79: 0 | L79: 0 | M79: 0 | N79: 0 | O79: 0 | P79: 0
A80: =B80&C80&D80 -> C633SIVETNEVER | B80: C633 | C80: SIVET | D80: NEVER | E80: CEFP | F80: 0 | G80: 0 | H80: 0 | I80: 0 | J80: 0 | K80: 0 | L80: 0 | M80: 0 | N80: 0 | O80: 0 | P80: 0
A81: =B81&C81&D81 -> C083SIVETLUCIFER | B81: C083 | C81: SIVET | D81: LUCIFER | E81: CEFP | F81: 0 | G81: 0 | H81: 0 | I81: 0 | J81: 0 | K81: 0 | L81: 0 | M81: 0 | N81: 0 | O81: 0 | P81: 0
A82: =B82&C82&D82 -> C793PAULNICOLAS | B82: C793 | C82: PAUL | D82: NICOLAS | E82: CEFP | F82: 0 | G82: 66 | H82: 67 | I82: 68 | J82: 69 | K82: 70 | L82: 71 | M82: 72 | N82: 73 | O82: 74 | P82: 75 | Q82: 76 | R82: 77 | S82: 78 | T82: 79 | U82: 80 | V82: 81 | W82: 82 | X82: 83 | Y82: 84 | Z82: 85 | AA82: 86 | AB82: 87 | AC82: 88 | AD82: 89 | AE82: 90 | AF82: 91 | AG82: 92 | AH82: 93 | AI82: 94 | AJ82: 95 | AK82: 96 | AL82: 97 | AM82: 98 | AN82: 99 | AO82: 100 | AP82: 101 | AQ82: 102 | AR82: 103 | AS82: 104 | AT82: 105 | AU82: 106 | AV82: 107 | AW82: 108 | AX82: 109 | AY82: 110 | AZ82: 111 | BA82: 112 | BB82: 113 | BC82: 114 | BD82: 115 | BE82: 116 | BF82: 117
A83: =B83&C83&D83 -> C793COURIRNICOLAS | B83: C793 | C83: COURIR | D83: NICOLAS | E83: CEFP | F83: 0 | G83: 67 | H83: 68 | I83: 69 | J83: 70 | K83: 71 | L83: 72 | M83: 73 | N83: 74 | O83: 75 | P83: 76 | Q83: 77 | R83: 78 | S83: 79 | T83: 80 | U83: 81 | V83: 82 | W83: 83 | X83: 84 | Y83: 85 | Z83: 86 | AA83: 87 | AB83: 88 | AC83: 89 | AD83: 90 | AE83: 91 | AF83: 92 | AG83: 93 | AH83: 94 | AI83: 95 | AJ83: 96 | AK83: 97 | AL83: 98 | AM83: 99 | AN83: 100 | AO83: 101 | AP83: 102 | AQ83: 103 | AR83: 104 | AS83: 105 | AT83: 106 | AU83: 107 | AV83: 108 | AW83: 109 | AX83: 110 | AY83: 111 | AZ83: 112 | BA83: 113 | BB83: 114 | BC83: 115 | BD83: 116 | BE83: 117 | BF83: 118
A84: =B84&C84&D84 -> C793PRESSCHESTNICOLAS | B84: C793 | C84: PRESSCHEST | D84: NICOLAS | E84: CEFP | F84: 0 | G84: 68 | H84: 69 | I84: 70 | J84: 71 | K84: 72 | L84: 73 | M84: 74 | N84: 75 | O84: 76 | P84: 77 | Q84: 78 | R84: 79 | S84: 80 | T84: 81 | U84: 82 | V84: 83 | W84: 84 | X84: 85 | Y84: 86 | Z84: 87 | AA84: 88 | AB84: 89 | AC84: 90 | AD84: 91 | AE84: 92 | AF84: 93 | AG84: 94 | AH84: 95 | AI84: 96 | AJ84: 97 | AK84: 98 | AL84: 99 | AM84: 100 | AN84: 101 | AO84: 102 | AP84: 103 | AQ84: 104 | AR84: 105 | AS84: 106 | AT84: 107 | AU84: 108 | AV84: 109 | AW84: 110 | AX84: 111 | AY84: 112 | AZ84: 113 | BA84: 114 | BB84: 115 | BC84: 116 | BD84: 117 | BE84: 118 | BF84: 119
A85: =B85&C85&D85 -> C793RAFOUNICOLAS | B85: C793 | C85: RAFOU | D85: NICOLAS | E85: CEFP | F85: 1.627 | G85: 1.627
A86: =B86&C86&D86 -> C793PARTIRNICOLAS | B86: C793 | C86: PARTIR | D86: NICOLAS | E86: CEFP | F86: 0 | G86: 69 | H86: 70 | I86: 71 | J86: 72 | K86: 73 | L86: 74 | M86: 75 | N86: 76 | O86: 77 | P86: 78 | Q86: 79 | R86: 80 | S86: 81 | T86: 82 | U86: 83 | V86: 84 | W86: 85 | X86: 86 | Y86: 87 | Z86: 88 | AA86: 89 | AB86: 90 | AC86: 91 | AD86: 92 | AE86: 93 | AF86: 94 | AG86: 95 | AH86: 96 | AI86: 97 | AJ86: 98 | AK86: 99 | AL86: 100 | AM86: 101
A87: =B87&C87&D87 -> C793CHOPPERNICOLAS | B87: C793 | C87: CHOPPER | D87: NICOLAS | E87: CEFP | F87: 0 | G87: 70 | H87: 71 | I87: 72 | J87: 73 | K87: 74 | L87: 75 | M87: 76 | N87: 77 | O87: 78 | P87: 79 | Q87: 80
A88: =B88&C88&D88 -> C793SIVETNICOLAS | B88: C793 | C88: SIVET | D88: NICOLAS | E88: CEFP | F88: 0 | G88: 0 | H88: 0 | I88: 0 | J88: 0 | K88: 0 | L88: 0 | M88: 0 | N88: 0 | O88: 0 | P88: 0
A89: =B89&C89&D89 -> C793PAYSNICOLAS | B89: C793 | C89: PAYS | D89: NICOLAS | E89: CEFP | F89: 0 | G89: 71 | H89: 72 | I89: 73 | J89: 74 | K89: 75 | L89: 76 | M89: 77 | N89: 78 | O89: 79 | P89: 80 | Q89: 81 | R89: 82 | S89: 83 | T89: 84 | U89: 85 | V89: 86 | W89: 87 | X89: 88 | Y89: 89 | Z89: 90 | AA89: 91 | AB89: 92 | AC89: 93 | AD89: 94 | AE89: 95 | AF89: 96 | AG89: 97 | AH89: 98 | AI89: 99 | AJ89: 100 | AK89: 101 | AL89: 102 | AM89: 103 | AN89: 104 | AO89: 105 | AP89: 106 | AQ89: 107 | AR89: 108 | AS89: 109 | AT89: 110 | AU89: 111 | AV89: 112 | AW89: 113 | AX89: 114 | AY89: 115 | AZ89: 116 | BA89: 117 | BB89: 118 | BC89: 119 | BD89: 120 | BE89: 121 | BF89: 122
A90: =B90&C90&D90 -> C633PAYSNEVER | B90: C633 | C90: PAYS | D90: NEVER | E90: CEFP | F90: 0 | G90: 72 | H90: 73 | I90: 74 | J90: 75 | K90: 76 | L90: 77 | M90: 78 | N90: 79 | O90: 80 | P90: 81 | Q90: 82 | R90: 83 | S90: 84 | T90: 85 | U90: 86 | V90: 87 | W90: 88 | X90: 89 | Y90: 90 | Z90: 91 | AA90: 92 | AB90: 93 | AC90: 94 | AD90: 95 | AE90: 96 | AF90: 97 | AG90: 98 | AH90: 99 | AI90: 100 | AJ90: 101 | AK90: 102 | AL90: 103 | AM90: 104 | AN90: 105 | AO90: 106 | AP90: 107 | AQ90: 108 | AR90: 109 | AS90: 110 | AT90: 111 | AU90: 112 | AV90: 113 | AW90: 114 | AX90: 115 | AY90: 116 | AZ90: 117 | BA90: 118 | BB90: 119 | BC90: 120 | BD90: 121 | BE90: 122 | BF90: 123
A91: =B91&C91&D91 -> C793DLCNICOLAS | B91: C793 | C91: DLC | D91: NICOLAS | E91: CEFP | F91: 0 | G91: 73 | H91: 74 | I91: 75 | J91: 76 | K91: 77 | L91: 78 | M91: 79 | N91: 80 | O91: 81 | P91: 82 | Q91: 83 | R91: 84 | S91: 85 | T91: 86 | U91: 87 | V91: 88 | W91: 89 | X91: 90
A92: =B92&C92&D92 -> C083DLCLUCIFER | B92: C083 | C92: DLC | D92: LUCIFER | E92: CEFP | F92: 0 | G92: 74 | H92: 75 | I92: 76 | J92: 77 | K92: 78 | L92: 79 | M92: 80 | N92: 81 | O92: 82 | P92: 83 | Q92: 84 | R92: 85 | S92: 86 | T92: 87 | U92: 88 | V92: 89 | W92: 90 | X92: 91
A93: =B93&C93&D93 -> C223DLCSNCF | B93: C223 | C93: DLC | D93: SNCF | E93: CEFP | F93: 0 | G93: 75 | H93: 76 | I93: 77 | J93: 78 | K93: 79 | L93: 80 | M93: 81 | N93: 82 | O93: 83 | P93: 84 | Q93: 85 | R93: 86 | S93: 87 | T93: 88 | U93: 89 | V93: 90 | W93: 91 | X93: 92
A94: =B94&C94&D94 -> C793DURNICOLAS | B94: C793 | C94: DUR | D94: NICOLAS | E94: CEFP | G94: 76 | H94: 77 | I94: 78 | J94: 79 | K94: 80 | L94: 81 | M94: 82 | N94: 83 | O94: 84 | P94: 85 | Q94: 86 | R94: 87 | S94: 88 | T94: 89 | U94: 90 | V94: 91 | W94: 92
A95: =B95&C95&D95 -> C293DURNEVER | B95: C293 | C95: DUR | D95: NEVER | E95: CEFP | G95: 77 | H95: 78 | I95: 79 | J95: 80 | K95: 81 | L95: 82 | M95: 83 | N95: 84 | O95: 85 | P95: 86 | Q95: 87 | R95: 88 | S95: 89 | T95: 90 | U95: 91 | V95: 92 | W95: 93
A96: =B96&C96&D96 -> C223DURSNCF | B96: C223 | C96: DUR | D96: SNCF | E96: CEFP | G96: 78 | H96: 79 | I96: 80 | J96: 81 | K96: 82 | L96: 83 | M96: 84 | N96: 85 | O96: 86 | P96: 87 | Q96: 88 | R96: 89 | S96: 90 | T96: 91 | U96: 92 | V96: 93 | W96: 94
A97: =B97&C97&D97 -> C725SIVETLUCIFER | B97: C725 | C97: SIVET | D97: LUCIFER | E97: CEFP | F97: 0 | G97: 0 | H97: 0 | I97: 0 | J97: 0 | K97: 0 | L97: 0 | M97: 0 | N97: 0 | O97: 0 | P97: 0
A100: TRS
A101: CODE LONG | B101: CODE | C101: TRS | E101: FORFAIT | F101: TARIF CEFP | G101: 1 | H101: 2 | I101: 3 | J101: 4 | K101: 5 | L101: 6 | M101: 7 | N101: 8 | O101: 9 | P101: 10 | Q101: 11 | R101: 12 | S101: 13 | T101: 14 | U101: 15 | V101: 16 | W101: 17 | X101: 18 | Y101: 19 | Z101: 20 | AA101: 21 | AB101: 22 | AC101: 23 | AD101: 24 | AE101: 25 | AF101: 26 | AG101: 27 | AH101: 28 | AI101: 29 | AJ101: 30 | AK101: 31 | AL101: 32 | AM101: 33 | AN101: 34 | AO101: 35 | AP101: 36 | AQ101: 37 | AR101: 38 | AS101: 39 | AT101: 40 | AU101: 41 | AV101: 42 | AW101: 43 | AX101: 44 | AY101: 45 | AZ101: 46 | BA101: 47 | BB101: 48 | BC101: 49 | BD101: 50 | BE101: 51 | BF101: 52 | BG101: 53 | BH101: 54 | BI101: 55 | BJ101: 56 | BK101: 57 | BL101: 58 | BM101: 59 | BN101: 60 | BO101: 61 | BP101: 62 | BQ101: 63 | BR101: 64 | BS101: 65 | BT101: 66 | BU101: 67 | BV101: 68 | BW101: 69 | BX101: 70 | BY101: 71 | BZ101: 72 | CA101: 73 | CB101: 74 | CC101: 75 | CD101: 76 | CE101: 77 | CF101: 78 | CG101: 79 | CH101: 80 | CI101: 81 | CJ101: 82 | CK101: 83 | CL101: 84 | CM101: 85 | CN101: 86 | CO101: 87 | CP101: 88 | CQ101: 89 | CR101: 90 | CS101: 91 | CT101: 92 | CU101: 93 | CV101: 94 | CW101: 95 | CX101: 96 | CY101: 97 | CZ101: 98 | DA101: 99 | DB101: 100 | DC101: 101 | DD101: 102 | DE101: 103 | DF101: 104 | DG101: 105 | DH101: 106 | DI101: 107 | DJ101: 108 | DK101: 109 | DL101: 110 | DM101: 111 | DN101: 112 | DO101: 113 | DP101: 114 | DQ101: 115 | DR101: 116 | DS101: 117 | DT101: 118 | DU101: 119 | DV101: 120 | DW101: 121 | DX101: 122 | DY101: 123 | DZ101: 124 | EA101: 125 | EB101: 126 | EC101: 127 | ED101: 128 | EE101: 129 | EF101: 130 | EG101: 131 | EH101: 132
A102: =B102&C102 -> C073VAR | B102: C073 | C102: VAR | E102: FORFAITCFC | G102: 79
...

Sheet Explications
A1: TYPE D'EXPL | B1: Prix unitaire | C1: Valorisation
A2: TU | B2: La valeure cherchée se trouve dans la grille tarifaire première colonne | C2: Prix unitaire multiplié par le nombre de palettes + (prix unitaire/2)*2ème étage (s'il y a 2 ème étage)
A3: CEFP | B3: La valeure cherchée se trouve dans la grille tarifaire à la colonne qui correspond au nombre de palettes | C3: Prix unitaire multiplié par le nombre de palettes
A4: SAMEDI | B4: FONCTIONNE PAREIL QUE CEFP (seul le tarif est différent) | C4: FONCTIONNE PAREIL QUE CEFP (seul le tarif est différent)
A5: FORFAITS | B5: La valeure cherchée se trouve dans la grille tarifaire première colonne | C5: Même montant que le prix unitaire
C9: Pour trouver le bon prix il suffit de prendre le code nécessaire Et aussi les instructions ci-dessus en fonction du type d'expl

Sheet Démonstration
A1: J | B1: Code | C1: Date | D1: nom1 | E1: NB Palettes | F1: 2ème Etage | G1: Poids | H1: Camions | I1: nom2 | J1: Total/J | K1: Jour semaine | L1: Code2 | M1: Code1 | N1: Code nécessaire | O1: Type expl | P1: Prix unitaire | Q1: Valorisation
A2: J1 | B2: C793 | C2: 43466 | D2: CFE | E2: 23 | H2: 1 | I2: NICOLAS | J2: 23 | L2: C793CFENICOLAS | M2: C793NICOLAS | N2: C793NICOLAS | O2: CEFP | P2: 125
A3: J1 | B3: C793 | C3: 43466 | D3: CFC | E3: 0 | G3: 12.182 | H3: 2 | I3: NICOLAS | J3: 23 | L3: C793CFCNICOLAS | M3: C793NICOLAS | N3: C793NICOLAS | O3: CEFP | P3: 125
A4: J1 | B4: C793 | C4: 43466 | D4: PRESSCHEST | E4: 1 | G4: 0 | H4: 2 | I4: NICOLAS | J4: 23 | L4: C793PRESSCHESTNICOLAS | M4: C793NICOLAS | N4: C793PRESSCHESTNICOLAS | O4: CEFP | P4: 125
A5: J1 | B5: C213 | C5: 43466 | D5: CFE | E5: 9 | F5: 3 | H5: 1 | I5: NICOLAS | J5: 16 | L5: C213CFENICOLAS | M5: C213NICOLAS | N5: C213NICOLAS | O5: TU | P5: 89
A6: J1 | B6: C213 | C6: 43466 | D6: COURIR | E6: 1 | H6: 1 | I6: NICOLAS | J6: 16 | L6: C213COURIRNICOLAS | M6: C213NICOLAS | N6: C213COURIRNICOLAS | O6: TU | P6: 89
A7: J1 | B7: C213 | C7: 43466 | D7: CHALE | E7: 1 | H7: 1 | I7: NICOLAS | J7: 16 | L7: C213CHALENICOLAS | M7: C213NICOLAS | N7: C213CHALENICOLAS | O7: TU | P7: 89
A8: J1 | B8: C213 | C8: 43466 | D8: CFC | E8: 0 | G8: 12.336 | H8: 1 | I8: NICOLAS | J8: 16 | L8: C213CFCNICOLAS | M8: C213NICOLAS | N8: C213CFCNICOLAS | O8: TU | P8: 89
A9: J1 | B9: C213 | C9: 43466 | D9: QATAR | E9: 1 | H9: 1 | I9: NICOLAS | J9: 16 | L9: C213QATARNICOLAS | M9: C213NICOLAS | N9: C213QATARNICOLAS | O9: TU | P9: 89
A10: J1 | B10: C213 | C10: 43466 | D10: PARTIR | E10: 1 | H10: 1 | I10: NICOLAS | J10: 16 | L10: C213PARTIRNICOLAS | M10: C213NICOLAS | N10: C213PARTIRNICOLAS | O10: TU | P10: 89
A11: J1 | B11: C143 | C11: 43466 | D11: CFE | E11: 12 | G11: 0 | H11: 1 | I11: NICOLAS | J11: 17 | L11: C143CFENICOLAS | M11: C143NICOLAS | N11: C143NICOLAS | O11: TU | P11: 87
A12: J1 | B12: C143 | C12: 43466 | D12: COURIR | E12: 1 | H12: 1 | I12: NICOLAS | J12: 17 | L12: C143COURIRNICOLAS | M12: C143NICOLAS | N12: C143COURIRNICOLAS | O12: TU | P12: 87
A13: J1 | B13: C143 | C13: 43466 | D13: CHALE | E13: 2 | H13: 1 | I13: NICOLAS | J13: 17 | L13: C143CHALENICOLAS | M13: C143NICOLAS | N13: C143CHALENICOLAS | O13: TU | P13: 87
A14: J1 | B14: C143 | C14: 43466 | D14: CFC | E14: 0 | G14: 17.184 | H14: 1 | I14: NICOLAS | J14: 17 | L14: C143CFCNICOLAS | M14: C143NICOLAS | N14: C143CFCNICOLAS | O14: TU | P14: 87
A15: J1 | B15: C143 | C15: 43466 | D15: QATAR | E15: 1 | H15: 1 | I15: NICOLAS | J15: 17 | L15: C143QATARNICOLAS | M15: C143NICOLAS | N15: C143QATARNICOLAS | O15: TU | P15: 87
A16: J1 | B16: C143 | C16: 43466 | D16: RAFOU | E16: 1 | G16: 22.19 | H16: 1 | I16: NICOLAS | J16: 17 | L16: C143RAFOUNICOLAS | M16: C143NICOLAS | N16: C143RAFOUNICOLAS | O16: TU | P16: 87
A17: J1 | B17: C153 | C17: 43466 | D17: CFE | E17: 5 | H17: 1 | I17: NICOLAS | J17: 8 | L17: C153CFENICOLAS | M17: C153NICOLAS | N17: C153NICOLAS | O17: TU | P17: 88
A18: J1 | B18: C153 | C18: 43466 | D18: COURIR | E18: 1 | H18: 1 | I18: NICOLAS | J18: 8 | L18: C153COURIRNICOLAS | M18: C153NICOLAS | N18: C153COURIRNICOLAS | O18: TU | P18: 88
A19: J1 | B19: C153 | C19: 43466 | D19: CHALE | E19: 1 | H19: 1 | I19: NICOLAS | J19: 8 | L19: C153CHALENICOLAS | M19: C153NICOLAS | N19: C153CHALENICOLAS | O19: TU | P19: 88
A20: J1 | B20: C153 | C20: 43466 | D20: CFC | E20: 0 | G20: 20 | H20: 1 | I20: NICOLAS | J20: 8 | L20: C153CFCNICOLAS | M20: C153NICOLAS | N20: C153CFCNICOLAS | O20: TU | P20: 88
A21: J1 | B21: C153 | C21: 43466 | D21: QATAR | E21: 1 | H21: 1 | I21: NICOLAS | J21: 8 | L21: C153QATARNICOLAS | M21: C153NICOLAS | N21: C153QATARNICOLAS | O21: TU | P21: 88
A22: J1 | B22: C153 | C22: 43466 | D22: RAFOU | E22: 0 | G22: 13.17 | H22: 1 | I22: NICOLAS | J22: 8 | L22: C153RAFOUNICOLAS | M22: C153NICOLAS | N22: C153RAFOUNICOLAS | O22: TU | P22: 88
A23: J1 | B23: C293 | C23: 43466 | D23: CFE | E23: 5 | H23: 1 | I23: NEVER | J23: 6 | L23: C293CFENEVER | M23: C293NEVER | N23: C293NEVER | O23: CEFP | P23: 86
A24: J1 | B24: C293 | C24: 43466 | D24: COURIR | E24: 1 | H24: 1 | I24: NEVER | J24: 6 | L24: C293COURIRNEVER | M24: C293NEVER | N24: C293COURIRNEVER | O24: CEFP | P24: 86
A25: J1 | B25: C293 | C25: 43466 | D25: CFC | E25: 0 | G25: 17.266 | H25: 1 | I25: NEVER | J25: 6 | L25: C293CFCNEVER | M25: C293NEVER | N25: C293CFCNEVER | O25: CEFP | P25: 86
A26: J1 | B26: C633 | C26: 43466 | D26: CFE | E26: 1 | G26: 0 | H26: 1 | I26: NEVER | J26: 6 | L26: C633CFENEVER | M26: C633NEVER | N26: C633NEVER | O26: CEFP | P26: 83
A27: J1 | B27: C633 | C27: 43466 | D27: CHALE | E27: 2 | H27: 1 | I27: NEVER | J27: 6 | L27: C633CHALENEVER | M27: C633NEVER | N27: C633CHALENEVER | O27: CEFP | P27: 83
A28: J1 | B28: C633 | C28: 43466 | D28: CHOPPER | E28: 1 | H28: 1 | I28: NEVER | J28: 6 | L28: C633CHOPPERNEVER | M28: C633NEVER | N28: C633CHOPPERNEVER | O28: CEFP | P28: 83
A29: J1 | B29: C633 | C29: 43466 | D29: PAYS | E29: 1 | H29: 1 | I29: NEVER | J29: 6 | L29: C633PAYSNEVER | M29: C633NEVER | N29: C633PAYSNEVER | O29: CEFP | P29: 83
A30: J1 | B30: C633 | C30: 43466 | D30: QATAR | E30: 1 | H30: 1 | I30: NEVER | J30: 6 | L30: C633QATARNEVER | M30: C633NEVER | N30: C633QATARNEVER | O30: CEFP | P30: 83
A31: J1 | B31: C633 | C31: 43466 | D31: RAFOU | E31: 0 | G31: 10 | H31: 1 | I31: NEVER | J31: 6 | L31: C633RAFOUNEVER | M31: C633NEVER | N31: C633RAFOUNEVER | O31: CEFP | P31: 83
A32: J1 | B32: C083 | C32: 43466 | D32: CFE | E32: 19 | H32: 1 | I32: STAT | J32: 23 | L32: C083CFESTAT | M32: C083STAT | N32: C083STAT | O32: CEFP | P32: 103
A33: J1 | B33: C083 | C33: 43466 | D33: COURIR | E33: 1 | H33: 1 | I33: STAT | J33: 23 | L33: C083COURIRSTAT | M33: C083STAT | N33: C083STAT | O33: CEFP | P33: 103
A34: J1 | B34: C083 | C34: 43466 | D34: CFC | E34: 1 | G34: 73.935 | H34: 1 | I34: STAT | J34: 23 | L34: C083CFCSTAT | M34: C083STAT | N34: C083STAT | O34: CEFP | P34: 103
A35: J1 | B35: C083 | C35: 43466 | D35: PARTIR | E35: 2 | H35: 1 | I35: STAT | J35: 23 | L35: C083PARTIRSTAT | M35: C083STAT | N35: C083STAT | O35: CEFP | P35: 103
A36: J1 | B36: C725 | C36: 43466 | D36: CFE | E36: 3 | G36: 0 | H36: 1 | I36: STAT | J36: 7 | L36: C725CFESTAT | M36: C725STAT | N36: C725STAT | O36: CEFP | P36: 88
A37: J1 | B37: C725 | C37: 43466 | D37: COURIR | E37: 1 | H37: 1 | I37: STAT | J37: 7 | L37: C725COURIRSTAT | M37: C725STAT | N37: C725STAT | O37: CEFP | P37: 88
A38: J1 | B38: C725 | C38: 43466 | D38: CHALE | E38: 1 | H38: 1 | I38: STAT | J38: 7 | L38: C725CHALESTAT | M38: C725STAT | N38: C725STAT | O38: CEFP | P38: 88
A39: J1 | B39: C725 | C39: 43466 | D39: QATAR | E39: 1 | H39: 1 | I39: STAT | J39: 7 | L39: C725QATARSTAT | M39: C725STAT | N39: C725STAT | O39: CEFP | P39: 88
A40: J1 | B40: C725 | C40: 43466 | D40: RAFOU | E40: 1 | G40: 47.8 | H40: 1 | I40: STAT | J40: 7 | L40: C725RAFOUSTAT | M40: C725STAT | N40: C725STAT | O40: CEFP | P40: 88
A41: J1 | B41: C223 | C41: 43466 | D41: CFE | E41: 9 | H41: 1 | I41: BFM | J41: 11 | L41: C223CFEBFM | M41: C223BFM | N41: C223BFM | O41: CEFP | P41: 92
A42: J1 | B42: C223 | C42: 43466 | D42: COURIR | E42: 1 | H42: 1 | I42: BFM | J42: 11 | L42: C223COURIRBFM | M42: C223BFM | N42: C223BFM | O42: CEFP | P42: 92
A43: J1 | B43: C223 | C43: 43466 | D43: CFC | E43: 0 | G43: 19.176 | H43: 1 | I43: BFM | J43: 11 | L43: C223CFCBFM | M43: C223BFM | N43: C223BFM | O43: CEFP | P43: 92
A44: J1 | B44: C223 | C44: 43466 | D44: PARTIR | E44: 1 | H44: 1 | I44: BFM | J44: 11 | L44: C223PARTIRBFM | M44: C223BFM | N44: C223BFM | O44: CEFP | P44: 92
A45: J1 | B45: C073 | C45: 43466 | D45: CFC | E45: 1 | G45: 59.653 | H45: 0 | I45: VAR | J45: 6 | L45: C073CFCVAR | M45: C073VAR | N45: C073VAR | O45: FORFAITCFC | P45: A trouver
A46: J1 | B46: C073 | C46: 43466 | D46: QATAR | E46: 1 | H46: 0 | I46: GEGE | J46: 3 | L46: C073QATARGEGE | M46: C073GEGE | N46: C073QATARGEGE | O46: TU | P46: A trouver
A47: J1 | B47: C073 | C47: 43466 | D47: PARTIR | E47: 0 | H47: 0 | I47: GEGE | J47: 0 | L47: C073PARTIRGEGE | M47: C073GEGE | N47: C073GEGE | O47: FORFAITPART1 | P47: 0
A48: J1 | B48: C073 | C48: 43466 | D48: RAFOU | E48: 3 | G48: 258.714 | H48: 0 | I48: GEGE | J48: 1 | L48: C073RAFOUGEGE | M48: C073GEGE | N48: C073RAFOUGEGE | O48: FORFAITRAFOU | P48: A trouver
