Workbook
Name PU_GEFC: [1]Données!$C$763:$EL$903
Name TRS: [1]Données!$C$876:$EL$903
Name TU_CEFP: 'Grilles tarifs'!$A$1:$EH$127

Sheet Données
A1: J | B1: Code | C1: Date | D1: nom1 | E1: NB Palettes | F1: 2ème Etage | G1: Poids | H1: Camions | I1: nom2 | J1: Total/J | K1: Jour semaine | L1: Code2 | M1: Code1 | N1: Code nécessaire | O1: Type expl | P1: Prix unitaire | Q1: Valorisation
A2: J1 | B2: C793 | C2: 43466 | D2: CFE | E2: 23 | H2: 1 | I2: NICOLAS | J2: 23 | L2: =B2&D2&I2 -> C793CFENICOLAS | M2: =B2&I2 -> C793NICOLAS | N2: =IFERROR(VLOOKUP(L2,TU_CEFP,1,FALSE),VLOOKUP(M2,TU_CEFP,1,FALSE)) -> C793NICOLAS | O2: CEFP | P2: {=INDEX(OFFSET('Grilles tarifs'!G1:G127,,IF(OR(O2="CEFP",O2="SAMEDI"),E2-1,0)),MATCH(N2&O2,'Grilles tarifs'!A1:A127&'Grilles tarifs'!E1:E127,0))} -> 125
A3: J1 | B3: C793 | C3: 43466 | D3: CFC | E3: 0 | G3: 12.182 | H3: 2 | I3: NICOLAS | J3: 23 | L3: =B3&D3&I3 -> C793CFCNICOLAS | M3: =B3&I3 -> C793NICOLAS | N3: =IFERROR(VLOOKUP(L3,TU_CEFP,1,FALSE),VLOOKUP(M3,TU_CEFP,1,FALSE)) -> C793NICOLAS | O3: CEFP | P3: {=INDEX(OFFSET('Grilles tarifs'!G2:G128,,IF(OR(O3="CEFP",O3="SAMEDI"),E3-1,0)),MATCH(N3&O3,'Grilles tarifs'!A2:A128&'Grilles tarifs'!E2:E128,0))} -> 0
A4: J1 | B4: C793 | C4: 43466 | D4: PRESSCHEST | E4: 1 | G4: 0 | H4: 2 | I4: NICOLAS | J4: 23 | L4: =B4&D4&I4 -> C793PRESSCHESTNICOLAS | M4: =B4&I4 -> C793NICOLAS | N4: =IFERROR(VLOOKUP(L4,TU_CEFP,1,FALSE),VLOOKUP(M4,TU_CEFP,1,FALSE)) -> C793PRESSCHESTNICOLAS | O4: CEFP | P4: {=INDEX(OFFSET('Grilles tarifs'!G3:G129,,IF(OR(O4="CEFP",O4="SAMEDI"),E4-1,0)),MATCH(N4&O4,'Grilles tarifs'!A3:A129&'Grilles tarifs'!E3:E129,0))} -> 68
A5: J1 | B5: C213 | C5: 43466 | D5: CFE | E5: 9 | F5: 3 | H5: 1 | I5: NICOLAS | J5: 16 | L5: =B5&D5&I5 -> C213CFENICOLAS | M5: =B5&I5 -> C213NICOLAS | N5: =IFERROR(VLOOKUP(L5,TU_CEFP,1,FALSE),VLOOKUP(M5,TU_CEFP,1,FALSE)) -> C213NICOLAS | O5: TU | P5: {=INDEX(OFFSET('Grilles tarifs'!G4:G130,,IF(OR(O5="CEFP",O5="SAMEDI"),E5-1,0)),MATCH(N5&O5,'Grilles tarifs'!A4:A130&'Grilles tarifs'!E4:E130,0))} -> 89
A6: J1 | B6: C213 | C6: 43466 | D6: COURIR | E6: 1 | H6: 1 | I6: NICOLAS | J6: 16 | L6: =B6&D6&I6 -> C213COURIRNICOLAS | M6: =B6&I6 -> C213NICOLAS | N6: =IFERROR(VLOOKUP(L6,TU_CEFP,1,FALSE),VLOOKUP(M6,TU_CEFP,1,FALSE)) -> C213COURIRNICOLAS | O6: TU | P6: {=INDEX(OFFSET('Grilles tarifs'!G5:G131,,IF(OR(O6="CEFP",O6="SAMEDI"),E6-1,0)),MATCH(N6&O6,'Grilles tarifs'!A5:A131&'Grilles tarifs'!E5:E131,0))} -> 16
A7: J1 | B7: C213 | C7: 43466 | D7: CHALE | E7: 1 | H7: 1 | I7: NICOLAS | J7: 16 | L7: =B7&D7&I7 -> C213CHALENICOLAS | M7: =B7&I7 -> C213NICOLAS | N7: =IFERROR(VLOOKUP(L7,TU_CEFP,1,FALSE),VLOOKUP(M7,TU_CEFP,1,FALSE)) -> C213CHALENICOLAS | O7: TU | P7: {=INDEX(OFFSET('Grilles tarifs'!G6:G132,,IF(OR(O7="CEFP",O7="SAMEDI"),E7-1,0)),MATCH(N7&O7,'Grilles tarifs'!A6:A132&'Grilles tarifs'!E6:E132,0))} -> 19
A8: J1 | B8: C213 | C8: 43466 | D8: CFC | E8: 0 | G8: 12.336 | H8: 1 | I8: NICOLAS | J8: 16 | L8: =B8&D8&I8 -> C213CFCNICOLAS | M8: =B8&I8 -> C213NICOLAS | N8: =IFERROR(VLOOKUP(L8,TU_CEFP,1,FALSE),VLOOKUP(M8,TU_CEFP,1,FALSE)) -> C213CFCNICOLAS | O8: TU | P8: {=INDEX(OFFSET('Grilles tarifs'!G7:G133,,IF(OR(O8="CEFP",O8="SAMEDI"),E8-1,0)),MATCH(N8&O8,'Grilles tarifs'!A7:A133&'Grilles tarifs'!E7:E133,0))} -> 76
A9: J1 | B9: C213 | C9: 43466 | D9: QATAR | E9: 1 | H9: 1 | I9: NICOLAS | J9: 16 | L9: =B9&D9&I9 -> C213QATARNICOLAS | M9: =B9&I9 -> C213NICOLAS | N9: =IFERROR(VLOOKUP(L9,TU_CEFP,1,FALSE),VLOOKUP(M9,TU_CEFP,1,FALSE)) -> C213QATARNICOLAS | O9: TU | P9: {=INDEX(OFFSET('Grilles tarifs'!G8:G134,,IF(OR(O9="CEFP",O9="SAMEDI"),E9-1,0)),MATCH(N9&O9,'Grilles tarifs'!A8:A134&'Grilles tarifs'!E8:E134,0))} -> 22
A10: J1 | B10: C213 | C10: 43466 | D10: PARTIR | E10: 1 | H10: 1 | I10: NICOLAS | J10: 16 | L10: =B10&D10&I10 -> C213PARTIRNICOLAS | M10: =B10&I10 -> C213NICOLAS | N10: =IFERROR(VLOOKUP(L10,TU_CEFP,1,FALSE),VLOOKUP(M10,TU_CEFP,1,FALSE)) -> C213PARTIRNICOLAS | O10: TU | P10: {=INDEX(OFFSET('Grilles tarifs'!G9:G135,,IF(OR(O10="CEFP",O10="SAMEDI"),E10-1,0)),MATCH(N10&O10,'Grilles tarifs'!A9:A135&'Grilles tarifs'!E9:E135,0))} -> 18
A11: J1 | B11: C143 | C11: 43466 | D11: CFE | E11: 12 | G11: 0 | H11: 1 | I11: NICOLAS | J11: 17 | L11: =B11&D11&I11 -> C143CFENICOLAS | M11: =B11&I11 -> C143NICOLAS | N11: =IFERROR(VLOOKUP(L11,TU_CEFP,1,FALSE),VLOOKUP(M11,TU_CEFP,1,FALSE)) -> C143NICOLAS | O11: TU | P11: {=INDEX(OFFSET('Grilles tarifs'!G10:G136,,IF(OR(O11="CEFP",O11="SAMEDI"),E11-1,0)),MATCH(N11&O11,'Grilles tarifs'!A10:A136&'Grilles tarifs'!E10:E136,0))} -> 87
A12: J1 | B12: C143 | C12: 43466 | D12: COURIR | E12: 1 | H12: 1 | I12: NICOLAS | J12: 17 | L12: =B12&D12&I12 -> C143COURIRNICOLAS | M12: =B12&I12 -> C143NICOLAS | N12: =IFERROR(VLOOKUP(L12,TU_CEFP,1,FALSE),VLOOKUP(M12,TU_CEFP,1,FALSE)) -> C143COURIRNICOLAS | O12: TU | P12: {=INDEX(OFFSET('Grilles tarifs'!G11:G137,,IF(OR(O12="CEFP",O12="SAMEDI"),E12-1,0)),MATCH(N12&O12,'Grilles tarifs'!A11:A137&'Grilles tarifs'!E11:E137,0))} -> #N/A
A13: J1 | B13: C143 | C13: 43466 | D13: CHALE | E13: 2 | H13: 1 | I13: NICOLAS | J13: 17 | L13: =B13&D13&I13 -> C143CHALENICOLAS | M13: =B13&I13 -> C143NICOLAS | N13: =IFERROR(VLOOKUP(L13,TU_CEFP,1,FALSE),VLOOKUP(M13,TU_CEFP,1,FALSE)) -> C143CHALENICOLAS | O13: TU | P13: {=INDEX(OFFSET('Grilles tarifs'!G12:G138,,IF(OR(O13="CEFP",O13="SAMEDI"),E13-1,0)),MATCH(N13&O13,'Grilles tarifs'!A12:A138&'Grilles tarifs'!E12:E138,0))} -> #N/A
A14: J1 | B14: C143 | C14: 43466 | D14: CFC | E14: 0 | G14: 17.184 | H14: 1 | I14: NICOLAS | J14: 17 | L14: =B14&D14&I14 -> C143CFCNICOLAS | M14: =B14&I14 -> C143NICOLAS | N14: =IFERROR(VLOOKUP(L14,TU_CEFP,1,FALSE),VLOOKUP(M14,TU_CEFP,1,FALSE)) -> C143CFCNICOLAS | O14: TU | P14: {=INDEX(OFFSET('Grilles tarifs'!G13:G139,,IF(OR(O14="CEFP",O14="SAMEDI"),E14-1,0)),MATCH(N14&O14,'Grilles tarifs'!A13:A139&'Grilles tarifs'!E13:E139,0))} -> #N/A
A15: J1 | B15: C143 | C15: 43466 | D15: QATAR | E15: 1 | H15: 1 | I15: NICOLAS | J15: 17 | L15: =B15&D15&I15 -> C143QATARNICOLAS | M15: =B15&I15 -> C143NICOLAS | N15: =IFERROR(VLOOKUP(L15,TU_CEFP,1,FALSE),VLOOKUP(M15,TU_CEFP,1,FALSE)) -> C143QATARNICOLAS | O15: TU | P15: {=INDEX(OFFSET('Grilles tarifs'!G14:G140,,IF(OR(O15="CEFP",O15="SAMEDI"),E15-1,0)),MATCH(N15&O15,'Grilles tarifs'!A14:A140&'Grilles tarifs'!E14:E140,0))} -> 20
A16: J1 | B16: C143 | C16: 43466 | D16: RAFOU | E16: 1 | G16: 22.19 | H16: 1 | I16: NICOLAS | J16: 17 | L16: =B16&D16&I16 -> C143RAFOUNICOLAS | M16: =B16&I16 -> C143NICOLAS | N16: =IFERROR(VLOOKUP(L16,TU_CEFP,1,FALSE),VLOOKUP(M16,TU_CEFP,1,FALSE)) -> C143RAFOUNICOLAS | O16: TU | P16: {=INDEX(OFFSET('Grilles tarifs'!G15:G141,,IF(OR(O16="CEFP",O16="SAMEDI"),E16-1,0)),MATCH(N16&O16,'Grilles tarifs'!A15:A141&'Grilles tarifs'!E15:E141,0))} -> 1.407
A17: J1 | B17: C153 | C17: 43466 | D17: CFE | E17: 5 | H17: 1 | I17: NICOLAS | J17: 8 | L17: =B17&D17&I17 -> C153CFENICOLAS | M17: =B17&I17 -> C153NICOLAS | N17: =IFERROR(VLOOKUP(L17,TU_CEFP,1,FALSE),VLOOKUP(M17,TU_CEFP,1,FALSE)) -> C153NICOLAS | O17: TU | P17: {=INDEX(OFFSET('Grilles tarifs'!G16:G142,,IF(OR(O17="CEFP",O17="SAMEDI"),E17-1,0)),MATCH(N17&O17,'Grilles tarifs'!A16:A142&'Grilles tarifs'!E16:E142,0))} -> 88
A18: J1 | B18: C153 | C18: 43466 | D18: COURIR | E18: 1 | H18: 1 | I18: NICOLAS | J18: 8 | L18: =B18&D18&I18 -> C153COURIRNICOLAS | M18: =B18&I18 -> C153NICOLAS | N18: =IFERROR(VLOOKUP(L18,TU_CEFP,1,FALSE),VLOOKUP(M18,TU_CEFP,1,FALSE)) -> C153COURIRNICOLAS | O18: TU | P18: {=INDEX(OFFSET('Grilles tarifs'!G17:G143,,IF(OR(O18="CEFP",O18="SAMEDI"),E18-1,0)),MATCH(N18&O18,'Grilles tarifs'!A17:A143&'Grilles tarifs'!E17:E143,0))} -> #N/A
A19: J1 | B19: C153 | C19: 43466 | D19: CHALE | E19: 1 | H19: 1 | I19: NICOLAS | J19: 8 | L19: =B19&D19&I19 -> C153CHALENICOLAS | M19: =B19&I19 -> C153NICOLAS | N19: =IFERROR(VLOOKUP(L19,TU_CEFP,1,FALSE),VLOOKUP(M19,TU_CEFP,1,FALSE)) -> C153CHALENICOLAS | O19: TU | P19: {=INDEX(OFFSET('Grilles tarifs'!G18:G144,,IF(OR(O19="CEFP",O19="SAMEDI"),E19-1,0)),MATCH(N19&O19,'Grilles tarifs'!A18:A144&'Grilles tarifs'!E18:E144,0))} -> #N/A
A20: J1 | B20: C153 | C20: 43466 | D20: CFC | E20: 0 | G20: 20 | H20: 1 | I20: NICOLAS | J20: 8 | L20: =B20&D20&I20 -> C153CFCNICOLAS | M20: =B20&I20 -> C153NICOLAS | N20: =IFERROR(VLOOKUP(L20,TU_CEFP,1,FALSE),VLOOKUP(M20,TU_CEFP,1,FALSE)) -> C153CFCNICOLAS | O20: TU | P20: {=INDEX(OFFSET('Grilles tarifs'!G19:G145,,IF(OR(O20="CEFP",O20="SAMEDI"),E20-1,0)),MATCH(N20&O20,'Grilles tarifs'!A19:A145&'Grilles tarifs'!E19:E145,0))} -> #N/A
A21: J1 | B21: C153 | C21: 43466 | D21: QATAR | E21: 1 | H21: 1 | I21: NICOLAS | J21: 8 | L21: =B21&D21&I21 -> C153QATARNICOLAS | M21: =B21&I21 -> C153NICOLAS | N21: =IFERROR(VLOOKUP(L21,TU_CEFP,1,FALSE),VLOOKUP(M21,TU_CEFP,1,FALSE)) -> C153QATARNICOLAS | O21: TU | P21: {=INDEX(OFFSET('Grilles tarifs'!G20:G146,,IF(OR(O21="CEFP",O21="SAMEDI"),E21-1,0)),MATCH(N21&O21,'Grilles tarifs'!A20:A146&'Grilles tarifs'!E20:E146,0))} -> #N/A
A22: J1 | B22: C153 | C22: 43466 | D22: RAFOU | E22: 0 | G22: 13.17 | H22: 1 | I22: NICOLAS | J22: 8 | L22: =B22&D22&I22 -> C153RAFOUNICOLAS | M22: =B22&I22 -> C153NICOLAS | N22: =IFERROR(VLOOKUP(L22,TU_CEFP,1,FALSE),VLOOKUP(M22,TU_CEFP,1,FALSE)) -> C153RAFOUNICOLAS | O22: TU | P22: {=INDEX(OFFSET('Grilles tarifs'!G21:G147,,IF(OR(O22="CEFP",O22="SAMEDI"),E22-1,0)),MATCH(N22&O22,'Grilles tarifs'!A21:A147&'Grilles tarifs'!E21:E147,0))} -> 1.616
A23: J1 | B23: C293 | C23: 43466 | D23: CFE | E23: 5 | H23: 1 | I23: NEVER | J23: 6 | L23: =B23&D23&I23 -> C293CFENEVER | M23: =B23&I23 -> C293NEVER | N23: =IFERROR(VLOOKUP(L23,TU_CEFP,1,FALSE),VLOOKUP(M23,TU_CEFP,1,FALSE)) -> C293NEVER | O23: CEFP | P23: {=INDEX(OFFSET('Grilles tarifs'!G22:G148,,IF(OR(O23="CEFP",O23="SAMEDI"),E23-1,0)),MATCH(N23&O23,'Grilles tarifs'!A22:A148&'Grilles tarifs'!E22:E148,0))} -> 86
A24: J1 | B24: C293 | C24: 43466 | D24: COURIR | E24: 1 | H24: 1 | I24: NEVER | J24: 6 | L24: =B24&D24&I24 -> C293COURIRNEVER | M24: =B24&I24 -> C293NEVER | N24: =IFERROR(VLOOKUP(L24,TU_CEFP,1,FALSE),VLOOKUP(M24,TU_CEFP,1,FALSE)) -> C293COURIRNEVER | O24: CEFP | P24: {=INDEX(OFFSET('Grilles tarifs'!G23:G149,,IF(OR(O24="CEFP",O24="SAMEDI"),E24-1,0)),MATCH(N24&O24,'Grilles tarifs'!A23:A149&'Grilles tarifs'!E23:E149,0))} -> 45
A25: J1 | B25: C293 | C25: 43466 | D25: CFC | E25: 0 | G25: 17.266 | H25: 1 | I25: NEVER | J25: 6 | L25: =B25&D25&I25 -> C293CFCNEVER | M25: =B25&I25 -> C293NEVER | N25: =IFERROR(VLOOKUP(L25,TU_CEFP,1,FALSE),VLOOKUP(M25,TU_CEFP,1,FALSE)) -> C293CFCNEVER | O25: CEFP | P25: {=INDEX(OFFSET('Grilles tarifs'!G24:G150,,IF(OR(O25="CEFP",O25="SAMEDI"),E25-1,0)),MATCH(N25&O25,'Grilles tarifs'!A24:A150&'Grilles tarifs'!E24:E150,0))} -> 0
A26: J1 | B26: C633 | C26: 43466 | D26: CFE | E26: 1 | G26: 0 | H26: 1 | I26: NEVER | J26: 6 | L26: =B26&D26&I26 -> C633CFENEVER | M26: =B26&I26 -> C633NEVER | N26: =IFERROR(VLOOKUP(L26,TU_CEFP,1,FALSE),VLOOKUP(M26,TU_CEFP,1,FALSE)) -> C633NEVER | O26: CEFP | P26: {=INDEX(OFFSET('Grilles tarifs'!G25:G151,,IF(OR(O26="CEFP",O26="SAMEDI"),E26-1,0)),MATCH(N26&O26,'Grilles tarifs'!A25:A151&'Grilles tarifs'!E25:E151,0))} -> 83
A27: J1 | B27: C633 | C27: 43466 | D27: CHALE | E27: 2 | H27: 1 | I27: NEVER | J27: 6 | L27: =B27&D27&I27 -> C633CHALENEVER | M27: =B27&I27 -> C633NEVER | N27: =IFERROR(VLOOKUP(L27,TU_CEFP,1,FALSE),VLOOKUP(M27,TU_CEFP,1,FALSE)) -> C633CHALENEVER | O27: CEFP | P27: {=INDEX(OFFSET('Grilles tarifs'!G26:G152,,IF(OR(O27="CEFP",O27="SAMEDI"),E27-1,0)),MATCH(N27&O27,'Grilles tarifs'!A26:A152&'Grilles tarifs'!E26:E152,0))} -> 51
A28: J1 | B28: C633 | C28: 43466 | D28: CHOPPER | E28: 1 | H28: 1 | I28: NEVER | J28: 6 | L28: =B28&D28&I28 -> C633CHOPPERNEVER | M28: =B28&I28 -> C633NEVER | N28: =IFERROR(VLOOKUP(L28,TU_CEFP,1,FALSE),VLOOKUP(M28,TU_CEFP,1,FALSE)) -> C633CHOPPERNEVER | O28: CEFP | P28: {=INDEX(OFFSET('Grilles tarifs'!G27:G153,,IF(OR(O28="CEFP",O28="SAMEDI"),E28-1,0)),MATCH(N28&O28,'Grilles tarifs'!A27:A153&'Grilles tarifs'!E27:E153,0))} -> 65
A29: J1 | B29: C633 | C29: 43466 | D29: PAYS | E29: 1 | H29: 1 | I29: NEVER | J29: 6 | L29: =B29&D29&I29 -> C633PAYSNEVER | M29: =B29&I29 -> C633NEVER | N29: =IFERROR(VLOOKUP(L29,TU_CEFP,1,FALSE),VLOOKUP(M29,TU_CEFP,1,FALSE)) -> C633PAYSNEVER | O29: CEFP | P29: {=INDEX(OFFSET('Grilles tarifs'!G28:G154,,IF(OR(O29="CEFP",O29="SAMEDI"),E29-1,0)),MATCH(N29&O29,'Grilles tarifs'!A28:A154&'Grilles tarifs'!E28:E154,0))} -> 72
A30: J1 | B30: C633 | C30: 43466 | D30: QATAR | E30: 1 | H30: 1 | I30: NEVER | J30: 6 | L30: =B30&D30&I30 -> C633QATARNEVER | M30: =B30&I30 -> C633NEVER | N30: =IFERROR(VLOOKUP(L30,TU_CEFP,1,FALSE),VLOOKUP(M30,TU_CEFP,1,FALSE)) -> C633QATARNEVER | O30: CEFP | P30: {=INDEX(OFFSET('Grilles tarifs'!G29:G155,,IF(OR(O30="CEFP",O30="SAMEDI"),E30-1,0)),MATCH(N30&O30,'Grilles tarifs'!A29:A155&'Grilles tarifs'!E29:E155,0))} -> 54
A31: J1 | B31: C633 | C31: 43466 | D31: RAFOU | E31: 0 | G31: 10 | H31: 1 | I31: NEVER | J31: 6 | L31: =B31&D31&I31 -> C633RAFOUNEVER | M31: =B31&I31 -> C633NEVER | N31: =IFERROR(VLOOKUP(L31,TU_CEFP,1,FALSE),VLOOKUP(M31,TU_CEFP,1,FALSE)) -> C633RAFOUNEVER | O31: CEFP | P31: {=INDEX(OFFSET('Grilles tarifs'!G30:G156,,IF(OR(O31="CEFP",O31="SAMEDI"),E31-1,0)),MATCH(N31&O31,'Grilles tarifs'!A30:A156&'Grilles tarifs'!E30:E156,0))} -> 1.627
A32: J1 | B32: C083 | C32: 43466 | D32: CFE | E32: 19 | H32: 1 | I32: STAT | J32: 23 | L32: =B32&D32&I32 -> C083CFESTAT | M32: =B32&I32 -> C083STAT | N32: =IFERROR(VLOOKUP(L32,TU_CEFP,1,FALSE),VLOOKUP(M32,TU_CEFP,1,FALSE)) -> C083STAT | O32: CEFP | P32: {=INDEX(OFFSET('Grilles tarifs'!G31:G157,,IF(OR(O32="CEFP",O32="SAMEDI"),E32-1,0)),MATCH(N32&O32,'Grilles tarifs'!A31:A157&'Grilles tarifs'!E31:E157,0))} -> 103
A33: J1 | B33: C083 | C33: 43466 | D33: COURIR | E33: 1 | H33: 1 | I33: STAT | J33: 23 | L33: =B33&D33&I33 -> C083COURIRSTAT | M33: =B33&I33 -> C083STAT | N33: =IFERROR(VLOOKUP(L33,TU_CEFP,1,FALSE),VLOOKUP(M33,TU_CEFP,1,FALSE)) -> C083STAT | O33: CEFP | P33: {=INDEX(OFFSET('Grilles tarifs'!G32:G158,,IF(OR(O33="CEFP",O33="SAMEDI"),E33-1,0)),MATCH(N33&O33,'Grilles tarifs'!A32:A158&'Grilles tarifs'!E32:E158,0))} -> 85
A34: J1 | B34: C083 | C34: 43466 | D34: CFC | E34: 1 | G34: 73.935 | H34: 1 | I34: STAT | J34: 23 | L34: =B34&D34&I34 -> C083CFCSTAT | M34: =B34&I34 -> C083STAT | N34: =IFERROR(VLOOKUP(L34,TU_CEFP,1,FALSE),VLOOKUP(M34,TU_CEFP,1,FALSE)) -> C083STAT | O34: CEFP | P34: {=INDEX(OFFSET('Grilles tarifs'!G33:G159,,IF(OR(O34="CEFP",O34="SAMEDI"),E34-1,0)),MATCH(N34&O34,'Grilles tarifs'!A33:A159&'Grilles tarifs'!E33:E159,0))} -> 85
A35: J1 | B35: C083 | C35: 43466 | D35: PARTIR | E35: 2 | H35: 1 | I35: STAT | J35: 23 | L35: =B35&D35&I35 -> C083PARTIRSTAT | M35: =B35&I35 -> C083STAT | N35: =IFERROR(VLOOKUP(L35,TU_CEFP,1,FALSE),VLOOKUP(M35,TU_CEFP,1,FALSE)) -> C083STAT | O35: CEFP | P35: {=INDEX(OFFSET('Grilles tarifs'!G34:G160,,IF(OR(O35="CEFP",O35="SAMEDI"),E35-1,0)),MATCH(N35&O35,'Grilles tarifs'!A34:A160&'Grilles tarifs'!E34:E160,0))} -> 86
A36: J1 | B36: C725 | C36: 43466 | D36: CFE | E36: 3 | G36: 0 | H36: 1 | I36: STAT | J36: 7 | L36: =B36&D36&I36 -> C725CFESTAT | M36: =B36&I36 -> C725STAT | N36: =IFERROR(VLOOKUP(L36,TU_CEFP,1,FALSE),VLOOKUP(M36,TU_CEFP,1,FALSE)) -> C725STAT | O36: CEFP | P36: {=INDEX(OFFSET('Grilles tarifs'!G35:G161,,IF(OR(O36="CEFP",O36="SAMEDI"),E36-1,0)),MATCH(N36&O36,'Grilles tarifs'!A35:A161&'Grilles tarifs'!E35:E161,0))} -> 88
A37: J1 | B37: C725 | C37: 43466 | D37: COURIR | E37: 1 | H37: 1 | I37: STAT | J37: 7 | L37: =B37&D37&I37 -> C725COURIRSTAT | M37: =B37&I37 -> C725STAT | N37: =IFERROR(VLOOKUP(L37,TU_CEFP,1,FALSE),VLOOKUP(M37,TU_CEFP,1,FALSE)) -> C725STAT | O37: CEFP | P37: {=INDEX(OFFSET('Grilles tarifs'!G36:G162,,IF(OR(O37="CEFP",O37="SAMEDI"),E37-1,0)),MATCH(N37&O37,'Grilles tarifs'!A36:A162&'Grilles tarifs'!E36:E162,0))} -> 86
A38: J1 | B38: C725 | C38: 43466 | D38: CHALE | E38: 1 | H38: 1 | I38: STAT | J38: 7 | L38: =B38&D38&I38 -> C725CHALESTAT | M38: =B38&I38 -> C725STAT | N38: =IFERROR(VLOOKUP(L38,TU_CEFP,1,FALSE),VLOOKUP(M38,TU_CEFP,1,FALSE)) -> C725STAT | O38: CEFP | P38: {=INDEX(OFFSET('Grilles tarifs'!G37:G163,,IF(OR(O38="CEFP",O38="SAMEDI"),E38-1,0)),MATCH(N38&O38,'Grilles tarifs'!A37:A163&'Grilles tarifs'!E37:E163,0))} -> 86
A39: J1 | B39: C725 | C39: 43466 | D39: QATAR | E39: 1 | H39: 1 | I39: STAT | J39: 7 | L39: =B39&D39&I39 -> C725QATARSTAT | M39: =B39&I39 -> C725STAT | N39: =IFERROR(VLOOKUP(L39,TU_CEFP,1,FALSE),VLOOKUP(M39,TU_CEFP,1,FALSE)) -> C725STAT | O39: CEFP | P39: {=INDEX(OFFSET('Grilles tarifs'!G38:G164,,IF(OR(O39="CEFP",O39="SAMEDI"),E39-1,0)),MATCH(N39&O39,'Grilles tarifs'!A38:A164&'Grilles tarifs'!E38:E164,0))} -> 86
A40: J1 | B40: C725 | C40: 43466 | D40: RAFOU | E40: 1 | G40: 47.8 | H40: 1 | I40: STAT | J40: 7 | L40: =B40&D40&I40 -> C725RAFOUSTAT | M40: =B40&I40 -> C725STAT | N40: =IFERROR(VLOOKUP(L40,TU_CEFP,1,FALSE),VLOOKUP(M40,TU_CEFP,1,FALSE)) -> C725STAT | O40: CEFP | P40: {=INDEX(OFFSET('Grilles tarifs'!G39:G165,,IF(OR(O40="CEFP",O40="SAMEDI"),E40-1,0)),MATCH(N40&O40,'Grilles tarifs'!A39:A165&'Grilles tarifs'!E39:E165,0))} -> 86
...

Sheet Grilles tarifs
A1: TU | F1: 0 | G1: 1 | H1: 2 | I1: 3 | J1: 4 | K1: 5 | L1: 6 | M1: 7 | N1: 8 | O1: 9 | P1: 10 | Q1: 11 | R1: 12 | S1: 13 | T1: 14 | U1: 15 | V1: 16 | W1: 17 | X1: 18 | Y1: 19 | Z1: 20 | AA1: 21 | AB1: 22 | AC1: 23 | AD1: 24 | AE1: 25 | AF1: 26 | AG1: 27 | AH1: 28 | AI1: 29 | AJ1: 30 | AK1: 31 | AL1: 32 | AM1: 33 | AN1: 34 | AO1: 35 | AP1: 36 | AQ1: 37 | AR1: 38 | AS1: 39 | AT1: 40 | AU1: 41 | AV1: 42 | AW1: 43 | AX1: 44 | AY1: 45 | AZ1: 46 | BA1: 47 | BB1: 48 | BC1: 49 | BD1: 50 | BE1: 51 | BF1: 52
A2: =B2&C2&D2 -> C143PAULNICOLAS | B2: C143 | C2: PAUL | D2: NICOLAS | E2: TU | F2: 0 | G2: 6 | H2: 7 | I2: 8 | J2: 9 | K2: 10 | L2: 11 | M2: 12 | N2: 13 | O2: 14 | P2: 15 | Q2: 16 | R2: 17 | S2: 18 | T2: 19 | U2: 20 | V2: 21 | W2: 22 | X2: 23 | Y2: 24 | Z2: 25 | AA2: 26 | AB2: 27 | AC2: 28 | AD2: 29 | AE2: 30 | AF2: 31 | AG2: 32 | AH2: 33 | AI2: 34 | AJ2: 35 | AK2: 36 | AL2: 37 | AM2: 38 | AN2: 39 | AO2: 40 | AP2: 41 | AQ2: 42 | AR2: 43 | AS2: 44 | AT2: 45 | AU2: 46 | AV2: 47 | AW2: 48 | AX2: 49 | AY2: 50 | AZ2: 51 | BA2: 52 | BB2: 53 | BC2: 54 | BD2: 55 | BE2: 56 | BF2: 57
A3: =B3&C3&D3 -> C143CFCNICOLAS | B3: C143 | C3: CFC | D3: NICOLAS | E3: TU | F3: 31 | G3: 31
A4: =B4&C4&D4 -> C143COURIRNICOLAS | B4: C143 | C4: COURIR | D4: NICOLAS | E4: TU | F4: 0 | G4: 7 | H4: 8 | I4: 9 | J4: 10 | K4: 11 | L4: 12 | M4: 13 | N4: 14 | O4: 15 | P4: 16 | Q4: 17 | R4: 18 | S4: 19 | T4: 20 | U4: 21 | V4: 22 | W4: 23 | X4: 24 | Y4: 25 | Z4: 26 | AA4: 27 | AB4: 28 | AC4: 29 | AD4: 30 | AE4: 31 | AF4: 32 | AG4: 33 | AH4: 34 | AI4: 35 | AJ4: 36 | AK4: 37 | AL4: 38 | AM4: 39 | AN4: 40 | AO4: 41 | AP4: 42 | AQ4: 43 | AR4: 44 | AS4: 45 | AT4: 46 | AU4: 47 | AV4: 48 | AW4: 49 | AX4: 50 | AY4: 51 | AZ4: 52 | BA4: 53 | BB4: 54 | BC4: 55 | BD4: 56 | BE4: 57 | BF4: 58
A5: =B5&C5&D5 -> C143DLCNICOLAS | B5: C143 | C5: DLC | D5: NICOLAS | E5: TU | F5: 0 | G5: 8 | H5: 9 | I5: 10 | J5: 11 | K5: 12 | L5: 13 | M5: 14 | N5: 15 | O5: 16 | P5: 17 | Q5: 18 | R5: 19 | S5: 20 | T5: 21 | U5: 22 | V5: 23 | W5: 24 | X5: 25
A6: =B6&C6&D6 -> C143CHALENICOLAS | B6: C143 | C6: CHALE | D6: NICOLAS | E6: TU | F6: 0 | G6: 9 | H6: 10 | I6: 11 | J6: 12 | K6: 13 | L6: 14 | M6: 15 | N6: 16 | O6: 17 | P6: 18 | Q6: 19 | R6: 20 | S6: 21 | T6: 22 | U6: 23 | V6: 24 | W6: 25 | X6: 26 | Y6: 27 | Z6: 28 | AA6: 29 | AB6: 30 | AC6: 31 | AD6: 32 | AE6: 33 | AF6: 34 | AG6: 35 | AH6: 36 | AI6: 37 | AJ6: 38 | AK6: 39 | AL6: 40 | AM6: 41
A7: =B7&C7&D7 -> C153PAULNICOLAS | B7: C153 | C7: PAUL | D7: NICOLAS | E7: TU | F7: 0 | G7: 10 | H7: 11 | I7: 12 | J7: 13 | K7: 14 | L7: 15 | M7: 16 | N7: 17 | O7: 18 | P7: 19 | Q7: 20 | R7: 21 | S7: 22 | T7: 23 | U7: 24 | V7: 25 | W7: 26 | X7: 27 | Y7: 28 | Z7: 29 | AA7: 30 | AB7: 31 | AC7: 32 | AD7: 33 | AE7: 34 | AF7: 35 | AG7: 36 | AH7: 37 | AI7: 38 | AJ7: 39 | AK7: 40 | AL7: 41 | AM7: 42 | AN7: 43 | AO7: 44 | AP7: 45 | AQ7: 46 | AR7: 47 | AS7: 48 | AT7: 49 | AU7: 50 | AV7: 51 | AW7: 52 | AX7: 53 | AY7: 54 | AZ7: 55 | BA7: 56 | BB7: 57 | BC7: 58 | BD7: 59 | BE7: 60 | BF7: 61
A8: =B8&C8&D8 -> C153CFCNICOLAS | B8: C153 | C8: CFC | D8: NICOLAS | E8: TU | F8: 11 | G8: 11
A9: =B9&C9&D9 -> C153COURIRNICOLAS | B9: C153 | C9: COURIR | D9: NICOLAS | E9: TU | F9: 0 | G9: 12 | H9: 13 | I9: 14 | J9: 15 | K9: 16 | L9: 17 | M9: 18 | N9: 19 | O9: 20 | P9: 21 | Q9: 22 | R9: 23 | S9: 24 | T9: 25 | U9: 26 | V9: 27 | W9: 28 | X9: 29 | Y9: 30 | Z9: 31 | AA9: 32 | AB9: 33 | AC9: 34 | AD9: 35 | AE9: 36 | AF9: 37 | AG9: 38 | AH9: 39 | AI9: 40 | AJ9: 41 | AK9: 42 | AL9: 43 | AM9: 44 | AN9: 45 | AO9: 46 | AP9: 47 | AQ9: 48 | AR9: 49 | AS9: 50 | AT9: 51 | AU9: 52 | AV9: 53 | AW9: 54 | AX9: 55 | AY9: 56 | AZ9: 57 | BA9: 58 | BB9: 59 | BC9: 60 | BD9: 61 | BE9: 62 | BF9: 63
A10: =B10&C10&D10 -> C153DLCNICOLAS | B10: C153 | C10: DLC | D10: NICOLAS | E10: TU | F10: 0 | G10: 13 | H10: 14 | I10: 15 | J10: 16 | K10: 17 | L10: 18 | M10: 19 | N10: 20 | O10: 21 | P10: 22 | Q10: 23 | R10: 24 | S10: 25 | T10: 26 | U10: 27 | V10: 28 | W10: 29 | X10: 30
A11: =B11&C11&D11 -> C153CHALENICOLAS | B11: C153 | C11: CHALE | D11: NICOLAS | E11: TU | F11: 0 | G11: 14 | H11: 15 | I11: 16 | J11: 17 | K11: 18 | L11: 19 | M11: 20 | N11: 21 | O11: 22 | P11: 23 | Q11: 24 | R11: 25 | S11: 26 | T11: 27 | U11: 28 | V11: 29 | W11: 30 | X11: 31 | Y11: 32 | Z11: 33 | AA11: 34 | AB11: 35 | AC11: 36 | AD11: 37 | AE11: 38 | AF11: 39 | AG11: 40 | AH11: 41 | AI11: 42 | AJ11: 43 | AK11: 44 | AL11: 45 | AM11: 46
A12: =B12&C12&D12 -> C213PAULNICOLAS | B12: C213 | C12: PAUL | D12: NICOLAS | E12: TU | F12: 0 | G12: 15 | H12: 16 | I12: 17 | J12: 18 | K12: 19 | L12: 20 | M12: 21 | N12: 22 | O12: 23 | P12: 24 | Q12: 25 | R12: 26 | S12: 27 | T12: 28 | U12: 29 | V12: 30 | W12: 31 | X12: 32 | Y12: 33 | Z12: 34 | AA12: 35 | AB12: 36 | AC12: 37 | AD12: 38 | AE12: 39 | AF12: 40 | AG12: 41 | AH12: 42 | AI12: 43 | AJ12: 44 | AK12: 45 | AL12: 46 | AM12: 47 | AN12: 48 | AO12: 49 | AP12: 50 | AQ12: 51 | AR12: 52 | AS12: 53 | AT12: 54 | AU12: 55 | AV12: 56 | AW12: 57 | AX12: 58 | AY12: 59 | AZ12: 60 | BA12: 61 | BB12: 62 | BC12: 63 | BD12: 64 | BE12: 65 | BF12: 66
A13: =B13&C13&D13 -> C213CFCNICOLAS | B13: C213 | C13: CFC | D13: NICOLAS | E13: TU | F13: 76 | G13: 76
A14: =B14&C14&D14 -> C213COURIRNICOLAS | B14: C213 | C14: COURIR | D14: NICOLAS | E14: TU | F14: 0 | G14: 16 | H14: 17 | I14: 18 | J14: 19 | K14: 20 | L14: 21 | M14: 22 | N14: 23 | O14: 24 | P14: 25 | Q14: 26 | R14: 27 | S14: 28 | T14: 29 | U14: 30 | V14: 31 | W14: 32 | X14: 33 | Y14: 34 | Z14: 35 | AA14: 36 | AB14: 37 | AC14: 38 | AD14: 39 | AE14: 40 | AF14: 41 | AG14: 42 | AH14: 43 | AI14: 44 | AJ14: 45 | AK14: 46 | AL14: 47 | AM14: 48 | AN14: 49 | AO14: 50 | AP14: 51 | AQ14: 52 | AR14: 53 | AS14: 54 | AT14: 55 | AU14: 56 | AV14: 57 | AW14: 58 | AX14: 59 | AY14: 60 | AZ14: 61 | BA14: 62 | BB14: 63 | BC14: 64 | BD14: 65 | BE14: 66 | BF14: 67
A15: =B15&C15&D15 -> C213DLCNICOLAS | B15: C213 | C15: DLC | D15: NICOLAS | E15: TU | F15: 0 | G15: 17 | H15: 18 | I15: 19 | J15: 20 | K15: 21 | L15: 22 | M15: 23 | N15: 24 | O15: 25 | P15: 26 | Q15: 27 | R15: 28 | S15: 29 | T15: 30 | U15: 31 | V15: 32 | W15: 33 | X15: 34
A16: =B16&C16&D16 -> C213PARTIRNICOLAS | B16: C213 | C16: PARTIR | D16: NICOLAS | E16: TU | F16: 0 | G16: 18 | H16: 19 | I16: 20 | J16: 21 | K16: 22 | L16: 23 | M16: 24 | N16: 25 | O16: 26 | P16: 27 | Q16: 28 | R16: 29 | S16: 30 | T16: 31 | U16: 32 | V16: 33 | W16: 34 | X16: 35 | Y16: 36 | Z16: 37 | AA16: 38 | AB16: 39 | AC16: 40 | AD16: 41 | AE16: 42 | AF16: 43 | AG16: 44 | AH16: 45 | AI16: 46 | AJ16: 47 | AK16: 48 | AL16: 49 | AM16: 50
A17: =B17&C17&D17 -> C213CHALENICOLAS | B17: C213 | C17: CHALE | D17: NICOLAS | E17: TU | F17: 0 | G17: 19 | H17: 20 | I17: 21 | J17: 22 | K17: 23 | L17: 24 | M17: 25 | N17: 26 | O17: 27 | P17: 28 | Q17: 29 | R17: 30 | S17: 31 | T17: 32 | U17: 33 | V17: 34 | W17: 35 | X17: 36 | Y17: 37 | Z17: 38 | AA17: 39 | AB17: 40 | AC17: 41 | AD17: 42 | AE17: 43 | AF17: 44 | AG17: 45 | AH17: 46 | AI17: 47 | AJ17: 48 | AK17: 49 | AL17: 50 | AM17: 51
A18: =B18&C18&D18 -> C143QATARNICOLAS | B18: C143 | C18: QATAR | D18: NICOLAS | E18: TU | F18: 0 | G18: 20 | H18: 21 | I18: 22 | J18: 23 | K18: 24 | L18: 25 | M18: 26 | N18: 27 | O18: 28 | P18: 29 | Q18: 30 | R18: 31 | S18: 32 | T18: 33 | U18: 34 | V18: 35 | W18: 36 | X18: 37 | Y18: 38 | Z18: 39 | AA18: 40 | AB18: 41 | AC18: 42 | AD18: 43 | AE18: 44 | AF18: 45 | AG18: 46 | AH18: 47 | AI18: 48 | AJ18: 49 | AK18: 50 | AL18: 51 | AM18: 52 | AN18: 53 | AO18: 54 | AP18: 55 | AQ18: 56 | AR18: 57 | AS18: 58 | AT18: 59 | AU18: 60 | AV18: 61 | AW18: 62 | AX18: 63 | AY18: 64 | AZ18: 65 | BA18: 66 | BB18: 67 | BC18: 68 | BD18: 69 | BE18: 70 | BF18: 71
A19: =B19&C19&D19 -> C153QATARNICOLAS | B19: C153 | C19: QATAR | D19: NICOLAS | E19: TU | F19: 0 | G19: 21 | H19: 22 | I19: 23 | J19: 24 | K19: 25 | L19: 26 | M19: 27 | N19: 28 | O19: 29 | P19: 30 | Q19: 31 | R19: 32 | S19: 33 | T19: 34 | U19: 35 | V19: 36 | W19: 37 | X19: 38 | Y19: 39 | Z19: 40 | AA19: 41 | AB19: 42 | AC19: 43 | AD19: 44 | AE19: 45 | AF19: 46 | AG19: 47 | AH19: 48 | AI19: 49 | AJ19: 50 | AK19: 51 | AL19: 52 | AM19: 53 | AN19: 54 | AO19: 55 | AP19: 56 | AQ19: 57 | AR19: 58 | AS19: 59 | AT19: 60 | AU19: 61 | AV19: 62 | AW19: 63 | AX19: 64 | AY19: 65 | AZ19: 66 | BA19: 67 | BB19: 68 | BC19: 69 | BD19: 70 | BE19: 71 | BF19: 72
A20: =B20&C20&D20 -> C213QATARNICOLAS | B20: C213 | C20: QATAR | D20: NICOLAS | E20: TU | F20: 0 | G20: 22 | H20: 23 | I20: 24 | J20: 25 | K20: 26 | L20: 27 | M20: 28 | N20: 29 | O20: 30 | P20: 31 | Q20: 32 | R20: 33 | S20: 34 | T20: 35 | U20: 36 | V20: 37 | W20: 38 | X20: 39 | Y20: 40 | Z20: 41 | AA20: 42 | AB20: 43 | AC20: 44 | AD20: 45 | AE20: 46 | AF20: 47 | AG20: 48 | AH20: 49 | AI20: 50 | AJ20: 51 | AK20: 52 | AL20: 53 | AM20: 54 | AN20: 55 | AO20: 56 | AP20: 57 | AQ20: 58 | AR20: 59 | AS20: 60 | AT20: 61 | AU20: 62 | AV20: 63 | AW20: 64 | AX20: 65 | AY20: 66 | AZ20: 67 | BA20: 68 | BB20: 69 | BC20: 70 | BD20: 71 | BE20: 72 | BF20: 73
A21: =B21&C21&D21 -> C073QATARGEGE | B21: C073 | C21: QATAR | D21: GEGE | E21: TU | F21: 0 | G21: 23 | H21: 24 | I21: 25 | J21: 26 | K21: 27 | L21: 28 | M21: 29 | N21: 30 | O21: 31 | P21: 32 | Q21: 33 | R21: 34 | S21: 35 | T21: 36 | U21: 37 | V21: 38 | W21: 39 | X21: 40 | Y21: 41 | Z21: 42 | AA21: 43 | AB21: 44 | AC21: 45 | AD21: 46 | AE21: 47 | AF21: 48 | AG21: 49 | AH21: 50 | AI21: 51 | AJ21: 52 | AK21: 53 | AL21: 54 | AM21: 55 | AN21: 56 | AO21: 57 | AP21: 58 | AQ21: 59 | AR21: 60 | AS21: 61 | AT21: 62 | AU21: 63 | AV21: 64 | AW21: 65 | AX21: 66 | AY21: 67 | AZ21: 68 | BA21: 69 | BB21: 70 | BC21: 71 | BD21: 72 | BE21: 73 | BF21: 74
A22: =B22&C22&D22 -> C143PRESSCHESTNICOLAS | B22: C143 | C22: PRESSCHEST | D22: NICOLAS | E22: TU | F22: 0 | G22: 24 | H22: 25 | I22: 26 | J22: 27 | K22: 28 | L22: 29 | M22: 30 | N22: 31 | O22: 32 | P22: 33 | Q22: 34 | R22: 35 | S22: 36 | T22: 37 | U22: 38 | V22: 39 | W22: 40 | X22: 41 | Y22: 42 | Z22: 43 | AA22: 44 | AB22: 45 | AC22: 46 | AD22: 47 | AE22: 48 | AF22: 49 | AG22: 50 | AH22: 51 | AI22: 52 | AJ22: 53 | AK22: 54 | AL22: 55 | AM22: 56 | AN22: 57 | AO22: 58 | AP22: 59 | AQ22: 60 | AR22: 61 | AS22: 62 | AT22: 63 | AU22: 64 | AV22: 65 | AW22: 66 | AX22: 67 | AY22: 68 | AZ22: 69 | BA22: 70 | BB22: 71 | BC22: 72 | BD22: 73 | BE22: 74 | BF22: 75
A23: =B23&C23&D23 -> C153PRESSCHESTNICOLAS | B23: C153 | C23: PRESSCHEST | D23: NICOLAS | E23: TU | F23: 0 | G23: 25 | H23: 26 | I23: 27 | J23: 28 | K23: 29 | L23: 30 | M23: 31 | N23: 32 | O23: 33 | P23: 34 | Q23: 35 | R23: 36 | S23: 37 | T23: 38 | U23: 39 | V23: 40 | W23: 41 | X23: 42 | Y23: 43 | Z23: 44 | AA23: 45 | AB23: 46 | AC23: 47 | AD23: 48 | AE23: 49 | AF23: 50 | AG23: 51 | AH23: 52 | AI23: 53 | AJ23: 54 | AK23: 55 | AL23: 56 | AM23: 57 | AN23: 58 | AO23: 59 | AP23: 60 | AQ23: 61 | AR23: 62 | AS23: 63 | AT23: 64 | AU23: 65 | AV23: 66 | AW23: 67 | AX23: 68 | AY23: 69 | AZ23: 70 | BA23: 71 | BB23: 72 | BC23: 73 | BD23: 74 | BE23: 75 | BF23: 76
A24: =B24&C24&D24 -> C213PRESSCHESTNICOLAS | B24: C213 | C24: PRESSCHEST | D24: NICOLAS | E24: TU | F24: 0 | G24: 26 | H24: 27 | I24: 28 | J24: 29 | K24: 30 | L24: 31 | M24: 32 | N24: 33 | O24: 34 | P24: 35 | Q24: 36 | R24: 37 | S24: 38 | T24: 39 | U24: 40 | V24: 41 | W24: 42 | X24: 43 | Y24: 44 | Z24: 45 | AA24: 46 | AB24: 47 | AC24: 48 | AD24: 49 | AE24: 50 | AF24: 51 | AG24: 52 | AH24: 53 | AI24: 54 | AJ24: 55 | AK24: 56 | AL24: 57 | AM24: 58 | AN24: 59 | AO24: 60 | AP24: 61 | AQ24: 62 | AR24: 63 | AS24: 64 | AT24: 65 | AU24: 66 | AV24: 67 | AW24: 68 | AX24: 69 | AY24: 70 | AZ24: 71 | BA24: 72 | BB24: 73 | BC24: 74 | BD24: 75 | BE24: 76 | BF24: 77
A25: =B25&C25&D25 -> C143CHALESAMEDINICOLAS | B25: C143 | C25: CHALESAMEDI | D25: NICOLAS | E25: samedi | F25: 0 | G25: 27 | H25: 28 | I25: 29 | J25: 30 | K25: 31 | L25: 32 | M25: 33 | N25: 34 | O25: 35 | P25: 36 | Q25: 37 | R25: 38 | S25: 39 | T25: 40 | U25: 41 | V25: 42 | W25: 43 | X25: 44 | Y25: 45 | Z25: 46 | AA25: 47 | AB25: 48 | AC25: 49 | AD25: 50 | AE25: 51 | AF25: 52 | AG25: 53 | AH25: 54 | AI25: 55 | AJ25: 56 | AK25: 57 | AL25: 58 | AM25: 59
A26: =B26&C26&D26 -> C153CHALESAMEDINICOLAS | B26: C153 | C26: CHALESAMEDI | D26: NICOLAS | E26: samedi | F26: 0 | G26: 28 | H26: 29 | I26: 30 | J26: 31 | K26: 32 | L26: 33 | M26: 34 | N26: 35 | O26: 36 | P26: 37 | Q26: 38 | R26: 39 | S26: 40 | T26: 41 | U26: 42 | V26: 43 | W26: 44 | X26: 45 | Y26: 46 | Z26: 47 | AA26: 48 | AB26: 49 | AC26: 50 | AD26: 51 | AE26: 52 | AF26: 53 | AG26: 54 | AH26: 55 | AI26: 56 | AJ26: 57 | AK26: 58 | AL26: 59 | AM26: 60
A27: =B27&C27&D27 -> C213CHALESAMEDINICOLAS | B27: C213 | C27: CHALESAMEDI | D27: NICOLAS | E27: samedi | F27: 0 | G27: 29 | H27: 30 | I27: 31 | J27: 32 | K27: 33 | L27: 34 | M27: 35 | N27: 36 | O27: 37 | P27: 38 | Q27: 39 | R27: 40 | S27: 41 | T27: 42 | U27: 43 | V27: 44 | W27: 45 | X27: 46 | Y27: 47 | Z27: 48 | AA27: 49 | AB27: 50 | AC27: 51 | AD27: 52 | AE27: 53 | AF27: 54 | AG27: 55 | AH27: 56 | AI27: 57 | AJ27: 58 | AK27: 59 | AL27: 60 | AM27: 61
A28: =B28&C28&D28 -> C073RAFOUGEGE | B28: C073 | C28: RAFOU | D28: GEGE | E28: FORFAITRAFOU | F28: 1.096 | G28: 1.096
A29: =B29&C29&D29 -> C143RAFOUNICOLAS | B29: C143 | C29: RAFOU | D29: NICOLAS | E29: TU | F29: 1.407 | G29: 1.407
A30: =B30&C30&D30 -> C153RAFOUNICOLAS | B30: C153 | C30: RAFOU | D30: NICOLAS | E30: TU | F30: 1.616 | G30: 1.616
A31: =B31&C31&D31 -> C213RAFOUNICOLAS | B31: C213 | C31: RAFOU | D31: NICOLAS | E31: TU | F31: 1.924 | G31: 1.924
A32: =B32&C32&D32 -> C143PARTIRNICOLAS | B32: C143 | C32: PARTIR | D32: NICOLAS | E32: TU | F32: 0 | G32: 30 | H32: 31 | I32: 32 | J32: 33 | K32: 34 | L32: 35 | M32: 36 | N32: 37 | O32: 38 | P32: 39 | Q32: 40 | R32: 41 | S32: 42 | T32: 43 | U32: 44 | V32: 45 | W32: 46 | X32: 47 | Y32: 48 | Z32: 49 | AA32: 50 | AB32: 51 | AC32: 52 | AD32: 53 | AE32: 54 | AF32: 55 | AG32: 56 | AH32: 57 | AI32: 58 | AJ32: 59 | AK32: 60 | AL32: 61 | AM32: 62
A33: =B33&C33&D33 -> C153PARTIRNICOLAS | B33: C153 | C33: PARTIR | D33: NICOLAS | E33: TU | F33: 0 | G33: 31 | H33: 32 | I33: 33 | J33: 34 | K33: 35 | L33: 36 | M33: 37 | N33: 38 | O33: 39 | P33: 40 | Q33: 41 | R33: 42 | S33: 43 | T33: 44 | U33: 45 | V33: 46 | W33: 47 | X33: 48 | Y33: 49 | Z33: 50 | AA33: 51 | AB33: 52 | AC33: 53 | AD33: 54 | AE33: 55 | AF33: 56 | AG33: 57 | AH33: 58 | AI33: 59 | AJ33: 60 | AK33: 61 | AL33: 62 | AM33: 63
A34: =B34&C34&D34 -> C633CHALESAMEDINEVER | B34: C633 | C34: CHALESAMEDI | D34: NEVER | E34: samedi | F34: 0 | G34: 32 | H34: 33 | I34: 34 | J34: 35 | K34: 36 | L34: 37 | M34: 38 | N34: 39 | O34: 40 | P34: 41 | Q34: 42 | R34: 43 | S34: 44 | T34: 45 | U34: 46 | V34: 47 | W34: 48 | X34: 49 | Y34: 50 | Z34: 51 | AA34: 52 | AB34: 53 | AC34: 54 | AD34: 55 | AE34: 56 | AF34: 57 | AG34: 58 | AH34: 59 | AI34: 60 | AJ34: 61 | AK34: 62 | AL34: 63 | AM34: 64
A35: =B35&C35&D35 -> C223COURIRSAMEDISNCF | B35: C223 | C35: COURIRSAMEDI | D35: SNCF | E35: samedi | F35: 0 | G35: 33 | H35: 34 | I35: 35 | J35: 36 | K35: 37 | L35: 38 | M35: 39 | N35: 40 | O35: 41 | P35: 42 | Q35: 43 | R35: 44 | S35: 45 | T35: 46 | U35: 47 | V35: 48 | W35: 49 | X35: 50 | Y35: 51 | Z35: 52 | AA35: 53 | AB35: 54 | AC35: 55 | AD35: 56 | AE35: 57 | AF35: 58 | AG35: 59 | AH35: 60 | AI35: 61 | AJ35: 62 | AK35: 63 | AL35: 64 | AM35: 65 | AN35: 66 | AO35: 67 | AP35: 68 | AQ35: 69 | AR35: 70 | AS35: 71 | AT35: 72 | AU35: 73 | AV35: 74 | AW35: 75 | AX35: 76 | AY35: 77 | AZ35: 78 | BA35: 79 | BB35: 80 | BC35: 81 | BD35: 82 | BE35: 83 | BF35: 84
A36: =B36&C36&D36 -> C073SIVETVAR | B36: C073 | C36: SIVET | D36: VAR | E36: FORFAITSIVET | F36: 0 | G36: 34 | H36: 35 | I36: 36 | J36: 37 | K36: 38 | L36: 39 | M36: 40 | N36: 41 | O36: 42 | P36: 43
A37: =B37&C37&D37 -> C143SIVETNICOLAS | B37: C143 | C37: SIVET | D37: NICOLAS | E37: TU | F37: 0 | G37: 0 | H37: 0 | I37: 0 | J37: 0 | K37: 0 | L37: 0 | M37: 0 | N37: 0 | O37: 0 | P37: 0
A38: =B38&C38&D38 -> C153SIVETNICOLAS | B38: C153 | C38: SIVET | D38: NICOLAS | E38: TU | F38: 0 | G38: 0 | H38: 0 | I38: 0 | J38: 0 | K38: 0 | L38: 0 | M38: 0 | N38: 0 | O38: 0 | P38: 0
A39: =B39&C39&D39 -> C213SIVETNICOLAS | B39: C213 | C39: SIVET | D39: NICOLAS | E39: TU | F39: 0 | G39: 0 | H39: 0 | I39: 0 | J39: 0 | K39: 0 | L39: 0 | M39: 0 | N39: 0 | O39: 0 | P39: 0
A40: =B40&C40&D40 -> C143CHOPPERNICOLAS | B40: C143 | C40: CHOPPER | D40: NICOLAS | E40: TU | F40: 0 | G40: 35 | H40: 36 | I40: 37
...

Sheet Explications
A1: TYPE D'EXPL | B1: Prix unitaire | C1: Valorisation
A2: TU | B2: La valeure cherchée se trouve dans la grille tarifaire première colonne | C2: Prix unitaire multiplié par le nombre de palettes + (prix unitaire/2)*2ème étage (s'il y a 2 ème étage)
A3: CEFP | B3: La valeure cherchée se trouve dans la grille tarifaire à la colonne qui correspond au nombre de palettes | C3: Prix unitaire multiplié par le nombre de palettes
A4: SAMEDI | B4: FONCTIONNE PAREIL QUE CEFP (seul le tarif est différent) | C4: FONCTIONNE PAREIL QUE CEFP (seul le tarif est différent)
A5: FORFAITS | B5: La valeure cherchée se trouve dans la grille tarifaire première colonne | C5: Même montant que le prix unitaire
C9: Pour trouver le bon prix il suffit de prendre le code nécessaire Et aussi les instructions ci-dessus en fonction du type d'expl

Sheet Démonstration
A1: J | B1: Code | C1: Date | D1: nom1 | E1: NB Palettes | F1: 2ème Etage | G1: Poids | H1: Camions | I1: nom2 | J1: Total/J | K1: Jour semaine | L1: Code2 | M1: Code1 | N1: Code nécessaire | O1: Type expl | P1: Prix unitaire | Q1: Valorisation
A2: J1 | B2: C793 | C2: 43466 | D2: CFE | E2: 23 | H2: 1 | I2: NICOLAS | J2: 23 | L2: C793CFENICOLAS | M2: C793NICOLAS | N2: C793NICOLAS | O2: CEFP | P2: 125
A3: J1 | B3: C793 | C3: 43466 | D3: CFC | E3: 0 | G3: 12.182 | H3: 2 | I3: NICOLAS | J3: 23 | L3: C793CFCNICOLAS | M3: C793NICOLAS | N3: C793NICOLAS | O3: CEFP | P3: 125
A4: J1 | B4: C793 | C4: 43466 | D4: PRESSCHEST | E4: 1 | G4: 0 | H4: 2 | I4: NICOLAS | J4: 23 | L4: C793PRESSCHESTNICOLAS | M4: C793NICOLAS | N4: C793PRESSCHESTNICOLAS | O4: CEFP | P4: 125
A5: J1 | B5: C213 | C5: 43466 | D5: CFE | E5: 9 | F5: 3 | H5: 1 | I5: NICOLAS | J5: 16 | L5: C213CFENICOLAS | M5: C213NICOLAS | N5: C213NICOLAS | O5: TU | P5: 89
A6: J1 | B6: C213 | C6: 43466 | D6: COURIR | E6: 1 | H6: 1 | I6: NICOLAS | J6: 16 | L6: C213COURIRNICOLAS | M6: C213NICOLAS | N6: C213COURIRNICOLAS | O6: TU | P6: 89
A7: J1 | B7: C213 | C7: 43466 | D7: CHALE | E7: 1 | H7: 1 | I7: NICOLAS | J7: 16 | L7: C213CHALENICOLAS | M7: C213NICOLAS | N7: C213CHALENICOLAS | O7: TU | P7: 89
A8: J1 | B8: C213 | C8: 43466 | D8: CFC | E8: 0 | G8: 12.336 | H8: 1 | I8: NICOLAS | J8: 16 | L8: C213CFCNICOLAS | M8: C213NICOLAS | N8: C213CFCNICOLAS | O8: TU | P8: 89
A9: J1 | B9: C213 | C9: 43466 | D9: QATAR | E9: 1 | H9: 1 | I9: NICOLAS | J9: 16 | L9: C213QATARNICOLAS | M9: C213NICOLAS | N9: C213QATARNICOLAS | O9: TU | P9: 89
A10: J1 | B10: C213 | C10: 43466 | D10: PARTIR | E10: 1 | H10: 1 | I10: NICOLAS | J10: 16 | L10: C213PARTIRNICOLAS | M10: C213NICOLAS | N10: C213PARTIRNICOLAS | O10: TU | P10: 89
A11: J1 | B11: C143 | C11: 43466 | D11: CFE | E11: 12 | G11: 0 | H11: 1 | I11: NICOLAS | J11: 17 | L11: C143CFENICOLAS | M11: C143NICOLAS | N11: C143NICOLAS | O11: TU | P11: 87
A12: J1 | B12: C143 | C12: 43466 | D12: COURIR | E12: 1 | H12: 1 | I12: NICOLAS | J12: 17 | L12: C143COURIRNICOLAS | M12: C143NICOLAS | N12: C143COURIRNICOLAS | O12: TU | P12: 87
A13: J1 | B13: C143 | C13: 43466 | D13: CHALE | E13: 2 | H13: 1 | I13: NICOLAS | J13: 17 | L13: C143CHALENICOLAS | M13: C143NICOLAS | N13: C143CHALENICOLAS | O13: TU | P13: 87
A14: J1 | B14: C143 | C14: 43466 | D14: CFC | E14: 0 | G14: 17.184 | H14: 1 | I14: NICOLAS | J14: 17 | L14: C143CFCNICOLAS | M14: C143NICOLAS | N14: C143CFCNICOLAS | O14: TU | P14: 87
A15: J1 | B15: C143 | C15: 43466 | D15: QATAR | E15: 1 | H15: 1 | I15: NICOLAS | J15: 17 | L15: C143QATARNICOLAS | M15: C143NICOLAS | N15: C143QATARNICOLAS | O15: TU | P15: 87
A16: J1 | B16: C143 | C16: 43466 | D16: RAFOU | E16: 1 | G16: 22.19 | H16: 1 | I16: NICOLAS | J16: 17 | L16: C143RAFOUNICOLAS | M16: C143NICOLAS | N16: C143RAFOUNICOLAS | O16: TU | P16: 87
A17: J1 | B17: C153 | C17: 43466 | D17: CFE | E17: 5 | H17: 1 | I17: NICOLAS | J17: 8 | L17: C153CFENICOLAS | M17: C153NICOLAS | N17: C153NICOLAS | O17: TU | P17: 88
A18: J1 | B18: C153 | C18: 43466 | D18: COURIR | E18: 1 | H18: 1 | I18: NICOLAS | J18: 8 | L18: C153COURIRNICOLAS | M18: C153NICOLAS | N18: C153COURIRNICOLAS | O18: TU | P18: 88
A19: J1 | B19: C153 | C19: 43466 | D19: CHALE | E19: 1 | H19: 1 | I19: NICOLAS | J19: 8 | L19: C153CHALENICOLAS | M19: C153NICOLAS | N19: C153CHALENICOLAS | O19: TU | P19: 88
A20: J1 | B20: C153 | C20: 43466 | D20: CFC | E20: 0 | G20: 20 | H20: 1 | I20: NICOLAS | J20: 8 | L20: C153CFCNICOLAS | M20: C153NICOLAS | N20: C153CFCNICOLAS | O20: TU | P20: 88
A21: J1 | B21: C153 | C21: 43466 | D21: QATAR | E21: 1 | H21: 1 | I21: NICOLAS | J21: 8 | L21: C153QATARNICOLAS | M21: C153NICOLAS | N21: C153QATARNICOLAS | O21: TU | P21: 88
A22: J1 | B22: C153 | C22: 43466 | D22: RAFOU | E22: 0 | G22: 13.17 | H22: 1 | I22: NICOLAS | J22: 8 | L22: C153RAFOUNICOLAS | M22: C153NICOLAS | N22: C153RAFOUNICOLAS | O22: TU | P22: 88
A23: J1 | B23: C293 | C23: 43466 | D23: CFE | E23: 5 | H23: 1 | I23: NEVER | J23: 6 | L23: C293CFENEVER | M23: C293NEVER | N23: C293NEVER | O23: CEFP | P23: 86
A24: J1 | B24: C293 | C24: 43466 | D24: COURIR | E24: 1 | H24: 1 | I24: NEVER | J24: 6 | L24: C293COURIRNEVER | M24: C293NEVER | N24: C293COURIRNEVER | O24: CEFP | P24: 86
A25: J1 | B25: C293 | C25: 43466 | D25: CFC | E25: 0 | G25: 17.266 | H25: 1 | I25: NEVER | J25: 6 | L25: C293CFCNEVER | M25: C293NEVER | N25: C293CFCNEVER | O25: CEFP | P25: 86
A26: J1 | B26: C633 | C26: 43466 | D26: CFE | E26: 1 | G26: 0 | H26: 1 | I26: NEVER | J26: 6 | L26: C633CFENEVER | M26: C633NEVER | N26: C633NEVER | O26: CEFP | P26: 83
A27: J1 | B27: C633 | C27: 43466 | D27: CHALE | E27: 2 | H27: 1 | I27: NEVER | J27: 6 | L27: C633CHALENEVER | M27: C633NEVER | N27: C633CHALENEVER | O27: CEFP | P27: 83
A28: J1 | B28: C633 | C28: 43466 | D28: CHOPPER | E28: 1 | H28: 1 | I28: NEVER | J28: 6 | L28: C633CHOPPERNEVER | M28: C633NEVER | N28: C633CHOPPERNEVER | O28: CEFP | P28: 83
A29: J1 | B29: C633 | C29: 43466 | D29: PAYS | E29: 1 | H29: 1 | I29: NEVER | J29: 6 | L29: C633PAYSNEVER | M29: C633NEVER | N29: C633PAYSNEVER | O29: CEFP | P29: 83
A30: J1 | B30: C633 | C30: 43466 | D30: QATAR | E30: 1 | H30: 1 | I30: NEVER | J30: 6 | L30: C633QATARNEVER | M30: C633NEVER | N30: C633QATARNEVER | O30: CEFP | P30: 83
A31: J1 | B31: C633 | C31: 43466 | D31: RAFOU | E31: 0 | G31: 10 | H31: 1 | I31: NEVER | J31: 6 | L31: C633RAFOUNEVER | M31: C633NEVER | N31: C633RAFOUNEVER | O31: CEFP | P31: 83
A32: J1 | B32: C083 | C32: 43466 | D32: CFE | E32: 19 | H32: 1 | I32: STAT | J32: 23 | L32: C083CFESTAT | M32: C083STAT | N32: C083STAT | O32: CEFP | P32: 103
A33: J1 | B33: C083 | C33: 43466 | D33: COURIR | E33: 1 | H33: 1 | I33: STAT | J33: 23 | L33: C083COURIRSTAT | M33: C083STAT | N33: C083STAT | O33: CEFP | P33: 103
A34: J1 | B34: C083 | C34: 43466 | D34: CFC | E34: 1 | G34: 73.935 | H34: 1 | I34: STAT | J34: 23 | L34: C083CFCSTAT | M34: C083STAT | N34: C083STAT | O34: CEFP | P34: 103
A35: J1 | B35: C083 | C35: 43466 | D35: PARTIR | E35: 2 | H35: 1 | I35: STAT | J35: 23 | L35: C083PARTIRSTAT | M35: C083STAT | N35: C083STAT | O35: CEFP | P35: 103
A36: J1 | B36: C725 | C36: 43466 | D36: CFE | E36: 3 | G36: 0 | H36: 1 | I36: STAT | J36: 7 | L36: C725CFESTAT | M36: C725STAT | N36: C725STAT | O36: CEFP | P36: 88
A37: J1 | B37: C725 | C37: 43466 | D37: COURIR | E37: 1 | H37: 1 | I37: STAT | J37: 7 | L37: C725COURIRSTAT | M37: C725STAT | N37: C725STAT | O37: CEFP | P37: 88
A38: J1 | B38: C725 | C38: 43466 | D38: CHALE | E38: 1 | H38: 1 | I38: STAT | J38: 7 | L38: C725CHALESTAT | M38: C725STAT | N38: C725STAT | O38: CEFP | P38: 88
A39: J1 | B39: C725 | C39: 43466 | D39: QATAR | E39: 1 | H39: 1 | I39: STAT | J39: 7 | L39: C725QATARSTAT | M39: C725STAT | N39: C725STAT | O39: CEFP | P39: 88
A40: J1 | B40: C725 | C40: 43466 | D40: RAFOU | E40: 1 | G40: 47.8 | H40: 1 | I40: STAT | J40: 7 | L40: C725RAFOUSTAT | M40: C725STAT | N40: C725STAT | O40: CEFP | P40: 88
...
