Workbook

Sheet SAISIE
B3: SEMAINE 1
B4: L | C4: L RFT | D4: MA | E4: MA RFT | F4: ME | G4: ME RFT | H4: J | I4: J RFT | J4: V | K4: V RFT | L4: S | M4: S RFT | N4: SOMME MANIP SEMAINE | O4: SOMME MANIP RFT | P4: RFT | Q4: RESPECT CADENCE
A5: NOM
A7: SBARBORI | B7: 3 | C7: 1 | D7: 2 | E7: 2 | F7: 6 | G7: 4 | H7: 5 | I7: 3 | J7: 12 | K7: 12 | N7: =SUM(B7,D7,F7,H7,J7,L7) -> 28 | O7: =SUM(C7,E7,G7,I7,K7,M7) -> 22 | P7: =O7/N7*100 -> 78.571429 | Q7: 2
A8: JEZEQUEL | B8: 3 | C8: 1 | D8: 2 | E8: 2 | F8: 6 | G8: 5 | H8: 5 | I8: 3 | J8: 12 | K8: 12 | N8: =SUM(B8,D8,F8,H8,J8,L8) -> 28 | O8: =SUM(C8,E8,G8,I8,K8,M8) -> 23 | P8: =O8/N8*100 -> 82.142857
A9: JANVIER | B9: 3 | C9: 1 | D9: 2 | E9: 2 | F9: 6 | G9: 4 | H9: 5 | I9: 3 | J9: 12 | K9: 12 | N9: =SUM(B9,D9,F9,H9,J9,L9) -> 28 | O9: =SUM(C9,E9,G9,I9,K9,M9) -> 22 | P9: =O9/N9*100 -> 78.571429
A10: LAFONT | B10: 3 | C10: 1 | D10: 2 | E10: 2 | F10: 6 | G10: 4 | H10: 5 | I10: 3 | J10: 12 | K10: 12 | N10: =SUM(B10,D10,F10,H10,J10,L10) -> 28 | O10: =SUM(C10,E10,G10,I10,K10,M10) -> 22 | P10: =O10/N10*100 -> 78.571429
A11: AUDIN | B11: 3 | C11: 1 | D11: 2 | E11: 1 | F11: 6 | G11: 4 | H11: 5 | I11: 3 | J11: 12 | K11: 12 | N11: =SUM(B11,D11,F11,H11,J11,L11) -> 28 | O11: =SUM(C11,E11,G11,I11,K11,M11) -> 21 | P11: =O11/N11*100 -> 75
A12: RAMON | B12: 3 | C12: 1 | D12: 2 | E12: 2 | F12: 6 | G12: 1 | H12: 5 | I12: 3 | J12: 12 | K12: 12 | N12: =SUM(B12,D12,F12,H12,J12,L12) -> 28 | O12: =SUM(C12,E12,G12,I12,K12,M12) -> 19 | P12: =O12/N12*100 -> 67.857143
A13: GARCIA | B13: 3 | C13: 1 | D13: 2 | E13: 2 | F13: 6 | G13: 4 | H13: 5 | I13: 3 | J13: 1 | K13: 1 | N13: =SUM(B13,D13,F13,H13,J13,L13) -> 17 | O13: =SUM(C13,E13,G13,I13,K13,M13) -> 11 | P13: =O13/N13*100 -> 64.705882
A14: BUGUET | B14: 3 | C14: 1 | D14: 2 | E14: 2 | F14: 6 | G14: 4 | H14: 5 | I14: 3 | J14: 12 | K14: 12 | N14: =SUM(B14,D14,F14,H14,J14,L14) -> 28 | O14: =SUM(C14,E14,G14,I14,K14,M14) -> 22 | P14: =O14/N14*100 -> 78.571429
A15: KONIECZNY | B15: 3 | C15: 1 | D15: 2 | E15: 2 | F15: 6 | G15: 4 | H15: 5 | I15: 3 | J15: 3 | K15: 3 | N15: =SUM(B15,D15,F15,H15,J15,L15) -> 19 | O15: =SUM(C15,E15,G15,I15,K15,M15) -> 13 | P15: =O15/N15*100 -> 68.421053
A16: CIRILLO | B16: 3 | C16: 3 | D16: 2 | E16: 2 | F16: 6 | G16: 4 | H16: 5 | I16: 3 | J16: 12 | K16: 12 | N16: =SUM(B16,D16,F16,H16,J16,L16) -> 28 | O16: =SUM(C16,E16,G16,I16,K16,M16) -> 24 | P16: =O16/N16*100 -> 85.714286 | Q16: 1
A17: EQUIPE SEM | N17: =SUM(N7:N16) -> 260 | O17: =SUM(O7:O16) -> 199 | P17: =O17/N17*100 -> 76.538462
A18: EQUIPE ANNEE
A19: CIBLE | P19: 90
B20: SEMAINE 2
B21: L | C21: L RFT | D21: MA | E21: MA RFT | F21: ME | G21: ME RFT | H21: J | I21: J RFT | J21: V | K21: V RFT | L21: S | M21: S RFT | N21: SOMME MANIP SEMAINE | O21: SOMME MANIP RFT | P21: RFT | Q21: RESPECT CADENCE
A22: NOM
A24: SBARBORI | B24: 3 | C24: 1 | D24: 2 | E24: 2 | F24: 6 | G24: 4 | H24: 5 | I24: 3 | J24: 12 | K24: 12 | N24: =SUM(B24,D24,F24,H24,J24,L24) -> 28 | O24: =SUM(C24,E24,G24,I24,K24,M24) -> 22 | P24: =O24/N24*100 -> 78.571429
A25: JEZEQUEL | B25: 3 | C25: 1 | D25: 2 | E25: 2 | F25: 6 | G25: 5 | H25: 5 | I25: 3 | J25: 12 | K25: 12 | N25: =SUM(B25,D25,F25,H25,J25,L25) -> 28 | O25: =SUM(C25,E25,G25,I25,K25,M25) -> 23 | P25: =O25/N25*100 -> 82.142857
A26: JANVIER | B26: 3 | C26: 1 | D26: 2 | E26: 2 | F26: 6 | G26: 4 | H26: 5 | I26: 3 | J26: 12 | K26: 12 | N26: =SUM(B26,D26,F26,H26,J26,L26) -> 28 | O26: =SUM(C26,E26,G26,I26,K26,M26) -> 22 | P26: =O26/N26*100 -> 78.571429
A27: LAFONT | B27: 3 | C27: 1 | D27: 2 | E27: 2 | F27: 6 | G27: 5 | H27: 5 | I27: 3 | J27: 12 | K27: 12 | N27: =SUM(B27,D27,F27,H27,J27,L27) -> 28 | O27: =SUM(C27,E27,G27,I27,K27,M27) -> 23 | P27: =O27/N27*100 -> 82.142857 | Q27: 3
A28: AUDIN | B28: 3 | C28: 1 | D28: 2 | E28: 1 | F28: 6 | G28: 4 | H28: 5 | I28: 3 | J28: 1 | K28: 1 | N28: =SUM(B28,D28,F28,H28,J28,L28) -> 17 | O28: =SUM(C28,E28,G28,I28,K28,M28) -> 10 | P28: =O28/N28*100 -> 58.823529
A29: RAMON | B29: 3 | C29: 1 | D29: 2 | E29: 2 | F29: 6 | G29: 1 | H29: 5 | I29: 3 | J29: 12 | K29: 12 | N29: =SUM(B29,D29,F29,H29,J29,L29) -> 28 | O29: =SUM(C29,E29,G29,I29,K29,M29) -> 19 | P29: =O29/N29*100 -> 67.857143 | Q29: 4
A30: GARCIA | B30: 3 | C30: 1 | D30: 2 | E30: 2 | F30: 6 | G30: 4 | H30: 5 | I30: 3 | J30: 1 | K30: 1 | N30: =SUM(B30,D30,F30,H30,J30,L30) -> 17 | O30: =SUM(C30,E30,G30,I30,K30,M30) -> 11 | P30: =O30/N30*100 -> 64.705882
A31: BUGUET | B31: 3 | C31: 1 | D31: 2 | E31: 2 | F31: 6 | G31: 4 | H31: 5 | I31: 3 | J31: 5 | K31: 4 | N31: =SUM(B31,D31,F31,H31,J31,L31) -> 21 | O31: =SUM(C31,E31,G31,I31,K31,M31) -> 14 | P31: =O31/N31*100 -> 66.666667
A32: KONIECZNY | B32: 3 | C32: 1 | D32: 2 | E32: 2 | F32: 6 | G32: 4 | H32: 5 | I32: 3 | J32: 3 | K32: 3 | N32: =SUM(B32,D32,F32,H32,J32,L32) -> 19 | O32: =SUM(C32,E32,G32,I32,K32,M32) -> 13 | P32: =O32/N32*100 -> 68.421053
A33: CIRILLO | B33: 3 | C33: 3 | D33: 2 | E33: 2 | F33: 6 | G33: 4 | H33: 5 | I33: 3 | J33: 12 | K33: 12 | N33: =SUM(B33,D33,F33,H33,J33,L33) -> 28 | O33: =SUM(C33,E33,G33,I33,K33,M33) -> 24 | P33: =O33/N33*100 -> 85.714286
A34: EQUIPE SEM | N34: =SUM(N24:N33) -> 242 | O34: =SUM(O24:O33) -> 181 | P34: =O34/N34*100 -> 74.793388
A35: EQUIPE ANNEE | N35: =N17+N34 -> 502 | O35: =O17+O34 -> 380 | P35: =O35/N35*100 -> 75.697211
A36: CIBLE | P36: 90
B37: SEMAINE 3
B38: L | C38: L RFT | D38: MA | E38: MA RFT | F38: ME | G38: ME RFT | H38: J | I38: J RFT | J38: V | K38: V RFT | L38: S | M38: S RFT | N38: SOMME MANIP SEMAINE | O38: SOMME MANIP RFT | P38: RFT | Q38: RESPECT CADENCE
A39: NOM
A41: SBARBORI | B41: 3 | C41: 1 | D41: 2 | E41: 2 | F41: 6 | G41: 4 | H41: 5 | I41: 3 | J41: 12 | K41: 12 | N41: =SUM(B41,D41,F41,H41,J41,L41) -> 28 | O41: =SUM(C41,E41,G41,I41,K41,M41) -> 22 | P41: =O41/N41*100 -> 78.571429
A42: JEZEQUEL | B42: 3 | C42: 1 | D42: 2 | E42: 2 | F42: 6 | G42: 5 | H42: 5 | I42: 3 | J42: 12 | K42: 12 | N42: =SUM(B42,D42,F42,H42,J42,L42) -> 28 | O42: =SUM(C42,E42,G42,I42,K42,M42) -> 23 | P42: =O42/N42*100 -> 82.142857
A43: FÉVRIER | B43: 3 | C43: 1 | D43: 2 | E43: 2 | F43: 6 | G43: 4 | H43: 5 | I43: 3 | J43: 12 | K43: 12 | N43: =SUM(B43,D43,F43,H43,J43,L43) -> 28 | O43: =SUM(C43,E43,G43,I43,K43,M43) -> 22 | P43: =O43/N43*100 -> 78.571429
A44: LAFONT | B44: 3 | C44: 1 | D44: 2 | E44: 2 | F44: 6 | G44: 5 | H44: 5 | I44: 3 | J44: 12 | K44: 12 | N44: =SUM(B44,D44,F44,H44,J44,L44) -> 28 | O44: =SUM(C44,E44,G44,I44,K44,M44) -> 23 | P44: =O44/N44*100 -> 82.142857 | Q44: 5
A45: AUDIN | B45: 3 | C45: 1 | D45: 2 | E45: 2 | F45: 6 | G45: 4 | H45: 5 | I45: 3 | J45: 1 | K45: 1 | N45: =SUM(B45,D45,F45,H45,J45,L45) -> 17 | O45: =SUM(C45,E45,G45,I45,K45,M45) -> 11 | P45: =O45/N45*100 -> 64.705882
A46: RAMON | B46: 3 | C46: 1 | D46: 2 | E46: 2 | F46: 6 | G46: 1 | H46: 5 | I46: 3 | J46: 12 | K46: 12 | N46: =SUM(B46,D46,F46,H46,J46,L46) -> 28 | O46: =SUM(C46,E46,G46,I46,K46,M46) -> 19 | P46: =O46/N46*100 -> 67.857143 | Q46: 6
A47: GARCIA | B47: 3 | C47: 1 | D47: 2 | E47: 2 | F47: 6 | G47: 4 | H47: 5 | I47: 3 | J47: 1 | K47: 1 | N47: =SUM(B47,D47,F47,H47,J47,L47) -> 17 | O47: =SUM(C47,E47,G47,I47,K47,M47) -> 11 | P47: =O47/N47*100 -> 64.705882
A48: BUGUET | B48: 3 | C48: 1 | D48: 2 | E48: 1 | F48: 6 | G48: 4 | H48: 5 | I48: 3 | J48: 5 | K48: 4 | N48: =SUM(B48,D48,F48,H48,J48,L48) -> 21 | O48: =SUM(C48,E48,G48,I48,K48,M48) -> 13 | P48: =O48/N48*100 -> 61.904762
A49: KONIECZNY | B49: 3 | C49: 1 | D49: 2 | E49: 2 | F49: 6 | G49: 4 | H49: 5 | I49: 3 | J49: 3 | K49: 3 | N49: =SUM(B49,D49,F49,H49,J49,L49) -> 19 | O49: =SUM(C49,E49,G49,I49,K49,M49) -> 13 | P49: =O49/N49*100 -> 68.421053
A50: CIRILLO | B50: 3 | C50: 1 | D50: 2 | E50: 2 | F50: 6 | G50: 4 | H50: 5 | I50: 3 | J50: 12 | K50: 12 | N50: =SUM(B50,D50,F50,H50,J50,L50) -> 28 | O50: =SUM(C50,E50,G50,I50,K50,M50) -> 22 | P50: =O50/N50*100 -> 78.571429
A51: EQUIPE SEM | N51: =SUM(N41:N50) -> 242 | O51: =SUM(O41:O50) -> 179 | P51: =O51/N51*100 -> 73.966942
A52: EQUIPE ANNEE | N52: =N34+N51+N17 -> 744 | O52: =O34+O51+O17 -> 559 | P52: =O52/N52*100 -> 75.134409
A53: CIBLE | P53: 90

Sheet SAISIE NEW
A1: ANNEE | B1: 2021 | D1: =WEEKNUM(E6) -> 1 | G1: ROUGE | H1: BLEU | I1: VERT | Y1: 0.9
E2: Calcul ratio tendance | G2: 5-7 | H2: 8-12 | I2: 13-15
D3: NB.JOURS.OUVRES([@[DATE_RECEPT]];AUJOURDHUI();Tableau3[Jour Férié])
A5: DATE | B5: ANNEE | C5: MOIS | D5: SEMAINE | E5: JOUR | F5: NOM | G5: ANALYSES LANCEES | H5: RFT | I5: CADENCE | J5: CALCUL RATION CADENCE | K5: MA | L5: MA RFT | M5: ME | N5: ME RFT | O5: J | P5: J RFT | Q5: V | R5: V RFT | S5: S | T5: S RFT
A6: 43466 | B6: =YEAR(CALENDRIER!$A$2) -> 2021 | D6: =WEEKNUM(Tableau1[[#This Row],[JOUR]]) -> 1 | E6: =INT((ROW()-6)/13)+CALENDRIER!$A$2 -> 44197 | F6: SBARBORI | G6: 3 | H6: 1 | I6: 1 | J6: =IF(Tableau1[[#This Row],[ANALYSES LANCEES]]<>"",1,0) -> 1 | K6: 2 | L6: 2 | M6: 6 | N6: 4 | O6: 5 | P6: 3 | Q6: 12 | R6: 12
A7: 43467 | B7: =YEAR(CALENDRIER!$A$2) -> 2021 | D7: =WEEKNUM(Tableau1[[#This Row],[JOUR]]) -> 1 | E7: =INT((ROW()-6)/13)+CALENDRIER!$A$2 -> 44197 | F7: JEZEQUEL | G7: 3 | H7: 1 | J7: =IF(Tableau1[[#This Row],[ANALYSES LANCEES]]<>"",1,0) -> 1 | K7: 2 | L7: 2 | M7: 6 | N7: 5 | O7: 5 | P7: 3 | Q7: 12 | R7: 12
A8: 43468 | B8: =YEAR(CALENDRIER!$A$2) -> 2021 | D8: =WEEKNUM(Tableau1[[#This Row],[JOUR]]) -> 1 | E8: =INT((ROW()-6)/13)+CALENDRIER!$A$2 -> 44197 | F8: JANVIER | G8: 3 | H8: 1 | J8: =IF(Tableau1[[#This Row],[ANALYSES LANCEES]]<>"",1,0) -> 1 | K8: 2 | L8: 2 | M8: 6 | N8: 4 | O8: 5 | P8: 3 | Q8: 12 | R8: 12
A9: 43469 | B9: =YEAR(CALENDRIER!$A$2) -> 2021 | D9: =WEEKNUM(Tableau1[[#This Row],[JOUR]]) -> 1 | E9: =INT((ROW()-6)/13)+CALENDRIER!$A$2 -> 44197 | F9: LAFONT | G9: 3 | H9: 1 | J9: =IF(Tableau1[[#This Row],[ANALYSES LANCEES]]<>"",1,0) -> 1 | K9: 2 | L9: 2 | M9: 6 | N9: 4 | O9: 5 | P9: 3 | Q9: 12 | R9: 12
A10: 43470 | B10: =YEAR(CALENDRIER!$A$2) -> 2021 | D10: =WEEKNUM(Tableau1[[#This Row],[JOUR]]) -> 1 | E10: =INT((ROW()-6)/13)+CALENDRIER!$A$2 -> 44197 | F10: AUDIN | G10: 3 | H10: 1 | J10: =IF(Tableau1[[#This Row],[ANALYSES LANCEES]]<>"",1,0) -> 1 | K10: 2 | L10: 1 | M10: 6 | N10: 4 | O10: 5 | P10: 3 | Q10: 12 | R10: 12
A11: 43471 | B11: =YEAR(CALENDRIER!$A$2) -> 2021 | D11: =WEEKNUM(Tableau1[[#This Row],[JOUR]]) -> 1 | E11: =INT((ROW()-6)/13)+CALENDRIER!$A$2 -> 44197 | F11: RAMON | G11: 3 | H11: 1 | J11: =IF(Tableau1[[#This Row],[ANALYSES LANCEES]]<>"",1,0) -> 1 | K11: 2 | L11: 2 | M11: 6 | N11: 1 | O11: 5 | P11: 3 | Q11: 12 | R11: 12
A12: 43472 | B12: =YEAR(CALENDRIER!$A$2) -> 2021 | D12: =WEEKNUM(Tableau1[[#This Row],[JOUR]]) -> 1 | E12: =INT((ROW()-6)/13)+CALENDRIER!$A$2 -> 44197 | F12: GARCIA | G12: 3 | H12: 1 | J12: =IF(Tableau1[[#This Row],[ANALYSES LANCEES]]<>"",1,0) -> 1 | K12: 2 | L12: 2 | M12: 6 | N12: 4 | O12: 5 | P12: 3 | Q12: 1 | R12: 1
A13: 43473 | B13: =YEAR(CALENDRIER!$A$2) -> 2021 | D13: =WEEKNUM(Tableau1[[#This Row],[JOUR]]) -> 1 | E13: =INT((ROW()-6)/13)+CALENDRIER!$A$2 -> 44197 | F13: BUGUET | G13: 3 | H13: 1 | J13: =IF(Tableau1[[#This Row],[ANALYSES LANCEES]]<>"",1,0) -> 1 | K13: 2 | L13: 2 | M13: 6 | N13: 4 | O13: 5 | P13: 3 | Q13: 12 | R13: 12
A14: 43474 | B14: =YEAR(CALENDRIER!$A$2) -> 2021 | D14: =WEEKNUM(Tableau1[[#This Row],[JOUR]]) -> 1 | E14: =INT((ROW()-6)/13)+CALENDRIER!$A$2 -> 44197 | F14: KONIECZNY | G14: 3 | H14: 1 | J14: =IF(Tableau1[[#This Row],[ANALYSES LANCEES]]<>"",1,0) -> 1 | K14: 2 | L14: 2 | M14: 6 | N14: 4 | O14: 5 | P14: 3 | Q14: 3 | R14: 3
A15: 43475 | B15: =YEAR(CALENDRIER!$A$2) -> 2021 | D15: =WEEKNUM(Tableau1[[#This Row],[JOUR]]) -> 1 | E15: =INT((ROW()-6)/13)+CALENDRIER!$A$2 -> 44197 | F15: CIRILLO | G15: 3 | H15: 3 | J15: =IF(Tableau1[[#This Row],[ANALYSES LANCEES]]<>"",1,0) -> 1 | K15: 2 | L15: 2 | M15: 6 | N15: 4 | O15: 5 | P15: 3 | Q15: 12 | R15: 12
A16: 43476 | B16: =YEAR(CALENDRIER!$A$2) -> 2021 | D16: =WEEKNUM(Tableau1[[#This Row],[JOUR]]) -> 1 | E16: =INT((ROW()-6)/13)+CALENDRIER!$A$2 -> 44197 | F16: INTERIM 1 | J16: =IF(Tableau1[[#This Row],[ANALYSES LANCEES]]<>"",1,0) -> 0
A17: 43477 | B17: =YEAR(CALENDRIER!$A$2) -> 2021 | D17: =WEEKNUM(Tableau1[[#This Row],[JOUR]]) -> 1 | E17: =INT((ROW()-6)/13)+CALENDRIER!$A$2 -> 44197 | F17: INTERIM 2 | J17: =IF(Tableau1[[#This Row],[ANALYSES LANCEES]]<>"",1,0) -> 0
A18: 43478 | B18: =YEAR(CALENDRIER!$A$2) -> 2021 | D18: =WEEKNUM(Tableau1[[#This Row],[JOUR]]) -> 1 | E18: =INT((ROW()-6)/13)+CALENDRIER!$A$2 -> 44197 | F18: INTERIM 3 | J18: =IF(Tableau1[[#This Row],[ANALYSES LANCEES]]<>"",1,0) -> 0
A19: 43479 | B19: =YEAR(CALENDRIER!$A$2) -> 2021 | D19: =WEEKNUM(Tableau1[[#This Row],[JOUR]]) -> 1 | E19: =INT((ROW()-6)/13)+CALENDRIER!$A$2 -> 44198 | J19: =IF(Tableau1[[#This Row],[ANALYSES LANCEES]]<>"",1,0) -> 0
A20: 43480 | B20: =YEAR(CALENDRIER!$A$2) -> 2021 | D20: =WEEKNUM(Tableau1[[#This Row],[JOUR]]) -> 1 | E20: =INT((ROW()-6)/13)+CALENDRIER!$A$2 -> 44198 | J20: =IF(Tableau1[[#This Row],[ANALYSES LANCEES]]<>"",1,0) -> 0
A21: 43481 | B21: =YEAR(CALENDRIER!$A$2) -> 2021 | D21: =WEEKNUM(Tableau1[[#This Row],[JOUR]]) -> 1 | E21: =INT((ROW()-6)/13)+CALENDRIER!$A$2 -> 44198 | J21: =IF(Tableau1[[#This Row],[ANALYSES LANCEES]]<>"",1,0) -> 0
A22: 43482 | B22: =YEAR(CALENDRIER!$A$2) -> 2021 | D22: =WEEKNUM(Tableau1[[#This Row],[JOUR]]) -> 1 | E22: =INT((ROW()-6)/13)+CALENDRIER!$A$2 -> 44198 | J22: =IF(Tableau1[[#This Row],[ANALYSES LANCEES]]<>"",1,0) -> 0
A23: 43483 | B23: =YEAR(CALENDRIER!$A$2) -> 2021 | D23: =WEEKNUM(Tableau1[[#This Row],[JOUR]]) -> 1 | E23: =INT((ROW()-6)/13)+CALENDRIER!$A$2 -> 44198 | J23: =IF(Tableau1[[#This Row],[ANALYSES LANCEES]]<>"",1,0) -> 0
A24: 43484 | B24: =YEAR(CALENDRIER!$A$2) -> 2021 | D24: =WEEKNUM(Tableau1[[#This Row],[JOUR]]) -> 1 | E24: =INT((ROW()-6)/13)+CALENDRIER!$A$2 -> 44198 | J24: =IF(Tableau1[[#This Row],[ANALYSES LANCEES]]<>"",1,0) -> 0
A25: 43485 | B25: =YEAR(CALENDRIER!$A$2) -> 2021 | D25: =WEEKNUM(Tableau1[[#This Row],[JOUR]]) -> 1 | E25: =INT((ROW()-6)/13)+CALENDRIER!$A$2 -> 44198 | J25: =IF(Tableau1[[#This Row],[ANALYSES LANCEES]]<>"",1,0) -> 0
A26: 43486 | B26: =YEAR(CALENDRIER!$A$2) -> 2021 | D26: =WEEKNUM(Tableau1[[#This Row],[JOUR]]) -> 1 | E26: =INT((ROW()-6)/13)+CALENDRIER!$A$2 -> 44198 | J26: =IF(Tableau1[[#This Row],[ANALYSES LANCEES]]<>"",1,0) -> 0
A27: 43487 | B27: =YEAR(CALENDRIER!$A$2) -> 2021 | D27: =WEEKNUM(Tableau1[[#This Row],[JOUR]]) -> 1 | E27: =INT((ROW()-6)/13)+CALENDRIER!$A$2 -> 44198 | J27: =IF(Tableau1[[#This Row],[ANALYSES LANCEES]]<>"",1,0) -> 0
A28: 43488 | B28: =YEAR(CALENDRIER!$A$2) -> 2021 | D28: =WEEKNUM(Tableau1[[#This Row],[JOUR]]) -> 1 | E28: =INT((ROW()-6)/13)+CALENDRIER!$A$2 -> 44198 | J28: =IF(Tableau1[[#This Row],[ANALYSES LANCEES]]<>"",1,0) -> 0
A29: 43489 | B29: =YEAR(CALENDRIER!$A$2) -> 2021 | D29: =WEEKNUM(Tableau1[[#This Row],[JOUR]]) -> 1 | E29: =INT((ROW()-6)/13)+CALENDRIER!$A$2 -> 44198 | J29: =IF(Tableau1[[#This Row],[ANALYSES LANCEES]]<>"",1,0) -> 0
A30: 43490 | B30: =YEAR(CALENDRIER!$A$2) -> 2021 | D30: =WEEKNUM(Tableau1[[#This Row],[JOUR]]) -> 1 | E30: =INT((ROW()-6)/13)+CALENDRIER!$A$2 -> 44198 | J30: =IF(Tableau1[[#This Row],[ANALYSES LANCEES]]<>"",1,0) -> 0
... A45: 43505 | B45: =YEAR(CALENDRIER!$A$2) -> 2021 | D45: =WEEKNUM(Tableau1[[#This Row],[JOUR]]) -> 2 | E45: =INT((ROW()-6)/13)+CALENDRIER!$A$2 -> 44200 | J45: =IF(Tableau1[[#This Row],[ANALYSES LANCEES]]<>"",1,0) -> 0
A46: 43506 | B46: =YEAR(CALENDRIER!$A$2) -> 2021 | D46: =WEEKNUM(Tableau1[[#This Row],[JOUR]]) -> 1 | E46: =INT((ROW()-6)/13)+"01/01/2019" -> 43469 | J46: =IF(Tableau1[[#This Row],[ANALYSES LANCEES]]<>"",1,0) -> 0
A47: 43507 | B47: =YEAR(CALENDRIER!$A$2) -> 2021 | D47: =WEEKNUM(Tableau1[[#This Row],[JOUR]]) -> 1 | E47: =INT((ROW()-6)/13)+"01/01/2019" -> 43469 | J47: =IF(Tableau1[[#This Row],[ANALYSES LANCEES]]<>"",1,0) -> 0
A48: 43508 | B48: =YEAR(CALENDRIER!$A$2) -> 2021 | D48: =WEEKNUM(Tableau1[[#This Row],[JOUR]]) -> 1 | E48: =INT((ROW()-6)/13)+"01/01/2019" -> 43469 | J48: =IF(Tableau1[[#This Row],[ANALYSES LANCEES]]<>"",1,0) -> 0
A49: 43509 | B49: =YEAR(CALENDRIER!$A$2) -> 2021 | D49: =WEEKNUM(Tableau1[[#This Row],[JOUR]]) -> 1 | E49: =INT((ROW()-6)/13)+"01/01/2019" -> 43469 | J49: =IF(Tableau1[[#This Row],[ANALYSES LANCEES]]<>"",1,0) -> 0
A50: 43510 | B50: =YEAR(CALENDRIER!$A$2) -> 2021 | D50: =WEEKNUM(Tableau1[[#This Row],[JOUR]]) -> 1 | E50: =INT((ROW()-6)/13)+"01/01/2019" -> 43469 | J50: =IF(Tableau1[[#This Row],[ANALYSES LANCEES]]<>"",1,0) -> 0
A51: 43511 | B51: =YEAR(CALENDRIER!$A$2) -> 2021 | D51: =WEEKNUM(Tableau1[[#This Row],[JOUR]]) -> 1 | E51: =INT((ROW()-6)/13)+"01/01/2019" -> 43469 | J51: =IF(Tableau1[[#This Row],[ANALYSES LANCEES]]<>"",1,0) -> 0
A52: 43512 | B52: =YEAR(CALENDRIER!$A$2) -> 2021 | D52: =WEEKNUM(Tableau1[[#This Row],[JOUR]]) -> 1 | E52: =INT((ROW()-6)/13)+"01/01/2019" -> 43469 | J52: =IF(Tableau1[[#This Row],[ANALYSES LANCEES]]<>"",1,0) -> 0
A53: 43513 | B53: =YEAR(CALENDRIER!$A$2) -> 2021 | D53: =WEEKNUM(Tableau1[[#This Row],[JOUR]]) -> 2 | E53: =INT((ROW()-6)/13)+CALENDRIER!$A$2 -> 44200 | J53: =IF(Tableau1[[#This Row],[ANALYSES LANCEES]]<>"",1,0) -> 0
A54: 43514 | B54: =YEAR(CALENDRIER!$A$2) -> 2021 | D54: =WEEKNUM(Tableau1[[#This Row],[JOUR]]) -> 2 | E54: =INT((ROW()-6)/13)+CALENDRIER!$A$2 -> 44200 | J54: =IF(Tableau1[[#This Row],[ANALYSES LANCEES]]<>"",1,0) -> 0
A55: 43515 | B55: =YEAR(CALENDRIER!$A$2) -> 2021 | D55: =WEEKNUM(Tableau1[[#This Row],[JOUR]]) -> 2 | E55: =INT((ROW()-6)/13)+CALENDRIER!$A$2 -> 44200 | J55: =IF(Tableau1[[#This Row],[ANALYSES LANCEES]]<>"",1,0) -> 0
A56: 43516 | B56: =YEAR(CALENDRIER!$A$2) -> 2021 | D56: =WEEKNUM(Tableau1[[#This Row],[JOUR]]) -> 2 | E56: =INT((ROW()-6)/13)+CALENDRIER!$A$2 -> 44200 | J56: =IF(Tableau1[[#This Row],[ANALYSES LANCEES]]<>"",1,0) -> 0
A57: 43517 | B57: =YEAR(CALENDRIER!$A$2) -> 2021 | D57: =WEEKNUM(Tableau1[[#This Row],[JOUR]]) -> 2 | E57: =INT((ROW()-6)/13)+CALENDRIER!$A$2 -> 44200 | J57: =IF(Tableau1[[#This Row],[ANALYSES LANCEES]]<>"",1,0) -> 0
A58: 43518 | B58: =YEAR(CALENDRIER!$A$2) -> 2021 | D58: =WEEKNUM(Tableau1[[#This Row],[JOUR]]) -> 2 | E58: =INT((ROW()-6)/13)+CALENDRIER!$A$2 -> 44201 | J58: =IF(Tableau1[[#This Row],[ANALYSES LANCEES]]<>"",1,0) -> 0
A59: 43519 | B59: =YEAR(CALENDRIER!$A$2) -> 2021 | D59: =WEEKNUM(Tableau1[[#This Row],[JOUR]]) -> 2 | E59: =INT((ROW()-6)/13)+CALENDRIER!$A$2 -> 44201 | J59: =IF(Tableau1[[#This Row],[ANALYSES LANCEES]]<>"",1,0) -> 0
A60: 43520 | B60: =YEAR(CALENDRIER!$A$2) -> 2021 | D60: =WEEKNUM(Tableau1[[#This Row],[JOUR]]) -> 2 | E60: =INT((ROW()-6)/13)+CALENDRIER!$A$2 -> 44201 | J60: =IF(Tableau1[[#This Row],[ANALYSES LANCEES]]<>"",1,0) -> 0
A61: 43521 | B61: =YEAR(CALENDRIER!$A$2) -> 2021 | D61: =WEEKNUM(Tableau1[[#This Row],[JOUR]]) -> 2 | E61: =INT((ROW()-6)/13)+CALENDRIER!$A$2 -> 44201 | J61: =IF(Tableau1[[#This Row],[ANALYSES LANCEES]]<>"",1,0) -> 0
A62: 43522 | B62: =YEAR(CALENDRIER!$A$2) -> 2021 | D62: =WEEKNUM(Tableau1[[#This Row],[JOUR]]) -> 2 | E62: =INT((ROW()-6)/13)+CALENDRIER!$A$2 -> 44201 | J62: =IF(Tableau1[[#This Row],[ANALYSES LANCEES]]<>"",1,0) -> 0
A63: 43523 | B63: =YEAR(CALENDRIER!$A$2) -> 2021 | D63: =WEEKNUM(Tableau1[[#This Row],[JOUR]]) -> 2 | E63: =INT((ROW()-6)/13)+CALENDRIER!$A$2 -> 44201 | J63: =IF(Tableau1[[#This Row],[ANALYSES LANCEES]]<>"",1,0) -> 0
A64: 43524 | B64: =YEAR(CALENDRIER!$A$2) -> 2021 | D64: =WEEKNUM(Tableau1[[#This Row],[JOUR]]) -> 2 | E64: =INT((ROW()-6)/13)+CALENDRIER!$A$2 -> 44201 | J64: =IF(Tableau1[[#This Row],[ANALYSES LANCEES]]<>"",1,0) -> 0
... A91: 43551 | B91: =YEAR(CALENDRIER!$A$2) -> 2021 | D91: =WEEKNUM(Tableau1[[#This Row],[JOUR]]) -> 2 | E91: =INT((ROW()-6)/13)+CALENDRIER!$A$2 -> 44203 | J91: =IF(Tableau1[[#This Row],[ANALYSES LANCEES]]<>"",1,0) -> 0
A92: 43552 | B92: =YEAR(CALENDRIER!$A$2) -> 2021 | D92: =WEEKNUM(Tableau1[[#This Row],[JOUR]]) -> 0 | J92: =IF(Tableau1[[#This Row],[ANALYSES LANCEES]]<>"",1,0) -> 0
A93: 43553 | B93: =YEAR(CALENDRIER!$A$2) -> 2021 | D93: =WEEKNUM(Tableau1[[#This Row],[JOUR]]) -> 0 | J93: =IF(Tableau1[[#This Row],[ANALYSES LANCEES]]<>"",1,0) -> 0
A94: 43554 | B94: =YEAR(CALENDRIER!$A$2) -> 2021 | D94: =WEEKNUM(Tableau1[[#This Row],[JOUR]]) -> 0 | J94: =IF(Tableau1[[#This Row],[ANALYSES LANCEES]]<>"",1,0) -> 0
A95: 43555 | B95: =YEAR(CALENDRIER!$A$2) -> 2021 | D95: =WEEKNUM(Tableau1[[#This Row],[JOUR]]) -> 0 | J95: =IF(Tableau1[[#This Row],[ANALYSES LANCEES]]<>"",1,0) -> 0
A96: 43556 | B96: =YEAR(CALENDRIER!$A$2) -> 2021 | D96: =WEEKNUM(Tableau1[[#This Row],[JOUR]]) -> 0 | J96: =IF(Tableau1[[#This Row],[ANALYSES LANCEES]]<>"",1,0) -> 0
A97: 43557 | B97: =YEAR(CALENDRIER!$A$2) -> 2021 | D97: =WEEKNUM(Tableau1[[#This Row],[JOUR]]) -> 0 | J97: =IF(Tableau1[[#This Row],[ANALYSES LANCEES]]<>"",1,0) -> 0
A98: 43558 | B98: =YEAR(CALENDRIER!$A$2) -> 2021 | D98: =WEEKNUM(Tableau1[[#This Row],[JOUR]]) -> 0 | J98: =IF(Tableau1[[#This Row],[ANALYSES LANCEES]]<>"",1,0) -> 0
A99: 43559 | B99: =YEAR(CALENDRIER!$A$2) -> 2021 | D99: =WEEKNUM(Tableau1[[#This Row],[JOUR]]) -> 0 | J99: =IF(Tableau1[[#This Row],[ANALYSES LANCEES]]<>"",1,0) -> 0
A100: 43560 | B100: =YEAR(CALENDRIER!$A$2) -> 2021 | D100: =WEEKNUM(Tableau1[[#This Row],[JOUR]]) -> 0 | J100: =IF(Tableau1[[#This Row],[ANALYSES LANCEES]]<>"",1,0) -> 0
A101: 43561 | B101: =YEAR(CALENDRIER!$A$2) -> 2021 | D101: =WEEKNUM(Tableau1[[#This Row],[JOUR]]) -> 0 | J101: =IF(Tableau1[[#This Row],[ANALYSES LANCEES]]<>"",1,0) -> 0
A102: 43562 | B102: =YEAR(CALENDRIER!$A$2) -> 2021 | D102: =WEEKNUM(Tableau1[[#This Row],[JOUR]]) -> 0 | J102: =IF(Tableau1[[#This Row],[ANALYSES LANCEES]]<>"",1,0) -> 0
A103: 43563 | B103: =YEAR(CALENDRIER!$A$2) -> 2021 | D103: =WEEKNUM(Tableau1[[#This Row],[JOUR]]) -> 0 | J103: =IF(Tableau1[[#This Row],[ANALYSES LANCEES]]<>"",1,0) -> 0
... A165: 43625 | B165: =YEAR(CALENDRIER!$A$2) -> 2021 | D165: =WEEKNUM(Tableau1[[#This Row],[JOUR]]) -> 0 | J165: =IF(Tableau1[[#This Row],[ANALYSES LANCEES]]<>"",1,0) -> 0
A166: 43626 | B166: =YEAR(CALENDRIER!$A$2) -> 2021 | D166: =WEEKNUM(INT((ROW()-6)/16)+CALENDRIER!$A$2) -> 3 | J166: =IF(Tableau1[[#This Row],[ANALYSES LANCEES]]<>"",1,0) -> 0
A167: 43627 | B167: =YEAR(CALENDRIER!$A$2) -> 2021 | D167: =WEEKNUM(INT((ROW()-6)/16)+CALENDRIER!$A$2) -> 3 | J167: =IF(Tableau1[[#This Row],[ANALYSES LANCEES]]<>"",1,0) -> 0
A168: 43628 | B168: =YEAR(CALENDRIER!$A$2) -> 2021 | D168: =WEEKNUM(INT((ROW()-6)/16)+CALENDRIER!$A$2) -> 3 | J168: =IF(Tableau1[[#This Row],[ANALYSES LANCEES]]<>"",1,0) -> 0
A169: 43629 | B169: =YEAR(CALENDRIER!$A$2) -> 2021 | D169: =WEEKNUM(INT((ROW()-6)/16)+CALENDRIER!$A$2) -> 3 | J169: =IF(Tableau1[[#This Row],[ANALYSES LANCEES]]<>"",1,0) -> 0
A170: 43630 | B170: =YEAR(CALENDRIER!$A$2) -> 2021 | D170: =WEEKNUM(INT((ROW()-6)/16)+CALENDRIER!$A$2) -> 3 | J170: =IF(Tableau1[[#This Row],[ANALYSES LANCEES]]<>"",1,0) -> 0
A171: 43631 | B171: =YEAR(CALENDRIER!$A$2) -> 2021 | D171: =WEEKNUM(INT((ROW()-6)/16)+CALENDRIER!$A$2) -> 3 | J171: =IF(Tableau1[[#This Row],[ANALYSES LANCEES]]<>"",1,0) -> 0
A172: 43632 | B172: =YEAR(CALENDRIER!$A$2) -> 2021 | D172: =WEEKNUM(INT((ROW()-6)/16)+CALENDRIER!$A$2) -> 3 | J172: =IF(Tableau1[[#This Row],[ANALYSES LANCEES]]<>"",1,0) -> 0
A173: 43633 | B173: =YEAR(CALENDRIER!$A$2) -> 2021 | D173: =WEEKNUM(INT((ROW()-6)/16)+CALENDRIER!$A$2) -> 3 | J173: =IF(Tableau1[[#This Row],[ANALYSES LANCEES]]<>"",1,0) -> 0
A174: 43634 | B174: =YEAR(CALENDRIER!$A$2) -> 2021 | D174: =WEEKNUM(INT((ROW()-6)/16)+CALENDRIER!$A$2) -> 3 | J174: =IF(Tableau1[[#This Row],[ANALYSES LANCEES]]<>"",1,0) -> 0
A175: 43635 | B175: =YEAR(CALENDRIER!$A$2) -> 2021 | D175: =WEEKNUM(INT((ROW()-6)/16)+CALENDRIER!$A$2) -> 3 | J175: =IF(Tableau1[[#This Row],[ANALYSES LANCEES]]<>"",1,0) -> 0
A176: 43636 | B176: =YEAR(CALENDRIER!$A$2) -> 2021 | D176: =WEEKNUM(INT((ROW()-6)/16)+CALENDRIER!$A$2) -> 3 | J176: =IF(Tableau1[[#This Row],[ANALYSES LANCEES]]<>"",1,0) -> 0
A177: 43637 | B177: =YEAR(CALENDRIER!$A$2) -> 2021 | D177: =WEEKNUM(INT((ROW()-6)/16)+CALENDRIER!$A$2) -> 3 | J177: =IF(Tableau1[[#This Row],[ANALYSES LANCEES]]<>"",1,0) -> 0
... A208: 43668 | B208: =YEAR(CALENDRIER!$A$2) -> 2021 | D208: =WEEKNUM(INT((ROW()-6)/16)+CALENDRIER!$A$2) -> 3 | J208: =IF(Tableau1[[#This Row],[ANALYSES LANCEES]]<>"",1,0) -> 0
A209: 43669 | B209: =YEAR(CALENDRIER!$A$2) -> 2021 | J209: =IF(Tableau1[[#This Row],[ANALYSES LANCEES]]<>"",1,0) -> 0
A210: 43670 | B210: =YEAR(CALENDRIER!$A$2) -> 2021 | J210: =IF(Tableau1[[#This Row],[ANALYSES LANCEES]]<>"",1,0) -> 0
A211: 43671 | B211: =YEAR(CALENDRIER!$A$2) -> 2021 | J211: =IF(Tableau1[[#This Row],[ANALYSES LANCEES]]<>"",1,0) -> 0
A212: 43672 | B212: =YEAR(CALENDRIER!$A$2) -> 2021 | J212: =IF(Tableau1[[#This Row],[ANALYSES LANCEES]]<>"",1,0) -> 0
A213: 43673 | B213: =YEAR(CALENDRIER!$A$2) -> 2021 | J213: =IF(Tableau1[[#This Row],[ANALYSES LANCEES]]<>"",1,0) -> 0
A214: 43674 | B214: =YEAR(CALENDRIER!$A$2) -> 2021 | J214: =IF(Tableau1[[#This Row],[ANALYSES LANCEES]]<>"",1,0) -> 0
A215: 43675 | B215: =YEAR(CALENDRIER!$A$2) -> 2021 | J215: =IF(Tableau1[[#This Row],[ANALYSES LANCEES]]<>"",1,0) -> 0
A216: 43676 | B216: =YEAR(CALENDRIER!$A$2) -> 2021 | J216: =IF(Tableau1[[#This Row],[ANALYSES LANCEES]]<>"",1,0) -> 0
A217: 43677 | B217: =YEAR(CALENDRIER!$A$2) -> 2021 | J217: =IF(Tableau1[[#This Row],[ANALYSES LANCEES]]<>"",1,0) -> 0
A218: 43678 | B218: =YEAR(CALENDRIER!$A$2) -> 2021 | J218: =IF(Tableau1[[#This Row],[ANALYSES LANCEES]]<>"",1,0) -> 0
A219: 43679 | B219: =YEAR(CALENDRIER!$A$2) -> 2021 | J219: =IF(Tableau1[[#This Row],[ANALYSES LANCEES]]<>"",1,0) -> 0
A220: 43680 | B220: =YEAR(CALENDRIER!$A$2) -> 2021 | J220: =IF(Tableau1[[#This Row],[ANALYSES LANCEES]]<>"",1,0) -> 0
... A230: 43690 | B230: =YEAR(CALENDRIER!$A$2) -> 2021 | J230: =IF(Tableau1[[#This Row],[ANALYSES LANCEES]]<>"",1,0) -> 0
A231: 43691
A232: 43692
A233: 43693
A234: 43694
A235: 43695
A236: 43696
A237: 43697
A238: 43698
A239: 43699
A240: 43700
A241: 43701
...

Sheet CALENDRIER
A1: CALENDRIER | E1: JOUR FERIE | F1: année
A2: =DATE('SAISIE NEW'!B1,1,1) -> 44197 | E2: 43459 | F2: 2019
A3: =A2+1 -> 44198 | E3: 43466 | F3: 2020
A4: =A3+1 -> 44199 | E4: 43577 | F4: 2021
A5: =A4+1 -> 44200 | E5: 43586 | F5: 2022
A6: =A5+1 -> 44201 | E6: 43593 | F6: 2023
A7: =A6+1 -> 44202 | E7: 43615 | F7: 2024
A8: =A7+1 -> 44203 | E8: 43616 | F8: 2025
A9: =A8+1 -> 44204 | E9: 43626 | F9: 2026
A10: =A9+1 -> 44205 | F10: 2027
A11: =A10+1 -> 44206 | F11: 2028
A12: =A11+1 -> 44207 | F12: 2029
A13: =A12+1 -> 44208 | F13: 2030
A14: =A13+1 -> 44209 | F14: 2031
A15: =A14+1 -> 44210 | F15: 2032
A16: =A15+1 -> 44211 | F16: 2033
A17: =A16+1 -> 44212 | F17: 2034
A18: =A17+1 -> 44213 | F18: 2035
A19: =A18+1 -> 44214 | F19: 2036
A20: =A19+1 -> 44215
A21: =A20+1 -> 44216
A22: =A21+1 -> 44217
A23: =A22+1 -> 44218
A24: =A23+1 -> 44219
A25: =A24+1 -> 44220
A26: =A25+1 -> 44221
A27: =A26+1 -> 44222
A28: =A27+1 -> 44223
A29: =A28+1 -> 44224
A30: =A29+1 -> 44225
A31: =A30+1 -> 44226
... A368: =A367+1 -> 44563

Sheet LDV
A1: CADENCE
A2: 1
A3: 2
A4: 3

Sheet GRAPHIQUE
B3: SOMME MANIP SEMAINE | C3: SOMME MANIP RFT | D3: RFT | E3: RESPECT CADENCE | F3: CIBLE | G3: EQUIPE ANNEE | H3: EQUIPE SEM
B4: =SUM('SAISIE NEW'!G6,'SAISIE NEW'!K6,'SAISIE NEW'!M6,'SAISIE NEW'!O6,'SAISIE NEW'!Q6,'SAISIE NEW'!S6) -> 28 | C4: =SUM('SAISIE NEW'!H6,'SAISIE NEW'!L6,'SAISIE NEW'!N6,'SAISIE NEW'!P6,'SAISIE NEW'!R6,'SAISIE NEW'!T6) -> 22 | D4: =C4/B4 -> 0.78571429 | E4: 2 | F4: ='SAISIE NEW'!$Y$1 -> 0.9
B5: =SUM('SAISIE NEW'!G7,'SAISIE NEW'!K7,'SAISIE NEW'!M7,'SAISIE NEW'!O7,'SAISIE NEW'!Q7,'SAISIE NEW'!S7) -> 28 | C5: =SUM('SAISIE NEW'!H7,'SAISIE NEW'!L7,'SAISIE NEW'!N7,'SAISIE NEW'!P7,'SAISIE NEW'!R7,'SAISIE NEW'!T7) -> 23 | D5: =C5/B5 -> 0.82142857 | F5: ='SAISIE NEW'!$Y$1 -> 0.9
B6: =SUM('SAISIE NEW'!G8,'SAISIE NEW'!K8,'SAISIE NEW'!M8,'SAISIE NEW'!O8,'SAISIE NEW'!Q8,'SAISIE NEW'!S8) -> 28 | C6: =SUM('SAISIE NEW'!H8,'SAISIE NEW'!L8,'SAISIE NEW'!N8,'SAISIE NEW'!P8,'SAISIE NEW'!R8,'SAISIE NEW'!T8) -> 22 | D6: =C6/B6 -> 0.78571429 | F6: ='SAISIE NEW'!$Y$1 -> 0.9
B7: =SUM('SAISIE NEW'!G9,'SAISIE NEW'!K9,'SAISIE NEW'!M9,'SAISIE NEW'!O9,'SAISIE NEW'!Q9,'SAISIE NEW'!S9) -> 28 | C7: =SUM('SAISIE NEW'!H9,'SAISIE NEW'!L9,'SAISIE NEW'!N9,'SAISIE NEW'!P9,'SAISIE NEW'!R9,'SAISIE NEW'!T9) -> 22 | D7: =C7/B7 -> 0.78571429 | F7: ='SAISIE NEW'!$Y$1 -> 0.9
B8: =SUM('SAISIE NEW'!G10,'SAISIE NEW'!K10,'SAISIE NEW'!M10,'SAISIE NEW'!O10,'SAISIE NEW'!Q10,'SAISIE NEW'!S10) -> 28 | C8: =SUM('SAISIE NEW'!H10,'SAISIE NEW'!L10,'SAISIE NEW'!N10,'SAISIE NEW'!P10,'SAISIE NEW'!R10,'SAISIE NEW'!T10) -> 21 | D8: =C8/B8 -> 0.75 | F8: ='SAISIE NEW'!$Y$1 -> 0.9
B9: =SUM('SAISIE NEW'!G11,'SAISIE NEW'!K11,'SAISIE NEW'!M11,'SAISIE NEW'!O11,'SAISIE NEW'!Q11,'SAISIE NEW'!S11) -> 28 | C9: =SUM('SAISIE NEW'!H11,'SAISIE NEW'!L11,'SAISIE NEW'!N11,'SAISIE NEW'!P11,'SAISIE NEW'!R11,'SAISIE NEW'!T11) -> 19 | D9: =C9/B9 -> 0.67857143 | F9: ='SAISIE NEW'!$Y$1 -> 0.9
B10: =SUM('SAISIE NEW'!G12,'SAISIE NEW'!K12,'SAISIE NEW'!M12,'SAISIE NEW'!O12,'SAISIE NEW'!Q12,'SAISIE NEW'!S12) -> 17 | C10: =SUM('SAISIE NEW'!H12,'SAISIE NEW'!L12,'SAISIE NEW'!N12,'SAISIE NEW'!P12,'SAISIE NEW'!R12,'SAISIE NEW'!T12) -> 11 | D10: =C10/B10 -> 0.64705882 | F10: ='SAISIE NEW'!$Y$1 -> 0.9
B11: =SUM('SAISIE NEW'!G13,'SAISIE NEW'!K13,'SAISIE NEW'!M13,'SAISIE NEW'!O13,'SAISIE NEW'!Q13,'SAISIE NEW'!S13) -> 28 | C11: =SUM('SAISIE NEW'!H13,'SAISIE NEW'!L13,'SAISIE NEW'!N13,'SAISIE NEW'!P13,'SAISIE NEW'!R13,'SAISIE NEW'!T13) -> 22 | D11: =C11/B11 -> 0.78571429 | F11: ='SAISIE NEW'!$Y$1 -> 0.9
B12: =SUM('SAISIE NEW'!G14,'SAISIE NEW'!K14,'SAISIE NEW'!M14,'SAISIE NEW'!O14,'SAISIE NEW'!Q14,'SAISIE NEW'!S14) -> 19 | C12: =SUM('SAISIE NEW'!H14,'SAISIE NEW'!L14,'SAISIE NEW'!N14,'SAISIE NEW'!P14,'SAISIE NEW'!R14,'SAISIE NEW'!T14) -> 13 | D12: =C12/B12 -> 0.68421053 | F12: ='SAISIE NEW'!$Y$1 -> 0.9
B13: =SUM('SAISIE NEW'!G15,'SAISIE NEW'!K15,'SAISIE NEW'!M15,'SAISIE NEW'!O15,'SAISIE NEW'!Q15,'SAISIE NEW'!S15) -> 28 | C13: =SUM('SAISIE NEW'!H15,'SAISIE NEW'!L15,'SAISIE NEW'!N15,'SAISIE NEW'!P15,'SAISIE NEW'!R15,'SAISIE NEW'!T15) -> 24 | D13: =C13/B13 -> 0.85714286 | E13: 1 | F13: ='SAISIE NEW'!$Y$1 -> 0.9
