Workbook
Name CHOIX_DU_CONJOINT_AVEC_DDV: 'DDV ADMIN'!$W$4:$AA$36
Name CHOIX_DU_CONJOINT_SANS_DDV: 'DDV ADMIN'!$U$4:$V$36
Name HERITIER: 'DROITS DE SUCCESSION ADMIN'!$A$2:$A$7
Name LIEN_DE_FAMILLE: 'DDV ADMIN'!$S$6:$S$36
Name LIEN_HERITIER: 'DDV ADMIN'!$A$159:$A$170
Name NOMBRE_ENFANTS: 'DDV ADMIN'!$B$159:$B$161
Name PARENTE: 'DROITS DE SUCCESSION ADMIN'!$A$2:$A$6

Sheet DROITS ET FRAIS DE SUCCESSION
A1: LIEN DE PARENTE | D1: NOMBRE D'ENFANTS | H1: AGE
A4: ENFANT | E4: 3 | H4: 73
A6: SI ESTIMATION SUCCESSION COUPLE ALORS DIVISER PAR 2 LE PATRIMOINE SAISI SAUF BIEN PROPRE
B10: IMMOBILIER | E10: 250000
B11: BIEN PROPRE | E11: 1
B12: TOTAL IMMO | E12: =E10+E11 -> 250001
B13: PRODUITS FINANCIERS | E13: 300000
B14: BIEN PROPRE | E14: 1
B15: TOTAL PRODUITS FINANCIERS | E15: =E13+E14 -> 300001
B16: ASSURANCE VIE (VERSEMENTS APRES 70 ANS) | E16: 0
B19: MASSE SUCCESSORALE BRUTE | E19: =E12+E15+E16 -> 550002
B22: ABATTEMENT | E22: ='DROITS DE SUCCESSION ADMIN'!E7 -> -300000
B25: MASSE SUCCESSORALE NETTE | E25: ='DROITS DE SUCCESSION ADMIN'!F13 -> 250002
B28: DROITS (IMPOTS) | E28: ='DROITS DE SUCCESSION ADMIN'!N20 -> 51381.15
B31: FRAIS DE SUCCESSION (EMOLUMENTS) | E31: ='DROITS DE SUCCESSION ADMIN'!F49 -> 6397.3253

Sheet DROITS DE SUCCESSION ADMIN
A1: LIEN DE PARENTE | E1: Abattement Assurance Vie 30500 | I1: DROITS DE SUCCESSION LIGNE DIRECTE | M1: INTERMEDIAIRE
A2: CONJOINT | C2: =-(SUM('DROITS ET FRAIS DE SUCCESSION'!E12+'DROITS ET FRAIS DE SUCCESSION'!E15+'DROITS ET FRAIS DE SUCCESSION'!E16)) -> -550002 | E2: < 30500 | F2: 0 | I2: 8072 | J2: 0.05 | L2: 403.6 | M2: =IF(L$11*5%<=403.6,L$11*5%,403.6) -> 403.6
A3: ENFANT | C3: -100000 | E3: > 30500 | F3: =('DROITS ET FRAIS DE SUCCESSION'!E16-30500) -> -30500 | I3: >8072<12109 | J3: 0.1 | L3: 403.7 | M3: =IF(L$11*10%<=403.7,L$11*10%,403.7) -> 403.7
A4: NEVEU/NIECE | C4: -7967 | E4: BASE | F4: =_xlfn.IFS('DROITS ET FRAIS DE SUCCESSION'!E16<30500,'DROITS DE SUCCESSION ADMIN'!F2,'DROITS ET FRAIS DE SUCCESSION'!E16>30500,'DROITS DE SUCCESSION ADMIN'!F3) -> 0 | I4: >12109<15932 | J4: 0.15 | L4: 573.45 | M4: =IF(L$11*15%<=573.45,L$11*15%,573.45) -> 573.45
A5: FRERE/SŒUR | C5: -15932 | I5: >15932<552324 | J5: 0.2 | L5: 107278.4 | M5: =IF(L$11*20%<=107278.4,L$11*20%,107278.4) -> 50000.4
A6: AUCUN | C6: -1594 | E6: Abattements | I6: >552324<902838 | J6: 0.3 | L6: 105154.2 | M6: =IF(L$11*30%<=105154.2,L$11*30%,105154.2) -> 75000.6
A7: PETIT ENFANT | C7: -30865 | E7: =_xlfn.IFS('DROITS ET FRAIS DE SUCCESSION'!A4="ENFANT",'DROITS DE SUCCESSION ADMIN'!C3*B13,'DROITS ET FRAIS DE SUCCESSION'!A4="AUCUN",'DROITS DE SUCCESSION ADMIN'!C6,'DROITS ET FRAIS DE SUCCESSION'!A4="NEVEU/NIECE",'DROITS DE SUCCESSION ADMIN'!C4,'DROITS ET FRAIS DE SUCCESSION'!A4="FRERE/SŒUR",'DROITS DE SUCCESSION ADMIN'!C5,'DROITS ET FRAIS DE SUCCESSION'!A4="PETIT ENFANT",'DROITS DE SUCCESSION ADMIN'!C7,'DROITS ET FRAIS DE SUCCESSION'!A4="CONJOINT",'DROITS DE SUCCESSION ADMIN'!C2,'DROITS ET FRAIS DE SUCCESSION'!A4="PETIT ENFANT",'DROITS DE SUCCESSION ADMIN'!C2) -> -300000 | I7: >902838<1805677 | J7: 0.4 | L7: 361135.6 | M7: =IF(L$11*40%<=361135.6,L$11*40%,361135.6) -> 100000.8
I8: >1805677 | J8: 0.45 | L8: - | M8: =(L$11-1805677)*45% -> -700053.75
E9: MASSE SUCCESSORALE NETTE
A10: NOMBRE D'ENFANTS | I10: FONCTION DROITS DE SUCCESSIONS | M10: FRERE / SŒUR
F11: =_xlfn.IFS(A4="CONJOINT",'DROITS ET FRAIS DE SUCCESSION'!E12+'DROITS ET FRAIS DE SUCCESSION'!E15+F4+'DROITS ET FRAIS DE SUCCESSION'!E22,A4="ENFANT",'DROITS ET FRAIS DE SUCCESSION'!E12+'DROITS ET FRAIS DE SUCCESSION'!E15+F4+'DROITS ET FRAIS DE SUCCESSION'!E22,A4="NEVEU/NIECE",'DROITS ET FRAIS DE SUCCESSION'!E12+'DROITS ET FRAIS DE SUCCESSION'!E15+F4+'DROITS ET FRAIS DE SUCCESSION'!E22,A4="FRERE/SOEUR",'DROITS ET FRAIS DE SUCCESSION'!E12+'DROITS ET FRAIS DE SUCCESSION'!E15+F4+'DROITS ET FRAIS DE SUCCESSION'!E22,A4="AUCUN",'DROITS ET FRAIS DE SUCCESSION'!E12+'DROITS ET FRAIS DE SUCCESSION'!E15+F4+'DROITS ET FRAIS DE SUCCESSION'!E22,A4="PETIT ENFANT",'DROITS ET FRAIS DE SUCCESSION'!E12+'DROITS ET FRAIS DE SUCCESSION'!E15+F4+'DROITS ET FRAIS DE SUCCESSION'!E22) -> 250002 | I11: MASSE SUCCESSORALE NETTE | L11: ='DROITS ET FRAIS DE SUCCESSION'!E25 -> 250002 | M11: < 24430 € | O11: 0.35
E12: Si < 0 alors egal 0 | M12: > 24430 € | O12: 0.45
B13: ='DROITS ET FRAIS DE SUCCESSION'!E4 -> 3 | F13: =IF(F11<0,0,F11) -> 250002 | I13: DROITS PAR PALLIERS LIGNE DIRECTE | L13: =_xlfn.IFS(L11<=8072,M2,L11<=12109,M2+M3,L11<=15932,M2+M3+M4,L11<=552324,M2+M3+M4+M5,L11<=902838,M2+M3+M4+M5+M6,L11<=1805677,M2+M3+M4+M5+M6+M7,L11>1805677,M2+M3+M4+M5+M6+M7+M8) -> 51381.15
M14: IMPOSITION JUSQU'AU 4ème DEGRES
I15: FRERES / SŒURS | L15: =_xlfn.IFS(L11<24430,L11*35%,L11>24430,L11*45%) -> 112500.9 | M15: 0.55
M16: AUTRE
I17: IMPOSITION 4ème DEGRES | L17: =L11*55% -> 137501.1 | M17: 0.6
A18: EMOLUMENTS
I19: AUTRE | L19: =L11*60% -> 150001.2 | M19: DROITS DE SUCCESSION PAR DEGRES
A20: SI IMMOBILIER | N20: =_xlfn.IFS('DROITS ET FRAIS DE SUCCESSION'!A4="ENFANT",L13,'DROITS ET FRAIS DE SUCCESSION'!A4="CONJOINT",0,'DROITS ET FRAIS DE SUCCESSION'!A4="NEVEU/NIECE",L17,'DROITS ET FRAIS DE SUCCESSION'!A4="FRERE/SŒUR",L15,'DROITS ET FRAIS DE SUCCESSION'!A4="AUCUN",L19,'DROITS ET FRAIS DE SUCCESSION'!A4="PETIT ENFANT",L13) -> 51381.15
A21: CERTIFICAT DE PROPRIETE | D21: <3120 | F21: =IF(AND('DROITS ET FRAIS DE SUCCESSION'!E12>0,'DROITS ET FRAIS DE SUCCESSION'!E12<=3120),18.46,0) -> 0
D22: >3120 | E22: 0.00493 | F22: =IF('DROITS ET FRAIS DE SUCCESSION'!$E$12>3120,'DROITS ET FRAIS DE SUCCESSION'!$E$12*E22,0) -> 1232.5049
B24: DEBUT DE LA TRANCHE | D24: FIN DE TRANCHE | E24: TAUX
A25: ATTESTATION DE PROPRIETE | C25: 0 | D25: 6500 | E25: 0.01972 | F25: =MIN('DROITS ET FRAIS DE SUCCESSION'!$E$12,D25-C25)*E25 -> 128.18
C26: 6500 | D26: 17000 | E26: 0.01085 | F26: =MIN('DROITS ET FRAIS DE SUCCESSION'!$E$12-D25,D26-C26)*E26 -> 113.925
C27: 17000 | D27: 30000 | E27: 0.0074 | F27: =MIN('DROITS ET FRAIS DE SUCCESSION'!$E$12-D26,D27-C27)*E27 -> 96.2
D28: >30000 € | E28: 0.00542 | F28: =IF('DROITS ET FRAIS DE SUCCESSION'!$E$12>30000,('DROITS ET FRAIS DE SUCCESSION'!$E$12-30000)*0.542%,0) -> 1192.4054
A30: TOTAL IMMO | F30: =SUMIF(F21:F28,">0") -> 2763.2154
B32: DEBUT DE LA TRANCHE | D32: FIN DE TRANCHE | E32: TAUX
A33: DECLARATION DE SUCCESSION | C33: 0 | D33: 6500 | E33: 0.01578 | F33: =MIN('DROITS ET FRAIS DE SUCCESSION'!$E$12,D33-C33)*E33 -> 102.57
C34: 6500 | D34: 17000 | E34: 0.00868 | F34: =MIN('DROITS ET FRAIS DE SUCCESSION'!$E$12-D33,D34-C34)*E34 -> 91.14
C35: 17000 | D35: 30000 | E35: 0.00592 | F35: =MIN('DROITS ET FRAIS DE SUCCESSION'!$E$12-D34,D35-C35)*E35 -> 76.96
D36: >30000 € | E36: 0.00434 | F36: =IF('DROITS ET FRAIS DE SUCCESSION'!$E$12>30000,('DROITS ET FRAIS DE SUCCESSION'!$E$10-30000)*0.434%,0) -> 954.8
B38: DEBUT DE LA TRANCHE | D38: FIN DE TRANCHE | E38: TAUX
A39: PARTAGE DE SUCCESSION | C39: 0 | D39: 6500 | E39: 0.04931 | F39: =MIN('DROITS ET FRAIS DE SUCCESSION'!$E$12,D39-C39)*E39 -> 320.515
C40: 6500 | D40: 17000 | E40: 0.02034 | F40: =MIN('DROITS ET FRAIS DE SUCCESSION'!$E$12,D40-C40)*E40 -> 213.57
C41: 17000 | D41: 60000 | E41: 0.01356 | F41: =MIN('DROITS ET FRAIS DE SUCCESSION'!$E$12,D41-C41)*E41 -> 583.08
D42: >60000 € | E42: 0.01017 | F42: =IF('DROITS ET FRAIS DE SUCCESSION'!$E$12>60000,('DROITS ET FRAIS DE SUCCESSION'!$E$12-60000)*1.017%,0) -> 1932.3102
A44: TOTAL PRESTATIONS SUCCESSORALES HORS IMMO | F44: =SUMIF(F34:F41,">0") -> 2240.065
A46: ACTE DE NOTORIETE | F46: 69.23
A47: INVENTAIRE | F47: 92.31
A49: TOTAL SUCCESSION | F49: =SUM(F30+F44+F46+F47+F21+F22) -> 6397.3253

Sheet DDV ADMIN
G1: CHOIX DU CONJOINT
G3: SANS DDV | K3: AVEC DDV
B5: ENANT(S) ISSU(S) DE L'UNION | D5: 1 ENFANT | G5: =('DROITS ET FRAIS DE SUCCESSION'!$E$19/4) -> 137500.5 | I5: =_xlfn.IFS($E$31<31,$D$29,$E$31<41,$D$30,$E$31<51,$D$31,$E$31<61,$D$32,$E$31<71,$D$33,$E$31<81,$D$34,$E$31<91,$D$35,$E$31<131,$D$36) -> 165000.6 | K5: ='DROITS ET FRAIS DE SUCCESSION'!$E$19/2 -> 275001 | M5: =('DROITS ET FRAIS DE SUCCESSION'!$E$19/4) -> 137500.5 | N5: =($I$5*3)/4 -> 123750.45
D7: 2 ENFANTS | K7: =('DROITS ET FRAIS DE SUCCESSION'!$E$19/3)+($I$5/4)*3 -> 307084.45 | M7: =('DROITS ET FRAIS DE SUCCESSION'!$E$19/4) -> 137500.5 | N7: =($I$5*3)/4 -> 123750.45
D9: 3 ENFANTS OU PLUS | M9: =('DROITS ET FRAIS DE SUCCESSION'!$E$19/4) -> 137500.5 | N9: =($I$5*3)/4 -> 123750.45
B12: ENFANT(S)S DONT UN ISSUS D'UNE AUTRE UNION | D12: 1 ENFANT | G12: =('DROITS ET FRAIS DE SUCCESSION'!$E$19/4) -> 137500.5 | K12: ='DROITS ET FRAIS DE SUCCESSION'!E19/2 -> 275001 | M12: =('DROITS ET FRAIS DE SUCCESSION'!E19/4) -> 137500.5 | N12: =($I$5*3)/4 -> 123750.45 | O12: =_xlfn.IFS($E$31<31,$D$29,$E$31<41,$D$30,$E$31<51,$D$31,$E$31<61,$D$32,$E$31<71,$D$33,$E$31<81,$D$34,$E$31<91,$D$35,$E$31<131,$D$36) -> 165000.6
D14: 2 ENFANTS | K14: ='DROITS ET FRAIS DE SUCCESSION'!E19/3 -> 183334 | M14: =('DROITS ET FRAIS DE SUCCESSION'!E19/4) -> 137500.5 | N14: =($I$5*3)/4 -> 123750.45 | O14: =_xlfn.IFS($E$31<31,$D$29,$E$31<41,$D$30,$E$31<51,$D$31,$E$31<61,$D$32,$E$31<71,$D$33,$E$31<81,$D$34,$E$31<91,$D$35,$E$31<131,$D$36) -> 165000.6
D16: 3 ENFANTS OU PLUS | K16: =('DROITS ET FRAIS DE SUCCESSION'!E19/4) -> 137500.5 | L16: =(I5*3)/4 -> 123750.45 | M16: =_xlfn.IFS($E$31<31,$D$29,$E$31<41,$D$30,$E$31<51,$D$31,$E$31<61,$D$32,$E$31<71,$D$33,$E$31<81,$D$34,$E$31<91,$D$35,$E$31<131,$D$36) -> 165000.6
B19: PARENTS(S) | D19: 2 PARENTS | G19: ='DROITS ET FRAIS DE SUCCESSION'!$E$19/2 -> 275001 | K19: ='DROITS ET FRAIS DE SUCCESSION'!$E$19 -> 550002
D21: 1 PARENT | G21: =('DROITS ET FRAIS DE SUCCESSION'!$E$19*3)/4 -> 412501.5
B24: NI PARENTS NI ENFANTS | G24: ='DROITS ET FRAIS DE SUCCESSION'!$E$19 -> 550002
A27: AGE | B27: USUFRUIT | C27: NUE PRO | D27: BASE USUFRUIT | E27: SUCCESION BRUTE | G27: ENFANT ISSU DE COUPLE ET/OU D'UNE PRECEDENTE UNION | J27: PART DU CONJOINT SURVIVANT | M27: LIEN DE PARENTE | P27: NOMBRE D'ENFANTS
E28: ='DROITS ET FRAIS DE SUCCESSION'!E19 -> 550002
A29: 21 | B29: 0.8 | C29: 0.2 | D29: =$E28*B29 -> 440001.6
A30: 31 | B30: 0.7 | C30: 0.3 | D30: =$E28*B30 -> 385001.4 | E30: AGE MR | F30: AGE ME | H30: OUI | K30: OUI | N30: ENFANT | Q30: 1
A31: 41 | B31: 0.6 | C31: 0.4 | D31: =$E28*B31 -> 330001.2 | E31: ='DROITS ET FRAIS DE SUCCESSION'!H4 -> 73 | F31: ='DROITS ET FRAIS DE SUCCESSION'!#REF! -> #REF!
A32: 51 | B32: 0.5 | C32: 0.5 | D32: =$E28*B32 -> 275001 | H32: OUI | J32: DDV | K32: OUI | N32: ENFANT | Q32: 1
A33: 61 | B33: 0.4 | C33: 0.6 | D33: =$E28*B33 -> 220000.8 | H33: NON | K33: NON | N33: PARENT | Q33: 2
A34: 71 | B34: 0.3 | C34: 0.7 | D34: =$E28*B34 -> 165000.6 | N34: NI PARENTS NI ENFANTS | Q34: 3 OU PLUS
A35: 81 | B35: 0.2 | C35: 0.8 | D35: =$E28*B35 -> 110000.4
A36: 91 | B36: 0.1 | C36: 0.9 | D36: =$E28*B36 -> 55000.2
A37: 131
A39: LIEN | B39: ENFANT DU COUPLE | C39: NOMBRE | D39: PP
A41: PARENT | B41: OUI | C41: 2 | D41: =_xlfn.IFS(A41="ENFANT",G5,A41="NI PARENTS NI ENFANTS",G24,A41="PARENT",G19) -> 275001
A58: SANS DDV
A60: ENANT(S) ISSU(S) DE L'UNION (1/4 PP) | G60: OU | I60: ENANT(S) ISSU(S) DE L'UNION (100% USUFRUIT
A62: 1 ENFANT | D62: =('DROITS ET FRAIS DE SUCCESSION'!$E$19/4) -> 137500.5 | I62: 1 ENFANT | N62: =_xlfn.IFS($E$31<31,$D$29,$E$31<41,$D$30,$E$31<51,$D$31,$E$31<61,$D$32,$E$31<71,$D$33,$E$31<81,$D$34,$E$31<91,$D$35,$E$31<131,$D$36) -> 165000.6
A64: 2 ENFANTS | I64: 2 ENFANTS
A66: 3 ENFANTS OU PLUS | I66: 3 ENFANTS OU PLUS
A70: ENFANT(S)S DONT UN ISSUS D'UNE AUTRE UNION (1/4 PP)
A72: 1 ENFANT | D72: =('DROITS ET FRAIS DE SUCCESSION'!$E$19/4) -> 137500.5
A74: 2 ENFANTS
A76: 3 ENFANTS OU PLUS
A80: PARENTS(S) (PP)
A82: 2 PARENTS | D82: ='DROITS ET FRAIS DE SUCCESSION'!$E$19/2 -> 275001
A84: 1 PARENT | D84: =('DROITS ET FRAIS DE SUCCESSION'!$E$19*3)/4 -> 412501.5
A88: NI PARENTS NI ENFANTS
A90: ='DROITS ET FRAIS DE SUCCESSION'!$E$19 -> 550002
A94: REFERENTIEL GRAPHIQUE SANS DDV
A99: AVEC DDV
C153: TABLEAU DYNAMIQUE
C155: CHOIX DU CONJOINT SANS DDV | E155: CHOIX DU CONJOINT SANS DDV
C158: 1/4 EN PP | D158: 100% EN USUFRUIT
A159: Enfant(s) issu(s) de l'union | B159: 1 | C159: =$G$5 -> 137500.5 | D159: =$I$5 -> 165000.6 | E159: =$K$5 -> 275001 | G159: =$M$5 -> 137500.5 | H159: =$N$5 -> 123750.45
B160: 2 | C160: =$G$5 -> 137500.5 | D160: =$I$5 -> 165000.6 | E160: =$K$7 -> 307084.45 | G160: =$M$7 -> 137500.5 | H160: =$N$7 -> 123750.45
B161: 3 OU PLUS | C161: =$G$5 -> 137500.5 | D161: =$I$5 -> 165000.6 | G161: =$M$9 -> 137500.5 | H161: =$N$9 -> 123750.45
A162: Enfant(s) issu(s) d'une autre union | B162: 1 | C162: =$G$12 -> 137500.5 | E162: =$K$12 -> 275001 | G162: =$M$12 -> 137500.5 | H162: =$N$12 -> 123750.45 | I162: =$O$12 -> 165000.6
B163: 2 | E163: =$K$14 -> 183334 | G163: =$M$14 -> 137500.5 | H163: =$N$12 -> 123750.45 | I163: =$O$14 -> 165000.6
B164: 3 OU PLUS | E164: =$K$16 -> 137500.5 | F164: =$L$16 -> 123750.45 | G164: =$M$16 -> 165000.6
A165: Parents | B165: 2 | C165: =$G$19 -> 275001 | G165: =$K$19 -> 550002
B166: 1 | C166: =$G$21 -> 412501.5
A168: Ni parents / Ni enfants | C168: =$G$24 -> 550002
