Workbook

Sheet Feuil1
A1: Date du jour | B1: Code article | C1: Dénomination article | D1: Code FRS | E1: FRS | F1: Famille logistique | G1: Nbre colis prévues | H1: Nbre de colis receptionnées | I1: Nbre de palette(s) manquante(s) | J1: Date de commande | K1: Motifs de non livraison | L1: Action | M1: Commentaire supplémentaire
A2: 43467 | B2: 742 | C2: Poitrine fumée en tranches | D2: 8232 | E2: Schwarz Cranz GmbH & Co. KG | F2: K.L. | G2: 96 | H2: 0 | I2: 2 | J2: 43465 | K2: KL | L2: KL = MAZ
A3: 43465 | B3: 5607714 | C3: Oeufs plein air moyen/gros x 6 | D3: 8140 | E3: CDPO S.A.S.U. | F3: Ultra-sensible | G3: 360 | H3: 180 | I3: 3 | J3: 43465 | K3: Rupture | L3: Suppression cde
A4: 43465 | B4: 1645 | C4: Oeufs bio calibre gros x6 | D4: 8140 | E4: CDPO S.A.S.U. | F4: Ultra-sensible | G4: 600 | H4: 480 | I4: 2 | J4: 43465 | K4: Rupture | L4: Suppression cde
A5: 43465 | B5: 39060 | C5: Mozzarella râpée | D5: 1275 | E5: Th. Vergeer en Zonen B.V. | F5: K.L. | G5: 80 | H5: 0 | I5: 1 | J5: 43465 | K5: KL | L5: Suppression cde
A6: 43465 | B6: 742 | C6: Poitrine fumée en tranches | D6: 8232 | E6: Schwarz Cranz GmbH & Co. KG | F6: K.L. | G6: 96 | H6: 0 | I6: 2 | J6: 43465 | K6: KL | L6: Suppression cde
A7: 43465 | B7: 5606862 | C7: Salades de céréales | D7: 6968 | E7: Mix'Buffet S.A.S.U. | F7: Ultra-sensible | G7: 112 | H7: 0 | I7: 2 | J7: 43465 | K7: Problème de production | L7: Suppression cde
A8: 43465 | B8: 5605209 | C8: Fourme d'Ambert AOP | D8: 109 | E8: Les Fromageries Occitanes | F8: Frais 2 x S | G8: 96 | H8: 48 | I8: 1 | J8: 43465 | K8: Rupture | L8: Livraison au lendemain
A9: 43465 | B9: 132741 | C9: Yaourt nature au lait de brebis | D9: 4248 | E9: L. N. U. F. MDD SNC | F9: K.F. | G9: 180 | H9: 0 | I9: 1 | J9: 43465 | K9: KF | L9: Suppression cde
A10: 43465 | B10: 465 | C10: Mascarpone | D10: 1136 | E10: Fude + Serrahn Milchprodukte | F10: K.L. | G10: 160 | H10: 0 | I10: 2 | J10: 43465 | K10: KL | L10: Suppression cde
A11: 43465 | B11: 115151 | C11: Plume de lait | D11: 4937 | E11: EURIAL ULTRA FRAIS S.A.S.U. | F11: Frais 3 x S | G11: 88 | H11: 0 | I11: 1 | J11: 43465 | K11: Rupture | L11: Suppression cde
A12: 43465 | B12: 5607992 | C12: Pommes de terre à la Sarladaise | D12: 8086 | E12: XVB STEF LOG MIDI PYRENEES | F12: Surgelé 1x | G12: 72 | H12: 0 | J12: 43452 | K12: Aucune réponse | L12: MAIL + lendemain
A13: 43465 | B13: 72837 | C13: Yaourts brassés aux fruits mixés | D13: 4248 | E13: L. N. U. F. MDD SNC | F13: K.F. | G13: 324 | H13: 0 | I13: 4 | J13: 43462 | K13: KF | L13: Suppression cde
A14: 43465 | B14: 5608194 | C14: Salade 1,2,3 assorties SK1 | D14: 3484 | E14: Snacking Services S.N.C. | F14: Ultra-sensible | G14: 64 | H14: 0 | I14: 1.0666667 | J14: 43463 | K14: Rupture | L14: Suppression cde
A15: 43465 | B15: 5606862 | C15: Salades de céréales | D15: 6968 | E15: Mix'Buffet S.A.S.U. | F15: Ultra-sensible | G15: 56 | H15: 0 | I15: 1 | J15: 43463 | K15: Rupture | L15: Suppression cde
A16: 43465 | B16: 5606785 | C16: Buddha Bol SK1 | D16: 6968 | E16: Mix'Buffet S.A.S.U. | F16: Ultra-sensible | G16: 70 | H16: 0 | I16: 1 | J16: 43463 | K16: Rupture | L16: Suppression cde
A17: 43465 | B17: 5605293 | C17: Salades bol assorties | D17: 6968 | E17: Mix'Buffet S.A.S.U. | F17: Ultra-sensible | G17: 200 | H17: 0 | I17: 3.3333333 | J17: 43463 | K17: Rupture | L17: Suppression cde
A18: 43462 | B18: 5301 | C18: Axe déodorant spray | D18: 2131 | E18: Unilever France S.A.S. | F18: Sec | G18: 90 | H18: 0 | I18: 1 | J18: 43461 | K18: Rupture | L18: Suppression cde
A19: 43462 | B19: 142859 | C19: Perlembourg Pils 4.2% | D19: 102 | E19: Brasserie de Saint Omer SAS | F19: Grosse rot. liquide | G19: 1530 | H19: 0 | I19: 17 | J19: 43455 | K19: Problème de transporteur | L19: Suppression cde
A20: 43462 | B20: 5457 | C20: Mouchoirs blancs 90 U 3 plis | D20: 849 | E20: CARTIERE CARRARA S.p.A. | F20: Sec | G20: 1980 | H20: 0 | I20: 33 | J20: 43453 | K20: Rupture | L20: Date ultérieure
A21: 43462 | B21: 128975 | C21: Demi Baguette Rustique | D21: 8086 | E21: XVB STEF LOG MIDI PYRENEES | F21: Surgelé 1x | G21: 644 | H21: 0 | I21: 23 | J21: 43461 | K21: Rupture | L21: Date ultérieure | M21: 43468
A22: 43462 | B22: 27983 | C22: Baguette céréales rustique | D22: 8086 | E22: XVB STEF LOG MIDI PYRENEES | F22: Surgelé 1x | G22: 280 | H22: 0 | I22: 10 | J22: 43461 | K22: Rupture | L22: Date ultérieure | M22: 43468
A23: 43462 | B23: 1004 | C23: Sucre morceaux n°4 | D23: 8015 | E23: Südzucker AG | F23: Grosse rot. liquide | G23: 19228 | H23: 0 | I23: 23 | J23: 43454 | K23: Problème de transporteur | L23: MAIL + lendemain | M23: 43465
A24: 43462 | B24: 116329 | C24: Lait demi-écrémé 50 cl | D24: 1220 | E24: Lactel | F24: Grosse rot. liquide | G24: 1512 | H24: 648 | I24: 4 | J24: 43462 | K24: Problème de production | L24: Suppression cde
A25: 43462 | B25: 5603206 | C25: Oeufs Label Rouge | D25: 8140 | E25: CDPO S.A.S.U. | F25: Ultra-sensible | G25: 180 | H25: 0 | I25: 3 | J25: 43462 | K25: Problème de production | L25: Suppression cde
A26: 43462 | B26: 2153 | C26: Legal café Bistrot Petit noir 36 | D26: 4281 | E26: Legal S.A.S. | F26: Sec | G26: 648 | H26: 0 | I26: 9 | J26: 43448 | K26: Problème de production | L26: Date ultérieure
A27: 43462 | B27: 5605168 | C27: Fuet | D27: 8003 | E27: Aoste S.N.C. | F27: Frais 2 x S | G27: 56 | H27: 0 | I27: 1 | J27: 43462 | K27: Problème de production | L27: Date ultérieure | M27: 43467
A28: 43462 | B28: 379 | C28: Beurre 1/2 sel | D28: 6800 | E28: Loyez-Woessen S.A.S. | F28: Frais 1 x S | G28: 144 | H28: 0 | I28: 2 | J28: 43462 | K28: Aucune réponse | L28: MAIL + lendemain | M28: 43465
A29: 43461 | B29: 92778 | C29: Pain de campagne | D29: 8086 | E29: XVB STEF LOG MIDI PYRENEES | F29: TIKO | G29: 612 | H29: 0 | I29: 17 | J29: 43461 | K29: Aucune réponse | L29: MAIL + lendemain
A30: 43461 | B30: 51816 | C30: Petit pain special au fromage | D30: 8086 | E30: XVB STEF LOG MIDI PYRENEES | F30: TIKO | G30: 100 | H30: 0 | I30: 5 | J30: 43461 | K30: Aucune réponse | L30: MAIL + lendemain
A31: 43461 | B31: 128975 | C31: Demi Baguette Rustique | D31: 8086 | E31: XVB STEF LOG MIDI PYRENEES | F31: Surgelé 1x | G31: 644 | H31: 0 | I31: 23 | J31: 43461 | K31: Aucune réponse | L31: MAIL + lendemain
A32: 43461 | B32: 27983 | C32: Baguette céréales rustique | D32: 8086 | E32: XVB STEF LOG MIDI PYRENEES | F32: Surgelé 1x | G32: 280 | H32: 0 | I32: 10 | J32: 43461 | K32: Aucune réponse | L32: MAIL + lendemain
A33: 43461 | B33: 1550 | C33: Pastis de Marseille 45% Vol. | D33: 8228 | E33: Suprex S.A.S. | F33: DPH/Chienchat | G33: 850 | H33: 0 | I33: 10 | J33: 43461 | K33: Aucune réponse | L33: Livraison au lendemain
A34: 43461 | B34: 5000 | C34: Volvic Eau minérale | D34: 2120 | E34: Société Anonyme des Eaux | F34: Grosse rot. liquide | G34: 2944 | H34: 0 | I34: 32 | J34: 43461 | K34: Aucune réponse | L34: Livraison au lendemain
A35: 43461 | B35: 140043 | C35: Limonade | D35: 3796 | E35: Gie Roxane Saint Amand | F35: Grosse rot. liquide | G35: 320 | H35: 0 | I35: 5 | J35: 43461 | K35: Problème de transporteur | L35: Livraison au lendemain
A36: 43461 | B36: 47 | C36: Cola zéro | D36: 3796 | E36: Gie Roxane Saint Amand | F36: Grosse rot. liquide | G36: 384 | H36: 0 | I36: 6 | J36: 43461 | K36: Problème de transporteur | L36: Livraison au lendemain
A37: 43461 | B37: 5608543 | C37: Elseve Shampooing Color Vive | D37: 4287 | E37: L'OREAL SA | F37: Famille appro gén. | G37: 300 | H37: 0 | J37: 43461 | K37: Aucune réponse | L37: Livraison au lendemain
A38: 43461 | B38: 3339 | C38: Mixa IPS Lait pour le corps | D38: 4287 | E38: L'OREAL SA | F38: DPH/Chienchat | G38: 70 | H38: 0 | I38: 1 | J38: 43461 | K38: Aucune réponse | L38: Livraison au lendemain
A39: 43461 | B39: 2449 | C39: Ultra doux Shampoo Avocat/Camomille | D39: 4287 | E39: L'OREAL SA | F39: DPH/Chienchat | G39: 120 | H39: 0 | I39: 1 | J39: 43461 | K39: Aucune réponse | L39: Livraison au lendemain
A40: 43461 | B40: 7500756 | C40: Dove Savon Crème | D40: 2131 | E40: Unilever France S.A.S. | F40: Sec | G40: 224 | H40: 0 | I40: 1 | J40: 43461 | K40: Aucune réponse | L40: Livraison au lendemain
...

Sheet Feuil2
D1: Occurrence par jour
B2: 102 | C2: =VLOOKUP(B2,Feuil1!$D:$E,2,FALSE) -> Brasserie de Saint Omer SAS
B3: 109 | C3: =VLOOKUP(B3,Feuil1!$D:$E,2,FALSE) -> Les Fromageries Occitanes
B4: 135 | C4: =VLOOKUP(B4,Feuil1!$D:$E,2,FALSE) -> Leimer KG
B5: 136 | C5: =VLOOKUP(B5,Feuil1!$D:$E,2,FALSE) -> Soup'idéale S.A.
B6: 254 | C6: =VLOOKUP(B6,Feuil1!$D:$E,2,FALSE) -> Melitta Europa GmbH & Co. KG
B7: 334 | C7: =VLOOKUP(B7,Feuil1!$D:$E,2,FALSE) -> LEMOINE France S.A.S.
B8: 337 | C8: =VLOOKUP(B8,Feuil1!$D:$E,2,FALSE) -> Johnson&Johnson
B9: 355 | C9: =VLOOKUP(B9,Feuil1!$D:$E,2,FALSE) -> Top Taste B.V.
B10: 378 | C10: =VLOOKUP(B10,Feuil1!$D:$E,2,FALSE) -> Refresco Deutschland GmbH
B11: 385 | C11: =VLOOKUP(B11,Feuil1!$D:$E,2,FALSE) -> Arla Foods Deutschland
B12: 388 | C12: =VLOOKUP(B12,Feuil1!$D:$E,2,FALSE) -> Mamminger Konserven GmbH &
B13: 465 | C13: =VLOOKUP(B13,Feuil1!$D:$E,2,FALSE) -> Saint Hubert
... B115: 8232 | C115: =VLOOKUP(B115,Feuil1!$D:$E,2,FALSE) -> Schwarz Cranz GmbH & Co. KG
