Workbook

Sheet Feuil1
A1: Date du jour | B1: Code article | C1: Dénomination article | D1: Code FRS | E1: FRS | F1: Famille logistique | G1: Nbre colis prévues | H1: Nbre de colis receptionnées | I1: Nbre de palette(s) manquante(s) | J1: Date de commande | K1: Motifs de non livraison | L1: Action | M1: Commentaire supplémentaire
A2: 43467 | B2: 742 | C2: Poitrine fumée en tranches | D2: 8232 | E2: Schwarz Cranz GmbH & Co. KG | F2: K.L. | G2: 96 | H2: 0 | I2: 2 | J2: 43465 | K2: KL | L2: KL = MAZ
A3: 43465 | B3: 5607714 | C3: Oeufs plein air moyen/gros x 6 | D3: 8140 | E3: CDPO S.A.S.U. | F3: Ultra-sensible | G3: 360 | H3: 180 | I3: 3 | J3: 43465 | K3: Rupture | L3: Suppression cde
A4: 43465 | B4: 1645 | C4: Oeufs bio calibre gros x6 | D4: 8140 | E4: CDPO S.A.S.U. | F4: Ultra-sensible | G4: 600 | H4: 480 | I4: 2 | J4: 43465 | K4: Rupture | L4: Suppression cde
A5: 43465 | B5: 39060 | C5: Mozzarella râpée | D5: 1275 | E5: Th. Vergeer en Zonen B.V. | F5: K.L. | G5: 80 | H5: 0 | I5: 1 | J5: 43465 | K5: KL | L5: Suppression cde
A6: 43465 | B6: 742 | C6: Poitrine fumée en tranches | D6: 8232 | E6: Schwarz Cranz GmbH & Co. KG | F6: K.L. | G6: 96 | H6: 0 | I6: 2 | J6: 43465 | K6: KL | L6: Suppression cde
A7: 43465 | B7: 5606862 | C7: Salades de céréales | D7: 6968 | E7: Mix'Buffet S.A.S.U. | F7: Ultra-sensible | G7: 112 | H7: 0 | I7: 2 | J7: 43465 | K7: Problème de production | L7: Suppression cde
A8: 43465 | B8: 5605209 | C8: Fourme d'Ambert AOP | D8: 109 | E8: Les Fromageries Occitanes | F8: Frais 2 x S | G8: 96 | H8: 48 | I8: 1 | J8: 43465 | K8: Rupture | L8: Livraison au lendemain
A9: 43465 | B9: 132741 | C9: Yaourt nature au lait de brebis | D9: 4248 | E9: L. N. U. F. MDD SNC | F9: K.F. | G9: 180 | H9: 0 | I9: 1 | J9: 43465 | K9: KF | L9: Suppression cde
A10: 43465 | B10: 465 | C10: Mascarpone | D10: 1136 | E10: Fude + Serrahn Milchprodukte | F10: K.L. | G10: 160 | H10: 0 | I10: 2 | J10: 43465 | K10: KL | L10: Suppression cde
A11: 43465 | B11: 115151 | C11: Plume de lait | D11: 4937 | E11: EURIAL ULTRA FRAIS S.A.S.U. | F11: Frais 3 x S | G11: 88 | H11: 0 | I11: 1 | J11: 43465 | K11: Rupture | L11: Suppression cde
A12: 43465 | B12: 5607992 | C12: Pommes de terre à la Sarladaise | D12: 8086 | E12: XVB STEF LOG MIDI PYRENEES | F12: Surgelé 1x | G12: 72 | H12: 0 | J12: 43452 | K12: Aucune réponse | L12: MAIL + lendemain
A13: 43465 | B13: 72837 | C13: Yaourts brassés aux fruits mixés | D13: 4248 | E13: L. N. U. F. MDD SNC | F13: K.F. | G13: 324 | H13: 0 | I13: 4 | J13: 43462 | K13: KF | L13: Suppression cde
A14: 43465 | B14: 5608194 | C14: Salade 1,2,3 assorties SK1 | D14: 3484 | E14: Snacking Services S.N.C. | F14: Ultra-sensible | G14: 64 | H14: 0 | I14: 1.0666667 | J14: 43463 | K14: Rupture | L14: Suppression cde
A15: 43465 | B15: 5606862 | C15: Salades de céréales | D15: 6968 | E15: Mix'Buffet S.A.S.U. | F15: Ultra-sensible | G15: 56 | H15: 0 | I15: 1 | J15: 43463 | K15: Rupture | L15: Suppression cde
A16: 43465 | B16: 5606785 | C16: Buddha Bol SK1 | D16: 6968 | E16: Mix'Buffet S.A.S.U. | F16: Ultra-sensible | G16: 70 | H16: 0 | I16: 1 | J16: 43463 | K16: Rupture | L16: Suppression cde
A17: 43465 | B17: 5605293 | C17: Salades bol assorties | D17: 6968 | E17: Mix'Buffet S.A.S.U. | F17: Ultra-sensible | G17: 200 | H17: 0 | I17: 3.3333333 | J17: 43463 | K17: Rupture | L17: Suppression cde
A18: 43462 | B18: 5301 | C18: Axe déodorant spray | D18: 2131 | E18: Unilever France S.A.S. | F18: Sec | G18: 90 | H18: 0 | I18: 1 | J18: 43461 | K18: Rupture | L18: Suppression cde
A19: 43462 | B19: 142859 | C19: Perlembourg Pils 4.2% | D19: 102 | E19: Brasserie de Saint Omer SAS | F19: Grosse rot. liquide | G19: 1530 | H19: 0 | I19: 17 | J19: 43455 | K19: Problème de transporteur | L19: Suppression cde
A20: 43462 | B20: 5457 | C20: Mouchoirs blancs 90 U 3 plis | D20: 849 | E20: CARTIERE CARRARA S.p.A. | F20: Sec | G20: 1980 | H20: 0 | I20: 33 | J20: 43453 | K20: Rupture | L20: Date ultérieure
A21: 43462 | B21: 128975 | C21: Demi Baguette Rustique | D21: 8086 | E21: XVB STEF LOG MIDI PYRENEES | F21: Surgelé 1x | G21: 644 | H21: 0 | I21: 23 | J21: 43461 | K21: Rupture | L21: Date ultérieure | M21: 43468
A22: 43462 | B22: 27983 | C22: Baguette céréales rustique | D22: 8086 | E22: XVB STEF LOG MIDI PYRENEES | F22: Surgelé 1x | G22: 280 | H22: 0 | I22: 10 | J22: 43461 | K22: Rupture | L22: Date ultérieure | M22: 43468
A23: 43462 | B23: 1004 | C23: Sucre morceaux n°4 | D23: 8015 | E23: Südzucker AG | F23: Grosse rot. liquide | G23: 19228 | H23: 0 | I23: 23 | J23: 43454 | K23: Problème de transporteur | L23: MAIL + lendemain | M23: 43465
A24: 43462 | B24: 116329 | C24: Lait demi-écrémé 50 cl | D24: 1220 | E24: Lactel | F24: Grosse rot. liquide | G24: 1512 | H24: 648 | I24: 4 | J24: 43462 | K24: Problème de production | L24: Suppression cde
A25: 43462 | B25: 5603206 | C25: Oeufs Label Rouge | D25: 8140 | E25: CDPO S.A.S.U. | F25: Ultra-sensible | G25: 180 | H25: 0 | I25: 3 | J25: 43462 | K25: Problème de production | L25: Suppression cde
A26: 43462 | B26: 2153 | C26: Legal café Bistrot Petit noir 36 | D26: 4281 | E26: Legal S.A.S. | F26: Sec | G26: 648 | H26: 0 | I26: 9 | J26: 43448 | K26: Problème de production | L26: Date ultérieure
A27: 43462 | B27: 5605168 | C27: Fuet | D27: 8003 | E27: Aoste S.N.C. | F27: Frais 2 x S | G27: 56 | H27: 0 | I27: 1 | J27: 43462 | K27: Problème de production | L27: Date ultérieure | M27: 43467
A28: 43462 | B28: 379 | C28: Beurre 1/2 sel | D28: 6800 | E28: Loyez-Woessen S.A.S. | F28: Frais 1 x S | G28: 144 | H28: 0 | I28: 2 | J28: 43462 | K28: Aucune réponse | L28: MAIL + lendemain | M28: 43465
A29: 43461 | B29: 92778 | C29: Pain de campagne | D29: 8086 | E29: XVB STEF LOG MIDI PYRENEES | F29: TIKO | G29: 612 | H29: 0 | I29: 17 | J29: 43461 | K29: Aucune réponse | L29: MAIL + lendemain
A30: 43461 | B30: 51816 | C30: Petit pain special au fromage | D30: 8086 | E30: XVB STEF LOG MIDI PYRENEES | F30: TIKO | G30: 100 | H30: 0 | I30: 5 | J30: 43461 | K30: Aucune réponse | L30: MAIL + lendemain
A31: 43461 | B31: 128975 | C31: Demi Baguette Rustique | D31: 8086 | E31: XVB STEF LOG MIDI PYRENEES | F31: Surgelé 1x | G31: 644 | H31: 0 | I31: 23 | J31: 43461 | K31: Aucune réponse | L31: MAIL + lendemain
A32: 43461 | B32: 27983 | C32: Baguette céréales rustique | D32: 8086 | E32: XVB STEF LOG MIDI PYRENEES | F32: Surgelé 1x | G32: 280 | H32: 0 | I32: 10 | J32: 43461 | K32: Aucune réponse | L32: MAIL + lendemain
A33: 43461 | B33: 1550 | C33: Pastis de Marseille 45% Vol. | D33: 8228 | E33: Suprex S.A.S. | F33: DPH/Chienchat | G33: 850 | H33: 0 | I33: 10 | J33: 43461 | K33: Aucune réponse | L33: Livraison au lendemain
A34: 43461 | B34: 5000 | C34: Volvic Eau minérale | D34: 2120 | E34: Société Anonyme des Eaux | F34: Grosse rot. liquide | G34: 2944 | H34: 0 | I34: 32 | J34: 43461 | K34: Aucune réponse | L34: Livraison au lendemain
A35: 43461 | B35: 140043 | C35: Limonade | D35: 3796 | E35: Gie Roxane Saint Amand | F35: Grosse rot. liquide | G35: 320 | H35: 0 | I35: 5 | J35: 43461 | K35: Problème de transporteur | L35: Livraison au lendemain
A36: 43461 | B36: 47 | C36: Cola zéro | D36: 3796 | E36: Gie Roxane Saint Amand | F36: Grosse rot. liquide | G36: 384 | H36: 0 | I36: 6 | J36: 43461 | K36: Problème de transporteur | L36: Livraison au lendemain
A37: 43461 | B37: 5608543 | C37: Elseve Shampooing Color Vive | D37: 4287 | E37: L'OREAL SA | F37: Famille appro gén. | G37: 300 | H37: 0 | J37: 43461 | K37: Aucune réponse | L37: Livraison au lendemain
A38: 43461 | B38: 3339 | C38: Mixa IPS Lait pour le corps | D38: 4287 | E38: L'OREAL SA | F38: DPH/Chienchat | G38: 70 | H38: 0 | I38: 1 | J38: 43461 | K38: Aucune réponse | L38: Livraison au lendemain
A39: 43461 | B39: 2449 | C39: Ultra doux Shampoo Avocat/Camomille | D39: 4287 | E39: L'OREAL SA | F39: DPH/Chienchat | G39: 120 | H39: 0 | I39: 1 | J39: 43461 | K39: Aucune réponse | L39: Livraison au lendemain
A40: 43461 | B40: 7500756 | C40: Dove Savon Crème | D40: 2131 | E40: Unilever France S.A.S. | F40: Sec | G40: 224 | H40: 0 | I40: 1 | J40: 43461 | K40: Aucune réponse | L40: Livraison au lendemain
A41: 43461 | B41: 5301 | C41: Axe déodorant spray | D41: 2131 | E41: Unilever France S.A.S. | F41: Sec | G41: 90 | H41: 0 | I41: 1 | J41: 43461 | K41: Aucune réponse | L41: Livraison au lendemain
A42: 43461 | B42: 4709 | C42: Signal Dentifrice anti-tartre | D42: 2131 | E42: Unilever France S.A.S. | F42: Sec | G42: 126 | H42: 0 | I42: 1 | J42: 43461 | K42: Aucune réponse | L42: Livraison au lendemain
A43: 43461 | B43: 97168 | C43: Coton-tiges x300 | D43: 334 | E43: LEMOINE France S.A.S. | F43: DPH/Chienchat | G43: 700 | H43: 0 | I43: 10 | J43: 43461 | K43: Problème de transporteur | L43: Livraison au lendemain
A44: 43461 | B44: 1708 | C44: Ravioli pur boeuf | D44: 2236 | E44: William Saurin | F44: Sec | G44: 252 | H44: 0 | I44: 3 | J44: 43461 | K44: Problème de transporteur | L44: Livraison au lendemain
A45: 43461 | B45: 1570 | C45: Ravioli pur boeuf | D45: 2236 | E45: William Saurin | F45: Sec | G45: 882 | H45: 0 | I45: 14 | J45: 43461 | K45: Problème de transporteur | L45: Livraison au lendemain
A46: 43461 | B46: 1569 | C46: Ravioli bolognaise | D46: 2236 | E46: William Saurin | F46: Sec | G46: 1008 | H46: 0 | I46: 16 | J46: 43461 | K46: Problème de transporteur | L46: Livraison au lendemain
A47: 43461 | B47: 607 | C47: Blédidej saveur vanille dès 6M | D47: 2270 | E47: Blédina S.A.S. | F47: Grosse rotation sec | G47: 13couches | H47: 0 | J47: 43461 | K47: Rupture | L47: Suppression cde
A48: 43461 | B48: 448 | C48: Gallia Calisma 2 (6 à 12 mois) | D48: 2270 | E48: Blédina S.A.S. | F48: Grosse rotation sec | G48: 45 | H48: 0 | I48: 1 | J48: 43461 | K48: Rupture | L48: Suppression cde
A49: 43461 | B49: 5608234 | C49: Maille Moutarde de Dijon Originale | D49: 2131 | E49: Unilever France S.A.S. | F49: Famille appro gén. | G49: 260 | H49: 0 | J49: 43461 | K49: Rupture | L49: Suppression cde
A50: 43461 | B50: 1004 | C50: Sucre morceaux n°4 | D50: 8015 | E50: Südzucker AG | F50: Grosse rot. liquide | G50: 46 | H50: 0 | I50: 0.055023923 | J50: 43454 | K50: Problème de transporteur | L50: Livraison au lendemain
A51: 43461 | B51: 10953 | C51: Huile de tournesol 3l-PET | D51: 1701 | E51: SOVENA ESPANA S.A.U. | F51: Grosse rot. liquide | G51: 66 | H51: 0 | I51: 33 | J51: 43461 | K51: Problème de transporteur | L51: Livraison au lendemain | M51: mail + 31/12
A52: 43461 | B52: 1102 | C52: Huile de tournesol | D52: 1701 | E52: SOVENA ESPANA S.A.U. | F52: Grosse rot. liquide | G52: 64 | H52: 0 | I52: 32 | J52: 43461 | K52: Problème de transporteur | L52: Livraison au lendemain | M52: mail + 31/12
A53: 43461 | B53: 10953 | C53: Huile de tournesol 3l-PET | D53: 1701 | E53: SOVENA ESPANA S.A.U. | F53: Grosse rot. liquide | G53: 66 | H53: 0 | I53: 33 | J53: 43461 | K53: Problème de transporteur | L53: Livraison au lendemain | M53: mail + 31/12
A54: 43461 | B54: 5607714 | C54: Oeufs plein air moyen/gros x 6 | D54: 8140 | E54: CDPO S.A.S.U. | F54: Ultra-sensible | G54: 180 | H54: 60 | I54: 2 | J54: 43461 | K54: Problème de production | L54: Suppression cde
A55: 43461 | B55: 5604626 | C55: Café moulu origine Pérou Bio | D55: 1839 | E55: Café Sati S.A. | F55: Sec | G55: 384 | H55: 0 | I55: 2 | J55: 43461 | K55: Aucune réponse | L55: Livraison au lendemain | M55: 43467
A56: 43461 | B56: 5872 | C56: FM Jambon supérieur TSR BBC 4T | D56: 3601 | E56: Fleury Michon LS S.A.S | F56: Frais quotidien | G56: 120 | H56: 60 | I56: 1 | J56: 43461 | K56: Rupture | L56: Suppression cde
A57: 43461 | B57: 5606862 | C57: Salades de céréales | D57: 6968 | E57: Mix'Buffet S.A.S.U. | F57: Ultra-sensible | G57: 56 | H57: 0 | I57: 1 | J57: 43461 | K57: Rupture | L57: Suppression cde
A58: 43461 | B58: 486 | C58: Petit brie | D58: 1015 | E58: Compagnie des | F58: Frais 2 x S | G58: 336 | H58: 0 | I58: 4 | J58: 43461 | K58: Problème de production | L58: Suppression cde
A59: 43461 | B59: 7161 | C59: Cordon bleu de poulet | D59: 2785 | E59: Arrivé S.A.S. | F59: Ultra-sensible | G59: 240 | H59: 160 | I59: 1 | J59: 43461 | K59: Problème de production | L59: Suppression cde
A60: 43461 | B60: 5607992 | C60: Pommes de terre à la Sarladaise | D60: 8086 | E60: XVB STEF LOG MIDI PYRENEES | F60: Surgelé 1x | G60: 72 | H60: 0 | J60: 43452 | K60: Aucune réponse | L60: Livraison au lendemain
A61: 43461 | B61: 336 | C61: Yaourt aux fruits | D61: 2070 | E61: T.M.A. Handelsgesellschaft | F61: K.L. | G61: 184 | H61: 0 | I61: 1 | J61: 43460 | K61: KL | L61: KL = MAZ
A62: 43460 | B62: 5606731 | C62: Poêlées assorties | D62: 8086 | E62: XVB STEF LOG MIDI PYRENEES | F62: Surgelé 1x | G62: 432 | H62: 0 | I62: 6 | J62: 43452 | K62: Problème de transporteur | L62: Livraison au lendemain
A63: 43460 | B63: 5602550 | C63: Crêpes jambon-emmental | D63: 8086 | E63: XVB STEF LOG MIDI PYRENEES | F63: Surgelé 1x | G63: 560 | H63: 0 | I63: 4 | J63: 43452 | K63: Problème de transporteur | L63: Livraison au lendemain
A64: 43460 | B64: 325 | C64: Fromage Blanc assorti | D64: 1326 | E64: Coopérative Agricole | F64: K.L. | G64: 448 | H64: 0 | I64: 4 | J64: 43460 | K64: KL | L64: Suppression cde
A65: 43460 | B65: 5457 | C65: Mouchoirs blancs 90 U 3 plis | D65: 849 | E65: CARTIERE CARRARA S.p.A. | F65: Sec | G65: 1980 | H65: 0 | I65: 33 | J65: 43453 | K65: Attente d'nformation | L65: Livraison au lendemain
A66: 43460 | B66: 5064 | C66: Salvetat Eau gazeuse | D66: 2120 | E66: Société Anonyme des Eaux | F66: Grosse rot. liquide | G66: 3465 | H66: 0 | I66: 33 | J66: 43458 | K66: Commande non-reçue | L66: Date ultérieure | M66: 43469
A67: 43460 | B67: 4136 | C67: Bière Premium Pils | D67: 5810 | E67: Brasserie Champigneulles SAS | F67: Grosse rotation sec | G67: 1200 | H67: 960 | I67: 4 | J67: 43453 | K67: Aucune réponse | L67: Suppression cde
A68: 43460 | B68: 108990 | C68: Margarine Omega 3 54% | D68: 2226 | E68: VANDEMOORTELE LIPIDS | F68: Frais 1 x S | G68: 72 | H68: 0 | I68: 1 | J68: 43460 | K68: Problème de transporteur | L68: Livraison au lendemain
A69: 43460 | B69: 320 | C69: Margarine de cuisson 70% mat | D69: 2226 | E69: VANDEMOORTELE LIPIDS | F69: Frais 1 x S | G69: 156 | H69: 0 | I69: 2 | J69: 43460 | K69: Problème de transporteur | L69: Livraison au lendemain
A70: 43460 | B70: 1004 | C70: Sucre morceaux n°4 | D70: 8015 | E70: Südzucker AG | F70: Grosse rot. liquide | G70: 19228 | H70: 0 | I70: 23 | J70: 43454 | K70: Aucune réponse | L70: MAIL + lendemain
A71: 43460 | B71: 10953 | C71: Huile de tournesol 3l-PET | D71: 1701 | E71: SOVENA ESPANA S.A.U. | F71: Grosse rot. liquide | G71: 66 | H71: 0 | I71: 33 | J71: 43455 | K71: Autre erreur | L71: Livraison au lendemain | M71: Espagne férié
A72: 43460 | B72: 90018 | C72: Pâtes cuisson rapide | D72: 4616 | E72: Pasta Zara S.p.A. | F72: Grosse rot. liquide | G72: 144 | H72: 72 | I72: 1 | J72: 43455 | K72: Aucune réponse | L72: Suppression cde
A73: 43460 | B73: 5703048 | C73: Sel fin de mer | D73: 1623 | E73: Compañía Española de | F73: DPH/Chienchat | G73: 1260 | H73: 0 | I73: 15 | J73: 43460 | K73: Autre erreur | L73: Livraison au lendemain | M73: Espagne férié
A74: 43460 | B74: 5703047 | C74: Gros sel de mer | D74: 1623 | E74: Compañía Española de | F74: DPH/Chienchat | G74: 900 | H74: 0 | I74: 10 | J74: 43460 | K74: Autre erreur | L74: Livraison au lendemain | M74: Espagne férie
A75: 43460 | B75: 11498 | C75: Blanc de dinde/poulet rôti | D75: 8232 | E75: Schwarz Cranz GmbH & Co. KG | F75: K.L. | G75: 182 | H75: 0 | I75: 1 | J75: 43460 | K75: KL | L75: Suppression cde
A76: 43460 | B76: 742 | C76: Poitrine fumée en tranches | D76: 8232 | E76: Schwarz Cranz GmbH & Co. KG | F76: K.L. | G76: 48 | H76: 0 | I76: 1 | J76: 43460 | K76: KL | L76: Suppression cde
A77: 43460 | B77: 379 | C77: Beurre 1/2 sel | D77: 6800 | E77: Loyez-Woessen S.A.S. | F77: Frais 1 x S | G77: 144 | H77: 0 | I77: 2 | J77: 43460 | K77: Rupture | L77: Date ultérieure | M77: 43463
A78: 43460 | B78: 5601831 | C78: M. en b. foie gras pomme/speculoos | D78: 705 | E78: Guyader Traiteur | F78: Frais quotidien | G78: 140 | H78: 0 | I78: 1 | J78: 43453 | K78: Problème de production | L78: Suppression cde
A79: 43460 | B79: 115151 | C79: Plume de lait | D79: 4937 | E79: EURIAL ULTRA FRAIS S.A.S.U. | F79: Frais 3 x S | G79: 352 | H79: 102 | I79: 2.8409091 | J79: 43460 | K79: Rupture | L79: Suppression cde
A80: 43460 | B80: 3300 | C80: Crème fraîche allégée 15 % | D80: 4937 | E80: EURIAL ULTRA FRAIS S.A.S.U. | F80: Frais 3 x S | G80: 1350 | H80: 1050 | I80: 2 | J80: 43460 | K80: Rupture | L80: Suppression cde
A81: 43460 | B81: 304 | C81: Crème fraîche épaisse 30% | D81: 4937 | E81: EURIAL ULTRA FRAIS S.A.S.U. | F81: Frais 3 x S | G81: 1500 | H81: 1050 | I81: 3 | J81: 43460 | K81: Rupture | L81: Suppression cde
A82: 43460 | B82: 383 | C82: Beurre doux extra fin | D82: 3309 | E82: Ets Philippe Charrier S.A.S. | F82: Frais 1 x S | G82: 99 | H82: 0 | I82: 1 | J82: 43460 | K82: Rupture | L82: Date ultérieure | M82: lvr 28/12
A83: 43460 | B83: 115352 | C83: Epinards à la crème fraîche | D83: 8086 | E83: XVB STEF LOG MIDI PYRENEES | F83: Surgelé 1x | G83: 378 | H83: 0 | I83: 6 | J83: 43460 | K83: Problème de transporteur | L83: Livraison au lendemain
A84: 43460 | B84: 2541 | C84: HARICOTS VERTS EXTRA FINS | D84: 8086 | E84: XVB STEF LOG MIDI PYRENEES | F84: Surgelé 1x | G84: 450 | H84: 0 | I84: 10 | J84: 43460 | K84: Problème de transporteur | L84: Livraison au lendemain
A85: 43460 | B85: 5607992 | C85: Pommes de terre à la Sarladaise | D85: 8086 | E85: XVB STEF LOG MIDI PYRENEES | F85: Surgelé 1x | G85: 72 | H85: 0 | J85: 43452 | K85: Problème de transporteur | L85: Livraison au lendemain
A86: 43460 | B86: 119232 | C86: Légumes pour Couscous Potage | D86: 8086 | E86: XVB STEF LOG MIDI PYRENEES | F86: Famille appro gén. | G86: 216 | H86: 0 | I86: 4 | J86: 43453 | K86: Aucune réponse | L86: MAIL + lendemain
A87: 43458 | B87: 119604 | C87: Sac en papier | D87: 1495 | E87: Papier-Mettler KG | F87: Kley. Arlon PS | G87: 120 | H87: 0 | I87: 5 | J87: 43458 | M87: 43460
A88: 43458 | B88: 5101 | C88: Sacs poubelle 100 L | D88: 4638 | E88: ProHa Produktion + | F88: Kley. Arlon PS | G88: 630 | H88: 0 | I88: 9 | J88: 43458 | M88: 43460
A89: 43458 | B89: 5171 | C89: Sacs poubelle poignées couli. 30L | D89: 4638 | E89: ProHa Produktion + | F89: Kley. Arlon PS | G89: 432 | H89: 0 | I89: 4 | J89: 43458 | M89: 43460
A90: 43458 | B90: 95400 | C90: Film étirable PVC 2 en 1 | D90: 4638 | E90: ProHa Produktion + | F90: Kley. Arlon PS | G90: 192 | H90: 0 | I90: 2 | J90: 43458 | M90: 43460
A91: 43458 | B91: 124101 | C91: Sacs poubelle avec poignées 50L | D91: 4638 | E91: ProHa Produktion + | F91: Kley. Arlon PS | G91: 600 | H91: 0 | I91: 10 | J91: 43458 | M91: 43460
A92: 43458 | B92: 97851 | C92: Bouchées chat sachet BA | D92: 5052 | E92: Tiernahrung Deuerer GmbH | F92: Kley. Algolsheim PS | G92: 256 | H92: 0 | I92: 4 | J92: 43458 | M92: 43460
A93: 43458 | B93: 55891 | C93: Sticks friandise pour chien | D93: 5052 | E93: Tiernahrung Deuerer GmbH | F93: Kley. Algolsheim PS | G93: 160 | H93: 0 | I93: 2 | J93: 43458 | M93: 43460
A94: 43458 | B94: 5483 | C94: Piles LR03 super alcaline | D94: 5210 | E94: Varta Consumer Batteries | F94: Kley. Algolsheim PS | G94: 352 | H94: 0 | I94: 2 | J94: 43458 | M94: 43460
A95: 43458 | B95: 5482 | C95: Piles LR6 super alcaline x8 | D95: 5210 | E95: Varta Consumer Batteries | F95: Kley. Algolsheim PS | G95: 176 | H95: 0 | I95: 1 | J95: 43458 | M95: 43460
A96: 43458 | B96: 5410 | C96: Filtre à café No. 4, x100 | D96: 1319 | E96: Melitta Europa GmbH & Co. KG | F96: Kley. Arlon PS | G96: 324 | H96: 0 | I96: 3 | J96: 43458 | M96: 43460
A97: 43458 | B97: 5293 | C97: Lingettes Démaquillantes/Nett. | D97: 1479 | E97: Nice-Pak | F97: Kley. Arlon PS | G97: 150 | H97: 0 | I97: 1 | J97: 43458 | M97: 43460
A98: 43458 | B98: 5311 | C98: Serviettes ultra Plus Aloé Véra&Avo | D98: 3832 | E98: HYSALMA Hygiene Sales | F98: Kley. Algolsheim PS | G98: 288 | H98: 0 | I98: 8 | J98: 43458 | M98: 43460
A99: 43458 | B99: 5306 | C99: Protège slips X32/45 Aloé/Avoc | D99: 3832 | E99: HYSALMA Hygiene Sales | F99: Kley. Algolsheim PS | G99: 280 | H99: 0 | I99: 7 | J99: 43458 | K99: Aucune réponse | M99: 43460
A100: 43458 | B100: 132742 | C100: Litière cristaux de sillicat | D100: 641 | E100: Futternapf Tiernahrung | F100: Kley. Arlon PS | G100: 96 | H100: 0 | I100: 2 | J100: 43458 | M100: 43460
...

Sheet Feuil2
D1: Occurrence par jour
B2: 102 | C2: =VLOOKUP(B2,Feuil1!$D:$E,2,FALSE) -> Brasserie de Saint Omer SAS
B3: 109 | C3: =VLOOKUP(B3,Feuil1!$D:$E,2,FALSE) -> Les Fromageries Occitanes
B4: 135 | C4: =VLOOKUP(B4,Feuil1!$D:$E,2,FALSE) -> Leimer KG
B5: 136 | C5: =VLOOKUP(B5,Feuil1!$D:$E,2,FALSE) -> Soup'idéale S.A.
B6: 254 | C6: =VLOOKUP(B6,Feuil1!$D:$E,2,FALSE) -> Melitta Europa GmbH & Co. KG
B7: 334 | C7: =VLOOKUP(B7,Feuil1!$D:$E,2,FALSE) -> LEMOINE France S.A.S.
B8: 337 | C8: =VLOOKUP(B8,Feuil1!$D:$E,2,FALSE) -> Johnson&Johnson
B9: 355 | C9: =VLOOKUP(B9,Feuil1!$D:$E,2,FALSE) -> Top Taste B.V.
B10: 378 | C10: =VLOOKUP(B10,Feuil1!$D:$E,2,FALSE) -> Refresco Deutschland GmbH
B11: 385 | C11: =VLOOKUP(B11,Feuil1!$D:$E,2,FALSE) -> Arla Foods Deutschland
B12: 388 | C12: =VLOOKUP(B12,Feuil1!$D:$E,2,FALSE) -> Mamminger Konserven GmbH &
B13: 465 | C13: =VLOOKUP(B13,Feuil1!$D:$E,2,FALSE) -> Saint Hubert
... B115: 8232 | C115: =VLOOKUP(B115,Feuil1!$D:$E,2,FALSE) -> Schwarz Cranz GmbH & Co. KG
