Workbook

Sheet JANV
A1: JOUR | D1: KM | M1: nbre de km total
A2: 43087 | D2: 1 | F2: =D2*E2 -> 0 | L2: =SUM(F2:K2) -> 0 | M2: =IF(D2="","",SUM(D$2:D2)) -> 1
A3: 43088 | D3: 2 | F3: =D3*E3 -> 0 | L3: =SUM(F3:K3) -> 0 | M3: =IF(D3="","",SUM(D$2:D3)) -> 3
A4: 43089 | D4: 52 | F4: =D4*E4 -> 0 | L4: =SUM(F4:K4) -> 0 | M4: =IF(D4="","",SUM(D$2:D4)) -> 55 | N4: comment additionner sur cette colonne les cellules de la colonne D
A5: 43090 | D5: 21 | F5: =D5*E5 -> 0 | L5: =SUM(F5:K5) -> 0 | M5: =IF(D5="","",SUM(D$2:D5)) -> 76
A6: 43091 | D6: 26 | F6: =D6*E6 -> 0 | L6: =SUM(F6:K6) -> 0 | M6: =IF(D6="","",SUM(D$2:D6)) -> 102
A7: 43092 | D7: 21 | F7: =D7*E7 -> 0 | L7: =SUM(F7:K7) -> 0 | M7: =IF(D7="","",SUM(D$2:D7)) -> 123
A8: 43093 | D8: 65 | F8: =D8*E8 -> 0 | L8: =SUM(F8:K8) -> 0 | M8: =IF(D8="","",SUM(D$2:D8)) -> 188
A9: 43094 | D9: 1 | F9: =D9*E9 -> 0 | L9: =SUM(F9:K9) -> 0 | M9: =IF(D9="","",SUM(D$2:D9)) -> 189
A10: 43095 | D10: 4 | F10: =D10*E10 -> 0 | L10: =SUM(F10:K10) -> 0 | M10: =IF(D10="","",SUM(D$2:D10)) -> 193
A11: 43096 | F11: =D11*E11 -> 0 | L11: =SUM(F11:K11) -> 0 | M11: =IF(D11="","",SUM(D$2:D11))
A12: 43097 | F12: =D12*E12 -> 0 | L12: =SUM(F12:K12) -> 0 | M12: =IF(D12="","",SUM(D$2:D12))
A13: 43098 | F13: =D13*E13 -> 0 | L13: =SUM(F13:K13) -> 0 | M13: =IF(D13="","",SUM(D$2:D13))
A14: 43099 | F14: =D14*E14 -> 0 | L14: =SUM(F14:K14) -> 0 | M14: =IF(D14="","",SUM(D$2:D14))
A15: 43100 | F15: =D15*E15 -> 0 | L15: =SUM(F15:K15) -> 0 | M15: =IF(D15="","",SUM(D$2:D15))
A16: 43101 | F16: =D16*E16 -> 0 | L16: =SUM(F16:K16) -> 0 | M16: =IF(D16="","",SUM(D$2:D16))
A17: 43102 | F17: =D17*E17 -> 0 | L17: =SUM(F17:K17) -> 0 | M17: =IF(D17="","",SUM(D$2:D17))
A18: 43103 | F18: =D18*E18 -> 0 | L18: =SUM(F18:K18) -> 0 | M18: =IF(D18="","",SUM(D$2:D18))
A19: 43104 | F19: =D19*E19 -> 0 | L19: =SUM(F19:K19) -> 0 | M19: =IF(D19="","",SUM(D$2:D19))
A20: 43105 | F20: =D20*E20 -> 0 | L20: =SUM(F20:K20) -> 0 | M20: =IF(D20="","",SUM(D$2:D20))
A21: 43106 | F21: =D21*E21 -> 0 | L21: =SUM(F21:K21) -> 0 | M21: =IF(D21="","",SUM(D$2:D21))
A22: 43107 | F22: =D22*E22 -> 0 | L22: =SUM(F22:K22) -> 0 | M22: =IF(D22="","",SUM(D$2:D22))
... A34: 43119 | F34: =D34*E34 -> 0 | L34: =SUM(F34:K34) -> 0 | M34: =IF(D34="","",SUM(D$2:D34))
A36: TOTAUX | C36: =SUM(C2:C34) -> 0 | D36: =SUM(D2:D34) -> 193 | F36: =SUM(F2:F34) -> 0 | G36: =SUM(G2:G34) -> 0 | H36: =SUM(H2:H34) -> 0 | I36: =SUM(I2:I34) -> 0 | J36: =SUM(J2:J34) -> 0 | K36: =SUM(K2:K34) -> 0 | L36: =SUM(L2:L34) -> 0
A38: Nom :
A39: N° :

Sheet Feuil1
A1: JOUR | D1: KM | M1: nbre de km total
A2: 43486 | D2: 1 | F2: =D2*E2 -> 0 | L2: =SUM(F2:K2) -> 0 | M2: =MAX(JANV!M:M)+IF(D2="","",SUM(D$2:D2)) -> 194
A3: 43487 | D3: 536 | F3: =D3*E3 -> 0 | L3: =SUM(F3:K3) -> 0 | M3: =MAX(JANV!M:M)+IF(D3="","",SUM(D$2:D3)) -> 730
A4: 43488 | D4: 52 | F4: =D4*E4 -> 0 | L4: =SUM(F4:K4) -> 0 | M4: =MAX(JANV!M:M)+IF(D4="","",SUM(D$2:D4)) -> 782
A5: 43489 | D5: 21 | F5: =D5*E5 -> 0 | L5: =SUM(F5:K5) -> 0 | M5: =MAX(JANV!M:M)+IF(D5="","",SUM(D$2:D5)) -> 803
A6: 43490 | D6: 26 | F6: =D6*E6 -> 0 | L6: =SUM(F6:K6) -> 0 | M6: =MAX(JANV!M:M)+IF(D6="","",SUM(D$2:D6)) -> 829
A7: 43491 | D7: 21 | F7: =D7*E7 -> 0 | L7: =SUM(F7:K7) -> 0 | M7: =MAX(JANV!M:M)+IF(D7="","",SUM(D$2:D7)) -> 850
A8: 43492 | D8: 65 | F8: =D8*E8 -> 0 | L8: =SUM(F8:K8) -> 0 | M8: =MAX(JANV!M:M)+IF(D8="","",SUM(D$2:D8)) -> 915
A9: 43493 | D9: 1 | F9: =D9*E9 -> 0 | L9: =SUM(F9:K9) -> 0 | M9: =MAX(JANV!M:M)+IF(D9="","",SUM(D$2:D9)) -> 916
A10: 43494 | D10: 4 | F10: =D10*E10 -> 0 | L10: =SUM(F10:K10) -> 0 | M10: =MAX(JANV!M:M)+IF(D10="","",SUM(D$2:D10)) -> 920
A11: 43495 | F11: =D11*E11 -> 0 | L11: =SUM(F11:K11) -> 0 | M11: =MAX(JANV!M:M)+IF(D11="","",SUM(D$2:D11)) -> #VALUE!
A12: 43496 | F12: =D12*E12 -> 0 | L12: =SUM(F12:K12) -> 0 | M12: =MAX(JANV!M:M)+IF(D12="","",SUM(D$2:D12)) -> #VALUE!
A13: 43497 | F13: =D13*E13 -> 0 | L13: =SUM(F13:K13) -> 0 | M13: =MAX(JANV!M:M)+IF(D13="","",SUM(D$2:D13)) -> #VALUE!
A14: 43498 | F14: =D14*E14 -> 0 | L14: =SUM(F14:K14) -> 0 | M14: =MAX(JANV!M:M)+IF(D14="","",SUM(D$2:D14)) -> #VALUE!
A15: 43499 | F15: =D15*E15 -> 0 | L15: =SUM(F15:K15) -> 0 | M15: =MAX(JANV!M:M)+IF(D15="","",SUM(D$2:D15)) -> #VALUE!
A16: 43500 | F16: =D16*E16 -> 0 | L16: =SUM(F16:K16) -> 0 | M16: =MAX(JANV!M:M)+IF(D16="","",SUM(D$2:D16)) -> #VALUE!
A17: 43501 | F17: =D17*E17 -> 0 | L17: =SUM(F17:K17) -> 0 | M17: =MAX(JANV!M:M)+IF(D17="","",SUM(D$2:D17)) -> #VALUE!
A18: 43502 | F18: =D18*E18 -> 0 | L18: =SUM(F18:K18) -> 0 | M18: =MAX(JANV!M:M)+IF(D18="","",SUM(D$2:D18)) -> #VALUE!
A19: 43503 | F19: =D19*E19 -> 0 | L19: =SUM(F19:K19) -> 0 | M19: =MAX(JANV!M:M)+IF(D19="","",SUM(D$2:D19)) -> #VALUE!
A20: 43504 | F20: =D20*E20 -> 0 | L20: =SUM(F20:K20) -> 0 | M20: =MAX(JANV!M:M)+IF(D20="","",SUM(D$2:D20)) -> #VALUE!
A21: 43505 | F21: =D21*E21 -> 0 | L21: =SUM(F21:K21) -> 0 | M21: =MAX(JANV!M:M)+IF(D21="","",SUM(D$2:D21)) -> #VALUE!
A22: 43506 | F22: =D22*E22 -> 0 | L22: =SUM(F22:K22) -> 0 | M22: =MAX(JANV!M:M)+IF(D22="","",SUM(D$2:D22)) -> #VALUE!
... A29: 43513 | F29: =D29*E29 -> 0 | L29: =SUM(F29:K29) -> 0 | M29: =MAX(JANV!M:M)+IF(D29="","",SUM(D$2:D29)) -> #VALUE!
A31: TOTAUX | C31: =SUM(C2:C29) -> 0 | D31: =SUM(D2:D29) -> 727 | F31: =SUM(F2:F29) -> 0 | G31: =SUM(G2:G29) -> 0 | H31: =SUM(H2:H29) -> 0 | I31: =SUM(I2:I29) -> 0 | J31: =SUM(J2:J29) -> 0 | K31: =SUM(K2:K29) -> 0 | L31: =SUM(L2:L29) -> 0
A33: Nom :
A34: N° :
