Workbook
Name ponderation: Paramètres!$D$2:$D$9

Sheet Hypotheses de départ
A1: Hypothèse 1
A4: Hypothèse 2
A7: Hypothèse 3
A10: Hypothèse 4
A13: Hypothèse 5
A16: Hypothèse 6
A19: Hypothèse 7
A22: Hypothèse 8
A25: Hypothèse 9
A28: Hypothèse 10

Sheet Paramètres
A1: Liste des critères | D1: Importance du critère | E1: Poids des critères | G1: Nom des produits / services
A2: N° du critère | B2: Nom du critère | G2: Produit 1
A3: 1 | B3: Critère 1 | D3: A - Exclus | E3: -1 | G3: Produit 2
A4: 2 | B4: Critère 2 | D4: B - Ne sait pas | E4: 0 | G4: Produit 3
A5: 3 | B5: Critère 3 | D5: C - Non significatif | E5: 1 | G5: Produit 4
A6: 4 | B6: Critère 4 | D6: D - Négligeable | E6: 2 | G6: Produit 5
A7: 5 | B7: Critère 5 | D7: E - Normal | E7: 3 | G7: Produit 6
A8: 6 | B8: Critère 6 | D8: F - Important | E8: 4 | G8: Produit 7
A9: 7 | B9: Critère 7 | D9: G - Très Important | E9: 5 | G9: Produit 8
A10: 8 | B10: Critère 8 | D10: H - Ne fait pas | E10: 0 | G10: Produit 9
A11: 9 | B11: Critère 9 | D11: I - Fait | E11: 5 | G11: Produit 10
A12: 10 | B12: Critère 10 | G12: Produit 11
A13: 11 | B13: Critère 11 | G13: Produit 12
A14: 12 | B14: Critère 12 | G14: Produit 13
A15: 13 | B15: Critère 13 | G15: Produit / service 14
A16: 14 | B16: Critère 14 | G16: Produit / service 15
A17: 15 | B17: Critère 15 | G17: Produit / service 16
A18: 16 | B18: Critère 16 | G18: Produit / service 17
A19: 17 | B19: Critère 17 | G19: Produit / service 18
A20: 18 | B20: Critère 18 | G20: Produit / service 19
A21: 19 | B21: Critère 19 | G21: Produit / service 20
A22: 20 | B22: Critère 20 | G22: Produit / service 21
A23: 21 | B23: Critère 21 | G23: Produit / service 22
A24: 22 | B24: Critère 22 | G24: Produit / service 23
A25: 23 | G25: Produit / service 24
A26: 24 | G26: Produit / service 25
A27: 25 | G27: Produit / service 26
A28: 26 | G28: Produit / service 27
A29: 27 | G29: Produit / service 28
A30: 28 | G30: Produit / service 29
A31: 29 | G31: Produit / service 30
A32: 30 | G32: Produit / service 31
A33: 31 | G33: Produit / service 32
A34: 32 | G34: Produit / service 33
A35: 33 | G35: Produit / service 34
A36: 34 | G36: Produit / service 35
... A51: 49 | G51: Produit / service 50
A52: 50

Sheet Données
A1: Top 5 | E1: Produits / services exclus
A2: 1 | C2: {=TRANSPOSE(Résultats!E5:I5)} -> Produit 3 | E2: =IF(OR(E$15="A - Exclus",E$16="A - Exclus",E$17="A - Exclus",E$18="A - Exclus",E$19="A - Exclus",E$20="A - Exclus",E$21="A - Exclus",E$22="A - Exclus",E$23="A - Exclus",E$24="A - Exclus",E$25="A - Exclus",E$26="A - Exclus",E$27="A - Exclus",E$28="A - Exclus",E$29="A - Exclus",E$30="A - Exclus",E$31="A - Exclus",E$32="A - Exclus",E$33="A - Exclus",E$34="A - Exclus",E$35="A - Exclus",E$36="A - Exclus",E$37="A - Exclus",E$38="A - Exclus",E$39="A - Exclus",E$40="A - Exclus",E$41="A - Exclus",E$42="A - Exclus",E$43="A - Exclus",E$44="A - Exclus",E$45="A - Exclus",E$46="A - Exclus",E$47="A - Exclus",E$48="A - Exclus",E$49="A - Exclus",E$50="A - Exclus",E$51="A - Exclus",E$52="A - Exclus",E$53="A - Exclus",E$54="A - Exclus",E$55="A - Exclus",E$56="A - Exclus",E$57="A - Exclus",E$58="A - Exclus",E$59="A - Exclus",E$60="A - Exclus",E$61="A - Exclus",E$62="A - Exclus",E$63="A - Exclus",E$64),E$13,"") | F2: =IF(OR(F$15="A - Exclus",F$16="A - Exclus",F$17="A - Exclus",F$18="A - Exclus",F$19="A - Exclus",F$20="A - Exclus",F$21="A - Exclus",F$22="A - Exclus",F$23="A - Exclus",F$24="A - Exclus",F$25="A - Exclus",F$26="A - Exclus",F$27="A - Exclus",F$28="A - Exclus",F$29="A - Exclus",F$30="A - Exclus",F$31="A - Exclus",F$32="A - Exclus",F$33="A - Exclus",F$34="A - Exclus",F$35="A - Exclus",F$36="A - Exclus",F$37="A - Exclus",F$38="A - Exclus",F$39="A - Exclus",F$40="A - Exclus",F$41="A - Exclus",F$42="A - Exclus",F$43="A - Exclus",F$44="A - Exclus",F$45="A - Exclus",F$46="A - Exclus",F$47="A - Exclus",F$48="A - Exclus",F$49="A - Exclus",F$50="A - Exclus",F$51="A - Exclus",F$52="A - Exclus",F$53="A - Exclus",F$54="A - Exclus",F$55="A - Exclus",F$56="A - Exclus",F$57="A - Exclus",F$58="A - Exclus",F$59="A - Exclus",F$60="A - Exclus",F$61="A - Exclus",F$62="A - Exclus",F$63="A - Exclus",F$64),F$13,"") | G2: =IF(OR(G$15="A - Exclus",G$16="A - Exclus",G$17="A - Exclus",G$18="A - Exclus",G$19="A - Exclus",G$20="A - Exclus",G$21="A - Exclus",G$22="A - Exclus",G$23="A - Exclus",G$24="A - Exclus",G$25="A - Exclus",G$26="A - Exclus",G$27="A - Exclus",G$28="A - Exclus",G$29="A - Exclus",G$30="A - Exclus",G$31="A - Exclus",G$32="A - Exclus",G$33="A - Exclus",G$34="A - Exclus",G$35="A - Exclus",G$36="A - Exclus",G$37="A - Exclus",G$38="A - Exclus",G$39="A - Exclus",G$40="A - Exclus",G$41="A - Exclus",G$42="A - Exclus",G$43="A - Exclus",G$44="A - Exclus",G$45="A - Exclus",G$46="A - Exclus",G$47="A - Exclus",G$48="A - Exclus",G$49="A - Exclus",G$50="A - Exclus",G$51="A - Exclus",G$52="A - Exclus",G$53="A - Exclus",G$54="A - Exclus",G$55="A - Exclus",G$56="A - Exclus",G$57="A - Exclus",G$58="A - Exclus",G$59="A - Exclus",G$60="A - Exclus",G$61="A - Exclus",G$62="A - Exclus",G$63="A - Exclus",G$64),G$13,"") | H2: =IF(OR(H$15="A - Exclus",H$16="A - Exclus",H$17="A - Exclus",H$18="A - Exclus",H$19="A - Exclus",H$20="A - Exclus",H$21="A - Exclus",H$22="A - Exclus",H$23="A - Exclus",H$24="A - Exclus",H$25="A - Exclus",H$26="A - Exclus",H$27="A - Exclus",H$28="A - Exclus",H$29="A - Exclus",H$30="A - Exclus",H$31="A - Exclus",H$32="A - Exclus",H$33="A - Exclus",H$34="A - Exclus",H$35="A - Exclus",H$36="A - Exclus",H$37="A - Exclus",H$38="A - Exclus",H$39="A - Exclus",H$40="A - Exclus",H$41="A - Exclus",H$42="A - Exclus",H$43="A - Exclus",H$44="A - Exclus",H$45="A - Exclus",H$46="A - Exclus",H$47="A - Exclus",H$48="A - Exclus",H$49="A - Exclus",H$50="A - Exclus",H$51="A - Exclus",H$52="A - Exclus",H$53="A - Exclus",H$54="A - Exclus",H$55="A - Exclus",H$56="A - Exclus",H$57="A - Exclus",H$58="A - Exclus",H$59="A - Exclus",H$60="A - Exclus",H$61="A - Exclus",H$62="A - Exclus",H$63="A - Exclus",H$64),H$13,"") | I2: =IF(OR(I$15="A - Exclus",I$16="A - Exclus",I$17="A - Exclus",I$18="A - Exclus",I$19="A - Exclus",I$20="A - Exclus",I$21="A - Exclus",I$22="A - Exclus",I$23="A - Exclus",I$24="A - Exclus",I$25="A - Exclus",I$26="A - Exclus",I$27="A - Exclus",I$28="A - Exclus",I$29="A - Exclus",I$30="A - Exclus",I$31="A - Exclus",I$32="A - Exclus",I$33="A - Exclus",I$34="A - Exclus",I$35="A - Exclus",I$36="A - Exclus",I$37="A - Exclus",I$38="A - Exclus",I$39="A - Exclus",I$40="A - Exclus",I$41="A - Exclus",I$42="A - Exclus",I$43="A - Exclus",I$44="A - Exclus",I$45="A - Exclus",I$46="A - Exclus",I$47="A - Exclus",I$48="A - Exclus",I$49="A - Exclus",I$50="A - Exclus",I$51="A - Exclus",I$52="A - Exclus",I$53="A - Exclus",I$54="A - Exclus",I$55="A - Exclus",I$56="A - Exclus",I$57="A - Exclus",I$58="A - Exclus",I$59="A - Exclus",I$60="A - Exclus",I$61="A - Exclus",I$62="A - Exclus",I$63="A - Exclus",I$64),I$13,"") | J2: =IF(OR(J$15="A - Exclus",J$16="A - Exclus",J$17="A - Exclus",J$18="A - Exclus",J$19="A - Exclus",J$20="A - Exclus",J$21="A - Exclus",J$22="A - Exclus",J$23="A - Exclus",J$24="A - Exclus",J$25="A - Exclus",J$26="A - Exclus",J$27="A - Exclus",J$28="A - Exclus",J$29="A - Exclus",J$30="A - Exclus",J$31="A - Exclus",J$32="A - Exclus",J$33="A - Exclus",J$34="A - Exclus",J$35="A - Exclus",J$36="A - Exclus",J$37="A - Exclus",J$38="A - Exclus",J$39="A - Exclus",J$40="A - Exclus",J$41="A - Exclus",J$42="A - Exclus",J$43="A - Exclus",J$44="A - Exclus",J$45="A - Exclus",J$46="A - Exclus",J$47="A - Exclus",J$48="A - Exclus",J$49="A - Exclus",J$50="A - Exclus",J$51="A - Exclus",J$52="A - Exclus",J$53="A - Exclus",J$54="A - Exclus",J$55="A - Exclus",J$56="A - Exclus",J$57="A - Exclus",J$58="A - Exclus",J$59="A - Exclus",J$60="A - Exclus",J$61="A - Exclus",J$62="A - Exclus",J$63="A - Exclus",J$64),J$13,"")
A3: 2 | C3: Produit 1 | E3: =IF(OR(K$15="A - Exclus",K$16="A - Exclus",K$17="A - Exclus",K$18="A - Exclus",K$19="A - Exclus",K$20="A - Exclus",K$21="A - Exclus",K$22="A - Exclus",K$23="A - Exclus",K$24="A - Exclus",K$25="A - Exclus",K$26="A - Exclus",K$27="A - Exclus",K$28="A - Exclus",K$29="A - Exclus",K$30="A - Exclus",K$31="A - Exclus",K$32="A - Exclus",K$33="A - Exclus",K$34="A - Exclus",K$35="A - Exclus",K$36="A - Exclus",K$37="A - Exclus",K$38="A - Exclus",K$39="A - Exclus",K$40="A - Exclus",K$41="A - Exclus",K$42="A - Exclus",K$43="A - Exclus",K$44="A - Exclus",K$45="A - Exclus",K$46="A - Exclus",K$47="A - Exclus",K$48="A - Exclus",K$49="A - Exclus",K$50="A - Exclus",K$51="A - Exclus",K$52="A - Exclus",K$53="A - Exclus",K$54="A - Exclus",K$55="A - Exclus",K$56="A - Exclus",K$57="A - Exclus",K$58="A - Exclus",K$59="A - Exclus",K$60="A - Exclus",K$61="A - Exclus",K$62="A - Exclus",K$63="A - Exclus",K$64),K$13,"") | F3: =IF(OR(L$15="A - Exclus",L$16="A - Exclus",L$17="A - Exclus",L$18="A - Exclus",L$19="A - Exclus",L$20="A - Exclus",L$21="A - Exclus",L$22="A - Exclus",L$23="A - Exclus",L$24="A - Exclus",L$25="A - Exclus",L$26="A - Exclus",L$27="A - Exclus",L$28="A - Exclus",L$29="A - Exclus",L$30="A - Exclus",L$31="A - Exclus",L$32="A - Exclus",L$33="A - Exclus",L$34="A - Exclus",L$35="A - Exclus",L$36="A - Exclus",L$37="A - Exclus",L$38="A - Exclus",L$39="A - Exclus",L$40="A - Exclus",L$41="A - Exclus",L$42="A - Exclus",L$43="A - Exclus",L$44="A - Exclus",L$45="A - Exclus",L$46="A - Exclus",L$47="A - Exclus",L$48="A - Exclus",L$49="A - Exclus",L$50="A - Exclus",L$51="A - Exclus",L$52="A - Exclus",L$53="A - Exclus",L$54="A - Exclus",L$55="A - Exclus",L$56="A - Exclus",L$57="A - Exclus",L$58="A - Exclus",L$59="A - Exclus",L$60="A - Exclus",L$61="A - Exclus",L$62="A - Exclus",L$63="A - Exclus",L$64),L$13,"") | G3: =IF(OR(M$15="A - Exclus",M$16="A - Exclus",M$17="A - Exclus",M$18="A - Exclus",M$19="A - Exclus",M$20="A - Exclus",M$21="A - Exclus",M$22="A - Exclus",M$23="A - Exclus",M$24="A - Exclus",M$25="A - Exclus",M$26="A - Exclus",M$27="A - Exclus",M$28="A - Exclus",M$29="A - Exclus",M$30="A - Exclus",M$31="A - Exclus",M$32="A - Exclus",M$33="A - Exclus",M$34="A - Exclus",M$35="A - Exclus",M$36="A - Exclus",M$37="A - Exclus",M$38="A - Exclus",M$39="A - Exclus",M$40="A - Exclus",M$41="A - Exclus",M$42="A - Exclus",M$43="A - Exclus",M$44="A - Exclus",M$45="A - Exclus",M$46="A - Exclus",M$47="A - Exclus",M$48="A - Exclus",M$49="A - Exclus",M$50="A - Exclus",M$51="A - Exclus",M$52="A - Exclus",M$53="A - Exclus",M$54="A - Exclus",M$55="A - Exclus",M$56="A - Exclus",M$57="A - Exclus",M$58="A - Exclus",M$59="A - Exclus",M$60="A - Exclus",M$61="A - Exclus",M$62="A - Exclus",M$63="A - Exclus",M$64),M$13,"") | H3: =IF(OR(N$15="A - Exclus",N$16="A - Exclus",N$17="A - Exclus",N$18="A - Exclus",N$19="A - Exclus",N$20="A - Exclus",N$21="A - Exclus",N$22="A - Exclus",N$23="A - Exclus",N$24="A - Exclus",N$25="A - Exclus",N$26="A - Exclus",N$27="A - Exclus",N$28="A - Exclus",N$29="A - Exclus",N$30="A - Exclus",N$31="A - Exclus",N$32="A - Exclus",N$33="A - Exclus",N$34="A - Exclus",N$35="A - Exclus",N$36="A - Exclus",N$37="A - Exclus",N$38="A - Exclus",N$39="A - Exclus",N$40="A - Exclus",N$41="A - Exclus",N$42="A - Exclus",N$43="A - Exclus",N$44="A - Exclus",N$45="A - Exclus",N$46="A - Exclus",N$47="A - Exclus",N$48="A - Exclus",N$49="A - Exclus",N$50="A - Exclus",N$51="A - Exclus",N$52="A - Exclus",N$53="A - Exclus",N$54="A - Exclus",N$55="A - Exclus",N$56="A - Exclus",N$57="A - Exclus",N$58="A - Exclus",N$59="A - Exclus",N$60="A - Exclus",N$61="A - Exclus",N$62="A - Exclus",N$63="A - Exclus",N$64),N$13,"") | I3: =IF(OR(O$15="A - Exclus",O$16="A - Exclus",O$17="A - Exclus",O$18="A - Exclus",O$19="A - Exclus",O$20="A - Exclus",O$21="A - Exclus",O$22="A - Exclus",O$23="A - Exclus",O$24="A - Exclus",O$25="A - Exclus",O$26="A - Exclus",O$27="A - Exclus",O$28="A - Exclus",O$29="A - Exclus",O$30="A - Exclus",O$31="A - Exclus",O$32="A - Exclus",O$33="A - Exclus",O$34="A - Exclus",O$35="A - Exclus",O$36="A - Exclus",O$37="A - Exclus",O$38="A - Exclus",O$39="A - Exclus",O$40="A - Exclus",O$41="A - Exclus",O$42="A - Exclus",O$43="A - Exclus",O$44="A - Exclus",O$45="A - Exclus",O$46="A - Exclus",O$47="A - Exclus",O$48="A - Exclus",O$49="A - Exclus",O$50="A - Exclus",O$51="A - Exclus",O$52="A - Exclus",O$53="A - Exclus",O$54="A - Exclus",O$55="A - Exclus",O$56="A - Exclus",O$57="A - Exclus",O$58="A - Exclus",O$59="A - Exclus",O$60="A - Exclus",O$61="A - Exclus",O$62="A - Exclus",O$63="A - Exclus",O$64),O$13,"") | J3: =IF(OR(P$15="A - Exclus",P$16="A - Exclus",P$17="A - Exclus",P$18="A - Exclus",P$19="A - Exclus",P$20="A - Exclus",P$21="A - Exclus",P$22="A - Exclus",P$23="A - Exclus",P$24="A - Exclus",P$25="A - Exclus",P$26="A - Exclus",P$27="A - Exclus",P$28="A - Exclus",P$29="A - Exclus",P$30="A - Exclus",P$31="A - Exclus",P$32="A - Exclus",P$33="A - Exclus",P$34="A - Exclus",P$35="A - Exclus",P$36="A - Exclus",P$37="A - Exclus",P$38="A - Exclus",P$39="A - Exclus",P$40="A - Exclus",P$41="A - Exclus",P$42="A - Exclus",P$43="A - Exclus",P$44="A - Exclus",P$45="A - Exclus",P$46="A - Exclus",P$47="A - Exclus",P$48="A - Exclus",P$49="A - Exclus",P$50="A - Exclus",P$51="A - Exclus",P$52="A - Exclus",P$53="A - Exclus",P$54="A - Exclus",P$55="A - Exclus",P$56="A - Exclus",P$57="A - Exclus",P$58="A - Exclus",P$59="A - Exclus",P$60="A - Exclus",P$61="A - Exclus",P$62="A - Exclus",P$63="A - Exclus",P$64),P$13,"")
A4: 3 | C4: Produit 1 | E4: =IF(OR(Q$15="A - Exclus",Q$16="A - Exclus",Q$17="A - Exclus",Q$18="A - Exclus",Q$19="A - Exclus",Q$20="A - Exclus",Q$21="A - Exclus",Q$22="A - Exclus",Q$23="A - Exclus",Q$24="A - Exclus",Q$25="A - Exclus",Q$26="A - Exclus",Q$27="A - Exclus",Q$28="A - Exclus",Q$29="A - Exclus",Q$30="A - Exclus",Q$31="A - Exclus",Q$32="A - Exclus",Q$33="A - Exclus",Q$34="A - Exclus",Q$35="A - Exclus",Q$36="A - Exclus",Q$37="A - Exclus",Q$38="A - Exclus",Q$39="A - Exclus",Q$40="A - Exclus",Q$41="A - Exclus",Q$42="A - Exclus",Q$43="A - Exclus",Q$44="A - Exclus",Q$45="A - Exclus",Q$46="A - Exclus",Q$47="A - Exclus",Q$48="A - Exclus",Q$49="A - Exclus",Q$50="A - Exclus",Q$51="A - Exclus",Q$52="A - Exclus",Q$53="A - Exclus",Q$54="A - Exclus",Q$55="A - Exclus",Q$56="A - Exclus",Q$57="A - Exclus",Q$58="A - Exclus",Q$59="A - Exclus",Q$60="A - Exclus",Q$61="A - Exclus",Q$62="A - Exclus",Q$63="A - Exclus",Q$64),Q$13,"") | F4: =IF(OR(R$15="A - Exclus",R$16="A - Exclus",R$17="A - Exclus",R$18="A - Exclus",R$19="A - Exclus",R$20="A - Exclus",R$21="A - Exclus",R$22="A - Exclus",R$23="A - Exclus",R$24="A - Exclus",R$25="A - Exclus",R$26="A - Exclus",R$27="A - Exclus",R$28="A - Exclus",R$29="A - Exclus",R$30="A - Exclus",R$31="A - Exclus",R$32="A - Exclus",R$33="A - Exclus",R$34="A - Exclus",R$35="A - Exclus",R$36="A - Exclus",R$37="A - Exclus",R$38="A - Exclus",R$39="A - Exclus",R$40="A - Exclus",R$41="A - Exclus",R$42="A - Exclus",R$43="A - Exclus",R$44="A - Exclus",R$45="A - Exclus",R$46="A - Exclus",R$47="A - Exclus",R$48="A - Exclus",R$49="A - Exclus",R$50="A - Exclus",R$51="A - Exclus",R$52="A - Exclus",R$53="A - Exclus",R$54="A - Exclus",R$55="A - Exclus",R$56="A - Exclus",R$57="A - Exclus",R$58="A - Exclus",R$59="A - Exclus",R$60="A - Exclus",R$61="A - Exclus",R$62="A - Exclus",R$63="A - Exclus",R$64),R$13,"") | G4: =IF(OR(S$15="A - Exclus",S$16="A - Exclus",S$17="A - Exclus",S$18="A - Exclus",S$19="A - Exclus",S$20="A - Exclus",S$21="A - Exclus",S$22="A - Exclus",S$23="A - Exclus",S$24="A - Exclus",S$25="A - Exclus",S$26="A - Exclus",S$27="A - Exclus",S$28="A - Exclus",S$29="A - Exclus",S$30="A - Exclus",S$31="A - Exclus",S$32="A - Exclus",S$33="A - Exclus",S$34="A - Exclus",S$35="A - Exclus",S$36="A - Exclus",S$37="A - Exclus",S$38="A - Exclus",S$39="A - Exclus",S$40="A - Exclus",S$41="A - Exclus",S$42="A - Exclus",S$43="A - Exclus",S$44="A - Exclus",S$45="A - Exclus",S$46="A - Exclus",S$47="A - Exclus",S$48="A - Exclus",S$49="A - Exclus",S$50="A - Exclus",S$51="A - Exclus",S$52="A - Exclus",S$53="A - Exclus",S$54="A - Exclus",S$55="A - Exclus",S$56="A - Exclus",S$57="A - Exclus",S$58="A - Exclus",S$59="A - Exclus",S$60="A - Exclus",S$61="A - Exclus",S$62="A - Exclus",S$63="A - Exclus",S$64),S$13,"") | H4: =IF(OR(T$15="A - Exclus",T$16="A - Exclus",T$17="A - Exclus",T$18="A - Exclus",T$19="A - Exclus",T$20="A - Exclus",T$21="A - Exclus",T$22="A - Exclus",T$23="A - Exclus",T$24="A - Exclus",T$25="A - Exclus",T$26="A - Exclus",T$27="A - Exclus",T$28="A - Exclus",T$29="A - Exclus",T$30="A - Exclus",T$31="A - Exclus",T$32="A - Exclus",T$33="A - Exclus",T$34="A - Exclus",T$35="A - Exclus",T$36="A - Exclus",T$37="A - Exclus",T$38="A - Exclus",T$39="A - Exclus",T$40="A - Exclus",T$41="A - Exclus",T$42="A - Exclus",T$43="A - Exclus",T$44="A - Exclus",T$45="A - Exclus",T$46="A - Exclus",T$47="A - Exclus",T$48="A - Exclus",T$49="A - Exclus",T$50="A - Exclus",T$51="A - Exclus",T$52="A - Exclus",T$53="A - Exclus",T$54="A - Exclus",T$55="A - Exclus",T$56="A - Exclus",T$57="A - Exclus",T$58="A - Exclus",T$59="A - Exclus",T$60="A - Exclus",T$61="A - Exclus",T$62="A - Exclus",T$63="A - Exclus",T$64),T$13,"") | I4: =IF(OR(U$15="A - Exclus",U$16="A - Exclus",U$17="A - Exclus",U$18="A - Exclus",U$19="A - Exclus",U$20="A - Exclus",U$21="A - Exclus",U$22="A - Exclus",U$23="A - Exclus",U$24="A - Exclus",U$25="A - Exclus",U$26="A - Exclus",U$27="A - Exclus",U$28="A - Exclus",U$29="A - Exclus",U$30="A - Exclus",U$31="A - Exclus",U$32="A - Exclus",U$33="A - Exclus",U$34="A - Exclus",U$35="A - Exclus",U$36="A - Exclus",U$37="A - Exclus",U$38="A - Exclus",U$39="A - Exclus",U$40="A - Exclus",U$41="A - Exclus",U$42="A - Exclus",U$43="A - Exclus",U$44="A - Exclus",U$45="A - Exclus",U$46="A - Exclus",U$47="A - Exclus",U$48="A - Exclus",U$49="A - Exclus",U$50="A - Exclus",U$51="A - Exclus",U$52="A - Exclus",U$53="A - Exclus",U$54="A - Exclus",U$55="A - Exclus",U$56="A - Exclus",U$57="A - Exclus",U$58="A - Exclus",U$59="A - Exclus",U$60="A - Exclus",U$61="A - Exclus",U$62="A - Exclus",U$63="A - Exclus",U$64),U$13,"") | J4: =IF(OR(V$15="A - Exclus",V$16="A - Exclus",V$17="A - Exclus",V$18="A - Exclus",V$19="A - Exclus",V$20="A - Exclus",V$21="A - Exclus",V$22="A - Exclus",V$23="A - Exclus",V$24="A - Exclus",V$25="A - Exclus",V$26="A - Exclus",V$27="A - Exclus",V$28="A - Exclus",V$29="A - Exclus",V$30="A - Exclus",V$31="A - Exclus",V$32="A - Exclus",V$33="A - Exclus",V$34="A - Exclus",V$35="A - Exclus",V$36="A - Exclus",V$37="A - Exclus",V$38="A - Exclus",V$39="A - Exclus",V$40="A - Exclus",V$41="A - Exclus",V$42="A - Exclus",V$43="A - Exclus",V$44="A - Exclus",V$45="A - Exclus",V$46="A - Exclus",V$47="A - Exclus",V$48="A - Exclus",V$49="A - Exclus",V$50="A - Exclus",V$51="A - Exclus",V$52="A - Exclus",V$53="A - Exclus",V$54="A - Exclus",V$55="A - Exclus",V$56="A - Exclus",V$57="A - Exclus",V$58="A - Exclus",V$59="A - Exclus",V$60="A - Exclus",V$61="A - Exclus",V$62="A - Exclus",V$63="A - Exclus",V$64),V$13,"")
A5: 4 | E5: =IF(OR(W$15="A - Exclus",W$16="A - Exclus",W$17="A - Exclus",W$18="A - Exclus",W$19="A - Exclus",W$20="A - Exclus",W$21="A - Exclus",W$22="A - Exclus",W$23="A - Exclus",W$24="A - Exclus",W$25="A - Exclus",W$26="A - Exclus",W$27="A - Exclus",W$28="A - Exclus",W$29="A - Exclus",W$30="A - Exclus",W$31="A - Exclus",W$32="A - Exclus",W$33="A - Exclus",W$34="A - Exclus",W$35="A - Exclus",W$36="A - Exclus",W$37="A - Exclus",W$38="A - Exclus",W$39="A - Exclus",W$40="A - Exclus",W$41="A - Exclus",W$42="A - Exclus",W$43="A - Exclus",W$44="A - Exclus",W$45="A - Exclus",W$46="A - Exclus",W$47="A - Exclus",W$48="A - Exclus",W$49="A - Exclus",W$50="A - Exclus",W$51="A - Exclus",W$52="A - Exclus",W$53="A - Exclus",W$54="A - Exclus",W$55="A - Exclus",W$56="A - Exclus",W$57="A - Exclus",W$58="A - Exclus",W$59="A - Exclus",W$60="A - Exclus",W$61="A - Exclus",W$62="A - Exclus",W$63="A - Exclus",W$64),W$13,"") | F5: =IF(OR(X$15="A - Exclus",X$16="A - Exclus",X$17="A - Exclus",X$18="A - Exclus",X$19="A - Exclus",X$20="A - Exclus",X$21="A - Exclus",X$22="A - Exclus",X$23="A - Exclus",X$24="A - Exclus",X$25="A - Exclus",X$26="A - Exclus",X$27="A - Exclus",X$28="A - Exclus",X$29="A - Exclus",X$30="A - Exclus",X$31="A - Exclus",X$32="A - Exclus",X$33="A - Exclus",X$34="A - Exclus",X$35="A - Exclus",X$36="A - Exclus",X$37="A - Exclus",X$38="A - Exclus",X$39="A - Exclus",X$40="A - Exclus",X$41="A - Exclus",X$42="A - Exclus",X$43="A - Exclus",X$44="A - Exclus",X$45="A - Exclus",X$46="A - Exclus",X$47="A - Exclus",X$48="A - Exclus",X$49="A - Exclus",X$50="A - Exclus",X$51="A - Exclus",X$52="A - Exclus",X$53="A - Exclus",X$54="A - Exclus",X$55="A - Exclus",X$56="A - Exclus",X$57="A - Exclus",X$58="A - Exclus",X$59="A - Exclus",X$60="A - Exclus",X$61="A - Exclus",X$62="A - Exclus",X$63="A - Exclus",X$64),X$13,"") | G5: =IF(OR(Y$15="A - Exclus",Y$16="A - Exclus",Y$17="A - Exclus",Y$18="A - Exclus",Y$19="A - Exclus",Y$20="A - Exclus",Y$21="A - Exclus",Y$22="A - Exclus",Y$23="A - Exclus",Y$24="A - Exclus",Y$25="A - Exclus",Y$26="A - Exclus",Y$27="A - Exclus",Y$28="A - Exclus",Y$29="A - Exclus",Y$30="A - Exclus",Y$31="A - Exclus",Y$32="A - Exclus",Y$33="A - Exclus",Y$34="A - Exclus",Y$35="A - Exclus",Y$36="A - Exclus",Y$37="A - Exclus",Y$38="A - Exclus",Y$39="A - Exclus",Y$40="A - Exclus",Y$41="A - Exclus",Y$42="A - Exclus",Y$43="A - Exclus",Y$44="A - Exclus",Y$45="A - Exclus",Y$46="A - Exclus",Y$47="A - Exclus",Y$48="A - Exclus",Y$49="A - Exclus",Y$50="A - Exclus",Y$51="A - Exclus",Y$52="A - Exclus",Y$53="A - Exclus",Y$54="A - Exclus",Y$55="A - Exclus",Y$56="A - Exclus",Y$57="A - Exclus",Y$58="A - Exclus",Y$59="A - Exclus",Y$60="A - Exclus",Y$61="A - Exclus",Y$62="A - Exclus",Y$63="A - Exclus",Y$64),Y$13,"") | H5: =IF(OR(Z$15="A - Exclus",Z$16="A - Exclus",Z$17="A - Exclus",Z$18="A - Exclus",Z$19="A - Exclus",Z$20="A - Exclus",Z$21="A - Exclus",Z$22="A - Exclus",Z$23="A - Exclus",Z$24="A - Exclus",Z$25="A - Exclus",Z$26="A - Exclus",Z$27="A - Exclus",Z$28="A - Exclus",Z$29="A - Exclus",Z$30="A - Exclus",Z$31="A - Exclus",Z$32="A - Exclus",Z$33="A - Exclus",Z$34="A - Exclus",Z$35="A - Exclus",Z$36="A - Exclus",Z$37="A - Exclus",Z$38="A - Exclus",Z$39="A - Exclus",Z$40="A - Exclus",Z$41="A - Exclus",Z$42="A - Exclus",Z$43="A - Exclus",Z$44="A - Exclus",Z$45="A - Exclus",Z$46="A - Exclus",Z$47="A - Exclus",Z$48="A - Exclus",Z$49="A - Exclus",Z$50="A - Exclus",Z$51="A - Exclus",Z$52="A - Exclus",Z$53="A - Exclus",Z$54="A - Exclus",Z$55="A - Exclus",Z$56="A - Exclus",Z$57="A - Exclus",Z$58="A - Exclus",Z$59="A - Exclus",Z$60="A - Exclus",Z$61="A - Exclus",Z$62="A - Exclus",Z$63="A - Exclus",Z$64),Z$13,"") | I5: =IF(OR(AA$15="A - Exclus",AA$16="A - Exclus",AA$17="A - Exclus",AA$18="A - Exclus",AA$19="A - Exclus",AA$20="A - Exclus",AA$21="A - Exclus",AA$22="A - Exclus",AA$23="A - Exclus",AA$24="A - Exclus",AA$25="A - Exclus",AA$26="A - Exclus",AA$27="A - Exclus",AA$28="A - Exclus",AA$29="A - Exclus",AA$30="A - Exclus",AA$31="A - Exclus",AA$32="A - Exclus",AA$33="A - Exclus",AA$34="A - Exclus",AA$35="A - Exclus",AA$36="A - Exclus",AA$37="A - Exclus",AA$38="A - Exclus",AA$39="A - Exclus",AA$40="A - Exclus",AA$41="A - Exclus",AA$42="A - Exclus",AA$43="A - Exclus",AA$44="A - Exclus",AA$45="A - Exclus",AA$46="A - Exclus",AA$47="A - Exclus",AA$48="A - Exclus",AA$49="A - Exclus",AA$50="A - Exclus",AA$51="A - Exclus",AA$52="A - Exclus",AA$53="A - Exclus",AA$54="A - Exclus",AA$55="A - Exclus",AA$56="A - Exclus",AA$57="A - Exclus",AA$58="A - Exclus",AA$59="A - Exclus",AA$60="A - Exclus",AA$61="A - Exclus",AA$62="A - Exclus",AA$63="A - Exclus",AA$64),AA$13,"") | J5: =IF(OR(AB$15="A - Exclus",AB$16="A - Exclus",AB$17="A - Exclus",AB$18="A - Exclus",AB$19="A - Exclus",AB$20="A - Exclus",AB$21="A - Exclus",AB$22="A - Exclus",AB$23="A - Exclus",AB$24="A - Exclus",AB$25="A - Exclus",AB$26="A - Exclus",AB$27="A - Exclus",AB$28="A - Exclus",AB$29="A - Exclus",AB$30="A - Exclus",AB$31="A - Exclus",AB$32="A - Exclus",AB$33="A - Exclus",AB$34="A - Exclus",AB$35="A - Exclus",AB$36="A - Exclus",AB$37="A - Exclus",AB$38="A - Exclus",AB$39="A - Exclus",AB$40="A - Exclus",AB$41="A - Exclus",AB$42="A - Exclus",AB$43="A - Exclus",AB$44="A - Exclus",AB$45="A - Exclus",AB$46="A - Exclus",AB$47="A - Exclus",AB$48="A - Exclus",AB$49="A - Exclus",AB$50="A - Exclus",AB$51="A - Exclus",AB$52="A - Exclus",AB$53="A - Exclus",AB$54="A - Exclus",AB$55="A - Exclus",AB$56="A - Exclus",AB$57="A - Exclus",AB$58="A - Exclus",AB$59="A - Exclus",AB$60="A - Exclus",AB$61="A - Exclus",AB$62="A - Exclus",AB$63="A - Exclus",AB$64),AB$13,"")
A6: 5 | E6: =IF(OR(AC$15="A - Exclus",AC$16="A - Exclus",AC$17="A - Exclus",AC$18="A - Exclus",AC$19="A - Exclus",AC$20="A - Exclus",AC$21="A - Exclus",AC$22="A - Exclus",AC$23="A - Exclus",AC$24="A - Exclus",AC$25="A - Exclus",AC$26="A - Exclus",AC$27="A - Exclus",AC$28="A - Exclus",AC$29="A - Exclus",AC$30="A - Exclus",AC$31="A - Exclus",AC$32="A - Exclus",AC$33="A - Exclus",AC$34="A - Exclus",AC$35="A - Exclus",AC$36="A - Exclus",AC$37="A - Exclus",AC$38="A - Exclus",AC$39="A - Exclus",AC$40="A - Exclus",AC$41="A - Exclus",AC$42="A - Exclus",AC$43="A - Exclus",AC$44="A - Exclus",AC$45="A - Exclus",AC$46="A - Exclus",AC$47="A - Exclus",AC$48="A - Exclus",AC$49="A - Exclus",AC$50="A - Exclus",AC$51="A - Exclus",AC$52="A - Exclus",AC$53="A - Exclus",AC$54="A - Exclus",AC$55="A - Exclus",AC$56="A - Exclus",AC$57="A - Exclus",AC$58="A - Exclus",AC$59="A - Exclus",AC$60="A - Exclus",AC$61="A - Exclus",AC$62="A - Exclus",AC$63="A - Exclus",AC$64),AC$13,"") | F6: =IF(OR(AD$15="A - Exclus",AD$16="A - Exclus",AD$17="A - Exclus",AD$18="A - Exclus",AD$19="A - Exclus",AD$20="A - Exclus",AD$21="A - Exclus",AD$22="A - Exclus",AD$23="A - Exclus",AD$24="A - Exclus",AD$25="A - Exclus",AD$26="A - Exclus",AD$27="A - Exclus",AD$28="A - Exclus",AD$29="A - Exclus",AD$30="A - Exclus",AD$31="A - Exclus",AD$32="A - Exclus",AD$33="A - Exclus",AD$34="A - Exclus",AD$35="A - Exclus",AD$36="A - Exclus",AD$37="A - Exclus",AD$38="A - Exclus",AD$39="A - Exclus",AD$40="A - Exclus",AD$41="A - Exclus",AD$42="A - Exclus",AD$43="A - Exclus",AD$44="A - Exclus",AD$45="A - Exclus",AD$46="A - Exclus",AD$47="A - Exclus",AD$48="A - Exclus",AD$49="A - Exclus",AD$50="A - Exclus",AD$51="A - Exclus",AD$52="A - Exclus",AD$53="A - Exclus",AD$54="A - Exclus",AD$55="A - Exclus",AD$56="A - Exclus",AD$57="A - Exclus",AD$58="A - Exclus",AD$59="A - Exclus",AD$60="A - Exclus",AD$61="A - Exclus",AD$62="A - Exclus",AD$63="A - Exclus",AD$64),AD$13,"") | G6: =IF(OR(AE$15="A - Exclus",AE$16="A - Exclus",AE$17="A - Exclus",AE$18="A - Exclus",AE$19="A - Exclus",AE$20="A - Exclus",AE$21="A - Exclus",AE$22="A - Exclus",AE$23="A - Exclus",AE$24="A - Exclus",AE$25="A - Exclus",AE$26="A - Exclus",AE$27="A - Exclus",AE$28="A - Exclus",AE$29="A - Exclus",AE$30="A - Exclus",AE$31="A - Exclus",AE$32="A - Exclus",AE$33="A - Exclus",AE$34="A - Exclus",AE$35="A - Exclus",AE$36="A - Exclus",AE$37="A - Exclus",AE$38="A - Exclus",AE$39="A - Exclus",AE$40="A - Exclus",AE$41="A - Exclus",AE$42="A - Exclus",AE$43="A - Exclus",AE$44="A - Exclus",AE$45="A - Exclus",AE$46="A - Exclus",AE$47="A - Exclus",AE$48="A - Exclus",AE$49="A - Exclus",AE$50="A - Exclus",AE$51="A - Exclus",AE$52="A - Exclus",AE$53="A - Exclus",AE$54="A - Exclus",AE$55="A - Exclus",AE$56="A - Exclus",AE$57="A - Exclus",AE$58="A - Exclus",AE$59="A - Exclus",AE$60="A - Exclus",AE$61="A - Exclus",AE$62="A - Exclus",AE$63="A - Exclus",AE$64),AE$13,"") | H6: =IF(OR(AF$15="A - Exclus",AF$16="A - Exclus",AF$17="A - Exclus",AF$18="A - Exclus",AF$19="A - Exclus",AF$20="A - Exclus",AF$21="A - Exclus",AF$22="A - Exclus",AF$23="A - Exclus",AF$24="A - Exclus",AF$25="A - Exclus",AF$26="A - Exclus",AF$27="A - Exclus",AF$28="A - Exclus",AF$29="A - Exclus",AF$30="A - Exclus",AF$31="A - Exclus",AF$32="A - Exclus",AF$33="A - Exclus",AF$34="A - Exclus",AF$35="A - Exclus",AF$36="A - Exclus",AF$37="A - Exclus",AF$38="A - Exclus",AF$39="A - Exclus",AF$40="A - Exclus",AF$41="A - Exclus",AF$42="A - Exclus",AF$43="A - Exclus",AF$44="A - Exclus",AF$45="A - Exclus",AF$46="A - Exclus",AF$47="A - Exclus",AF$48="A - Exclus",AF$49="A - Exclus",AF$50="A - Exclus",AF$51="A - Exclus",AF$52="A - Exclus",AF$53="A - Exclus",AF$54="A - Exclus",AF$55="A - Exclus",AF$56="A - Exclus",AF$57="A - Exclus",AF$58="A - Exclus",AF$59="A - Exclus",AF$60="A - Exclus",AF$61="A - Exclus",AF$62="A - Exclus",AF$63="A - Exclus",AF$64),AF$13,"") | I6: =IF(OR(AG$15="A - Exclus",AG$16="A - Exclus",AG$17="A - Exclus",AG$18="A - Exclus",AG$19="A - Exclus",AG$20="A - Exclus",AG$21="A - Exclus",AG$22="A - Exclus",AG$23="A - Exclus",AG$24="A - Exclus",AG$25="A - Exclus",AG$26="A - Exclus",AG$27="A - Exclus",AG$28="A - Exclus",AG$29="A - Exclus",AG$30="A - Exclus",AG$31="A - Exclus",AG$32="A - Exclus",AG$33="A - Exclus",AG$34="A - Exclus",AG$35="A - Exclus",AG$36="A - Exclus",AG$37="A - Exclus",AG$38="A - Exclus",AG$39="A - Exclus",AG$40="A - Exclus",AG$41="A - Exclus",AG$42="A - Exclus",AG$43="A - Exclus",AG$44="A - Exclus",AG$45="A - Exclus",AG$46="A - Exclus",AG$47="A - Exclus",AG$48="A - Exclus",AG$49="A - Exclus",AG$50="A - Exclus",AG$51="A - Exclus",AG$52="A - Exclus",AG$53="A - Exclus",AG$54="A - Exclus",AG$55="A - Exclus",AG$56="A - Exclus",AG$57="A - Exclus",AG$58="A - Exclus",AG$59="A - Exclus",AG$60="A - Exclus",AG$61="A - Exclus",AG$62="A - Exclus",AG$63="A - Exclus",AG$64),AG$13,"") | J6: =IF(OR(AH$15="A - Exclus",AH$16="A - Exclus",AH$17="A - Exclus",AH$18="A - Exclus",AH$19="A - Exclus",AH$20="A - Exclus",AH$21="A - Exclus",AH$22="A - Exclus",AH$23="A - Exclus",AH$24="A - Exclus",AH$25="A - Exclus",AH$26="A - Exclus",AH$27="A - Exclus",AH$28="A - Exclus",AH$29="A - Exclus",AH$30="A - Exclus",AH$31="A - Exclus",AH$32="A - Exclus",AH$33="A - Exclus",AH$34="A - Exclus",AH$35="A - Exclus",AH$36="A - Exclus",AH$37="A - Exclus",AH$38="A - Exclus",AH$39="A - Exclus",AH$40="A - Exclus",AH$41="A - Exclus",AH$42="A - Exclus",AH$43="A - Exclus",AH$44="A - Exclus",AH$45="A - Exclus",AH$46="A - Exclus",AH$47="A - Exclus",AH$48="A - Exclus",AH$49="A - Exclus",AH$50="A - Exclus",AH$51="A - Exclus",AH$52="A - Exclus",AH$53="A - Exclus",AH$54="A - Exclus",AH$55="A - Exclus",AH$56="A - Exclus",AH$57="A - Exclus",AH$58="A - Exclus",AH$59="A - Exclus",AH$60="A - Exclus",AH$61="A - Exclus",AH$62="A - Exclus",AH$63="A - Exclus",AH$64),AH$13,"")
E7: =IF(OR(AI$15="A - Exclus",AI$16="A - Exclus",AI$17="A - Exclus",AI$18="A - Exclus",AI$19="A - Exclus",AI$20="A - Exclus",AI$21="A - Exclus",AI$22="A - Exclus",AI$23="A - Exclus",AI$24="A - Exclus",AI$25="A - Exclus",AI$26="A - Exclus",AI$27="A - Exclus",AI$28="A - Exclus",AI$29="A - Exclus",AI$30="A - Exclus",AI$31="A - Exclus",AI$32="A - Exclus",AI$33="A - Exclus",AI$34="A - Exclus",AI$35="A - Exclus",AI$36="A - Exclus",AI$37="A - Exclus",AI$38="A - Exclus",AI$39="A - Exclus",AI$40="A - Exclus",AI$41="A - Exclus",AI$42="A - Exclus",AI$43="A - Exclus",AI$44="A - Exclus",AI$45="A - Exclus",AI$46="A - Exclus",AI$47="A - Exclus",AI$48="A - Exclus",AI$49="A - Exclus",AI$50="A - Exclus",AI$51="A - Exclus",AI$52="A - Exclus",AI$53="A - Exclus",AI$54="A - Exclus",AI$55="A - Exclus",AI$56="A - Exclus",AI$57="A - Exclus",AI$58="A - Exclus",AI$59="A - Exclus",AI$60="A - Exclus",AI$61="A - Exclus",AI$62="A - Exclus",AI$63="A - Exclus",AI$64),AI$13,"") | F7: =IF(OR(AJ$15="A - Exclus",AJ$16="A - Exclus",AJ$17="A - Exclus",AJ$18="A - Exclus",AJ$19="A - Exclus",AJ$20="A - Exclus",AJ$21="A - Exclus",AJ$22="A - Exclus",AJ$23="A - Exclus",AJ$24="A - Exclus",AJ$25="A - Exclus",AJ$26="A - Exclus",AJ$27="A - Exclus",AJ$28="A - Exclus",AJ$29="A - Exclus",AJ$30="A - Exclus",AJ$31="A - Exclus",AJ$32="A - Exclus",AJ$33="A - Exclus",AJ$34="A - Exclus",AJ$35="A - Exclus",AJ$36="A - Exclus",AJ$37="A - Exclus",AJ$38="A - Exclus",AJ$39="A - Exclus",AJ$40="A - Exclus",AJ$41="A - Exclus",AJ$42="A - Exclus",AJ$43="A - Exclus",AJ$44="A - Exclus",AJ$45="A - Exclus",AJ$46="A - Exclus",AJ$47="A - Exclus",AJ$48="A - Exclus",AJ$49="A - Exclus",AJ$50="A - Exclus",AJ$51="A - Exclus",AJ$52="A - Exclus",AJ$53="A - Exclus",AJ$54="A - Exclus",AJ$55="A - Exclus",AJ$56="A - Exclus",AJ$57="A - Exclus",AJ$58="A - Exclus",AJ$59="A - Exclus",AJ$60="A - Exclus",AJ$61="A - Exclus",AJ$62="A - Exclus",AJ$63="A - Exclus",AJ$64),AJ$13,"") | G7: =IF(OR(AK$15="A - Exclus",AK$16="A - Exclus",AK$17="A - Exclus",AK$18="A - Exclus",AK$19="A - Exclus",AK$20="A - Exclus",AK$21="A - Exclus",AK$22="A - Exclus",AK$23="A - Exclus",AK$24="A - Exclus",AK$25="A - Exclus",AK$26="A - Exclus",AK$27="A - Exclus",AK$28="A - Exclus",AK$29="A - Exclus",AK$30="A - Exclus",AK$31="A - Exclus",AK$32="A - Exclus",AK$33="A - Exclus",AK$34="A - Exclus",AK$35="A - Exclus",AK$36="A - Exclus",AK$37="A - Exclus",AK$38="A - Exclus",AK$39="A - Exclus",AK$40="A - Exclus",AK$41="A - Exclus",AK$42="A - Exclus",AK$43="A - Exclus",AK$44="A - Exclus",AK$45="A - Exclus",AK$46="A - Exclus",AK$47="A - Exclus",AK$48="A - Exclus",AK$49="A - Exclus",AK$50="A - Exclus",AK$51="A - Exclus",AK$52="A - Exclus",AK$53="A - Exclus",AK$54="A - Exclus",AK$55="A - Exclus",AK$56="A - Exclus",AK$57="A - Exclus",AK$58="A - Exclus",AK$59="A - Exclus",AK$60="A - Exclus",AK$61="A - Exclus",AK$62="A - Exclus",AK$63="A - Exclus",AK$64),AK$13,"") | H7: =IF(OR(AL$15="A - Exclus",AL$16="A - Exclus",AL$17="A - Exclus",AL$18="A - Exclus",AL$19="A - Exclus",AL$20="A - Exclus",AL$21="A - Exclus",AL$22="A - Exclus",AL$23="A - Exclus",AL$24="A - Exclus",AL$25="A - Exclus",AL$26="A - Exclus",AL$27="A - Exclus",AL$28="A - Exclus",AL$29="A - Exclus",AL$30="A - Exclus",AL$31="A - Exclus",AL$32="A - Exclus",AL$33="A - Exclus",AL$34="A - Exclus",AL$35="A - Exclus",AL$36="A - Exclus",AL$37="A - Exclus",AL$38="A - Exclus",AL$39="A - Exclus",AL$40="A - Exclus",AL$41="A - Exclus",AL$42="A - Exclus",AL$43="A - Exclus",AL$44="A - Exclus",AL$45="A - Exclus",AL$46="A - Exclus",AL$47="A - Exclus",AL$48="A - Exclus",AL$49="A - Exclus",AL$50="A - Exclus",AL$51="A - Exclus",AL$52="A - Exclus",AL$53="A - Exclus",AL$54="A - Exclus",AL$55="A - Exclus",AL$56="A - Exclus",AL$57="A - Exclus",AL$58="A - Exclus",AL$59="A - Exclus",AL$60="A - Exclus",AL$61="A - Exclus",AL$62="A - Exclus",AL$63="A - Exclus",AL$64),AL$13,"") | I7: =IF(OR(AM$15="A - Exclus",AM$16="A - Exclus",AM$17="A - Exclus",AM$18="A - Exclus",AM$19="A - Exclus",AM$20="A - Exclus",AM$21="A - Exclus",AM$22="A - Exclus",AM$23="A - Exclus",AM$24="A - Exclus",AM$25="A - Exclus",AM$26="A - Exclus",AM$27="A - Exclus",AM$28="A - Exclus",AM$29="A - Exclus",AM$30="A - Exclus",AM$31="A - Exclus",AM$32="A - Exclus",AM$33="A - Exclus",AM$34="A - Exclus",AM$35="A - Exclus",AM$36="A - Exclus",AM$37="A - Exclus",AM$38="A - Exclus",AM$39="A - Exclus",AM$40="A - Exclus",AM$41="A - Exclus",AM$42="A - Exclus",AM$43="A - Exclus",AM$44="A - Exclus",AM$45="A - Exclus",AM$46="A - Exclus",AM$47="A - Exclus",AM$48="A - Exclus",AM$49="A - Exclus",AM$50="A - Exclus",AM$51="A - Exclus",AM$52="A - Exclus",AM$53="A - Exclus",AM$54="A - Exclus",AM$55="A - Exclus",AM$56="A - Exclus",AM$57="A - Exclus",AM$58="A - Exclus",AM$59="A - Exclus",AM$60="A - Exclus",AM$61="A - Exclus",AM$62="A - Exclus",AM$63="A - Exclus",AM$64),AM$13,"") | J7: =IF(OR(AN$15="A - Exclus",AN$16="A - Exclus",AN$17="A - Exclus",AN$18="A - Exclus",AN$19="A - Exclus",AN$20="A - Exclus",AN$21="A - Exclus",AN$22="A - Exclus",AN$23="A - Exclus",AN$24="A - Exclus",AN$25="A - Exclus",AN$26="A - Exclus",AN$27="A - Exclus",AN$28="A - Exclus",AN$29="A - Exclus",AN$30="A - Exclus",AN$31="A - Exclus",AN$32="A - Exclus",AN$33="A - Exclus",AN$34="A - Exclus",AN$35="A - Exclus",AN$36="A - Exclus",AN$37="A - Exclus",AN$38="A - Exclus",AN$39="A - Exclus",AN$40="A - Exclus",AN$41="A - Exclus",AN$42="A - Exclus",AN$43="A - Exclus",AN$44="A - Exclus",AN$45="A - Exclus",AN$46="A - Exclus",AN$47="A - Exclus",AN$48="A - Exclus",AN$49="A - Exclus",AN$50="A - Exclus",AN$51="A - Exclus",AN$52="A - Exclus",AN$53="A - Exclus",AN$54="A - Exclus",AN$55="A - Exclus",AN$56="A - Exclus",AN$57="A - Exclus",AN$58="A - Exclus",AN$59="A - Exclus",AN$60="A - Exclus",AN$61="A - Exclus",AN$62="A - Exclus",AN$63="A - Exclus",AN$64),AN$13,"")
E8: =IF(OR(AO$15="A - Exclus",AO$16="A - Exclus",AO$17="A - Exclus",AO$18="A - Exclus",AO$19="A - Exclus",AO$20="A - Exclus",AO$21="A - Exclus",AO$22="A - Exclus",AO$23="A - Exclus",AO$24="A - Exclus",AO$25="A - Exclus",AO$26="A - Exclus",AO$27="A - Exclus",AO$28="A - Exclus",AO$29="A - Exclus",AO$30="A - Exclus",AO$31="A - Exclus",AO$32="A - Exclus",AO$33="A - Exclus",AO$34="A - Exclus",AO$35="A - Exclus",AO$36="A - Exclus",AO$37="A - Exclus",AO$38="A - Exclus",AO$39="A - Exclus",AO$40="A - Exclus",AO$41="A - Exclus",AO$42="A - Exclus",AO$43="A - Exclus",AO$44="A - Exclus",AO$45="A - Exclus",AO$46="A - Exclus",AO$47="A - Exclus",AO$48="A - Exclus",AO$49="A - Exclus",AO$50="A - Exclus",AO$51="A - Exclus",AO$52="A - Exclus",AO$53="A - Exclus",AO$54="A - Exclus",AO$55="A - Exclus",AO$56="A - Exclus",AO$57="A - Exclus",AO$58="A - Exclus",AO$59="A - Exclus",AO$60="A - Exclus",AO$61="A - Exclus",AO$62="A - Exclus",AO$63="A - Exclus",AO$64),AO$13,"") | F8: =IF(OR(AP$15="A - Exclus",AP$16="A - Exclus",AP$17="A - Exclus",AP$18="A - Exclus",AP$19="A - Exclus",AP$20="A - Exclus",AP$21="A - Exclus",AP$22="A - Exclus",AP$23="A - Exclus",AP$24="A - Exclus",AP$25="A - Exclus",AP$26="A - Exclus",AP$27="A - Exclus",AP$28="A - Exclus",AP$29="A - Exclus",AP$30="A - Exclus",AP$31="A - Exclus",AP$32="A - Exclus",AP$33="A - Exclus",AP$34="A - Exclus",AP$35="A - Exclus",AP$36="A - Exclus",AP$37="A - Exclus",AP$38="A - Exclus",AP$39="A - Exclus",AP$40="A - Exclus",AP$41="A - Exclus",AP$42="A - Exclus",AP$43="A - Exclus",AP$44="A - Exclus",AP$45="A - Exclus",AP$46="A - Exclus",AP$47="A - Exclus",AP$48="A - Exclus",AP$49="A - Exclus",AP$50="A - Exclus",AP$51="A - Exclus",AP$52="A - Exclus",AP$53="A - Exclus",AP$54="A - Exclus",AP$55="A - Exclus",AP$56="A - Exclus",AP$57="A - Exclus",AP$58="A - Exclus",AP$59="A - Exclus",AP$60="A - Exclus",AP$61="A - Exclus",AP$62="A - Exclus",AP$63="A - Exclus",AP$64),AP$13,"") | G8: =IF(OR(AQ$15="A - Exclus",AQ$16="A - Exclus",AQ$17="A - Exclus",AQ$18="A - Exclus",AQ$19="A - Exclus",AQ$20="A - Exclus",AQ$21="A - Exclus",AQ$22="A - Exclus",AQ$23="A - Exclus",AQ$24="A - Exclus",AQ$25="A - Exclus",AQ$26="A - Exclus",AQ$27="A - Exclus",AQ$28="A - Exclus",AQ$29="A - Exclus",AQ$30="A - Exclus",AQ$31="A - Exclus",AQ$32="A - Exclus",AQ$33="A - Exclus",AQ$34="A - Exclus",AQ$35="A - Exclus",AQ$36="A - Exclus",AQ$37="A - Exclus",AQ$38="A - Exclus",AQ$39="A - Exclus",AQ$40="A - Exclus",AQ$41="A - Exclus",AQ$42="A - Exclus",AQ$43="A - Exclus",AQ$44="A - Exclus",AQ$45="A - Exclus",AQ$46="A - Exclus",AQ$47="A - Exclus",AQ$48="A - Exclus",AQ$49="A - Exclus",AQ$50="A - Exclus",AQ$51="A - Exclus",AQ$52="A - Exclus",AQ$53="A - Exclus",AQ$54="A - Exclus",AQ$55="A - Exclus",AQ$56="A - Exclus",AQ$57="A - Exclus",AQ$58="A - Exclus",AQ$59="A - Exclus",AQ$60="A - Exclus",AQ$61="A - Exclus",AQ$62="A - Exclus",AQ$63="A - Exclus",AQ$64),AQ$13,"") | H8: =IF(OR(AR$15="A - Exclus",AR$16="A - Exclus",AR$17="A - Exclus",AR$18="A - Exclus",AR$19="A - Exclus",AR$20="A - Exclus",AR$21="A - Exclus",AR$22="A - Exclus",AR$23="A - Exclus",AR$24="A - Exclus",AR$25="A - Exclus",AR$26="A - Exclus",AR$27="A - Exclus",AR$28="A - Exclus",AR$29="A - Exclus",AR$30="A - Exclus",AR$31="A - Exclus",AR$32="A - Exclus",AR$33="A - Exclus",AR$34="A - Exclus",AR$35="A - Exclus",AR$36="A - Exclus",AR$37="A - Exclus",AR$38="A - Exclus",AR$39="A - Exclus",AR$40="A - Exclus",AR$41="A - Exclus",AR$42="A - Exclus",AR$43="A - Exclus",AR$44="A - Exclus",AR$45="A - Exclus",AR$46="A - Exclus",AR$47="A - Exclus",AR$48="A - Exclus",AR$49="A - Exclus",AR$50="A - Exclus",AR$51="A - Exclus",AR$52="A - Exclus",AR$53="A - Exclus",AR$54="A - Exclus",AR$55="A - Exclus",AR$56="A - Exclus",AR$57="A - Exclus",AR$58="A - Exclus",AR$59="A - Exclus",AR$60="A - Exclus",AR$61="A - Exclus",AR$62="A - Exclus",AR$63="A - Exclus",AR$64),AR$13,"") | I8: =IF(OR(AS$15="A - Exclus",AS$16="A - Exclus",AS$17="A - Exclus",AS$18="A - Exclus",AS$19="A - Exclus",AS$20="A - Exclus",AS$21="A - Exclus",AS$22="A - Exclus",AS$23="A - Exclus",AS$24="A - Exclus",AS$25="A - Exclus",AS$26="A - Exclus",AS$27="A - Exclus",AS$28="A - Exclus",AS$29="A - Exclus",AS$30="A - Exclus",AS$31="A - Exclus",AS$32="A - Exclus",AS$33="A - Exclus",AS$34="A - Exclus",AS$35="A - Exclus",AS$36="A - Exclus",AS$37="A - Exclus",AS$38="A - Exclus",AS$39="A - Exclus",AS$40="A - Exclus",AS$41="A - Exclus",AS$42="A - Exclus",AS$43="A - Exclus",AS$44="A - Exclus",AS$45="A - Exclus",AS$46="A - Exclus",AS$47="A - Exclus",AS$48="A - Exclus",AS$49="A - Exclus",AS$50="A - Exclus",AS$51="A - Exclus",AS$52="A - Exclus",AS$53="A - Exclus",AS$54="A - Exclus",AS$55="A - Exclus",AS$56="A - Exclus",AS$57="A - Exclus",AS$58="A - Exclus",AS$59="A - Exclus",AS$60="A - Exclus",AS$61="A - Exclus",AS$62="A - Exclus",AS$63="A - Exclus",AS$64),AS$13,"") | J8: =IF(OR(AT$15="A - Exclus",AT$16="A - Exclus",AT$17="A - Exclus",AT$18="A - Exclus",AT$19="A - Exclus",AT$20="A - Exclus",AT$21="A - Exclus",AT$22="A - Exclus",AT$23="A - Exclus",AT$24="A - Exclus",AT$25="A - Exclus",AT$26="A - Exclus",AT$27="A - Exclus",AT$28="A - Exclus",AT$29="A - Exclus",AT$30="A - Exclus",AT$31="A - Exclus",AT$32="A - Exclus",AT$33="A - Exclus",AT$34="A - Exclus",AT$35="A - Exclus",AT$36="A - Exclus",AT$37="A - Exclus",AT$38="A - Exclus",AT$39="A - Exclus",AT$40="A - Exclus",AT$41="A - Exclus",AT$42="A - Exclus",AT$43="A - Exclus",AT$44="A - Exclus",AT$45="A - Exclus",AT$46="A - Exclus",AT$47="A - Exclus",AT$48="A - Exclus",AT$49="A - Exclus",AT$50="A - Exclus",AT$51="A - Exclus",AT$52="A - Exclus",AT$53="A - Exclus",AT$54="A - Exclus",AT$55="A - Exclus",AT$56="A - Exclus",AT$57="A - Exclus",AT$58="A - Exclus",AT$59="A - Exclus",AT$60="A - Exclus",AT$61="A - Exclus",AT$62="A - Exclus",AT$63="A - Exclus",AT$64),AT$13,"")
E9: =IF(OR(AU$15="A - Exclus",AU$16="A - Exclus",AU$17="A - Exclus",AU$18="A - Exclus",AU$19="A - Exclus",AU$20="A - Exclus",AU$21="A - Exclus",AU$22="A - Exclus",AU$23="A - Exclus",AU$24="A - Exclus",AU$25="A - Exclus",AU$26="A - Exclus",AU$27="A - Exclus",AU$28="A - Exclus",AU$29="A - Exclus",AU$30="A - Exclus",AU$31="A - Exclus",AU$32="A - Exclus",AU$33="A - Exclus",AU$34="A - Exclus",AU$35="A - Exclus",AU$36="A - Exclus",AU$37="A - Exclus",AU$38="A - Exclus",AU$39="A - Exclus",AU$40="A - Exclus",AU$41="A - Exclus",AU$42="A - Exclus",AU$43="A - Exclus",AU$44="A - Exclus",AU$45="A - Exclus",AU$46="A - Exclus",AU$47="A - Exclus",AU$48="A - Exclus",AU$49="A - Exclus",AU$50="A - Exclus",AU$51="A - Exclus",AU$52="A - Exclus",AU$53="A - Exclus",AU$54="A - Exclus",AU$55="A - Exclus",AU$56="A - Exclus",AU$57="A - Exclus",AU$58="A - Exclus",AU$59="A - Exclus",AU$60="A - Exclus",AU$61="A - Exclus",AU$62="A - Exclus",AU$63="A - Exclus",AU$64),AU$13,"") | F9: =IF(OR(AV$15="A - Exclus",AV$16="A - Exclus",AV$17="A - Exclus",AV$18="A - Exclus",AV$19="A - Exclus",AV$20="A - Exclus",AV$21="A - Exclus",AV$22="A - Exclus",AV$23="A - Exclus",AV$24="A - Exclus",AV$25="A - Exclus",AV$26="A - Exclus",AV$27="A - Exclus",AV$28="A - Exclus",AV$29="A - Exclus",AV$30="A - Exclus",AV$31="A - Exclus",AV$32="A - Exclus",AV$33="A - Exclus",AV$34="A - Exclus",AV$35="A - Exclus",AV$36="A - Exclus",AV$37="A - Exclus",AV$38="A - Exclus",AV$39="A - Exclus",AV$40="A - Exclus",AV$41="A - Exclus",AV$42="A - Exclus",AV$43="A - Exclus",AV$44="A - Exclus",AV$45="A - Exclus",AV$46="A - Exclus",AV$47="A - Exclus",AV$48="A - Exclus",AV$49="A - Exclus",AV$50="A - Exclus",AV$51="A - Exclus",AV$52="A - Exclus",AV$53="A - Exclus",AV$54="A - Exclus",AV$55="A - Exclus",AV$56="A - Exclus",AV$57="A - Exclus",AV$58="A - Exclus",AV$59="A - Exclus",AV$60="A - Exclus",AV$61="A - Exclus",AV$62="A - Exclus",AV$63="A - Exclus",AV$64),AV$13,"") | G9: =IF(OR(AW$15="A - Exclus",AW$16="A - Exclus",AW$17="A - Exclus",AW$18="A - Exclus",AW$19="A - Exclus",AW$20="A - Exclus",AW$21="A - Exclus",AW$22="A - Exclus",AW$23="A - Exclus",AW$24="A - Exclus",AW$25="A - Exclus",AW$26="A - Exclus",AW$27="A - Exclus",AW$28="A - Exclus",AW$29="A - Exclus",AW$30="A - Exclus",AW$31="A - Exclus",AW$32="A - Exclus",AW$33="A - Exclus",AW$34="A - Exclus",AW$35="A - Exclus",AW$36="A - Exclus",AW$37="A - Exclus",AW$38="A - Exclus",AW$39="A - Exclus",AW$40="A - Exclus",AW$41="A - Exclus",AW$42="A - Exclus",AW$43="A - Exclus",AW$44="A - Exclus",AW$45="A - Exclus",AW$46="A - Exclus",AW$47="A - Exclus",AW$48="A - Exclus",AW$49="A - Exclus",AW$50="A - Exclus",AW$51="A - Exclus",AW$52="A - Exclus",AW$53="A - Exclus",AW$54="A - Exclus",AW$55="A - Exclus",AW$56="A - Exclus",AW$57="A - Exclus",AW$58="A - Exclus",AW$59="A - Exclus",AW$60="A - Exclus",AW$61="A - Exclus",AW$62="A - Exclus",AW$63="A - Exclus",AW$64),AW$13,"") | H9: =IF(OR(AX$15="A - Exclus",AX$16="A - Exclus",AX$17="A - Exclus",AX$18="A - Exclus",AX$19="A - Exclus",AX$20="A - Exclus",AX$21="A - Exclus",AX$22="A - Exclus",AX$23="A - Exclus",AX$24="A - Exclus",AX$25="A - Exclus",AX$26="A - Exclus",AX$27="A - Exclus",AX$28="A - Exclus",AX$29="A - Exclus",AX$30="A - Exclus",AX$31="A - Exclus",AX$32="A - Exclus",AX$33="A - Exclus",AX$34="A - Exclus",AX$35="A - Exclus",AX$36="A - Exclus",AX$37="A - Exclus",AX$38="A - Exclus",AX$39="A - Exclus",AX$40="A - Exclus",AX$41="A - Exclus",AX$42="A - Exclus",AX$43="A - Exclus",AX$44="A - Exclus",AX$45="A - Exclus",AX$46="A - Exclus",AX$47="A - Exclus",AX$48="A - Exclus",AX$49="A - Exclus",AX$50="A - Exclus",AX$51="A - Exclus",AX$52="A - Exclus",AX$53="A - Exclus",AX$54="A - Exclus",AX$55="A - Exclus",AX$56="A - Exclus",AX$57="A - Exclus",AX$58="A - Exclus",AX$59="A - Exclus",AX$60="A - Exclus",AX$61="A - Exclus",AX$62="A - Exclus",AX$63="A - Exclus",AX$64),AX$13,"") | I9: =IF(OR(AY$15="A - Exclus",AY$16="A - Exclus",AY$17="A - Exclus",AY$18="A - Exclus",AY$19="A - Exclus",AY$20="A - Exclus",AY$21="A - Exclus",AY$22="A - Exclus",AY$23="A - Exclus",AY$24="A - Exclus",AY$25="A - Exclus",AY$26="A - Exclus",AY$27="A - Exclus",AY$28="A - Exclus",AY$29="A - Exclus",AY$30="A - Exclus",AY$31="A - Exclus",AY$32="A - Exclus",AY$33="A - Exclus",AY$34="A - Exclus",AY$35="A - Exclus",AY$36="A - Exclus",AY$37="A - Exclus",AY$38="A - Exclus",AY$39="A - Exclus",AY$40="A - Exclus",AY$41="A - Exclus",AY$42="A - Exclus",AY$43="A - Exclus",AY$44="A - Exclus",AY$45="A - Exclus",AY$46="A - Exclus",AY$47="A - Exclus",AY$48="A - Exclus",AY$49="A - Exclus",AY$50="A - Exclus",AY$51="A - Exclus",AY$52="A - Exclus",AY$53="A - Exclus",AY$54="A - Exclus",AY$55="A - Exclus",AY$56="A - Exclus",AY$57="A - Exclus",AY$58="A - Exclus",AY$59="A - Exclus",AY$60="A - Exclus",AY$61="A - Exclus",AY$62="A - Exclus",AY$63="A - Exclus",AY$64),AY$13,"") | J9: =IF(OR(AZ$15="A - Exclus",AZ$16="A - Exclus",AZ$17="A - Exclus",AZ$18="A - Exclus",AZ$19="A - Exclus",AZ$20="A - Exclus",AZ$21="A - Exclus",AZ$22="A - Exclus",AZ$23="A - Exclus",AZ$24="A - Exclus",AZ$25="A - Exclus",AZ$26="A - Exclus",AZ$27="A - Exclus",AZ$28="A - Exclus",AZ$29="A - Exclus",AZ$30="A - Exclus",AZ$31="A - Exclus",AZ$32="A - Exclus",AZ$33="A - Exclus",AZ$34="A - Exclus",AZ$35="A - Exclus",AZ$36="A - Exclus",AZ$37="A - Exclus",AZ$38="A - Exclus",AZ$39="A - Exclus",AZ$40="A - Exclus",AZ$41="A - Exclus",AZ$42="A - Exclus",AZ$43="A - Exclus",AZ$44="A - Exclus",AZ$45="A - Exclus",AZ$46="A - Exclus",AZ$47="A - Exclus",AZ$48="A - Exclus",AZ$49="A - Exclus",AZ$50="A - Exclus",AZ$51="A - Exclus",AZ$52="A - Exclus",AZ$53="A - Exclus",AZ$54="A - Exclus",AZ$55="A - Exclus",AZ$56="A - Exclus",AZ$57="A - Exclus",AZ$58="A - Exclus",AZ$59="A - Exclus",AZ$60="A - Exclus",AZ$61="A - Exclus",AZ$62="A - Exclus",AZ$63="A - Exclus",AZ$64),AZ$13,"")
E10: =IF(OR(BA$15="A - Exclus",BA$16="A - Exclus",BA$17="A - Exclus",BA$18="A - Exclus",BA$19="A - Exclus",BA$20="A - Exclus",BA$21="A - Exclus",BA$22="A - Exclus",BA$23="A - Exclus",BA$24="A - Exclus",BA$25="A - Exclus",BA$26="A - Exclus",BA$27="A - Exclus",BA$28="A - Exclus",BA$29="A - Exclus",BA$30="A - Exclus",BA$31="A - Exclus",BA$32="A - Exclus",BA$33="A - Exclus",BA$34="A - Exclus",BA$35="A - Exclus",BA$36="A - Exclus",BA$37="A - Exclus",BA$38="A - Exclus",BA$39="A - Exclus",BA$40="A - Exclus",BA$41="A - Exclus",BA$42="A - Exclus",BA$43="A - Exclus",BA$44="A - Exclus",BA$45="A - Exclus",BA$46="A - Exclus",BA$47="A - Exclus",BA$48="A - Exclus",BA$49="A - Exclus",BA$50="A - Exclus",BA$51="A - Exclus",BA$52="A - Exclus",BA$53="A - Exclus",BA$54="A - Exclus",BA$55="A - Exclus",BA$56="A - Exclus",BA$57="A - Exclus",BA$58="A - Exclus",BA$59="A - Exclus",BA$60="A - Exclus",BA$61="A - Exclus",BA$62="A - Exclus",BA$63="A - Exclus",BA$64),BA$13,"") | F10: =IF(OR(BB$15="A - Exclus",BB$16="A - Exclus",BB$17="A - Exclus",BB$18="A - Exclus",BB$19="A - Exclus",BB$20="A - Exclus",BB$21="A - Exclus",BB$22="A - Exclus",BB$23="A - Exclus",BB$24="A - Exclus",BB$25="A - Exclus",BB$26="A - Exclus",BB$27="A - Exclus",BB$28="A - Exclus",BB$29="A - Exclus",BB$30="A - Exclus",BB$31="A - Exclus",BB$32="A - Exclus",BB$33="A - Exclus",BB$34="A - Exclus",BB$35="A - Exclus",BB$36="A - Exclus",BB$37="A - Exclus",BB$38="A - Exclus",BB$39="A - Exclus",BB$40="A - Exclus",BB$41="A - Exclus",BB$42="A - Exclus",BB$43="A - Exclus",BB$44="A - Exclus",BB$45="A - Exclus",BB$46="A - Exclus",BB$47="A - Exclus",BB$48="A - Exclus",BB$49="A - Exclus",BB$50="A - Exclus",BB$51="A - Exclus",BB$52="A - Exclus",BB$53="A - Exclus",BB$54="A - Exclus",BB$55="A - Exclus",BB$56="A - Exclus",BB$57="A - Exclus",BB$58="A - Exclus",BB$59="A - Exclus",BB$60="A - Exclus",BB$61="A - Exclus",BB$62="A - Exclus",BB$63="A - Exclus",BB$64),BB$13,"") | G10: =IF(OR(BC$15="A - Exclus",BC$16="A - Exclus",BC$17="A - Exclus",BC$18="A - Exclus",BC$19="A - Exclus",BC$20="A - Exclus",BC$21="A - Exclus",BC$22="A - Exclus",BC$23="A - Exclus",BC$24="A - Exclus",BC$25="A - Exclus",BC$26="A - Exclus",BC$27="A - Exclus",BC$28="A - Exclus",BC$29="A - Exclus",BC$30="A - Exclus",BC$31="A - Exclus",BC$32="A - Exclus",BC$33="A - Exclus",BC$34="A - Exclus",BC$35="A - Exclus",BC$36="A - Exclus",BC$37="A - Exclus",BC$38="A - Exclus",BC$39="A - Exclus",BC$40="A - Exclus",BC$41="A - Exclus",BC$42="A - Exclus",BC$43="A - Exclus",BC$44="A - Exclus",BC$45="A - Exclus",BC$46="A - Exclus",BC$47="A - Exclus",BC$48="A - Exclus",BC$49="A - Exclus",BC$50="A - Exclus",BC$51="A - Exclus",BC$52="A - Exclus",BC$53="A - Exclus",BC$54="A - Exclus",BC$55="A - Exclus",BC$56="A - Exclus",BC$57="A - Exclus",BC$58="A - Exclus",BC$59="A - Exclus",BC$60="A - Exclus",BC$61="A - Exclus",BC$62="A - Exclus",BC$63="A - Exclus",BC$64),BC$13,"") | H10: =IF(OR(BD$15="A - Exclus",BD$16="A - Exclus",BD$17="A - Exclus",BD$18="A - Exclus",BD$19="A - Exclus",BD$20="A - Exclus",BD$21="A - Exclus",BD$22="A - Exclus",BD$23="A - Exclus",BD$24="A - Exclus",BD$25="A - Exclus",BD$26="A - Exclus",BD$27="A - Exclus",BD$28="A - Exclus",BD$29="A - Exclus",BD$30="A - Exclus",BD$31="A - Exclus",BD$32="A - Exclus",BD$33="A - Exclus",BD$34="A - Exclus",BD$35="A - Exclus",BD$36="A - Exclus",BD$37="A - Exclus",BD$38="A - Exclus",BD$39="A - Exclus",BD$40="A - Exclus",BD$41="A - Exclus",BD$42="A - Exclus",BD$43="A - Exclus",BD$44="A - Exclus",BD$45="A - Exclus",BD$46="A - Exclus",BD$47="A - Exclus",BD$48="A - Exclus",BD$49="A - Exclus",BD$50="A - Exclus",BD$51="A - Exclus",BD$52="A - Exclus",BD$53="A - Exclus",BD$54="A - Exclus",BD$55="A - Exclus",BD$56="A - Exclus",BD$57="A - Exclus",BD$58="A - Exclus",BD$59="A - Exclus",BD$60="A - Exclus",BD$61="A - Exclus",BD$62="A - Exclus",BD$63="A - Exclus",BD$64),BD$13,"") | I10: =IF(OR(BE$15="A - Exclus",BE$16="A - Exclus",BE$17="A - Exclus",BE$18="A - Exclus",BE$19="A - Exclus",BE$20="A - Exclus",BE$21="A - Exclus",BE$22="A - Exclus",BE$23="A - Exclus",BE$24="A - Exclus",BE$25="A - Exclus",BE$26="A - Exclus",BE$27="A - Exclus",BE$28="A - Exclus",BE$29="A - Exclus",BE$30="A - Exclus",BE$31="A - Exclus",BE$32="A - Exclus",BE$33="A - Exclus",BE$34="A - Exclus",BE$35="A - Exclus",BE$36="A - Exclus",BE$37="A - Exclus",BE$38="A - Exclus",BE$39="A - Exclus",BE$40="A - Exclus",BE$41="A - Exclus",BE$42="A - Exclus",BE$43="A - Exclus",BE$44="A - Exclus",BE$45="A - Exclus",BE$46="A - Exclus",BE$47="A - Exclus",BE$48="A - Exclus",BE$49="A - Exclus",BE$50="A - Exclus",BE$51="A - Exclus",BE$52="A - Exclus",BE$53="A - Exclus",BE$54="A - Exclus",BE$55="A - Exclus",BE$56="A - Exclus",BE$57="A - Exclus",BE$58="A - Exclus",BE$59="A - Exclus",BE$60="A - Exclus",BE$61="A - Exclus",BE$62="A - Exclus",BE$63="A - Exclus",BE$64),BE$13,"") | J10: =IF(OR(BF$15="A - Exclus",BF$16="A - Exclus",BF$17="A - Exclus",BF$18="A - Exclus",BF$19="A - Exclus",BF$20="A - Exclus",BF$21="A - Exclus",BF$22="A - Exclus",BF$23="A - Exclus",BF$24="A - Exclus",BF$25="A - Exclus",BF$26="A - Exclus",BF$27="A - Exclus",BF$28="A - Exclus",BF$29="A - Exclus",BF$30="A - Exclus",BF$31="A - Exclus",BF$32="A - Exclus",BF$33="A - Exclus",BF$34="A - Exclus",BF$35="A - Exclus",BF$36="A - Exclus",BF$37="A - Exclus",BF$38="A - Exclus",BF$39="A - Exclus",BF$40="A - Exclus",BF$41="A - Exclus",BF$42="A - Exclus",BF$43="A - Exclus",BF$44="A - Exclus",BF$45="A - Exclus",BF$46="A - Exclus",BF$47="A - Exclus",BF$48="A - Exclus",BF$49="A - Exclus",BF$50="A - Exclus",BF$51="A - Exclus",BF$52="A - Exclus",BF$53="A - Exclus",BF$54="A - Exclus",BF$55="A - Exclus",BF$56="A - Exclus",BF$57="A - Exclus",BF$58="A - Exclus",BF$59="A - Exclus",BF$60="A - Exclus",BF$61="A - Exclus",BF$62="A - Exclus",BF$63="A - Exclus",BF$64),BF$13,"")
E12: Produits / services
E13: {=TRANSPOSE(Paramètres!G2:G51)} -> Produit 1 | F13: Produit 2 | G13: Produit 3 | H13: Produit 4 | I13: Produit 5 | J13: Produit 6 | K13: Produit 7 | L13: Produit 8 | M13: Produit 9 | N13: Produit 10 | O13: Produit 11 | P13: Produit 12 | Q13: Produit 13 | R13: Produit / service 14 | S13: Produit / service 15 | T13: Produit / service 16 | U13: Produit / service 17 | V13: Produit / service 18 | W13: Produit / service 19 | X13: Produit / service 20 | Y13: Produit / service 21 | Z13: Produit / service 22 | AA13: Produit / service 23 | AB13: Produit / service 24 | AC13: Produit / service 25 | AD13: Produit / service 26 | AE13: Produit / service 27 | AF13: Produit / service 28 | AG13: Produit / service 29 | AH13: Produit / service 30 | AI13: Produit / service 31 | AJ13: Produit / service 32 | AK13: Produit / service 33 | AL13: Produit / service 34 | AM13: Produit / service 35 | AN13: Produit / service 36 | AO13: Produit / service 37 | AP13: Produit / service 38 | AQ13: Produit / service 39 | AR13: Produit / service 40 | AS13: Produit / service 41 | AT13: Produit / service 42 | AU13: Produit / service 43 | AV13: Produit / service 44 | AW13: Produit / service 45 | AX13: Produit / service 46 | AY13: Produit / service 47 | AZ13: Produit / service 48 | BA13: Produit / service 49 | BB13: Produit / service 50
A14: Critères | C14: Priorités | D14: Brève justifications du score attribué | E14: {=IF(OR(E15:E37>""),"Produit "&COLUMN()-4,"")} -> Produit 1 | F14: {=IF(OR(F15:F37>""),"Produit "&COLUMN()-4,"")} -> Produit 2 | G14: {=IF(OR(G15:G37>""),"Produit "&COLUMN()-4,"")} -> Produit 3 | H14: {=IF(OR(H15:H37>""),"Produit "&COLUMN()-4,"")} | I14: {=IF(OR(I15:I37>""),"Produit "&COLUMN()-4,"")} | J14: {=IF(OR(J15:J37>""),"Produit "&COLUMN()-4,"")} | K14: {=IF(OR(K15:K37>""),"Produit "&COLUMN()-4,"")} | L14: {=IF(OR(L15:L37>""),"Produit "&COLUMN()-4,"")} | ... BB14: {=IF(OR(BB15:BB37>""),"Produit "&COLUMN()-4,"")}
A15: =Paramètres!$A3 -> 1 | B15: =Paramètres!B3 -> Critère 1 | C15: 1 | E15: E - Normal | F15: E - Normal | G15: G - Très Important
A16: =Paramètres!$A4 -> 2 | B16: =Paramètres!B4 -> Critère 2 | C16: 1 | E16: E - Normal | F16: E - Normal | G16: G - Très Important
A17: =Paramètres!$A5 -> 3 | B17: =Paramètres!B5 -> Critère 3
A18: =Paramètres!$A6 -> 4 | B18: =Paramètres!B6 -> Critère 4
A19: =Paramètres!$A7 -> 5 | B19: =Paramètres!B7 -> Critère 5
A20: =Paramètres!$A8 -> 6 | B20: =Paramètres!B8 -> Critère 6
A21: =Paramètres!$A9 -> 7 | B21: =Paramètres!B9 -> Critère 7
A22: =Paramètres!$A10 -> 8 | B22: =Paramètres!B10 -> Critère 8
A23: =Paramètres!$A11 -> 9 | B23: =Paramètres!B11 -> Critère 9
A24: =Paramètres!$A12 -> 10 | B24: =Paramètres!B12 -> Critère 10
A25: =Paramètres!$A13 -> 11 | B25: =Paramètres!B13 -> Critère 11
A26: =Paramètres!$A14 -> 12 | B26: =Paramètres!B14 -> Critère 12
A27: =Paramètres!$A15 -> 13 | B27: =Paramètres!B15 -> Critère 13
A28: =Paramètres!$A16 -> 14 | B28: =Paramètres!B16 -> Critère 14
... A64: =Paramètres!$A52 -> 50 | B64: =Paramètres!B52 -> 0

Sheet D%$&01_DevSheet
