Workbook
Name ponderation: Paramètres!$D$2:$D$9

Sheet Hypotheses de départ
A1: Hypothèse 1
A4: Hypothèse 2
A7: Hypothèse 3
A10: Hypothèse 4
A13: Hypothèse 5
A16: Hypothèse 6
A19: Hypothèse 7
A22: Hypothèse 8
A25: Hypothèse 9
A28: Hypothèse 10

Sheet Paramètres
A1: Liste des critères | D1: Importance du critère | E1: Poids des critères | G1: Nom des produits / services
A2: N° du critère | B2: Nom du critère | G2: Produit 1
A3: 1 | B3: Critère 1 | D3: A - Exclus | E3: -1 | G3: Produit 2
A4: 2 | B4: Critère 2 | D4: B - Ne sait pas | E4: 0 | G4: Produit 3
A5: 3 | B5: Critère 3 | D5: C - Non significatif | E5: 1 | G5: Produit 4
A6: 4 | B6: Critère 4 | D6: D - Négligeable | E6: 2 | G6: Produit 5
A7: 5 | B7: Critère 5 | D7: E - Normal | E7: 3 | G7: Produit 6
A8: 6 | B8: Critère 6 | D8: F - Important | E8: 4 | G8: Produit 7
A9: 7 | B9: Critère 7 | D9: G - Très Important | E9: 5 | G9: Produit 8
A10: 8 | B10: Critère 8 | D10: H - Ne fait pas | E10: 0 | G10: Produit 9
A11: 9 | B11: Critère 9 | D11: I - Fait | E11: 5 | G11: Produit 10
A12: 10 | B12: Critère 10 | G12: Produit 11
A13: 11 | B13: Critère 11 | G13: Produit 12
A14: 12 | B14: Critère 12 | G14: Produit 13
A15: 13 | B15: Critère 13 | G15: Produit / service 14
A16: 14 | B16: Critère 14 | G16: Produit / service 15
A17: 15 | B17: Critère 15 | G17: Produit / service 16
A18: 16 | B18: Critère 16 | G18: Produit / service 17
A19: 17 | B19: Critère 17 | G19: Produit / service 18
A20: 18 | B20: Critère 18 | G20: Produit / service 19
A21: 19 | B21: Critère 19 | G21: Produit / service 20
A22: 20 | B22: Critère 20 | G22: Produit / service 21
A23: 21 | B23: Critère 21 | G23: Produit / service 22
A24: 22 | B24: Critère 22 | G24: Produit / service 23
A25: 23 | G25: Produit / service 24
A26: 24 | G26: Produit / service 25
A27: 25 | G27: Produit / service 26
A28: 26 | G28: Produit / service 27
A29: 27 | G29: Produit / service 28
A30: 28 | G30: Produit / service 29
A31: 29 | G31: Produit / service 30
A32: 30 | G32: Produit / service 31
A33: 31 | G33: Produit / service 32
A34: 32 | G34: Produit / service 33
A35: 33 | G35: Produit / service 34
A36: 34 | G36: Produit / service 35
... A51: 49 | G51: Produit / service 50
A52: 50

Sheet Données
A1: Top 5 | E1: Produits / services exclus
A2: 1 | C2: {=TRANSPOSE(Résultats!E5:I5)} -> Produit 3 | E2: =IF(OR(E$15="A - Exclus",E$16="A - Exclus",E$17="A - Exclus",E$18="A - Exclus",E$19="A - Exclus",E$20="A - Exclus",E$21="A - Exclus",E$22="A - Exclus",E$23="A - Exclus",E$24="A - Exclus",E$25="A - Exclus",E$26="A - Exclus",E$27="A - Exclus",E$28="A - Exclus",E$29="A - Exclus",E$30="A - Exclus",E$31="A - Exclus",E$32="A - Exclus",E$33="A - Exclus",E$34="A - Exclus",E$35="A - Exclus",E$36="A - Exclus",E$37="A - Exclus",E$38="A - Exclus",E$39="A - Exclus",E$40="A - Exclus",E$41="A - Exclus",E$42="A - Exclus",E$43="A - Exclus",E$44="A - Exclus",E$45="A - Exclus",E$46="A - Exclus",E$47="A - Exclus",E$48="A - Exclus",E$49="A - Exclus",E$50="A - Exclus",E$51="A - Exclus",E$52="A - Exclus",E$53="A - Exclus",E$54="A - Exclus",E$55="A - Exclus",E$56="A - Exclus",E$57="A - Exclus",E$58="A - Exclus",E$59="A - Exclus",E$60="A - Exclus",E$61="A - Exclus",E$62="A - Exclus",E$63="A - Exclus",E$64),E$13,"") | F2: =IF(OR(F$15="A - Exclus",F$16="A - Exclus",F$17="A - Exclus",F$18="A - Exclus",F$19="A - Exclus",F$20="A - Exclus",F$21="A - Exclus",F$22="A - Exclus",F$23="A - Exclus",F$24="A - Exclus",F$25="A - Exclus",F$26="A - Exclus",F$27="A - Exclus",F$28="A - Exclus",F$29="A - Exclus",F$30="A - Exclus",F$31="A - Exclus",F$32="A - Exclus",F$33="A - Exclus",F$34="A - Exclus",F$35="A - Exclus",F$36="A - Exclus",F$37="A - Exclus",F$38="A - Exclus",F$39="A - Exclus",F$40="A - Exclus",F$41="A - Exclus",F$42="A - Exclus",F$43="A - Exclus",F$44="A - Exclus",F$45="A - Exclus",F$46="A - Exclus",F$47="A - Exclus",F$48="A - Exclus",F$49="A - Exclus",F$50="A - Exclus",F$51="A - Exclus",F$52="A - Exclus",F$53="A - Exclus",F$54="A - Exclus",F$55="A - Exclus",F$56="A - Exclus",F$57="A - Exclus",F$58="A - Exclus",F$59="A - Exclus",F$60="A - Exclus",F$61="A - Exclus",F$62="A - Exclus",F$63="A - Exclus",F$64),F$13,"") | G2: =IF(OR(G$15="A - Exclus",G$16="A - Exclus",G$17="A - Exclus",G$18="A - Exclus",G$19="A - Exclus",G$20="A - Exclus",G$21="A - Exclus",G$22="A - Exclus",G$23="A - Exclus",G$24="A - Exclus",G$25="A - Exclus",G$26="A - Exclus",G$27="A - Exclus",G$28="A - Exclus",G$29="A - Exclus",G$30="A - Exclus",G$31="A - Exclus",G$32="A - Exclus",G$33="A - Exclus",G$34="A - Exclus",G$35="A - Exclus",G$36="A - Exclus",G$37="A - Exclus",G$38="A - Exclus",G$39="A - Exclus",G$40="A - Exclus",G$41="A - Exclus",G$42="A - Exclus",G$43="A - Exclus",G$44="A - Exclus",G$45="A - Exclus",G$46="A - Exclus",G$47="A - Exclus",G$48="A - Exclus",G$49="A - Exclus",G$50="A - Exclus",G$51="A - Exclus",G$52="A - Exclus",G$53="A - Exclus",G$54="A - Exclus",G$55="A - Exclus",G$56="A - Exclus",G$57="A - Exclus",G$58="A - Exclus",G$59="A - Exclus",G$60="A - Exclus",G$61="A - Exclus",G$62="A - Exclus",G$63="A - Exclus",G$64),G$13,"") | H2: =IF(OR(H$15="A - Exclus",H$16="A - Exclus",H$17="A - Exclus",H$18="A - Exclus",H$19="A - Exclus",H$20="A - Exclus",H$21="A - Exclus",H$22="A - Exclus",H$23="A - Exclus",H$24="A - Exclus",H$25="A - Exclus",H$26="A - Exclus",H$27="A - Exclus",H$28="A - Exclus",H$29="A - Exclus",H$30="A - Exclus",H$31="A - Exclus",H$32="A - Exclus",H$33="A - Exclus",H$34="A - Exclus",H$35="A - Exclus",H$36="A - Exclus",H$37="A - Exclus",H$38="A - Exclus",H$39="A - Exclus",H$40="A - Exclus",H$41="A - Exclus",H$42="A - Exclus",H$43="A - Exclus",H$44="A - Exclus",H$45="A - Exclus",H$46="A - Exclus",H$47="A - Exclus",H$48="A - Exclus",H$49="A - Exclus",H$50="A - Exclus",H$51="A - Exclus",H$52="A - Exclus",H$53="A - Exclus",H$54="A - Exclus",H$55="A - Exclus",H$56="A - Exclus",H$57="A - Exclus",H$58="A - Exclus",H$59="A - Exclus",H$60="A - Exclus",H$61="A - Exclus",H$62="A - Exclus",H$63="A - Exclus",H$64),H$13,"") | I2: =IF(OR(I$15="A - Exclus",I$16="A - Exclus",I$17="A - Exclus",I$18="A - Exclus",I$19="A - Exclus",I$20="A - Exclus",I$21="A - Exclus",I$22="A - Exclus",I$23="A - Exclus",I$24="A - Exclus",I$25="A - Exclus",I$26="A - Exclus",I$27="A - Exclus",I$28="A - Exclus",I$29="A - Exclus",I$30="A - Exclus",I$31="A - Exclus",I$32="A - Exclus",I$33="A - Exclus",I$34="A - Exclus",I$35="A - Exclus",I$36="A - Exclus",I$37="A - Exclus",I$38="A - Exclus",I$39="A - Exclus",I$40="A - Exclus",I$41="A - Exclus",I$42="A - Exclus",I$43="A - Exclus",I$44="A - Exclus",I$45="A - Exclus",I$46="A - Exclus",I$47="A - Exclus",I$48="A - Exclus",I$49="A - Exclus",I$50="A - Exclus",I$51="A - Exclus",I$52="A - Exclus",I$53="A - Exclus",I$54="A - Exclus",I$55="A - Exclus",I$56="A - Exclus",I$57="A - Exclus",I$58="A - Exclus",I$59="A - Exclus",I$60="A - Exclus",I$61="A - Exclus",I$62="A - Exclus",I$63="A - Exclus",I$64),I$13,"") | J2: =IF(OR(J$15="A - Exclus",J$16="A - Exclus",J$17="A - Exclus",J$18="A - Exclus",J$19="A - Exclus",J$20="A - Exclus",J$21="A - Exclus",J$22="A - Exclus",J$23="A - Exclus",J$24="A - Exclus",J$25="A - Exclus",J$26="A - Exclus",J$27="A - Exclus",J$28="A - Exclus",J$29="A - Exclus",J$30="A - Exclus",J$31="A - Exclus",J$32="A - Exclus",J$33="A - Exclus",J$34="A - Exclus",J$35="A - Exclus",J$36="A - Exclus",J$37="A - Exclus",J$38="A - Exclus",J$39="A - Exclus",J$40="A - Exclus",J$41="A - Exclus",J$42="A - Exclus",J$43="A - Exclus",J$44="A - Exclus",J$45="A - Exclus",J$46="A - Exclus",J$47="A - Exclus",J$48="A - Exclus",J$49="A - Exclus",J$50="A - Exclus",J$51="A - Exclus",J$52="A - Exclus",J$53="A - Exclus",J$54="A - Exclus",J$55="A - Exclus",J$56="A - Exclus",J$57="A - Exclus",J$58="A - Exclus",J$59="A - Exclus",J$60="A - Exclus",J$61="A - Exclus",J$62="A - Exclus",J$63="A - Exclus",J$64),J$13,"")
A3: 2 | C3: Produit 1 | E3: =IF(OR(K$15="A - Exclus",K$16="A - Exclus",K$17="A - Exclus",K$18="A - Exclus",K$19="A - Exclus",K$20="A - Exclus",K$21="A - Exclus",K$22="A - Exclus",K$23="A - Exclus",K$24="A - Exclus",K$25="A - Exclus",K$26="A - Exclus",K$27="A - Exclus",K$28="A - Exclus",K$29="A - Exclus",K$30="A - Exclus",K$31="A - Exclus",K$32="A - Exclus",K$33="A - Exclus",K$34="A - Exclus",K$35="A - Exclus",K$36="A - Exclus",K$37="A - Exclus",K$38="A - Exclus",K$39="A - Exclus",K$40="A - Exclus",K$41="A - Exclus",K$42="A - Exclus",K$43="A - Exclus",K$44="A - Exclus",K$45="A - Exclus",K$46="A - Exclus",K$47="A - Exclus",K$48="A - Exclus",K$49="A - Exclus",K$50="A - Exclus",K$51="A - Exclus",K$52="A - Exclus",K$53="A - Exclus",K$54="A - Exclus",K$55="A - Exclus",K$56="A - Exclus",K$57="A - Exclus",K$58="A - Exclus",K$59="A - Exclus",K$60="A - Exclus",K$61="A - Exclus",K$62="A - Exclus",K$63="A - Exclus",K$64),K$13,"") | F3: =IF(OR(L$15="A - Exclus",L$16="A - Exclus",L$17="A - Exclus",L$18="A - Exclus",L$19="A - Exclus",L$20="A - Exclus",L$21="A - Exclus",L$22="A - Exclus",L$23="A - Exclus",L$24="A - Exclus",L$25="A - Exclus",L$26="A - Exclus",L$27="A - Exclus",L$28="A - Exclus",L$29="A - Exclus",L$30="A - Exclus",L$31="A - Exclus",L$32="A - Exclus",L$33="A - Exclus",L$34="A - Exclus",L$35="A - Exclus",L$36="A - Exclus",L$37="A - Exclus",L$38="A - Exclus",L$39="A - Exclus",L$40="A - Exclus",L$41="A - Exclus",L$42="A - Exclus",L$43="A - Exclus",L$44="A - Exclus",L$45="A - Exclus",L$46="A - Exclus",L$47="A - Exclus",L$48="A - Exclus",L$49="A - Exclus",L$50="A - Exclus",L$51="A - Exclus",L$52="A - Exclus",L$53="A - Exclus",L$54="A - Exclus",L$55="A - Exclus",L$56="A - Exclus",L$57="A - Exclus",L$58="A - Exclus",L$59="A - Exclus",L$60="A - Exclus",L$61="A - Exclus",L$62="A - Exclus",L$63="A - Exclus",L$64),L$13,"") | G3: =IF(OR(M$15="A - Exclus",M$16="A - Exclus",M$17="A - Exclus",M$18="A - Exclus",M$19="A - Exclus",M$20="A - Exclus",M$21="A - Exclus",M$22="A - Exclus",M$23="A - Exclus",M$24="A - Exclus",M$25="A - Exclus",M$26="A - Exclus",M$27="A - Exclus",M$28="A - Exclus",M$29="A - Exclus",M$30="A - Exclus",M$31="A - Exclus",M$32="A - Exclus",M$33="A - Exclus",M$34="A - Exclus",M$35="A - Exclus",M$36="A - Exclus",M$37="A - Exclus",M$38="A - Exclus",M$39="A - Exclus",M$40="A - Exclus",M$41="A - Exclus",M$42="A - Exclus",M$43="A - Exclus",M$44="A - Exclus",M$45="A - Exclus",M$46="A - Exclus",M$47="A - Exclus",M$48="A - Exclus",M$49="A - Exclus",M$50="A - Exclus",M$51="A - Exclus",M$52="A - Exclus",M$53="A - Exclus",M$54="A - Exclus",M$55="A - Exclus",M$56="A - Exclus",M$57="A - Exclus",M$58="A - Exclus",M$59="A - Exclus",M$60="A - Exclus",M$61="A - Exclus",M$62="A - Exclus",M$63="A - Exclus",M$64),M$13,"") | H3: =IF(OR(N$15="A - Exclus",N$16="A - Exclus",N$17="A - Exclus",N$18="A - Exclus",N$19="A - Exclus",N$20="A - Exclus",N$21="A - Exclus",N$22="A - Exclus",N$23="A - Exclus",N$24="A - Exclus",N$25="A - Exclus",N$26="A - Exclus",N$27="A - Exclus",N$28="A - Exclus",N$29="A - Exclus",N$30="A - Exclus",N$31="A - Exclus",N$32="A - Exclus",N$33="A - Exclus",N$34="A - Exclus",N$35="A - Exclus",N$36="A - Exclus",N$37="A - Exclus",N$38="A - Exclus",N$39="A - Exclus",N$40="A - Exclus",N$41="A - Exclus",N$42="A - Exclus",N$43="A - Exclus",N$44="A - Exclus",N$45="A - Exclus",N$46="A - Exclus",N$47="A - Exclus",N$48="A - Exclus",N$49="A - Exclus",N$50="A - Exclus",N$51="A - Exclus",N$52="A - Exclus",N$53="A - Exclus",N$54="A - Exclus",N$55="A - Exclus",N$56="A - Exclus",N$57="A - Exclus",N$58="A - Exclus",N$59="A - Exclus",N$60="A - Exclus",N$61="A - Exclus",N$62="A - Exclus",N$63="A - Exclus",N$64),N$13,"") | I3: =IF(OR(O$15="A - Exclus",O$16="A - Exclus",O$17="A - Exclus",O$18="A - Exclus",O$19="A - Exclus",O$20="A - Exclus",O$21="A - Exclus",O$22="A - Exclus",O$23="A - Exclus",O$24="A - Exclus",O$25="A - Exclus",O$26="A - Exclus",O$27="A - Exclus",O$28="A - Exclus",O$29="A - Exclus",O$30="A - Exclus",O$31="A - Exclus",O$32="A - Exclus",O$33="A - Exclus",O$34="A - Exclus",O$35="A - Exclus",O$36="A - Exclus",O$37="A - Exclus",O$38="A - Exclus",O$39="A - Exclus",O$40="A - Exclus",O$41="A - Exclus",O$42="A - Exclus",O$43="A - Exclus",O$44="A - Exclus",O$45="A - Exclus",O$46="A - Exclus",O$47="A - Exclus",O$48="A - Exclus",O$49="A - Exclus",O$50="A - Exclus",O$51="A - Exclus",O$52="A - Exclus",O$53="A - Exclus",O$54="A - Exclus",O$55="A - Exclus",O$56="A - Exclus",O$57="A - Exclus",O$58="A - Exclus",O$59="A - Exclus",O$60="A - Exclus",O$61="A - Exclus",O$62="A - Exclus",O$63="A - Exclus",O$64),O$13,"") | J3: =IF(OR(P$15="A - Exclus",P$16="A - Exclus",P$17="A - Exclus",P$18="A - Exclus",P$19="A - Exclus",P$20="A - Exclus",P$21="A - Exclus",P$22="A - Exclus",P$23="A - Exclus",P$24="A - Exclus",P$25="A - Exclus",P$26="A - Exclus",P$27="A - Exclus",P$28="A - Exclus",P$29="A - Exclus",P$30="A - Exclus",P$31="A - Exclus",P$32="A - Exclus",P$33="A - Exclus",P$34="A - Exclus",P$35="A - Exclus",P$36="A - Exclus",P$37="A - Exclus",P$38="A - Exclus",P$39="A - Exclus",P$40="A - Exclus",P$41="A - Exclus",P$42="A - Exclus",P$43="A - Exclus",P$44="A - Exclus",P$45="A - Exclus",P$46="A - Exclus",P$47="A - Exclus",P$48="A - Exclus",P$49="A - Exclus",P$50="A - Exclus",P$51="A - Exclus",P$52="A - Exclus",P$53="A - Exclus",P$54="A - Exclus",P$55="A - Exclus",P$56="A - Exclus",P$57="A - Exclus",P$58="A - Exclus",P$59="A - Exclus",P$60="A - Exclus",P$61="A - Exclus",P$62="A - Exclus",P$63="A - Exclus",P$64),P$13,"")
A4: 3 | C4: Produit 1 | E4: =IF(OR(Q$15="A - Exclus",Q$16="A - Exclus",Q$17="A - Exclus",Q$18="A - Exclus",Q$19="A - Exclus",Q$20="A - Exclus",Q$21="A - Exclus",Q$22="A - Exclus",Q$23="A - Exclus",Q$24="A - Exclus",Q$25="A - Exclus",Q$26="A - Exclus",Q$27="A - Exclus",Q$28="A - Exclus",Q$29="A - Exclus",Q$30="A - Exclus",Q$31="A - Exclus",Q$32="A - Exclus",Q$33="A - Exclus",Q$34="A - Exclus",Q$35="A - Exclus",Q$36="A - Exclus",Q$37="A - Exclus",Q$38="A - Exclus",Q$39="A - Exclus",Q$40="A - Exclus",Q$41="A - Exclus",Q$42="A - Exclus",Q$43="A - Exclus",Q$44="A - Exclus",Q$45="A - Exclus",Q$46="A - Exclus",Q$47="A - Exclus",Q$48="A - Exclus",Q$49="A - Exclus",Q$50="A - Exclus",Q$51="A - Exclus",Q$52="A - Exclus",Q$53="A - Exclus",Q$54="A - Exclus",Q$55="A - Exclus",Q$56="A - Exclus",Q$57="A - Exclus",Q$58="A - Exclus",Q$59="A - Exclus",Q$60="A - Exclus",Q$61="A - Exclus",Q$62="A - Exclus",Q$63="A - Exclus",Q$64),Q$13,"") | F4: =IF(OR(R$15="A - Exclus",R$16="A - Exclus",R$17="A - Exclus",R$18="A - Exclus",R$19="A - Exclus",R$20="A - Exclus",R$21="A - Exclus",R$22="A - Exclus",R$23="A - Exclus",R$24="A - Exclus",R$25="A - Exclus",R$26="A - Exclus",R$27="A - Exclus",R$28="A - Exclus",R$29="A - Exclus",R$30="A - Exclus",R$31="A - Exclus",R$32="A - Exclus",R$33="A - Exclus",R$34="A - Exclus",R$35="A - Exclus",R$36="A - Exclus",R$37="A - Exclus",R$38="A - Exclus",R$39="A - Exclus",R$40="A - Exclus",R$41="A - Exclus",R$42="A - Exclus",R$43="A - Exclus",R$44="A - Exclus",R$45="A - Exclus",R$46="A - Exclus",R$47="A - Exclus",R$48="A - Exclus",R$49="A - Exclus",R$50="A - Exclus",R$51="A - Exclus",R$52="A - Exclus",R$53="A - Exclus",R$54="A - Exclus",R$55="A - Exclus",R$56="A - Exclus",R$57="A - Exclus",R$58="A - Exclus",R$59="A - Exclus",R$60="A - Exclus",R$61="A - Exclus",R$62="A - Exclus",R$63="A - Exclus",R$64),R$13,"") | G4: =IF(OR(S$15="A - Exclus",S$16="A - Exclus",S$17="A - Exclus",S$18="A - Exclus",S$19="A - Exclus",S$20="A - Exclus",S$21="A - Exclus",S$22="A - Exclus",S$23="A - Exclus",S$24="A - Exclus",S$25="A - Exclus",S$26="A - Exclus",S$27="A - Exclus",S$28="A - Exclus",S$29="A - Exclus",S$30="A - Exclus",S$31="A - Exclus",S$32="A - Exclus",S$33="A - Exclus",S$34="A - Exclus",S$35="A - Exclus",S$36="A - Exclus",S$37="A - Exclus",S$38="A - Exclus",S$39="A - Exclus",S$40="A - Exclus",S$41="A - Exclus",S$42="A - Exclus",S$43="A - Exclus",S$44="A - Exclus",S$45="A - Exclus",S$46="A - Exclus",S$47="A - Exclus",S$48="A - Exclus",S$49="A - Exclus",S$50="A - Exclus",S$51="A - Exclus",S$52="A - Exclus",S$53="A - Exclus",S$54="A - Exclus",S$55="A - Exclus",S$56="A - Exclus",S$57="A - Exclus",S$58="A - Exclus",S$59="A - Exclus",S$60="A - Exclus",S$61="A - Exclus",S$62="A - Exclus",S$63="A - Exclus",S$64),S$13,"") | H4: =IF(OR(T$15="A - Exclus",T$16="A - Exclus",T$17="A - Exclus",T$18="A - Exclus",T$19="A - Exclus",T$20="A - Exclus",T$21="A - Exclus",T$22="A - Exclus",T$23="A - Exclus",T$24="A - Exclus",T$25="A - Exclus",T$26="A - Exclus",T$27="A - Exclus",T$28="A - Exclus",T$29="A - Exclus",T$30="A - Exclus",T$31="A - Exclus",T$32="A - Exclus",T$33="A - Exclus",T$34="A - Exclus",T$35="A - Exclus",T$36="A - Exclus",T$37="A - Exclus",T$38="A - Exclus",T$39="A - Exclus",T$40="A - Exclus",T$41="A - Exclus",T$42="A - Exclus",T$43="A - Exclus",T$44="A - Exclus",T$45="A - Exclus",T$46="A - Exclus",T$47="A - Exclus",T$48="A - Exclus",T$49="A - Exclus",T$50="A - Exclus",T$51="A - Exclus",T$52="A - Exclus",T$53="A - Exclus",T$54="A - Exclus",T$55="A - Exclus",T$56="A - Exclus",T$57="A - Exclus",T$58="A - Exclus",T$59="A - Exclus",T$60="A - Exclus",T$61="A - Exclus",T$62="A - Exclus",T$63="A - Exclus",T$64),T$13,"") | I4: =IF(OR(U$15="A - Exclus",U$16="A - Exclus",U$17="A - Exclus",U$18="A - Exclus",U$19="A - Exclus",U$20="A - Exclus",U$21="A - Exclus",U$22="A - Exclus",U$23="A - Exclus",U$24="A - Exclus",U$25="A - Exclus",U$26="A - Exclus",U$27="A - Exclus",U$28="A - Exclus",U$29="A - Exclus",U$30="A - Exclus",U$31="A - Exclus",U$32="A - Exclus",U$33="A - Exclus",U$34="A - Exclus",U$35="A - Exclus",U$36="A - Exclus",U$37="A - Exclus",U$38="A - Exclus",U$39="A - Exclus",U$40="A - Exclus",U$41="A - Exclus",U$42="A - Exclus",U$43="A - Exclus",U$44="A - Exclus",U$45="A - Exclus",U$46="A - Exclus",U$47="A - Exclus",U$48="A - Exclus",U$49="A - Exclus",U$50="A - Exclus",U$51="A - Exclus",U$52="A - Exclus",U$53="A - Exclus",U$54="A - Exclus",U$55="A - Exclus",U$56="A - Exclus",U$57="A - Exclus",U$58="A - Exclus",U$59="A - Exclus",U$60="A - Exclus",U$61="A - Exclus",U$62="A - Exclus",U$63="A - Exclus",U$64),U$13,"") | J4: =IF(OR(V$15="A - Exclus",V$16="A - Exclus",V$17="A - Exclus",V$18="A - Exclus",V$19="A - Exclus",V$20="A - Exclus",V$21="A - Exclus",V$22="A - Exclus",V$23="A - Exclus",V$24="A - Exclus",V$25="A - Exclus",V$26="A - Exclus",V$27="A - Exclus",V$28="A - Exclus",V$29="A - Exclus",V$30="A - Exclus",V$31="A - Exclus",V$32="A - Exclus",V$33="A - Exclus",V$34="A - Exclus",V$35="A - Exclus",V$36="A - Exclus",V$37="A - Exclus",V$38="A - Exclus",V$39="A - Exclus",V$40="A - Exclus",V$41="A - Exclus",V$42="A - Exclus",V$43="A - Exclus",V$44="A - Exclus",V$45="A - Exclus",V$46="A - Exclus",V$47="A - Exclus",V$48="A - Exclus",V$49="A - Exclus",V$50="A - Exclus",V$51="A - Exclus",V$52="A - Exclus",V$53="A - Exclus",V$54="A - Exclus",V$55="A - Exclus",V$56="A - Exclus",V$57="A - Exclus",V$58="A - Exclus",V$59="A - Exclus",V$60="A - Exclus",V$61="A - Exclus",V$62="A - Exclus",V$63="A - Exclus",V$64),V$13,"")
A5: 4 | E5: =IF(OR(W$15="A - Exclus",W$16="A - Exclus",W$17="A - Exclus",W$18="A - Exclus",W$19="A - Exclus",W$20="A - Exclus",W$21="A - Exclus",W$22="A - Exclus",W$23="A - Exclus",W$24="A - Exclus",W$25="A - Exclus",W$26="A - Exclus",W$27="A - Exclus",W$28="A - Exclus",W$29="A - Exclus",W$30="A - Exclus",W$31="A - Exclus",W$32="A - Exclus",W$33="A - Exclus",W$34="A - Exclus",W$35="A - Exclus",W$36="A - Exclus",W$37="A - Exclus",W$38="A - Exclus",W$39="A - Exclus",W$40="A - Exclus",W$41="A - Exclus",W$42="A - Exclus",W$43="A - Exclus",W$44="A - Exclus",W$45="A - Exclus",W$46="A - Exclus",W$47="A - Exclus",W$48="A - Exclus",W$49="A - Exclus",W$50="A - Exclus",W$51="A - Exclus",W$52="A - Exclus",W$53="A - Exclus",W$54="A - Exclus",W$55="A - Exclus",W$56="A - Exclus",W$57="A - Exclus",W$58="A - Exclus",W$59="A - Exclus",W$60="A - Exclus",W$61="A - Exclus",W$62="A - Exclus",W$63="A - Exclus",W$64),W$13,"") | F5: =IF(OR(X$15="A - Exclus",X$16="A - Exclus",X$17="A - Exclus",X$18="A - Exclus",X$19="A - Exclus",X$20="A - Exclus",X$21="A - Exclus",X$22="A - Exclus",X$23="A - Exclus",X$24="A - Exclus",X$25="A - Exclus",X$26="A - Exclus",X$27="A - Exclus",X$28="A - Exclus",X$29="A - Exclus",X$30="A - Exclus",X$31="A - Exclus",X$32="A - Exclus",X$33="A - Exclus",X$34="A - Exclus",X$35="A - Exclus",X$36="A - Exclus",X$37="A - Exclus",X$38="A - Exclus",X$39="A - Exclus",X$40="A - Exclus",X$41="A - Exclus",X$42="A - Exclus",X$43="A - Exclus",X$44="A - Exclus",X$45="A - Exclus",X$46="A - Exclus",X$47="A - Exclus",X$48="A - Exclus",X$49="A - Exclus",X$50="A - Exclus",X$51="A - Exclus",X$52="A - Exclus",X$53="A - Exclus",X$54="A - Exclus",X$55="A - Exclus",X$56="A - Exclus",X$57="A - Exclus",X$58="A - Exclus",X$59="A - Exclus",X$60="A - Exclus",X$61="A - Exclus",X$62="A - Exclus",X$63="A - Exclus",X$64),X$13,"") | G5: =IF(OR(Y$15="A - Exclus",Y$16="A - Exclus",Y$17="A - Exclus",Y$18="A - Exclus",Y$19="A - Exclus",Y$20="A - Exclus",Y$21="A - Exclus",Y$22="A - Exclus",Y$23="A - Exclus",Y$24="A - Exclus",Y$25="A - Exclus",Y$26="A - Exclus",Y$27="A - Exclus",Y$28="A - Exclus",Y$29="A - Exclus",Y$30="A - Exclus",Y$31="A - Exclus",Y$32="A - Exclus",Y$33="A - Exclus",Y$34="A - Exclus",Y$35="A - Exclus",Y$36="A - Exclus",Y$37="A - Exclus",Y$38="A - Exclus",Y$39="A - Exclus",Y$40="A - Exclus",Y$41="A - Exclus",Y$42="A - Exclus",Y$43="A - Exclus",Y$44="A - Exclus",Y$45="A - Exclus",Y$46="A - Exclus",Y$47="A - Exclus",Y$48="A - Exclus",Y$49="A - Exclus",Y$50="A - Exclus",Y$51="A - Exclus",Y$52="A - Exclus",Y$53="A - Exclus",Y$54="A - Exclus",Y$55="A - Exclus",Y$56="A - Exclus",Y$57="A - Exclus",Y$58="A - Exclus",Y$59="A - Exclus",Y$60="A - Exclus",Y$61="A - Exclus",Y$62="A - Exclus",Y$63="A - Exclus",Y$64),Y$13,"") | H5: =IF(OR(Z$15="A - Exclus",Z$16="A - Exclus",Z$17="A - Exclus",Z$18="A - Exclus",Z$19="A - Exclus",Z$20="A - Exclus",Z$21="A - Exclus",Z$22="A - Exclus",Z$23="A - Exclus",Z$24="A - Exclus",Z$25="A - Exclus",Z$26="A - Exclus",Z$27="A - Exclus",Z$28="A - Exclus",Z$29="A - Exclus",Z$30="A - Exclus",Z$31="A - Exclus",Z$32="A - Exclus",Z$33="A - Exclus",Z$34="A - Exclus",Z$35="A - Exclus",Z$36="A - Exclus",Z$37="A - Exclus",Z$38="A - Exclus",Z$39="A - Exclus",Z$40="A - Exclus",Z$41="A - Exclus",Z$42="A - Exclus",Z$43="A - Exclus",Z$44="A - Exclus",Z$45="A - Exclus",Z$46="A - Exclus",Z$47="A - Exclus",Z$48="A - Exclus",Z$49="A - Exclus",Z$50="A - Exclus",Z$51="A - Exclus",Z$52="A - Exclus",Z$53="A - Exclus",Z$54="A - Exclus",Z$55="A - Exclus",Z$56="A - Exclus",Z$57="A - Exclus",Z$58="A - Exclus",Z$59="A - Exclus",Z$60="A - Exclus",Z$61="A - Exclus",Z$62="A - Exclus",Z$63="A - Exclus",Z$64),Z$13,"") | I5: =IF(OR(AA$15="A - Exclus",AA$16="A - Exclus",AA$17="A - Exclus",AA$18="A - Exclus",AA$19="A - Exclus",AA$20="A - Exclus",AA$21="A - Exclus",AA$22="A - Exclus",AA$23="A - Exclus",AA$24="A - Exclus",AA$25="A - Exclus",AA$26="A - Exclus",AA$27="A - Exclus",AA$28="A - Exclus",AA$29="A - Exclus",AA$30="A - Exclus",AA$31="A - Exclus",AA$32="A - Exclus",AA$33="A - Exclus",AA$34="A - Exclus",AA$35="A - Exclus",AA$36="A - Exclus",AA$37="A - Exclus",AA$38="A - Exclus",AA$39="A - Exclus",AA$40="A - Exclus",AA$41="A - Exclus",AA$42="A - Exclus",AA$43="A - Exclus",AA$44="A - Exclus",AA$45="A - Exclus",AA$46="A - Exclus",AA$47="A - Exclus",AA$48="A - Exclus",AA$49="A - Exclus",AA$50="A - Exclus",AA$51="A - Exclus",AA$52="A - Exclus",AA$53="A - Exclus",AA$54="A - Exclus",AA$55="A - Exclus",AA$56="A - Exclus",AA$57="A - Exclus",AA$58="A - Exclus",AA$59="A - Exclus",AA$60="A - Exclus",AA$61="A - Exclus",AA$62="A - Exclus",AA$63="A - Exclus",AA$64),AA$13,"") | J5: =IF(OR(AB$15="A - Exclus",AB$16="A - Exclus",AB$17="A - Exclus",AB$18="A - Exclus",AB$19="A - Exclus",AB$20="A - Exclus",AB$21="A - Exclus",AB$22="A - Exclus",AB$23="A - Exclus",AB$24="A - Exclus",AB$25="A - Exclus",AB$26="A - Exclus",AB$27="A - Exclus",AB$28="A - Exclus",AB$29="A - Exclus",AB$30="A - Exclus",AB$31="A - Exclus",AB$32="A - Exclus",AB$33="A - Exclus",AB$34="A - Exclus",AB$35="A - Exclus",AB$36="A - Exclus",AB$37="A - Exclus",AB$38="A - Exclus",AB$39="A - Exclus",AB$40="A - Exclus",AB$41="A - Exclus",AB$42="A - Exclus",AB$43="A - Exclus",AB$44="A - Exclus",AB$45="A - Exclus",AB$46="A - Exclus",AB$47="A - Exclus",AB$48="A - Exclus",AB$49="A - Exclus",AB$50="A - Exclus",AB$51="A - Exclus",AB$52="A - Exclus",AB$53="A - Exclus",AB$54="A - Exclus",AB$55="A - Exclus",AB$56="A - Exclus",AB$57="A - Exclus",AB$58="A - Exclus",AB$59="A - Exclus",AB$60="A - Exclus",AB$61="A - Exclus",AB$62="A - Exclus",AB$63="A - Exclus",AB$64),AB$13,"")
A6: 5 | E6: =IF(OR(AC$15="A - Exclus",AC$16="A - Exclus",AC$17="A - Exclus",AC$18="A - Exclus",AC$19="A - Exclus",AC$20="A - Exclus",AC$21="A - Exclus",AC$22="A - Exclus",AC$23="A - Exclus",AC$24="A - Exclus",AC$25="A - Exclus",AC$26="A - Exclus",AC$27="A - Exclus",AC$28="A - Exclus",AC$29="A - Exclus",AC$30="A - Exclus",AC$31="A - Exclus",AC$32="A - Exclus",AC$33="A - Exclus",AC$34="A - Exclus",AC$35="A - Exclus",AC$36="A - Exclus",AC$37="A - Exclus",AC$38="A - Exclus",AC$39="A - Exclus",AC$40="A - Exclus",AC$41="A - Exclus",AC$42="A - Exclus",AC$43="A - Exclus",AC$44="A - Exclus",AC$45="A - Exclus",AC$46="A - Exclus",AC$47="A - Exclus",AC$48="A - Exclus",AC$49="A - Exclus",AC$50="A - Exclus",AC$51="A - Exclus",AC$52="A - Exclus",AC$53="A - Exclus",AC$54="A - Exclus",AC$55="A - Exclus",AC$56="A - Exclus",AC$57="A - Exclus",AC$58="A - Exclus",AC$59="A - Exclus",AC$60="A - Exclus",AC$61="A - Exclus",AC$62="A - Exclus",AC$63="A - Exclus",AC$64),AC$13,"") | F6: =IF(OR(AD$15="A - Exclus",AD$16="A - Exclus",AD$17="A - Exclus",AD$18="A - Exclus",AD$19="A - Exclus",AD$20="A - Exclus",AD$21="A - Exclus",AD$22="A - Exclus",AD$23="A - Exclus",AD$24="A - Exclus",AD$25="A - Exclus",AD$26="A - Exclus",AD$27="A - Exclus",AD$28="A - Exclus",AD$29="A - Exclus",AD$30="A - Exclus",AD$31="A - Exclus",AD$32="A - Exclus",AD$33="A - Exclus",AD$34="A - Exclus",AD$35="A - Exclus",AD$36="A - Exclus",AD$37="A - Exclus",AD$38="A - Exclus",AD$39="A - Exclus",AD$40="A - Exclus",AD$41="A - Exclus",AD$42="A - Exclus",AD$43="A - Exclus",AD$44="A - Exclus",AD$45="A - Exclus",AD$46="A - Exclus",AD$47="A - Exclus",AD$48="A - Exclus",AD$49="A - Exclus",AD$50="A - Exclus",AD$51="A - Exclus",AD$52="A - Exclus",AD$53="A - Exclus",AD$54="A - Exclus",AD$55="A - Exclus",AD$56="A - Exclus",AD$57="A - Exclus",AD$58="A - Exclus",AD$59="A - Exclus",AD$60="A - Exclus",AD$61="A - Exclus",AD$62="A - Exclus",AD$63="A - Exclus",AD$64),AD$13,"") | G6: =IF(OR(AE$15="A - Exclus",AE$16="A - Exclus",AE$17="A - Exclus",AE$18="A - Exclus",AE$19="A - Exclus",AE$20="A - Exclus",AE$21="A - Exclus",AE$22="A - Exclus",AE$23="A - Exclus",AE$24="A - Exclus",AE$25="A - Exclus",AE$26="A - Exclus",AE$27="A - Exclus",AE$28="A - Exclus",AE$29="A - Exclus",AE$30="A - Exclus",AE$31="A - Exclus",AE$32="A - Exclus",AE$33="A - Exclus",AE$34="A - Exclus",AE$35="A - Exclus",AE$36="A - Exclus",AE$37="A - Exclus",AE$38="A - Exclus",AE$39="A - Exclus",AE$40="A - Exclus",AE$41="A - Exclus",AE$42="A - Exclus",AE$43="A - Exclus",AE$44="A - Exclus",AE$45="A - Exclus",AE$46="A - Exclus",AE$47="A - Exclus",AE$48="A - Exclus",AE$49="A - Exclus",AE$50="A - Exclus",AE$51="A - Exclus",AE$52="A - Exclus",AE$53="A - Exclus",AE$54="A - Exclus",AE$55="A - Exclus",AE$56="A - Exclus",AE$57="A - Exclus",AE$58="A - Exclus",AE$59="A - Exclus",AE$60="A - Exclus",AE$61="A - Exclus",AE$62="A - Exclus",AE$63="A - Exclus",AE$64),AE$13,"") | H6: =IF(OR(AF$15="A - Exclus",AF$16="A - Exclus",AF$17="A - Exclus",AF$18="A - Exclus",AF$19="A - Exclus",AF$20="A - Exclus",AF$21="A - Exclus",AF$22="A - Exclus",AF$23="A - Exclus",AF$24="A - Exclus",AF$25="A - Exclus",AF$26="A - Exclus",AF$27="A - Exclus",AF$28="A - Exclus",AF$29="A - Exclus",AF$30="A - Exclus",AF$31="A - Exclus",AF$32="A - Exclus",AF$33="A - Exclus",AF$34="A - Exclus",AF$35="A - Exclus",AF$36="A - Exclus",AF$37="A - Exclus",AF$38="A - Exclus",AF$39="A - Exclus",AF$40="A - Exclus",AF$41="A - Exclus",AF$42="A - Exclus",AF$43="A - Exclus",AF$44="A - Exclus",AF$45="A - Exclus",AF$46="A - Exclus",AF$47="A - Exclus",AF$48="A - Exclus",AF$49="A - Exclus",AF$50="A - Exclus",AF$51="A - Exclus",AF$52="A - Exclus",AF$53="A - Exclus",AF$54="A - Exclus",AF$55="A - Exclus",AF$56="A - Exclus",AF$57="A - Exclus",AF$58="A - Exclus",AF$59="A - Exclus",AF$60="A - Exclus",AF$61="A - Exclus",AF$62="A - Exclus",AF$63="A - Exclus",AF$64),AF$13,"") | I6: =IF(OR(AG$15="A - Exclus",AG$16="A - Exclus",AG$17="A - Exclus",AG$18="A - Exclus",AG$19="A - Exclus",AG$20="A - Exclus",AG$21="A - Exclus",AG$22="A - Exclus",AG$23="A - Exclus",AG$24="A - Exclus",AG$25="A - Exclus",AG$26="A - Exclus",AG$27="A - Exclus",AG$28="A - Exclus",AG$29="A - Exclus",AG$30="A - Exclus",AG$31="A - Exclus",AG$32="A - Exclus",AG$33="A - Exclus",AG$34="A - Exclus",AG$35="A - Exclus",AG$36="A - Exclus",AG$37="A - Exclus",AG$38="A - Exclus",AG$39="A - Exclus",AG$40="A - Exclus",AG$41="A - Exclus",AG$42="A - Exclus",AG$43="A - Exclus",AG$44="A - Exclus",AG$45="A - Exclus",AG$46="A - Exclus",AG$47="A - Exclus",AG$48="A - Exclus",AG$49="A - Exclus",AG$50="A - Exclus",AG$51="A - Exclus",AG$52="A - Exclus",AG$53="A - Exclus",AG$54="A - Exclus",AG$55="A - Exclus",AG$56="A - Exclus",AG$57="A - Exclus",AG$58="A - Exclus",AG$59="A - Exclus",AG$60="A - Exclus",AG$61="A - Exclus",AG$62="A - Exclus",AG$63="A - Exclus",AG$64),AG$13,"") | J6: =IF(OR(AH$15="A - Exclus",AH$16="A - Exclus",AH$17="A - Exclus",AH$18="A - Exclus",AH$19="A - Exclus",AH$20="A - Exclus",AH$21="A - Exclus",AH$22="A - Exclus",AH$23="A - Exclus",AH$24="A - Exclus",AH$25="A - Exclus",AH$26="A - Exclus",AH$27="A - Exclus",AH$28="A - Exclus",AH$29="A - Exclus",AH$30="A - Exclus",AH$31="A - Exclus",AH$32="A - Exclus",AH$33="A - Exclus",AH$34="A - Exclus",AH$35="A - Exclus",AH$36="A - Exclus",AH$37="A - Exclus",AH$38="A - Exclus",AH$39="A - Exclus",AH$40="A - Exclus",AH$41="A - Exclus",AH$42="A - Exclus",AH$43="A - Exclus",AH$44="A - Exclus",AH$45="A - Exclus",AH$46="A - Exclus",AH$47="A - Exclus",AH$48="A - Exclus",AH$49="A - Exclus",AH$50="A - Exclus",AH$51="A - Exclus",AH$52="A - Exclus",AH$53="A - Exclus",AH$54="A - Exclus",AH$55="A - Exclus",AH$56="A - Exclus",AH$57="A - Exclus",AH$58="A - Exclus",AH$59="A - Exclus",AH$60="A - Exclus",AH$61="A - Exclus",AH$62="A - Exclus",AH$63="A - Exclus",AH$64),AH$13,"")
E7: =IF(OR(AI$15="A - Exclus",AI$16="A - Exclus",AI$17="A - Exclus",AI$18="A - Exclus",AI$19="A - Exclus",AI$20="A - Exclus",AI$21="A - Exclus",AI$22="A - Exclus",AI$23="A - Exclus",AI$24="A - Exclus",AI$25="A - Exclus",AI$26="A - Exclus",AI$27="A - Exclus",AI$28="A - Exclus",AI$29="A - Exclus",AI$30="A - Exclus",AI$31="A - Exclus",AI$32="A - Exclus",AI$33="A - Exclus",AI$34="A - Exclus",AI$35="A - Exclus",AI$36="A - Exclus",AI$37="A - Exclus",AI$38="A - Exclus",AI$39="A - Exclus",AI$40="A - Exclus",AI$41="A - Exclus",AI$42="A - Exclus",AI$43="A - Exclus",AI$44="A - Exclus",AI$45="A - Exclus",AI$46="A - Exclus",AI$47="A - Exclus",AI$48="A - Exclus",AI$49="A - Exclus",AI$50="A - Exclus",AI$51="A - Exclus",AI$52="A - Exclus",AI$53="A - Exclus",AI$54="A - Exclus",AI$55="A - Exclus",AI$56="A - Exclus",AI$57="A - Exclus",AI$58="A - Exclus",AI$59="A - Exclus",AI$60="A - Exclus",AI$61="A - Exclus",AI$62="A - Exclus",AI$63="A - Exclus",AI$64),AI$13,"") | F7: =IF(OR(AJ$15="A - Exclus",AJ$16="A - Exclus",AJ$17="A - Exclus",AJ$18="A - Exclus",AJ$19="A - Exclus",AJ$20="A - Exclus",AJ$21="A - Exclus",AJ$22="A - Exclus",AJ$23="A - Exclus",AJ$24="A - Exclus",AJ$25="A - Exclus",AJ$26="A - Exclus",AJ$27="A - Exclus",AJ$28="A - Exclus",AJ$29="A - Exclus",AJ$30="A - Exclus",AJ$31="A - Exclus",AJ$32="A - Exclus",AJ$33="A - Exclus",AJ$34="A - Exclus",AJ$35="A - Exclus",AJ$36="A - Exclus",AJ$37="A - Exclus",AJ$38="A - Exclus",AJ$39="A - Exclus",AJ$40="A - Exclus",AJ$41="A - Exclus",AJ$42="A - Exclus",AJ$43="A - Exclus",AJ$44="A - Exclus",AJ$45="A - Exclus",AJ$46="A - Exclus",AJ$47="A - Exclus",AJ$48="A - Exclus",AJ$49="A - Exclus",AJ$50="A - Exclus",AJ$51="A - Exclus",AJ$52="A - Exclus",AJ$53="A - Exclus",AJ$54="A - Exclus",AJ$55="A - Exclus",AJ$56="A - Exclus",AJ$57="A - Exclus",AJ$58="A - Exclus",AJ$59="A - Exclus",AJ$60="A - Exclus",AJ$61="A - Exclus",AJ$62="A - Exclus",AJ$63="A - Exclus",AJ$64),AJ$13,"") | G7: =IF(OR(AK$15="A - Exclus",AK$16="A - Exclus",AK$17="A - Exclus",AK$18="A - Exclus",AK$19="A - Exclus",AK$20="A - Exclus",AK$21="A - Exclus",AK$22="A - Exclus",AK$23="A - Exclus",AK$24="A - Exclus",AK$25="A - Exclus",AK$26="A - Exclus",AK$27="A - Exclus",AK$28="A - Exclus",AK$29="A - Exclus",AK$30="A - Exclus",AK$31="A - Exclus",AK$32="A - Exclus",AK$33="A - Exclus",AK$34="A - Exclus",AK$35="A - Exclus",AK$36="A - Exclus",AK$37="A - Exclus",AK$38="A - Exclus",AK$39="A - Exclus",AK$40="A - Exclus",AK$41="A - Exclus",AK$42="A - Exclus",AK$43="A - Exclus",AK$44="A - Exclus",AK$45="A - Exclus",AK$46="A - Exclus",AK$47="A - Exclus",AK$48="A - Exclus",AK$49="A - Exclus",AK$50="A - Exclus",AK$51="A - Exclus",AK$52="A - Exclus",AK$53="A - Exclus",AK$54="A - Exclus",AK$55="A - Exclus",AK$56="A - Exclus",AK$57="A - Exclus",AK$58="A - Exclus",AK$59="A - Exclus",AK$60="A - Exclus",AK$61="A - Exclus",AK$62="A - Exclus",AK$63="A - Exclus",AK$64),AK$13,"") | H7: =IF(OR(AL$15="A - Exclus",AL$16="A - Exclus",AL$17="A - Exclus",AL$18="A - Exclus",AL$19="A - Exclus",AL$20="A - Exclus",AL$21="A - Exclus",AL$22="A - Exclus",AL$23="A - Exclus",AL$24="A - Exclus",AL$25="A - Exclus",AL$26="A - Exclus",AL$27="A - Exclus",AL$28="A - Exclus",AL$29="A - Exclus",AL$30="A - Exclus",AL$31="A - Exclus",AL$32="A - Exclus",AL$33="A - Exclus",AL$34="A - Exclus",AL$35="A - Exclus",AL$36="A - Exclus",AL$37="A - Exclus",AL$38="A - Exclus",AL$39="A - Exclus",AL$40="A - Exclus",AL$41="A - Exclus",AL$42="A - Exclus",AL$43="A - Exclus",AL$44="A - Exclus",AL$45="A - Exclus",AL$46="A - Exclus",AL$47="A - Exclus",AL$48="A - Exclus",AL$49="A - Exclus",AL$50="A - Exclus",AL$51="A - Exclus",AL$52="A - Exclus",AL$53="A - Exclus",AL$54="A - Exclus",AL$55="A - Exclus",AL$56="A - Exclus",AL$57="A - Exclus",AL$58="A - Exclus",AL$59="A - Exclus",AL$60="A - Exclus",AL$61="A - Exclus",AL$62="A - Exclus",AL$63="A - Exclus",AL$64),AL$13,"") | I7: =IF(OR(AM$15="A - Exclus",AM$16="A - Exclus",AM$17="A - Exclus",AM$18="A - Exclus",AM$19="A - Exclus",AM$20="A - Exclus",AM$21="A - Exclus",AM$22="A - Exclus",AM$23="A - Exclus",AM$24="A - Exclus",AM$25="A - Exclus",AM$26="A - Exclus",AM$27="A - Exclus",AM$28="A - Exclus",AM$29="A - Exclus",AM$30="A - Exclus",AM$31="A - Exclus",AM$32="A - Exclus",AM$33="A - Exclus",AM$34="A - Exclus",AM$35="A - Exclus",AM$36="A - Exclus",AM$37="A - Exclus",AM$38="A - Exclus",AM$39="A - Exclus",AM$40="A - Exclus",AM$41="A - Exclus",AM$42="A - Exclus",AM$43="A - Exclus",AM$44="A - Exclus",AM$45="A - Exclus",AM$46="A - Exclus",AM$47="A - Exclus",AM$48="A - Exclus",AM$49="A - Exclus",AM$50="A - Exclus",AM$51="A - Exclus",AM$52="A - Exclus",AM$53="A - Exclus",AM$54="A - Exclus",AM$55="A - Exclus",AM$56="A - Exclus",AM$57="A - Exclus",AM$58="A - Exclus",AM$59="A - Exclus",AM$60="A - Exclus",AM$61="A - Exclus",AM$62="A - Exclus",AM$63="A - Exclus",AM$64),AM$13,"") | J7: =IF(OR(AN$15="A - Exclus",AN$16="A - Exclus",AN$17="A - Exclus",AN$18="A - Exclus",AN$19="A - Exclus",AN$20="A - Exclus",AN$21="A - Exclus",AN$22="A - Exclus",AN$23="A - Exclus",AN$24="A - Exclus",AN$25="A - Exclus",AN$26="A - Exclus",AN$27="A - Exclus",AN$28="A - Exclus",AN$29="A - Exclus",AN$30="A - Exclus",AN$31="A - Exclus",AN$32="A - Exclus",AN$33="A - Exclus",AN$34="A - Exclus",AN$35="A - Exclus",AN$36="A - Exclus",AN$37="A - Exclus",AN$38="A - Exclus",AN$39="A - Exclus",AN$40="A - Exclus",AN$41="A - Exclus",AN$42="A - Exclus",AN$43="A - Exclus",AN$44="A - Exclus",AN$45="A - Exclus",AN$46="A - Exclus",AN$47="A - Exclus",AN$48="A - Exclus",AN$49="A - Exclus",AN$50="A - Exclus",AN$51="A - Exclus",AN$52="A - Exclus",AN$53="A - Exclus",AN$54="A - Exclus",AN$55="A - Exclus",AN$56="A - Exclus",AN$57="A - Exclus",AN$58="A - Exclus",AN$59="A - Exclus",AN$60="A - Exclus",AN$61="A - Exclus",AN$62="A - Exclus",AN$63="A - Exclus",AN$64),AN$13,"")
E8: =IF(OR(AO$15="A - Exclus",AO$16="A - Exclus",AO$17="A - Exclus",AO$18="A - Exclus",AO$19="A - Exclus",AO$20="A - Exclus",AO$21="A - Exclus",AO$22="A - Exclus",AO$23="A - Exclus",AO$24="A - Exclus",AO$25="A - Exclus",AO$26="A - Exclus",AO$27="A - Exclus",AO$28="A - Exclus",AO$29="A - Exclus",AO$30="A - Exclus",AO$31="A - Exclus",AO$32="A - Exclus",AO$33="A - Exclus",AO$34="A - Exclus",AO$35="A - Exclus",AO$36="A - Exclus",AO$37="A - Exclus",AO$38="A - Exclus",AO$39="A - Exclus",AO$40="A - Exclus",AO$41="A - Exclus",AO$42="A - Exclus",AO$43="A - Exclus",AO$44="A - Exclus",AO$45="A - Exclus",AO$46="A - Exclus",AO$47="A - Exclus",AO$48="A - Exclus",AO$49="A - Exclus",AO$50="A - Exclus",AO$51="A - Exclus",AO$52="A - Exclus",AO$53="A - Exclus",AO$54="A - Exclus",AO$55="A - Exclus",AO$56="A - Exclus",AO$57="A - Exclus",AO$58="A - Exclus",AO$59="A - Exclus",AO$60="A - Exclus",AO$61="A - Exclus",AO$62="A - Exclus",AO$63="A - Exclus",AO$64),AO$13,"") | F8: =IF(OR(AP$15="A - Exclus",AP$16="A - Exclus",AP$17="A - Exclus",AP$18="A - Exclus",AP$19="A - Exclus",AP$20="A - Exclus",AP$21="A - Exclus",AP$22="A - Exclus",AP$23="A - Exclus",AP$24="A - Exclus",AP$25="A - Exclus",AP$26="A - Exclus",AP$27="A - Exclus",AP$28="A - Exclus",AP$29="A - Exclus",AP$30="A - Exclus",AP$31="A - Exclus",AP$32="A - Exclus",AP$33="A - Exclus",AP$34="A - Exclus",AP$35="A - Exclus",AP$36="A - Exclus",AP$37="A - Exclus",AP$38="A - Exclus",AP$39="A - Exclus",AP$40="A - Exclus",AP$41="A - Exclus",AP$42="A - Exclus",AP$43="A - Exclus",AP$44="A - Exclus",AP$45="A - Exclus",AP$46="A - Exclus",AP$47="A - Exclus",AP$48="A - Exclus",AP$49="A - Exclus",AP$50="A - Exclus",AP$51="A - Exclus",AP$52="A - Exclus",AP$53="A - Exclus",AP$54="A - Exclus",AP$55="A - Exclus",AP$56="A - Exclus",AP$57="A - Exclus",AP$58="A - Exclus",AP$59="A - Exclus",AP$60="A - Exclus",AP$61="A - Exclus",AP$62="A - Exclus",AP$63="A - Exclus",AP$64),AP$13,"") | G8: =IF(OR(AQ$15="A - Exclus",AQ$16="A - Exclus",AQ$17="A - Exclus",AQ$18="A - Exclus",AQ$19="A - Exclus",AQ$20="A - Exclus",AQ$21="A - Exclus",AQ$22="A - Exclus",AQ$23="A - Exclus",AQ$24="A - Exclus",AQ$25="A - Exclus",AQ$26="A - Exclus",AQ$27="A - Exclus",AQ$28="A - Exclus",AQ$29="A - Exclus",AQ$30="A - Exclus",AQ$31="A - Exclus",AQ$32="A - Exclus",AQ$33="A - Exclus",AQ$34="A - Exclus",AQ$35="A - Exclus",AQ$36="A - Exclus",AQ$37="A - Exclus",AQ$38="A - Exclus",AQ$39="A - Exclus",AQ$40="A - Exclus",AQ$41="A - Exclus",AQ$42="A - Exclus",AQ$43="A - Exclus",AQ$44="A - Exclus",AQ$45="A - Exclus",AQ$46="A - Exclus",AQ$47="A - Exclus",AQ$48="A - Exclus",AQ$49="A - Exclus",AQ$50="A - Exclus",AQ$51="A - Exclus",AQ$52="A - Exclus",AQ$53="A - Exclus",AQ$54="A - Exclus",AQ$55="A - Exclus",AQ$56="A - Exclus",AQ$57="A - Exclus",AQ$58="A - Exclus",AQ$59="A - Exclus",AQ$60="A - Exclus",AQ$61="A - Exclus",AQ$62="A - Exclus",AQ$63="A - Exclus",AQ$64),AQ$13,"") | H8: =IF(OR(AR$15="A - Exclus",AR$16="A - Exclus",AR$17="A - Exclus",AR$18="A - Exclus",AR$19="A - Exclus",AR$20="A - Exclus",AR$21="A - Exclus",AR$22="A - Exclus",AR$23="A - Exclus",AR$24="A - Exclus",AR$25="A - Exclus",AR$26="A - Exclus",AR$27="A - Exclus",AR$28="A - Exclus",AR$29="A - Exclus",AR$30="A - Exclus",AR$31="A - Exclus",AR$32="A - Exclus",AR$33="A - Exclus",AR$34="A - Exclus",AR$35="A - Exclus",AR$36="A - Exclus",AR$37="A - Exclus",AR$38="A - Exclus",AR$39="A - Exclus",AR$40="A - Exclus",AR$41="A - Exclus",AR$42="A - Exclus",AR$43="A - Exclus",AR$44="A - Exclus",AR$45="A - Exclus",AR$46="A - Exclus",AR$47="A - Exclus",AR$48="A - Exclus",AR$49="A - Exclus",AR$50="A - Exclus",AR$51="A - Exclus",AR$52="A - Exclus",AR$53="A - Exclus",AR$54="A - Exclus",AR$55="A - Exclus",AR$56="A - Exclus",AR$57="A - Exclus",AR$58="A - Exclus",AR$59="A - Exclus",AR$60="A - Exclus",AR$61="A - Exclus",AR$62="A - Exclus",AR$63="A - Exclus",AR$64),AR$13,"") | I8: =IF(OR(AS$15="A - Exclus",AS$16="A - Exclus",AS$17="A - Exclus",AS$18="A - Exclus",AS$19="A - Exclus",AS$20="A - Exclus",AS$21="A - Exclus",AS$22="A - Exclus",AS$23="A - Exclus",AS$24="A - Exclus",AS$25="A - Exclus",AS$26="A - Exclus",AS$27="A - Exclus",AS$28="A - Exclus",AS$29="A - Exclus",AS$30="A - Exclus",AS$31="A - Exclus",AS$32="A - Exclus",AS$33="A - Exclus",AS$34="A - Exclus",AS$35="A - Exclus",AS$36="A - Exclus",AS$37="A - Exclus",AS$38="A - Exclus",AS$39="A - Exclus",AS$40="A - Exclus",AS$41="A - Exclus",AS$42="A - Exclus",AS$43="A - Exclus",AS$44="A - Exclus",AS$45="A - Exclus",AS$46="A - Exclus",AS$47="A - Exclus",AS$48="A - Exclus",AS$49="A - Exclus",AS$50="A - Exclus",AS$51="A - Exclus",AS$52="A - Exclus",AS$53="A - Exclus",AS$54="A - Exclus",AS$55="A - Exclus",AS$56="A - Exclus",AS$57="A - Exclus",AS$58="A - Exclus",AS$59="A - Exclus",AS$60="A - Exclus",AS$61="A - Exclus",AS$62="A - Exclus",AS$63="A - Exclus",AS$64),AS$13,"") | J8: =IF(OR(AT$15="A - Exclus",AT$16="A - Exclus",AT$17="A - Exclus",AT$18="A - Exclus",AT$19="A - Exclus",AT$20="A - Exclus",AT$21="A - Exclus",AT$22="A - Exclus",AT$23="A - Exclus",AT$24="A - Exclus",AT$25="A - Exclus",AT$26="A - Exclus",AT$27="A - Exclus",AT$28="A - Exclus",AT$29="A - Exclus",AT$30="A - Exclus",AT$31="A - Exclus",AT$32="A - Exclus",AT$33="A - Exclus",AT$34="A - Exclus",AT$35="A - Exclus",AT$36="A - Exclus",AT$37="A - Exclus",AT$38="A - Exclus",AT$39="A - Exclus",AT$40="A - Exclus",AT$41="A - Exclus",AT$42="A - Exclus",AT$43="A - Exclus",AT$44="A - Exclus",AT$45="A - Exclus",AT$46="A - Exclus",AT$47="A - Exclus",AT$48="A - Exclus",AT$49="A - Exclus",AT$50="A - Exclus",AT$51="A - Exclus",AT$52="A - Exclus",AT$53="A - Exclus",AT$54="A - Exclus",AT$55="A - Exclus",AT$56="A - Exclus",AT$57="A - Exclus",AT$58="A - Exclus",AT$59="A - Exclus",AT$60="A - Exclus",AT$61="A - Exclus",AT$62="A - Exclus",AT$63="A - Exclus",AT$64),AT$13,"")
E9: =IF(OR(AU$15="A - Exclus",AU$16="A - Exclus",AU$17="A - Exclus",AU$18="A - Exclus",AU$19="A - Exclus",AU$20="A - Exclus",AU$21="A - Exclus",AU$22="A - Exclus",AU$23="A - Exclus",AU$24="A - Exclus",AU$25="A - Exclus",AU$26="A - Exclus",AU$27="A - Exclus",AU$28="A - Exclus",AU$29="A - Exclus",AU$30="A - Exclus",AU$31="A - Exclus",AU$32="A - Exclus",AU$33="A - Exclus",AU$34="A - Exclus",AU$35="A - Exclus",AU$36="A - Exclus",AU$37="A - Exclus",AU$38="A - Exclus",AU$39="A - Exclus",AU$40="A - Exclus",AU$41="A - Exclus",AU$42="A - Exclus",AU$43="A - Exclus",AU$44="A - Exclus",AU$45="A - Exclus",AU$46="A - Exclus",AU$47="A - Exclus",AU$48="A - Exclus",AU$49="A - Exclus",AU$50="A - Exclus",AU$51="A - Exclus",AU$52="A - Exclus",AU$53="A - Exclus",AU$54="A - Exclus",AU$55="A - Exclus",AU$56="A - Exclus",AU$57="A - Exclus",AU$58="A - Exclus",AU$59="A - Exclus",AU$60="A - Exclus",AU$61="A - Exclus",AU$62="A - Exclus",AU$63="A - Exclus",AU$64),AU$13,"") | F9: =IF(OR(AV$15="A - Exclus",AV$16="A - Exclus",AV$17="A - Exclus",AV$18="A - Exclus",AV$19="A - Exclus",AV$20="A - Exclus",AV$21="A - Exclus",AV$22="A - Exclus",AV$23="A - Exclus",AV$24="A - Exclus",AV$25="A - Exclus",AV$26="A - Exclus",AV$27="A - Exclus",AV$28="A - Exclus",AV$29="A - Exclus",AV$30="A - Exclus",AV$31="A - Exclus",AV$32="A - Exclus",AV$33="A - Exclus",AV$34="A - Exclus",AV$35="A - Exclus",AV$36="A - Exclus",AV$37="A - Exclus",AV$38="A - Exclus",AV$39="A - Exclus",AV$40="A - Exclus",AV$41="A - Exclus",AV$42="A - Exclus",AV$43="A - Exclus",AV$44="A - Exclus",AV$45="A - Exclus",AV$46="A - Exclus",AV$47="A - Exclus",AV$48="A - Exclus",AV$49="A - Exclus",AV$50="A - Exclus",AV$51="A - Exclus",AV$52="A - Exclus",AV$53="A - Exclus",AV$54="A - Exclus",AV$55="A - Exclus",AV$56="A - Exclus",AV$57="A - Exclus",AV$58="A - Exclus",AV$59="A - Exclus",AV$60="A - Exclus",AV$61="A - Exclus",AV$62="A - Exclus",AV$63="A - Exclus",AV$64),AV$13,"") | G9: =IF(OR(AW$15="A - Exclus",AW$16="A - Exclus",AW$17="A - Exclus",AW$18="A - Exclus",AW$19="A - Exclus",AW$20="A - Exclus",AW$21="A - Exclus",AW$22="A - Exclus",AW$23="A - Exclus",AW$24="A - Exclus",AW$25="A - Exclus",AW$26="A - Exclus",AW$27="A - Exclus",AW$28="A - Exclus",AW$29="A - Exclus",AW$30="A - Exclus",AW$31="A - Exclus",AW$32="A - Exclus",AW$33="A - Exclus",AW$34="A - Exclus",AW$35="A - Exclus",AW$36="A - Exclus",AW$37="A - Exclus",AW$38="A - Exclus",AW$39="A - Exclus",AW$40="A - Exclus",AW$41="A - Exclus",AW$42="A - Exclus",AW$43="A - Exclus",AW$44="A - Exclus",AW$45="A - Exclus",AW$46="A - Exclus",AW$47="A - Exclus",AW$48="A - Exclus",AW$49="A - Exclus",AW$50="A - Exclus",AW$51="A - Exclus",AW$52="A - Exclus",AW$53="A - Exclus",AW$54="A - Exclus",AW$55="A - Exclus",AW$56="A - Exclus",AW$57="A - Exclus",AW$58="A - Exclus",AW$59="A - Exclus",AW$60="A - Exclus",AW$61="A - Exclus",AW$62="A - Exclus",AW$63="A - Exclus",AW$64),AW$13,"") | H9: =IF(OR(AX$15="A - Exclus",AX$16="A - Exclus",AX$17="A - Exclus",AX$18="A - Exclus",AX$19="A - Exclus",AX$20="A - Exclus",AX$21="A - Exclus",AX$22="A - Exclus",AX$23="A - Exclus",AX$24="A - Exclus",AX$25="A - Exclus",AX$26="A - Exclus",AX$27="A - Exclus",AX$28="A - Exclus",AX$29="A - Exclus",AX$30="A - Exclus",AX$31="A - Exclus",AX$32="A - Exclus",AX$33="A - Exclus",AX$34="A - Exclus",AX$35="A - Exclus",AX$36="A - Exclus",AX$37="A - Exclus",AX$38="A - Exclus",AX$39="A - Exclus",AX$40="A - Exclus",AX$41="A - Exclus",AX$42="A - Exclus",AX$43="A - Exclus",AX$44="A - Exclus",AX$45="A - Exclus",AX$46="A - Exclus",AX$47="A - Exclus",AX$48="A - Exclus",AX$49="A - Exclus",AX$50="A - Exclus",AX$51="A - Exclus",AX$52="A - Exclus",AX$53="A - Exclus",AX$54="A - Exclus",AX$55="A - Exclus",AX$56="A - Exclus",AX$57="A - Exclus",AX$58="A - Exclus",AX$59="A - Exclus",AX$60="A - Exclus",AX$61="A - Exclus",AX$62="A - Exclus",AX$63="A - Exclus",AX$64),AX$13,"") | I9: =IF(OR(AY$15="A - Exclus",AY$16="A - Exclus",AY$17="A - Exclus",AY$18="A - Exclus",AY$19="A - Exclus",AY$20="A - Exclus",AY$21="A - Exclus",AY$22="A - Exclus",AY$23="A - Exclus",AY$24="A - Exclus",AY$25="A - Exclus",AY$26="A - Exclus",AY$27="A - Exclus",AY$28="A - Exclus",AY$29="A - Exclus",AY$30="A - Exclus",AY$31="A - Exclus",AY$32="A - Exclus",AY$33="A - Exclus",AY$34="A - Exclus",AY$35="A - Exclus",AY$36="A - Exclus",AY$37="A - Exclus",AY$38="A - Exclus",AY$39="A - Exclus",AY$40="A - Exclus",AY$41="A - Exclus",AY$42="A - Exclus",AY$43="A - Exclus",AY$44="A - Exclus",AY$45="A - Exclus",AY$46="A - Exclus",AY$47="A - Exclus",AY$48="A - Exclus",AY$49="A - Exclus",AY$50="A - Exclus",AY$51="A - Exclus",AY$52="A - Exclus",AY$53="A - Exclus",AY$54="A - Exclus",AY$55="A - Exclus",AY$56="A - Exclus",AY$57="A - Exclus",AY$58="A - Exclus",AY$59="A - Exclus",AY$60="A - Exclus",AY$61="A - Exclus",AY$62="A - Exclus",AY$63="A - Exclus",AY$64),AY$13,"") | J9: =IF(OR(AZ$15="A - Exclus",AZ$16="A - Exclus",AZ$17="A - Exclus",AZ$18="A - Exclus",AZ$19="A - Exclus",AZ$20="A - Exclus",AZ$21="A - Exclus",AZ$22="A - Exclus",AZ$23="A - Exclus",AZ$24="A - Exclus",AZ$25="A - Exclus",AZ$26="A - Exclus",AZ$27="A - Exclus",AZ$28="A - Exclus",AZ$29="A - Exclus",AZ$30="A - Exclus",AZ$31="A - Exclus",AZ$32="A - Exclus",AZ$33="A - Exclus",AZ$34="A - Exclus",AZ$35="A - Exclus",AZ$36="A - Exclus",AZ$37="A - Exclus",AZ$38="A - Exclus",AZ$39="A - Exclus",AZ$40="A - Exclus",AZ$41="A - Exclus",AZ$42="A - Exclus",AZ$43="A - Exclus",AZ$44="A - Exclus",AZ$45="A - Exclus",AZ$46="A - Exclus",AZ$47="A - Exclus",AZ$48="A - Exclus",AZ$49="A - Exclus",AZ$50="A - Exclus",AZ$51="A - Exclus",AZ$52="A - Exclus",AZ$53="A - Exclus",AZ$54="A - Exclus",AZ$55="A - Exclus",AZ$56="A - Exclus",AZ$57="A - Exclus",AZ$58="A - Exclus",AZ$59="A - Exclus",AZ$60="A - Exclus",AZ$61="A - Exclus",AZ$62="A - Exclus",AZ$63="A - Exclus",AZ$64),AZ$13,"")
E10: =IF(OR(BA$15="A - Exclus",BA$16="A - Exclus",BA$17="A - Exclus",BA$18="A - Exclus",BA$19="A - Exclus",BA$20="A - Exclus",BA$21="A - Exclus",BA$22="A - Exclus",BA$23="A - Exclus",BA$24="A - Exclus",BA$25="A - Exclus",BA$26="A - Exclus",BA$27="A - Exclus",BA$28="A - Exclus",BA$29="A - Exclus",BA$30="A - Exclus",BA$31="A - Exclus",BA$32="A - Exclus",BA$33="A - Exclus",BA$34="A - Exclus",BA$35="A - Exclus",BA$36="A - Exclus",BA$37="A - Exclus",BA$38="A - Exclus",BA$39="A - Exclus",BA$40="A - Exclus",BA$41="A - Exclus",BA$42="A - Exclus",BA$43="A - Exclus",BA$44="A - Exclus",BA$45="A - Exclus",BA$46="A - Exclus",BA$47="A - Exclus",BA$48="A - Exclus",BA$49="A - Exclus",BA$50="A - Exclus",BA$51="A - Exclus",BA$52="A - Exclus",BA$53="A - Exclus",BA$54="A - Exclus",BA$55="A - Exclus",BA$56="A - Exclus",BA$57="A - Exclus",BA$58="A - Exclus",BA$59="A - Exclus",BA$60="A - Exclus",BA$61="A - Exclus",BA$62="A - Exclus",BA$63="A - Exclus",BA$64),BA$13,"") | F10: =IF(OR(BB$15="A - Exclus",BB$16="A - Exclus",BB$17="A - Exclus",BB$18="A - Exclus",BB$19="A - Exclus",BB$20="A - Exclus",BB$21="A - Exclus",BB$22="A - Exclus",BB$23="A - Exclus",BB$24="A - Exclus",BB$25="A - Exclus",BB$26="A - Exclus",BB$27="A - Exclus",BB$28="A - Exclus",BB$29="A - Exclus",BB$30="A - Exclus",BB$31="A - Exclus",BB$32="A - Exclus",BB$33="A - Exclus",BB$34="A - Exclus",BB$35="A - Exclus",BB$36="A - Exclus",BB$37="A - Exclus",BB$38="A - Exclus",BB$39="A - Exclus",BB$40="A - Exclus",BB$41="A - Exclus",BB$42="A - Exclus",BB$43="A - Exclus",BB$44="A - Exclus",BB$45="A - Exclus",BB$46="A - Exclus",BB$47="A - Exclus",BB$48="A - Exclus",BB$49="A - Exclus",BB$50="A - Exclus",BB$51="A - Exclus",BB$52="A - Exclus",BB$53="A - Exclus",BB$54="A - Exclus",BB$55="A - Exclus",BB$56="A - Exclus",BB$57="A - Exclus",BB$58="A - Exclus",BB$59="A - Exclus",BB$60="A - Exclus",BB$61="A - Exclus",BB$62="A - Exclus",BB$63="A - Exclus",BB$64),BB$13,"") | G10: =IF(OR(BC$15="A - Exclus",BC$16="A - Exclus",BC$17="A - Exclus",BC$18="A - Exclus",BC$19="A - Exclus",BC$20="A - Exclus",BC$21="A - Exclus",BC$22="A - Exclus",BC$23="A - Exclus",BC$24="A - Exclus",BC$25="A - Exclus",BC$26="A - Exclus",BC$27="A - Exclus",BC$28="A - Exclus",BC$29="A - Exclus",BC$30="A - Exclus",BC$31="A - Exclus",BC$32="A - Exclus",BC$33="A - Exclus",BC$34="A - Exclus",BC$35="A - Exclus",BC$36="A - Exclus",BC$37="A - Exclus",BC$38="A - Exclus",BC$39="A - Exclus",BC$40="A - Exclus",BC$41="A - Exclus",BC$42="A - Exclus",BC$43="A - Exclus",BC$44="A - Exclus",BC$45="A - Exclus",BC$46="A - Exclus",BC$47="A - Exclus",BC$48="A - Exclus",BC$49="A - Exclus",BC$50="A - Exclus",BC$51="A - Exclus",BC$52="A - Exclus",BC$53="A - Exclus",BC$54="A - Exclus",BC$55="A - Exclus",BC$56="A - Exclus",BC$57="A - Exclus",BC$58="A - Exclus",BC$59="A - Exclus",BC$60="A - Exclus",BC$61="A - Exclus",BC$62="A - Exclus",BC$63="A - Exclus",BC$64),BC$13,"") | H10: =IF(OR(BD$15="A - Exclus",BD$16="A - Exclus",BD$17="A - Exclus",BD$18="A - Exclus",BD$19="A - Exclus",BD$20="A - Exclus",BD$21="A - Exclus",BD$22="A - Exclus",BD$23="A - Exclus",BD$24="A - Exclus",BD$25="A - Exclus",BD$26="A - Exclus",BD$27="A - Exclus",BD$28="A - Exclus",BD$29="A - Exclus",BD$30="A - Exclus",BD$31="A - Exclus",BD$32="A - Exclus",BD$33="A - Exclus",BD$34="A - Exclus",BD$35="A - Exclus",BD$36="A - Exclus",BD$37="A - Exclus",BD$38="A - Exclus",BD$39="A - Exclus",BD$40="A - Exclus",BD$41="A - Exclus",BD$42="A - Exclus",BD$43="A - Exclus",BD$44="A - Exclus",BD$45="A - Exclus",BD$46="A - Exclus",BD$47="A - Exclus",BD$48="A - Exclus",BD$49="A - Exclus",BD$50="A - Exclus",BD$51="A - Exclus",BD$52="A - Exclus",BD$53="A - Exclus",BD$54="A - Exclus",BD$55="A - Exclus",BD$56="A - Exclus",BD$57="A - Exclus",BD$58="A - Exclus",BD$59="A - Exclus",BD$60="A - Exclus",BD$61="A - Exclus",BD$62="A - Exclus",BD$63="A - Exclus",BD$64),BD$13,"") | I10: =IF(OR(BE$15="A - Exclus",BE$16="A - Exclus",BE$17="A - Exclus",BE$18="A - Exclus",BE$19="A - Exclus",BE$20="A - Exclus",BE$21="A - Exclus",BE$22="A - Exclus",BE$23="A - Exclus",BE$24="A - Exclus",BE$25="A - Exclus",BE$26="A - Exclus",BE$27="A - Exclus",BE$28="A - Exclus",BE$29="A - Exclus",BE$30="A - Exclus",BE$31="A - Exclus",BE$32="A - Exclus",BE$33="A - Exclus",BE$34="A - Exclus",BE$35="A - Exclus",BE$36="A - Exclus",BE$37="A - Exclus",BE$38="A - Exclus",BE$39="A - Exclus",BE$40="A - Exclus",BE$41="A - Exclus",BE$42="A - Exclus",BE$43="A - Exclus",BE$44="A - Exclus",BE$45="A - Exclus",BE$46="A - Exclus",BE$47="A - Exclus",BE$48="A - Exclus",BE$49="A - Exclus",BE$50="A - Exclus",BE$51="A - Exclus",BE$52="A - Exclus",BE$53="A - Exclus",BE$54="A - Exclus",BE$55="A - Exclus",BE$56="A - Exclus",BE$57="A - Exclus",BE$58="A - Exclus",BE$59="A - Exclus",BE$60="A - Exclus",BE$61="A - Exclus",BE$62="A - Exclus",BE$63="A - Exclus",BE$64),BE$13,"") | J10: =IF(OR(BF$15="A - Exclus",BF$16="A - Exclus",BF$17="A - Exclus",BF$18="A - Exclus",BF$19="A - Exclus",BF$20="A - Exclus",BF$21="A - Exclus",BF$22="A - Exclus",BF$23="A - Exclus",BF$24="A - Exclus",BF$25="A - Exclus",BF$26="A - Exclus",BF$27="A - Exclus",BF$28="A - Exclus",BF$29="A - Exclus",BF$30="A - Exclus",BF$31="A - Exclus",BF$32="A - Exclus",BF$33="A - Exclus",BF$34="A - Exclus",BF$35="A - Exclus",BF$36="A - Exclus",BF$37="A - Exclus",BF$38="A - Exclus",BF$39="A - Exclus",BF$40="A - Exclus",BF$41="A - Exclus",BF$42="A - Exclus",BF$43="A - Exclus",BF$44="A - Exclus",BF$45="A - Exclus",BF$46="A - Exclus",BF$47="A - Exclus",BF$48="A - Exclus",BF$49="A - Exclus",BF$50="A - Exclus",BF$51="A - Exclus",BF$52="A - Exclus",BF$53="A - Exclus",BF$54="A - Exclus",BF$55="A - Exclus",BF$56="A - Exclus",BF$57="A - Exclus",BF$58="A - Exclus",BF$59="A - Exclus",BF$60="A - Exclus",BF$61="A - Exclus",BF$62="A - Exclus",BF$63="A - Exclus",BF$64),BF$13,"")
E12: Produits / services
E13: {=TRANSPOSE(Paramètres!G2:G51)} -> Produit 1 | F13: Produit 2 | G13: Produit 3 | H13: Produit 4 | I13: Produit 5 | J13: Produit 6 | K13: Produit 7 | L13: Produit 8 | M13: Produit 9 | N13: Produit 10 | O13: Produit 11 | P13: Produit 12 | Q13: Produit 13 | R13: Produit / service 14 | S13: Produit / service 15 | T13: Produit / service 16 | U13: Produit / service 17 | V13: Produit / service 18 | W13: Produit / service 19 | X13: Produit / service 20 | Y13: Produit / service 21 | Z13: Produit / service 22 | AA13: Produit / service 23 | AB13: Produit / service 24 | AC13: Produit / service 25 | AD13: Produit / service 26 | AE13: Produit / service 27 | AF13: Produit / service 28 | AG13: Produit / service 29 | AH13: Produit / service 30 | AI13: Produit / service 31 | AJ13: Produit / service 32 | AK13: Produit / service 33 | AL13: Produit / service 34 | AM13: Produit / service 35 | AN13: Produit / service 36 | AO13: Produit / service 37 | AP13: Produit / service 38 | AQ13: Produit / service 39 | AR13: Produit / service 40 | AS13: Produit / service 41 | AT13: Produit / service 42 | AU13: Produit / service 43 | AV13: Produit / service 44 | AW13: Produit / service 45 | AX13: Produit / service 46 | AY13: Produit / service 47 | AZ13: Produit / service 48 | BA13: Produit / service 49 | BB13: Produit / service 50
A14: Critères | C14: Priorités | D14: Brève justifications du score attribué | E14: {=IF(OR(E15:E37>""),"Produit "&COLUMN()-4,"")} -> Produit 1 | F14: {=IF(OR(F15:F37>""),"Produit "&COLUMN()-4,"")} -> Produit 2 | G14: {=IF(OR(G15:G37>""),"Produit "&COLUMN()-4,"")} -> Produit 3 | H14: {=IF(OR(H15:H37>""),"Produit "&COLUMN()-4,"")} | I14: {=IF(OR(I15:I37>""),"Produit "&COLUMN()-4,"")} | J14: {=IF(OR(J15:J37>""),"Produit "&COLUMN()-4,"")} | K14: {=IF(OR(K15:K37>""),"Produit "&COLUMN()-4,"")} | L14: {=IF(OR(L15:L37>""),"Produit "&COLUMN()-4,"")} | ... BB14: {=IF(OR(BB15:BB37>""),"Produit "&COLUMN()-4,"")}
A15: =Paramètres!$A3 -> 1 | B15: =Paramètres!B3 -> Critère 1 | C15: 1 | E15: E - Normal | F15: E - Normal | G15: G - Très Important
A16: =Paramètres!$A4 -> 2 | B16: =Paramètres!B4 -> Critère 2 | C16: 1 | E16: E - Normal | F16: E - Normal | G16: G - Très Important
A17: =Paramètres!$A5 -> 3 | B17: =Paramètres!B5 -> Critère 3
A18: =Paramètres!$A6 -> 4 | B18: =Paramètres!B6 -> Critère 4
A19: =Paramètres!$A7 -> 5 | B19: =Paramètres!B7 -> Critère 5
A20: =Paramètres!$A8 -> 6 | B20: =Paramètres!B8 -> Critère 6
A21: =Paramètres!$A9 -> 7 | B21: =Paramètres!B9 -> Critère 7
A22: =Paramètres!$A10 -> 8 | B22: =Paramètres!B10 -> Critère 8
A23: =Paramètres!$A11 -> 9 | B23: =Paramètres!B11 -> Critère 9
A24: =Paramètres!$A12 -> 10 | B24: =Paramètres!B12 -> Critère 10
A25: =Paramètres!$A13 -> 11 | B25: =Paramètres!B13 -> Critère 11
A26: =Paramètres!$A14 -> 12 | B26: =Paramètres!B14 -> Critère 12
A27: =Paramètres!$A15 -> 13 | B27: =Paramètres!B15 -> Critère 13
A28: =Paramètres!$A16 -> 14 | B28: =Paramètres!B16 -> Critère 14
... A64: =Paramètres!$A52 -> 50 | B64: =Paramètres!B52 -> 0

Sheet D%$&01_DevSheet
A1: D%$&01_618d8d8ab9cb457883c4cd35be052ff9 | F1: =Données!C:C*"B#^!%" -> #VALUE! | G1: =Données!#REF!*"B#^!&" -> #REF! | H1: =Données!E:E*"B#^!'" -> #VALUE! | I1: =Données!F:F*"B#^!(" -> #VALUE! | J1: =Données!G:G*"B#^!)" -> #VALUE! | K1: =Données!H:H*"B#^!." -> #VALUE! | L1: =Données!I:I*"B#^!/" -> #VALUE! | M1: =Données!J:J*"B#^!0" -> #VALUE! | N1: =Données!K:K*"B#^!1" -> #VALUE! | O1: =Données!L:L*"B#^!2" -> #VALUE! | P1: =Données!M:M*"B#^!3" -> #VALUE! | Q1: =Données!N:N*"B#^!4" -> #VALUE! | R1: =Données!O:O*"B#^!5" -> #VALUE! | S1: =Données!P:P*"B#^!6" -> #VALUE! | T1: =Données!Q:Q*"B#^!7" -> #VALUE! | U1: =Données!R:R*"B#^!8" -> #VALUE! | V1: =Données!#REF!*"B#^!9" -> #REF! | W1: =Données!#REF!*"B#^!:" -> #REF! | X1: =Données!#REF!*"B#^!;" -> #REF! | Y1: =Données!#REF!*"B#^!<" -> #REF! | Z1: =Données!#REF!*"B#^!=" -> #REF! | AA1: =Données!#REF!*"B#^!>" -> #REF! | AB1: =Données!#REF!*"B#^!?" -> #REF! | AC1: =Données!#REF!*"B#^!@" -> #REF! | AD1: =Données!#REF!*"B#^!A" -> #REF! | AE1: =Données!#REF!*"B#^!B" -> #REF! | AF1: =Données!#REF!*"B#^!C" -> #REF! | AG1: =Données!#REF!*"B#^!D" -> #REF! | AH1: =Données!#REF!*"B#^!E" -> #REF! | AI1: =Données!S:S*"B#^!F" -> #VALUE! | AJ1: =Données!T:T*"B#^!G" -> #VALUE! | AK1: =Données!U:U*"B#^!H" -> #VALUE! | AL1: =Données!V:V*"B#^!I" -> #VALUE! | AM1: =Données!W:W*"B#^!J" -> #VALUE! | AN1: =Données!X:X*"B#^!K" -> #VALUE! | AO1: =Données!Y:Y*"B#^!L" -> #VALUE! | AP1: =Données!Z:Z*"B#^!M" -> #VALUE! | AQ1: =Données!AA:AA*"B#^!N" -> #VALUE! | AR1: =Données!AB:AB*"B#^!O" -> #VALUE! | AS1: =Données!AC:AC*"B#^!P" -> #VALUE! | AT1: =Données!AD:AD*"B#^!Q" -> #VALUE! | AU1: =Données!AE:AE*"B#^!R" -> #VALUE! | AV1: =Données!AF:AF*"B#^!S" -> #VALUE! | AW1: =Données!AG:AG*"B#^!T" -> #VALUE! | AX1: =Données!AH:AH*"B#^!U" -> #VALUE! | AY1: =Données!AI:AI*"B#^!V" -> #VALUE! | AZ1: =Données!AJ:AJ*"B#^!W" -> #VALUE! | BA1: =Données!AK:AK*"B#^!X" -> #VALUE! | BB1: =Données!AL:AL*"B#^!Y" -> #VALUE! | BC1: =Données!AM:AM*"B#^!Z" -> #VALUE! | BD1: =Données!AN:AN*"B#^![" -> #VALUE! | BE1: =Données!AO:AO*"B#^!\" -> #VALUE! | BF1: =Données!AP:AP*"B#^!]" -> #VALUE! | BG1: =Données!AQ:AQ*"B#^!^" -> #VALUE! | BH1: =Données!AR:AR*"B#^!_" -> #VALUE! | BI1: =Données!AS:AS*"B#^!`" -> #VALUE! | BJ1: =Données!AT:AT*"B#^!a" -> #VALUE! | BK1: =Données!AU:AU*"B#^!b" -> #VALUE! | BL1: =Données!AV:AV*"B#^!c" -> #VALUE! | BM1: =Données!AW:AW*"B#^!d" -> #VALUE! | BN1: =Données!AX:AX*"B#^!e" -> #VALUE! | BO1: =Données!AY:AY*"B#^!f" -> #VALUE! | BP1: =Données!AZ:AZ*"B#^!g" -> #VALUE! | BQ1: =Données!BA:BA*"B#^!h" -> #VALUE! | BR1: =Données!#REF!*"B#^!i" -> #REF! | BS1: =Données!#REF!*"B#^!j" -> #REF! | BT1: =Données!#REF!*"B#^!k" -> #REF! | BU1: =Données!#REF!*"B#^!l" -> #REF! | BV1: =Données!#REF!*"B#^!m" -> #REF! | BW1: =Données!#REF!*"B#^!n" -> #REF! | BX1: =Données!#REF!*"B#^!o" -> #REF! | BY1: =Données!#REF!*"B#^!p" -> #REF! | BZ1: =Données!#REF!*"B#^!q" -> #REF! | CA1: =Données!#REF!*"B#^!r" -> #REF! | CB1: =Données!#REF!*"B#^!s" -> #REF! | CC1: =Données!#REF!*"B#^!t" -> #REF! | CD1: =Données!#REF!*"B#^!u" -> #REF! | CE1: =Données!#REF!*"B#^!v" -> #REF! | CF1: =Données!#REF!*"B#^!w" -> #REF! | CG1: =Données!#REF!-"B#^!x" -> #REF! | CH1: =Données!#REF!-"B#^!y" -> #REF! | CI1: =Données!#REF!-"B#^!z" -> #REF! | CJ1: =Données!#REF!-"B#^!{" -> #REF! | CK1: =Données!#REF!-"B#^!|" -> #REF! | CL1: =Données!#REF!-"B#^!}" -> #REF! | CM1: =Données!#REF!-"B#^!~" -> #REF! | CN1: =Données!#REF!-"B#^!$#" -> #REF! | CO1: =Données!#REF!-"B#^!$$" -> #REF! | CP1: =Données!#REF!-"B#^!$%" -> #REF! | CQ1: =Données!#REF!-"B#^!$&" -> #REF! | CR1: =Données!#REF!-"B#^!$'" -> #REF! | CS1: =Données!#REF!-"B#^!$(" -> #REF! | CT1: =Données!#REF!-"B#^!$)" -> #REF! | CU1: =Données!#REF!-"B#^!$." -> #REF! | CV1: =Données!#REF!-"B#^!$/" -> #REF! | CW1: =Données!#REF!-"B#^!$0" -> #REF! | CX1: =Données!#REF!-"B#^!$1" -> #REF! | CY1: =Données!#REF!-"B#^!$2" -> #REF! | CZ1: =Données!#REF!-"B#^!$3" -> #REF! | DA1: =Données!#REF!-"B#^!$4" -> #REF! | DB1: =Données!#REF!-"B#^!$5" -> #REF! | DC1: =Données!#REF!-"B#^!$6" -> #REF! | DD1: =Données!#REF!-"B#^!$7" -> #REF! | DE1: =Données!#REF!-"B#^!$8" -> #REF! | DF1: =Données!#REF!-"B#^!$9" -> #REF! | DG1: =Données!#REF!-"B#^!$:" -> #REF! | DH1: =Données!#REF!-"B#^!$;" -> #REF! | DI1: =Données!#REF!-"B#^!$<" -> #REF! | DJ1: =Données!#REF!-"B#^!$=" -> #REF! | DK1: =Données!#REF!-"B#^!$>" -> #REF! | DL1: =Données!#REF!-"B#^!$?" -> #REF! | DM1: =Données!#REF!-"B#^!$@" -> #REF! | DN1: =Données!#REF!-"B#^!$A" -> #REF! | DO1: =Données!#REF!-"B#^!$B" -> #REF! | DP1: =Données!#REF!-"B#^!$C" -> #REF! | DQ1: =Données!#REF!-"B#^!$D" -> #REF! | DR1: =Données!#REF!-"B#^!$E" -> #REF! | DS1: =Données!#REF!-"B#^!$F" -> #REF! | DT1: =Données!#REF!-"B#^!$G" -> #REF! | DU1: =Données!#REF!-"B#^!$H" -> #REF! | DV1: =Données!#REF!-"B#^!$I" -> #REF! | DW1: =Données!#REF!-"B#^!$J" -> #REF! | DX1: =Données!#REF!-"B#^!$K" -> #REF! | DY1: =Données!6:6-"B#^!$L" -> #VALUE! | DZ1: =Données!#REF!-"B#^!$M" -> #REF! | EA1: =Données!13:13-"B#^!$N" -> #VALUE! | EB1: =Données!#REF!-"B#^!$O" -> #REF! | EC1: =Données!14:14-"B#^!$P" -> #VALUE! | ED1: =Données!15:15-"B#^!$Q" -> #VALUE! | EE1: =Données!16:16-"B#^!$R" -> #VALUE! | EF1: =Données!17:17-"B#^!$S" -> #VALUE! | EG1: =Données!18:18-"B#^!$T" -> #VALUE! | EH1: =Données!19:19-"B#^!$U" -> #VALUE! | EI1: =Données!20:20-"B#^!$V" -> #VALUE! | EJ1: =Données!21:21-"B#^!$W" -> #VALUE! | EK1: =Données!22:22-"B#^!$X" -> #VALUE! | EL1: =Données!23:23-"B#^!$Y" -> #VALUE! | EM1: =Données!24:24-"B#^!$Z" -> #VALUE! | EN1: =Données!25:25-"B#^!$[" -> #VALUE! | EO1: =Données!26:26-"B#^!$\" -> #VALUE! | EP1: =Données!27:27-"B#^!$]" -> #VALUE! | EQ1: =Données!28:28-"B#^!$^" -> #VALUE! | ER1: =Données!29:29-"B#^!$_" -> #VALUE! | ES1: =Données!30:30-"B#^!$`" -> #VALUE! | ET1: =Données!31:31-"B#^!$a" -> #VALUE! | EU1: =Données!32:32-"B#^!$b" -> #VALUE! | EV1: =Données!33:33-"B#^!$c" -> #VALUE! | EW1: =Données!34:34-"B#^!$d" -> #VALUE! | EX1: =Données!35:35-"B#^!$e" -> #VALUE! | EY1: =Données!36:36-"B#^!$f" -> #VALUE! | EZ1: =Données!37:37-"B#^!$g" -> #VALUE! | FA1: =Données!38:38-"B#^!$h" -> #VALUE! | FB1: =Données!39:39-"B#^!$i" -> #VALUE! | FC1: =Données!40:40-"B#^!$j" -> #VALUE! | FD1: =Données!41:41-"B#^!$k" -> #VALUE! | FE1: =Données!42:42-"B#^!$l" -> #VALUE! | FF1: =Données!43:43-"B#^!$m" -> #VALUE! | FG1: =Données!44:44-"B#^!$n" -> #VALUE! | FH1: =Données!45:45-"B#^!$o" -> #VALUE! | FI1: =Données!46:46-"B#^!$p" -> #VALUE! | FJ1: =Données!47:47-"B#^!$q" -> #VALUE! | FK1: =Données!48:48-"B#^!$r" -> #VALUE! | FL1: =Données!49:49-"B#^!$s" -> #VALUE! | FM1: =Données!50:50-"B#^!$t" -> #VALUE! | FN1: =Données!51:51-"B#^!$u" -> #VALUE! | FO1: =Données!52:52-"B#^!$v" -> #VALUE! | FP1: =Données!53:53-"B#^!$w" -> #VALUE! | FQ1: =Données!54:54-"B#^!$x" -> #VALUE! | FR1: =Données!55:55-"B#^!$y" -> #VALUE! | FS1: =Données!56:56-"B#^!$z" -> #VALUE! | FT1: =Données!57:57-"B#^!${" -> #VALUE! | FU1: =Données!58:58-"B#^!$|" -> #VALUE! | FV1: =Données!59:59-"B#^!$}" -> #VALUE! | FW1: =Données!60:60-"B#^!$~" -> #VALUE! | FX1: =Données!61:61-"B#^!%#" -> #VALUE! | FY1: =Données!62:62-"B#^!%$" -> #VALUE! | FZ1: =Données!63:63-"B#^!%%" -> #VALUE! | GA1: =Données!64:64-"B#^!%&" -> #VALUE! | GB1: =Données!65:65-"B#^!%'" -> #VALUE! | GC1: =Données!66:66-"B#^!%(" -> #VALUE! | GD1: =Données!67:67-"B#^!%)" -> #VALUE! | GE1: =Données!68:68-"B#^!%." -> #VALUE! | GF1: =Données!69:69-"B#^!%/" -> #VALUE! | GG1: =Données!70:70-"B#^!%0" -> #VALUE! | GH1: =Données!71:71-"B#^!%1" -> #VALUE! | GI1: =Données!72:72-"B#^!%2" -> #VALUE! | GJ1: =Données!73:73-"B#^!%3" -> #VALUE! | GK1: =Données!74:74-"B#^!%4" -> #VALUE! | GL1: =Données!75:75-"B#^!%5" -> #VALUE! | GM1: =Données!76:76-"B#^!%6" -> #VALUE! | GN1: =Données!77:77-"B#^!%7" -> #VALUE! | GO1: =Données!78:78-"B#^!%8" -> #VALUE! | GP1: =Données!79:79-"B#^!%9" -> #VALUE! | GQ1: =Données!80:80-"B#^!%:" -> #VALUE! | GR1: =Données!81:81-"B#^!%;" -> #VALUE! | GS1: =Données!82:82-"B#^!%<" -> #VALUE! | GT1: =Données!83:83-"B#^!%=" -> #VALUE! | GU1: =Données!84:84-"B#^!%>" -> #VALUE! | GV1: =Données!85:85-"B#^!%?" -> #VALUE! | GW1: =Données!86:86-"B#^!%@" -> #VALUE! | GX1: =Données!87:87-"B#^!%A" -> #VALUE! | GY1: =Données!88:88-"B#^!%B" -> #VALUE! | GZ1: =Données!89:89-"B#^!%C" -> #VALUE! | HA1: =Données!90:90-"B#^!%D" -> #VALUE! | HB1: =Données!91:91-"B#^!%E" -> #VALUE! | HC1: =Données!92:92-"B#^!%F" -> #VALUE! | HD1: =Données!93:93-"B#^!%G" -> #VALUE! | HE1: =Données!94:94-"B#^!%H" -> #VALUE! | HF1: =Données!95:95-"B#^!%I" -> #VALUE! | HG1: =Données!96:96-"B#^!%J" -> #VALUE! | HH1: =Données!97:97-"B#^!%K" -> #VALUE! | HI1: =Données!98:98-"B#^!%L" -> #VALUE! | HJ1: =Données!99:99-"B#^!%M" -> #VALUE! | HK1: =Données!100:100-"B#^!%N" -> #VALUE! | HL1: =Données!101:101-"B#^!%O" -> #VALUE! | HM1: =Données!102:102-"B#^!%P" -> #VALUE! | HN1: =Données!103:103-"B#^!%Q" -> #VALUE! | HO1: =Données!104:104-"B#^!%R" -> #VALUE! | HP1: =Données!105:105-"B#^!%S" -> #VALUE! | HQ1: =Données!106:106-"B#^!%T" -> #VALUE! | HR1: =Données!107:107-"B#^!%U" -> #VALUE! | HS1: =Données!108:108-"B#^!%V" -> #VALUE! | HT1: =Données!109:109-"B#^!%W" -> #VALUE! | HU1: =Données!110:110-"B#^!%X" -> #VALUE! | HV1: =Données!111:111-"B#^!%Y" -> #VALUE! | HW1: =Données!112:112-"B#^!%Z" -> #VALUE! | HX1: =Données!113:113-"B#^!%[" -> #VALUE! | HY1: =Données!114:114-"B#^!%\" -> #VALUE! | HZ1: =Données!115:115-"B#^!%]" -> #VALUE! | IA1: =Données!116:116-"B#^!%^" -> #VALUE! | IB1: =Données!117:117-"B#^!%_" -> #VALUE! | IC1: =Données!118:118-"B#^!%`" -> #VALUE! | ID1: =Données!119:119-"B#^!%a" -> #VALUE! | IE1: =Données!120:120-"B#^!%b" -> #VALUE! | IF1: =Données!121:121-"B#^!%c" -> #VALUE! | IG1: =Données!122:122-"B#^!%d" -> #VALUE! | IH1: =Données!123:123-"B#^!%e" -> #VALUE! | II1: =Données!124:124-"B#^!%f" -> #VALUE! | IJ1: =Données!125:125-"B#^!%g" -> #VALUE! | IK1: =Données!126:126-"B#^!%h" -> #VALUE! | IL1: =Données!127:127-"B#^!%i" -> #VALUE! | IM1: =Données!128:128-"B#^!%j" -> #VALUE! | IN1: =Données!129:129-"B#^!%k" -> #VALUE! | IO1: =Données!130:130-"B#^!%l" -> #VALUE! | IP1: =Données!131:131-"B#^!%m" -> #VALUE! | IQ1: =Données!132:132-"B#^!%n" -> #VALUE! | IR1: =Données!133:133-"B#^!%o" -> #VALUE! | IS1: =Données!134:134-"B#^!%p" -> #VALUE! | IT1: =Données!135:135-"B#^!%q" -> #VALUE! | IU1: =Données!136:136-"B#^!%r" -> #VALUE! | IV1: =Données!137:137-"B#^!%s" -> #VALUE!
A2: Mickael THOMAS_7224_ORANGE_Windows (32-bit) NT 6.02_WX-OR6134541_alten$$$07012019 | F2: =Données!138:138-"B#^!%t" -> #VALUE! | G2: =Données!139:139-"B#^!%u" -> #VALUE! | H2: =Données!140:140-"B#^!%v" -> #VALUE! | I2: =Données!141:141-"B#^!%w" -> #VALUE! | J2: =Données!142:142-"B#^!%x" -> #VALUE! | K2: =Données!143:143-"B#^!%y" -> #VALUE! | L2: =Données!144:144-"B#^!%z" -> #VALUE! | M2: =Données!145:145-"B#^!%{" -> #VALUE! | N2: =Données!146:146-"B#^!%|" -> #VALUE! | O2: =Données!147:147-"B#^!%}" -> #VALUE! | P2: =Données!148:148-"B#^!%~" -> #VALUE! | Q2: =Données!149:149-"B#^!&#" -> #VALUE! | R2: =Données!150:150-"B#^!&$" -> #VALUE! | S2: =Données!151:151-"B#^!&%" -> #VALUE! | T2: =Données!152:152-"B#^!&&" -> #VALUE! | U2: =Données!153:153-"B#^!&'" -> #VALUE! | V2: =Données!154:154-"B#^!&(" -> #VALUE! | W2: =Données!155:155-"B#^!&)" -> #VALUE! | X2: =Données!156:156-"B#^!&." -> #VALUE! | Y2: =Données!157:157-"B#^!&/" -> #VALUE! | Z2: =Données!158:158-"B#^!&0" -> #VALUE! | AA2: =Données!159:159-"B#^!&1" -> #VALUE! | AB2: =Données!160:160-"B#^!&2" -> #VALUE! | AC2: =Données!161:161-"B#^!&3" -> #VALUE! | AD2: =Données!162:162-"B#^!&4" -> #VALUE! | AE2: =Données!163:163-"B#^!&5" -> #VALUE! | AF2: =Données!164:164-"B#^!&6" -> #VALUE! | AG2: =Données!165:165-"B#^!&7" -> #VALUE! | AH2: =Données!166:166-"B#^!&8" -> #VALUE! | AI2: =Données!167:167-"B#^!&9" -> #VALUE! | AJ2: =Données!168:168-"B#^!&:" -> #VALUE! | AK2: =Données!169:169-"B#^!&;" -> #VALUE! | AL2: =Données!170:170-"B#^!&<" -> #VALUE! | AM2: =Données!171:171-"B#^!&=" -> #VALUE! | AN2: =Données!172:172-"B#^!&>" -> #VALUE! | AO2: =Données!173:173-"B#^!&?" -> #VALUE! | AP2: =Données!174:174-"B#^!&@" -> #VALUE! | AQ2: =Données!175:175-"B#^!&A" -> #VALUE! | AR2: =Données!176:176-"B#^!&B" -> #VALUE! | AS2: =Données!177:177-"B#^!&C" -> #VALUE! | AT2: =Données!178:178-"B#^!&D" -> #VALUE! | AU2: =Données!179:179-"B#^!&E" -> #VALUE! | AV2: =Données!180:180-"B#^!&F" -> #VALUE! | AW2: =Données!181:181-"B#^!&G" -> #VALUE! | AX2: =Données!182:182-"B#^!&H" -> #VALUE! | AY2: =Données!183:183-"B#^!&I" -> #VALUE! | AZ2: =Données!184:184-"B#^!&J" -> #VALUE! | BA2: =Données!185:185-"B#^!&K" -> #VALUE! | BB2: =Données!186:186-"B#^!&L" -> #VALUE! | BC2: =Données!187:187-"B#^!&M" -> #VALUE! | BD2: =Données!188:188-"B#^!&N" -> #VALUE! | BE2: =Données!189:189-"B#^!&O" -> #VALUE! | BF2: =Données!190:190-"B#^!&P" -> #VALUE! | BG2: =Données!191:191-"B#^!&Q" -> #VALUE! | BH2: =Données!192:192-"B#^!&R" -> #VALUE! | BI2: =Données!193:193-"B#^!&S" -> #VALUE! | BJ2: =Données!194:194-"B#^!&T" -> #VALUE! | BK2: =Données!195:195-"B#^!&U" -> #VALUE! | BL2: =Données!196:196-"B#^!&V" -> #VALUE! | BM2: =Données!197:197-"B#^!&W" -> #VALUE! | BN2: =Données!198:198-"B#^!&X" -> #VALUE! | BO2: =Données!199:199-"B#^!&Y" -> #VALUE! | BP2: =Données!200:200-"B#^!&Z" -> #VALUE! | BQ2: =Données!201:201-"B#^!&[" -> #VALUE! | BR2: =Données!202:202-"B#^!&\" -> #VALUE! | BS2: =Données!#REF!+"B#^!&]" -> #REF! | BT2: =Données!#REF!+"B#^!&^" -> #REF! | BU2: =Données!#REF!+"B#^!&_" -> #REF! | BV2: =Données!#REF!+"B#^!&`" -> #REF! | BW2: =Données!#REF!+"B#^!&a" -> #REF! | BX2: =Données!#REF!+"B#^!&b" -> #REF! | BY2: =Données!#REF!+"B#^!&c" -> #REF! | BZ2: =Données!#REF!+"B#^!&d" -> #REF! | CA2: =Données!#REF!+"B#^!&e" -> #REF! | CB2: =Données!#REF!+"B#^!&f" -> #REF! | CC2: =Données!#REF!+"B#^!&g" -> #REF! | CD2: =Données!#REF!+"B#^!&h" -> #REF! | CE2: =Données!#REF!+"B#^!&i" -> #REF! | CF2: =Données!#REF!+"B#^!&j" -> #REF! | CG2: =Données!#REF!+"B#^!&k" -> #REF! | CH2: =Données!#REF!+"B#^!&l" -> #REF! | CI2: =Données!#REF!+"B#^!&m" -> #REF! | CJ2: =Données!#REF!+"B#^!&n" -> #REF! | CK2: =Données!#REF!+"B#^!&o" -> #REF! | CL2: =Données!#REF!+"B#^!&p" -> #REF! | CM2: =Données!#REF!+"B#^!&q" -> #REF! | CN2: =Données!#REF!+"B#^!&r" -> #REF! | CO2: =Données!#REF!+"B#^!&s" -> #REF! | CP2: =Données!#REF!+"B#^!&t" -> #REF! | CQ2: =Données!#REF!+"B#^!&u" -> #REF! | CR2: =Données!#REF!+"B#^!&v" -> #REF! | CS2: =Données!#REF!+"B#^!&w" -> #REF! | CT2: =Données!#REF!+"B#^!&x" -> #REF! | CU2: =Données!#REF!+"B#^!&y" -> #REF! | CV2: =Données!#REF!+"B#^!&z" -> #REF! | CW2: =Données!#REF!+"B#^!&{" -> #REF! | CX2: =Données!#REF!+"B#^!&|" -> #REF! | CY2: =Données!#REF!+"B#^!&}" -> #REF! | CZ2: =Données!#REF!+"B#^!&~" -> #REF! | DA2: =Données!#REF!+"B#^!'#" -> #REF! | DB2: =Données!#REF!+"B#^!'$" -> #REF! | DC2: =Données!#REF!+"B#^!'%" -> #REF! | DD2: =Données!#REF!+"B#^!'&" -> #REF! | DE2: =Données!#REF!+"B#^!''" -> #REF! | DF2: =Données!#REF!+"B#^!'(" -> #REF! | DG2: =Données!#REF!+"B#^!')" -> #REF! | DH2: =Données!#REF!+"B#^!'." -> #REF! | DI2: =Données!#REF!+"B#^!'/" -> #REF! | DJ2: =Données!#REF!+"B#^!'0" -> #REF! | DK2: =Données!#REF!+"B#^!'1" -> #REF! | DL2: =Données!#REF!+"B#^!'2" -> #REF! | DM2: =Données!#REF!+"B#^!'3" -> #REF! | DN2: =Données!#REF!+"B#^!'4" -> #REF! | DO2: =Données!#REF!+"B#^!'5" -> #REF! | DP2: =Données!#REF!+"B#^!'6" -> #REF! | DQ2: =Données!#REF!+"B#^!'7" -> #REF! | DR2: =Données!#REF!+"B#^!'8" -> #REF! | DS2: =Données!#REF!+"B#^!'9" -> #REF! | DT2: =Données!#REF!+"B#^!':" -> #REF! | DU2: =Données!#REF!+"B#^!';" -> #REF! | DV2: =Données!#REF!+"B#^!'<" -> #REF! | DW2: =Données!#REF!+"B#^!'=" -> #REF! | DX2: =Données!#REF!+"B#^!'>" -> #REF! | DY2: =Données!#REF!+"B#^!'?" -> #REF! | DZ2: =Données!#REF!+"B#^!'@" -> #REF! | EA2: =Données!#REF!+"B#^!'A" -> #REF! | EB2: =Données!#REF!+"B#^!'B" -> #REF! | EC2: =Données!#REF!+"B#^!'C" -> #REF! | ED2: =Données!#REF!+"B#^!'D" -> #REF! | EE2: =Données!#REF!+"B#^!'E" -> #REF! | EF2: =Données!#REF!+"B#^!'F" -> #REF! | EG2: =Données!#REF!+"B#^!'G" -> #REF! | EH2: =Données!#REF!+"B#^!'H" -> #REF! | EI2: =Données!#REF!+"B#^!'I" -> #REF! | EJ2: =Données!#REF!+"B#^!'J" -> #REF! | EK2: =Données!#REF!+"B#^!'K" -> #REF! | EL2: =Données!#REF!+"B#^!'L" -> #REF! | EM2: =Données!#REF!+"B#^!'M" -> #REF! | EN2: =Données!#REF!+"B#^!'N" -> #REF! | EO2: =Données!#REF!+"B#^!'O" -> #REF! | EP2: =Données!#REF!+"B#^!'P" -> #REF! | EQ2: =Données!#REF!+"B#^!'Q" -> #REF! | ER2: =Données!#REF!+"B#^!'R" -> #REF! | ES2: =Données!#REF!+"B#^!'S" -> #REF! | ET2: =Données!#REF!+"B#^!'T" -> #REF! | EU2: =Données!#REF!+"B#^!'U" -> #REF! | EV2: =Données!#REF!+"B#^!'V" -> #REF! | EW2: =Données!#REF!+"B#^!'W" -> #REF! | EX2: =Données!#REF!+"B#^!'X" -> #REF! | EY2: =Données!#REF!+"B#^!'Y" -> #REF! | EZ2: =Données!#REF!+"B#^!'Z" -> #REF! | FA2: =Données!#REF!+"B#^!'[" -> #REF! | FB2: =Données!#REF!+"B#^!'\" -> #REF! | FC2: =Données!#REF!+"B#^!']" -> #REF! | FD2: =Données!#REF!+"B#^!'^" -> #REF! | FE2: =Données!#REF!+"B#^!'_" -> #REF! | FF2: =Données!#REF!+"B#^!'`" -> #REF! | FG2: =Données!#REF!+"B#^!'a" -> #REF! | FH2: =Données!#REF!+"B#^!'b" -> #REF! | FI2: =Données!#REF!+"B#^!'c" -> #REF! | FJ2: =Données!#REF!+"B#^!'d" -> #REF! | FK2: =Données!#REF!+"B#^!'e" -> #REF! | FL2: =Données!#REF!+"B#^!'f" -> #REF! | FM2: =Données!#REF!+"B#^!'g" -> #REF! | FN2: =Données!#REF!+"B#^!'h" -> #REF! | FO2: =Données!#REF!+"B#^!'i" -> #REF! | FP2: =Données!#REF!+"B#^!'j" -> #REF! | FQ2: =Données!#REF!+"B#^!'k" -> #REF! | FR2: =Données!#REF!+"B#^!'l" -> #REF! | FS2: =Données!#REF!+"B#^!'m" -> #REF! | FT2: =Données!#REF!+"B#^!'n" -> #REF! | FU2: =Données!#REF!+"B#^!'o" -> #REF! | FV2: =Données!#REF!+"B#^!'p" -> #REF! | FW2: =Données!#REF!+"B#^!'q" -> #REF! | FX2: =Données!#REF!+"B#^!'r" -> #REF! | FY2: =Données!#REF!+"B#^!'s" -> #REF! | FZ2: =Données!#REF!+"B#^!'t" -> #REF! | GA2: =Données!#REF!+"B#^!'u" -> #REF! | GB2: =Données!#REF!+"B#^!'v" -> #REF! | GC2: =Données!#REF!+"B#^!'w" -> #REF! | GD2: =Données!#REF!+"B#^!'x" -> #REF! | GE2: =Données!#REF!+"B#^!'y" -> #REF! | GF2: =Données!#REF!+"B#^!'z" -> #REF! | GG2: =Données!#REF!+"B#^!'{" -> #REF! | GH2: =Données!#REF!+"B#^!'|" -> #REF! | GI2: =Données!#REF!+"B#^!'}" -> #REF! | GJ2: =Données!#REF!+"B#^!'~" -> #REF! | GK2: =Données!#REF!+"B#^!(#" -> #REF! | GL2: =Données!#REF!+"B#^!($" -> #REF! | GM2: =Données!#REF!+"B#^!(%" -> #REF! | GN2: =Données!#REF!+"B#^!(&" -> #REF! | GO2: =Données!#REF!+"B#^!('" -> #REF! | GP2: =Données!#REF!+"B#^!((" -> #REF! | GQ2: =Données!#REF!+"B#^!()" -> #REF! | GR2: =Données!#REF!+"B#^!(." -> #REF! | GS2: =Données!#REF!+"B#^!(/" -> #REF! | GT2: =Données!#REF!+"B#^!(0" -> #REF! | GU2: =Données!#REF!+"B#^!(1" -> #REF! | GV2: =Données!#REF!+"B#^!(2" -> #REF! | GW2: =Données!#REF!+"B#^!(3" -> #REF! | GX2: =Données!#REF!+"B#^!(4" -> #REF! | GY2: =Données!#REF!+"B#^!(5" -> #REF! | GZ2: =Données!#REF!+"B#^!(6" -> #REF! | HA2: =Données!#REF!+"B#^!(7" -> #REF! | HB2: =Données!#REF!+"B#^!(8" -> #REF! | HC2: =Données!#REF!+"B#^!(9" -> #REF! | HD2: =Données!#REF!+"B#^!(:" -> #REF! | HE2: =Données!#REF!+"B#^!(;" -> #REF! | HF2: =Données!#REF!+"B#^!(<" -> #REF! | HG2: =Données!#REF!+"B#^!(=" -> #REF! | HH2: =Données!#REF!+"B#^!(>" -> #REF! | HI2: =Données!#REF!+"B#^!(?" -> #REF! | HJ2: =Données!#REF!+"B#^!(@" -> #REF! | HK2: =Données!#REF!+"B#^!(A" -> #REF! | HL2: =Données!#REF!+"B#^!(B" -> #REF! | HM2: =Données!#REF!+"B#^!(C" -> #REF! | HN2: =Données!#REF!+"B#^!(D" -> #REF! | HO2: =Données!#REF!+"B#^!(E" -> #REF! | HP2: =Données!#REF!+"B#^!(F" -> #REF! | HQ2: =Données!#REF!+"B#^!(G" -> #REF! | HR2: =Données!#REF!+"B#^!(H" -> #REF! | HS2: =Données!#REF!+"B#^!(I" -> #REF! | HT2: =Données!#REF!+"B#^!(J" -> #REF! | HU2: =Données!#REF!+"B#^!(K" -> #REF! | HV2: =Données!#REF!+"B#^!(L" -> #REF! | HW2: =Données!#REF!+"B#^!(M" -> #REF! | HX2: =Données!#REF!+"B#^!(N" -> #REF! | HY2: =Données!#REF!+"B#^!(O" -> #REF! | HZ2: =Données!#REF!+"B#^!(P" -> #REF! | IA2: =Données!#REF!+"B#^!(Q" -> #REF! | IB2: =Données!#REF!+"B#^!(R" -> #REF! | IC2: =Données!#REF!+"B#^!(S" -> #REF! | ID2: =Données!#REF!+"B#^!(T" -> #REF! | IE2: =Données!#REF!+"B#^!(U" -> #REF! | IF2: =Données!#REF!+"B#^!(V" -> #REF! | IG2: =Données!#REF!+"B#^!(W" -> #REF! | IH2: =Données!#REF!+"B#^!(X" -> #REF! | II2: =Données!#REF!+"B#^!(Y" -> #REF! | IJ2: =Données!#REF!+"B#^!(Z" -> #REF! | IK2: =Données!#REF!+"B#^!([" -> #REF! | IL2: =Données!#REF!+"B#^!(\" -> #REF! | IM2: =Données!#REF!+"B#^!(]" -> #REF! | IN2: =Données!#REF!+"B#^!(^" -> #REF! | IO2: =Données!#REF!+"B#^!(_" -> #REF! | IP2: =Données!#REF!+"B#^!(`" -> #REF! | IQ2: =Données!#REF!+"B#^!(a" -> #REF! | IR2: =Données!#REF!+"B#^!(b" -> #REF! | IS2: =Données!#REF!+"B#^!(c" -> #REF! | IT2: =Données!#REF!+"B#^!(d" -> #REF! | IU2: =Données!#REF!+"B#^!(e" -> #REF! | IV2: =Données!#REF!+"B#^!(f" -> #REF!
A3: "B#^!9635" | F3: =Données!#REF!+"B#^!(g" -> #REF! | G3: =Données!#REF!+"B#^!(h" -> #REF! | H3: =Données!#REF!+"B#^!(i" -> #REF! | I3: =Données!#REF!+"B#^!(j" -> #REF! | J3: =Données!#REF!+"B#^!(k" -> #REF! | K3: =Données!#REF!+"B#^!(l" -> #REF! | L3: =Données!#REF!+"B#^!(m" -> #REF! | M3: =Données!#REF!+"B#^!(n" -> #REF! | N3: =Données!#REF!+"B#^!(o" -> #REF! | O3: =Données!#REF!+"B#^!(p" -> #REF! | P3: =Données!#REF!+"B#^!(q" -> #REF! | Q3: =Données!#REF!+"B#^!(r" -> #REF! | R3: =Données!#REF!+"B#^!(s" -> #REF! | S3: =Données!#REF!+"B#^!(t" -> #REF! | T3: =Données!#REF!+"B#^!(u" -> #REF! | U3: =Données!#REF!+"B#^!(v" -> #REF! | V3: =Données!#REF!+"B#^!(w" -> #REF! | W3: =Données!#REF!+"B#^!(x" -> #REF! | X3: =Données!#REF!+"B#^!(y" -> #REF! | Y3: =Données!#REF!+"B#^!(z" -> #REF! | Z3: =Données!#REF!+"B#^!({" -> #REF! | AA3: =Données!#REF!+"B#^!(|" -> #REF! | AB3: =Données!#REF!+"B#^!(}" -> #REF! | AC3: =Données!#REF!+"B#^!(~" -> #REF! | AD3: =Données!#REF!+"B#^!)#" -> #REF! | AE3: =Données!#REF!+"B#^!)$" -> #REF! | AF3: =Données!#REF!+"B#^!)%" -> #REF! | AG3: =Données!#REF!+"B#^!)&" -> #REF! | AH3: =Données!#REF!+"B#^!)'" -> #REF! | AI3: =Données!#REF!+"B#^!)(" -> #REF! | AJ3: =Données!#REF!+"B#^!))" -> #REF! | AK3: =Données!#REF!+"B#^!)." -> #REF! | AL3: =Données!#REF!+"B#^!)/" -> #REF! | AM3: =Données!#REF!+"B#^!)0" -> #REF! | AN3: =Données!#REF!+"B#^!)1" -> #REF! | AO3: =Données!#REF!+"B#^!)2" -> #REF! | AP3: =Données!#REF!+"B#^!)3" -> #REF! | AQ3: =Données!#REF!+"B#^!)4" -> #REF! | AR3: =Données!#REF!+"B#^!)5" -> #REF! | AS3: =Données!#REF!+"B#^!)6" -> #REF! | AT3: =Données!#REF!+"B#^!)7" -> #REF! | AU3: =Données!#REF!+"B#^!)8" -> #REF! | AV3: =Données!#REF!+"B#^!)9" -> #REF! | AW3: =Données!#REF!+"B#^!):" -> #REF! | AX3: =Données!#REF!+"B#^!);" -> #REF! | AY3: =Données!#REF!+"B#^!)<" -> #REF! | AZ3: =Données!#REF!+"B#^!)=" -> #REF! | BA3: =Données!#REF!+"B#^!)>" -> #REF! | BB3: =Données!#REF!+"B#^!)?" -> #REF! | BC3: =Données!#REF!+"B#^!)@" -> #REF! | BD3: =Données!#REF!+"B#^!)A" -> #REF! | BE3: =Données!#REF!+"B#^!)B" -> #REF! | BF3: =Données!#REF!+"B#^!)C" -> #REF! | BG3: =Données!#REF!+"B#^!)D" -> #REF! | BH3: =Données!#REF!+"B#^!)E" -> #REF! | BI3: =Données!#REF!+"B#^!)F" -> #REF! | BJ3: =Données!#REF!+"B#^!)G" -> #REF! | BK3: =Données!#REF!+"B#^!)H" -> #REF! | BL3: =Données!#REF!+"B#^!)I" -> #REF! | BM3: =Données!#REF!+"B#^!)J" -> #REF! | BN3: =Données!#REF!+"B#^!)K" -> #REF! | BO3: =Données!#REF!+"B#^!)L" -> #REF! | BP3: =Données!#REF!+"B#^!)M" -> #REF! | BQ3: =Données!#REF!+"B#^!)N" -> #REF! | BR3: =Données!#REF!+"B#^!)O" -> #REF! | BS3: =Données!#REF!+"B#^!)P" -> #REF! | BT3: =Données!#REF!+"B#^!)Q" -> #REF! | BU3: =Données!#REF!+"B#^!)R" -> #REF! | BV3: =Données!#REF!+"B#^!)S" -> #REF! | BW3: =Données!#REF!+"B#^!)T" -> #REF! | BX3: =Données!#REF!+"B#^!)U" -> #REF! | BY3: =Données!#REF!+"B#^!)V" -> #REF! | BZ3: =Données!#REF!+"B#^!)W" -> #REF! | CA3: =Données!#REF!+"B#^!)X" -> #REF! | CB3: =Données!#REF!+"B#^!)Y" -> #REF! | CC3: =Données!#REF!+"B#^!)Z" -> #REF! | CD3: =Données!#REF!+"B#^!)[" -> #REF! | CE3: =Données!#REF!+"B#^!)\" -> #REF! | CF3: =Données!#REF!+"B#^!)]" -> #REF! | CG3: =Données!#REF!+"B#^!)^" -> #REF! | CH3: =Données!#REF!+"B#^!)_" -> #REF! | CI3: =Données!#REF!+"B#^!)`" -> #REF! | CJ3: =Données!#REF!+"B#^!)a" -> #REF! | CK3: =Données!#REF!+"B#^!)b" -> #REF! | CL3: =Données!#REF!+"B#^!)c" -> #REF! | CM3: =Données!#REF!+"B#^!)d" -> #REF! | CN3: =Données!#REF!+"B#^!)e" -> #REF! | CO3: =Données!#REF!+"B#^!)f" -> #REF! | CP3: =Données!#REF!+"B#^!)g" -> #REF! | CQ3: =Données!#REF!+"B#^!)h" -> #REF! | CR3: =Données!#REF!+"B#^!)i" -> #REF! | CS3: =Données!#REF!+"B#^!)j" -> #REF! | CT3: =Données!#REF!+"B#^!)k" -> #REF! | CU3: =Données!#REF!+"B#^!)l" -> #REF! | CV3: =Données!#REF!+"B#^!)m" -> #REF! | CW3: =Données!#REF!+"B#^!)n" -> #REF! | CX3: =Données!#REF!+"B#^!)o" -> #REF! | CY3: =Données!#REF!+"B#^!)p" -> #REF! | CZ3: =Données!#REF!+"B#^!)q" -> #REF! | DA3: =Données!#REF!+"B#^!)r" -> #REF! | DB3: =Données!#REF!+"B#^!)s" -> #REF! | DC3: =Données!#REF!+"B#^!)t" -> #REF! | DD3: =Données!#REF!+"B#^!)u" -> #REF! | DE3: =Données!#REF!+"B#^!)v" -> #REF! | DF3: =Données!#REF!+"B#^!)w" -> #REF! | DG3: =Données!#REF!+"B#^!)x" -> #REF! | DH3: =Données!#REF!+"B#^!)y" -> #REF! | DI3: =Données!#REF!+"B#^!)z" -> #REF! | DJ3: =Données!#REF!+"B#^!){" -> #REF! | DK3: =Données!#REF!+"B#^!)|" -> #REF! | DL3: =Données!#REF!+"B#^!)}" -> #REF! | DM3: =Données!#REF!+"B#^!)~" -> #REF! | DN3: =Données!#REF!+"B#^!.#" -> #REF! | DO3: =Données!#REF!+"B#^!.$" -> #REF! | DP3: =Données!#REF!+"B#^!.%" -> #REF! | DQ3: =Données!#REF!+"B#^!.&" -> #REF! | DR3: =Données!#REF!+"B#^!.'" -> #REF! | DS3: =Données!#REF!+"B#^!.(" -> #REF! | DT3: =Données!#REF!+"B#^!.)" -> #REF! | DU3: =Données!#REF!+"B#^!.." -> #REF! | DV3: =Données!#REF!+"B#^!./" -> #REF! | DW3: =Données!#REF!+"B#^!.0" -> #REF! | DX3: =Données!#REF!+"B#^!.1" -> #REF! | DY3: =Données!#REF!+"B#^!.2" -> #REF! | DZ3: =Données!#REF!+"B#^!.3" -> #REF! | EA3: =Données!#REF!+"B#^!.4" -> #REF! | EB3: =Données!#REF!+"B#^!.5" -> #REF! | EC3: =Données!#REF!+"B#^!.6" -> #REF! | ED3: =Données!#REF!+"B#^!.7" -> #REF! | EE3: =Données!#REF!+"B#^!.8" -> #REF! | EF3: =Données!#REF!+"B#^!.9" -> #REF! | EG3: =Données!#REF!+"B#^!.:" -> #REF! | EH3: =Données!#REF!+"B#^!.;" -> #REF! | EI3: =Données!#REF!+"B#^!.<" -> #REF! | EJ3: =Données!#REF!+"B#^!.=" -> #REF! | EK3: =Données!#REF!+"B#^!.>" -> #REF! | EL3: =Données!#REF!+"B#^!.?" -> #REF! | EM3: =Données!#REF!+"B#^!.@" -> #REF! | EN3: =Données!#REF!+"B#^!.A" -> #REF! | EO3: =Données!#REF!+"B#^!.B" -> #REF! | EP3: =Données!#REF!+"B#^!.C" -> #REF! | EQ3: =Données!#REF!+"B#^!.D" -> #REF! | ER3: =Données!#REF!+"B#^!.E" -> #REF! | ES3: =Données!#REF!+"B#^!.F" -> #REF! | ET3: =Données!#REF!+"B#^!.G" -> #REF! | EU3: =Données!#REF!+"B#^!.H" -> #REF! | EV3: =Données!#REF!+"B#^!.I" -> #REF! | EW3: =Données!#REF!+"B#^!.J" -> #REF! | EX3: =Données!#REF!+"B#^!.K" -> #REF! | EY3: =Données!#REF!+"B#^!.L" -> #REF! | EZ3: =Données!#REF!+"B#^!.M" -> #REF! | FA3: =Données!#REF!+"B#^!.N" -> #REF! | FB3: =Données!#REF!+"B#^!.O" -> #REF! | FC3: =Données!#REF!+"B#^!.P" -> #REF! | FD3: =Données!#REF!+"B#^!.Q" -> #REF! | FE3: =Données!#REF!+"B#^!.R" -> #REF! | FF3: =Données!#REF!+"B#^!.S" -> #REF! | FG3: =Données!#REF!+"B#^!.T" -> #REF! | FH3: =Données!#REF!+"B#^!.U" -> #REF! | FI3: =Données!#REF!+"B#^!.V" -> #REF! | FJ3: =Données!#REF!+"B#^!.W" -> #REF! | FK3: =Données!#REF!+"B#^!.X" -> #REF! | FL3: =Données!#REF!+"B#^!.Y" -> #REF! | FM3: =Données!#REF!+"B#^!.Z" -> #REF! | FN3: =Données!#REF!+"B#^!.[" -> #REF! | FO3: =Données!#REF!+"B#^!.\" -> #REF! | FP3: =Données!#REF!+"B#^!.]" -> #REF! | FQ3: =Données!#REF!+"B#^!.^" -> #REF! | FR3: =Données!#REF!+"B#^!._" -> #REF! | FS3: =Données!#REF!+"B#^!.`" -> #REF! | FT3: =Données!#REF!+"B#^!.a" -> #REF! | FU3: =Données!#REF!+"B#^!.b" -> #REF! | FV3: =Données!#REF!+"B#^!.c" -> #REF! | FW3: =Données!#REF!+"B#^!.d" -> #REF! | FX3: =Données!#REF!+"B#^!.e" -> #REF! | FY3: =Données!#REF!+"B#^!.f" -> #REF! | FZ3: =Données!#REF!+"B#^!.g" -> #REF! | GA3: =Données!#REF!+"B#^!.h" -> #REF! | GB3: =Données!#REF!+"B#^!.i" -> #REF! | GC3: =Données!#REF!+"B#^!.j" -> #REF! | GD3: =Données!#REF!+"B#^!.k" -> #REF! | GE3: =Données!#REF!+"B#^!.l" -> #REF! | GF3: =Données!#REF!+"B#^!.m" -> #REF! | GG3: =Données!#REF!+"B#^!.n" -> #REF! | GH3: =Données!#REF!+"B#^!.o" -> #REF! | GI3: =Données!#REF!+"B#^!.p" -> #REF! | GJ3: =Données!#REF!+"B#^!.q" -> #REF! | GK3: =Données!#REF!+"B#^!.r" -> #REF! | GL3: =Données!#REF!+"B#^!.s" -> #REF! | GM3: =Données!#REF!+"B#^!.t" -> #REF! | GN3: =Données!#REF!+"B#^!.u" -> #REF! | GO3: =Données!#REF!+"B#^!.v" -> #REF! | GP3: =Données!#REF!+"B#^!.w" -> #REF! | GQ3: =Données!#REF!+"B#^!.x" -> #REF! | GR3: =Données!#REF!+"B#^!.y" -> #REF! | GS3: =Données!#REF!+"B#^!.z" -> #REF! | GT3: =Données!#REF!+"B#^!.{" -> #REF! | GU3: =Données!#REF!+"B#^!.|" -> #REF! | GV3: =Données!#REF!+"B#^!.}" -> #REF! | GW3: =Données!#REF!+"B#^!.~" -> #REF! | GX3: =Données!#REF!+"B#^!/#" -> #REF! | GY3: =Données!#REF!+"B#^!/$" -> #REF! | GZ3: =Données!#REF!+"B#^!/%" -> #REF! | HA3: =Données!#REF!+"B#^!/&" -> #REF! | HB3: =Données!#REF!+"B#^!/'" -> #REF! | HC3: =Données!#REF!+"B#^!/(" -> #REF! | HD3: =Données!#REF!+"B#^!/)" -> #REF! | HE3: =Données!#REF!+"B#^!/." -> #REF! | HF3: =Données!#REF!+"B#^!//" -> #REF! | HG3: =Données!#REF!+"B#^!/0" -> #REF! | HH3: =Données!#REF!+"B#^!/1" -> #REF! | HI3: =Données!#REF!+"B#^!/2" -> #REF! | HJ3: =Données!#REF!+"B#^!/3" -> #REF! | HK3: =Données!#REF!+"B#^!/4" -> #REF! | HL3: =Données!#REF!+"B#^!/5" -> #REF! | HM3: =Données!#REF!+"B#^!/6" -> #REF! | HN3: =Données!#REF!+"B#^!/7" -> #REF! | HO3: =Données!#REF!+"B#^!/8" -> #REF! | HP3: =Données!#REF!+"B#^!/9" -> #REF! | HQ3: =Données!#REF!+"B#^!/:" -> #REF! | HR3: =Données!#REF!+"B#^!/;" -> #REF! | HS3: =Données!#REF!+"B#^!/<" -> #REF! | HT3: =Données!#REF!+"B#^!/=" -> #REF! | HU3: =Données!#REF!+"B#^!/>" -> #REF! | HV3: =Données!#REF!+"B#^!/?" -> #REF! | HW3: =Données!#REF!+"B#^!/@" -> #REF! | HX3: =Données!#REF!+"B#^!/A" -> #REF! | HY3: =Données!#REF!+"B#^!/B" -> #REF! | HZ3: =Données!#REF!+"B#^!/C" -> #REF! | IA3: =Données!#REF!+"B#^!/D" -> #REF! | IB3: =Données!#REF!+"B#^!/E" -> #REF! | IC3: =Données!#REF!+"B#^!/F" -> #REF! | ID3: =Données!#REF!+"B#^!/G" -> #REF! | IE3: =Données!#REF!+"B#^!/H" -> #REF! | IF3: =Données!#REF!+"B#^!/I" -> #REF! | IG3: =Données!#REF!+"B#^!/J" -> #REF! | IH3: =Données!#REF!+"B#^!/K" -> #REF! | II3: =Données!#REF!+"B#^!/L" -> #REF! | IJ3: =Données!#REF!+"B#^!/M" -> #REF! | IK3: =Données!#REF!+"B#^!/N" -> #REF! | IL3: =Données!#REF!+"B#^!/O" -> #REF! | IM3: =Données!#REF!+"B#^!/P" -> #REF! | IN3: =Données!#REF!+"B#^!/Q" -> #REF! | IO3: =Données!#REF!+"B#^!/R" -> #REF! | IP3: =Données!#REF!+"B#^!/S" -> #REF! | IQ3: =Données!#REF!+"B#^!/T" -> #REF! | IR3: =Données!#REF!+"B#^!/U" -> #REF! | IS3: =Données!#REF!+"B#^!/V" -> #REF! | IT3: =Données!#REF!+"B#^!/W" -> #REF! | IU3: =Données!#REF!+"B#^!/X" -> #REF! | IV3: =Données!#REF!+"B#^!/Y" -> #REF!
F4: =Données!#REF!+"B#^!/Z" -> #REF! | G4: =Données!#REF!+"B#^!/[" -> #REF! | H4: =Données!#REF!+"B#^!/\" -> #REF! | I4: =Données!#REF!+"B#^!/]" -> #REF! | J4: =Données!#REF!+"B#^!/^" -> #REF! | K4: =Données!#REF!+"B#^!/_" -> #REF! | L4: =Données!#REF!+"B#^!/`" -> #REF! | M4: =Données!#REF!+"B#^!/a" -> #REF! | N4: =Données!#REF!+"B#^!/b" -> #REF! | O4: =Données!#REF!+"B#^!/c" -> #REF! | P4: =Données!#REF!+"B#^!/d" -> #REF! | Q4: =Données!#REF!+"B#^!/e" -> #REF! | R4: =Données!#REF!+"B#^!/f" -> #REF! | S4: =Données!#REF!+"B#^!/g" -> #REF! | T4: =Données!#REF!+"B#^!/h" -> #REF! | U4: =Données!#REF!+"B#^!/i" -> #REF! | V4: =Données!#REF!+"B#^!/j" -> #REF! | W4: =Données!#REF!+"B#^!/k" -> #REF! | X4: =Données!#REF!+"B#^!/l" -> #REF! | Y4: =Données!#REF!+"B#^!/m" -> #REF! | Z4: =Données!#REF!+"B#^!/n" -> #REF! | AA4: =Données!#REF!+"B#^!/o" -> #REF! | AB4: =Données!#REF!+"B#^!/p" -> #REF! | AC4: =Données!#REF!+"B#^!/q" -> #REF! | AD4: =Données!#REF!+"B#^!/r" -> #REF! | AE4: =Données!#REF!+"B#^!/s" -> #REF! | AF4: =Données!#REF!+"B#^!/t" -> #REF! | AG4: =Données!#REF!+"B#^!/u" -> #REF! | AH4: =Données!#REF!+"B#^!/v" -> #REF! | AI4: =Données!#REF!+"B#^!/w" -> #REF! | AJ4: =Données!#REF!+"B#^!/x" -> #REF! | AK4: =Données!#REF!+"B#^!/y" -> #REF! | AL4: =Données!#REF!+"B#^!/z" -> #REF! | AM4: =Données!#REF!+"B#^!/{" -> #REF! | AN4: =Données!#REF!+"B#^!/|" -> #REF! | AO4: =Données!#REF!+"B#^!/}" -> #REF! | AP4: =Données!#REF!+"B#^!/~" -> #REF! | AQ4: =Données!#REF!+"B#^!0#" -> #REF! | AR4: =Données!#REF!+"B#^!0$" -> #REF! | AS4: =Données!#REF!+"B#^!0%" -> #REF! | AT4: =Données!#REF!+"B#^!0&" -> #REF! | AU4: =Données!#REF!+"B#^!0'" -> #REF! | AV4: =Données!#REF!+"B#^!0(" -> #REF! | AW4: =Données!#REF!+"B#^!0)" -> #REF! | AX4: =Données!#REF!+"B#^!0." -> #REF! | AY4: =Données!#REF!+"B#^!0/" -> #REF! | AZ4: =Données!#REF!+"B#^!00" -> #REF! | BA4: =Données!#REF!+"B#^!01" -> #REF! | BB4: =Données!#REF!+"B#^!02" -> #REF! | BC4: =Données!#REF!+"B#^!03" -> #REF! | BD4: =Données!#REF!+"B#^!04" -> #REF! | BE4: =Données!#REF!+"B#^!05" -> #REF! | BF4: =Données!#REF!+"B#^!06" -> #REF! | BG4: =Données!#REF!+"B#^!07" -> #REF! | BH4: =Données!#REF!+"B#^!08" -> #REF! | BI4: =Données!#REF!+"B#^!09" -> #REF! | BJ4: =Données!#REF!+"B#^!0:" -> #REF! | BK4: =Données!#REF!+"B#^!0;" -> #REF! | BL4: =Données!#REF!+"B#^!0<" -> #REF! | BM4: =Données!#REF!+"B#^!0=" -> #REF! | BN4: =Données!#REF!+"B#^!0>" -> #REF! | BO4: =Données!#REF!+"B#^!0?" -> #REF! | BP4: =Données!#REF!+"B#^!0@" -> #REF! | BQ4: =Données!#REF!+"B#^!0A" -> #REF! | BR4: =Données!#REF!+"B#^!0B" -> #REF! | BS4: =Données!#REF!+"B#^!0C" -> #REF! | BT4: =Données!#REF!+"B#^!0D" -> #REF! | BU4: =Données!#REF!+"B#^!0E" -> #REF! | BV4: =Données!#REF!+"B#^!0F" -> #REF! | BW4: =Données!#REF!+"B#^!0G" -> #REF! | BX4: =Données!#REF!+"B#^!0H" -> #REF! | BY4: =Données!#REF!+"B#^!0I" -> #REF! | BZ4: =Données!#REF!+"B#^!0J" -> #REF! | CA4: =Données!#REF!+"B#^!0K" -> #REF! | CB4: =Données!#REF!+"B#^!0L" -> #REF! | CC4: =Données!#REF!+"B#^!0M" -> #REF! | CD4: =Données!#REF!+"B#^!0N" -> #REF! | CE4: =Données!#REF!+"B#^!0O" -> #REF! | CF4: =Données!#REF!+"B#^!0P" -> #REF! | CG4: =Données!#REF!+"B#^!0Q" -> #REF! | CH4: =Données!#REF!+"B#^!0R" -> #REF! | CI4: =Données!#REF!+"B#^!0S" -> #REF! | CJ4: =Données!#REF!+"B#^!0T" -> #REF! | CK4: =Données!#REF!+"B#^!0U" -> #REF! | CL4: =Données!#REF!+"B#^!0V" -> #REF! | CM4: =Données!#REF!+"B#^!0W" -> #REF! | CN4: =Données!#REF!+"B#^!0X" -> #REF! | CO4: =Données!#REF!+"B#^!0Y" -> #REF! | CP4: =Données!#REF!+"B#^!0Z" -> #REF! | CQ4: =Données!#REF!+"B#^!0[" -> #REF! | CR4: =Données!#REF!+"B#^!0\" -> #REF! | CS4: =Données!#REF!+"B#^!0]" -> #REF! | CT4: =Données!#REF!+"B#^!0^" -> #REF! | CU4: =Données!#REF!+"B#^!0_" -> #REF! | CV4: =Données!#REF!+"B#^!0`" -> #REF! | CW4: =Données!#REF!+"B#^!0a" -> #REF! | CX4: =Données!#REF!+"B#^!0b" -> #REF! | CY4: =Données!#REF!+"B#^!0c" -> #REF! | CZ4: =Données!#REF!+"B#^!0d" -> #REF! | DA4: =Données!#REF!+"B#^!0e" -> #REF! | DB4: =Données!#REF!+"B#^!0f" -> #REF! | DC4: =Données!#REF!+"B#^!0g" -> #REF! | DD4: =Données!#REF!+"B#^!0h" -> #REF! | DE4: =Données!#REF!+"B#^!0i" -> #REF! | DF4: =Données!#REF!+"B#^!0j" -> #REF! | DG4: =Données!#REF!+"B#^!0k" -> #REF! | DH4: =Données!#REF!+"B#^!0l" -> #REF! | DI4: =Données!#REF!+"B#^!0m" -> #REF! | DJ4: =Données!#REF!+"B#^!0n" -> #REF! | DK4: =Données!#REF!+"B#^!0o" -> #REF! | DL4: =Données!#REF!+"B#^!0p" -> #REF! | DM4: =Données!#REF!+"B#^!0q" -> #REF! | DN4: =Données!#REF!+"B#^!0r" -> #REF! | DO4: =Données!#REF!+"B#^!0s" -> #REF! | DP4: =Données!#REF!+"B#^!0t" -> #REF! | DQ4: =Données!#REF!+"B#^!0u" -> #REF! | DR4: =Données!#REF!+"B#^!0v" -> #REF! | DS4: =Données!#REF!+"B#^!0w" -> #REF! | DT4: =Données!#REF!+"B#^!0x" -> #REF! | DU4: =Données!#REF!+"B#^!0y" -> #REF! | DV4: =Données!#REF!+"B#^!0z" -> #REF! | DW4: =Données!#REF!+"B#^!0{" -> #REF! | DX4: =Données!#REF!+"B#^!0|" -> #REF! | DY4: =Données!#REF!+"B#^!0}" -> #REF! | DZ4: =Données!#REF!+"B#^!0~" -> #REF! | EA4: =Données!#REF!+"B#^!1#" -> #REF! | EB4: =Données!#REF!+"B#^!1$" -> #REF! | EC4: =Données!#REF!+"B#^!1%" -> #REF! | ED4: =Données!#REF!+"B#^!1&" -> #REF! | EE4: =Données!#REF!+"B#^!1'" -> #REF! | EF4: =Données!#REF!+"B#^!1(" -> #REF! | EG4: =Données!#REF!+"B#^!1)" -> #REF! | EH4: =Données!#REF!+"B#^!1." -> #REF! | EI4: =Données!#REF!+"B#^!1/" -> #REF! | EJ4: =Données!#REF!+"B#^!10" -> #REF! | EK4: =Données!#REF!+"B#^!11" -> #REF! | EL4: =Données!#REF!+"B#^!12" -> #REF! | EM4: =Données!#REF!+"B#^!13" -> #REF! | EN4: =Données!#REF!+"B#^!14" -> #REF! | EO4: =Données!#REF!+"B#^!15" -> #REF! | EP4: =Données!#REF!+"B#^!16" -> #REF! | EQ4: =Données!#REF!+"B#^!17" -> #REF! | ER4: =Données!#REF!+"B#^!18" -> #REF! | ES4: =Données!#REF!+"B#^!19" -> #REF! | ET4: =Données!#REF!+"B#^!1:" -> #REF! | EU4: =Données!#REF!+"B#^!1;" -> #REF! | EV4: =Données!#REF!+"B#^!1<" -> #REF! | EW4: =Données!#REF!+"B#^!1=" -> #REF! | EX4: =Données!#REF!+"B#^!1>" -> #REF! | EY4: =Données!#REF!+"B#^!1?" -> #REF! | EZ4: =Données!#REF!+"B#^!1@" -> #REF! | FA4: =Données!#REF!+"B#^!1A" -> #REF! | FB4: =Données!#REF!+"B#^!1B" -> #REF! | FC4: =Données!#REF!+"B#^!1C" -> #REF! | FD4: =Données!#REF!+"B#^!1D" -> #REF! | FE4: =Données!#REF!+"B#^!1E" -> #REF! | FF4: =Données!#REF!+"B#^!1F" -> #REF! | FG4: =Données!#REF!+"B#^!1G" -> #REF! | FH4: =Données!#REF!+"B#^!1H" -> #REF! | FI4: =Données!#REF!+"B#^!1I" -> #REF! | FJ4: =Données!#REF!+"B#^!1J" -> #REF! | FK4: =Données!#REF!+"B#^!1K" -> #REF! | FL4: =Données!#REF!+"B#^!1L" -> #REF! | FM4: =Données!#REF!+"B#^!1M" -> #REF! | FN4: =Données!#REF!+"B#^!1N" -> #REF! | FO4: =Données!#REF!+"B#^!1O" -> #REF! | FP4: =Données!#REF!+"B#^!1P" -> #REF! | FQ4: =Données!#REF!+"B#^!1Q" -> #REF! | FR4: =Données!#REF!+"B#^!1R" -> #REF! | FS4: =Données!#REF!+"B#^!1S" -> #REF! | FT4: =Données!#REF!+"B#^!1T" -> #REF! | FU4: =Données!#REF!+"B#^!1U" -> #REF! | FV4: =Données!#REF!+"B#^!1V" -> #REF! | FW4: =Données!#REF!+"B#^!1W" -> #REF! | FX4: =Données!#REF!+"B#^!1X" -> #REF! | FY4: =Données!#REF!+"B#^!1Y" -> #REF! | FZ4: =Données!#REF!+"B#^!1Z" -> #REF! | GA4: =Données!#REF!+"B#^!1[" -> #REF! | GB4: =Données!#REF!+"B#^!1\" -> #REF! | GC4: =Données!#REF!+"B#^!1]" -> #REF! | GD4: =Données!#REF!+"B#^!1^" -> #REF! | GE4: =Données!#REF!+"B#^!1_" -> #REF! | GF4: =Données!#REF!+"B#^!1`" -> #REF! | GG4: =Données!#REF!+"B#^!1a" -> #REF! | GH4: =Données!#REF!+"B#^!1b" -> #REF! | GI4: =Données!#REF!+"B#^!1c" -> #REF! | GJ4: =Données!#REF!+"B#^!1d" -> #REF! | GK4: =Données!#REF!+"B#^!1e" -> #REF! | GL4: =Données!#REF!+"B#^!1f" -> #REF! | GM4: =Données!#REF!+"B#^!1g" -> #REF! | GN4: =Données!#REF!+"B#^!1h" -> #REF! | GO4: =Données!#REF!+"B#^!1i" -> #REF! | GP4: =Données!#REF!+"B#^!1j" -> #REF! | GQ4: =Données!#REF!+"B#^!1k" -> #REF! | GR4: =Données!#REF!+"B#^!1l" -> #REF! | GS4: =Données!#REF!+"B#^!1m" -> #REF! | GT4: =Données!#REF!+"B#^!1n" -> #REF! | GU4: =Données!#REF!+"B#^!1o" -> #REF! | GV4: =Données!#REF!+"B#^!1p" -> #REF! | GW4: =Données!#REF!+"B#^!1q" -> #REF! | GX4: =Données!#REF!+"B#^!1r" -> #REF! | GY4: =Données!#REF!+"B#^!1s" -> #REF! | GZ4: =Données!#REF!+"B#^!1t" -> #REF! | HA4: =Données!#REF!+"B#^!1u" -> #REF! | HB4: =Données!#REF!+"B#^!1v" -> #REF! | HC4: =Données!#REF!+"B#^!1w" -> #REF! | HD4: =Données!#REF!+"B#^!1x" -> #REF! | HE4: =Données!#REF!+"B#^!1y" -> #REF! | HF4: =Données!#REF!+"B#^!1z" -> #REF! | HG4: =Données!#REF!+"B#^!1{" -> #REF! | HH4: =Données!#REF!+"B#^!1|" -> #REF! | HI4: =Données!#REF!+"B#^!1}" -> #REF! | HJ4: =Données!#REF!+"B#^!1~" -> #REF! | HK4: =Données!#REF!+"B#^!2#" -> #REF! | HL4: =Données!#REF!+"B#^!2$" -> #REF! | HM4: =Données!#REF!+"B#^!2%" -> #REF! | HN4: =Données!#REF!+"B#^!2&" -> #REF! | HO4: =Données!#REF!+"B#^!2'" -> #REF! | HP4: =Données!#REF!+"B#^!2(" -> #REF! | HQ4: =Données!#REF!+"B#^!2)" -> #REF! | HR4: =Données!#REF!+"B#^!2." -> #REF! | HS4: =Données!#REF!+"B#^!2/" -> #REF! | HT4: =Données!#REF!+"B#^!20" -> #REF! | HU4: =Données!#REF!+"B#^!21" -> #REF! | HV4: =Données!#REF!+"B#^!22" -> #REF! | HW4: =Données!#REF!+"B#^!23" -> #REF! | HX4: =Données!#REF!+"B#^!24" -> #REF! | HY4: =Données!#REF!+"B#^!25" -> #REF! | HZ4: =Données!#REF!+"B#^!26" -> #REF! | IA4: =Données!#REF!+"B#^!27" -> #REF! | IB4: =Données!#REF!+"B#^!28" -> #REF! | IC4: =Données!#REF!+"B#^!29" -> #REF! | ID4: =Données!#REF!+"B#^!2:" -> #REF! | IE4: =Données!#REF!+"B#^!2;" -> #REF! | IF4: =Données!#REF!+"B#^!2<" -> #REF! | IG4: =Données!#REF!+"B#^!2=" -> #REF! | IH4: =Données!#REF!+"B#^!2>" -> #REF! | II4: =Données!#REF!+"B#^!2?" -> #REF! | IJ4: =Données!#REF!+"B#^!2@" -> #REF! | IK4: =Données!#REF!+"B#^!2A" -> #REF! | IL4: =Données!#REF!+"B#^!2B" -> #REF! | IM4: =Données!#REF!+"B#^!2C" -> #REF! | IN4: =Données!#REF!+"B#^!2D" -> #REF! | IO4: =Données!#REF!+"B#^!2E" -> #REF! | IP4: =Données!#REF!+"B#^!2F" -> #REF! | IQ4: =Données!#REF!+"B#^!2G" -> #REF! | IR4: =Données!#REF!+"B#^!2H" -> #REF! | IS4: =Données!#REF!+"B#^!2I" -> #REF! | IT4: =Données!#REF!+"B#^!2J" -> #REF! | IU4: =Données!#REF!+"B#^!2K" -> #REF! | IV4: =Données!#REF!+"B#^!2L" -> #REF!
F5: =Données!#REF!+"B#^!2M" -> #REF! | G5: =Données!#REF!+"B#^!2N" -> #REF! | H5: =Données!#REF!+"B#^!2O" -> #REF! | I5: =Données!#REF!+"B#^!2P" -> #REF! | J5: =Données!#REF!+"B#^!2Q" -> #REF! | K5: =Données!#REF!+"B#^!2R" -> #REF! | L5: =Données!#REF!+"B#^!2S" -> #REF! | M5: =Données!#REF!+"B#^!2T" -> #REF! | N5: =Données!#REF!+"B#^!2U" -> #REF! | O5: =Données!#REF!+"B#^!2V" -> #REF! | P5: =Données!#REF!+"B#^!2W" -> #REF! | Q5: =Données!#REF!+"B#^!2X" -> #REF! | R5: =Données!#REF!+"B#^!2Y" -> #REF! | S5: =Données!#REF!+"B#^!2Z" -> #REF! | T5: =Données!#REF!+"B#^!2[" -> #REF! | U5: =Données!#REF!+"B#^!2\" -> #REF! | V5: =Données!#REF!+"B#^!2]" -> #REF! | W5: =Données!#REF!+"B#^!2^" -> #REF! | X5: =Données!#REF!+"B#^!2_" -> #REF! | Y5: =Données!#REF!+"B#^!2`" -> #REF! | Z5: =Données!#REF!+"B#^!2a" -> #REF! | AA5: =Données!#REF!+"B#^!2b" -> #REF! | AB5: =Données!#REF!+"B#^!2c" -> #REF! | AC5: =Données!#REF!+"B#^!2d" -> #REF! | AD5: =Données!#REF!+"B#^!2e" -> #REF! | AE5: =Données!#REF!+"B#^!2f" -> #REF! | AF5: =Données!#REF!+"B#^!2g" -> #REF! | AG5: =Données!#REF!+"B#^!2h" -> #REF! | AH5: =Données!#REF!+"B#^!2i" -> #REF! | AI5: =Données!#REF!+"B#^!2j" -> #REF! | AJ5: =Données!#REF!+"B#^!2k" -> #REF! | AK5: =Données!#REF!+"B#^!2l" -> #REF! | AL5: =Données!#REF!+"B#^!2m" -> #REF! | AM5: =Données!#REF!+"B#^!2n" -> #REF! | AN5: =Données!#REF!+"B#^!2o" -> #REF! | AO5: =Données!#REF!+"B#^!2p" -> #REF! | AP5: =Données!#REF!+"B#^!2q" -> #REF! | AQ5: =Données!#REF!+"B#^!2r" -> #REF! | AR5: =Données!#REF!+"B#^!2s" -> #REF! | AS5: =Données!#REF!+"B#^!2t" -> #REF! | AT5: =Données!#REF!+"B#^!2u" -> #REF! | AU5: =Données!#REF!+"B#^!2v" -> #REF! | AV5: =Données!#REF!+"B#^!2w" -> #REF! | AW5: =Données!#REF!+"B#^!2x" -> #REF! | AX5: =Données!#REF!+"B#^!2y" -> #REF! | AY5: =Données!#REF!+"B#^!2z" -> #REF! | AZ5: =Données!#REF!+"B#^!2{" -> #REF! | BA5: =Données!#REF!+"B#^!2|" -> #REF! | BB5: =Données!#REF!+"B#^!2}" -> #REF! | BC5: =Données!#REF!+"B#^!2~" -> #REF! | BD5: =Données!#REF!+"B#^!3#" -> #REF! | BE5: =Données!#REF!+"B#^!3$" -> #REF! | BF5: =Données!#REF!+"B#^!3%" -> #REF! | BG5: =Données!#REF!+"B#^!3&" -> #REF! | BH5: =Données!#REF!+"B#^!3'" -> #REF! | BI5: =Données!#REF!+"B#^!3(" -> #REF! | BJ5: =Données!#REF!+"B#^!3)" -> #REF! | BK5: =Données!#REF!+"B#^!3." -> #REF! | BL5: =Données!#REF!+"B#^!3/" -> #REF! | BM5: =Données!#REF!+"B#^!30" -> #REF! | BN5: =Données!#REF!+"B#^!31" -> #REF! | BO5: =Données!#REF!+"B#^!32" -> #REF! | BP5: =Données!#REF!+"B#^!33" -> #REF! | BQ5: =Données!#REF!+"B#^!34" -> #REF! | BR5: =Données!#REF!+"B#^!35" -> #REF! | BS5: =Données!#REF!+"B#^!36" -> #REF! | BT5: =Données!#REF!+"B#^!37" -> #REF! | BU5: =Données!#REF!+"B#^!38" -> #REF! | BV5: =Données!#REF!+"B#^!39" -> #REF! | BW5: =Données!#REF!+"B#^!3:" -> #REF! | BX5: =Données!#REF!+"B#^!3;" -> #REF! | BY5: =Données!#REF!+"B#^!3<" -> #REF! | BZ5: =Données!#REF!+"B#^!3=" -> #REF! | CA5: =Données!#REF!+"B#^!3>" -> #REF! | CB5: =Données!#REF!+"B#^!3?" -> #REF! | CC5: =Données!#REF!+"B#^!3@" -> #REF! | CD5: =Données!#REF!+"B#^!3A" -> #REF! | CE5: =Données!#REF!+"B#^!3B" -> #REF! | CF5: =Données!#REF!+"B#^!3C" -> #REF! | CG5: =Données!#REF!+"B#^!3D" -> #REF! | CH5: =Données!#REF!+"B#^!3E" -> #REF! | CI5: =Données!#REF!+"B#^!3F" -> #REF! | CJ5: =Données!#REF!+"B#^!3G" -> #REF! | CK5: =Données!#REF!+"B#^!3H" -> #REF! | CL5: =Données!#REF!+"B#^!3I" -> #REF! | CM5: =Données!#REF!+"B#^!3J" -> #REF! | CN5: =Données!#REF!+"B#^!3K" -> #REF! | CO5: =Données!#REF!+"B#^!3L" -> #REF! | CP5: =Données!#REF!+"B#^!3M" -> #REF! | CQ5: =Données!#REF!+"B#^!3N" -> #REF! | CR5: =Données!#REF!+"B#^!3O" -> #REF! | CS5: =Données!#REF!+"B#^!3P" -> #REF! | CT5: =Données!#REF!+"B#^!3Q" -> #REF! | CU5: =Données!#REF!+"B#^!3R" -> #REF! | CV5: =Données!#REF!+"B#^!3S" -> #REF! | CW5: =Données!#REF!+"B#^!3T" -> #REF! | CX5: =Données!#REF!+"B#^!3U" -> #REF! | CY5: =Données!#REF!+"B#^!3V" -> #REF! | CZ5: =Données!#REF!+"B#^!3W" -> #REF! | DA5: =Données!#REF!+"B#^!3X" -> #REF! | DB5: =Données!#REF!+"B#^!3Y" -> #REF! | DC5: =Données!#REF!+"B#^!3Z" -> #REF! | DD5: =Données!#REF!+"B#^!3[" -> #REF! | DE5: =Données!#REF!+"B#^!3\" -> #REF! | DF5: =Données!#REF!+"B#^!3]" -> #REF! | DG5: =Données!#REF!+"B#^!3^" -> #REF! | DH5: =Données!#REF!+"B#^!3_" -> #REF! | DI5: =Données!#REF!+"B#^!3`" -> #REF! | DJ5: =Données!#REF!+"B#^!3a" -> #REF! | DK5: =Données!#REF!+"B#^!3b" -> #REF! | DL5: =Données!#REF!+"B#^!3c" -> #REF! | DM5: =Données!#REF!+"B#^!3d" -> #REF! | DN5: =Données!#REF!+"B#^!3e" -> #REF! | DO5: =Données!#REF!+"B#^!3f" -> #REF! | DP5: =Données!#REF!+"B#^!3g" -> #REF! | DQ5: =Données!#REF!+"B#^!3h" -> #REF! | DR5: =Données!#REF!+"B#^!3i" -> #REF! | DS5: =Données!#REF!+"B#^!3j" -> #REF! | DT5: =Données!#REF!+"B#^!3k" -> #REF! | DU5: =Données!#REF!+"B#^!3l" -> #REF! | DV5: =Données!#REF!+"B#^!3m" -> #REF! | DW5: =Données!#REF!+"B#^!3n" -> #REF! | DX5: =Données!#REF!+"B#^!3o" -> #REF! | DY5: =Données!#REF!+"B#^!3p" -> #REF! | DZ5: =Données!#REF!+"B#^!3q" -> #REF! | EA5: =Données!#REF!+"B#^!3r" -> #REF! | EB5: =Données!#REF!+"B#^!3s" -> #REF! | EC5: =Données!#REF!+"B#^!3t" -> #REF! | ED5: =Données!#REF!+"B#^!3u" -> #REF! | EE5: =Données!#REF!+"B#^!3v" -> #REF! | EF5: =Données!#REF!+"B#^!3w" -> #REF! | EG5: =Données!#REF!+"B#^!3x" -> #REF! | EH5: =Données!#REF!+"B#^!3y" -> #REF! | EI5: =Données!#REF!+"B#^!3z" -> #REF! | EJ5: =Données!#REF!+"B#^!3{" -> #REF! | EK5: =Données!#REF!+"B#^!3|" -> #REF! | EL5: =Données!#REF!+"B#^!3}" -> #REF! | EM5: =Données!#REF!+"B#^!3~" -> #REF! | EN5: =Données!#REF!+"B#^!4#" -> #REF! | EO5: =Données!#REF!+"B#^!4$" -> #REF! | EP5: =Données!#REF!+"B#^!4%" -> #REF! | EQ5: =Données!#REF!+"B#^!4&" -> #REF! | ER5: =Données!#REF!+"B#^!4'" -> #REF! | ES5: =Données!#REF!+"B#^!4(" -> #REF! | ET5: =Données!#REF!+"B#^!4)" -> #REF! | EU5: =Données!#REF!+"B#^!4." -> #REF! | EV5: =Données!#REF!+"B#^!4/" -> #REF! | EW5: =Données!#REF!+"B#^!40" -> #REF! | EX5: =Données!#REF!+"B#^!41" -> #REF! | EY5: =Données!#REF!+"B#^!42" -> #REF! | EZ5: =Données!#REF!+"B#^!43" -> #REF! | FA5: =Données!#REF!+"B#^!44" -> #REF! | FB5: =Données!#REF!+"B#^!45" -> #REF! | FC5: =Données!#REF!+"B#^!46" -> #REF! | FD5: =Données!#REF!+"B#^!47" -> #REF! | FE5: =Données!#REF!+"B#^!48" -> #REF! | FF5: =Données!#REF!+"B#^!49" -> #REF! | FG5: =Données!#REF!+"B#^!4:" -> #REF! | FH5: =Données!#REF!+"B#^!4;" -> #REF! | FI5: =Données!#REF!+"B#^!4<" -> #REF! | FJ5: =Données!#REF!+"B#^!4=" -> #REF! | FK5: =Données!#REF!+"B#^!4>" -> #REF! | FL5: =Données!#REF!+"B#^!4?" -> #REF! | FM5: =Données!#REF!+"B#^!4@" -> #REF! | FN5: =Données!#REF!+"B#^!4A" -> #REF! | FO5: =Données!#REF!+"B#^!4B" -> #REF! | FP5: =Données!#REF!+"B#^!4C" -> #REF! | FQ5: =Données!#REF!+"B#^!4D" -> #REF! | FR5: =Données!#REF!+"B#^!4E" -> #REF! | FS5: =Données!#REF!+"B#^!4F" -> #REF! | FT5: =Données!#REF!+"B#^!4G" -> #REF! | FU5: =Données!#REF!+"B#^!4H" -> #REF! | FV5: =Données!#REF!+"B#^!4I" -> #REF! | FW5: =Données!#REF!+"B#^!4J" -> #REF! | FX5: =Données!#REF!+"B#^!4K" -> #REF! | FY5: =Données!#REF!+"B#^!4L" -> #REF! | FZ5: =Données!#REF!+"B#^!4M" -> #REF! | GA5: =Données!#REF!+"B#^!4N" -> #REF! | GB5: =Données!#REF!+"B#^!4O" -> #REF! | GC5: =Données!#REF!+"B#^!4P" -> #REF! | GD5: =Données!#REF!+"B#^!4Q" -> #REF! | GE5: =Données!#REF!+"B#^!4R" -> #REF! | GF5: =Données!#REF!+"B#^!4S" -> #REF! | GG5: =Données!#REF!+"B#^!4T" -> #REF! | GH5: =Données!#REF!+"B#^!4U" -> #REF! | GI5: =Données!#REF!+"B#^!4V" -> #REF! | GJ5: =Données!#REF!+"B#^!4W" -> #REF! | GK5: =Données!#REF!+"B#^!4X" -> #REF! | GL5: =Données!#REF!+"B#^!4Y" -> #REF! | GM5: =Données!#REF!+"B#^!4Z" -> #REF! | GN5: =Données!#REF!+"B#^!4[" -> #REF! | GO5: =Données!#REF!+"B#^!4\" -> #REF! | GP5: =Données!#REF!+"B#^!4]" -> #REF! | GQ5: =Données!#REF!+"B#^!4^" -> #REF! | GR5: =Données!#REF!+"B#^!4_" -> #REF! | GS5: =Données!#REF!+"B#^!4`" -> #REF! | GT5: =Données!#REF!+"B#^!4a" -> #REF! | GU5: =Données!#REF!+"B#^!4b" -> #REF! | GV5: =Données!#REF!+"B#^!4c" -> #REF! | GW5: =Données!#REF!+"B#^!4d" -> #REF! | GX5: =Données!#REF!+"B#^!4e" -> #REF! | GY5: =Données!#REF!+"B#^!4f" -> #REF! | GZ5: =Données!#REF!+"B#^!4g" -> #REF! | HA5: =Données!#REF!+"B#^!4h" -> #REF! | HB5: =Données!#REF!+"B#^!4i" -> #REF! | HC5: =Données!#REF!+"B#^!4j" -> #REF! | HD5: =Données!#REF!+"B#^!4k" -> #REF! | HE5: =Données!#REF!+"B#^!4l" -> #REF! | HF5: =Données!#REF!+"B#^!4m" -> #REF! | HG5: =Données!#REF!+"B#^!4n" -> #REF! | HH5: =Données!#REF!+"B#^!4o" -> #REF! | HI5: =Données!#REF!+"B#^!4p" -> #REF! | HJ5: =Données!#REF!+"B#^!4q" -> #REF! | HK5: =Données!#REF!+"B#^!4r" -> #REF! | HL5: =Données!#REF!+"B#^!4s" -> #REF! | HM5: =Données!#REF!+"B#^!4t" -> #REF! | HN5: =Données!#REF!+"B#^!4u" -> #REF! | HO5: =Données!#REF!+"B#^!4v" -> #REF! | HP5: =Données!#REF!+"B#^!4w" -> #REF! | HQ5: =Données!#REF!+"B#^!4x" -> #REF! | HR5: =Données!#REF!+"B#^!4y" -> #REF! | HS5: =Données!#REF!+"B#^!4z" -> #REF! | HT5: =Données!#REF!+"B#^!4{" -> #REF! | HU5: =Données!#REF!+"B#^!4|" -> #REF! | HV5: =Données!#REF!+"B#^!4}" -> #REF! | HW5: =Données!#REF!+"B#^!4~" -> #REF! | HX5: =Données!#REF!+"B#^!5#" -> #REF! | HY5: =Données!#REF!+"B#^!5$" -> #REF! | HZ5: =Données!#REF!+"B#^!5%" -> #REF! | IA5: =Données!#REF!+"B#^!5&" -> #REF! | IB5: =Données!#REF!+"B#^!5'" -> #REF! | IC5: =Données!#REF!+"B#^!5(" -> #REF! | ID5: =Données!#REF!+"B#^!5)" -> #REF! | IE5: =Données!#REF!+"B#^!5." -> #REF! | IF5: =Données!#REF!+"B#^!5/" -> #REF! | IG5: =Données!#REF!+"B#^!50" -> #REF! | IH5: =Données!#REF!+"B#^!51" -> #REF! | II5: =Données!#REF!+"B#^!52" -> #REF! | IJ5: =Données!#REF!+"B#^!53" -> #REF! | IK5: =Données!#REF!+"B#^!54" -> #REF! | IL5: =Données!#REF!+"B#^!55" -> #REF! | IM5: =Données!#REF!+"B#^!56" -> #REF! | IN5: =Données!#REF!+"B#^!57" -> #REF! | IO5: =Données!#REF!+"B#^!58" -> #REF! | IP5: =Données!#REF!+"B#^!59" -> #REF! | IQ5: =Données!#REF!+"B#^!5:" -> #REF! | IR5: =Données!#REF!+"B#^!5;" -> #REF! | IS5: =Données!#REF!+"B#^!5<" -> #REF! | IT5: =Données!#REF!+"B#^!5=" -> #REF! | IU5: =Données!#REF!+"B#^!5>" -> #REF! | IV5: =Données!#REF!+"B#^!5?" -> #REF!
F6: =Données!#REF!+"B#^!5@" -> #REF! | G6: =Données!#REF!-"B#^!5A" -> #REF! | H6: =Données!#REF!-"B#^!5B" -> #REF! | I6: =Données!#REF!-"B#^!5C" -> #REF! | J6: =Données!203:203-"B#^!5D" -> #VALUE! | K6: =Données!#REF!+"B#^!5E" -> #REF! | L6: =Données!#REF!+"B#^!5F" -> #REF! | M6: =Données!#REF!+"B#^!5G" -> #REF! | N6: =Données!#REF!+"B#^!5H" -> #REF! | O6: =Données!#REF!+"B#^!5I" -> #REF! | P6: =Données!#REF!+"B#^!5J" -> #REF! | Q6: =Données!#REF!+"B#^!5K" -> #REF! | R6: =Données!#REF!+"B#^!5L" -> #REF! | S6: =Données!#REF!+"B#^!5M" -> #REF! | T6: =Données!#REF!+"B#^!5N" -> #REF! | U6: =Données!#REF!+"B#^!5O" -> #REF! | V6: =Données!#REF!+"B#^!5P" -> #REF! | W6: =Données!#REF!+"B#^!5Q" -> #REF! | X6: =Données!#REF!+"B#^!5R" -> #REF! | Y6: =Données!#REF!+"B#^!5S" -> #REF! | Z6: =Données!#REF!+"B#^!5T" -> #REF! | AA6: =Données!#REF!+"B#^!5U" -> #REF! | AB6: =Données!#REF!+"B#^!5V" -> #REF! | AC6: =Données!#REF!+"B#^!5W" -> #REF! | AD6: =Données!#REF!+"B#^!5X" -> #REF! | AE6: =Données!#REF!+"B#^!5Y" -> #REF! | AF6: =Données!#REF!+"B#^!5Z" -> #REF! | AG6: =Données!#REF!+"B#^!5[" -> #REF! | AH6: =Données!#REF!+"B#^!5\" -> #REF! | AI6: =Données!#REF!+"B#^!5]" -> #REF! | AJ6: =Données!#REF!+"B#^!5^" -> #REF! | AK6: =Données!#REF!+"B#^!5_" -> #REF! | AL6: =Données!#REF!+"B#^!5`" -> #REF! | AM6: =Données!#REF!+"B#^!5a" -> #REF! | AN6: =Données!#REF!+"B#^!5b" -> #REF! | AO6: =Données!#REF!+"B#^!5c" -> #REF! | AP6: =Données!#REF!+"B#^!5d" -> #REF! | AQ6: =Données!#REF!+"B#^!5e" -> #REF! | AR6: =Données!#REF!+"B#^!5f" -> #REF! | AS6: =Données!#REF!+"B#^!5g" -> #REF! | AT6: =Données!#REF!+"B#^!5h" -> #REF! | AU6: =Données!#REF!+"B#^!5i" -> #REF! | AV6: =Données!#REF!+"B#^!5j" -> #REF! | AW6: =Données!#REF!+"B#^!5k" -> #REF! | AX6: =Données!#REF!+"B#^!5l" -> #REF! | AY6: =Données!#REF!+"B#^!5m" -> #REF! | AZ6: =Données!#REF!+"B#^!5n" -> #REF! | BA6: =Données!#REF!+"B#^!5o" -> #REF! | BB6: =Données!#REF!+"B#^!5p" -> #REF! | BC6: =Données!#REF!+"B#^!5q" -> #REF! | BD6: =Données!#REF!+"B#^!5r" -> #REF! | BE6: =Données!#REF!+"B#^!5s" -> #REF! | BF6: =Données!#REF!+"B#^!5t" -> #REF! | BG6: =Données!#REF!+"B#^!5u" -> #REF! | BH6: =Données!#REF!+"B#^!5v" -> #REF! | BI6: =Données!#REF!+"B#^!5w" -> #REF! | BJ6: =Données!#REF!+"B#^!5x" -> #REF! | BK6: =Données!#REF!+"B#^!5y" -> #REF! | BL6: =Données!#REF!+"B#^!5z" -> #REF! | BM6: =Données!#REF!+"B#^!5{" -> #REF! | BN6: =Données!#REF!+"B#^!5|" -> #REF! | BO6: =Données!#REF!+"B#^!5}" -> #REF! | BP6: =Données!#REF!+"B#^!5~" -> #REF! | BQ6: =Données!#REF!+"B#^!6#" -> #REF! | BR6: =Données!#REF!+"B#^!6$" -> #REF! | BS6: =Données!#REF!+"B#^!6%" -> #REF! | BT6: =Données!#REF!+"B#^!6&" -> #REF! | BU6: =Données!#REF!+"B#^!6'" -> #REF! | BV6: =Données!#REF!+"B#^!6(" -> #REF! | BW6: =Données!#REF!+"B#^!6)" -> #REF! | BX6: =Données!#REF!+"B#^!6." -> #REF! | BY6: =Données!#REF!+"B#^!6/" -> #REF! | BZ6: =Données!#REF!+"B#^!60" -> #REF! | CA6: =Données!#REF!+"B#^!61" -> #REF! | CB6: =Données!#REF!+"B#^!62" -> #REF! | CC6: =Données!#REF!+"B#^!63" -> #REF! | CD6: =Données!#REF!+"B#^!64" -> #REF! | CE6: =Données!#REF!+"B#^!65" -> #REF! | CF6: =Données!#REF!+"B#^!66" -> #REF! | CG6: =Données!#REF!+"B#^!67" -> #REF! | CH6: =Données!#REF!+"B#^!68" -> #REF! | CI6: =Données!#REF!+"B#^!69" -> #REF! | CJ6: =Données!#REF!+"B#^!6:" -> #REF! | CK6: =Données!#REF!+"B#^!6;" -> #REF! | CL6: =Données!#REF!+"B#^!6<" -> #REF! | CM6: =Données!#REF!+"B#^!6=" -> #REF! | CN6: =Données!#REF!+"B#^!6>" -> #REF! | CO6: =Données!#REF!+"B#^!6?" -> #REF! | CP6: =#REF!*"B#^!6@" -> #REF! | CQ6: =#REF!*"B#^!6A" -> #REF! | CR6: =#REF!*"B#^!6B" -> #REF! | CS6: =#REF!*"B#^!6C" -> #REF! | CT6: =#REF!*"B#^!6D" -> #REF! | CU6: =#REF!*"B#^!6E" -> #REF! | CV6: =#REF!*"B#^!6F" -> #REF! | CW6: =#REF!*"B#^!6G" -> #REF! | CX6: =#REF!*"B#^!6H" -> #REF! | CY6: =#REF!*"B#^!6I" -> #REF! | CZ6: =#REF!*"B#^!6J" -> #REF! | DA6: =#REF!*"B#^!6K" -> #REF! | DB6: =#REF!*"B#^!6L" -> #REF! | DC6: =#REF!*"B#^!6M" -> #REF! | DD6: =#REF!*"B#^!6N" -> #REF! | DE6: =#REF!*"B#^!6O" -> #REF! | DF6: =#REF!*"B#^!6P" -> #REF! | DG6: =#REF!*"B#^!6Q" -> #REF! | DH6: =#REF!*"B#^!6R" -> #REF! | DI6: =#REF!*"B#^!6S" -> #REF! | DJ6: =#REF!*"B#^!6T" -> #REF! | DK6: =#REF!*"B#^!6U" -> #REF! | DL6: =#REF!*"B#^!6V" -> #REF! | DM6: =#REF!*"B#^!6W" -> #REF! | DN6: =#REF!*"B#^!6X" -> #REF! | DO6: =#REF!*"B#^!6Y" -> #REF! | DP6: =#REF!*"B#^!6Z" -> #REF! | DQ6: =#REF!*"B#^!6[" -> #REF! | DR6: =#REF!*"B#^!6\" -> #REF! | DS6: =#REF!*"B#^!6]" -> #REF! | DT6: =#REF!*"B#^!6^" -> #REF! | DU6: =#REF!*"B#^!6_" -> #REF! | DV6: =#REF!*"B#^!6`" -> #REF! | DW6: =#REF!*"B#^!6a" -> #REF! | DX6: =#REF!*"B#^!6b" -> #REF! | DY6: =#REF!*"B#^!6c" -> #REF! | DZ6: =#REF!*"B#^!6d" -> #REF! | EA6: =#REF!*"B#^!6e" -> #REF! | EB6: =#REF!*"B#^!6f" -> #REF! | EC6: =#REF!*"B#^!6g" -> #REF! | ED6: =#REF!*"B#^!6h" -> #REF! | EE6: =#REF!*"B#^!6i" -> #REF! | EF6: =#REF!*"B#^!6j" -> #REF! | EG6: =#REF!*"B#^!6k" -> #REF! | EH6: =#REF!*"B#^!6l" -> #REF! | EI6: =#REF!*"B#^!6m" -> #REF! | EJ6: =#REF!*"B#^!6n" -> #REF! | EK6: =#REF!*"B#^!6o" -> #REF! | EL6: =#REF!*"B#^!6p" -> #REF! | EM6: =#REF!*"B#^!6q" -> #REF! | EN6: =#REF!*"B#^!6r" -> #REF! | EO6: =#REF!*"B#^!6s" -> #REF! | EP6: =#REF!*"B#^!6t" -> #REF! | EQ6: =#REF!*"B#^!6u" -> #REF! | ER6: =#REF!*"B#^!6v" -> #REF! | ES6: =#REF!*"B#^!6w" -> #REF! | ET6: =#REF!*"B#^!6x" -> #REF! | EU6: =#REF!*"B#^!6y" -> #REF! | EV6: =#REF!*"B#^!6z" -> #REF! | EW6: =#REF!*"B#^!6{" -> #REF! | EX6: =#REF!*"B#^!6|" -> #REF! | EY6: =#REF!*"B#^!6}" -> #REF! | EZ6: =#REF!*"B#^!6~" -> #REF! | FA6: =#REF!*"B#^!7#" -> #REF! | FB6: =#REF!*"B#^!7$" -> #REF! | FC6: =#REF!*"B#^!7%" -> #REF! | FD6: =#REF!*"B#^!7&" -> #REF! | FE6: =#REF!-"B#^!7'" -> #REF! | FF6: =#REF!-"B#^!7(" -> #REF! | FG6: =#REF!-"B#^!7)" -> #REF! | FH6: =#REF!-"B#^!7." -> #REF! | FI6: =#REF!-"B#^!7/" -> #REF! | FJ6: =#REF!-"B#^!70" -> #REF! | FK6: =#REF!-"B#^!71" -> #REF! | FL6: =#REF!-"B#^!72" -> #REF! | FM6: =#REF!-"B#^!73" -> #REF! | FN6: =#REF!-"B#^!74" -> #REF! | FO6: =#REF!-"B#^!75" -> #REF! | FP6: =#REF!-"B#^!76" -> #REF! | FQ6: =#REF!-"B#^!77" -> #REF! | FR6: =#REF!-"B#^!78" -> #REF! | FS6: =#REF!-"B#^!79" -> #REF! | FT6: =#REF!-"B#^!7:" -> #REF! | FU6: =#REF!-"B#^!7;" -> #REF! | FV6: =#REF!-"B#^!7<" -> #REF! | FW6: =#REF!-"B#^!7=" -> #REF! | FX6: =#REF!-"B#^!7>" -> #REF! | FY6: =#REF!-"B#^!7?" -> #REF! | FZ6: =#REF!-"B#^!7@" -> #REF! | GA6: =#REF!-"B#^!7A" -> #REF! | GB6: =#REF!-"B#^!7B" -> #REF! | GC6: =#REF!-"B#^!7C" -> #REF! | GD6: =#REF!-"B#^!7D" -> #REF! | GE6: =#REF!-"B#^!7E" -> #REF! | GF6: =#REF!-"B#^!7F" -> #REF! | GG6: =#REF!-"B#^!7G" -> #REF! | GH6: =#REF!-"B#^!7H" -> #REF! | GI6: =#REF!-"B#^!7I" -> #REF! | GJ6: =#REF!-"B#^!7J" -> #REF! | GK6: =#REF!-"B#^!7K" -> #REF! | GL6: =#REF!-"B#^!7L" -> #REF! | GM6: =#REF!-"B#^!7M" -> #REF! | GN6: =#REF!-"B#^!7N" -> #REF! | GO6: =#REF!-"B#^!7O" -> #REF! | GP6: =#REF!-"B#^!7P" -> #REF! | GQ6: =#REF!-"B#^!7Q" -> #REF! | GR6: =#REF!-"B#^!7R" -> #REF! | GS6: =#REF!-"B#^!7S" -> #REF! | GT6: =#REF!-"B#^!7T" -> #REF! | GU6: =#REF!-"B#^!7U" -> #REF! | GV6: =#REF!-"B#^!7V" -> #REF! | GW6: =#REF!-"B#^!7W" -> #REF! | GX6: =#REF!-"B#^!7X" -> #REF! | GY6: =#REF!-"B#^!7Y" -> #REF! | GZ6: =#REF!-"B#^!7Z" -> #REF! | HA6: =#REF!-"B#^!7[" -> #REF! | HB6: =#REF!-"B#^!7\" -> #REF! | HC6: =#REF!-"B#^!7]" -> #REF! | HD6: =#REF!-"B#^!7^" -> #REF! | HE6: =#REF!-"B#^!7_" -> #REF! | HF6: =#REF!-"B#^!7`" -> #REF! | HG6: =#REF!-"B#^!7a" -> #REF! | HH6: =#REF!-"B#^!7b" -> #REF! | HI6: =#REF!-"B#^!7c" -> #REF! | HJ6: =#REF!-"B#^!7d" -> #REF! | HK6: =#REF!-"B#^!7e" -> #REF! | HL6: =#REF!-"B#^!7f" -> #REF! | HM6: =#REF!-"B#^!7g" -> #REF! | HN6: =#REF!-"B#^!7h" -> #REF! | HO6: =#REF!-"B#^!7i" -> #REF! | HP6: =#REF!-"B#^!7j" -> #REF! | HQ6: =#REF!-"B#^!7k" -> #REF! | HR6: =#REF!-"B#^!7l" -> #REF! | HS6: =#REF!-"B#^!7m" -> #REF! | HT6: =#REF!-"B#^!7n" -> #REF! | HU6: =#REF!-"B#^!7o" -> #REF! | HV6: =#REF!-"B#^!7p" -> #REF! | HW6: =#REF!-"B#^!7q" -> #REF! | HX6: =#REF!-"B#^!7r" -> #REF! | HY6: =#REF!-"B#^!7s" -> #REF! | HZ6: =#REF!-"B#^!7t" -> #REF! | IA6: =#REF!-"B#^!7u" -> #REF! | IB6: =#REF!-"B#^!7v" -> #REF! | IC6: =#REF!-"B#^!7w" -> #REF! | ID6: =#REF!-"B#^!7x" -> #REF! | IE6: =#REF!-"B#^!7y" -> #REF! | IF6: =#REF!-"B#^!7z" -> #REF! | IG6: =#REF!-"B#^!7{" -> #REF! | IH6: =#REF!-"B#^!7|" -> #REF! | II6: =#REF!-"B#^!7}" -> #REF! | IJ6: =#REF!-"B#^!7~" -> #REF! | IK6: =#REF!-"B#^!8#" -> #REF! | IL6: =#REF!-"B#^!8$" -> #REF! | IM6: =#REF!-"B#^!8%" -> #REF! | IN6: =#REF!-"B#^!8&" -> #REF! | IO6: =#REF!-"B#^!8'" -> #REF! | IP6: =#REF!-"B#^!8(" -> #REF! | IQ6: =#REF!-"B#^!8)" -> #REF! | IR6: =#REF!-"B#^!8." -> #REF! | IS6: =#REF!-"B#^!8/" -> #REF! | IT6: =#REF!-"B#^!80" -> #REF! | IU6: =#REF!-"B#^!81" -> #REF! | IV6: =#REF!-"B#^!82" -> #REF!
F7: =#REF!-"B#^!83" -> #REF! | G7: =#REF!-"B#^!84" -> #REF! | H7: =#REF!-"B#^!85" -> #REF! | I7: =#REF!-"B#^!86" -> #REF! | J7: =#REF!-"B#^!87" -> #REF! | K7: =#REF!-"B#^!88" -> #REF! | L7: =#REF!-"B#^!89" -> #REF! | M7: =#REF!-"B#^!8:" -> #REF! | N7: =#REF!-"B#^!8;" -> #REF! | O7: =#REF!-"B#^!8<" -> #REF! | P7: =#REF!-"B#^!8=" -> #REF! | Q7: =#REF!-"B#^!8>" -> #REF! | R7: =#REF!-"B#^!8?" -> #REF! | S7: =#REF!-"B#^!8@" -> #REF! | T7: =#REF!-"B#^!8A" -> #REF! | U7: =#REF!-"B#^!8B" -> #REF! | V7: =#REF!-"B#^!8C" -> #REF! | W7: =#REF!-"B#^!8D" -> #REF! | X7: =#REF!-"B#^!8E" -> #REF! | Y7: =#REF!-"B#^!8F" -> #REF! | Z7: =#REF!-"B#^!8G" -> #REF! | AA7: =#REF!-"B#^!8H" -> #REF! | AB7: =#REF!-"B#^!8I" -> #REF! | AC7: =#REF!-"B#^!8J" -> #REF! | AD7: =#REF!-"B#^!8K" -> #REF! | AE7: =#REF!-"B#^!8L" -> #REF! | AF7: =#REF!-"B#^!8M" -> #REF! | AG7: =#REF!-"B#^!8N" -> #REF! | AH7: =#REF!-"B#^!8O" -> #REF! | AI7: =#REF!-"B#^!8P" -> #REF! | AJ7: =#REF!-"B#^!8Q" -> #REF! | AK7: =#REF!-"B#^!8R" -> #REF! | AL7: =#REF!-"B#^!8S" -> #REF! | AM7: =#REF!-"B#^!8T" -> #REF! | AN7: =#REF!-"B#^!8U" -> #REF! | AO7: =#REF!-"B#^!8V" -> #REF! | AP7: =#REF!-"B#^!8W" -> #REF! | AQ7: =#REF!-"B#^!8X" -> #REF! | AR7: =#REF!-"B#^!8Y" -> #REF! | AS7: =#REF!-"B#^!8Z" -> #REF! | AT7: =#REF!-"B#^!8[" -> #REF! | AU7: =#REF!-"B#^!8\" -> #REF! | AV7: =#REF!-"B#^!8]" -> #REF! | AW7: =#REF!-"B#^!8^" -> #REF! | AX7: =#REF!-"B#^!8_" -> #REF! | AY7: =#REF!-"B#^!8`" -> #REF! | AZ7: =#REF!-"B#^!8a" -> #REF! | BA7: =#REF!-"B#^!8b" -> #REF! | BB7: =#REF!-"B#^!8c" -> #REF! | BC7: =#REF!-"B#^!8d" -> #REF! | BD7: =#REF!-"B#^!8e" -> #REF! | BE7: =#REF!-"B#^!8f" -> #REF! | BF7: =#REF!-"B#^!8g" -> #REF! | BG7: =#REF!-"B#^!8h" -> #REF! | BH7: =#REF!-"B#^!8i" -> #REF! | BI7: =#REF!-"B#^!8j" -> #REF! | BJ7: =#REF!-"B#^!8k" -> #REF! | BK7: =#REF!-"B#^!8l" -> #REF! | BL7: =#REF!-"B#^!8m" -> #REF! | BM7: =#REF!-"B#^!8n" -> #REF! | BN7: =#REF!-"B#^!8o" -> #REF! | BO7: =#REF!-"B#^!8p" -> #REF! | BP7: =#REF!-"B#^!8q" -> #REF! | BQ7: =#REF!-"B#^!8r" -> #REF! | BR7: =#REF!-"B#^!8s" -> #REF! | BS7: =#REF!-"B#^!8t" -> #REF! | BT7: =#REF!-"B#^!8u" -> #REF! | BU7: =#REF!-"B#^!8v" -> #REF! | BV7: =#REF!-"B#^!8w" -> #REF! | BW7: =#REF!-"B#^!8x" -> #REF! | BX7: =#REF!-"B#^!8y" -> #REF! | BY7: =#REF!-"B#^!8z" -> #REF! | BZ7: =#REF!-"B#^!8{" -> #REF! | CA7: =#REF!-"B#^!8|" -> #REF! | CB7: =#REF!-"B#^!8}" -> #REF! | CC7: =#REF!-"B#^!8~" -> #REF! | CD7: =#REF!-"B#^!9#" -> #REF! | CE7: =#REF!-"B#^!9$" -> #REF! | CF7: =#REF!-"B#^!9%" -> #REF! | CG7: =#REF!-"B#^!9&" -> #REF! | CH7: =#REF!-"B#^!9'" -> #REF! | CI7: =#REF!-"B#^!9(" -> #REF! | CJ7: =#REF!-"B#^!9)" -> #REF! | CK7: =#REF!-"B#^!9." -> #REF! | CL7: =#REF!-"B#^!9/" -> #REF! | CM7: =#REF!-"B#^!90" -> #REF! | CN7: =#REF!-"B#^!91" -> #REF! | CO7: =#REF!-"B#^!92" -> #REF! | CP7: =#REF!-"B#^!93" -> #REF! | CQ7: =#REF!-"B#^!94" -> #REF! | CR7: =#REF!-"B#^!95" -> #REF! | CS7: =#REF!-"B#^!96" -> #REF! | CT7: =#REF!-"B#^!97" -> #REF! | CU7: =#REF!-"B#^!98" -> #REF! | CV7: =#REF!-"B#^!99" -> #REF! | CW7: =#REF!-"B#^!9:" -> #REF! | CX7: =#REF!-"B#^!9;" -> #REF! | CY7: =#REF!-"B#^!9<" -> #REF! | CZ7: =#REF!-"B#^!9=" -> #REF! | DA7: =#REF!-"B#^!9>" -> #REF! | DB7: =#REF!-"B#^!9?" -> #REF! | DC7: =#REF!-"B#^!9@" -> #REF! | DD7: =#REF!-"B#^!9A" -> #REF! | DE7: =#REF!-"B#^!9B" -> #REF! | DF7: =#REF!-"B#^!9C" -> #REF! | DG7: =#REF!-"B#^!9D" -> #REF! | DH7: =#REF!-"B#^!9E" -> #REF! | DI7: =#REF!-"B#^!9F" -> #REF! | DJ7: =#REF!-"B#^!9G" -> #REF! | DK7: =#REF!-"B#^!9H" -> #REF! | DL7: =#REF!-"B#^!9I" -> #REF! | DM7: =#REF!-"B#^!9J" -> #REF! | DN7: =#REF!-"B#^!9K" -> #REF! | DO7: =#REF!-"B#^!9L" -> #REF! | DP7: =#REF!-"B#^!9M" -> #REF! | DQ7: =#REF!-"B#^!9N" -> #REF! | DR7: =#REF!-"B#^!9O" -> #REF! | DS7: =#REF!-"B#^!9P" -> #REF! | DT7: =#REF!-"B#^!9Q" -> #REF! | DU7: =#REF!-"B#^!9R" -> #REF! | DV7: =#REF!-"B#^!9S" -> #REF! | DW7: =#REF!-"B#^!9T" -> #REF! | DX7: =#REF!+"B#^!9U" -> #REF! | DY7: =#REF!+"B#^!9V" -> #REF! | DZ7: =#REF!+"B#^!9W" -> #REF! | EA7: =#REF!+"B#^!9X" -> #REF! | EB7: =#REF!+"B#^!9Y" -> #REF! | EC7: =#REF!+"B#^!9Z" -> #REF! | ED7: =#REF!+"B#^!9[" -> #REF! | EE7: =#REF!+"B#^!9\" -> #REF! | EF7: =#REF!+"B#^!9]" -> #REF! | EG7: =#REF!+"B#^!9^" -> #REF! | EH7: =#REF!+"B#^!9_" -> #REF! | EI7: =#REF!+"B#^!9`" -> #REF! | EJ7: =#REF!+"B#^!9a" -> #REF! | EK7: =#REF!+"B#^!9b" -> #REF! | EL7: =#REF!+"B#^!9c" -> #REF! | EM7: =#REF!+"B#^!9d" -> #REF! | EN7: =#REF!+"B#^!9e" -> #REF! | EO7: =#REF!+"B#^!9f" -> #REF! | EP7: =#REF!+"B#^!9g" -> #REF! | EQ7: =#REF!+"B#^!9h" -> #REF! | ER7: =#REF!+"B#^!9i" -> #REF! | ES7: =#REF!+"B#^!9j" -> #REF! | ET7: =#REF!+"B#^!9k" -> #REF! | EU7: =#REF!+"B#^!9l" -> #REF! | EV7: =#REF!+"B#^!9m" -> #REF! | EW7: =#REF!+"B#^!9n" -> #REF! | EX7: =#REF!+"B#^!9o" -> #REF! | EY7: =#REF!+"B#^!9p" -> #REF! | EZ7: =#REF!+"B#^!9q" -> #REF! | FA7: =#REF!+"B#^!9r" -> #REF! | FB7: =#REF!+"B#^!9s" -> #REF! | FC7: =#REF!+"B#^!9t" -> #REF! | FD7: =#REF!+"B#^!9u" -> #REF! | FE7: =#REF!+"B#^!9v" -> #REF! | FF7: =#REF!+"B#^!9w" -> #REF! | FG7: =#REF!+"B#^!9x" -> #REF! | FH7: =#REF!+"B#^!9y" -> #REF! | FI7: =#REF!+"B#^!9z" -> #REF! | FJ7: =#REF!+"B#^!9{" -> #REF! | FK7: =#REF!+"B#^!9|" -> #REF! | FL7: =#REF!+"B#^!9}" -> #REF! | FM7: =#REF!+"B#^!9~" -> #REF! | FN7: =#REF!+"B#^!:#" -> #REF! | FO7: =#REF!+"B#^!:$" -> #REF! | FP7: =#REF!+"B#^!:%" -> #REF! | FQ7: =#REF!+"B#^!:&" -> #REF! | FR7: =#REF!+"B#^!:'" -> #REF! | FS7: =#REF!+"B#^!:(" -> #REF! | FT7: =#REF!+"B#^!:)" -> #REF! | FU7: =#REF!+"B#^!:." -> #REF! | FV7: =#REF!+"B#^!:/" -> #REF! | FW7: =#REF!+"B#^!:0" -> #REF! | FX7: =#REF!+"B#^!:1" -> #REF! | FY7: =#REF!+"B#^!:2" -> #REF! | FZ7: =#REF!+"B#^!:3" -> #REF! | GA7: =#REF!+"B#^!:4" -> #REF! | GB7: =#REF!+"B#^!:5" -> #REF! | GC7: =#REF!+"B#^!:6" -> #REF! | GD7: =#REF!+"B#^!:7" -> #REF! | GE7: =#REF!+"B#^!:8" -> #REF! | GF7: =#REF!+"B#^!:9" -> #REF! | GG7: =#REF!+"B#^!::" -> #REF! | GH7: =#REF!+"B#^!:;" -> #REF! | GI7: =#REF!+"B#^!:<" -> #REF! | GJ7: =#REF!+"B#^!:=" -> #REF! | GK7: =#REF!+"B#^!:>" -> #REF! | GL7: =#REF!+"B#^!:?" -> #REF! | GM7: =#REF!+"B#^!:@" -> #REF! | GN7: =#REF!+"B#^!:A" -> #REF! | GO7: =#REF!+"B#^!:B" -> #REF! | GP7: =#REF!+"B#^!:C" -> #REF! | GQ7: =#REF!+"B#^!:D" -> #REF! | GR7: =#REF!+"B#^!:E" -> #REF! | GS7: =#REF!+"B#^!:F" -> #REF! | GT7: =#REF!+"B#^!:G" -> #REF! | GU7: =#REF!+"B#^!:H" -> #REF! | GV7: =#REF!+"B#^!:I" -> #REF! | GW7: =#REF!+"B#^!:J" -> #REF! | GX7: =#REF!+"B#^!:K" -> #REF! | GY7: =#REF!+"B#^!:L" -> #REF! | GZ7: =#REF!+"B#^!:M" -> #REF! | HA7: =#REF!+"B#^!:N" -> #REF! | HB7: =#REF!+"B#^!:O" -> #REF! | HC7: =#REF!+"B#^!:P" -> #REF! | HD7: =#REF!+"B#^!:Q" -> #REF! | HE7: =#REF!+"B#^!:R" -> #REF! | HF7: =#REF!+"B#^!:S" -> #REF! | HG7: =#REF!+"B#^!:T" -> #REF! | HH7: =#REF!+"B#^!:U" -> #REF! | HI7: =#REF!+"B#^!:V" -> #REF! | HJ7: =#REF!+"B#^!:W" -> #REF! | HK7: =#REF!+"B#^!:X" -> #REF! | HL7: =#REF!+"B#^!:Y" -> #REF! | HM7: =#REF!+"B#^!:Z" -> #REF! | HN7: =#REF!+"B#^!:[" -> #REF! | HO7: =#REF!+"B#^!:\" -> #REF! | HP7: =#REF!+"B#^!:]" -> #REF! | HQ7: =#REF!+"B#^!:^" -> #REF! | HR7: =#REF!+"B#^!:_" -> #REF! | HS7: =#REF!+"B#^!:`" -> #REF! | HT7: =#REF!+"B#^!:a" -> #REF! | HU7: =#REF!+"B#^!:b" -> #REF! | HV7: =#REF!+"B#^!:c" -> #REF! | HW7: =#REF!+"B#^!:d" -> #REF! | HX7: =#REF!+"B#^!:e" -> #REF! | HY7: =#REF!+"B#^!:f" -> #REF! | HZ7: =#REF!+"B#^!:g" -> #REF! | IA7: =#REF!+"B#^!:h" -> #REF! | IB7: =#REF!+"B#^!:i" -> #REF! | IC7: =#REF!+"B#^!:j" -> #REF! | ID7: =#REF!+"B#^!:k" -> #REF! | IE7: =#REF!+"B#^!:l" -> #REF! | IF7: =#REF!+"B#^!:m" -> #REF! | IG7: =#REF!+"B#^!:n" -> #REF! | IH7: =#REF!+"B#^!:o" -> #REF! | II7: =#REF!+"B#^!:p" -> #REF! | IJ7: =#REF!+"B#^!:q" -> #REF! | IK7: =#REF!+"B#^!:r" -> #REF! | IL7: =#REF!+"B#^!:s" -> #REF! | IM7: =#REF!+"B#^!:t" -> #REF! | IN7: =#REF!+"B#^!:u" -> #REF! | IO7: =#REF!+"B#^!:v" -> #REF! | IP7: =#REF!+"B#^!:w" -> #REF! | IQ7: =#REF!+"B#^!:x" -> #REF! | IR7: =#REF!+"B#^!:y" -> #REF! | IS7: =#REF!+"B#^!:z" -> #REF! | IT7: =#REF!+"B#^!:{" -> #REF! | IU7: =#REF!+"B#^!:|" -> #REF! | IV7: =#REF!+"B#^!:}" -> #REF!
F8: =#REF!+"B#^!:~" -> #REF! | G8: =#REF!+"B#^!;#" -> #REF! | H8: =#REF!+"B#^!;$" -> #REF! | I8: =#REF!+"B#^!;%" -> #REF! | J8: =#REF!+"B#^!;&" -> #REF! | K8: =#REF!+"B#^!;'" -> #REF! | L8: =#REF!+"B#^!;(" -> #REF! | M8: =#REF!+"B#^!;)" -> #REF! | N8: =#REF!+"B#^!;." -> #REF! | O8: =#REF!+"B#^!;/" -> #REF! | P8: =#REF!+"B#^!;0" -> #REF! | Q8: =#REF!+"B#^!;1" -> #REF! | R8: =#REF!+"B#^!;2" -> #REF! | S8: =#REF!+"B#^!;3" -> #REF! | T8: =#REF!+"B#^!;4" -> #REF! | U8: =#REF!+"B#^!;5" -> #REF! | V8: =#REF!+"B#^!;6" -> #REF! | W8: =#REF!+"B#^!;7" -> #REF! | X8: =#REF!+"B#^!;8" -> #REF! | Y8: =#REF!+"B#^!;9" -> #REF! | Z8: =#REF!+"B#^!;:" -> #REF! | AA8: =#REF!+"B#^!;;" -> #REF! | AB8: =#REF!+"B#^!;<" -> #REF! | AC8: =#REF!+"B#^!;=" -> #REF! | AD8: =#REF!+"B#^!;>" -> #REF! | AE8: =#REF!+"B#^!;?" -> #REF! | AF8: =#REF!+"B#^!;@" -> #REF! | AG8: =#REF!+"B#^!;A" -> #REF! | AH8: =#REF!+"B#^!;B" -> #REF! | AI8: =#REF!+"B#^!;C" -> #REF! | AJ8: =#REF!+"B#^!;D" -> #REF! | AK8: =#REF!+"B#^!;E" -> #REF! | AL8: =#REF!+"B#^!;F" -> #REF! | AM8: =#REF!+"B#^!;G" -> #REF! | AN8: =#REF!+"B#^!;H" -> #REF! | AO8: =#REF!+"B#^!;I" -> #REF! | AP8: =#REF!+"B#^!;J" -> #REF! | AQ8: =#REF!+"B#^!;K" -> #REF! | AR8: =#REF!+"B#^!;L" -> #REF! | AS8: =#REF!+"B#^!;M" -> #REF! | AT8: =#REF!+"B#^!;N" -> #REF! | AU8: =#REF!+"B#^!;O" -> #REF! | AV8: =#REF!+"B#^!;P" -> #REF! | AW8: =#REF!+"B#^!;Q" -> #REF! | AX8: =#REF!+"B#^!;R" -> #REF! | AY8: =#REF!+"B#^!;S" -> #REF! | AZ8: =#REF!+"B#^!;T" -> #REF! | BA8: =#REF!+"B#^!;U" -> #REF! | BB8: =#REF!+"B#^!;V" -> #REF! | BC8: =#REF!+"B#^!;W" -> #REF! | BD8: =#REF!+"B#^!;X" -> #REF! | BE8: =#REF!+"B#^!;Y" -> #REF! | BF8: =#REF!+"B#^!;Z" -> #REF! | BG8: =#REF!+"B#^!;[" -> #REF! | BH8: =#REF!+"B#^!;\" -> #REF! | BI8: =#REF!+"B#^!;]" -> #REF! | BJ8: =#REF!+"B#^!;^" -> #REF! | BK8: =#REF!+"B#^!;_" -> #REF! | BL8: =#REF!+"B#^!;`" -> #REF! | BM8: =#REF!+"B#^!;a" -> #REF! | BN8: =#REF!+"B#^!;b" -> #REF! | BO8: =#REF!+"B#^!;c" -> #REF! | BP8: =#REF!+"B#^!;d" -> #REF! | BQ8: =#REF!+"B#^!;e" -> #REF! | BR8: =#REF!+"B#^!;f" -> #REF! | BS8: =#REF!+"B#^!;g" -> #REF! | BT8: =#REF!+"B#^!;h" -> #REF! | BU8: =#REF!+"B#^!;i" -> #REF! | BV8: =#REF!+"B#^!;j" -> #REF! | BW8: =#REF!+"B#^!;k" -> #REF! | BX8: =#REF!+"B#^!;l" -> #REF! | BY8: =#REF!+"B#^!;m" -> #REF! | BZ8: =#REF!+"B#^!;n" -> #REF! | CA8: =#REF!+"B#^!;o" -> #REF! | CB8: =#REF!+"B#^!;p" -> #REF! | CC8: =#REF!+"B#^!;q" -> #REF! | CD8: =#REF!+"B#^!;r" -> #REF! | CE8: =#REF!+"B#^!;s" -> #REF! | CF8: =#REF!+"B#^!;t" -> #REF! | CG8: =#REF!+"B#^!;u" -> #REF! | CH8: =#REF!+"B#^!;v" -> #REF! | CI8: =#REF!+"B#^!;w" -> #REF! | CJ8: =#REF!+"B#^!;x" -> #REF! | CK8: =#REF!+"B#^!;y" -> #REF! | CL8: =#REF!+"B#^!;z" -> #REF! | CM8: =#REF!+"B#^!;{" -> #REF! | CN8: =#REF!+"B#^!;|" -> #REF! | CO8: =#REF!+"B#^!;}" -> #REF! | CP8: =#REF!+"B#^!;~" -> #REF! | CQ8: =#REF!+"B#^!<#" -> #REF! | CR8: =#REF!+"B#^!<$" -> #REF! | CS8: =#REF!+"B#^!<%" -> #REF! | CT8: =#REF!+"B#^!<&" -> #REF! | CU8: =#REF!+"B#^!<'" -> #REF! | CV8: =#REF!+"B#^!<(" -> #REF! | CW8: =#REF!+"B#^!<)" -> #REF! | CX8: =#REF!+"B#^!<." -> #REF! | CY8: =#REF!+"B#^!</" -> #REF! | CZ8: =#REF!+"B#^!<0" -> #REF! | DA8: =#REF!+"B#^!<1" -> #REF! | DB8: =#REF!+"B#^!<2" -> #REF! | DC8: =#REF!+"B#^!<3" -> #REF! | DD8: =#REF!+"B#^!<4" -> #REF! | DE8: =#REF!+"B#^!<5" -> #REF! | DF8: =#REF!+"B#^!<6" -> #REF! | DG8: =#REF!+"B#^!<7" -> #REF! | DH8: =#REF!+"B#^!<8" -> #REF! | DI8: =#REF!+"B#^!<9" -> #REF! | DJ8: =#REF!+"B#^!<:" -> #REF! | DK8: =#REF!+"B#^!<;" -> #REF! | DL8: =#REF!+"B#^!<<" -> #REF! | DM8: =#REF!+"B#^!<=" -> #REF! | DN8: =#REF!+"B#^!<>" -> #REF! | DO8: =#REF!+"B#^!<?" -> #REF! | DP8: =#REF!+"B#^!<@" -> #REF! | DQ8: =#REF!+"B#^!<A" -> #REF! | DR8: =#REF!+"B#^!<B" -> #REF! | DS8: =#REF!+"B#^!<C" -> #REF! | DT8: =#REF!+"B#^!<D" -> #REF! | DU8: =#REF!+"B#^!<E" -> #REF! | DV8: =#REF!+"B#^!<F" -> #REF! | DW8: =#REF!+"B#^!<G" -> #REF! | DX8: =#REF!+"B#^!<H" -> #REF! | DY8: =#REF!+"B#^!<I" -> #REF! | DZ8: =#REF!+"B#^!<J" -> #REF! | EA8: =#REF!+"B#^!<K" -> #REF! | EB8: =#REF!+"B#^!<L" -> #REF! | EC8: =#REF!+"B#^!<M" -> #REF! | ED8: =#REF!+"B#^!<N" -> #REF! | EE8: =#REF!+"B#^!<O" -> #REF! | EF8: =#REF!+"B#^!<P" -> #REF! | EG8: =#REF!+"B#^!<Q" -> #REF! | EH8: =#REF!+"B#^!<R" -> #REF! | EI8: =#REF!+"B#^!<S" -> #REF! | EJ8: =#REF!+"B#^!<T" -> #REF! | EK8: =#REF!+"B#^!<U" -> #REF! | EL8: =#REF!+"B#^!<V" -> #REF! | EM8: =#REF!+"B#^!<W" -> #REF! | EN8: =#REF!+"B#^!<X" -> #REF! | EO8: =#REF!+"B#^!<Y" -> #REF! | EP8: =#REF!+"B#^!<Z" -> #REF! | EQ8: =#REF!+"B#^!<[" -> #REF! | ER8: =#REF!+"B#^!<\" -> #REF! | ES8: =#REF!+"B#^!<]" -> #REF! | ET8: =#REF!+"B#^!<^" -> #REF! | EU8: =#REF!+"B#^!<_" -> #REF! | EV8: =#REF!+"B#^!<`" -> #REF! | EW8: =#REF!+"B#^!<a" -> #REF! | EX8: =#REF!+"B#^!<b" -> #REF! | EY8: =#REF!+"B#^!<c" -> #REF! | EZ8: =#REF!+"B#^!<d" -> #REF! | FA8: =#REF!+"B#^!<e" -> #REF! | FB8: =Paramètres!A:A*"B#^!<f" -> #VALUE! | FC8: =Paramètres!C:C*"B#^!<g" -> #VALUE! | FD8: =Paramètres!D:D*"B#^!<h" -> #VALUE! | FE8: =Paramètres!E:E*"B#^!<i" -> #VALUE! | FF8: =Paramètres!F:F*"B#^!<j" -> #VALUE! | FG8: =Paramètres!G:G*"B#^!<k" -> #VALUE! | FH8: =Paramètres!H:H*"B#^!<l" -> #VALUE! | FI8: =Paramètres!I:I*"B#^!<m" -> #VALUE! | FJ8: =Paramètres!J:J*"B#^!<n" -> #VALUE! | FK8: =Paramètres!K:K*"B#^!<o" -> #VALUE! | FL8: =Paramètres!L:L*"B#^!<p" -> #VALUE! | FM8: =Paramètres!M:M*"B#^!<q" -> #VALUE! | FN8: =Paramètres!N:N*"B#^!<r" -> #VALUE! | FO8: =Paramètres!O:O*"B#^!<s" -> #VALUE! | FP8: =Paramètres!P:P*"B#^!<t" -> #VALUE! | FQ8: =Paramètres!Q:Q*"B#^!<u" -> #VALUE! | FR8: =Paramètres!R:R*"B#^!<v" -> #VALUE! | FS8: =Paramètres!S:S*"B#^!<w" -> #VALUE! | FT8: =Paramètres!T:T*"B#^!<x" -> #VALUE! | FU8: =Paramètres!U:U*"B#^!<y" -> #VALUE! | FV8: =Paramètres!V:V*"B#^!<z" -> #VALUE! | FW8: =Paramètres!W:W*"B#^!<{" -> #VALUE! | FX8: =Paramètres!X:X*"B#^!<|" -> #VALUE! | FY8: =Paramètres!Y:Y*"B#^!<}" -> #VALUE! | FZ8: =Paramètres!Z:Z*"B#^!<~" -> #VALUE! | GA8: =Paramètres!AA:AA*"B#^!=#" -> #VALUE! | GB8: =Paramètres!AB:AB*"B#^!=$" -> #VALUE! | GC8: =Paramètres!AC:AC*"B#^!=%" -> #VALUE! | GD8: =Paramètres!AD:AD*"B#^!=&" -> #VALUE! | GE8: =Paramètres!AE:AE*"B#^!='" -> #VALUE! | GF8: =Paramètres!AF:AF*"B#^!=(" -> #VALUE! | GG8: =Paramètres!AG:AG*"B#^!=)" -> #VALUE! | GH8: =Paramètres!AH:AH*"B#^!=." -> #VALUE! | GI8: =Paramètres!AI:AI*"B#^!=/" -> #VALUE! | GJ8: =Paramètres!AJ:AJ*"B#^!=0" -> #VALUE! | GK8: =Paramètres!AK:AK*"B#^!=1" -> #VALUE! | GL8: =Paramètres!AL:AL*"B#^!=2" -> #VALUE! | GM8: =Paramètres!AM:AM*"B#^!=3" -> #VALUE! | GN8: =Paramètres!AN:AN*"B#^!=4" -> #VALUE! | GO8: =Paramètres!AO:AO*"B#^!=5" -> #VALUE! | GP8: =Paramètres!AP:AP*"B#^!=6" -> #VALUE! | GQ8: =Paramètres!AQ:AQ*"B#^!=7" -> #VALUE! | GR8: =Paramètres!AR:AR*"B#^!=8" -> #VALUE! | GS8: =Paramètres!AS:AS*"B#^!=9" -> #VALUE! | GT8: =Paramètres!AT:AT*"B#^!=:" -> #VALUE! | GU8: =Paramètres!AU:AU*"B#^!=;" -> #VALUE! | GV8: =Paramètres!AV:AV*"B#^!=<" -> #VALUE! | GW8: =Paramètres!AW:AW*"B#^!==" -> #VALUE! | GX8: =Paramètres!AX:AX*"B#^!=>" -> #VALUE! | GY8: =Paramètres!AY:AY*"B#^!=?" -> #VALUE! | GZ8: =Paramètres!AZ:AZ*"B#^!=@" -> #VALUE! | HA8: =Paramètres!BA:BA*"B#^!=A" -> #VALUE! | HB8: =Paramètres!2:2-"B#^!=B" -> #VALUE! | HC8: =Paramètres!3:3-"B#^!=C" -> #VALUE! | HD8: =Paramètres!4:4-"B#^!=D" -> #VALUE! | HE8: =Paramètres!5:5-"B#^!=E" -> #VALUE! | HF8: =Paramètres!6:6-"B#^!=F" -> #VALUE! | HG8: =Paramètres!7:7-"B#^!=G" -> #VALUE! | HH8: =Paramètres!8:8-"B#^!=H" -> #VALUE! | HI8: =Paramètres!9:9-"B#^!=I" -> #VALUE! | HJ8: =Paramètres!10:10-"B#^!=J" -> #VALUE! | HK8: =Paramètres!11:11-"B#^!=K" -> #VALUE! | HL8: =Paramètres!12:12-"B#^!=L" -> #VALUE! | HM8: =Paramètres!13:13-"B#^!=M" -> #VALUE! | HN8: =Paramètres!14:14-"B#^!=N" -> #VALUE! | HO8: =Paramètres!15:15-"B#^!=O" -> #VALUE! | HP8: =Paramètres!16:16-"B#^!=P" -> #VALUE! | HQ8: =Paramètres!17:17-"B#^!=Q" -> #VALUE! | HR8: =Paramètres!18:18-"B#^!=R" -> #VALUE! | HS8: =Paramètres!19:19-"B#^!=S" -> #VALUE! | HT8: =Paramètres!20:20-"B#^!=T" -> #VALUE! | HU8: =Paramètres!21:21-"B#^!=U" -> #VALUE! | HV8: =Paramètres!22:22-"B#^!=V" -> #VALUE! | HW8: =Paramètres!23:23-"B#^!=W" -> #VALUE! | HX8: =Paramètres!24:24-"B#^!=X" -> #VALUE! | HY8: =Paramètres!25:25-"B#^!=Y" -> #VALUE! | HZ8: =Paramètres!26:26-"B#^!=Z" -> #VALUE! | IA8: =Paramètres!27:27-"B#^!=[" -> #VALUE! | IB8: =Paramètres!28:28-"B#^!=\" -> #VALUE! | IC8: =Paramètres!29:29-"B#^!=]" -> #VALUE! | ID8: =Paramètres!30:30-"B#^!=^" -> #VALUE! | IE8: =Paramètres!31:31-"B#^!=_" -> #VALUE! | IF8: =Paramètres!32:32-"B#^!=`" -> #VALUE! | IG8: =Paramètres!33:33-"B#^!=a" -> #VALUE! | IH8: =Paramètres!34:34-"B#^!=b" -> #VALUE! | II8: =Paramètres!35:35-"B#^!=c" -> #VALUE! | IJ8: =Paramètres!36:36-"B#^!=d" -> #VALUE! | IK8: =Paramètres!37:37-"B#^!=e" -> #VALUE! | IL8: =Paramètres!38:38-"B#^!=f" -> #VALUE! | IM8: =Paramètres!39:39-"B#^!=g" -> #VALUE! | IN8: =Paramètres!40:40-"B#^!=h" -> #VALUE! | IO8: =Paramètres!41:41-"B#^!=i" -> #VALUE! | IP8: =Paramètres!42:42-"B#^!=j" -> #VALUE! | IQ8: =Paramètres!43:43-"B#^!=k" -> #VALUE! | IR8: =Paramètres!44:44-"B#^!=l" -> #VALUE! | IS8: =Paramètres!45:45-"B#^!=m" -> #VALUE! | IT8: =Paramètres!46:46-"B#^!=n" -> #VALUE! | IU8: =Paramètres!47:47-"B#^!=o" -> #VALUE! | IV8: =Paramètres!48:48-"B#^!=p" -> #VALUE!
F9: =Paramètres!49:49-"B#^!=q" -> #VALUE! | G9: =Paramètres!50:50-"B#^!=r" -> #VALUE! | H9: =Paramètres!51:51-"B#^!=s" -> #VALUE! | I9: =Paramètres!52:52-"B#^!=t" -> #VALUE! | J9: =Paramètres!53:53-"B#^!=u" -> #VALUE! | K9: =Paramètres!54:54-"B#^!=v" -> #VALUE! | L9: =Paramètres!55:55-"B#^!=w" -> #VALUE! | M9: =Paramètres!56:56-"B#^!=x" -> #VALUE! | N9: =Paramètres!57:57-"B#^!=y" -> #VALUE! | O9: =Paramètres!58:58-"B#^!=z" -> #VALUE! | P9: =Paramètres!59:59-"B#^!={" -> #VALUE! | Q9: =Paramètres!60:60-"B#^!=|" -> #VALUE! | R9: =Paramètres!61:61-"B#^!=}" -> #VALUE! | S9: =Paramètres!62:62-"B#^!=~" -> #VALUE! | T9: =Paramètres!63:63-"B#^!>#" -> #VALUE! | U9: =Paramètres!64:64-"B#^!>$" -> #VALUE! | V9: =Paramètres!65:65-"B#^!>%" -> #VALUE! | W9: =Paramètres!66:66-"B#^!>&" -> #VALUE! | X9: =Paramètres!67:67-"B#^!>'" -> #VALUE! | Y9: =Paramètres!68:68-"B#^!>(" -> #VALUE! | Z9: =Paramètres!69:69-"B#^!>)" -> #VALUE! | AA9: =Paramètres!70:70-"B#^!>." -> #VALUE! | AB9: =Paramètres!71:71-"B#^!>/" -> #VALUE! | AC9: =Paramètres!72:72-"B#^!>0" -> #VALUE! | AD9: =Paramètres!73:73-"B#^!>1" -> #VALUE! | AE9: =Paramètres!74:74-"B#^!>2" -> #VALUE! | AF9: =Paramètres!75:75-"B#^!>3" -> #VALUE! | AG9: =Paramètres!76:76-"B#^!>4" -> #VALUE! | AH9: =Paramètres!77:77-"B#^!>5" -> #VALUE! | AI9: =Paramètres!78:78-"B#^!>6" -> #VALUE! | AJ9: =Paramètres!79:79-"B#^!>7" -> #VALUE! | AK9: =Paramètres!80:80-"B#^!>8" -> #VALUE! | AL9: =Paramètres!81:81-"B#^!>9" -> #VALUE! | AM9: =Paramètres!82:82-"B#^!>:" -> #VALUE! | AN9: =Paramètres!83:83-"B#^!>;" -> #VALUE! | AO9: =Paramètres!84:84-"B#^!><" -> #VALUE! | AP9: =Paramètres!85:85-"B#^!>=" -> #VALUE! | AQ9: =Paramètres!86:86-"B#^!>>" -> #VALUE! | AR9: =Paramètres!87:87-"B#^!>?" -> #VALUE! | AS9: =Paramètres!88:88-"B#^!>@" -> #VALUE! | AT9: =Paramètres!89:89-"B#^!>A" -> #VALUE! | AU9: =Paramètres!90:90-"B#^!>B" -> #VALUE! | AV9: =Paramètres!91:91-"B#^!>C" -> #VALUE! | AW9: =Paramètres!92:92-"B#^!>D" -> #VALUE! | AX9: =Paramètres!93:93-"B#^!>E" -> #VALUE! | AY9: =Paramètres!94:94-"B#^!>F" -> #VALUE! | AZ9: =Paramètres!95:95-"B#^!>G" -> #VALUE! | BA9: =Paramètres!96:96-"B#^!>H" -> #VALUE! | BB9: =Paramètres!97:97-"B#^!>I" -> #VALUE! | BC9: =Paramètres!98:98-"B#^!>J" -> #VALUE! | BD9: =Paramètres!99:99-"B#^!>K" -> #VALUE! | BE9: =Paramètres!100:100-"B#^!>L" -> #VALUE! | BF9: =Paramètres!101:101-"B#^!>M" -> #VALUE! | BG9: =Paramètres!102:102-"B#^!>N" -> #VALUE! | BH9: =Paramètres!103:103-"B#^!>O" -> #VALUE! | BI9: =Paramètres!104:104-"B#^!>P" -> #VALUE! | BJ9: =Paramètres!105:105-"B#^!>Q" -> #VALUE! | BK9: =Paramètres!106:106-"B#^!>R" -> #VALUE! | BL9: =Paramètres!107:107-"B#^!>S" -> #VALUE! | BM9: =Paramètres!108:108-"B#^!>T" -> #VALUE! | BN9: =Paramètres!109:109-"B#^!>U" -> #VALUE! | BO9: =Paramètres!110:110-"B#^!>V" -> #VALUE! | BP9: =Paramètres!111:111-"B#^!>W" -> #VALUE! | BQ9: =Paramètres!112:112-"B#^!>X" -> #VALUE! | BR9: =Paramètres!113:113-"B#^!>Y" -> #VALUE! | BS9: =Paramètres!114:114-"B#^!>Z" -> #VALUE! | BT9: =Paramètres!115:115-"B#^!>[" -> #VALUE! | BU9: =Paramètres!116:116-"B#^!>\" -> #VALUE! | BV9: =Paramètres!117:117-"B#^!>]" -> #VALUE! | BW9: =Paramètres!118:118-"B#^!>^" -> #VALUE! | BX9: =Paramètres!119:119-"B#^!>_" -> #VALUE! | BY9: =Paramètres!120:120-"B#^!>`" -> #VALUE! | BZ9: =Paramètres!121:121-"B#^!>a" -> #VALUE! | CA9: =Paramètres!122:122-"B#^!>b" -> #VALUE! | CB9: =Paramètres!123:123-"B#^!>c" -> #VALUE! | CC9: =Paramètres!124:124-"B#^!>d" -> #VALUE! | CD9: =Paramètres!125:125-"B#^!>e" -> #VALUE! | CE9: =Paramètres!126:126-"B#^!>f" -> #VALUE! | CF9: =Paramètres!127:127-"B#^!>g" -> #VALUE! | CG9: =Paramètres!128:128-"B#^!>h" -> #VALUE! | CH9: =Paramètres!129:129-"B#^!>i" -> #VALUE! | CI9: =Paramètres!130:130-"B#^!>j" -> #VALUE! | CJ9: =Paramètres!131:131-"B#^!>k" -> #VALUE! | CK9: =Paramètres!132:132-"B#^!>l" -> #VALUE! | CL9: =Paramètres!133:133-"B#^!>m" -> #VALUE! | CM9: =Paramètres!134:134-"B#^!>n" -> #VALUE! | CN9: =Paramètres!135:135-"B#^!>o" -> #VALUE! | CO9: =Paramètres!136:136-"B#^!>p" -> #VALUE! | CP9: =Paramètres!137:137-"B#^!>q" -> #VALUE! | CQ9: =Paramètres!138:138-"B#^!>r" -> #VALUE! | CR9: =Paramètres!139:139-"B#^!>s" -> #VALUE! | CS9: =Paramètres!140:140-"B#^!>t" -> #VALUE! | CT9: =Paramètres!141:141-"B#^!>u" -> #VALUE! | CU9: =Paramètres!142:142-"B#^!>v" -> #VALUE! | CV9: =Paramètres!143:143-"B#^!>w" -> #VALUE! | CW9: =Paramètres!144:144-"B#^!>x" -> #VALUE! | CX9: =Paramètres!145:145-"B#^!>y" -> #VALUE! | CY9: =Paramètres!146:146-"B#^!>z" -> #VALUE! | CZ9: =Paramètres!147:147-"B#^!>{" -> #VALUE! | DA9: =Paramètres!148:148-"B#^!>|" -> #VALUE! | DB9: =Paramètres!149:149-"B#^!>}" -> #VALUE! | DC9: =Paramètres!150:150-"B#^!>~" -> #VALUE! | DD9: =Paramètres!151:151-"B#^!?#" -> #VALUE! | DE9: =Paramètres!152:152-"B#^!?$" -> #VALUE! | DF9: =Paramètres!153:153-"B#^!?%" -> #VALUE! | DG9: =Paramètres!154:154-"B#^!?&" -> #VALUE! | DH9: =Paramètres!155:155-"B#^!?'" -> #VALUE! | DI9: =Paramètres!156:156-"B#^!?(" -> #VALUE! | DJ9: =Paramètres!157:157-"B#^!?)" -> #VALUE! | DK9: =Paramètres!158:158-"B#^!?." -> #VALUE! | DL9: =Paramètres!159:159-"B#^!?/" -> #VALUE! | DM9: =Paramètres!160:160-"B#^!?0" -> #VALUE! | DN9: =Paramètres!161:161-"B#^!?1" -> #VALUE! | DO9: =Paramètres!162:162-"B#^!?2" -> #VALUE! | DP9: =Paramètres!163:163-"B#^!?3" -> #VALUE! | DQ9: =Paramètres!164:164-"B#^!?4" -> #VALUE! | DR9: =Paramètres!165:165-"B#^!?5" -> #VALUE! | DS9: =Paramètres!166:166-"B#^!?6" -> #VALUE! | DT9: =Paramètres!167:167-"B#^!?7" -> #VALUE! | DU9: =Paramètres!168:168-"B#^!?8" -> #VALUE! | DV9: =Paramètres!169:169-"B#^!?9" -> #VALUE! | DW9: =Paramètres!170:170-"B#^!?:" -> #VALUE! | DX9: =Paramètres!171:171-"B#^!?;" -> #VALUE! | DY9: =Paramètres!172:172-"B#^!?<" -> #VALUE! | DZ9: =Paramètres!173:173-"B#^!?=" -> #VALUE! | EA9: =Paramètres!174:174-"B#^!?>" -> #VALUE! | EB9: =Paramètres!175:175-"B#^!??" -> #VALUE! | EC9: =Paramètres!176:176-"B#^!?@" -> #VALUE! | ED9: =Paramètres!177:177-"B#^!?A" -> #VALUE! | EE9: =Paramètres!178:178-"B#^!?B" -> #VALUE! | EF9: =Paramètres!179:179-"B#^!?C" -> #VALUE! | EG9: =Paramètres!180:180-"B#^!?D" -> #VALUE! | EH9: =Paramètres!181:181-"B#^!?E" -> #VALUE! | EI9: =Paramètres!182:182-"B#^!?F" -> #VALUE! | EJ9: =Paramètres!183:183-"B#^!?G" -> #VALUE! | EK9: =Paramètres!184:184-"B#^!?H" -> #VALUE! | EL9: =Paramètres!185:185-"B#^!?I" -> #VALUE! | EM9: =Paramètres!186:186-"B#^!?J" -> #VALUE! | EN9: =Paramètres!187:187-"B#^!?K" -> #VALUE! | EO9: =Paramètres!188:188-"B#^!?L" -> #VALUE! | EP9: =Paramètres!189:189-"B#^!?M" -> #VALUE! | EQ9: =Paramètres!190:190-"B#^!?N" -> #VALUE! | ER9: =Paramètres!191:191-"B#^!?O" -> #VALUE! | ES9: =Paramètres!192:192-"B#^!?P" -> #VALUE! | ET9: =Paramètres!193:193-"B#^!?Q" -> #VALUE! | EU9: =Paramètres!194:194-"B#^!?R" -> #VALUE! | EV9: =Paramètres!195:195-"B#^!?S" -> #VALUE! | EW9: =Paramètres!196:196-"B#^!?T" -> #VALUE! | EX9: =Paramètres!197:197-"B#^!?U" -> #VALUE! | EY9: =Paramètres!198:198-"B#^!?V" -> #VALUE! | EZ9: =Paramètres!199:199-"B#^!?W" -> #VALUE! | FA9: =Paramètres!200:200-"B#^!?X" -> #VALUE! | FB9: =Paramètres!201:201-"B#^!?Y" -> #VALUE! | FC9: =Paramètres!202:202-"B#^!?Z" -> #VALUE! | FD9: =Paramètres!203:203-"B#^!?[" -> #VALUE! | FE9: =Paramètres!204:204-"B#^!?\" -> #VALUE! | FF9: =Paramètres!205:205-"B#^!?]" -> #VALUE! | FG9: =Paramètres!206:206-"B#^!?^" -> #VALUE! | FH9: =Paramètres!207:207-"B#^!?_" -> #VALUE! | FI9: =Paramètres!208:208-"B#^!?`" -> #VALUE! | FJ9: =Paramètres!209:209-"B#^!?a" -> #VALUE! | FK9: =Paramètres!D1+"B#^!?b" -> #VALUE! | FL9: =Paramètres!D4+"B#^!?c" -> #VALUE! | FM9: =Paramètres!E4+"B#^!?d" -> #VALUE! | FN9: =Paramètres!D5+"B#^!?e" -> #VALUE! | FO9: =Paramètres!E5+"B#^!?f" -> #VALUE! | FP9: =Paramètres!D6+"B#^!?g" -> #VALUE! | FQ9: =Paramètres!E6+"B#^!?h" -> #VALUE! | FR9: =Paramètres!D7+"B#^!?i" -> #VALUE! | FS9: =Paramètres!E7+"B#^!?j" -> #VALUE! | FT9: =Paramètres!D8+"B#^!?k" -> #VALUE! | FU9: =Paramètres!E8+"B#^!?l" -> #VALUE! | FV9: =Paramètres!D9+"B#^!?m" -> #VALUE! | FW9: =Paramètres!E9+"B#^!?n" -> #VALUE! | FX9: =#REF!*"B#^!?o" -> #REF! | FY9: =#REF!*"B#^!?p" -> #REF! | FZ9: =#REF!*"B#^!?q" -> #REF! | GA9: =#REF!*"B#^!?r" -> #REF! | GB9: =#REF!*"B#^!?s" -> #REF! | GC9: =#REF!*"B#^!?t" -> #REF! | GD9: =#REF!*"B#^!?u" -> #REF! | GE9: =#REF!*"B#^!?v" -> #REF! | GF9: =#REF!*"B#^!?w" -> #REF! | GG9: =#REF!*"B#^!?x" -> #REF! | GH9: =#REF!*"B#^!?y" -> #REF! | GI9: =#REF!*"B#^!?z" -> #REF! | GJ9: =#REF!*"B#^!?{" -> #REF! | GK9: =#REF!*"B#^!?|" -> #REF! | GL9: =#REF!*"B#^!?}" -> #REF! | GM9: =#REF!*"B#^!?~" -> #REF! | GN9: =#REF!*"B#^!@#" -> #REF! | GO9: =#REF!*"B#^!@$" -> #REF! | GP9: =#REF!*"B#^!@%" -> #REF! | GQ9: =#REF!*"B#^!@&" -> #REF! | GR9: =#REF!*"B#^!@'" -> #REF! | GS9: =#REF!*"B#^!@(" -> #REF! | GT9: =#REF!*"B#^!@)" -> #REF! | GU9: =#REF!*"B#^!@." -> #REF! | GV9: =#REF!*"B#^!@/" -> #REF! | GW9: =#REF!*"B#^!@0" -> #REF! | GX9: =#REF!*"B#^!@1" -> #REF! | GY9: =#REF!*"B#^!@2" -> #REF! | GZ9: =#REF!*"B#^!@3" -> #REF! | HA9: =#REF!*"B#^!@4" -> #REF! | HB9: =#REF!*"B#^!@5" -> #REF! | HC9: =#REF!*"B#^!@6" -> #REF! | HD9: =#REF!*"B#^!@7" -> #REF! | HE9: =#REF!*"B#^!@8" -> #REF! | HF9: =#REF!*"B#^!@9" -> #REF! | HG9: =#REF!*"B#^!@:" -> #REF! | HH9: =#REF!*"B#^!@;" -> #REF! | HI9: =#REF!*"B#^!@<" -> #REF! | HJ9: =#REF!*"B#^!@=" -> #REF! | HK9: =#REF!*"B#^!@>" -> #REF! | HL9: =#REF!*"B#^!@?" -> #REF! | HM9: =#REF!*"B#^!@@" -> #REF! | HN9: =#REF!*"B#^!@A" -> #REF! | HO9: =#REF!*"B#^!@B" -> #REF! | HP9: =#REF!*"B#^!@C" -> #REF! | HQ9: =#REF!*"B#^!@D" -> #REF! | HR9: =#REF!*"B#^!@E" -> #REF! | HS9: =#REF!*"B#^!@F" -> #REF! | HT9: =#REF!*"B#^!@G" -> #REF! | HU9: =#REF!*"B#^!@H" -> #REF! | HV9: =#REF!*"B#^!@I" -> #REF! | HW9: =#REF!*"B#^!@J" -> #REF! | HX9: =#REF!*"B#^!@K" -> #REF! | HY9: =#REF!*"B#^!@L" -> #REF! | HZ9: =#REF!*"B#^!@M" -> #REF! | IA9: =#REF!*"B#^!@N" -> #REF! | IB9: =#REF!*"B#^!@O" -> #REF! | IC9: =#REF!*"B#^!@P" -> #REF! | ID9: =#REF!*"B#^!@Q" -> #REF! | IE9: =#REF!*"B#^!@R" -> #REF! | IF9: =#REF!*"B#^!@S" -> #REF! | IG9: =#REF!-"B#^!@T" -> #REF! | IH9: =#REF!-"B#^!@U" -> #REF! | II9: =#REF!-"B#^!@V" -> #REF! | IJ9: =#REF!-"B#^!@W" -> #REF! | IK9: =#REF!-"B#^!@X" -> #REF! | IL9: =#REF!-"B#^!@Y" -> #REF! | IM9: =#REF!-"B#^!@Z" -> #REF! | IN9: =#REF!-"B#^!@[" -> #REF! | IO9: =#REF!-"B#^!@\" -> #REF! | IP9: =#REF!-"B#^!@]" -> #REF! | IQ9: =#REF!-"B#^!@^" -> #REF! | IR9: =#REF!-"B#^!@_" -> #REF! | IS9: =#REF!-"B#^!@`" -> #REF! | IT9: =#REF!-"B#^!@a" -> #REF! | IU9: =#REF!-"B#^!@b" -> #REF! | IV9: =#REF!-"B#^!@c" -> #REF!
F10: =#REF!-"B#^!@d" -> #REF! | G10: =#REF!-"B#^!@e" -> #REF! | H10: =#REF!-"B#^!@f" -> #REF! | I10: =#REF!-"B#^!@g" -> #REF! | J10: =#REF!-"B#^!@h" -> #REF! | K10: =#REF!-"B#^!@i" -> #REF! | L10: =#REF!-"B#^!@j" -> #REF! | M10: =#REF!-"B#^!@k" -> #REF! | N10: =#REF!-"B#^!@l" -> #REF! | O10: =#REF!-"B#^!@m" -> #REF! | P10: =#REF!-"B#^!@n" -> #REF! | Q10: =#REF!-"B#^!@o" -> #REF! | R10: =#REF!-"B#^!@p" -> #REF! | S10: =#REF!-"B#^!@q" -> #REF! | T10: =#REF!-"B#^!@r" -> #REF! | U10: =#REF!-"B#^!@s" -> #REF! | V10: =#REF!-"B#^!@t" -> #REF! | W10: =#REF!-"B#^!@u" -> #REF! | X10: =#REF!-"B#^!@v" -> #REF! | Y10: =#REF!-"B#^!@w" -> #REF! | Z10: =#REF!-"B#^!@x" -> #REF! | AA10: =#REF!-"B#^!@y" -> #REF! | AB10: =#REF!-"B#^!@z" -> #REF! | AC10: =#REF!-"B#^!@{" -> #REF! | AD10: =#REF!-"B#^!@|" -> #REF! | AE10: =#REF!-"B#^!@}" -> #REF! | AF10: =#REF!-"B#^!@~" -> #REF! | AG10: =#REF!-"B#^!A#" -> #REF! | AH10: =#REF!-"B#^!A$" -> #REF! | AI10: =#REF!-"B#^!A%" -> #REF! | AJ10: =#REF!-"B#^!A&" -> #REF! | AK10: =#REF!-"B#^!A'" -> #REF! | AL10: =#REF!-"B#^!A(" -> #REF! | AM10: =#REF!-"B#^!A)" -> #REF! | AN10: =#REF!-"B#^!A." -> #REF! | AO10: =#REF!-"B#^!A/" -> #REF! | AP10: =#REF!-"B#^!A0" -> #REF! | AQ10: =#REF!-"B#^!A1" -> #REF! | AR10: =#REF!-"B#^!A2" -> #REF! | AS10: =#REF!-"B#^!A3" -> #REF! | AT10: =#REF!-"B#^!A4" -> #REF! | AU10: =#REF!-"B#^!A5" -> #REF! | AV10: =#REF!-"B#^!A6" -> #REF! | AW10: =#REF!-"B#^!A7" -> #REF! | AX10: =#REF!-"B#^!A8" -> #REF! | AY10: =#REF!-"B#^!A9" -> #REF! | AZ10: =#REF!-"B#^!A:" -> #REF! | BA10: =#REF!-"B#^!A;" -> #REF! | BB10: =#REF!-"B#^!A<" -> #REF! | BC10: =#REF!-"B#^!A=" -> #REF! | BD10: =#REF!-"B#^!A>" -> #REF! | BE10: =#REF!-"B#^!A?" -> #REF! | BF10: =#REF!-"B#^!A@" -> #REF! | BG10: =#REF!-"B#^!AA" -> #REF! | BH10: =#REF!-"B#^!AB" -> #REF! | BI10: =#REF!-"B#^!AC" -> #REF! | BJ10: =#REF!-"B#^!AD" -> #REF! | BK10: =#REF!-"B#^!AE" -> #REF! | BL10: =#REF!-"B#^!AF" -> #REF! | BM10: =#REF!-"B#^!AG" -> #REF! | BN10: =#REF!-"B#^!AH" -> #REF! | BO10: =#REF!-"B#^!AI" -> #REF! | BP10: =#REF!-"B#^!AJ" -> #REF! | BQ10: =#REF!-"B#^!AK" -> #REF! | BR10: =#REF!-"B#^!AL" -> #REF! | BS10: =#REF!-"B#^!AM" -> #REF! | BT10: =#REF!-"B#^!AN" -> #REF! | BU10: =#REF!-"B#^!AO" -> #REF! | BV10: =#REF!-"B#^!AP" -> #REF! | BW10: =#REF!-"B#^!AQ" -> #REF! | BX10: =#REF!-"B#^!AR" -> #REF! | BY10: =#REF!-"B#^!AS" -> #REF! | BZ10: =#REF!-"B#^!AT" -> #REF! | CA10: =#REF!-"B#^!AU" -> #REF! | CB10: =#REF!-"B#^!AV" -> #REF! | CC10: =#REF!-"B#^!AW" -> #REF! | CD10: =#REF!-"B#^!AX" -> #REF! | CE10: =#REF!-"B#^!AY" -> #REF! | CF10: =#REF!-"B#^!AZ" -> #REF! | CG10: =#REF!-"B#^!A[" -> #REF! | CH10: =#REF!-"B#^!A\" -> #REF! | CI10: =#REF!-"B#^!A]" -> #REF! | CJ10: =#REF!-"B#^!A^" -> #REF! | CK10: =#REF!-"B#^!A_" -> #REF! | CL10: =#REF!-"B#^!A`" -> #REF! | CM10: =#REF!-"B#^!Aa" -> #REF! | CN10: =#REF!-"B#^!Ab" -> #REF! | CO10: =#REF!-"B#^!Ac" -> #REF! | CP10: =#REF!-"B#^!Ad" -> #REF! | CQ10: =#REF!-"B#^!Ae" -> #REF! | CR10: =#REF!-"B#^!Af" -> #REF! | CS10: =#REF!-"B#^!Ag" -> #REF! | CT10: =#REF!-"B#^!Ah" -> #REF! | CU10: =#REF!-"B#^!Ai" -> #REF! | CV10: =#REF!-"B#^!Aj" -> #REF! | CW10: =#REF!-"B#^!Ak" -> #REF! | CX10: =#REF!-"B#^!Al" -> #REF! | CY10: =#REF!-"B#^!Am" -> #REF! | CZ10: =#REF!-"B#^!An" -> #REF! | DA10: =#REF!-"B#^!Ao" -> #REF! | DB10: =#REF!-"B#^!Ap" -> #REF! | DC10: =#REF!-"B#^!Aq" -> #REF! | DD10: =#REF!-"B#^!Ar" -> #REF! | DE10: =#REF!-"B#^!As" -> #REF! | DF10: =#REF!-"B#^!At" -> #REF! | DG10: =#REF!-"B#^!Au" -> #REF! | DH10: =#REF!-"B#^!Av" -> #REF! | DI10: =#REF!-"B#^!Aw" -> #REF! | DJ10: =#REF!-"B#^!Ax" -> #REF! | DK10: =#REF!-"B#^!Ay" -> #REF! | DL10: =#REF!-"B#^!Az" -> #REF! | DM10: =#REF!-"B#^!A{" -> #REF! | DN10: =#REF!-"B#^!A|" -> #REF! | DO10: =#REF!-"B#^!A}" -> #REF! | DP10: =#REF!-"B#^!A~" -> #REF! | DQ10: =#REF!-"B#^!B#" -> #REF! | DR10: =#REF!-"B#^!B$" -> #REF! | DS10: =#REF!-"B#^!B%" -> #REF! | DT10: =#REF!-"B#^!B&" -> #REF! | DU10: =#REF!-"B#^!B'" -> #REF! | DV10: =#REF!-"B#^!B(" -> #REF! | DW10: =#REF!-"B#^!B)" -> #REF! | DX10: =#REF!-"B#^!B." -> #REF! | DY10: =#REF!-"B#^!B/" -> #REF! | DZ10: =#REF!-"B#^!B0" -> #REF! | EA10: =#REF!-"B#^!B1" -> #REF! | EB10: =#REF!-"B#^!B2" -> #REF! | EC10: =#REF!-"B#^!B3" -> #REF! | ED10: =#REF!-"B#^!B4" -> #REF! | EE10: =#REF!-"B#^!B5" -> #REF! | EF10: =#REF!-"B#^!B6" -> #REF! | EG10: =#REF!-"B#^!B7" -> #REF! | EH10: =#REF!-"B#^!B8" -> #REF! | EI10: =#REF!-"B#^!B9" -> #REF! | EJ10: =#REF!-"B#^!B:" -> #REF! | EK10: =#REF!-"B#^!B;" -> #REF! | EL10: =#REF!-"B#^!B<" -> #REF! | EM10: =#REF!-"B#^!B=" -> #REF! | EN10: =#REF!-"B#^!B>" -> #REF! | EO10: =#REF!-"B#^!B?" -> #REF! | EP10: =#REF!-"B#^!B@" -> #REF! | EQ10: =#REF!-"B#^!BA" -> #REF! | ER10: =#REF!-"B#^!BB" -> #REF! | ES10: =#REF!-"B#^!BC" -> #REF! | ET10: =#REF!-"B#^!BD" -> #REF! | EU10: =#REF!-"B#^!BE" -> #REF! | EV10: =#REF!-"B#^!BF" -> #REF! | EW10: =#REF!-"B#^!BG" -> #REF! | EX10: =#REF!-"B#^!BH" -> #REF! | EY10: =#REF!-"B#^!BI" -> #REF! | EZ10: =#REF!-"B#^!BJ" -> #REF! | FA10: =#REF!-"B#^!BK" -> #REF! | FB10: =#REF!-"B#^!BL" -> #REF! | FC10: =#REF!-"B#^!BM" -> #REF! | FD10: =#REF!-"B#^!BN" -> #REF! | FE10: =#REF!-"B#^!BO" -> #REF! | FF10: =#REF!-"B#^!BP" -> #REF! | FG10: =#REF!-"B#^!BQ" -> #REF! | FH10: =#REF!-"B#^!BR" -> #REF! | FI10: =#REF!-"B#^!BS" -> #REF! | FJ10: =#REF!-"B#^!BT" -> #REF! | FK10: =#REF!-"B#^!BU" -> #REF! | FL10: =#REF!-"B#^!BV" -> #REF! | FM10: =#REF!-"B#^!BW" -> #REF! | FN10: =#REF!-"B#^!BX" -> #REF! | FO10: =#REF!-"B#^!BY" -> #REF! | FP10: =#REF!-"B#^!BZ" -> #REF! | FQ10: =#REF!-"B#^!B[" -> #REF! | FR10: =#REF!-"B#^!B\" -> #REF! | FS10: =#REF!-"B#^!B]" -> #REF! | FT10: =#REF!-"B#^!B^" -> #REF! | FU10: =#REF!-"B#^!B_" -> #REF! | FV10: =#REF!-"B#^!B`" -> #REF! | FW10: =#REF!-"B#^!Ba" -> #REF! | FX10: =#REF!-"B#^!Bb" -> #REF! | FY10: =#REF!-"B#^!Bc" -> #REF! | FZ10: =#REF!-"B#^!Bd" -> #REF! | GA10: =#REF!-"B#^!Be" -> #REF! | GB10: =#REF!-"B#^!Bf" -> #REF! | GC10: =#REF!-"B#^!Bg" -> #REF! | GD10: =#REF!-"B#^!Bh" -> #REF! | GE10: =#REF!-"B#^!Bi" -> #REF! | GF10: =#REF!-"B#^!Bj" -> #REF! | GG10: =#REF!-"B#^!Bk" -> #REF! | GH10: =#REF!-"B#^!Bl" -> #REF! | GI10: =#REF!-"B#^!Bm" -> #REF! | GJ10: =#REF!-"B#^!Bn" -> #REF! | GK10: =#REF!-"B#^!Bo" -> #REF! | GL10: =#REF!-"B#^!Bp" -> #REF! | GM10: =#REF!-"B#^!Bq" -> #REF! | GN10: =#REF!-"B#^!Br" -> #REF! | GO10: =#REF!-"B#^!Bs" -> #REF! | GP10: =#REF!-"B#^!Bt" -> #REF! | GQ10: =#REF!-"B#^!Bu" -> #REF! | GR10: =#REF!-"B#^!Bv" -> #REF! | GS10: =#REF!-"B#^!Bw" -> #REF! | GT10: =#REF!-"B#^!Bx" -> #REF! | GU10: =#REF!-"B#^!By" -> #REF! | GV10: =#REF!+"B#^!Bz" -> #REF! | GW10: =#REF!+"B#^!B{" -> #REF! | GX10: =#REF!+"B#^!B|" -> #REF! | GY10: =#REF!+"B#^!B}" -> #REF! | GZ10: =#REF!+"B#^!B~" -> #REF! | HA10: =#REF!+"B#^!C#" -> #REF! | HB10: =#REF!+"B#^!C$" -> #REF! | HC10: =#REF!+"B#^!C%" -> #REF! | HD10: =#REF!+"B#^!C&" -> #REF! | HE10: =#REF!+"B#^!C'" -> #REF! | HF10: =#REF!+"B#^!C(" -> #REF! | HG10: =#REF!+"B#^!C)" -> #REF! | HH10: =#REF!+"B#^!C." -> #REF! | HI10: =#REF!+"B#^!C/" -> #REF! | HJ10: =#REF!+"B#^!C0" -> #REF! | HK10: =#REF!+"B#^!C1" -> #REF! | HL10: =#REF!+"B#^!C2" -> #REF! | HM10: =#REF!+"B#^!C3" -> #REF! | HN10: =#REF!+"B#^!C4" -> #REF! | HO10: =#REF!+"B#^!C5" -> #REF! | HP10: =#REF!+"B#^!C6" -> #REF! | HQ10: =#REF!+"B#^!C7" -> #REF! | HR10: =#REF!+"B#^!C8" -> #REF! | HS10: =#REF!+"B#^!C9" -> #REF! | HT10: =Données!#REF!*"B#^!C:" -> #REF! | HU10: =Données!D:D*"B#^!C;" -> #VALUE! | HV10: =Données!#REF!-"B#^!C<" -> #REF! | HW10: =Données!1:1-"B#^!C=" -> #VALUE! | HX10: =Données!2:2-"B#^!C>" -> #VALUE! | HY10: =Données!#REF!-"B#^!C?" -> #REF! | HZ10: =Données!#REF!-"B#^!C@" -> #REF! | IA10: =Données!#REF!-"B#^!CA" -> #REF! | IB10: =Données!204:204-"B#^!CB" -> #VALUE! | IC10: =Données!205:205-"B#^!CC" -> #VALUE! | ID10: =Données!206:206-"B#^!CD" -> #VALUE! | IE10: =Données!207:207-"B#^!CE" -> #VALUE! | IF10: =Données!#REF!+"B#^!CF" -> #REF! | IG10: =Données!#REF!+"B#^!CG" -> #REF! | IH10: =Données!#REF!+"B#^!CH" -> #REF! | II10: =Données!#REF!+"B#^!CI" -> #REF! | IJ10: =Données!#REF!+"B#^!CJ" -> #REF! | IK10: =Données!#REF!+"B#^!CK" -> #REF! | IL10: =Données!#REF!+"B#^!CL" -> #REF! | IM10: =Données!#REF!+"B#^!CM" -> #REF! | IN10: =Données!#REF!+"B#^!CN" -> #REF! | IO10: =Données!#REF!+"B#^!CO" -> #REF! | IP10: =Données!#REF!+"B#^!CP" -> #REF! | IQ10: =Données!#REF!+"B#^!CQ" -> #REF! | IR10: =Données!#REF!+"B#^!CR" -> #REF! | IS10: =Données!#REF!+"B#^!CS" -> #REF! | IT10: =Données!#REF!+"B#^!CT" -> #REF! | IU10: =Données!#REF!+"B#^!CU" -> #REF! | IV10: =Données!#REF!+"B#^!CV" -> #REF!
F11: =Données!#REF!+"B#^!CW" -> #REF! | G11: =Données!#REF!+"B#^!CX" -> #REF! | H11: =Données!#REF!+"B#^!CY" -> #REF! | I11: =Données!#REF!+"B#^!CZ" -> #REF! | J11: =Données!#REF!+"B#^!C[" -> #REF! | K11: =Données!#REF!+"B#^!C\" -> #REF! | L11: =Données!#REF!+"B#^!C]" -> #REF! | M11: =Données!#REF!+"B#^!C^" -> #REF! | N11: =Données!#REF!+"B#^!C_" -> #REF! | O11: =Données!#REF!+"B#^!C`" -> #REF! | P11: =Données!#REF!+"B#^!Ca" -> #REF! | Q11: =Données!#REF!+"B#^!Cb" -> #REF! | R11: =Données!#REF!+"B#^!Cc" -> #REF! | S11: =Données!#REF!+"B#^!Cd" -> #REF! | T11: =Données!#REF!+"B#^!Ce" -> #REF! | U11: =Données!#REF!+"B#^!Cf" -> #REF! | V11: =Données!#REF!+"B#^!Cg" -> #REF! | W11: =Données!#REF!+"B#^!Ch" -> #REF! | X11: =Données!#REF!+"B#^!Ci" -> #REF! | Y11: =Données!#REF!+"B#^!Cj" -> #REF! | Z11: =Données!#REF!+"B#^!Ck" -> #REF! | AA11: =Données!#REF!+"B#^!Cl" -> #REF! | AB11: =Données!#REF!+"B#^!Cm" -> #REF! | AC11: =Données!#REF!+"B#^!Cn" -> #REF! | AD11: =Données!#REF!+"B#^!Co" -> #REF! | AE11: =Données!#REF!+"B#^!Cp" -> #REF! | AF11: =Données!#REF!+"B#^!Cq" -> #REF! | AG11: =Données!#REF!+"B#^!Cr" -> #REF! | AH11: =Données!#REF!+"B#^!Cs" -> #REF! | AI11: =Données!#REF!+"B#^!Ct" -> #REF! | AJ11: =Données!#REF!+"B#^!Cu" -> #REF! | AK11: =Données!#REF!+"B#^!Cv" -> #REF! | AL11: =Données!#REF!+"B#^!Cw" -> #REF! | AM11: =Données!#REF!+"B#^!Cx" -> #REF! | AN11: =Données!#REF!+"B#^!Cy" -> #REF! | AO11: =Données!#REF!+"B#^!Cz" -> #REF! | AP11: =Données!#REF!+"B#^!C{" -> #REF! | AQ11: =Données!#REF!+"B#^!C|" -> #REF! | AR11: =Données!#REF!+"B#^!C}" -> #REF! | AS11: =Données!#REF!+"B#^!C~" -> #REF! | AT11: =Données!#REF!+"B#^!D#" -> #REF! | AU11: =#REF!*"B#^!D$" -> #REF! | AV11: =#REF!-"B#^!D%" -> #REF! | AW11: =#REF!+"B#^!D&" -> #REF! | AX11: =#REF!+"B#^!D'" -> #REF! | AY11: =#REF!+"B#^!D(" -> #REF! | AZ11: =#REF!+"B#^!D)" -> #REF! | BA11: =#REF!+"B#^!D." -> #REF! | BB11: =#REF!+"B#^!D/" -> #REF! | BC11: =#REF!+"B#^!D0" -> #REF! | BD11: =#REF!+"B#^!D1" -> #REF! | BE11: =#REF!+"B#^!D2" -> #REF! | BF11: =#REF!+"B#^!D3" -> #REF! | BG11: =#REF!+"B#^!D4" -> #REF! | BH11: =#REF!+"B#^!D5" -> #REF! | BI11: =#REF!+"B#^!D6" -> #REF! | BJ11: =#REF!+"B#^!D7" -> #REF! | BK11: =#REF!+"B#^!D8" -> #REF! | BL11: =#REF!+"B#^!D9" -> #REF! | BM11: =#REF!+"B#^!D:" -> #REF! | BN11: =#REF!+"B#^!D;" -> #REF! | BO11: =#REF!+"B#^!D<" -> #REF! | BP11: =#REF!+"B#^!D=" -> #REF! | BQ11: =#REF!+"B#^!D>" -> #REF! | BR11: =#REF!+"B#^!D?" -> #REF! | BS11: =#REF!+"B#^!D@" -> #REF! | BT11: =#REF!+"B#^!DA" -> #REF! | BU11: =#REF!+"B#^!DB" -> #REF! | BV11: =#REF!+"B#^!DC" -> #REF! | BW11: =#REF!+"B#^!DD" -> #REF! | BX11: =Données!208:208-"B#^!DE" -> #VALUE! | BY11: =Données!209:209-"B#^!DF" -> #VALUE! | BZ11: =Données!210:210-"B#^!DG" -> #VALUE! | CA11: =Données!211:211-"B#^!DH" -> #VALUE! | CB11: =Données!212:212-"B#^!DI" -> #VALUE! | CC11: =Données!#REF!+"B#^!DJ" -> #REF! | CD11: =Données!#REF!+"B#^!DK" -> #REF! | CE11: =Données!#REF!+"B#^!DL" -> #REF! | CF11: =Données!#REF!+"B#^!DM" -> #REF! | CG11: =Données!#REF!+"B#^!DN" -> #REF! | CH11: =Données!#REF!+"B#^!DO" -> #REF! | CI11: =Données!#REF!+"B#^!DP" -> #REF! | CJ11: =Données!#REF!+"B#^!DQ" -> #REF! | CK11: =Données!#REF!+"B#^!DR" -> #REF! | CL11: =Données!#REF!+"B#^!DS" -> #REF! | CM11: =Données!#REF!+"B#^!DT" -> #REF! | CN11: =Données!#REF!+"B#^!DU" -> #REF! | CO11: =Données!#REF!+"B#^!DV" -> #REF! | CP11: =Données!#REF!+"B#^!DW" -> #REF! | CQ11: =Données!#REF!+"B#^!DX" -> #REF! | CR11: =Données!#REF!+"B#^!DY" -> #REF! | CS11: =Données!#REF!+"B#^!DZ" -> #REF! | CT11: =Données!H13+"B#^!D[" -> #VALUE! | CU11: =Données!A:A*"B#^!D\" -> #VALUE! | CV11: =Données!#REF!-"B#^!D]" -> #REF! | CW11: =Données!#REF!+"B#^!D^" -> #REF! | CX11: =Données!#REF!+"B#^!D_" -> #REF! | CY11: =Données!#REF!+"B#^!D`" -> #REF! | CZ11: =Données!#REF!+"B#^!Da" -> #REF! | DA11: =Données!#REF!+"B#^!Db" -> #REF! | DB11: =Données!#REF!+"B#^!Dc" -> #REF! | DC11: =Données!#REF!+"B#^!Dd" -> #REF! | DD11: =Données!#REF!+"B#^!De" -> #REF! | DE11: =Données!#REF!+"B#^!Df" -> #REF! | DF11: =Données!#REF!+"B#^!Dg" -> #REF! | DG11: =Données!#REF!+"B#^!Dh" -> #REF! | DH11: =Données!#REF!+"B#^!Di" -> #REF! | DI11: =Données!#REF!+"B#^!Dj" -> #REF! | DJ11: =Données!#REF!+"B#^!Dk" -> #REF! | DK11: =Données!#REF!+"B#^!Dl" -> #REF! | DL11: =Données!#REF!+"B#^!Dm" -> #REF! | DM11: =Données!#REF!+"B#^!Dn" -> #REF! | DN11: =Données!#REF!+"B#^!Do" -> #REF! | DO11: =Données!#REF!+"B#^!Dp" -> #REF! | DP11: =Données!#REF!+"B#^!Dq" -> #REF! | DQ11: =Données!#REF!+"B#^!Dr" -> #REF! | DR11: =Données!#REF!+"B#^!Ds" -> #REF! | DS11: =Données!#REF!+"B#^!Dt" -> #REF! | DT11: =Données!#REF!+"B#^!Du" -> #REF! | DU11: =Données!#REF!+"B#^!Dv" -> #REF! | DV11: =Données!#REF!+"B#^!Dw" -> #REF! | DW11: =Données!#REF!+"B#^!Dx" -> #REF! | DX11: =Données!#REF!+"B#^!Dy" -> #REF! | DY11: =Données!#REF!+"B#^!Dz" -> #REF! | DZ11: =Données!#REF!+"B#^!D{" -> #REF! | EA11: =#REF!+"B#^!D|" -> #REF! | EB11: =Données!213:213-"B#^!D}" -> #VALUE! | EC11: =Données!214:214-"B#^!D~" -> #VALUE! | ED11: =Données!215:215-"B#^!E#" -> #VALUE! | EE11: =Données!216:216-"B#^!E$" -> #VALUE! | EF11: =Données!217:217-"B#^!E%" -> #VALUE! | EG11: =Données!218:218-"B#^!E&" -> #VALUE! | EH11: =Données!219:219-"B#^!E'" -> #VALUE! | EI11: =Données!220:220-"B#^!E(" -> #VALUE! | EJ11: =Données!221:221-"B#^!E)" -> #VALUE! | EK11: =Données!222:222-"B#^!E." -> #VALUE! | EL11: =Données!223:223-"B#^!E/" -> #VALUE! | EM11: =Données!224:224-"B#^!E0" -> #VALUE! | EN11: =Données!225:225-"B#^!E1" -> #VALUE! | EO11: =Données!226:226-"B#^!E2" -> #VALUE! | EP11: =Données!227:227-"B#^!E3" -> #VALUE! | EQ11: =Données!228:228-"B#^!E4" -> #VALUE! | ER11: =Données!229:229-"B#^!E5" -> #VALUE! | ES11: =Données!230:230-"B#^!E6" -> #VALUE! | ET11: =Données!231:231-"B#^!E7" -> #VALUE! | EU11: =Données!232:232-"B#^!E8" -> #VALUE! | EV11: =Données!233:233-"B#^!E9" -> #VALUE! | EW11: =Données!234:234-"B#^!E:" -> #VALUE! | EX11: =Données!235:235-"B#^!E;" -> #VALUE! | EY11: =Données!236:236-"B#^!E<" -> #VALUE! | EZ11: =Données!237:237-"B#^!E=" -> #VALUE! | FA11: =Données!#REF!+"B#^!E>" -> #REF! | FB11: =Données!#REF!+"B#^!E?" -> #REF! | FC11: =Données!#REF!+"B#^!E@" -> #REF! | FD11: =Données!#REF!+"B#^!EA" -> #REF! | FE11: =Données!A6+"B#^!EB" -> #VALUE! | FF11: =Données!#REF!+"B#^!EC" -> #REF! | FG11: =Données!#REF!+"B#^!ED" -> #REF! | FH11: =Données!#REF!+"B#^!EE" -> #REF! | FI11: =Données!#REF!+"B#^!EF" -> #REF! | FJ11: =Données!#REF!+"B#^!EG" -> #REF! | FK11: =Données!#REF!+"B#^!EH" -> #REF! | FL11: =Données!#REF!+"B#^!EI" -> #REF! | FM11: =Données!#REF!+"B#^!EJ" -> #REF! | FN11: =Données!#REF!+"B#^!EK" -> #REF! | FO11: =Données!#REF!+"B#^!EL" -> #REF! | FP11: =Données!#REF!+"B#^!EM" -> #REF! | FQ11: =Données!#REF!+"B#^!EN" -> #REF! | FR11: =Données!#REF!+"B#^!EO" -> #REF! | FS11: =Données!E13+"B#^!EP" -> #VALUE! | FT11: =Données!F13+"B#^!EQ" -> #VALUE! | FU11: =Données!G13+"B#^!ER" -> #VALUE! | FV11: =Données!I13+"B#^!ES" -> #VALUE! | FW11: =Données!J13+"B#^!ET" -> #VALUE! | FX11: =Données!K13+"B#^!EU" -> #VALUE! | FY11: =Données!L13+"B#^!EV" -> #VALUE! | FZ11: =Données!M13+"B#^!EW" -> #VALUE! | GA11: =Données!N13+"B#^!EX" -> #VALUE! | GB11: =Données!O13+"B#^!EY" -> #VALUE! | GC11: =Données!P13+"B#^!EZ" -> #VALUE! | GD11: =Données!Q13+"B#^!E[" -> #VALUE! | GE11: =Données!E12+"B#^!E\" -> #VALUE! | GF11: =Données!F12+"B#^!E]" -> #VALUE! | GG11: =Données!G12+"B#^!E^" -> #VALUE! | GH11: =Données!H12+"B#^!E_" -> #VALUE! | GI11: =Données!I12+"B#^!E`" -> #VALUE! | GJ11: =Données!J12+"B#^!Ea" -> #VALUE! | GK11: =Données!K12+"B#^!Eb" -> #VALUE! | GL11: =Données!L12+"B#^!Ec" -> #VALUE! | GM11: =Données!M12+"B#^!Ed" -> #VALUE! | GN11: =Données!N12+"B#^!Ee" -> #VALUE! | GO11: =Données!O12+"B#^!Ef" -> #VALUE! | GP11: =Données!P12+"B#^!Eg" -> #VALUE! | GQ11: =Données!Q12+"B#^!Eh" -> #VALUE! | GR11: =Données!A14+"B#^!Ei" -> #VALUE! | GS11: =Données!C14+"B#^!Ej" -> #VALUE! | GT11: =Données!E14+"B#^!Ek" -> #VALUE! | GU11: =Données!F14+"B#^!El" -> #VALUE! | GV11: =Données!G14+"B#^!Em" -> #VALUE! | GW11: =Données!H14+"B#^!En" -> #VALUE! | GX11: =Données!I14+"B#^!Eo" -> #VALUE! | GY11: =Données!J14+"B#^!Ep" -> #VALUE! | GZ11: =Données!K14+"B#^!Eq" -> #VALUE! | HA11: =Données!L14+"B#^!Er" -> #VALUE! | HB11: =Données!M14+"B#^!Es" -> #VALUE! | HC11: =Données!N14+"B#^!Et" -> #VALUE! | HD11: =Données!O14+"B#^!Eu" -> #VALUE! | HE11: =Données!P14+"B#^!Ev" -> #VALUE! | HF11: =Données!Q14+"B#^!Ew" -> #VALUE! | HG11: =Données!D14+"B#^!Ex" -> #VALUE! | HH11: =Données!A15+"B#^!Ey" -> #VALUE! | HI11: =Données!C15+"B#^!Ez" -> #VALUE! | HJ11: =Données!E15+"B#^!E{" -> #VALUE! | HK11: =Données!F15+"B#^!E|" -> #VALUE! | HL11: =Données!G15+"B#^!E}" -> #VALUE! | HM11: =Données!H15+"B#^!E~" -> #VALUE! | HN11: =Données!I15+"B#^!F#" -> #VALUE! | HO11: =Données!J15+"B#^!F$" -> #VALUE! | HP11: =Données!K15+"B#^!F%" -> #VALUE! | HQ11: =Données!L15+"B#^!F&" -> #VALUE! | HR11: =Données!M15+"B#^!F'" -> #VALUE! | HS11: =Données!N15+"B#^!F(" -> #VALUE! | HT11: =Données!O15+"B#^!F)" -> #VALUE! | HU11: =Données!P15+"B#^!F." -> #VALUE! | HV11: =Données!Q15+"B#^!F/" -> #VALUE! | HW11: =Données!D15+"B#^!F0" -> #VALUE! | HX11: =Données!A16+"B#^!F1" -> #VALUE! | HY11: =Données!C16+"B#^!F2" -> #VALUE! | HZ11: =Données!E16+"B#^!F3" -> #VALUE! | IA11: =Données!F16+"B#^!F4" -> #VALUE! | IB11: =Données!G16+"B#^!F5" -> #VALUE! | IC11: =Données!H16+"B#^!F6" -> #VALUE! | ID11: =Données!I16+"B#^!F7" -> #VALUE! | IE11: =Données!J16+"B#^!F8" -> #VALUE! | IF11: =Données!K16+"B#^!F9" -> #VALUE! | IG11: =Données!L16+"B#^!F:" -> #VALUE! | IH11: =Données!M16+"B#^!F;" -> #VALUE! | II11: =Données!N16+"B#^!F<" -> #VALUE! | IJ11: =Données!O16+"B#^!F=" -> #VALUE! | IK11: =Données!P16+"B#^!F>" -> #VALUE! | IL11: =Données!Q16+"B#^!F?" -> #VALUE! | IM11: =Données!D16+"B#^!F@" -> #VALUE! | IN11: =Données!A17+"B#^!FA" -> #VALUE! | IO11: =Données!C17+"B#^!FB" -> #VALUE! | IP11: =Données!E17+"B#^!FC" -> #VALUE! | IQ11: =Données!F17+"B#^!FD" -> #VALUE! | IR11: =Données!G17+"B#^!FE" -> #VALUE! | IS11: =Données!H17+"B#^!FF" -> #VALUE! | IT11: =Données!I17+"B#^!FG" -> #VALUE! | IU11: =Données!J17+"B#^!FH" -> #VALUE! | IV11: =Données!K17+"B#^!FI" -> #VALUE!
F12: =Données!L17+"B#^!FJ" -> #VALUE! | G12: =Données!M17+"B#^!FK" -> #VALUE! | H12: =Données!N17+"B#^!FL" -> #VALUE! | I12: =Données!O17+"B#^!FM" -> #VALUE! | J12: =Données!P17+"B#^!FN" -> #VALUE! | K12: =Données!Q17+"B#^!FO" -> #VALUE! | L12: =Données!D17+"B#^!FP" -> #VALUE! | M12: =Données!A18+"B#^!FQ" -> #VALUE! | N12: =Données!C18+"B#^!FR" -> #VALUE! | O12: =Données!E18+"B#^!FS" -> #VALUE! | P12: =Données!F18+"B#^!FT" -> #VALUE! | Q12: =Données!G18+"B#^!FU" -> #VALUE! | R12: =Données!H18+"B#^!FV" -> #VALUE! | S12: =Données!I18+"B#^!FW" -> #VALUE! | T12: =Données!J18+"B#^!FX" -> #VALUE! | U12: =Données!K18+"B#^!FY" -> #VALUE! | V12: =Données!L18+"B#^!FZ" -> #VALUE! | W12: =Données!M18+"B#^!F[" -> #VALUE! | X12: =Données!N18+"B#^!F\" -> #VALUE! | Y12: =Données!O18+"B#^!F]" -> #VALUE! | Z12: =Données!P18+"B#^!F^" -> #VALUE! | AA12: =Données!Q18+"B#^!F_" -> #VALUE! | AB12: =Données!D18+"B#^!F`" -> #VALUE! | AC12: =Données!A19+"B#^!Fa" -> #VALUE! | AD12: =Données!C19+"B#^!Fb" -> #VALUE! | AE12: =Données!E19+"B#^!Fc" -> #VALUE! | AF12: =Données!F19+"B#^!Fd" -> #VALUE! | AG12: =Données!G19+"B#^!Fe" -> #VALUE! | AH12: =Données!H19+"B#^!Ff" -> #VALUE! | AI12: =Données!I19+"B#^!Fg" -> #VALUE! | AJ12: =Données!J19+"B#^!Fh" -> #VALUE! | AK12: =Données!K19+"B#^!Fi" -> #VALUE! | AL12: =Données!L19+"B#^!Fj" -> #VALUE! | AM12: =Données!M19+"B#^!Fk" -> #VALUE! | AN12: =Données!N19+"B#^!Fl" -> #VALUE! | AO12: =Données!O19+"B#^!Fm" -> #VALUE! | AP12: =Données!P19+"B#^!Fn" -> #VALUE! | AQ12: =Données!Q19+"B#^!Fo" -> #VALUE! | AR12: =Données!D19+"B#^!Fp" -> #VALUE! | AS12: =Données!A20+"B#^!Fq" -> #VALUE! | AT12: =Données!C20+"B#^!Fr" -> #VALUE! | AU12: =Données!E20+"B#^!Fs" -> #VALUE! | AV12: =Données!F20+"B#^!Ft" -> #VALUE! | AW12: =Données!G20+"B#^!Fu" -> #VALUE! | AX12: =Données!H20+"B#^!Fv" -> #VALUE! | AY12: =Données!I20+"B#^!Fw" -> #VALUE! | AZ12: =Données!J20+"B#^!Fx" -> #VALUE! | BA12: =Données!K20+"B#^!Fy" -> #VALUE! | BB12: =Données!L20+"B#^!Fz" -> #VALUE! | BC12: =Données!M20+"B#^!F{" -> #VALUE! | BD12: =Données!N20+"B#^!F|" -> #VALUE! | BE12: =Données!O20+"B#^!F}" -> #VALUE! | BF12: =Données!P20+"B#^!F~" -> #VALUE! | BG12: =Données!Q20+"B#^!G#" -> #VALUE! | BH12: =Données!D20+"B#^!G$" -> #VALUE! | BI12: =Données!A21+"B#^!G%" -> #VALUE! | BJ12: =Données!C21+"B#^!G&" -> #VALUE! | BK12: =Données!E21+"B#^!G'" -> #VALUE! | BL12: =Données!F21+"B#^!G(" -> #VALUE! | BM12: =Données!G21+"B#^!G)" -> #VALUE! | BN12: =Données!H21+"B#^!G." -> #VALUE! | BO12: =Données!I21+"B#^!G/" -> #VALUE! | BP12: =Données!J21+"B#^!G0" -> #VALUE! | BQ12: =Données!K21+"B#^!G1" -> #VALUE! | BR12: =Données!L21+"B#^!G2" -> #VALUE! | BS12: =Données!M21+"B#^!G3" -> #VALUE! | BT12: =Données!N21+"B#^!G4" -> #VALUE! | BU12: =Données!O21+"B#^!G5" -> #VALUE! | BV12: =Données!P21+"B#^!G6" -> #VALUE! | BW12: =Données!Q21+"B#^!G7" -> #VALUE! | BX12: =Données!D21+"B#^!G8" -> #VALUE! | BY12: =Données!A22+"B#^!G9" -> #VALUE! | BZ12: =Données!C22+"B#^!G:" -> #VALUE! | CA12: =Données!E22+"B#^!G;" -> #VALUE! | CB12: =Données!F22+"B#^!G<" -> #VALUE! | CC12: =Données!G22+"B#^!G=" -> #VALUE! | CD12: =Données!H22+"B#^!G>" -> #VALUE! | CE12: =Données!I22+"B#^!G?" -> #VALUE! | CF12: =Données!J22+"B#^!G@" -> #VALUE! | CG12: =Données!K22+"B#^!GA" -> #VALUE! | CH12: =Données!L22+"B#^!GB" -> #VALUE! | CI12: =Données!M22+"B#^!GC" -> #VALUE! | CJ12: =Données!N22+"B#^!GD" -> #VALUE! | CK12: =Données!O22+"B#^!GE" -> #VALUE! | CL12: =Données!P22+"B#^!GF" -> #VALUE! | CM12: =Données!Q22+"B#^!GG" -> #VALUE! | CN12: =Données!D22+"B#^!GH" -> #VALUE! | CO12: =Données!A23+"B#^!GI" -> #VALUE! | CP12: =Données!C23+"B#^!GJ" -> #VALUE! | CQ12: =Données!E23+"B#^!GK" -> #VALUE! | CR12: =Données!F23+"B#^!GL" -> #VALUE! | CS12: =Données!G23+"B#^!GM" -> #VALUE! | CT12: =Données!H23+"B#^!GN" -> #VALUE! | CU12: =Données!I23+"B#^!GO" -> #VALUE! | CV12: =Données!J23+"B#^!GP" -> #VALUE! | CW12: =Données!K23+"B#^!GQ" -> #VALUE! | CX12: =Données!L23+"B#^!GR" -> #VALUE! | CY12: =Données!M23+"B#^!GS" -> #VALUE! | CZ12: =Données!N23+"B#^!GT" -> #VALUE! | DA12: =Données!O23+"B#^!GU" -> #VALUE! | DB12: =Données!P23+"B#^!GV" -> #VALUE! | DC12: =Données!Q23+"B#^!GW" -> #VALUE! | DD12: =Données!D23+"B#^!GX" -> #VALUE! | DE12: =Données!A24+"B#^!GY" -> #VALUE! | DF12: =Données!C24+"B#^!GZ" -> #VALUE! | DG12: =Données!E24+"B#^!G[" -> #VALUE! | DH12: =Données!F24+"B#^!G\" -> #VALUE! | DI12: =Données!G24+"B#^!G]" -> #VALUE! | DJ12: =Données!H24+"B#^!G^" -> #VALUE! | DK12: =Données!I24+"B#^!G_" -> #VALUE! | DL12: =Données!J24+"B#^!G`" -> #VALUE! | DM12: =Données!K24+"B#^!Ga" -> #VALUE! | DN12: =Données!L24+"B#^!Gb" -> #VALUE! | DO12: =Données!M24+"B#^!Gc" -> #VALUE! | DP12: =Données!N24+"B#^!Gd" -> #VALUE! | DQ12: =Données!O24+"B#^!Ge" -> #VALUE! | DR12: =Données!P24+"B#^!Gf" -> #VALUE! | DS12: =Données!Q24+"B#^!Gg" -> #VALUE! | DT12: =Données!D24+"B#^!Gh" -> #VALUE! | DU12: =Données!A25+"B#^!Gi" -> #VALUE! | DV12: =Données!C25+"B#^!Gj" -> #VALUE! | DW12: =Données!E25+"B#^!Gk" -> #VALUE! | DX12: =Données!F25+"B#^!Gl" -> #VALUE! | DY12: =Données!G25+"B#^!Gm" -> #VALUE! | DZ12: =Données!H25+"B#^!Gn" -> #VALUE! | EA12: =Données!I25+"B#^!Go" -> #VALUE! | EB12: =Données!J25+"B#^!Gp" -> #VALUE! | EC12: =Données!K25+"B#^!Gq" -> #VALUE! | ED12: =Données!L25+"B#^!Gr" -> #VALUE! | EE12: =Données!M25+"B#^!Gs" -> #VALUE! | EF12: =Données!N25+"B#^!Gt" -> #VALUE! | EG12: =Données!O25+"B#^!Gu" -> #VALUE! | EH12: =Données!P25+"B#^!Gv" -> #VALUE! | EI12: =Données!Q25+"B#^!Gw" -> #VALUE! | EJ12: =Données!D25+"B#^!Gx" -> #VALUE! | EK12: =Données!A26+"B#^!Gy" -> #VALUE! | EL12: =Données!C26+"B#^!Gz" -> #VALUE! | EM12: =Données!E26+"B#^!G{" -> #VALUE! | EN12: =Données!F26+"B#^!G|" -> #VALUE! | EO12: =Données!G26+"B#^!G}" -> #VALUE! | EP12: =Données!H26+"B#^!G~" -> #VALUE! | EQ12: =Données!I26+"B#^!H#" -> #VALUE! | ER12: =Données!J26+"B#^!H$" -> #VALUE! | ES12: =Données!K26+"B#^!H%" -> #VALUE! | ET12: =Données!L26+"B#^!H&" -> #VALUE! | EU12: =Données!M26+"B#^!H'" -> #VALUE! | EV12: =Données!N26+"B#^!H(" -> #VALUE! | EW12: =Données!O26+"B#^!H)" -> #VALUE! | EX12: =Données!P26+"B#^!H." -> #VALUE! | EY12: =Données!Q26+"B#^!H/" -> #VALUE! | EZ12: =Données!D26+"B#^!H0" -> #VALUE! | FA12: =Données!A27+"B#^!H1" -> #VALUE! | FB12: =Données!C27+"B#^!H2" -> #VALUE! | FC12: =Données!E27+"B#^!H3" -> #VALUE! | FD12: =Données!F27+"B#^!H4" -> #VALUE! | FE12: =Données!G27+"B#^!H5" -> #VALUE! | FF12: =Données!H27+"B#^!H6" -> #VALUE! | FG12: =Données!I27+"B#^!H7" -> #VALUE! | FH12: =Données!J27+"B#^!H8" -> #VALUE! | FI12: =Données!K27+"B#^!H9" -> #VALUE! | FJ12: =Données!L27+"B#^!H:" -> #VALUE! | FK12: =Données!M27+"B#^!H;" -> #VALUE! | FL12: =Données!N27+"B#^!H<" -> #VALUE! | FM12: =Données!O27+"B#^!H=" -> #VALUE! | FN12: =Données!P27+"B#^!H>" -> #VALUE! | FO12: =Données!Q27+"B#^!H?" -> #VALUE! | FP12: =Données!D27+"B#^!H@" -> #VALUE! | FQ12: =Données!A28+"B#^!HA" -> #VALUE! | FR12: =Données!C28+"B#^!HB" -> #VALUE! | FS12: =Données!E28+"B#^!HC" -> #VALUE! | FT12: =Données!F28+"B#^!HD" -> #VALUE! | FU12: =Données!G28+"B#^!HE" -> #VALUE! | FV12: =Données!H28+"B#^!HF" -> #VALUE! | FW12: =Données!I28+"B#^!HG" -> #VALUE! | FX12: =Données!J28+"B#^!HH" -> #VALUE! | FY12: =Données!K28+"B#^!HI" -> #VALUE! | FZ12: =Données!L28+"B#^!HJ" -> #VALUE! | GA12: =Données!M28+"B#^!HK" -> #VALUE! | GB12: =Données!N28+"B#^!HL" -> #VALUE! | GC12: =Données!O28+"B#^!HM" -> #VALUE! | GD12: =Données!P28+"B#^!HN" -> #VALUE! | GE12: =Données!Q28+"B#^!HO" -> #VALUE! | GF12: =Données!D28+"B#^!HP" -> #VALUE! | GG12: =Données!A29+"B#^!HQ" -> #VALUE! | GH12: =Données!C29+"B#^!HR" -> #VALUE! | GI12: =Données!E29+"B#^!HS" -> #VALUE! | GJ12: =Données!F29+"B#^!HT" -> #VALUE! | GK12: =Données!G29+"B#^!HU" -> #VALUE! | GL12: =Données!H29+"B#^!HV" -> #VALUE! | GM12: =Données!I29+"B#^!HW" -> #VALUE! | GN12: =Données!J29+"B#^!HX" -> #VALUE! | GO12: =Données!K29+"B#^!HY" -> #VALUE! | GP12: =Données!L29+"B#^!HZ" -> #VALUE! | GQ12: =Données!M29+"B#^!H[" -> #VALUE! | GR12: =Données!N29+"B#^!H\" -> #VALUE! | GS12: =Données!O29+"B#^!H]" -> #VALUE! | GT12: =Données!P29+"B#^!H^" -> #VALUE! | GU12: =Données!Q29+"B#^!H_" -> #VALUE! | GV12: =Données!D29+"B#^!H`" -> #VALUE! | GW12: =Données!A30+"B#^!Ha" -> #VALUE! | GX12: =Données!C30+"B#^!Hb" -> #VALUE! | GY12: =Données!E30+"B#^!Hc" -> #VALUE! | GZ12: =Données!F30+"B#^!Hd" -> #VALUE! | HA12: =Données!G30+"B#^!He" -> #VALUE! | HB12: =Données!H30+"B#^!Hf" -> #VALUE! | HC12: =Données!I30+"B#^!Hg" -> #VALUE! | HD12: =Données!J30+"B#^!Hh" -> #VALUE! | HE12: =Données!K30+"B#^!Hi" -> #VALUE! | HF12: =Données!L30+"B#^!Hj" -> #VALUE! | HG12: =Données!M30+"B#^!Hk" -> #VALUE! | HH12: =Données!N30+"B#^!Hl" -> #VALUE! | HI12: =Données!O30+"B#^!Hm" -> #VALUE! | HJ12: =Données!P30+"B#^!Hn" -> #VALUE! | HK12: =Données!Q30+"B#^!Ho" -> #VALUE! | HL12: =Données!D30+"B#^!Hp" -> #VALUE! | HM12: =Données!A31+"B#^!Hq" -> #VALUE! | HN12: =Données!C31+"B#^!Hr" -> #VALUE! | HO12: =Données!E31+"B#^!Hs" -> #VALUE! | HP12: =Données!F31+"B#^!Ht" -> #VALUE! | HQ12: =Données!G31+"B#^!Hu" -> #VALUE! | HR12: =Données!H31+"B#^!Hv" -> #VALUE! | HS12: =Données!I31+"B#^!Hw" -> #VALUE! | HT12: =Données!J31+"B#^!Hx" -> #VALUE! | HU12: =Données!K31+"B#^!Hy" -> #VALUE! | HV12: =Données!L31+"B#^!Hz" -> #VALUE! | HW12: =Données!M31+"B#^!H{" -> #VALUE! | HX12: =Données!N31+"B#^!H|" -> #VALUE! | HY12: =Données!O31+"B#^!H}" -> #VALUE! | HZ12: =Données!P31+"B#^!H~" -> #VALUE! | IA12: =Données!Q31+"B#^!I#" -> #VALUE! | IB12: =Données!D31+"B#^!I$" -> #VALUE! | IC12: =Données!A32+"B#^!I%" -> #VALUE! | ID12: =Données!C32+"B#^!I&" -> #VALUE! | IE12: =Données!E32+"B#^!I'" -> #VALUE! | IF12: =Données!F32+"B#^!I(" -> #VALUE! | IG12: =Données!G32+"B#^!I)" -> #VALUE! | IH12: =Données!H32+"B#^!I." -> #VALUE! | II12: =Données!I32+"B#^!I/" -> #VALUE! | IJ12: =Données!J32+"B#^!I0" -> #VALUE! | IK12: =Données!K32+"B#^!I1" -> #VALUE! | IL12: =Données!L32+"B#^!I2" -> #VALUE! | IM12: =Données!M32+"B#^!I3" -> #VALUE! | IN12: =Données!N32+"B#^!I4" -> #VALUE! | IO12: =Données!O32+"B#^!I5" -> #VALUE! | IP12: =Données!P32+"B#^!I6" -> #VALUE! | IQ12: =Données!Q32+"B#^!I7" -> #VALUE! | IR12: =Données!D32+"B#^!I8" -> #VALUE! | IS12: =Données!A33+"B#^!I9" -> #VALUE! | IT12: =Données!C33+"B#^!I:" -> #VALUE! | IU12: =Données!E33+"B#^!I;" -> #VALUE! | IV12: =Données!F33+"B#^!I<" -> #VALUE!
F13: =Données!G33+"B#^!I=" -> #VALUE! | G13: =Données!H33+"B#^!I>" -> #VALUE! | H13: =Données!I33+"B#^!I?" -> #VALUE! | I13: =Données!J33+"B#^!I@" -> #VALUE! | J13: =Données!K33+"B#^!IA" -> #VALUE! | K13: =Données!L33+"B#^!IB" -> #VALUE! | L13: =Données!M33+"B#^!IC" -> #VALUE! | M13: =Données!N33+"B#^!ID" -> #VALUE! | N13: =Données!O33+"B#^!IE" -> #VALUE! | O13: =Données!P33+"B#^!IF" -> #VALUE! | P13: =Données!Q33+"B#^!IG" -> #VALUE! | Q13: =Données!D33+"B#^!IH" -> #VALUE! | R13: =Données!A34+"B#^!II" -> #VALUE! | S13: =Données!C34+"B#^!IJ" -> #VALUE! | T13: =Données!E34+"B#^!IK" -> #VALUE! | U13: =Données!F34+"B#^!IL" -> #VALUE! | V13: =Données!G34+"B#^!IM" -> #VALUE! | W13: =Données!H34+"B#^!IN" -> #VALUE! | X13: =Données!I34+"B#^!IO" -> #VALUE! | Y13: =Données!J34+"B#^!IP" -> #VALUE! | Z13: =Données!K34+"B#^!IQ" -> #VALUE! | AA13: =Données!L34+"B#^!IR" -> #VALUE! | AB13: =Données!M34+"B#^!IS" -> #VALUE! | AC13: =Données!N34+"B#^!IT" -> #VALUE! | AD13: =Données!O34+"B#^!IU" -> #VALUE! | AE13: =Données!P34+"B#^!IV" -> #VALUE! | AF13: =Données!Q34+"B#^!IW" -> #VALUE! | AG13: =Données!D34+"B#^!IX" -> #VALUE! | AH13: =Données!A35+"B#^!IY" -> #VALUE! | AI13: =Données!C35+"B#^!IZ" -> #VALUE! | AJ13: =Données!E35+"B#^!I[" -> #VALUE! | AK13: =Données!F35+"B#^!I\" -> #VALUE! | AL13: =Données!G35+"B#^!I]" -> #VALUE! | AM13: =Données!H35+"B#^!I^" -> #VALUE! | AN13: =Données!I35+"B#^!I_" -> #VALUE! | AO13: =Données!J35+"B#^!I`" -> #VALUE! | AP13: =Données!K35+"B#^!Ia" -> #VALUE! | AQ13: =Données!L35+"B#^!Ib" -> #VALUE! | AR13: =Données!M35+"B#^!Ic" -> #VALUE! | AS13: =Données!N35+"B#^!Id" -> #VALUE! | AT13: =Données!O35+"B#^!Ie" -> #VALUE! | AU13: =Données!P35+"B#^!If" -> #VALUE! | AV13: =Données!Q35+"B#^!Ig" -> #VALUE! | AW13: =Données!D35+"B#^!Ih" -> #VALUE! | AX13: =Données!A36+"B#^!Ii" -> #VALUE! | AY13: =Données!C36+"B#^!Ij" -> #VALUE! | AZ13: =Données!E36+"B#^!Ik" -> #VALUE! | BA13: =Données!F36+"B#^!Il" -> #VALUE! | BB13: =Données!G36+"B#^!Im" -> #VALUE! | BC13: =Données!H36+"B#^!In" -> #VALUE! | BD13: =Données!I36+"B#^!Io" -> #VALUE! | BE13: =Données!J36+"B#^!Ip" -> #VALUE! | BF13: =Données!K36+"B#^!Iq" -> #VALUE! | BG13: =Données!L36+"B#^!Ir" -> #VALUE! | BH13: =Données!M36+"B#^!Is" -> #VALUE! | BI13: =Données!N36+"B#^!It" -> #VALUE! | BJ13: =Données!O36+"B#^!Iu" -> #VALUE! | BK13: =Données!P36+"B#^!Iv" -> #VALUE! | BL13: =Données!Q36+"B#^!Iw" -> #VALUE! | BM13: =Données!D36+"B#^!Ix" -> #VALUE! | BN13: =Données!A37+"B#^!Iy" -> #VALUE! | BO13: =Données!C37+"B#^!Iz" -> #VALUE! | BP13: =Données!E37+"B#^!I{" -> #VALUE! | BQ13: =Données!F37+"B#^!I|" -> #VALUE! | BR13: =Données!G37+"B#^!I}" -> #VALUE! | BS13: =Données!H37+"B#^!I~" -> #VALUE! | BT13: =Données!I37+"B#^!J#" -> #VALUE! | BU13: =Données!J37+"B#^!J$" -> #VALUE! | BV13: =Données!K37+"B#^!J%" -> #VALUE! | BW13: =Données!L37+"B#^!J&" -> #VALUE! | BX13: =Données!M37+"B#^!J'" -> #VALUE! | BY13: =Données!N37+"B#^!J(" -> #VALUE! | BZ13: =Données!O37+"B#^!J)" -> #VALUE! | CA13: =Données!P37+"B#^!J." -> #VALUE! | CB13: =Données!Q37+"B#^!J/" -> #VALUE! | CC13: =Données!D37+"B#^!J0" -> #VALUE! | CD13: =Résultats!A:A*"B#^!J1" -> #VALUE! | CE13: =Résultats!C:C*"B#^!J2" -> #VALUE! | CF13: =Résultats!D:D*"B#^!J3" -> #N/A | CG13: =Résultats!E:E*"B#^!J4" -> #VALUE! | CH13: =Résultats!F:F*"B#^!J5" -> #VALUE! | CI13: =Résultats!G:G*"B#^!J6" -> #VALUE! | CJ13: =Résultats!H:H*"B#^!J7" -> #VALUE! | CK13: =Résultats!I:I*"B#^!J8" -> #VALUE! | CL13: =Résultats!J:J*"B#^!J9" -> #VALUE! | CM13: =Résultats!K:K*"B#^!J:" -> #VALUE! | CN13: =Résultats!L:L*"B#^!J;" -> #VALUE! | CO13: =Résultats!M:M*"B#^!J<" -> #VALUE! | CP13: =Résultats!N:N*"B#^!J=" -> #VALUE! | CQ13: =Résultats!O:O*"B#^!J>" -> #VALUE! | CR13: =Résultats!P:P*"B#^!J?" -> #VALUE! | CS13: =Résultats!Q:Q*"B#^!J@" -> #VALUE! | CT13: =Résultats!R:R*"B#^!JA" -> #VALUE! | CU13: =Résultats!S:S*"B#^!JB" -> #VALUE! | CV13: =Résultats!T:T*"B#^!JC" -> #VALUE! | CW13: =Résultats!U:U*"B#^!JD" -> #VALUE! | CX13: =Résultats!V:V*"B#^!JE" -> #VALUE! | CY13: =Résultats!W:W*"B#^!JF" -> #VALUE! | CZ13: =Résultats!X:X*"B#^!JG" -> #VALUE! | DA13: =Résultats!Y:Y*"B#^!JH" -> #VALUE! | DB13: =Résultats!Z:Z*"B#^!JI" -> #VALUE! | DC13: =Résultats!AA:AA*"B#^!JJ" -> #VALUE! | DD13: =Résultats!AB:AB*"B#^!JK" -> #VALUE! | DE13: =Résultats!AC:AC*"B#^!JL" -> #VALUE! | DF13: =Résultats!AD:AD*"B#^!JM" -> #VALUE! | DG13: =Résultats!AE:AE*"B#^!JN" -> #VALUE! | DH13: =Résultats!AF:AF*"B#^!JO" -> #VALUE! | DI13: =Résultats!AG:AG*"B#^!JP" -> #VALUE! | DJ13: =Résultats!AH:AH*"B#^!JQ" -> #VALUE! | DK13: =Résultats!AI:AI*"B#^!JR" -> #VALUE! | DL13: =Résultats!AJ:AJ*"B#^!JS" -> #VALUE! | DM13: =Résultats!AK:AK*"B#^!JT" -> #VALUE! | DN13: =Résultats!AL:AL*"B#^!JU" -> #VALUE! | DO13: =Résultats!AM:AM*"B#^!JV" -> #VALUE! | DP13: =Résultats!AN:AN*"B#^!JW" -> #VALUE! | DQ13: =Résultats!AO:AO*"B#^!JX" -> #VALUE! | DR13: =Résultats!AP:AP*"B#^!JY" -> #VALUE! | DS13: =Résultats!AQ:AQ*"B#^!JZ" -> #VALUE! | DT13: =Résultats!AR:AR*"B#^!J[" -> #VALUE! | DU13: =Résultats!AS:AS*"B#^!J\" -> #VALUE! | DV13: =Résultats!AT:AT*"B#^!J]" -> #VALUE! | DW13: =Résultats!AU:AU*"B#^!J^" -> #VALUE! | DX13: =Résultats!AV:AV*"B#^!J_" -> #VALUE! | DY13: =Résultats!AW:AW*"B#^!J`" -> #VALUE! | DZ13: =Résultats!AX:AX*"B#^!Ja" -> #VALUE! | EA13: =Résultats!AY:AY*"B#^!Jb" -> #VALUE! | EB13: =Résultats!AZ:AZ*"B#^!Jc" -> #VALUE! | EC13: =Résultats!BA:BA*"B#^!Jd" -> #VALUE! | ED13: =Résultats!BB:BB*"B#^!Je" -> #VALUE! | EE13: =Résultats!#REF!*"B#^!Jf" -> #REF! | EF13: =Résultats!#REF!*"B#^!Jg" -> #REF! | EG13: =Résultats!#REF!*"B#^!Jh" -> #REF! | EH13: =Résultats!#REF!*"B#^!Ji" -> #REF! | EI13: =Résultats!#REF!*"B#^!Jj" -> #REF! | EJ13: =Résultats!#REF!*"B#^!Jk" -> #REF! | EK13: =Résultats!#REF!*"B#^!Jl" -> #REF! | EL13: =Résultats!#REF!*"B#^!Jm" -> #REF! | EM13: =Résultats!#REF!*"B#^!Jn" -> #REF! | EN13: =Résultats!BC:BC*"B#^!Jo" -> #VALUE! | EO13: =Résultats!BD:BD*"B#^!Jp" -> #VALUE! | EP13: =Résultats!BE:BE*"B#^!Jq" -> #VALUE! | EQ13: =Résultats!BF:BF*"B#^!Jr" -> #VALUE! | ER13: =Résultats!1:1-"B#^!Js" -> #VALUE! | ES13: =Résultats!#REF!-"B#^!Jt" -> #REF! | ET13: =Résultats!3:3-"B#^!Ju" -> #VALUE! | EU13: =Résultats!4:4-"B#^!Jv" -> #VALUE! | EV13: =Résultats!5:5-"B#^!Jw" -> #VALUE! | EW13: =Résultats!6:6-"B#^!Jx" -> #VALUE! | EX13: =Résultats!7:7-"B#^!Jy" -> #VALUE! | EY13: =Résultats!8:8-"B#^!Jz" -> #VALUE! | EZ13: =Résultats!9:9-"B#^!J{" -> #VALUE! | FA13: =Résultats!10:10-"B#^!J|" -> #VALUE! | FB13: =Résultats!11:11-"B#^!J}" -> #VALUE! | FC13: =Résultats!12:12-"B#^!J~" -> #VALUE! | FD13: =Résultats!13:13-"B#^!K#" -> #VALUE! | FE13: =Résultats!14:14-"B#^!K$" -> #VALUE! | FF13: =Résultats!15:15-"B#^!K%" -> #VALUE! | FG13: =Résultats!16:16-"B#^!K&" -> #VALUE! | FH13: =Résultats!17:17-"B#^!K'" -> #VALUE! | FI13: =Résultats!18:18-"B#^!K(" -> #VALUE! | FJ13: =Résultats!19:19-"B#^!K)" -> #VALUE! | FK13: =Résultats!20:20-"B#^!K." -> #VALUE! | FL13: =Résultats!21:21-"B#^!K/" -> #VALUE! | FM13: =Résultats!22:22-"B#^!K0" -> #VALUE! | FN13: =Résultats!23:23-"B#^!K1" -> #VALUE! | FO13: =Résultats!24:24-"B#^!K2" -> #VALUE! | FP13: =Résultats!25:25-"B#^!K3" -> #VALUE! | FQ13: =Résultats!26:26-"B#^!K4" -> #VALUE! | FR13: =Résultats!27:27-"B#^!K5" -> #VALUE! | FS13: =Résultats!28:28-"B#^!K6" -> #VALUE! | FT13: =Résultats!29:29-"B#^!K7" -> #VALUE! | FU13: =Résultats!30:30-"B#^!K8" -> #VALUE! | FV13: =Résultats!31:31-"B#^!K9" -> #VALUE! | FW13: =Résultats!32:32-"B#^!K:" -> #VALUE! | FX13: =Résultats!33:33-"B#^!K;" -> #VALUE! | FY13: =Résultats!34:34-"B#^!K<" -> #VALUE! | FZ13: =Résultats!35:35-"B#^!K=" -> #VALUE! | GA13: =Résultats!36:36-"B#^!K>" -> #VALUE! | GB13: =Résultats!37:37-"B#^!K?" -> #VALUE! | GC13: =Résultats!38:38-"B#^!K@" -> #VALUE! | GD13: =Résultats!39:39-"B#^!KA" -> #VALUE! | GE13: =Résultats!40:40-"B#^!KB" -> #VALUE! | GF13: =Résultats!41:41-"B#^!KC" -> #VALUE! | GG13: =Résultats!42:42-"B#^!KD" -> #VALUE! | GH13: =Résultats!43:43-"B#^!KE" -> #VALUE! | GI13: =Résultats!44:44-"B#^!KF" -> #VALUE! | GJ13: =Résultats!45:45-"B#^!KG" -> #VALUE! | GK13: =Résultats!46:46-"B#^!KH" -> #VALUE! | GL13: =Résultats!47:47-"B#^!KI" -> #VALUE! | GM13: =Résultats!48:48-"B#^!KJ" -> #VALUE! | GN13: =Résultats!49:49-"B#^!KK" -> #VALUE! | GO13: =Résultats!50:50-"B#^!KL" -> #VALUE! | GP13: =Résultats!51:51-"B#^!KM" -> #VALUE! | GQ13: =Résultats!52:52-"B#^!KN" -> #VALUE! | GR13: =Résultats!53:53-"B#^!KO" -> #VALUE! | GS13: =Résultats!54:54-"B#^!KP" -> #VALUE! | GT13: =Résultats!55:55-"B#^!KQ" -> #VALUE! | GU13: =Résultats!56:56-"B#^!KR" -> #VALUE! | GV13: =Résultats!57:57-"B#^!KS" -> #VALUE! | GW13: =Résultats!58:58-"B#^!KT" -> #VALUE! | GX13: =Résultats!59:59-"B#^!KU" -> #VALUE! | GY13: =Résultats!60:60-"B#^!KV" -> #VALUE! | GZ13: =Résultats!61:61-"B#^!KW" -> #VALUE! | HA13: =Résultats!62:62-"B#^!KX" -> #VALUE! | HB13: =Résultats!63:63-"B#^!KY" -> #VALUE! | HC13: =Résultats!64:64-"B#^!KZ" -> #VALUE! | HD13: =Résultats!65:65-"B#^!K[" -> #VALUE! | HE13: =Résultats!66:66-"B#^!K\" -> #VALUE! | HF13: =Résultats!67:67-"B#^!K]" -> #VALUE! | HG13: =Résultats!68:68-"B#^!K^" -> #VALUE! | HH13: =Résultats!69:69-"B#^!K_" -> #VALUE! | HI13: =Résultats!70:70-"B#^!K`" -> #VALUE! | HJ13: =Résultats!71:71-"B#^!Ka" -> #VALUE! | HK13: =Résultats!72:72-"B#^!Kb" -> #VALUE! | HL13: =Résultats!73:73-"B#^!Kc" -> #VALUE! | HM13: =Résultats!74:74-"B#^!Kd" -> #VALUE! | HN13: =Résultats!75:75-"B#^!Ke" -> #VALUE! | HO13: =Résultats!76:76-"B#^!Kf" -> #VALUE! | HP13: =Résultats!77:77-"B#^!Kg" -> #VALUE! | HQ13: =Résultats!78:78-"B#^!Kh" -> #VALUE! | HR13: =Résultats!79:79-"B#^!Ki" -> #VALUE! | HS13: =Résultats!80:80-"B#^!Kj" -> #VALUE! | HT13: =Résultats!81:81-"B#^!Kk" -> #VALUE! | HU13: =Résultats!82:82-"B#^!Kl" -> #VALUE! | HV13: =Résultats!83:83-"B#^!Km" -> #VALUE! | HW13: =Résultats!84:84-"B#^!Kn" -> #VALUE! | HX13: =Résultats!85:85-"B#^!Ko" -> #VALUE! | HY13: =Résultats!86:86-"B#^!Kp" -> #VALUE! | HZ13: =Résultats!87:87-"B#^!Kq" -> #VALUE! | IA13: =Résultats!88:88-"B#^!Kr" -> #VALUE! | IB13: =Résultats!89:89-"B#^!Ks" -> #VALUE! | IC13: =Résultats!90:90-"B#^!Kt" -> #VALUE! | ID13: =Résultats!91:91-"B#^!Ku" -> #VALUE! | IE13: =Résultats!92:92-"B#^!Kv" -> #VALUE! | IF13: =Résultats!93:93-"B#^!Kw" -> #VALUE! | IG13: =Résultats!94:94-"B#^!Kx" -> #VALUE! | IH13: =Résultats!95:95-"B#^!Ky" -> #VALUE! | II13: =Résultats!96:96-"B#^!Kz" -> #VALUE! | IJ13: =Résultats!97:97-"B#^!K{" -> #VALUE! | IK13: =Résultats!98:98-"B#^!K|" -> #VALUE! | IL13: =Résultats!99:99-"B#^!K}" -> #VALUE! | IM13: =Résultats!100:100-"B#^!K~" -> #VALUE! | IN13: =Résultats!101:101-"B#^!L#" -> #VALUE! | IO13: =Résultats!102:102-"B#^!L$" -> #VALUE! | IP13: =Résultats!103:103-"B#^!L%" -> #VALUE! | IQ13: =Résultats!104:104-"B#^!L&" -> #VALUE! | IR13: =Résultats!105:105-"B#^!L'" -> #VALUE! | IS13: =Résultats!106:106-"B#^!L(" -> #VALUE! | IT13: =Résultats!107:107-"B#^!L)" -> #VALUE! | IU13: =Résultats!108:108-"B#^!L." -> #VALUE! | IV13: =Résultats!109:109-"B#^!L/" -> #VALUE!
F14: =Résultats!110:110-"B#^!L0" -> #VALUE! | G14: =Résultats!111:111-"B#^!L1" -> #VALUE! | H14: =Résultats!112:112-"B#^!L2" -> #VALUE! | I14: =Résultats!113:113-"B#^!L3" -> #VALUE! | J14: =Résultats!114:114-"B#^!L4" -> #VALUE! | K14: =Résultats!115:115-"B#^!L5" -> #VALUE! | L14: =Résultats!116:116-"B#^!L6" -> #VALUE! | M14: =Résultats!117:117-"B#^!L7" -> #VALUE! | N14: =Résultats!118:118-"B#^!L8" -> #VALUE! | O14: =Résultats!119:119-"B#^!L9" -> #VALUE! | P14: =Résultats!120:120-"B#^!L:" -> #VALUE! | Q14: =Résultats!121:121-"B#^!L;" -> #VALUE! | R14: =Résultats!122:122-"B#^!L<" -> #VALUE! | S14: =Résultats!123:123-"B#^!L=" -> #VALUE! | T14: =Résultats!124:124-"B#^!L>" -> #VALUE! | U14: =Résultats!125:125-"B#^!L?" -> #VALUE! | V14: =Résultats!126:126-"B#^!L@" -> #VALUE! | W14: =Résultats!127:127-"B#^!LA" -> #VALUE! | X14: =Résultats!128:128-"B#^!LB" -> #VALUE! | Y14: =Résultats!129:129-"B#^!LC" -> #VALUE! | Z14: =Résultats!130:130-"B#^!LD" -> #VALUE! | AA14: =Résultats!131:131-"B#^!LE" -> #VALUE! | AB14: =Résultats!132:132-"B#^!LF" -> #VALUE! | AC14: =Résultats!133:133-"B#^!LG" -> #VALUE! | AD14: =Résultats!134:134-"B#^!LH" -> #VALUE! | AE14: =Résultats!135:135-"B#^!LI" -> #VALUE! | AF14: =Résultats!136:136-"B#^!LJ" -> #VALUE! | AG14: =Résultats!137:137-"B#^!LK" -> #VALUE! | AH14: =Résultats!138:138-"B#^!LL" -> #VALUE! | AI14: =Résultats!139:139-"B#^!LM" -> #VALUE! | AJ14: =Résultats!140:140-"B#^!LN" -> #VALUE! | AK14: =Résultats!141:141-"B#^!LO" -> #VALUE! | AL14: =Résultats!142:142-"B#^!LP" -> #VALUE! | AM14: =Résultats!143:143-"B#^!LQ" -> #VALUE! | AN14: =Résultats!144:144-"B#^!LR" -> #VALUE! | AO14: =Résultats!145:145-"B#^!LS" -> #VALUE! | AP14: =Résultats!146:146-"B#^!LT" -> #VALUE! | AQ14: =Résultats!147:147-"B#^!LU" -> #VALUE! | AR14: =Résultats!148:148-"B#^!LV" -> #VALUE! | AS14: =Résultats!149:149-"B#^!LW" -> #VALUE! | AT14: =Résultats!150:150-"B#^!LX" -> #VALUE! | AU14: =Résultats!151:151-"B#^!LY" -> #VALUE! | AV14: =Résultats!152:152-"B#^!LZ" -> #VALUE! | AW14: =Résultats!153:153-"B#^!L[" -> #VALUE! | AX14: =Résultats!154:154-"B#^!L\" -> #VALUE! | AY14: =Résultats!155:155-"B#^!L]" -> #VALUE! | AZ14: =Résultats!156:156-"B#^!L^" -> #VALUE! | BA14: =Résultats!157:157-"B#^!L_" -> #VALUE! | BB14: =Résultats!158:158-"B#^!L`" -> #VALUE! | BC14: =Résultats!159:159-"B#^!La" -> #VALUE! | BD14: =Résultats!160:160-"B#^!Lb" -> #VALUE! | BE14: =Résultats!161:161-"B#^!Lc" -> #VALUE! | BF14: =Résultats!162:162-"B#^!Ld" -> #VALUE! | BG14: =Résultats!163:163-"B#^!Le" -> #VALUE! | BH14: =Résultats!164:164-"B#^!Lf" -> #VALUE! | BI14: =Résultats!165:165-"B#^!Lg" -> #VALUE! | BJ14: =Résultats!166:166-"B#^!Lh" -> #VALUE! | BK14: =Résultats!167:167-"B#^!Li" -> #VALUE! | BL14: =Résultats!168:168-"B#^!Lj" -> #VALUE! | BM14: =Résultats!169:169-"B#^!Lk" -> #VALUE! | BN14: =Résultats!170:170-"B#^!Ll" -> #VALUE! | BO14: =Résultats!171:171-"B#^!Lm" -> #VALUE! | BP14: =Résultats!172:172-"B#^!Ln" -> #VALUE! | BQ14: =Résultats!173:173-"B#^!Lo" -> #VALUE! | BR14: =Résultats!174:174-"B#^!Lp" -> #VALUE! | BS14: =Résultats!175:175-"B#^!Lq" -> #VALUE! | BT14: =Résultats!176:176-"B#^!Lr" -> #VALUE! | BU14: =Résultats!177:177-"B#^!Ls" -> #VALUE! | BV14: =Résultats!178:178-"B#^!Lt" -> #VALUE! | BW14: =Résultats!179:179-"B#^!Lu" -> #VALUE! | BX14: =Résultats!180:180-"B#^!Lv" -> #VALUE! | BY14: =Résultats!181:181-"B#^!Lw" -> #VALUE! | BZ14: =Résultats!182:182-"B#^!Lx" -> #VALUE! | CA14: =Résultats!183:183-"B#^!Ly" -> #VALUE! | CB14: =Résultats!184:184-"B#^!Lz" -> #VALUE! | CC14: =Résultats!185:185-"B#^!L{" -> #VALUE! | CD14: =Résultats!186:186-"B#^!L|" -> #VALUE! | CE14: =Résultats!187:187-"B#^!L}" -> #VALUE! | CF14: =Résultats!188:188-"B#^!L~" -> #VALUE! | CG14: =Résultats!189:189-"B#^!M#" -> #VALUE! | CH14: =Résultats!190:190-"B#^!M$" -> #VALUE! | CI14: =Résultats!191:191-"B#^!M%" -> #VALUE! | CJ14: =Résultats!192:192-"B#^!M&" -> #VALUE! | CK14: =Résultats!193:193-"B#^!M'" -> #VALUE! | CL14: =Résultats!194:194-"B#^!M(" -> #VALUE! | CM14: =Résultats!195:195-"B#^!M)" -> #VALUE! | CN14: =Résultats!196:196-"B#^!M." -> #VALUE! | CO14: =Résultats!197:197-"B#^!M/" -> #VALUE! | CP14: =Résultats!198:198-"B#^!M0" -> #VALUE! | CQ14: =Résultats!199:199-"B#^!M1" -> #VALUE! | CR14: =Résultats!200:200-"B#^!M2" -> #VALUE! | CS14: =Résultats!201:201-"B#^!M3" -> #VALUE! | CT14: =Résultats!202:202-"B#^!M4" -> #VALUE! | CU14: =Résultats!203:203-"B#^!M5" -> #VALUE! | CV14: =Résultats!204:204-"B#^!M6" -> #VALUE! | CW14: =Résultats!205:205-"B#^!M7" -> #VALUE! | CX14: =Résultats!206:206-"B#^!M8" -> #VALUE! | CY14: =Résultats!207:207-"B#^!M9" -> #VALUE! | CZ14: =Résultats!208:208-"B#^!M:" -> #VALUE! | DA14: =Résultats!209:209-"B#^!M;" -> #VALUE! | DB14: =Résultats!210:210-"B#^!M<" -> #VALUE! | DC14: =Résultats!211:211-"B#^!M=" -> #VALUE! | DD14: =Résultats!212:212-"B#^!M>" -> #VALUE! | DE14: =Résultats!213:213-"B#^!M?" -> #VALUE! | DF14: =Résultats!214:214-"B#^!M@" -> #VALUE! | DG14: =Résultats!215:215-"B#^!MA" -> #VALUE! | DH14: =Résultats!216:216-"B#^!MB" -> #VALUE! | DI14: =Résultats!217:217-"B#^!MC" -> #VALUE! | DJ14: =Résultats!218:218-"B#^!MD" -> #VALUE! | DK14: =Résultats!219:219-"B#^!ME" -> #VALUE! | DL14: =Résultats!220:220-"B#^!MF" -> #VALUE! | DM14: =Résultats!221:221-"B#^!MG" -> #VALUE! | DN14: =Résultats!222:222-"B#^!MH" -> #VALUE! | DO14: =Résultats!223:223-"B#^!MI" -> #VALUE! | DP14: =Résultats!224:224-"B#^!MJ" -> #VALUE! | DQ14: =Résultats!225:225-"B#^!MK" -> #VALUE! | DR14: =Résultats!226:226-"B#^!ML" -> #VALUE! | DS14: =Résultats!227:227-"B#^!MM" -> #VALUE! | DT14: =Résultats!228:228-"B#^!MN" -> #VALUE! | DU14: =Résultats!229:229-"B#^!MO" -> #VALUE! | DV14: =Résultats!230:230-"B#^!MP" -> #VALUE! | DW14: =Résultats!E1+"B#^!MQ" -> #VALUE! | DX14: =Résultats!F1+"B#^!MR" -> #VALUE! | DY14: =Résultats!G1+"B#^!MS" -> #VALUE! | DZ14: =Résultats!H1+"B#^!MT" -> #VALUE! | EA14: =Résultats!I1+"B#^!MU" -> #VALUE! | EB14: =Résultats!J1+"B#^!MV" -> #VALUE! | EC14: =Résultats!K1+"B#^!MW" -> #VALUE! | ED14: =Résultats!L1+"B#^!MX" -> #VALUE! | EE14: =Résultats!M1+"B#^!MY" -> #VALUE! | EF14: =Résultats!N1+"B#^!MZ" -> #VALUE! | EG14: =Résultats!O1+"B#^!M[" -> #VALUE! | EH14: =Résultats!P1+"B#^!M\" -> #VALUE! | EI14: =Résultats!Q1+"B#^!M]" -> #VALUE! | EJ14: =Résultats!#REF!+"B#^!M^" -> #REF! | EK14: =Résultats!#REF!+"B#^!M_" -> #REF! | EL14: =Résultats!#REF!+"B#^!M`" -> #REF! | EM14: =Résultats!#REF!+"B#^!Ma" -> #REF! | EN14: =Résultats!#REF!+"B#^!Mb" -> #REF! | EO14: =Résultats!#REF!+"B#^!Mc" -> #REF! | EP14: =Résultats!#REF!+"B#^!Md" -> #REF! | EQ14: =Résultats!#REF!+"B#^!Me" -> #REF! | ER14: =Résultats!#REF!+"B#^!Mf" -> #REF! | ES14: =Résultats!#REF!+"B#^!Mg" -> #REF! | ET14: =Résultats!#REF!+"B#^!Mh" -> #REF! | EU14: =Résultats!#REF!+"B#^!Mi" -> #REF! | EV14: =Résultats!#REF!+"B#^!Mj" -> #REF! | EW14: =Résultats!E3+"B#^!Mk" -> #VALUE! | EX14: =Résultats!F3+"B#^!Ml" -> #VALUE! | EY14: =Résultats!G3+"B#^!Mm" -> #VALUE! | EZ14: =Résultats!H3+"B#^!Mn" -> #VALUE! | FA14: =Résultats!I3+"B#^!Mo" -> #VALUE! | FB14: =Résultats!J3+"B#^!Mp" -> #VALUE! | FC14: =Résultats!K3+"B#^!Mq" -> #VALUE! | FD14: =Résultats!L3+"B#^!Mr" -> #VALUE! | FE14: =Résultats!M3+"B#^!Ms" -> #VALUE! | FF14: =Résultats!N3+"B#^!Mt" -> #VALUE! | FG14: =Résultats!O3+"B#^!Mu" -> #VALUE! | FH14: =Résultats!P3+"B#^!Mv" -> #VALUE! | FI14: =Résultats!Q3+"B#^!Mw" -> #VALUE! | FJ14: =Résultats!E4+"B#^!Mx" -> #VALUE! | FK14: =Résultats!F4+"B#^!My" -> #VALUE! | FL14: =Résultats!G4+"B#^!Mz" -> #VALUE! | FM14: =Résultats!H4+"B#^!M{" -> #VALUE! | FN14: =Résultats!I4+"B#^!M|" -> #VALUE! | FO14: =Résultats!J4+"B#^!M}" -> #VALUE! | FP14: =Résultats!K4+"B#^!M~" -> #VALUE! | FQ14: =Résultats!L4+"B#^!N#" -> #VALUE! | FR14: =Résultats!M4+"B#^!N$" -> #VALUE! | FS14: =Résultats!N4+"B#^!N%" -> #VALUE! | FT14: =Résultats!O4+"B#^!N&" -> #VALUE! | FU14: =Résultats!P4+"B#^!N'" -> #VALUE! | FV14: =Résultats!Q4+"B#^!N(" -> #VALUE! | FW14: =Résultats!E5+"B#^!N)" -> #VALUE! | FX14: =Résultats!F5+"B#^!N." -> #VALUE! | FY14: =Résultats!G5+"B#^!N/" -> #VALUE! | FZ14: =Résultats!H5+"B#^!N0" -> #VALUE! | GA14: =Résultats!I5+"B#^!N1" -> #VALUE! | GB14: =Résultats!J5+"B#^!N2" -> #VALUE! | GC14: =Résultats!K5+"B#^!N3" -> #VALUE! | GD14: =Résultats!L5+"B#^!N4" -> #VALUE! | GE14: =Résultats!M5+"B#^!N5" -> #VALUE! | GF14: =Résultats!N5+"B#^!N6" -> #VALUE! | GG14: =Résultats!O5+"B#^!N7" -> #VALUE! | GH14: =Résultats!P5+"B#^!N8" -> #VALUE! | GI14: =Résultats!Q5+"B#^!N9" -> #VALUE! | GJ14: =Résultats!E6+"B#^!N:" -> #VALUE! | GK14: =Résultats!F6+"B#^!N;" -> #VALUE! | GL14: =Résultats!G6+"B#^!N<" -> #VALUE! | GM14: =Résultats!H6+"B#^!N=" -> #VALUE! | GN14: =Résultats!I6+"B#^!N>" -> #VALUE! | GO14: =Résultats!J6+"B#^!N?" -> #VALUE! | GP14: =Résultats!K6+"B#^!N@" -> #VALUE! | GQ14: =Résultats!L6+"B#^!NA" -> #VALUE! | GR14: =Résultats!M6+"B#^!NB" -> #VALUE! | GS14: =Résultats!N6+"B#^!NC" -> #VALUE! | GT14: =Résultats!O6+"B#^!ND" -> #VALUE! | GU14: =Résultats!P6+"B#^!NE" -> #VALUE! | GV14: =Résultats!Q6+"B#^!NF" -> #VALUE! | GW14: =Résultats!E7+"B#^!NG" -> #VALUE! | GX14: =Résultats!F7+"B#^!NH" -> #VALUE! | GY14: =Résultats!G7+"B#^!NI" -> #VALUE! | GZ14: =Résultats!H7+"B#^!NJ" -> #VALUE! | HA14: =Résultats!I7+"B#^!NK" -> #VALUE! | HB14: =Résultats!J7+"B#^!NL" -> #VALUE! | HC14: =Résultats!K7+"B#^!NM" -> #VALUE! | HD14: =Résultats!L7+"B#^!NN" -> #VALUE! | HE14: =Résultats!M7+"B#^!NO" -> #VALUE! | HF14: =Résultats!N7+"B#^!NP" -> #VALUE! | HG14: =Résultats!O7+"B#^!NQ" -> #VALUE! | HH14: =Résultats!P7+"B#^!NR" -> #VALUE! | HI14: =Résultats!Q7+"B#^!NS" -> #VALUE! | HJ14: =Résultats!E8+"B#^!NT" -> #VALUE! | HK14: =Résultats!F8+"B#^!NU" -> #VALUE! | HL14: =Résultats!G8+"B#^!NV" -> #VALUE! | HM14: =Résultats!H8+"B#^!NW" -> #VALUE! | HN14: =Résultats!I8+"B#^!NX" -> #VALUE! | HO14: =Résultats!J8+"B#^!NY" -> #VALUE! | HP14: =Résultats!K8+"B#^!NZ" -> #VALUE! | HQ14: =Résultats!L8+"B#^!N[" -> #VALUE! | HR14: =Résultats!M8+"B#^!N\" -> #VALUE! | HS14: =Résultats!N8+"B#^!N]" -> #VALUE! | HT14: =Résultats!O8+"B#^!N^" -> #VALUE! | HU14: =Résultats!P8+"B#^!N_" -> #VALUE! | HV14: =Résultats!Q8+"B#^!N`" -> #VALUE! | HW14: =Résultats!A9+"B#^!Na" -> #VALUE! | HX14: =Résultats!C9+"B#^!Nb" -> #VALUE! | HY14: =Résultats!D9+"B#^!Nc" -> #VALUE! | HZ14: =Résultats!E9+"B#^!Nd" -> #VALUE! | IA14: =Résultats!F9+"B#^!Ne" -> #VALUE! | IB14: =Résultats!G9+"B#^!Nf" -> #VALUE! | IC14: =Résultats!H9+"B#^!Ng" -> #VALUE! | ID14: =Résultats!I9+"B#^!Nh" -> #VALUE! | IE14: =Résultats!J9+"B#^!Ni" -> #VALUE! | IF14: =Résultats!K9+"B#^!Nj" -> #VALUE! | IG14: =Résultats!L9+"B#^!Nk" -> #VALUE! | IH14: =Résultats!M9+"B#^!Nl" -> #VALUE! | II14: =Résultats!N9+"B#^!Nm" -> #VALUE! | IJ14: =Résultats!O9+"B#^!Nn" -> #VALUE! | IK14: =Résultats!P9+"B#^!No" -> #VALUE! | IL14: =Résultats!Q9+"B#^!Np" -> #VALUE! | IM14: =Résultats!A10+"B#^!Nq" -> #VALUE! | IN14: =Résultats!C10+"B#^!Nr" -> #VALUE! | IO14: =Résultats!D10+"B#^!Ns" -> #VALUE! | IP14: =Résultats!E10+"B#^!Nt" -> #VALUE! | IQ14: =Résultats!F10+"B#^!Nu" -> #VALUE! | IR14: =Résultats!G10+"B#^!Nv" -> #VALUE! | IS14: =Résultats!H10+"B#^!Nw" -> #VALUE! | IT14: =Résultats!I10+"B#^!Nx" -> #VALUE! | IU14: =Résultats!J10+"B#^!Ny" -> #VALUE! | IV14: =Résultats!K10+"B#^!Nz" -> #VALUE!
