Workbook

Sheet Feuil1
A2: Date | B2: Segment | C2: Statut | D2: Acteur | E2: Nom | F2: Rank 2019 | G2: Tâches | H2: Détail | I2: Temps | J2: Total
A3: 44007 | B3: Commercial | C3: Client | D3: CAET | E3: =VLOOKUP(D3,BASE!$A$3:$D$621,3,0) -> AET TECHNOLOGIES | F3: =VLOOKUP(D3,BASE!$A$3:$D$621,2,0) -> 12 | G3: Devis | H3: DDP - David et Heraeus | I3: 0.0034722222
A4: 44007 | B4: Commercial | C4: Prospect | D4: CEDIVER | E4: =VLOOKUP(D4,BASE!$A$3:$D$621,3,0) -> EDIVER | F4: =VLOOKUP(D4,BASE!$A$3:$D$621,2,0) -> 14 | G4: Devis | H4: Suite devis 1276 Réception DDP Clarification technique tél Avec le client qui va envoyer un plan pour le tube. | I4: 0.013194444
A5: 44007 | B5: Commercial | C5: Prospect | D5: CARKEMA | E5: =VLOOKUP(D5,BASE!$A$3:$D$621,3,0) -> ARKEMA | F5: =VLOOKUP(D5,BASE!$A$3:$D$621,2,0) -> 15 | G5: Technique | H5: Réalisation plan panier avec trou | I5: 0.015972222

Sheet BASE
C1: CLIENT | F1: CA à fin Sept N 2019 | I1: CA à fin MAI N 2020 | L1: Cde 2020 (livr. 30/09/2020) | O1: Total CA+CDE 2020 | P1: CA à fin MAI 2019 N-1 | S1: Cde MAI 2019 N-1 (Livr. 30/09/2019) | V1: total CA+CDE 2019
A2: Code client | B2: Rank | D2: CP | E2: CLIENT.PAYS | F2: Montant | G2: Marge | H2: % CA | I2: Montant | J2: Marge | K2: % marge | L2: Montant | M2: Marge | N2: % marge | P2: Montant | Q2: Marge | R2: % marge | S2: Montant | T2: Marge | U2: % marge
A3: CLASSE | B3: 1 | C3: LASSE | D3: 92230 | E3: FR | F3: 395170 | G3: 284333 | H3: 0.71952071 | I3: 0 | J3: 0 | K3: 0 | L3: 0 | M3: 0 | N3: 0 | O3: =I3+L3 -> 0 | P3: 277411 | Q3: 200159 | R3: =Q3/P3 -> 0.7215251 | S3: 119079 | T3: 85971 | U3: =T3/S3 -> 0.72196609 | V3: =P3+S3 -> 396490
A4: CMERSEN | B4: 2 | C4: MERSEN France Gennevilliers SAS | D4: 92231 | E4: FR | F4: 192560 | G4: 35167.96 | H4: 0.18263378 | I4: 0 | J4: 0 | K4: 0 | L4: 0 | M4: 0 | N4: 0 | O4: =I4+L4 -> 0 | P4: 0 | Q4: 0 | R4: 0 | S4: 189552 | T4: 33552 | U4: =T4/S4 -> 0.17700684 | V4: =P4+S4 -> 189552
A5: CRSA | B5: 3 | C5: RSA LE RUBIS | D5: 38560 | E5: FR | F5: 129684.4 | G5: 74497 | H5: 0.57444843 | I5: 146202.6 | J5: 79026.6 | K5: =J5/I5 -> 0.54052801 | L5: 82800 | M5: 37851.2 | N5: =M5/L5 -> 0.4571401 | O5: =I5+L5 -> 229002.6 | P5: 75978 | Q5: 44354.32 | R5: =Q5/P5 -> 0.58377846 | S5: 86400 | T5: 47172 | U5: =T5/S5 -> 0.54597222 | V5: =P5+S5 -> 162378
A6: CCLARANO | B6: 4 | C6: CLARANOR | D6: 84916 | E6: FR | F6: 83131.7 | G6: 53330.44 | H6: 0.6415175 | I6: 46666.3 | J6: 28366.19 | K6: =J6/I6 -> 0.6078517 | L6: 15848.4 | M6: 10630.15 | N6: =M6/L6 -> 0.67073963 | O6: =I6+L6 -> 62514.7 | P6: 56059.1 | Q6: 35115.29 | R6: =Q6/P6 -> 0.62639768 | S6: 12053.6 | T6: 8640.67 | U6: =T6/S6 -> 0.71685389 | V6: =P6+S6 -> 68112.7
A7: CETIOREX | B7: 5 | C7: OREXAD ETI CARRIERE | D7: 76065 | E7: FR | F7: 68465.6 | G7: 48113.2 | H7: 0.70273539 | I7: 33965 | J7: 23194.08 | K7: =J7/I7 -> 0.68288179 | L7: 0 | M7: 0 | N7: 0 | O7: =I7+L7 -> 33965 | P7: 32545.1 | Q7: 22993.05 | R7: =Q7/P7 -> 0.70649806 | S7: 16062 | T7: 11375.73 | U7: =T7/S7 -> 0.7082387 | V7: =P7+S7 -> 48607.1
A8: CMETAUXS | B8: 6 | C8: METAUX SPECIAUX / MSSA S.A.S. | D8: 73600 | E8: FR | F8: 51649 | G8: 38946.37 | H8: 0.75405855 | I8: 32007 | J8: 20824.85 | K8: =J8/I8 -> 0.65063424 | L8: 13035 | M8: 3196.11 | N8: =M8/L8 -> 0.24519448 | O8: =I8+L8 -> 45042 | P8: 21794 | Q8: 18185.47 | R8: =Q8/P8 -> 0.83442553 | S8: 28835 | T8: 20092 | U8: =T8/S8 -> 0.69679209 | V8: =P8+S8 -> 50629
A9: CPHOTOWA | B9: 7 | C9: PHOTOWATT | D9: 38300 | E9: FR | F9: 51232 | G9: 28164 | H9: 0.54973454 | I9: 11240 | J9: 6178 | K9: =J9/I9 -> 0.54964413 | L9: 22480 | M9: 11380 | N9: =M9/L9 -> 0.50622776 | O9: =I9+L9 -> 33720 | P9: 28752 | Q9: 15808 | R9: =Q9/P9 -> 0.54980523 | S9: 22480 | T9: 12356 | U9: =T9/S9 -> 0.54964413 | V9: =P9+S9 -> 51232
A10: CNIKHEF | B10: 8 | C10: NIKHEF | E10: NL | F10: 42624 | G10: 21312 | H10: 0.5 | I10: 0 | J10: 0 | K10: 0 | L10: 0 | M10: 0 | N10: 0 | O10: =I10+L10 -> 0 | P10: 15492.96 | Q10: 15492.96 | R10: =Q10/P10 -> 1 | S10: 42624 | T10: 21312 | U10: =T10/S10 -> 0.5 | V10: =P10+S10 -> 58116.96
A11: CSTGOB06 | B11: 9 | C11: SAINT-GOBAIN LUMILOG | D11: 06220 | E11: FR | F11: 34833.9 | G11: 34746.86 | H11: 0.99750128 | I11: 43248.1 | J11: -8504.9 | K11: =J11/I11 -> -0.19665373 | L11: 0 | M11: 0 | N11: 0 | O11: =I11+L11 -> 43248.1 | P11: 34833.9 | Q11: 34746.86 | R11: =Q11/P11 -> 0.99750128 | S11: 0 | T11: 0 | U11: 0 | V11: =P11+S11 -> 34833.9
A12: CMICROCE | B12: 10 | C12: MICROCERTEC | D12: 77090 | E12: FR | F12: 34528.1 | G12: 19594.78 | H12: 0.56750241 | I12: 18190.5 | J12: 11273.33 | K12: =J12/I12 -> 0.61973723 | L12: 4872 | M12: 3948 | N12: =M12/L12 -> 0.81034483 | O12: =I12+L12 -> 23062.5 | P12: 21911.6 | Q12: 10792.86 | R12: =Q12/P12 -> 0.49256376 | S12: 12921.5 | T12: 9655.35 | U12: =T12/S12 -> 0.74723136 | V12: =P12+S12 -> 34833.1
A13: CSOLARON | B13: 11 | C13: SOLARONICS | D13: 59428 | E13: FR | F13: 32878.6 | G13: 17773.55 | H13: 0.54058111 | I13: 31043.2 | J13: 22166.2 | K13: =J13/I13 -> 0.71404366 | L13: 0 | M13: 0 | N13: 0 | O13: =I13+L13 -> 31043.2 | P13: 837 | Q13: 605.72 | R13: =Q13/P13 -> 0.72367981 | S13: 23320 | T13: 11309 | U13: =T13/S13 -> 0.48494854 | V13: =P13+S13 -> 24157
A14: CAET | B14: 12 | C14: AET TECHNOLOGIES | D14: 38240 | E14: FR | F14: 31453.2 | G14: 17722.58 | H14: 0.56345873 | I14: 9451 | J14: 6039.13 | K14: =J14/I14 -> 0.63899376 | L14: 13330 | M14: 7639.9 | N14: =M14/L14 -> 0.57313578 | O14: =I14+L14 -> 22781 | P14: 18389.7 | Q14: 11607.73 | R14: =Q14/P14 -> 0.63120823 | S14: 5456 | T14: 2959.37 | U14: =T14/S14 -> 0.54240652 | V14: =P14+S14 -> 23845.7
A15: CLMA | B15: 13 | C15: EZUS LYON - LMA | D15: 69622 | E15: FR | F15: 29780 | G15: 24687.24 | H15: 0.82898724 | I15: 0 | J15: 0 | K15: 0 | L15: 0 | M15: 0 | N15: 0 | O15: =I15+L15 -> 0 | P15: 16502 | Q15: 11409.24 | R15: =Q15/P15 -> 0.69138529 | S15: 0 | T15: 0 | U15: 0 | V15: =P15+S15 -> 16502
A16: CEDIVER | B16: 14 | C16: EDIVER | D16: 77510 | E16: FR | F16: 26837.5 | G16: 16346.54 | H16: 0.60909325 | I16: 10179.71 | J16: 6175.67 | K16: =J16/I16 -> 0.60666463 | L16: 15598 | M16: 9550.6 | N16: =M16/L16 -> 0.61229645 | O16: =I16+L16 -> 25777.71 | P16: 15366.5 | Q16: 9471.88 | R16: =Q16/P16 -> 0.61639801 | S16: 13216.5 | T16: 7936.25 | U16: =T16/S16 -> 0.60048046 | V16: =P16+S16 -> 28583
A17: CARKEMA | B17: 15 | C17: ARKEMA | D17: 92700 | E17: FR | F17: 25329 | G17: 10044.86 | H17: 0.39657547 | I17: 22156 | J17: 9301.14 | K17: =J17/I17 -> 0.41980231 | L17: 0 | M17: 0 | N17: 0 | O17: =I17+L17 -> 22156 | P17: 19782 | Q17: 7222.86 | R17: =Q17/P17 -> 0.36512284 | S17: 16625 | T17: 7470.81 | U17: =T17/S17 -> 0.44937203 | V17: =P17+S17 -> 36407
A18: CVERREET | B18: 16 | C18: Verre et Quartz Technologies | D18: 77600 | E18: FR | F18: 23102.5 | G18: 17312.45 | H18: 0.74937561 | I18: 29955 | J18: 23425 | K18: =J18/I18 -> 0.78200634 | L18: 7988 | M18: 3352 | N18: =M18/L18 -> 0.41962944 | O18: =I18+L18 -> 37943 | P18: 15114.5 | Q18: 11312.45 | R18: =Q18/P18 -> 0.74845016 | S18: 7988 | T18: 6000 | U18: =T18/S18 -> 0.75112669 | V18: =P18+S18 -> 23102.5
A19: CNEYCO | B19: 17 | C19: NEYCO | D19: 92170 | E19: FR | F19: 19021.5 | G19: 15563 | H19: 0.81817943 | I19: 0 | J19: 0 | K19: 0 | L19: 6425 | M19: 5276 | N19: =M19/L19 -> 0.82116732 | O19: =I19+L19 -> 6425 | P19: 12725 | Q19: 10415.5 | R19: =Q19/P19 -> 0.81850688 | S19: 0 | T19: 0 | U19: 0 | V19: =P19+S19 -> 12725
A20: CISL | B20: 18 | C20: ISL SAS | D20: 14653 | E20: FR | F20: 18811.5 | G20: 17297.97 | H20: 0.9195423 | I20: 8680 | J20: 7960.58 | K20: =J20/I20 -> 0.91711751 | L20: 983.5 | M20: 852.2 | N20: =M20/L20 -> 0.8664972 | O20: =I20+L20 -> 9663.5 | P20: 13939.5 | Q20: 12783.57 | R20: =Q20/P20 -> 0.91707522 | S20: 0 | T20: 0 | U20: 0 | V20: =P20+S20 -> 13939.5
A21: CSTAE | B21: 19 | C21: STAE | D21: 92160 | E21: FR | F21: 18555 | G21: 11801.28 | H21: 0.63601617 | I21: 37723 | J21: 23197.5 | K21: =J21/I21 -> 0.61494314 | L21: 35640 | M21: 19662 | N21: =M21/L21 -> 0.5516835 | O21: =I21+L21 -> 73363 | P21: 7253 | Q21: 4563.96 | R21: =Q21/P21 -> 0.62925134 | S21: 11302 | T21: 7237.32 | U21: =T21/S21 -> 0.64035746 | V21: =P21+S21 -> 18555
A22: CSEMILAB | B22: 20 | C22: SEMILAB | D22: 1117 | E22: HU | F22: 16440 | G22: 13875.2 | H22: 0.84399027 | I22: 1370 | J22: 969.6 | K22: =J22/I22 -> 0.70773723 | L22: 0 | M22: 0 | N22: 0 | O22: =I22+L22 -> 1370 | P22: 0 | Q22: 0 | R22: 0 | S22: 9590 | T22: 8017.2 | U22: =T22/S22 -> 0.83599583 | V22: =P22+S22 -> 9590
A23: CFLASHLA | B23: 21 | C23: FLASHLAMPS Verre & Quartz | D23: 93147 | E23: FR | F23: 14734.5 | G23: 10554.48 | H23: 0.7163107 | I23: 5150 | J23: 3785 | K23: =J23/I23 -> 0.73495146 | L23: 0 | M23: 0 | N23: 0 | O23: =I23+L23 -> 5150 | P23: 10409.5 | Q23: 7546.48 | R23: =Q23/P23 -> 0.72496085 | S23: 4579 | T23: 3262 | U23: =T23/S23 -> 0.71238262 | V23: =P23+S23 -> 14988.5
A24: CVEGATEC | B24: 22 | C24: VEGATEC | D24: 13106 | E24: FR | F24: 11558 | G24: 7046.66 | H24: 0.60967815 | I24: 0 | J24: 0 | K24: 0 | L24: 0 | M24: 0 | N24: 0 | O24: =I24+L24 -> 0 | P24: 11558 | Q24: 7046.66 | R24: =Q24/P24 -> 0.60967815 | S24: 0 | T24: 0 | U24: 0 | V24: =P24+S24 -> 11558
A25: CTECHNOG | B25: 23 | C25: TECHNOGENIA | D25: 74410 | E25: FR | F25: 11457.7 | G25: 8494.16 | H25: 0.74134949 | I25: 0 | J25: 0 | K25: 0 | L25: 0 | M25: 0 | N25: 0 | O25: =I25+L25 -> 0 | P25: 9683.7 | Q25: 7225.13 | R25: =Q25/P25 -> 0.74611254 | S25: 0 | T25: 0 | U25: 0 | V25: =P25+S25 -> 9683.7
A26: CNHVERRE | B26: 24 | C26: NH VERRE | D26: 34150 | E26: FR | F26: 11314.15 | G26: 6292.49 | H26: 0.55616109 | I26: 1350 | J26: 882 | K26: =J26/I26 -> 0.65333333 | L26: 0 | M26: 0 | N26: 0 | O26: =I26+L26 -> 1350 | P26: 750.5 | Q26: 656.51 | R26: =Q26/P26 -> 0.87476349 | S26: 9965 | T26: 5128.7 | U26: =T26/S26 -> 0.51467135 | V26: =P26+S26 -> 10715.5
A27: CHORIFR | B27: 25 | C27: HORIBA FRANCE SAS | D27: 91165 | E27: FR | F27: 11163 | G27: 3346 | H27: 0.29974021 | I27: 43545 | J27: 13386.3 | K27: =J27/I27 -> 0.30741302 | L27: 0 | M27: 0 | N27: 0 | O27: =I27+L27 -> 43545 | P27: 11163 | Q27: 3346 | R27: =Q27/P27 -> 0.29974021 | S27: 0 | T27: 0 | U27: 0 | V27: =P27+S27 -> 11163
A28: CVERRELA | B28: 26 | C28: VERRE LABO MULA | D28: 69120 | E28: FR | F28: 11153.9 | G28: 3886.77 | H28: 0.34846735 | I28: 5568.5 | J28: 3386.19 | K28: =J28/I28 -> 0.60809733 | L28: 0 | M28: 0 | N28: 0 | O28: =I28+L28 -> 5568.5 | P28: 2270.9 | Q28: 1390.07 | R28: =Q28/P28 -> 0.61212295 | S28: 0 | T28: 0 | U28: 0 | V28: =P28+S28 -> 2270.9
A29: CSAGEM03 | B29: 27 | C29: SAFRAN ELECTRONICS & DEFENSE | D29: 03106 | E29: FR | F29: 11060.5 | G29: 10985.6 | H29: 0.99322815 | I29: 0 | J29: 0 | K29: 0 | L29: 0 | M29: 0 | N29: 0 | O29: =I29+L29 -> 0 | P29: 11060.5 | Q29: 10985.6 | R29: =Q29/P29 -> 0.99322815 | S29: 0 | T29: 0 | U29: 0 | V29: =P29+S29 -> 11060.5
A30: CDIRTECH | B30: 28 | C30: DIRTECH | D30: 54540 | E30: FR | F30: 10950 | G30: 3792 | H30: 0.34630137 | I30: 0 | J30: 0 | K30: 0 | L30: 0 | M30: 0 | N30: 0 | O30: =I30+L30 -> 0 | P30: 10950 | Q30: 3792 | R30: =Q30/P30 -> 0.34630137 | S30: 0 | T30: 0 | U30: 0 | V30: =P30+S30 -> 10950
A31: CPLASSYS | B31: 29 | C31: PLASSYS - BESTEK SAS | D31: 91630 | E31: FR | F31: 9588 | G31: 5384.49 | H31: 0.56158636 | I31: 637 | J31: 428.89 | K31: =J31/I31 -> 0.6732967 | L31: 3115 | M31: 1742.35 | N31: =M31/L31 -> 0.55934189 | O31: =I31+L31 -> 3752 | P31: 7168 | Q31: 3869.22 | R31: =Q31/P31 -> 0.53979074 | S31: 0 | T31: 0 | U31: 0 | V31: =P31+S31 -> 7168
A32: CIXFIBER | B32: 30 | C32: IXBLUE S.A.S | D32: 22300 | E32: FR | F32: 9375 | G32: 6328.1 | H32: 0.67499733 | I32: 0 | J32: 0 | K32: 0 | L32: 0 | M32: 0 | N32: 0 | O32: =I32+L32 -> 0 | P32: 9375 | Q32: 6328.1 | R32: =Q32/P32 -> 0.67499733 | S32: 0 | T32: 0 | U32: 0 | V32: =P32+S32 -> 9375
A33: CBAIKOWS | B33: 31 | C33: BAIKOWSKI | D33: 74339 | E33: FR | F33: 9316 | G33: 7383.57 | H33: 0.7925687 | I33: 0 | J33: 0 | K33: 0 | L33: 0 | M33: 0 | N33: 0 | O33: =I33+L33 -> 0 | P33: 0 | Q33: 0 | R33: 0 | S33: 9316 | T33: 7383.57 | U33: =T33/S33 -> 0.7925687 | V33: =P33+S33 -> 9316
A34: CORSAYPH | B34: 32 | C34: ORSAY PHYSICS | D34: 13710 | E34: FR | F34: 8430 | G34: 8394.95 | H34: 0.99584223 | I34: 1595 | J34: 1583.5 | K34: =J34/I34 -> 0.99278997 | L34: 2778 | M34: 2756.4 | N34: =M34/L34 -> 0.99222462 | O34: =I34+L34 -> 4373 | P34: 7080 | Q34: 7054.6 | R34: =Q34/P34 -> 0.99641243 | S34: 0 | T34: 0 | U34: 0 | V34: =P34+S34 -> 7080
A35: CSIPALEX | B35: 33 | C35: SIPALEX | D35: 38490 | E35: FR | F35: 8365 | G35: 4634.57 | H35: 0.55404304 | I35: 0 | J35: 0 | K35: 0 | L35: 0 | M35: 0 | N35: 0 | O35: =I35+L35 -> 0 | P35: 8365 | Q35: 4634.57 | R35: =Q35/P35 -> 0.55404304 | S35: 0 | T35: 0 | U35: 0 | V35: =P35+S35 -> 8365
A36: CLOGITRA | B36: 34 | C36: LOGITRADE | D36: 91703 | E36: FR | F36: 8328 | G36: 4609.44 | H36: 0.55348703 | I36: 2244 | J36: 1528.8 | K36: =J36/I36 -> 0.68128342 | L36: 0 | M36: 0 | N36: 0 | O36: =I36+L36 -> 2244 | P36: 8328 | Q36: 4609.44 | R36: =Q36/P36 -> 0.55348703 | S36: 0 | T36: 0 | U36: 0 | V36: =P36+S36 -> 8328
A37: CIMERYS | B37: 35 | C37: Imerys Aluminates SA | D37: 38090 | E37: FR | F37: 8195 | G37: 5898.2 | H37: 0.71973154 | I37: 0 | J37: 0 | K37: 0 | L37: 0 | M37: 0 | N37: 0 | O37: =I37+L37 -> 0 | P37: 8195 | Q37: 5898.2 | R37: =Q37/P37 -> 0.71973154 | S37: 0 | T37: 0 | U37: 0 | V37: =P37+S37 -> 8195
A38: CAPERAM | B38: 36 | C38: LA MEUSIENNE | D38: 55170 | E38: FR | F38: 8147.88 | G38: 6014.45 | H38: 0.73816134 | I38: 7395 | J38: 5677.94 | K38: =J38/I38 -> 0.76780798 | L38: 0 | M38: 0 | N38: 0 | O38: =I38+L38 -> 7395 | P38: 7262.88 | Q38: 5320.32 | R38: =Q38/P38 -> 0.73253585 | S38: 0 | T38: 0 | U38: 0 | V38: =P38+S38 -> 7262.88
A39: CHERNOB | B39: 37 | C39: Heraeus SAS | D39: 91945 | E39: FR | F39: 7984 | G39: 6082.09 | H39: 0.76178482 | I39: 7085 | J39: 4748.05 | K39: =J39/I39 -> 0.67015526 | L39: 0 | M39: 0 | N39: 0 | O39: =I39+L39 -> 7085 | P39: 7074 | Q39: 5397.32 | R39: =Q39/P39 -> 0.76297993 | S39: 0 | T39: 0 | U39: 0 | V39: =P39+S39 -> 7074
A40: CSAFT | B40: 38 | C40: SAFT Bordeaux | D40: 33074 | E40: FR | F40: 7644 | G40: 7002.93 | H40: 0.91613422 | I40: 3198 | J40: 2919.8 | K40: =J40/I40 -> 0.91300813 | L40: 4070 | M40: 3702.66 | N40: =M40/L40 -> 0.90974447 | O40: =I40+L40 -> 7268 | P40: 7644 | Q40: 7002.93 | R40: =Q40/P40 -> 0.91613422 | S40: 0 | T40: 0 | U40: 0 | V40: =P40+S40 -> 7644
A41: CLMA2CNR | B41: 39 | C41: LMA | D41: 69622 | E41: FR | F41: 7130 | G41: 2720.06 | H41: 0.38149509 | I41: 0 | J41: 0 | K41: 0 | L41: 0 | M41: 0 | N41: 0 | O41: =I41+L41 -> 0 | P41: 7130 | Q41: 5794.94 | R41: =Q41/P41 -> 0.81275456 | S41: 13278 | T41: 10203.12 | U41: =T41/S41 -> 0.76842296 | V41: =P41+S41 -> 20408
A42: CINES | B42: 40 | C42: INES | D42: 73377 | E42: FR | F42: 6950 | G42: 4925 | H42: 0.70863309 | I42: 0 | J42: 0 | K42: 0 | L42: 0 | M42: 0 | N42: 0 | O42: =I42+L42 -> 0 | P42: 0 | Q42: 0 | R42: 0 | S42: 0 | T42: 0 | U42: 0 | V42: =P42+S42 -> 0
A43: CCHOPARD | B43: 41 | C43: CHOPARD | D43: 1217 | E43: CH | F43: 6843 | G43: 4950.57 | H43: 0.72345024 | I43: 0 | J43: 0 | K43: 0 | L43: 0 | M43: 0 | N43: 0 | O43: =I43+L43 -> 0 | P43: 0 | Q43: 0 | R43: 0 | S43: 1461 | T43: 1097.13 | U43: =T43/S43 -> 0.75094456 | V43: =P43+S43 -> 1461
A44: CCEAMAR | B44: 42 | C44: CEA MARCOULE | D44: 30207 | E44: FR | F44: 6520 | G44: 3794.42 | H44: 0.58196626 | I44: 0 | J44: 0 | K44: 0 | L44: 0 | M44: 0 | N44: 0 | O44: =I44+L44 -> 0 | P44: 6520 | Q44: 3794.42 | R44: =Q44/P44 -> 0.58196626 | S44: 0 | T44: 0 | U44: 0 | V44: =P44+S44 -> 6520
A45: CECAT | B45: 43 | C45: ECAT-ID | D45: 29401 | E45: FR | F45: 6277 | G45: 3670.09 | H45: 0.58468855 | I45: 5692 | J45: 3118.48 | K45: =J45/I45 -> 0.5478707 | L45: 1118 | M45: 637.64 | N45: =M45/L45 -> 0.57033989 | O45: =I45+L45 -> 6810 | P45: 2280 | Q45: 1423.21 | R45: =Q45/P45 -> 0.62421491 | S45: 602 | T45: 384.95 | U45: =T45/S45 -> 0.63945183 | V45: =P45+S45 -> 2882
A46: CFRAMATO | B46: 44 | C46: FRAMATOME SAS | D46: 92400 | E46: FR | F46: 5809 | G46: 3243 | H46: 0.55827165 | I46: 5625 | J46: 3372.5 | K46: =J46/I46 -> 0.59955556 | L46: 0 | M46: 0 | N46: 0 | O46: =I46+L46 -> 5625 | P46: 5809 | Q46: 3243 | R46: =Q46/P46 -> 0.55827165 | S46: 0 | T46: 0 | U46: 0 | V46: =P46+S46 -> 5809
A47: CCEAGRE | B47: 45 | C47: CEA GRENOBLE | D47: 38054 | E47: FR | F47: 5759 | G47: 4130.83 | H47: 0.71728251 | I47: 492.4 | J47: 334.97 | K47: =J47/I47 -> 0.68028026 | L47: 0 | M47: 0 | N47: 0 | O47: =I47+L47 -> 492.4 | P47: 3385 | Q47: 2309.2 | R47: =Q47/P47 -> 0.68218612 | S47: 112 | T47: 108.43 | U47: =T47/S47 -> 0.968125 | V47: =P47+S47 -> 3497
A48: CFICHOU | B48: 46 | C48: OPTIQUE FICHOU | D48: 94260 | E48: FR | F48: 5616 | G48: 2494.17 | H48: 0.44411859 | I48: 0 | J48: 0 | K48: 0 | L48: 0 | M48: 0 | N48: 0 | O48: =I48+L48 -> 0 | P48: 5616 | Q48: 2494.13 | R48: =Q48/P48 -> 0.44411147 | S48: 0 | T48: 0 | U48: 0 | V48: =P48+S48 -> 5616
A49: CMEDITRA | B49: 47 | C49: MEDI TRADE INTERNATIONAL | D49: 75008 | E49: FR | F49: 5290 | G49: 3518 | H49: 0.66502836 | I49: 0 | J49: 0 | K49: 0 | L49: 0 | M49: 0 | N49: 0 | O49: =I49+L49 -> 0 | P49: 5290 | Q49: 3518 | R49: =Q49/P49 -> 0.66502836 | S49: 0 | T49: 0 | U49: 0 | V49: =P49+S49 -> 5290
A50: CGEABISC | B50: 48 | C50: GEA PROCESS ENGINEERING SAS | D50: 33800 | E50: FR | F50: 5198 | G50: 4176.58 | H50: 0.8034975 | I50: 5354 | J50: 4234 | K50: =J50/I50 -> 0.79081061 | L50: 0 | M50: 0 | N50: 0 | O50: =I50+L50 -> 5354 | P50: 0 | Q50: 0 | R50: 0 | S50: 0 | T50: 0 | U50: 0 | V50: =P50+S50 -> 0
A51: CCERINPO | B51: 49 | C51: CERINNOV UNIPESSOAL | D51: 2415-614 | E51: PT | F51: 4987 | G51: 2880.28 | H51: 0.57755765 | I51: 0 | J51: 0 | K51: 0 | L51: 0 | M51: 0 | N51: 0 | O51: =I51+L51 -> 0 | P51: 0 | Q51: 0 | R51: 0 | S51: 0 | T51: 0 | U51: 0 | V51: =P51+S51 -> 0
A52: CAQS | B52: 50 | C52: Advanced Quartz Solutions | D52: 38420 | E52: FR | F52: 4923 | G52: 2519.7 | H52: 0.51182206 | I52: 0 | J52: 0 | K52: 0 | L52: 0 | M52: 0 | N52: 0 | O52: =I52+L52 -> 0 | P52: 4923 | Q52: 2519.7 | R52: =Q52/P52 -> 0.51182206 | S52: 0 | T52: 0 | U52: 0 | V52: =P52+S52 -> 4923
A53: CMICROPI | B53: 51 | C53: MICROPIERRE | D53: 25000 | E53: FR | F53: 4707.85 | G53: 3905.09 | H53: 0.8294848 | I53: 1037.21 | J53: 782.96 | K53: =J53/I53 -> 0.75487124 | L53: 0 | M53: 0 | N53: 0 | O53: =I53+L53 -> 1037.21 | P53: 4707.85 | Q53: 3905.09 | R53: =Q53/P53 -> 0.8294848 | S53: 0 | T53: 0 | U53: 0 | V53: =P53+S53 -> 4707.85
A54: CVERREEQ | B54: 52 | C54: VERRE EQUIPEMENTS | D54: 69660 | E54: FR | F54: 4704.17 | G54: 4042.94 | H54: 0.85943748 | I54: 3855.2 | J54: 3282.79 | K54: =J54/I54 -> 0.85152262 | L54: 10648.75 | M54: 5505.57 | N54: =M54/L54 -> 0.51701561 | O54: =I54+L54 -> 14503.95 | P54: 3196.07 | Q54: 2768.29 | R54: =Q54/P54 -> 0.86615437 | S54: 396.4 | T54: 330.68 | U54: =T54/S54 -> 0.83420787 | V54: =P54+S54 -> 3592.47
A55: CDISLAB | B55: 53 | C55: DISLAB | D55: 62300 | E55: FR | F55: 4661.9 | G55: 2128.66 | H55: 0.45660782 | I55: 224 | J55: 66.8 | K55: =J55/I55 -> 0.29821429 | L55: 0 | M55: 0 | N55: 0 | O55: =I55+L55 -> 224 | P55: 3773.5 | Q55: 1857.8 | R55: =Q55/P55 -> 0.49232808 | S55: 256 | T55: 94.56 | U55: =T55/S55 -> 0.369375 | V55: =P55+S55 -> 4029.5
A56: CIAAFR | B56: 54 | C56: IAA LELOUP | D56: 93200 | E56: FR | F56: 4600 | G56: 2859 | H56: 0.62152174 | I56: 0 | J56: 0 | K56: 0 | L56: 0 | M56: 0 | N56: 0 | O56: =I56+L56 -> 0 | P56: 4600 | Q56: 2859 | R56: =Q56/P56 -> 0.62152174 | S56: 0 | T56: 0 | U56: 0 | V56: =P56+S56 -> 4600
A57: CASB | B57: 55 | C57: ASB Aérospatiale Batteries | D57: 18021 | E57: FR | F57: 4490 | G57: 4047.1 | H57: 0.90135857 | I57: 8980 | J57: 8043.5 | K57: =J57/I57 -> 0.89571269 | L57: 0 | M57: 0 | N57: 0 | O57: =I57+L57 -> 8980 | P57: 4490 | Q57: 4047.1 | R57: =Q57/P57 -> 0.90135857 | S57: 0 | T57: 0 | U57: 0 | V57: =P57+S57 -> 4490
A58: CUROUEN | B58: 56 | C58: UNIVERSITE DE ROUEN | D58: 76821 | E58: FR | F58: 4012 | G58: 2255.84 | H58: 0.56227318 | I58: 0 | J58: 0 | K58: 0 | L58: 0 | M58: 0 | N58: 0 | O58: =I58+L58 -> 0 | P58: 4012 | Q58: 2255.84 | R58: =Q58/P58 -> 0.56227318 | S58: 0 | T58: 0 | U58: 0 | V58: =P58+S58 -> 4012
A59: CALFAA | B59: 57 | C59: ALFAA UV FRANCE | D59: 69390 | E59: FR | F59: 3722 | G59: 2471.27 | H59: 0.66396292 | I59: 2467.15 | J59: 1535.3 | K59: =J59/I59 -> 0.62229698 | L59: 326 | M59: 182.55 | N59: =M59/L59 -> 0.55996933 | O59: =I59+L59 -> 2793.15 | P59: 2129.2 | Q59: 1467.75 | R59: =Q59/P59 -> 0.68934342 | S59: 750 | T59: 449.9 | U59: =T59/S59 -> 0.59986667 | V59: =P59+S59 -> 2879.2
A60: CAMOS | B60: 58 | C60: AMOS | D60: 4031 | E60: BE | F60: 3586 | G60: 2152.25 | H60: 0.60018126 | I60: 0 | J60: 0 | K60: 0 | L60: 0 | M60: 0 | N60: 0 | O60: =I60+L60 -> 0 | P60: 3586 | Q60: 2152.25 | R60: =Q60/P60 -> 0.60018126 | S60: 0 | T60: 0 | U60: 0 | V60: =P60+S60 -> 3586
A61: CSOMTEC | B61: 59 | C61: SOMTEC | D61: 86130 | E61: FR | F61: 3540 | G61: 1789.69 | H61: 0.50556215 | I61: 6256 | J61: 3209.81 | K61: =J61/I61 -> 0.51307705 | L61: 0 | M61: 0 | N61: 0 | O61: =I61+L61 -> 6256 | P61: 3540 | Q61: 1789.69 | R61: =Q61/P61 -> 0.50556215 | S61: 0 | T61: 0 | U61: 0 | V61: =P61+S61 -> 3540
A62: CCOMAP | B62: 60 | C62: COMAP SA | D62: 69355 | E62: FR | F62: 3450 | G62: 1638 | H62: 0.47478261 | I62: 620 | J62: 310 | K62: =J62/I62 -> 0.5 | L62: 1240 | M62: 620 | N62: =M62/L62 -> 0.5 | O62: =I62+L62 -> 1860 | P62: 1680 | Q62: 708 | R62: =Q62/P62 -> 0.42142857 | S62: 1770 | T62: 930 | U62: =T62/S62 -> 0.52542373 | V62: =P62+S62 -> 3450
A63: CHYPERTE | B63: 61 | C63: COBHAM MICROWAVE | D63: 78340 | E63: FR | F63: 3395 | G63: 2731.17 | H63: 0.80446834 | I63: 0 | J63: 0 | K63: 0 | L63: 0 | M63: 0 | N63: 0 | O63: =I63+L63 -> 0 | P63: 3395 | Q63: 2731.17 | R63: =Q63/P63 -> 0.80446834 | S63: 0 | T63: 0 | U63: 0 | V63: =P63+S63 -> 3395
A64: CTHALE78 | B64: 62 | C64: THALES ELECTRON DEVICES | D64: 78140 | E64: FR | F64: 3366 | G64: 2274.48 | H64: 0.67572193 | I64: 0 | J64: 0 | K64: 0 | L64: 0 | M64: 0 | N64: 0 | O64: =I64+L64 -> 0 | P64: 0 | Q64: 0 | R64: 0 | S64: 3366 | T64: 2274.48 | U64: =T64/S64 -> 0.67572193 | V64: =P64+S64 -> 3366
A65: CAVITEC | B65: 63 | C65: AVITEC ART ET TECHNIQUE | D65: 31770 | E65: FR | F65: 3230.9 | G65: 2568.18 | H65: 0.79488068 | I65: 0 | J65: 0 | K65: 0 | L65: 0 | M65: 0 | N65: 0 | O65: =I65+L65 -> 0 | P65: 2882 | Q65: 2284.6 | R65: =Q65/P65 -> 0.79271339 | S65: 0 | T65: 0 | U65: 0 | V65: =P65+S65 -> 2882
A66: CCNRS690 | B66: 64 | C66: CNRS Lyon | D66: 69000 | E66: FR | F66: 3157 | G66: 2719.92 | H66: 0.86155211 | I66: 0 | J66: 0 | K66: 0 | L66: 0 | M66: 0 | N66: 0 | O66: =I66+L66 -> 0 | P66: 3157 | Q66: 2719.92 | R66: =Q66/P66 -> 0.86155211 | S66: 0 | T66: 0 | U66: 0 | V66: =P66+S66 -> 3157
A67: CVERRESV | B67: 65 | C67: VERRES VAGNER | D67: 31100 | E67: FR | F67: 2837.5 | G67: 1907.5 | H67: 0.6722467 | I67: 1668.45 | J67: 1198.09 | K67: =J67/I67 -> 0.71808565 | L67: 0 | M67: 0 | N67: 0 | O67: =I67+L67 -> 1668.45 | P67: 2383.7 | Q67: 1534.95 | R67: =Q67/P67 -> 0.6439359 | S67: 0 | T67: 0 | U67: 0 | V67: =P67+S67 -> 2383.7
A68: CCERADEL | B68: 66 | C68: CERADEL INDUSTRIES | D68: 93531 | E68: FR | F68: 2785 | G68: 1336.74 | H68: 0.47997846 | I68: 0 | J68: 0 | K68: 0 | L68: 0 | M68: 0 | N68: 0 | O68: =I68+L68 -> 0 | P68: 2785 | Q68: 1336.74 | R68: =Q68/P68 -> 0.47997846 | S68: 0 | T68: 0 | U68: 0 | V68: =P68+S68 -> 2785
A69: CCNRS920 | B69: 67 | C69: CNRS 92 | D69: 92195 | E69: FR | F69: 2775 | G69: 1905 | H69: 0.68648649 | I69: 0 | J69: 0 | K69: 0 | L69: 0 | M69: 0 | N69: 0 | O69: =I69+L69 -> 0 | P69: 2775 | Q69: 1905 | R69: =Q69/P69 -> 0.68648649 | S69: 0 | T69: 0 | U69: 0 | V69: =P69+S69 -> 2775
A70: CNOVARES | B70: 68 | C70: NOVARES FRANCE | D70: 01580 | E70: FR | F70: 2730 | G70: 2054.3 | H70: 0.75249084 | I70: 0 | J70: 0 | K70: 0 | L70: 0 | M70: 0 | N70: 0 | O70: =I70+L70 -> 0 | P70: 0 | Q70: 0 | R70: 0 | S70: 0 | T70: 0 | U70: 0 | V70: =P70+S70 -> 0
A71: C2MB | B71: 69 | C71: 2MB Distribution | D71: 35532 | E71: FR | F71: 2710.5 | G71: 2425.42 | H71: 0.89482383 | I71: 0 | J71: 0 | K71: 0 | L71: 0 | M71: 0 | N71: 0 | O71: =I71+L71 -> 0 | P71: 2710.5 | Q71: 2425.42 | R71: =Q71/P71 -> 0.89482383 | S71: 0 | T71: 0 | U71: 0 | V71: =P71+S71 -> 2710.5
A72: CCORNING | B72: 70 | C72: CORNING | D72: 77211 | E72: FR | F72: 2580 | G72: 1694.2 | H72: 0.65666667 | I72: 0 | J72: 0 | K72: 0 | L72: 0 | M72: 0 | N72: 0 | O72: =I72+L72 -> 0 | P72: 0 | Q72: 0 | R72: 0 | S72: 0 | T72: 0 | U72: 0 | V72: =P72+S72 -> 0
A73: CHALLUCE | B73: 71 | C73: HalluCeram | D73: 62156 | E73: FR | F73: 2580 | G73: 2326 | H73: 0.90155039 | I73: 1310 | J73: 1170 | K73: =J73/I73 -> 0.89312977 | L73: 0 | M73: 0 | N73: 0 | O73: =I73+L73 -> 1310 | P73: 1270 | Q73: 1143 | R73: =Q73/P73 -> 0.9 | S73: 0 | T73: 0 | U73: 0 | V73: =P73+S73 -> 1270
A74: CCOMADUR | B74: 72 | C74: COMADUR SA | D74: 2400 | E74: CH | F74: 2510 | G74: 1877.3 | H74: 0.74792829 | I74: 0 | J74: 0 | K74: 0 | L74: 0 | M74: 0 | N74: 0 | O74: =I74+L74 -> 0 | P74: 2510 | Q74: 1877.3 | R74: =Q74/P74 -> 0.74792829 | S74: 0 | T74: 0 | U74: 0 | V74: =P74+S74 -> 2510
A75: CSTGOB77 | B75: 73 | C75: SAINT GOBAIN CRISTAUX ET DETECTEURS | D75: 77140 | E75: FR | F75: 2510 | G75: 1105.55 | H75: 0.44045817 | I75: 0 | J75: 0 | K75: 0 | L75: 0 | M75: 0 | N75: 0 | O75: =I75+L75 -> 0 | P75: 2510 | Q75: 1105.55 | R75: =Q75/P75 -> 0.44045817 | S75: 0 | T75: 0 | U75: 0 | V75: =P75+S75 -> 2510
A76: CSEGAULT | B76: 74 | C76: SEGAULT | D76: 91540 | E76: FR | F76: 2370 | G76: 1389 | H76: 0.58607595 | I76: 0 | J76: 0 | K76: 0 | L76: 0 | M76: 0 | N76: 0 | O76: =I76+L76 -> 0 | P76: 2370 | Q76: 1389 | R76: =Q76/P76 -> 0.58607595 | S76: 0 | T76: 0 | U76: 0 | V76: =P76+S76 -> 2370
A77: CTHALE83 | B77: 75 | C77: THALES DMS - SITE SOPHIA | D77: 83460 | E77: FR | F77: 2310 | G77: 1022 | H77: 0.44242424 | I77: 0 | J77: 0 | K77: 0 | L77: 0 | M77: 0 | N77: 0 | O77: =I77+L77 -> 0 | P77: 2310 | Q77: 1022 | R77: =Q77/P77 -> 0.44242424 | S77: 0 | T77: 0 | U77: 0 | V77: =P77+S77 -> 2310
A78: CINSIDIX | B78: 76 | C78: Insidix | D78: 38180 | E78: FR | F78: 2181 | G78: 1545.24 | H78: 0.70850069 | I78: 0 | J78: 0 | K78: 0 | L78: 0 | M78: 0 | N78: 0 | O78: =I78+L78 -> 0 | P78: 2181 | Q78: 1545.24 | R78: =Q78/P78 -> 0.70850069 | S78: 0 | T78: 0 | U78: 0 | V78: =P78+S78 -> 2181
A79: CRAESCH | B79: 77 | C79: Raesch Quarz | E79: DE | F79: 2150 | G79: 2150 | H79: 1 | I79: 0 | J79: 0 | K79: 0 | L79: 0 | M79: 0 | N79: 0 | O79: =I79+L79 -> 0 | P79: 0 | Q79: 0 | R79: 0 | S79: 0 | T79: 0 | U79: 0 | V79: =P79+S79 -> 0
A80: CICCMO | B80: 78 | C80: ICMMO - Université Paris Sud | D80: 91405 | E80: FR | F80: 2140 | G80: 1821.9 | H80: 0.85135514 | I80: 0 | J80: 0 | K80: 0 | L80: 0 | M80: 0 | N80: 0 | O80: =I80+L80 -> 0 | P80: 1340 | Q80: 1060.2 | R80: =Q80/P80 -> 0.79119403 | S80: 0 | T80: 0 | U80: 0 | V80: =P80+S80 -> 1340
A81: CAMVALOR | B81: 79 | C81: AMVALOR | D81: 75013 | E81: FR | F81: 2070 | G81: 1840.2 | H81: 0.88898551 | I81: 0 | J81: 0 | K81: 0 | L81: 468 | M81: 450.9 | N81: =M81/L81 -> 0.96346154 | O81: =I81+L81 -> 468 | P81: 0 | Q81: 0 | R81: 0 | S81: 0 | T81: 0 | U81: 0 | V81: =P81+S81 -> 0
A82: CGERMITE | B82: 80 | C82: GERMITEC | D82: 94200 | E82: FR | F82: 2010 | G82: 1371.6 | H82: 0.68238806 | I82: 2240 | J82: 868.65 | K82: =J82/I82 -> 0.38779018 | L82: 0 | M82: 0 | N82: 0 | O82: =I82+L82 -> 2240 | P82: 2010 | Q82: 1371.6 | R82: =Q82/P82 -> 0.68238806 | S82: 0 | T82: 0 | U82: 0 | V82: =P82+S82 -> 2010
A83: CELECTRO | B83: 81 | C83: Electronique du Mazet | D83: 43520 | E83: FR | F83: 1947 | G83: 1025.86 | H83: 0.52689266 | I83: 0 | J83: 0 | K83: 0 | L83: 0 | M83: 0 | N83: 0 | O83: =I83+L83 -> 0 | P83: 0 | Q83: 0 | R83: 0 | S83: 0 | T83: 0 | U83: 0 | V83: =P83+S83 -> 0
A84: COPTSYS | B84: 82 | C84: OPTSYS | D84: 42007 | E84: FR | F84: 1865.7 | G84: 1865.7 | H84: 1 | I84: 4281.3 | J84: 867.3 | K84: =J84/I84 -> 0.20257866 | L84: 0 | M84: 0 | N84: 0 | O84: =I84+L84 -> 4281.3 | P84: 0 | Q84: 0 | R84: 0 | S84: 0 | T84: 0 | U84: 0 | V84: =P84+S84 -> 0
A85: CENS6900 | B85: 83 | C85: Ecole Normale Supérieure de Lyon | D85: 69342 | E85: FR | F85: 1709 | G85: 1049 | H85: 0.61380925 | I85: 1830 | J85: 1567.6 | K85: =J85/I85 -> 0.85661202 | L85: 0 | M85: 0 | N85: 0 | O85: =I85+L85 -> 1830 | P85: 1709 | Q85: 1049 | R85: =Q85/P85 -> 0.61380925 | S85: 0 | T85: 0 | U85: 0 | V85: =P85+S85 -> 1709
A86: CBOBE | B86: 84 | C86: BOBE | D86: 77140 | E86: FR | F86: 1692.5 | G86: 1258.79 | H86: 0.74374594 | I86: 0 | J86: 0 | K86: 0 | L86: 0 | M86: 0 | N86: 0 | O86: =I86+L86 -> 0 | P86: 621 | Q86: 467.58 | R86: =Q86/P86 -> 0.75294686 | S86: 472 | T86: 332.83 | U86: =T86/S86 -> 0.70514831 | V86: =P86+S86 -> 1093
A87: CULYON | B87: 85 | C87: UNIVERSITE DE LYON | D87: 69622 | E87: FR | F87: 1608 | G87: 1233.72 | H87: 0.76723881 | I87: 0 | J87: 0 | K87: 0 | L87: 0 | M87: 0 | N87: 0 | O87: =I87+L87 -> 0 | P87: 1608 | Q87: 1233.72 | R87: =Q87/P87 -> 0.76723881 | S87: 0 | T87: 0 | U87: 0 | V87: =P87+S87 -> 1608
A88: CSILICES | B88: 86 | C88: SILICE SAND | D88: 34070 | E88: FR | F88: 1569.6 | G88: 1252.18 | H88: 0.79777013 | I88: 0 | J88: 0 | K88: 0 | L88: 0 | M88: 0 | N88: 0 | O88: =I88+L88 -> 0 | P88: 1569.6 | Q88: 1252.18 | R88: =Q88/P88 -> 0.79777013 | S88: 0 | T88: 0 | U88: 0 | V88: =P88+S88 -> 1569.6
A89: CHIGHTEC | B89: 87 | C89: HIGH TECH CERAM | D89: 77140 | E89: FR | F89: 1556.8 | G89: 1218.6 | H89: 0.78275951 | I89: 0 | J89: 0 | K89: 0 | L89: 1409.44 | M89: 974.51 | N89: =M89/L89 -> 0.69141645 | O89: =I89+L89 -> 1409.44 | P89: 0 | Q89: 0 | R89: 0 | S89: 0 | T89: 0 | U89: 0 | V89: =P89+S89 -> 0
A90: CSALAMAN | B90: 88 | C90: SALAMANDER | D90: 91090 | E90: FR | F90: 1505 | G90: 1368.95 | H90: 0.90960133 | I90: 0 | J90: 0 | K90: 0 | L90: 0 | M90: 0 | N90: 0 | O90: =I90+L90 -> 0 | P90: 1505 | Q90: 1368.95 | R90: =Q90/P90 -> 0.90960133 | S90: 0 | T90: 0 | U90: 0 | V90: =P90+S90 -> 1505
A91: CCARMESA | B91: 89 | C91: CARMEUSE SA | D91: 5300 | E91: BE | F91: 1460 | G91: 1253.9 | H91: 0.85883562 | I91: 6600 | J91: 5560 | K91: =J91/I91 -> 0.84242424 | L91: 0 | M91: 0 | N91: 0 | O91: =I91+L91 -> 6600 | P91: 0 | Q91: 0 | R91: 0 | S91: 0 | T91: 0 | U91: 0 | V91: =P91+S91 -> 0
A92: CALEDIA | B92: 90 | C92: ALEDIA | D92: 38054 | E92: FR | F92: 1450 | G92: 1000 | H92: 0.68965517 | I92: 0 | J92: 0 | K92: 0 | L92: 0 | M92: 0 | N92: 0 | O92: =I92+L92 -> 0 | P92: 1450 | Q92: 1000 | R92: =Q92/P92 -> 0.68965517 | S92: 0 | T92: 0 | U92: 0 | V92: =P92+S92 -> 1450
A93: CEMSE | B93: 91 | C93: ECOLE DES MINES | D93: 42023 | E93: FR | F93: 1398 | G93: 657 | H93: 0.46995708 | I93: 3800 | J93: 2780 | K93: =J93/I93 -> 0.73157895 | L93: 0 | M93: 0 | N93: 0 | O93: =I93+L93 -> 3800 | P93: 0 | Q93: 0 | R93: 0 | S93: 0 | T93: 0 | U93: 0 | V93: =P93+S93 -> 0
A94: CTAGHEUE | B94: 92 | C94: TAG HEUER | D94: 2300 | E94: CH | F94: 1379.5 | G94: 1289.18 | H94: 0.934527 | I94: 0 | J94: 0 | K94: 0 | L94: 0 | M94: 0 | N94: 0 | O94: =I94+L94 -> 0 | P94: 1379.5 | Q94: 1289.18 | R94: =Q94/P94 -> 0.934527 | S94: 0 | T94: 0 | U94: 0 | V94: =P94+S94 -> 1379.5
A95: CCEASAC | B95: 93 | C95: CEA SACLAY | D95: 91191 | E95: FR | F95: 1375 | G95: 1274.65 | H95: 0.92701818 | I95: 100 | J95: 95.84 | K95: =J95/I95 -> 0.9584 | L95: 0 | M95: 0 | N95: 0 | O95: =I95+L95 -> 100 | P95: 1375 | Q95: 1274.65 | R95: =Q95/P95 -> 0.92701818 | S95: 0 | T95: 0 | U95: 0 | V95: =P95+S95 -> 1375
A96: CTREFFLE | B96: 94 | C96: TREFFLER PRODUCTION | D96: 69800 | E96: FR | F96: 1325 | G96: 565 | H96: 0.42641509 | I96: 0 | J96: 0 | K96: 0 | L96: 0 | M96: 0 | N96: 0 | O96: =I96+L96 -> 0 | P96: 0 | Q96: 0 | R96: 0 | S96: 0 | T96: 0 | U96: 0 | V96: =P96+S96 -> 0
A97: CAEE | B97: 95 | C97: A.E.E. | D97: 06510 | E97: FR | F97: 1296 | G97: 840.6 | H97: 0.64861111 | I97: 0 | J97: 0 | K97: 0 | L97: 0 | M97: 0 | N97: 0 | O97: =I97+L97 -> 0 | P97: 576 | Q97: 348.3 | R97: =Q97/P97 -> 0.6046875 | S97: 0 | T97: 0 | U97: 0 | V97: =P97+S97 -> 576
A98: CEPFL | B98: 96 | C98: ECOLE POLYTECH. FED. LAUSANNE | D98: 1015 | E98: CH | F98: 1290 | G98: 1283.6 | H98: 0.99503876 | I98: 135 | J98: 128.5 | K98: =J98/I98 -> 0.95185185 | L98: 0 | M98: 0 | N98: 0 | O98: =I98+L98 -> 135 | P98: 1150 | Q98: 1150 | R98: =Q98/P98 -> 1 | S98: 0 | T98: 0 | U98: 0 | V98: =P98+S98 -> 1150
A99: CGUERLAI | B99: 97 | C99: GUERLAIN | D99: 28000 | E99: FR | F99: 1254 | G99: 768 | H99: 0.61244019 | I99: 0 | J99: 0 | K99: 0 | L99: 0 | M99: 0 | N99: 0 | O99: =I99+L99 -> 0 | P99: 1254 | Q99: 768 | R99: =Q99/P99 -> 0.61244019 | S99: 0 | T99: 0 | U99: 0 | V99: =P99+S99 -> 1254
A100: CSANODEV | B100: 98 | C100: SANODEV | D100: 87069 | E100: FR | F100: 1248 | G100: 993.76 | H100: 0.79628205 | I100: 0 | J100: 0 | K100: 0 | L100: 0 | M100: 0 | N100: 0 | O100: =I100+L100 -> 0 | P100: 616 | Q100: 489.44 | R100: =Q100/P100 -> 0.79454545 | S100: 632 | T100: 504.32 | U100: =T100/S100 -> 0.79797468 | V100: =P100+S100 -> 1248
...
