Workbook

Sheet Feuil1
A2: Date | B2: Segment | C2: Statut | D2: Acteur | E2: Nom | F2: Rank 2019 | G2: Tâches | H2: Détail | I2: Temps | J2: Total
A3: 44007 | B3: Commercial | C3: Client | D3: CAET | E3: =VLOOKUP(D3,BASE!$A$3:$D$621,3,0) -> AET TECHNOLOGIES | F3: =VLOOKUP(D3,BASE!$A$3:$D$621,2,0) -> 12 | G3: Devis | H3: DDP - David et Heraeus | I3: 0.0034722222
A4: 44007 | B4: Commercial | C4: Prospect | D4: CEDIVER | E4: =VLOOKUP(D4,BASE!$A$3:$D$621,3,0) -> EDIVER | F4: =VLOOKUP(D4,BASE!$A$3:$D$621,2,0) -> 14 | G4: Devis | H4: Suite devis 1276 Réception DDP Clarification technique tél Avec le client qui va envoyer un plan pour le tube. | I4: 0.013194444
A5: 44007 | B5: Commercial | C5: Prospect | D5: CARKEMA | E5: =VLOOKUP(D5,BASE!$A$3:$D$621,3,0) -> ARKEMA | F5: =VLOOKUP(D5,BASE!$A$3:$D$621,2,0) -> 15 | G5: Technique | H5: Réalisation plan panier avec trou | I5: 0.015972222

Sheet BASE
C1: CLIENT | F1: CA à fin Sept N 2019 | I1: CA à fin MAI N 2020 | L1: Cde 2020 (livr. 30/09/2020) | O1: Total CA+CDE 2020 | P1: CA à fin MAI 2019 N-1 | S1: Cde MAI 2019 N-1 (Livr. 30/09/2019) | V1: total CA+CDE 2019
A2: Code client | B2: Rank | D2: CP | E2: CLIENT.PAYS | F2: Montant | G2: Marge | H2: % CA | I2: Montant | J2: Marge | K2: % marge | L2: Montant | M2: Marge | N2: % marge | P2: Montant | Q2: Marge | R2: % marge | S2: Montant | T2: Marge | U2: % marge
A3: CLASSE | B3: 1 | C3: LASSE | D3: 92230 | E3: FR | F3: 395170 | G3: 284333 | H3: 0.71952071 | I3: 0 | J3: 0 | K3: 0 | L3: 0 | M3: 0 | N3: 0 | O3: =I3+L3 -> 0 | P3: 277411 | Q3: 200159 | R3: =Q3/P3 -> 0.7215251 | S3: 119079 | T3: 85971 | U3: =T3/S3 -> 0.72196609 | V3: =P3+S3 -> 396490
A4: CMERSEN | B4: 2 | C4: MERSEN France Gennevilliers SAS | D4: 92231 | E4: FR | F4: 192560 | G4: 35167.96 | H4: 0.18263378 | I4: 0 | J4: 0 | K4: 0 | L4: 0 | M4: 0 | N4: 0 | O4: =I4+L4 -> 0 | P4: 0 | Q4: 0 | R4: 0 | S4: 189552 | T4: 33552 | U4: =T4/S4 -> 0.17700684 | V4: =P4+S4 -> 189552
A5: CRSA | B5: 3 | C5: RSA LE RUBIS | D5: 38560 | E5: FR | F5: 129684.4 | G5: 74497 | H5: 0.57444843 | I5: 146202.6 | J5: 79026.6 | K5: =J5/I5 -> 0.54052801 | L5: 82800 | M5: 37851.2 | N5: =M5/L5 -> 0.4571401 | O5: =I5+L5 -> 229002.6 | P5: 75978 | Q5: 44354.32 | R5: =Q5/P5 -> 0.58377846 | S5: 86400 | T5: 47172 | U5: =T5/S5 -> 0.54597222 | V5: =P5+S5 -> 162378
A6: CCLARANO | B6: 4 | C6: CLARANOR | D6: 84916 | E6: FR | F6: 83131.7 | G6: 53330.44 | H6: 0.6415175 | I6: 46666.3 | J6: 28366.19 | K6: =J6/I6 -> 0.6078517 | L6: 15848.4 | M6: 10630.15 | N6: =M6/L6 -> 0.67073963 | O6: =I6+L6 -> 62514.7 | P6: 56059.1 | Q6: 35115.29 | R6: =Q6/P6 -> 0.62639768 | S6: 12053.6 | T6: 8640.67 | U6: =T6/S6 -> 0.71685389 | V6: =P6+S6 -> 68112.7
A7: CETIOREX | B7: 5 | C7: OREXAD ETI CARRIERE | D7: 76065 | E7: FR | F7: 68465.6 | G7: 48113.2 | H7: 0.70273539 | I7: 33965 | J7: 23194.08 | K7: =J7/I7 -> 0.68288179 | L7: 0 | M7: 0 | N7: 0 | O7: =I7+L7 -> 33965 | P7: 32545.1 | Q7: 22993.05 | R7: =Q7/P7 -> 0.70649806 | S7: 16062 | T7: 11375.73 | U7: =T7/S7 -> 0.7082387 | V7: =P7+S7 -> 48607.1
A8: CMETAUXS | B8: 6 | C8: METAUX SPECIAUX / MSSA S.A.S. | D8: 73600 | E8: FR | F8: 51649 | G8: 38946.37 | H8: 0.75405855 | I8: 32007 | J8: 20824.85 | K8: =J8/I8 -> 0.65063424 | L8: 13035 | M8: 3196.11 | N8: =M8/L8 -> 0.24519448 | O8: =I8+L8 -> 45042 | P8: 21794 | Q8: 18185.47 | R8: =Q8/P8 -> 0.83442553 | S8: 28835 | T8: 20092 | U8: =T8/S8 -> 0.69679209 | V8: =P8+S8 -> 50629
A9: CPHOTOWA | B9: 7 | C9: PHOTOWATT | D9: 38300 | E9: FR | F9: 51232 | G9: 28164 | H9: 0.54973454 | I9: 11240 | J9: 6178 | K9: =J9/I9 -> 0.54964413 | L9: 22480 | M9: 11380 | N9: =M9/L9 -> 0.50622776 | O9: =I9+L9 -> 33720 | P9: 28752 | Q9: 15808 | R9: =Q9/P9 -> 0.54980523 | S9: 22480 | T9: 12356 | U9: =T9/S9 -> 0.54964413 | V9: =P9+S9 -> 51232
A10: CNIKHEF | B10: 8 | C10: NIKHEF | E10: NL | F10: 42624 | G10: 21312 | H10: 0.5 | I10: 0 | J10: 0 | K10: 0 | L10: 0 | M10: 0 | N10: 0 | O10: =I10+L10 -> 0 | P10: 15492.96 | Q10: 15492.96 | R10: =Q10/P10 -> 1 | S10: 42624 | T10: 21312 | U10: =T10/S10 -> 0.5 | V10: =P10+S10 -> 58116.96
A11: CSTGOB06 | B11: 9 | C11: SAINT-GOBAIN LUMILOG | D11: 06220 | E11: FR | F11: 34833.9 | G11: 34746.86 | H11: 0.99750128 | I11: 43248.1 | J11: -8504.9 | K11: =J11/I11 -> -0.19665373 | L11: 0 | M11: 0 | N11: 0 | O11: =I11+L11 -> 43248.1 | P11: 34833.9 | Q11: 34746.86 | R11: =Q11/P11 -> 0.99750128 | S11: 0 | T11: 0 | U11: 0 | V11: =P11+S11 -> 34833.9
A12: CMICROCE | B12: 10 | C12: MICROCERTEC | D12: 77090 | E12: FR | F12: 34528.1 | G12: 19594.78 | H12: 0.56750241 | I12: 18190.5 | J12: 11273.33 | K12: =J12/I12 -> 0.61973723 | L12: 4872 | M12: 3948 | N12: =M12/L12 -> 0.81034483 | O12: =I12+L12 -> 23062.5 | P12: 21911.6 | Q12: 10792.86 | R12: =Q12/P12 -> 0.49256376 | S12: 12921.5 | T12: 9655.35 | U12: =T12/S12 -> 0.74723136 | V12: =P12+S12 -> 34833.1
A13: CSOLARON | B13: 11 | C13: SOLARONICS | D13: 59428 | E13: FR | F13: 32878.6 | G13: 17773.55 | H13: 0.54058111 | I13: 31043.2 | J13: 22166.2 | K13: =J13/I13 -> 0.71404366 | L13: 0 | M13: 0 | N13: 0 | O13: =I13+L13 -> 31043.2 | P13: 837 | Q13: 605.72 | R13: =Q13/P13 -> 0.72367981 | S13: 23320 | T13: 11309 | U13: =T13/S13 -> 0.48494854 | V13: =P13+S13 -> 24157
A14: CAET | B14: 12 | C14: AET TECHNOLOGIES | D14: 38240 | E14: FR | F14: 31453.2 | G14: 17722.58 | H14: 0.56345873 | I14: 9451 | J14: 6039.13 | K14: =J14/I14 -> 0.63899376 | L14: 13330 | M14: 7639.9 | N14: =M14/L14 -> 0.57313578 | O14: =I14+L14 -> 22781 | P14: 18389.7 | Q14: 11607.73 | R14: =Q14/P14 -> 0.63120823 | S14: 5456 | T14: 2959.37 | U14: =T14/S14 -> 0.54240652 | V14: =P14+S14 -> 23845.7
A15: CLMA | B15: 13 | C15: EZUS LYON - LMA | D15: 69622 | E15: FR | F15: 29780 | G15: 24687.24 | H15: 0.82898724 | I15: 0 | J15: 0 | K15: 0 | L15: 0 | M15: 0 | N15: 0 | O15: =I15+L15 -> 0 | P15: 16502 | Q15: 11409.24 | R15: =Q15/P15 -> 0.69138529 | S15: 0 | T15: 0 | U15: 0 | V15: =P15+S15 -> 16502
A16: CEDIVER | B16: 14 | C16: EDIVER | D16: 77510 | E16: FR | F16: 26837.5 | G16: 16346.54 | H16: 0.60909325 | I16: 10179.71 | J16: 6175.67 | K16: =J16/I16 -> 0.60666463 | L16: 15598 | M16: 9550.6 | N16: =M16/L16 -> 0.61229645 | O16: =I16+L16 -> 25777.71 | P16: 15366.5 | Q16: 9471.88 | R16: =Q16/P16 -> 0.61639801 | S16: 13216.5 | T16: 7936.25 | U16: =T16/S16 -> 0.60048046 | V16: =P16+S16 -> 28583
A17: CARKEMA | B17: 15 | C17: ARKEMA | D17: 92700 | E17: FR | F17: 25329 | G17: 10044.86 | H17: 0.39657547 | I17: 22156 | J17: 9301.14 | K17: =J17/I17 -> 0.41980231 | L17: 0 | M17: 0 | N17: 0 | O17: =I17+L17 -> 22156 | P17: 19782 | Q17: 7222.86 | R17: =Q17/P17 -> 0.36512284 | S17: 16625 | T17: 7470.81 | U17: =T17/S17 -> 0.44937203 | V17: =P17+S17 -> 36407
A18: CVERREET | B18: 16 | C18: Verre et Quartz Technologies | D18: 77600 | E18: FR | F18: 23102.5 | G18: 17312.45 | H18: 0.74937561 | I18: 29955 | J18: 23425 | K18: =J18/I18 -> 0.78200634 | L18: 7988 | M18: 3352 | N18: =M18/L18 -> 0.41962944 | O18: =I18+L18 -> 37943 | P18: 15114.5 | Q18: 11312.45 | R18: =Q18/P18 -> 0.74845016 | S18: 7988 | T18: 6000 | U18: =T18/S18 -> 0.75112669 | V18: =P18+S18 -> 23102.5
A19: CNEYCO | B19: 17 | C19: NEYCO | D19: 92170 | E19: FR | F19: 19021.5 | G19: 15563 | H19: 0.81817943 | I19: 0 | J19: 0 | K19: 0 | L19: 6425 | M19: 5276 | N19: =M19/L19 -> 0.82116732 | O19: =I19+L19 -> 6425 | P19: 12725 | Q19: 10415.5 | R19: =Q19/P19 -> 0.81850688 | S19: 0 | T19: 0 | U19: 0 | V19: =P19+S19 -> 12725
A20: CISL | B20: 18 | C20: ISL SAS | D20: 14653 | E20: FR | F20: 18811.5 | G20: 17297.97 | H20: 0.9195423 | I20: 8680 | J20: 7960.58 | K20: =J20/I20 -> 0.91711751 | L20: 983.5 | M20: 852.2 | N20: =M20/L20 -> 0.8664972 | O20: =I20+L20 -> 9663.5 | P20: 13939.5 | Q20: 12783.57 | R20: =Q20/P20 -> 0.91707522 | S20: 0 | T20: 0 | U20: 0 | V20: =P20+S20 -> 13939.5
A21: CSTAE | B21: 19 | C21: STAE | D21: 92160 | E21: FR | F21: 18555 | G21: 11801.28 | H21: 0.63601617 | I21: 37723 | J21: 23197.5 | K21: =J21/I21 -> 0.61494314 | L21: 35640 | M21: 19662 | N21: =M21/L21 -> 0.5516835 | O21: =I21+L21 -> 73363 | P21: 7253 | Q21: 4563.96 | R21: =Q21/P21 -> 0.62925134 | S21: 11302 | T21: 7237.32 | U21: =T21/S21 -> 0.64035746 | V21: =P21+S21 -> 18555
A22: CSEMILAB | B22: 20 | C22: SEMILAB | D22: 1117 | E22: HU | F22: 16440 | G22: 13875.2 | H22: 0.84399027 | I22: 1370 | J22: 969.6 | K22: =J22/I22 -> 0.70773723 | L22: 0 | M22: 0 | N22: 0 | O22: =I22+L22 -> 1370 | P22: 0 | Q22: 0 | R22: 0 | S22: 9590 | T22: 8017.2 | U22: =T22/S22 -> 0.83599583 | V22: =P22+S22 -> 9590
A23: CFLASHLA | B23: 21 | C23: FLASHLAMPS Verre & Quartz | D23: 93147 | E23: FR | F23: 14734.5 | G23: 10554.48 | H23: 0.7163107 | I23: 5150 | J23: 3785 | K23: =J23/I23 -> 0.73495146 | L23: 0 | M23: 0 | N23: 0 | O23: =I23+L23 -> 5150 | P23: 10409.5 | Q23: 7546.48 | R23: =Q23/P23 -> 0.72496085 | S23: 4579 | T23: 3262 | U23: =T23/S23 -> 0.71238262 | V23: =P23+S23 -> 14988.5
A24: CVEGATEC | B24: 22 | C24: VEGATEC | D24: 13106 | E24: FR | F24: 11558 | G24: 7046.66 | H24: 0.60967815 | I24: 0 | J24: 0 | K24: 0 | L24: 0 | M24: 0 | N24: 0 | O24: =I24+L24 -> 0 | P24: 11558 | Q24: 7046.66 | R24: =Q24/P24 -> 0.60967815 | S24: 0 | T24: 0 | U24: 0 | V24: =P24+S24 -> 11558
A25: CTECHNOG | B25: 23 | C25: TECHNOGENIA | D25: 74410 | E25: FR | F25: 11457.7 | G25: 8494.16 | H25: 0.74134949 | I25: 0 | J25: 0 | K25: 0 | L25: 0 | M25: 0 | N25: 0 | O25: =I25+L25 -> 0 | P25: 9683.7 | Q25: 7225.13 | R25: =Q25/P25 -> 0.74611254 | S25: 0 | T25: 0 | U25: 0 | V25: =P25+S25 -> 9683.7
A26: CNHVERRE | B26: 24 | C26: NH VERRE | D26: 34150 | E26: FR | F26: 11314.15 | G26: 6292.49 | H26: 0.55616109 | I26: 1350 | J26: 882 | K26: =J26/I26 -> 0.65333333 | L26: 0 | M26: 0 | N26: 0 | O26: =I26+L26 -> 1350 | P26: 750.5 | Q26: 656.51 | R26: =Q26/P26 -> 0.87476349 | S26: 9965 | T26: 5128.7 | U26: =T26/S26 -> 0.51467135 | V26: =P26+S26 -> 10715.5
A27: CHORIFR | B27: 25 | C27: HORIBA FRANCE SAS | D27: 91165 | E27: FR | F27: 11163 | G27: 3346 | H27: 0.29974021 | I27: 43545 | J27: 13386.3 | K27: =J27/I27 -> 0.30741302 | L27: 0 | M27: 0 | N27: 0 | O27: =I27+L27 -> 43545 | P27: 11163 | Q27: 3346 | R27: =Q27/P27 -> 0.29974021 | S27: 0 | T27: 0 | U27: 0 | V27: =P27+S27 -> 11163
A28: CVERRELA | B28: 26 | C28: VERRE LABO MULA | D28: 69120 | E28: FR | F28: 11153.9 | G28: 3886.77 | H28: 0.34846735 | I28: 5568.5 | J28: 3386.19 | K28: =J28/I28 -> 0.60809733 | L28: 0 | M28: 0 | N28: 0 | O28: =I28+L28 -> 5568.5 | P28: 2270.9 | Q28: 1390.07 | R28: =Q28/P28 -> 0.61212295 | S28: 0 | T28: 0 | U28: 0 | V28: =P28+S28 -> 2270.9
A29: CSAGEM03 | B29: 27 | C29: SAFRAN ELECTRONICS & DEFENSE | D29: 03106 | E29: FR | F29: 11060.5 | G29: 10985.6 | H29: 0.99322815 | I29: 0 | J29: 0 | K29: 0 | L29: 0 | M29: 0 | N29: 0 | O29: =I29+L29 -> 0 | P29: 11060.5 | Q29: 10985.6 | R29: =Q29/P29 -> 0.99322815 | S29: 0 | T29: 0 | U29: 0 | V29: =P29+S29 -> 11060.5
A30: CDIRTECH | B30: 28 | C30: DIRTECH | D30: 54540 | E30: FR | F30: 10950 | G30: 3792 | H30: 0.34630137 | I30: 0 | J30: 0 | K30: 0 | L30: 0 | M30: 0 | N30: 0 | O30: =I30+L30 -> 0 | P30: 10950 | Q30: 3792 | R30: =Q30/P30 -> 0.34630137 | S30: 0 | T30: 0 | U30: 0 | V30: =P30+S30 -> 10950
A31: CPLASSYS | B31: 29 | C31: PLASSYS - BESTEK SAS | D31: 91630 | E31: FR | F31: 9588 | G31: 5384.49 | H31: 0.56158636 | I31: 637 | J31: 428.89 | K31: =J31/I31 -> 0.6732967 | L31: 3115 | M31: 1742.35 | N31: =M31/L31 -> 0.55934189 | O31: =I31+L31 -> 3752 | P31: 7168 | Q31: 3869.22 | R31: =Q31/P31 -> 0.53979074 | S31: 0 | T31: 0 | U31: 0 | V31: =P31+S31 -> 7168
A32: CIXFIBER | B32: 30 | C32: IXBLUE S.A.S | D32: 22300 | E32: FR | F32: 9375 | G32: 6328.1 | H32: 0.67499733 | I32: 0 | J32: 0 | K32: 0 | L32: 0 | M32: 0 | N32: 0 | O32: =I32+L32 -> 0 | P32: 9375 | Q32: 6328.1 | R32: =Q32/P32 -> 0.67499733 | S32: 0 | T32: 0 | U32: 0 | V32: =P32+S32 -> 9375
A33: CBAIKOWS | B33: 31 | C33: BAIKOWSKI | D33: 74339 | E33: FR | F33: 9316 | G33: 7383.57 | H33: 0.7925687 | I33: 0 | J33: 0 | K33: 0 | L33: 0 | M33: 0 | N33: 0 | O33: =I33+L33 -> 0 | P33: 0 | Q33: 0 | R33: 0 | S33: 9316 | T33: 7383.57 | U33: =T33/S33 -> 0.7925687 | V33: =P33+S33 -> 9316
A34: CORSAYPH | B34: 32 | C34: ORSAY PHYSICS | D34: 13710 | E34: FR | F34: 8430 | G34: 8394.95 | H34: 0.99584223 | I34: 1595 | J34: 1583.5 | K34: =J34/I34 -> 0.99278997 | L34: 2778 | M34: 2756.4 | N34: =M34/L34 -> 0.99222462 | O34: =I34+L34 -> 4373 | P34: 7080 | Q34: 7054.6 | R34: =Q34/P34 -> 0.99641243 | S34: 0 | T34: 0 | U34: 0 | V34: =P34+S34 -> 7080
A35: CSIPALEX | B35: 33 | C35: SIPALEX | D35: 38490 | E35: FR | F35: 8365 | G35: 4634.57 | H35: 0.55404304 | I35: 0 | J35: 0 | K35: 0 | L35: 0 | M35: 0 | N35: 0 | O35: =I35+L35 -> 0 | P35: 8365 | Q35: 4634.57 | R35: =Q35/P35 -> 0.55404304 | S35: 0 | T35: 0 | U35: 0 | V35: =P35+S35 -> 8365
A36: CLOGITRA | B36: 34 | C36: LOGITRADE | D36: 91703 | E36: FR | F36: 8328 | G36: 4609.44 | H36: 0.55348703 | I36: 2244 | J36: 1528.8 | K36: =J36/I36 -> 0.68128342 | L36: 0 | M36: 0 | N36: 0 | O36: =I36+L36 -> 2244 | P36: 8328 | Q36: 4609.44 | R36: =Q36/P36 -> 0.55348703 | S36: 0 | T36: 0 | U36: 0 | V36: =P36+S36 -> 8328
A37: CIMERYS | B37: 35 | C37: Imerys Aluminates SA | D37: 38090 | E37: FR | F37: 8195 | G37: 5898.2 | H37: 0.71973154 | I37: 0 | J37: 0 | K37: 0 | L37: 0 | M37: 0 | N37: 0 | O37: =I37+L37 -> 0 | P37: 8195 | Q37: 5898.2 | R37: =Q37/P37 -> 0.71973154 | S37: 0 | T37: 0 | U37: 0 | V37: =P37+S37 -> 8195
A38: CAPERAM | B38: 36 | C38: LA MEUSIENNE | D38: 55170 | E38: FR | F38: 8147.88 | G38: 6014.45 | H38: 0.73816134 | I38: 7395 | J38: 5677.94 | K38: =J38/I38 -> 0.76780798 | L38: 0 | M38: 0 | N38: 0 | O38: =I38+L38 -> 7395 | P38: 7262.88 | Q38: 5320.32 | R38: =Q38/P38 -> 0.73253585 | S38: 0 | T38: 0 | U38: 0 | V38: =P38+S38 -> 7262.88
A39: CHERNOB | B39: 37 | C39: Heraeus SAS | D39: 91945 | E39: FR | F39: 7984 | G39: 6082.09 | H39: 0.76178482 | I39: 7085 | J39: 4748.05 | K39: =J39/I39 -> 0.67015526 | L39: 0 | M39: 0 | N39: 0 | O39: =I39+L39 -> 7085 | P39: 7074 | Q39: 5397.32 | R39: =Q39/P39 -> 0.76297993 | S39: 0 | T39: 0 | U39: 0 | V39: =P39+S39 -> 7074
A40: CSAFT | B40: 38 | C40: SAFT Bordeaux | D40: 33074 | E40: FR | F40: 7644 | G40: 7002.93 | H40: 0.91613422 | I40: 3198 | J40: 2919.8 | K40: =J40/I40 -> 0.91300813 | L40: 4070 | M40: 3702.66 | N40: =M40/L40 -> 0.90974447 | O40: =I40+L40 -> 7268 | P40: 7644 | Q40: 7002.93 | R40: =Q40/P40 -> 0.91613422 | S40: 0 | T40: 0 | U40: 0 | V40: =P40+S40 -> 7644
...
