Workbook

Sheet suivi stock
A1: Désignation | B1: Stock initial | C1: Stock initial2 | D1: Entrée | E1: Sortie | F1: Stock final | G1: Prix unitaire | H1: Cout total
A2: Bleu 1,5 | B2: 6000 | C2: =SUM(Tableau1[[#This Row],[Stock initial]]+Tableau1[[#This Row],[Entrée]]-Tableau1[[#This Row],[Sortie]]) -> 6000 | F2: =Tableau1[[#This Row],[Stock initial]]-Tableau1[[#This Row],[Sortie]]+Tableau1[[#This Row],[Entrée]] -> 6000 | G2: 0.10882 | H2: =Tableau1[[#This Row],[Prix unitaire]]*Tableau1[[#This Row],[Stock final]] -> 652.92
A3: Rouge 1,5 | B3: 15500 | C3: =SUM(Tableau1[[#This Row],[Stock initial]]+Tableau1[[#This Row],[Entrée]]-Tableau1[[#This Row],[Sortie]]) -> 15500 | F3: =Tableau1[[#This Row],[Stock initial]]-Tableau1[[#This Row],[Sortie]]+Tableau1[[#This Row],[Entrée]] -> 15500 | G3: 0.10882 | H3: =Tableau1[[#This Row],[Prix unitaire]]*Tableau1[[#This Row],[Stock final]] -> 1686.71
A4: V/J 1,5 | B4: 9000 | C4: =SUM(Tableau1[[#This Row],[Stock initial]]+Tableau1[[#This Row],[Entrée]]-Tableau1[[#This Row],[Sortie]]) -> 9000 | F4: =Tableau1[[#This Row],[Stock initial]]-Tableau1[[#This Row],[Sortie]]+Tableau1[[#This Row],[Entrée]] -> 9000 | G4: 0.10882 | H4: =Tableau1[[#This Row],[Prix unitaire]]*Tableau1[[#This Row],[Stock final]] -> 979.38
A5: Marron 1,5 | B5: 5000 | C5: =SUM(Tableau1[[#This Row],[Stock initial]]+Tableau1[[#This Row],[Entrée]]-Tableau1[[#This Row],[Sortie]]) -> 3500 | E5: 1500 | F5: =Tableau1[[#This Row],[Stock initial]]-Tableau1[[#This Row],[Sortie]]+Tableau1[[#This Row],[Entrée]] -> 3500 | G5: 0.10882 | H5: =Tableau1[[#This Row],[Prix unitaire]]*Tableau1[[#This Row],[Stock final]] -> 380.87
A6: Orange 1,5 | B6: 9750 | C6: =SUM(Tableau1[[#This Row],[Stock initial]]+Tableau1[[#This Row],[Entrée]]-Tableau1[[#This Row],[Sortie]]) -> 9750 | F6: =Tableau1[[#This Row],[Stock initial]]-Tableau1[[#This Row],[Sortie]]+Tableau1[[#This Row],[Entrée]] -> 9750 | G6: 0.10882 | H6: =Tableau1[[#This Row],[Prix unitaire]]*Tableau1[[#This Row],[Stock final]] -> 1060.995
A7: Noir 1,5 | B7: 2250 | C7: =SUM(Tableau1[[#This Row],[Stock initial]]+Tableau1[[#This Row],[Entrée]]-Tableau1[[#This Row],[Sortie]]) -> 1750 | E7: 500 | F7: =Tableau1[[#This Row],[Stock initial]]-Tableau1[[#This Row],[Sortie]]+Tableau1[[#This Row],[Entrée]] -> 1750 | G7: 0.10882 | H7: =Tableau1[[#This Row],[Prix unitaire]]*Tableau1[[#This Row],[Stock final]] -> 190.435
A8: Blanc 1,5 | B8: 7500 | C8: =SUM(Tableau1[[#This Row],[Stock initial]]+Tableau1[[#This Row],[Entrée]]-Tableau1[[#This Row],[Sortie]]) -> 8000 | D8: 1000 | E8: 500 | F8: =Tableau1[[#This Row],[Stock initial]]-Tableau1[[#This Row],[Sortie]]+Tableau1[[#This Row],[Entrée]] -> 8000 | G8: 0.10882 | H8: =Tableau1[[#This Row],[Prix unitaire]]*Tableau1[[#This Row],[Stock final]] -> 870.56
A9: Violet 1,5 | B9: 11000 | C9: =SUM(Tableau1[[#This Row],[Stock initial]]+Tableau1[[#This Row],[Entrée]]-Tableau1[[#This Row],[Sortie]]) -> 10500 | E9: 500 | F9: =Tableau1[[#This Row],[Stock initial]]-Tableau1[[#This Row],[Sortie]]+Tableau1[[#This Row],[Entrée]] -> 10500 | G9: 0.10882 | H9: =Tableau1[[#This Row],[Prix unitaire]]*Tableau1[[#This Row],[Stock final]] -> 1142.61
A10: Bleu 2,5 | B10: 30000 | C10: =SUM(Tableau1[[#This Row],[Stock initial]]+Tableau1[[#This Row],[Entrée]]-Tableau1[[#This Row],[Sortie]]) -> 28500 | E10: 1500 | F10: =Tableau1[[#This Row],[Stock initial]]-Tableau1[[#This Row],[Sortie]]+Tableau1[[#This Row],[Entrée]] -> 28500 | G10: 0.17313 | H10: =Tableau1[[#This Row],[Prix unitaire]]*Tableau1[[#This Row],[Stock final]] -> 4934.205
A11: Rouge 2,5 | B11: 36000 | C11: =SUM(Tableau1[[#This Row],[Stock initial]]+Tableau1[[#This Row],[Entrée]]-Tableau1[[#This Row],[Sortie]]) -> 35500 | E11: 500 | F11: =Tableau1[[#This Row],[Stock initial]]-Tableau1[[#This Row],[Sortie]]+Tableau1[[#This Row],[Entrée]] -> 35500 | G11: 0.17313 | H11: =Tableau1[[#This Row],[Prix unitaire]]*Tableau1[[#This Row],[Stock final]] -> 6146.115
A12: V/J 2,5 | B12: 32500 | C12: =SUM(Tableau1[[#This Row],[Stock initial]]+Tableau1[[#This Row],[Entrée]]-Tableau1[[#This Row],[Sortie]]) -> 31000 | E12: 1500 | F12: =Tableau1[[#This Row],[Stock initial]]-Tableau1[[#This Row],[Sortie]]+Tableau1[[#This Row],[Entrée]] -> 31000 | G12: 0.17313 | H12: =Tableau1[[#This Row],[Prix unitaire]]*Tableau1[[#This Row],[Stock final]] -> 5367.03
A13: Marron 2,5 | B13: 15000 | C13: =SUM(Tableau1[[#This Row],[Stock initial]]+Tableau1[[#This Row],[Entrée]]-Tableau1[[#This Row],[Sortie]]) -> 14500 | E13: 500 | F13: =Tableau1[[#This Row],[Stock initial]]-Tableau1[[#This Row],[Sortie]]+Tableau1[[#This Row],[Entrée]] -> 14500 | G13: 0.17313 | H13: =Tableau1[[#This Row],[Prix unitaire]]*Tableau1[[#This Row],[Stock final]] -> 2510.385
A14: Noir 2,5 | B14: 18000 | C14: =SUM(Tableau1[[#This Row],[Stock initial]]+Tableau1[[#This Row],[Entrée]]-Tableau1[[#This Row],[Sortie]]) -> 17500 | E14: 500 | F14: =Tableau1[[#This Row],[Stock initial]]-Tableau1[[#This Row],[Sortie]]+Tableau1[[#This Row],[Entrée]] -> 17500 | G14: 0.17313 | H14: =Tableau1[[#This Row],[Prix unitaire]]*Tableau1[[#This Row],[Stock final]] -> 3029.775
A15: Bleu alu 16 | B15: 0 | C15: =SUM(Tableau1[[#This Row],[Stock initial]]+Tableau1[[#This Row],[Entrée]]-Tableau1[[#This Row],[Sortie]]) -> 0 | F15: =Tableau1[[#This Row],[Stock initial]]-Tableau1[[#This Row],[Sortie]]+Tableau1[[#This Row],[Entrée]] -> 0 | G15: 0.465 | H15: =Tableau1[[#This Row],[Prix unitaire]]*Tableau1[[#This Row],[Stock final]] -> 0
A16: Rouge alu 16 | B16: 0 | C16: =SUM(Tableau1[[#This Row],[Stock initial]]+Tableau1[[#This Row],[Entrée]]-Tableau1[[#This Row],[Sortie]]) -> 2000 | D16: 2000 | F16: =Tableau1[[#This Row],[Stock initial]]-Tableau1[[#This Row],[Sortie]]+Tableau1[[#This Row],[Entrée]] -> 2000 | G16: 0.465 | H16: =Tableau1[[#This Row],[Prix unitaire]]*Tableau1[[#This Row],[Stock final]] -> 930
A17: Bleu alu 25 | B17: 500 | C17: =SUM(Tableau1[[#This Row],[Stock initial]]+Tableau1[[#This Row],[Entrée]]-Tableau1[[#This Row],[Sortie]]) -> 500 | F17: =Tableau1[[#This Row],[Stock initial]]-Tableau1[[#This Row],[Sortie]]+Tableau1[[#This Row],[Entrée]] -> 500 | G17: 0.62 | H17: =Tableau1[[#This Row],[Prix unitaire]]*Tableau1[[#This Row],[Stock final]] -> 310
A18: Rouge alu 25 | B18: 500 | C18: =SUM(Tableau1[[#This Row],[Stock initial]]+Tableau1[[#This Row],[Entrée]]-Tableau1[[#This Row],[Sortie]]) -> 500 | F18: =Tableau1[[#This Row],[Stock initial]]-Tableau1[[#This Row],[Sortie]]+Tableau1[[#This Row],[Entrée]] -> 500 | G18: 0.62 | H18: =Tableau1[[#This Row],[Prix unitaire]]*Tableau1[[#This Row],[Stock final]] -> 310
A19: V/J alu 25 | B19: 1500 | C19: =SUM(Tableau1[[#This Row],[Stock initial]]+Tableau1[[#This Row],[Entrée]]-Tableau1[[#This Row],[Sortie]]) -> 1500 | F19: =Tableau1[[#This Row],[Stock initial]]-Tableau1[[#This Row],[Sortie]]+Tableau1[[#This Row],[Entrée]] -> 1500 | G19: 0.62 | H19: =Tableau1[[#This Row],[Prix unitaire]]*Tableau1[[#This Row],[Stock final]] -> 930
A20: Bleu alu 35 | B20: 500 | C20: =SUM(Tableau1[[#This Row],[Stock initial]]+Tableau1[[#This Row],[Entrée]]-Tableau1[[#This Row],[Sortie]]) -> 500 | F20: =Tableau1[[#This Row],[Stock initial]]-Tableau1[[#This Row],[Sortie]]+Tableau1[[#This Row],[Entrée]] -> 500 | G20: 0.87 | H20: =Tableau1[[#This Row],[Prix unitaire]]*Tableau1[[#This Row],[Stock final]] -> 435
A21: Rouge alu 35 | B21: 500 | C21: =SUM(Tableau1[[#This Row],[Stock initial]]+Tableau1[[#This Row],[Entrée]]-Tableau1[[#This Row],[Sortie]]) -> 500 | F21: =Tableau1[[#This Row],[Stock initial]]-Tableau1[[#This Row],[Sortie]]+Tableau1[[#This Row],[Entrée]] -> 500 | G21: 0.87 | H21: =Tableau1[[#This Row],[Prix unitaire]]*Tableau1[[#This Row],[Stock final]] -> 435
A22: Rouge alu 6 | B22: 1000 | C22: =SUM(Tableau1[[#This Row],[Stock initial]]+Tableau1[[#This Row],[Entrée]]-Tableau1[[#This Row],[Sortie]]) -> 500 | E22: 500 | F22: =Tableau1[[#This Row],[Stock initial]]-Tableau1[[#This Row],[Sortie]]+Tableau1[[#This Row],[Entrée]] -> 500 | G22: 0.475 | H22: =Tableau1[[#This Row],[Prix unitaire]]*Tableau1[[#This Row],[Stock final]] -> 237.5
A23: V/J alu 6 | B23: 1000 | C23: =SUM(Tableau1[[#This Row],[Stock initial]]+Tableau1[[#This Row],[Entrée]]-Tableau1[[#This Row],[Sortie]]) -> 1000 | F23: =Tableau1[[#This Row],[Stock initial]]-Tableau1[[#This Row],[Sortie]]+Tableau1[[#This Row],[Entrée]] -> 1000 | G23: 0.475 | H23: =Tableau1[[#This Row],[Prix unitaire]]*Tableau1[[#This Row],[Stock final]] -> 475
A24: Bleu alu 6 | B24: 1000 | C24: =SUM(Tableau1[[#This Row],[Stock initial]]+Tableau1[[#This Row],[Entrée]]-Tableau1[[#This Row],[Sortie]]) -> 1000 | F24: =Tableau1[[#This Row],[Stock initial]]-Tableau1[[#This Row],[Sortie]]+Tableau1[[#This Row],[Entrée]] -> 1000 | G24: 0.475 | H24: =Tableau1[[#This Row],[Prix unitaire]]*Tableau1[[#This Row],[Stock final]] -> 475
F26: COUT TOTAL STOCK AU | G26: =TODAY() -> 43502 | H26: =SUM(H2:H24) -> 33489.49

Sheet feuille de suivi
A1: STOCK AU | B1: =TODAY() -> 43502
A3: Désignation | B3: Stock initial | C3: Entrée | D3: Sortie | E3: Stock final
A4: ='suivi stock'!A2 -> Bleu 1,5 | B4: ='suivi stock'!F2 -> 6000
A5: ='suivi stock'!A3 -> Rouge 1,5 | B5: ='suivi stock'!F3 -> 15500
A6: ='suivi stock'!A4 -> V/J 1,5 | B6: ='suivi stock'!F4 -> 9000
A7: ='suivi stock'!A5 -> Marron 1,5 | B7: ='suivi stock'!F5 -> 3500
A8: ='suivi stock'!A6 -> Orange 1,5 | B8: ='suivi stock'!F6 -> 9750
A9: ='suivi stock'!A7 -> Noir 1,5 | B9: ='suivi stock'!F7 -> 1750
A10: ='suivi stock'!A8 -> Blanc 1,5 | B10: ='suivi stock'!F8 -> 8000
A11: ='suivi stock'!A9 -> Violet 1,5 | B11: ='suivi stock'!F9 -> 10500
A12: ='suivi stock'!A10 -> Bleu 2,5 | B12: ='suivi stock'!F10 -> 28500
A13: ='suivi stock'!A11 -> Rouge 2,5 | B13: ='suivi stock'!F11 -> 35500
A14: ='suivi stock'!A12 -> V/J 2,5 | B14: ='suivi stock'!F12 -> 31000
A15: ='suivi stock'!A13 -> Marron 2,5 | B15: ='suivi stock'!F13 -> 14500
... A26: ='suivi stock'!A24 -> Bleu alu 6 | B26: ='suivi stock'!F24 -> 1000

Sheet Feuil3
