Workbook

Sheet Base de données employées
B2: Noms et prénoms employées | C2: Position
B3: 1 | C3: Agente de liaison Fem'aide
B4: 2 | C4: Intervenante en Counseling
B5: 3 | C5: Agente de soutien à la cour de la famille
B6: 4 | C6: Agente de préparation à l'emploi - Elan
B7: 5 | C7: Intervenante ligne Fem'aide
B8: 6 | C8: Liaison communautaire
B9: 7 | C9: Intervenante ligne Fem'aide
B10: 8 | C10: Intervenante ligne Fem'aide
B11: 9 | C11: Intervenante ligne Fem'aide
B12: 10 | C12: Intervenante en appui transitoire - soutien et logement
B13: 11 | C13: Intervenante ligne Fem'aide
B14: 12 | C14: Intervenante Femmes immigrantes et refugiées
B15: 13 | C15: Intervenante en Counseling

Sheet Déductions syndicales
B4: Noms et prénoms employées | C4: Position | D4: Montants Paie brute | E4: Déduction syndicale | F4: Date de la déduction
B5: 2 | C5: =VLOOKUP(B5,'Base de données employées'!B3:C15,2,0) -> Intervenante en Counseling | D5: 100 | E5: 20 | F5: 22 mai 2018
B6: 3 | C6: =IFERROR(VLOOKUP(B6,'Base de données employées'!B4:C16,2,0),0) -> Agente de soutien à la cour de la famille | F6: 23 mai 2018
B7: 3 | C7: =IFERROR(VLOOKUP(B7,'Base de données employées'!B5:C17,2,0),0) -> Agente de soutien à la cour de la famille | F7: 24 mai 2018
B8: 3 | C8: =IFERROR(VLOOKUP(B8,'Base de données employées'!B6:C18,2,0),0) -> 0 | F8: 25 mai 2018
C9: =IFERROR(VLOOKUP(B9,'Base de données employées'!B7:C19,2,0),0) -> 0 | F9: 26 juin 2018
C10: =IFERROR(VLOOKUP(B10,'Base de données employées'!B8:C20,2,0),0) -> 0 | F10: 27 juillet 2018
C11: =IFERROR(VLOOKUP(B11,'Base de données employées'!B9:C21,2,0),0) -> 0 | F11: 28 Août 2018
C12: =IFERROR(VLOOKUP(B12,'Base de données employées'!B10:C22,2,0),0) -> 0 | F12: 29 Septembre 2018
C13: =IFERROR(VLOOKUP(B13,'Base de données employées'!B11:C23,2,0),0) -> 0 | F13: 30 Octobre 2018
C14: =IFERROR(VLOOKUP(B14,'Base de données employées'!B12:C24,2,0),0) -> 0 | F14: 31 mai 2018
C15: =IFERROR(VLOOKUP(B15,'Base de données employées'!B13:C25,2,0),0) -> 0
C16: =IFERROR(VLOOKUP(B16,'Base de données employées'!B14:C26,2,0),0) -> 0
C17: =IFERROR(VLOOKUP(B17,'Base de données employées'!B15:C27,2,0),0) -> 0 | I17: 1
C18: =IFERROR(VLOOKUP(B18,'Base de données employées'!B16:C28,2,0),0) -> 0
C19: =IFERROR(VLOOKUP(B19,'Base de données employées'!B17:C29,2,0),0) -> 0
C20: =IFERROR(VLOOKUP(B20,'Base de données employées'!B18:C30,2,0),0) -> 0
C21: =IFERROR(VLOOKUP(B21,'Base de données employées'!B19:C31,2,0),0) -> 0
C22: =IFERROR(VLOOKUP(B22,'Base de données employées'!B20:C32,2,0),0) -> 0
C23: =IFERROR(VLOOKUP(B23,'Base de données employées'!B21:C33,2,0),0) -> 0
C24: =IFERROR(VLOOKUP(B24,'Base de données employées'!B22:C34,2,0),0) -> 0
C25: =IFERROR(VLOOKUP(B25,'Base de données employées'!B23:C35,2,0),0) -> 0
C26: =IFERROR(VLOOKUP(B26,'Base de données employées'!B24:C36,2,0),0) -> 0
C27: =IFERROR(VLOOKUP(B27,'Base de données employées'!B25:C37,2,0),0) -> 0
C28: =IFERROR(VLOOKUP(B28,'Base de données employées'!B26:C38,2,0),0) -> 0
C29: =IFERROR(VLOOKUP(B29,'Base de données employées'!B27:C39,2,0),0) -> 0
... C130: =IFERROR(VLOOKUP(B130,'Base de données employées'!B128:C140,2,0),0) -> 0

Sheet Synthèse
A3: Nom et prénoms | B3: Somme de Montants Paie brute | C3: Somme de Déduction syndicale
A4: 0
A5: (vide)
A6: 24 mai 2018
A7: 25 mai 2018
A8: 26 juin 2018
A9: 27 juillet 2018
A10: 28 Août 2018
A11: 29 Septembre 2018
A12: 30 Octobre 2018
A13: 31 mai 2018
A14: Intervenante en Counseling | B14: 100 | C14: 20
A15: Bentobbal Nawel | B15: 100 | C15: 20
A16: 22 mai 2018 | B16: 100 | C16: 20
A17: 23 mai 2018
A18: Total général | B18: 100 | C18: 20
