Workbook
Name AbsenceSalarie: OFFSET(#REF!,0,0,COUNTA(#REF!))
Name Année: OFFSET(REFERENCE!$M$16,0,0,COUNTA(REFERENCE!$M:$M))
Name Code_couleur: OFFSET(#REF!,0,0,COUNTA(#REF!))
Name CodeChantier: OFFSET([1]Chantiers!$A$2,0,0,COUNTA([1]Chantiers!$A:$A))
Name CodeFonction: OFFSET(#REF!,0,0,COUNTA(#REF!))
Name CodeMat: OFFSET(#REF!,0,0,COUNTA(#REF!))
Name CodePrestation: OFFSET(#REF!,0,0,COUNTA(#REF!))
Name Conges: OFFSET(#REF!,0,0,COUNTA(#REF!))
Name DateDebutPeriode1: OFFSET(#REF!,0,0,COUNTA(#REF!))
Name DateDebutPeriode2: OFFSET(#REF!,0,0,COUNTA(#REF!))
Name DateFinPeriode1: OFFSET(#REF!,0,0,COUNTA(#REF!))
Name DateFinPeriode2: OFFSET(#REF!,0,0,COUNTA(#REF!))
Name DebutSemaine: OFFSET(REFERENCE!$F$5,0,0,COUNTA(REFERENCE!$F:$F))
Name DesignationMateriel: OFFSET([2]Materiel!$B$3,0,0,COUNTA([2]Materiel!$B:$B))
Name EQUIPE: OFFSET(REFERENCE!$R$16,0,0,COUNTA(REFERENCE!$R:$R))
Name Feries: OFFSET(REFERENCE!$B$32,0,0,COUNTA(REFERENCE!$B:$B))
Name FinSemaine: OFFSET(REFERENCE!$G$5,0,0,COUNTA(REFERENCE!$G:$G))
Name FonctionSalarie: OFFSET(#REF!,0,0,COUNTA(#REF!))
Name IndicePresence: OFFSET(REFERENCE!$O$16,0,0,COUNTA(REFERENCE!$O:$O))
Name InfoChantier: OFFSET(#REF!,0,0,COUNTA(#REF!))
Name InfoFournisseur: OFFSET(#REF!,0,0,COUNTA(#REF!))
Name JourFerie: OFFSET(REFERENCE!$B$21,0,0,COUNTA(REFERENCE!$B:$B))
Name LocationMateriel: OFFSET(#REF!,0,0,COUNTA(#REF!))
Name MaterielInterne: OFFSET(#REF!,0,0,COUNTA(#REF!))
Name MontantPeriode1: OFFSET(#REF!,0,0,COUNTA(#REF!))
Name MontantPeriode2: OFFSET(#REF!,0,0,COUNTA(#REF!))
Name MontantTotal: OFFSET(#REF!,0,0,COUNTA(#REF!))
Name NOM: OFFSET(#REF!,0,0,COUNTA(#REF!))
Name NomChantier: OFFSET(#REF!,0,0,COUNTA(#REF!))
Name NomFournisseur: OFFSET(#REF!,0,0,COUNTA(#REF!))
Name NomSalaries: OFFSET(#REF!,0,0,COUNTA(#REF!))
Name NumeroChantier: OFFSET(#REF!,0,0,COUNTA(#REF!))
Name NumMois: OFFSET(REFERENCE!$B$16,0,0,COUNTA(REFERENCE!$B:$B,))
Name NumSemaine: OFFSET(REFERENCE!$G$5,0,0,COUNTA(REFERENCE!$G:$G))
Name PlanningHebdo: #REF!
Name PlanningMOE: #REF!
Name PlanningMTL: PgMTL!$B$3:$M$38
Name PrestationST: OFFSET(#REF!,0,0,COUNTA(#REF!))
Name RefChantier: OFFSET(#REF!,0,0,COUNTA(#REF!))
Name Resultat: OFFSET(#REF!,0,0,COUNTA(#REF!),18)
Name RTT: OFFSET(#REF!,0,0,COUNTA(#REF!))
Name Salarie: OFFSET(#REF!,0,0,COUNTA(#REF!))
Name Semaine: OFFSET(REFERENCE!$F$16,0,0,COUNTA(REFERENCE!$F:$F))
Name Tableau10: #REF!
Name Tableau10Salarie: #REF!
Name TarifInterneMat: OFFSET([2]Materiel!$C$3,0,0,COUNTA([2]Materiel!$C:$C))
Name TarifJourSalarie: OFFSET(#REF!,0,0,COUNTA(#REF!))
Name TarifLocMat: OFFSET([2]Materiel!$C$3,0,0,COUNTA([2]Materiel!$C:$C))
Name TarifMatLoc: OFFSET([2]Materiel!$A$3,0,0,COUNTA([2]Materiel!$G:$G))
Name TarifPrestation: OFFSET(#REF!,0,0,COUNTA(#REF!))
Name TotalMO: [3]Planning_Chantier!$J$18
Name VilleChantier: OFFSET([1]Chantiers!$C$2,0,0,COUNTA([1]Chantiers!$C:$C))

Sheet REFERENCE
B1: Date de début | C1: date de fin | E1: Heure_Debut | F1: Pause_Start | G1: Pause_Stop | H1: Heure_Sortie | I1: Total_Journalier
A2: horaires Hiver | B2: =B13 -> 43466 | C2: 43190 | E2: 0.33333333 | F2: 0.5 | G2: 0.5625 | H2: 0.70833333 | I2: =F2-E2+H2-G2 -> 0.3125
A3: Horaires été | B3: 43191 | C3: 43403 | E3: 07:30 | F3: 0.51041667 | G3: 0.54166667 | H3: 17:30 | I3: =F3-E3+H3-G3 -> 0.38541667
A4: horaires Hiver | B4: 43405 | C4: 43465 | D4: 08:00 | E4: 08:00 | F4: 0.5 | G4: 17:00 | H4: 17:00 | I4: =F4-E4+H4-G4 -> 0.16666667
A7: C | B7: Conges
A8: M | B8: Maladie
A9: RTT | B9: Jours Recuperation
A10: T | B10: Travail
A13: Date d'entrée | B13: =DATE(G13,1,1) -> 43466 | F13: Année: | G13: 2019
A15: Mois | B15: NumMois | C15: Début | D15: fin | F15: Semaine | G15: Début | H15: Fin | J15: Code_Activité | K15: Activité | M15: Année | O15: Indice | P15: Présence | R15: EQUIPE | T15: ID | U15: Code | V15: Désignation
A16: Janvier | B16: 1 | C16: =DATE($G$13,1,1) -> 43466 | D16: =EOMONTH(C16,0) -> 43496 | F16: 1 | G16: =(B13+((F16-1)*7))-((WEEKDAY((B13+((F16-1)*7)),2))-1) -> 43465 | H16: =+GestionSemaine[[#This Row],[Début ]]+6 -> 43471 | J16: NET | K16: Nettoyage | M16: 2017 | O16: C | P16: Conges | R16: EQUIPE 01 | T16: 1 | U16: Client | V16: Client
A17: Février | B17: 2 | C17: =DATE($G$13,2,1) -> 43497 | D17: =EOMONTH(C17,0) -> 43524 | F17: 2 | G17: =+G16+7 -> 43472 | H17: =+GestionSemaine[[#This Row],[Début ]]+6 -> 43478 | J17: DEC | K17: Décapage | M17: 2018 | O17: M | P17: Maladie | R17: EQUIPE 02 | T17: 2 | U17: MOA | V17: Maïtre d'Ouvrage
A18: Mars | B18: 3 | C18: =DATE($G$13,3,1) -> 43525 | D18: =EOMONTH(C18,0) -> 43555 | F18: 3 | G18: =+G17+7 -> 43479 | H18: =+GestionSemaine[[#This Row],[Début ]]+6 -> 43485 | J18: TER | K18: Terrassement | M18: 2019 | O18: RTT | P18: Jours Recuperation | R18: EQUIPE 03 | T18: 3 | U18: MOE | V18: Maitre d'œuvre
A19: Avril | B19: 4 | C19: =DATE($G$13,4,1) -> 43556 | D19: =EOMONTH(C19,0) -> 43585 | F19: 4 | G19: =+G18+7 -> 43486 | H19: =+GestionSemaine[[#This Row],[Début ]]+6 -> 43492 | J19: ASST | K19: Assainissement | M19: 2020 | O19: T | P19: Travail | R19: EQUIPE 04 | T19: 4 | U19: ST | V19: Sous-traitant
A20: Mai | B20: 5 | C20: =DATE($G$13,5,1) -> 43586 | D20: =EOMONTH(C20,0) -> 43616 | F20: 5 | G20: =+G19+7 -> 43493 | H20: =+GestionSemaine[[#This Row],[Début ]]+6 -> 43499 | J20: AEP | K20: AEP | M20: 2021 | R20: EQUIPE 05 | T20: 5 | U20: FO | V20: Fournisseurs
A21: Juin | B21: 6 | C21: =DATE($G$13,6,1) -> 43617 | D21: =EOMONTH(C21,0) -> 43646 | F21: 6 | G21: =+G20+7 -> 43500 | H21: =+GestionSemaine[[#This Row],[Début ]]+6 -> 43506 | J21: ENR | K21: Enrobé | M21: 2022 | R21: EQUIPE 06 | T21: 6 | U21: BE | V21: Bureau d'Etudes
A22: Juillet | B22: 7 | C22: =DATE($G$13,7,1) -> 43647 | D22: =EOMONTH(C22,0) -> 43677 | F22: 7 | G22: =+G21+7 -> 43507 | H22: =+GestionSemaine[[#This Row],[Début ]]+6 -> 43513 | J22: BI | K22: Bicouche | M22: 2023 | R22: EQUIPE 07 | T22: 7 | U22: GE | V22: Géomètre
A23: Août | B23: 8 | C23: =DATE($G$13,8,1) -> 43678 | D23: =EOMONTH(C23,0) -> 43708 | F23: 8 | G23: =+G22+7 -> 43514 | H23: =+GestionSemaine[[#This Row],[Début ]]+6 -> 43520 | M23: 2024 | R23: EQUIPE 08 | T23: 8 | U23: SPS | V23: Coordonateur Sécurité
A24: Septembre | B24: 9 | C24: =DATE($G$13,9,1) -> 43709 | D24: =EOMONTH(C24,0) -> 43738 | F24: 9 | G24: =+G23+7 -> 43521 | H24: =+GestionSemaine[[#This Row],[Début ]]+6 -> 43527 | M24: 2025 | R24: EQUIPE 09
A25: Octobre | B25: 10 | C25: =DATE($G$13,10,1) -> 43739 | D25: =EOMONTH(C25,0) -> 43769 | F25: 10 | G25: =+G24+7 -> 43528 | H25: =+GestionSemaine[[#This Row],[Début ]]+6 -> 43534 | M25: 2026 | R25: EQUIPE 10
A26: Novembre | B26: 11 | C26: =DATE($G$13,11,1) -> 43770 | D26: =EOMONTH(C26,0) -> 43799 | F26: 11 | G26: =+G25+7 -> 43535 | H26: =+GestionSemaine[[#This Row],[Début ]]+6 -> 43541 | M26: 2027 | R26: EQUIPE 11
A27: Décembre | B27: 12 | C27: =DATE($G$13,12,1) -> 43800 | D27: =EOMONTH(C27,0) -> 43830 | F27: 12 | G27: =+G26+7 -> 43542 | H27: =+GestionSemaine[[#This Row],[Début ]]+6 -> 43548 | M27: 2028 | R27: EQUIPE 12
F28: 13 | G28: =+G27+7 -> 43549 | H28: =+GestionSemaine[[#This Row],[Début ]]+6 -> 43555 | M28: 2029 | R28: EQUIPE 13
F29: 14 | G29: =+G28+7 -> 43556 | H29: =+GestionSemaine[[#This Row],[Début ]]+6 -> 43562 | M29: 2030 | R29: EQUIPE 14
F30: 15 | G30: =+G29+7 -> 43563 | H30: =+GestionSemaine[[#This Row],[Début ]]+6 -> 43569 | R30: EQUIPE 15
A31: Jour | B31: Date | F31: 16 | G31: =+G30+7 -> 43570 | H31: =+GestionSemaine[[#This Row],[Début ]]+6 -> 43576 | R31: EQUIPE 16
A32: jour de l'an | B32: =DATE(G13,1,1) -> 43466 | F32: 17 | G32: =+G31+7 -> 43577 | H32: =+GestionSemaine[[#This Row],[Début ]]+6 -> 43583 | R32: EQUIPE 17
A33: Pâques | B33: =FLOOR(DAY(MINUTE($G$13/38)/2+56)&"/5/"&$G$13,7)-34 -> 43576 | F33: 18 | G33: =+G32+7 -> 43584 | H33: =+GestionSemaine[[#This Row],[Début ]]+6 -> 43590 | R33: EQUIPE 18
A34: Lundi de Pâques | B34: =+B33+1 -> 43577 | F34: 19 | G34: =+G33+7 -> 43591 | H34: =+GestionSemaine[[#This Row],[Début ]]+6 -> 43597 | R34: EQUIPE 19
A35: Fête du travail | B35: =DATE(G13,5,1) -> 43586 | F35: 20 | G35: =+G34+7 -> 43598 | H35: =+GestionSemaine[[#This Row],[Début ]]+6 -> 43604 | R35: EQUIPE 20
A36: Armistice 39/45 | B36: =+B35+7 -> 43593 | F36: 21 | G36: =+G35+7 -> 43605 | H36: =+GestionSemaine[[#This Row],[Début ]]+6 -> 43611 | R36: EQUIPE 21
A37: Ascension | B37: =+B33+39 -> 43615 | F37: 22 | G37: =+G36+7 -> 43612 | H37: =+GestionSemaine[[#This Row],[Début ]]+6 -> 43618 | R37: EQUIPE 22
A38: pentecôte | B38: =+B33+49 -> 43625 | F38: 23 | G38: =+G37+7 -> 43619 | H38: =+GestionSemaine[[#This Row],[Début ]]+6 -> 43625 | R38: EQUIPE 23
A39: Lundi de pentecôte | B39: =+B38+1 -> 43626 | F39: 24 | G39: =+G38+7 -> 43626 | H39: =+GestionSemaine[[#This Row],[Début ]]+6 -> 43632 | R39: EQUIPE 24
A40: Assomption | B40: =DATE(G13,8,15) -> 43692 | F40: 25 | G40: =+G39+7 -> 43633 | H40: =+GestionSemaine[[#This Row],[Début ]]+6 -> 43639 | R40: EQUIPE 25
A41: Toussaint | B41: =DATE(G13,11,1) -> 43770 | F41: 26 | G41: =+G40+7 -> 43640 | H41: =+GestionSemaine[[#This Row],[Début ]]+6 -> 43646 | R41: EQUIPE 26
A42: Armistice 14/18 | B42: =DATE(G13,11,11) -> 43780 | F42: 27 | G42: =+G41+7 -> 43647 | H42: =+GestionSemaine[[#This Row],[Début ]]+6 -> 43653 | R42: EQUIPE 27
A43: Noel | B43: =DATE(G13,12,25) -> 43824 | F43: 28 | G43: =+G42+7 -> 43654 | H43: =+GestionSemaine[[#This Row],[Début ]]+6 -> 43660 | R43: EQUIPE 28
F44: 29 | G44: =+G43+7 -> 43661 | H44: =+GestionSemaine[[#This Row],[Début ]]+6 -> 43667 | R44: EQUIPE 29
F45: 30 | G45: =+G44+7 -> 43668 | H45: =+GestionSemaine[[#This Row],[Début ]]+6 -> 43674 | R45: EQUIPE 30
...

Sheet BD
B3: ID | C3: Date | D3: Nom | E3: Type | F3: Heure_Debut | G3: Heure_Fin | H3: Pause_Debut | I3: Pause_Fin | J3: Total | K3: Solde_Positif | L3: Solde_Negatif | M3: Weekend | N3: Jours_Ferie | O3: Equipe | P3: Chantier | Q3: Semaine | R3: Mois | S3: ANNEE
B4: =ROW(B4)-3 -> 1 | C4: 43437 | D4: ADAM Justin | F4: 08:00 | G4: 17:00 | H4: 12:00 | I4: 17:00 | J4: =IF(E4<>"T",IF(OR(N4=1,M4=1),"",E4),IF(OR(H4="",I4=""),G4-F4,(H4-F4)+(G4-I4))) -> 0 | K4: =IF(E4<>"T","",IF(J4>=(8/24),J4-(8/24),TEXT((8/24)-J4,"- [h]:mm"))) | L4: =IF(AND(E4="T",J4<(8/24)),(8/24)-J4,"") | M4: =IF(OR(WEEKDAY(C4)=1,WEEKDAY(C4)=7),1,"") | N4: {=IFERROR(IF(MATCH(C4,Feries,0),1,""),"")} | O4: EQUIPE 01 | P4: 1 | Q4: =WEEKNUM(C4) -> 49 | R4: =MONTH(C4) -> 12 | S4: =YEAR(C4) -> 2018
B5: =ROW(B5)-3 -> 2 | C5: 43437 | D5: ADAM Pierre-Luc | F5: 08:00 | G5: 17:00 | H5: 12:00 | I5: 17:00 | J5: =IF(E5<>"T",IF(OR(N5=1,M5=1),"",E5),IF(OR(H5="",I5=""),G5-F5,(H5-F5)+(G5-I5))) -> 0 | K5: =IF(E5<>"T","",IF(J5>=(8/24),J5-(8/24),TEXT((8/24)-J5,"- [h]:mm"))) | L5: =IF(AND(E5="T",J5<(8/24)),(8/24)-J5,"") | M5: =IF(OR(WEEKDAY(C5)=1,WEEKDAY(C5)=7),1,"") | N5: {=IFERROR(IF(MATCH(C5,Feries,0),1,""),"")} | O5: EQUIPE 01 | P5: 1 | Q5: =WEEKNUM(C5) -> 49 | R5: =MONTH(C5) -> 12 | S5: =YEAR(C5) -> 2018
B6: =ROW(B6)-3 -> 3 | C6: 43438 | D6: ADAM Justin | F6: 08:00 | G6: 17:00 | H6: 12:00 | I6: 17:00 | J6: =IF(E6<>"T",IF(OR(N6=1,M6=1),"",E6),IF(OR(H6="",I6=""),G6-F6,(H6-F6)+(G6-I6))) -> 0 | K6: =IF(E6<>"T","",IF(J6>=(8/24),J6-(8/24),TEXT((8/24)-J6,"- [h]:mm"))) | L6: =IF(AND(E6="T",J6<(8/24)),(8/24)-J6,"") | M6: =IF(OR(WEEKDAY(C6)=1,WEEKDAY(C6)=7),1,"") | N6: {=IFERROR(IF(MATCH(C6,Feries,0),1,""),"")} | O6: EQUIPE 01 | P6: 1 | Q6: =WEEKNUM(C6) -> 49 | R6: =MONTH(C6) -> 12 | S6: =YEAR(C6) -> 2018
B7: =ROW(B7)-3 -> 4 | C7: 43438 | D7: ADAM Pierre-Luc | F7: 08:00 | G7: 17:00 | H7: 12:00 | I7: 17:00 | J7: =IF(E7<>"T",IF(OR(N7=1,M7=1),"",E7),IF(OR(H7="",I7=""),G7-F7,(H7-F7)+(G7-I7))) -> 0 | K7: =IF(E7<>"T","",IF(J7>=(8/24),J7-(8/24),TEXT((8/24)-J7,"- [h]:mm"))) | L7: =IF(AND(E7="T",J7<(8/24)),(8/24)-J7,"") | M7: =IF(OR(WEEKDAY(C7)=1,WEEKDAY(C7)=7),1,"") | N7: {=IFERROR(IF(MATCH(C7,Feries,0),1,""),"")} | O7: EQUIPE 01 | P7: 1 | Q7: =WEEKNUM(C7) -> 49 | R7: =MONTH(C7) -> 12 | S7: =YEAR(C7) -> 2018
B8: =ROW(B8)-3 -> 5 | C8: 43438 | D8: ANGIBAUD Eric | F8: 08:00 | G8: 17:00 | H8: 12:00 | I8: 17:00 | J8: =IF(E8<>"T",IF(OR(N8=1,M8=1),"",E8),IF(OR(H8="",I8=""),G8-F8,(H8-F8)+(G8-I8))) -> 0 | K8: =IF(E8<>"T","",IF(J8>=(8/24),J8-(8/24),TEXT((8/24)-J8,"- [h]:mm"))) | L8: =IF(AND(E8="T",J8<(8/24)),(8/24)-J8,"") | M8: =IF(OR(WEEKDAY(C8)=1,WEEKDAY(C8)=7),1,"") | N8: {=IFERROR(IF(MATCH(C8,Feries,0),1,""),"")} | O8: EQUIPE 01 | P8: 1 | Q8: =WEEKNUM(C8) -> 49 | R8: =MONTH(C8) -> 12 | S8: =YEAR(C8) -> 2018
B9: =ROW(B9)-3 -> 6 | C9: 43439 | D9: ADAM Justin | F9: 08:00 | G9: 17:00 | H9: 12:00 | I9: 17:00 | J9: =IF(E9<>"T",IF(OR(N9=1,M9=1),"",E9),IF(OR(H9="",I9=""),G9-F9,(H9-F9)+(G9-I9))) -> 0 | K9: =IF(E9<>"T","",IF(J9>=(8/24),J9-(8/24),TEXT((8/24)-J9,"- [h]:mm"))) | L9: =IF(AND(E9="T",J9<(8/24)),(8/24)-J9,"") | M9: =IF(OR(WEEKDAY(C9)=1,WEEKDAY(C9)=7),1,"") | N9: {=IFERROR(IF(MATCH(C9,Feries,0),1,""),"")} | O9: EQUIPE 01 | P9: 1 | Q9: =WEEKNUM(C9) -> 49 | R9: =MONTH(C9) -> 12 | S9: =YEAR(C9) -> 2018
B10: =ROW(B10)-3 -> 7 | C10: 43439 | D10: ADAM Pierre-Luc | F10: 08:00 | G10: 17:00 | H10: 12:00 | I10: 17:00 | J10: =IF(E10<>"T",IF(OR(N10=1,M10=1),"",E10),IF(OR(H10="",I10=""),G10-F10,(H10-F10)+(G10-I10))) -> 0 | K10: =IF(E10<>"T","",IF(J10>=(8/24),J10-(8/24),TEXT((8/24)-J10,"- [h]:mm"))) | L10: =IF(AND(E10="T",J10<(8/24)),(8/24)-J10,"") | M10: =IF(OR(WEEKDAY(C10)=1,WEEKDAY(C10)=7),1,"") | N10: {=IFERROR(IF(MATCH(C10,Feries,0),1,""),"")} | O10: EQUIPE 01 | P10: 1 | Q10: =WEEKNUM(C10) -> 49 | R10: =MONTH(C10) -> 12 | S10: =YEAR(C10) -> 2018
B11: =ROW(B11)-3 -> 8 | C11: 43439 | D11: ANGIBAUD Eric | F11: 08:00 | G11: 17:00 | H11: 12:00 | I11: 17:00 | J11: =IF(E11<>"T",IF(OR(N11=1,M11=1),"",E11),IF(OR(H11="",I11=""),G11-F11,(H11-F11)+(G11-I11))) -> 0 | K11: =IF(E11<>"T","",IF(J11>=(8/24),J11-(8/24),TEXT((8/24)-J11,"- [h]:mm"))) | L11: =IF(AND(E11="T",J11<(8/24)),(8/24)-J11,"") | M11: =IF(OR(WEEKDAY(C11)=1,WEEKDAY(C11)=7),1,"") | N11: {=IFERROR(IF(MATCH(C11,Feries,0),1,""),"")} | O11: EQUIPE 01 | P11: 1 | Q11: =WEEKNUM(C11) -> 49 | R11: =MONTH(C11) -> 12 | S11: =YEAR(C11) -> 2018
B12: =ROW(B12)-3 -> 9 | C12: 43440 | D12: ADAM Justin | F12: 08:00 | G12: 17:00 | H12: 12:00 | I12: 17:00 | J12: =IF(E12<>"T",IF(OR(N12=1,M12=1),"",E12),IF(OR(H12="",I12=""),G12-F12,(H12-F12)+(G12-I12))) -> 0 | K12: =IF(E12<>"T","",IF(J12>=(8/24),J12-(8/24),TEXT((8/24)-J12,"- [h]:mm"))) | L12: =IF(AND(E12="T",J12<(8/24)),(8/24)-J12,"") | M12: =IF(OR(WEEKDAY(C12)=1,WEEKDAY(C12)=7),1,"") | N12: {=IFERROR(IF(MATCH(C12,Feries,0),1,""),"")} | O12: EQUIPE 01 | P12: 1 | Q12: =WEEKNUM(C12) -> 49 | R12: =MONTH(C12) -> 12 | S12: =YEAR(C12) -> 2018
B13: =ROW(B13)-3 -> 10 | C13: 43440 | D13: ADAM Pierre-Luc | F13: 08:00 | G13: 17:00 | H13: 12:00 | I13: 17:00 | J13: =IF(E13<>"T",IF(OR(N13=1,M13=1),"",E13),IF(OR(H13="",I13=""),G13-F13,(H13-F13)+(G13-I13))) -> 0 | K13: =IF(E13<>"T","",IF(J13>=(8/24),J13-(8/24),TEXT((8/24)-J13,"- [h]:mm"))) | L13: =IF(AND(E13="T",J13<(8/24)),(8/24)-J13,"") | M13: =IF(OR(WEEKDAY(C13)=1,WEEKDAY(C13)=7),1,"") | N13: {=IFERROR(IF(MATCH(C13,Feries,0),1,""),"")} | O13: EQUIPE 01 | P13: 1 | Q13: =WEEKNUM(C13) -> 49 | R13: =MONTH(C13) -> 12 | S13: =YEAR(C13) -> 2018
B14: =ROW(B14)-3 -> 11 | C14: 43440 | D14: ANGIBAUD Eric | F14: 08:00 | G14: 17:00 | H14: 12:00 | I14: 17:00 | J14: =IF(E14<>"T",IF(OR(N14=1,M14=1),"",E14),IF(OR(H14="",I14=""),G14-F14,(H14-F14)+(G14-I14))) -> 0 | K14: =IF(E14<>"T","",IF(J14>=(8/24),J14-(8/24),TEXT((8/24)-J14,"- [h]:mm"))) | L14: =IF(AND(E14="T",J14<(8/24)),(8/24)-J14,"") | M14: =IF(OR(WEEKDAY(C14)=1,WEEKDAY(C14)=7),1,"") | N14: {=IFERROR(IF(MATCH(C14,Feries,0),1,""),"")} | O14: EQUIPE 01 | P14: 1 | Q14: =WEEKNUM(C14) -> 49 | R14: =MONTH(C14) -> 12 | S14: =YEAR(C14) -> 2018
B15: =ROW(B15)-3 -> 12 | C15: 43441 | D15: ADAM Justin | F15: 08:00 | G15: 17:00 | H15: 12:00 | I15: 17:00 | J15: =IF(E15<>"T",IF(OR(N15=1,M15=1),"",E15),IF(OR(H15="",I15=""),G15-F15,(H15-F15)+(G15-I15))) -> 0 | K15: =IF(E15<>"T","",IF(J15>=(8/24),J15-(8/24),TEXT((8/24)-J15,"- [h]:mm"))) | L15: =IF(AND(E15="T",J15<(8/24)),(8/24)-J15,"") | M15: =IF(OR(WEEKDAY(C15)=1,WEEKDAY(C15)=7),1,"") | N15: {=IFERROR(IF(MATCH(C15,Feries,0),1,""),"")} | O15: EQUIPE 01 | P15: 1 | Q15: =WEEKNUM(C15) -> 49 | R15: =MONTH(C15) -> 12 | S15: =YEAR(C15) -> 2018
... B29: =ROW(B29)-3 -> 26 | C29: 43448 | D29: ADAM Justin | F29: 08:00 | G29: 17:00 | H29: 12:00 | I29: 17:00 | J29: =IF(E29<>"T",IF(OR(N29=1,M29=1),"",E29),IF(OR(H29="",I29=""),G29-F29,(H29-F29)+(G29-I29))) -> 0 | K29: =IF(E29<>"T","",IF(J29>=(8/24),J29-(8/24),TEXT((8/24)-J29,"- [h]:mm"))) | L29: =IF(AND(E29="T",J29<(8/24)),(8/24)-J29,"") | M29: =IF(OR(WEEKDAY(C29)=1,WEEKDAY(C29)=7),1,"") | N29: {=IFERROR(IF(MATCH(C29,Feries,0),1,""),"")} | O29: EQUIPE 01 | P29: 1 | Q29: =WEEKNUM(C29) -> 50 | R29: =MONTH(C29) -> 12 | S29: =YEAR(C29) -> 2018
B30: =ROW(B30)-3 -> 27 | C30: 43437 | D30: ADAM Justin | F30: 08:00 | G30: 17:00 | H30: 12:00 | I30: 17:00 | J30: =IF(E30<>"T",IF(OR(N30=1,M30=1),"",E30),IF(OR(H30="",I30=""),G30-F30,(H30-F30)+(G30-I30))) -> 0 | K30: =IF(E30<>"T","",IF(J30>=(8/24),J30-(8/24),TEXT((8/24)-J30,"- [h]:mm"))) | L30: =IF(AND(E30="T",J30<(8/24)),(8/24)-J30,"") | M30: =IF(OR(WEEKDAY(C30)=1,WEEKDAY(C30)=7),1,"") | N30: {=IFERROR(IF(MATCH(C30,Feries,0),1,""),"")} | O30: EQUIPE 01 | P30: 1 _x000D_ CONGES _x000D_ _x000D_ | Q30: =WEEKNUM(C30) -> 49 | R30: =MONTH(C30) -> 12 | S30: =YEAR(C30) -> 2018
B31: =ROW(B31)-3 -> 28 | C31: 43438 | D31: ADAM Justin | F31: 08:00 | G31: 17:00 | H31: 12:00 | I31: 17:00 | J31: =IF(E31<>"T",IF(OR(N31=1,M31=1),"",E31),IF(OR(H31="",I31=""),G31-F31,(H31-F31)+(G31-I31))) -> 0 | K31: =IF(E31<>"T","",IF(J31>=(8/24),J31-(8/24),TEXT((8/24)-J31,"- [h]:mm"))) | L31: =IF(AND(E31="T",J31<(8/24)),(8/24)-J31,"") | M31: =IF(OR(WEEKDAY(C31)=1,WEEKDAY(C31)=7),1,"") | N31: {=IFERROR(IF(MATCH(C31,Feries,0),1,""),"")} | O31: EQUIPE 01 | P31: 1 _x000D_ CONGES _x000D_ _x000D_ | Q31: =WEEKNUM(C31) -> 49 | R31: =MONTH(C31) -> 12 | S31: =YEAR(C31) -> 2018
B32: =ROW(B32)-3 -> 29 | C32: 43439 | D32: ADAM Justin | F32: 08:00 | G32: 17:00 | H32: 12:00 | I32: 17:00 | J32: =IF(E32<>"T",IF(OR(N32=1,M32=1),"",E32),IF(OR(H32="",I32=""),G32-F32,(H32-F32)+(G32-I32))) -> 0 | K32: =IF(E32<>"T","",IF(J32>=(8/24),J32-(8/24),TEXT((8/24)-J32,"- [h]:mm"))) | L32: =IF(AND(E32="T",J32<(8/24)),(8/24)-J32,"") | M32: =IF(OR(WEEKDAY(C32)=1,WEEKDAY(C32)=7),1,"") | N32: {=IFERROR(IF(MATCH(C32,Feries,0),1,""),"")} | O32: EQUIPE 01 | P32: 1 _x000D_ CONGES _x000D_ _x000D_ | Q32: =WEEKNUM(C32) -> 49 | R32: =MONTH(C32) -> 12 | S32: =YEAR(C32) -> 2018
B33: =ROW(B33)-3 -> 30 | C33: 43440 | D33: ADAM Justin | F33: 08:00 | G33: 17:00 | H33: 12:00 | I33: 17:00 | J33: =IF(E33<>"T",IF(OR(N33=1,M33=1),"",E33),IF(OR(H33="",I33=""),G33-F33,(H33-F33)+(G33-I33))) -> 0 | K33: =IF(E33<>"T","",IF(J33>=(8/24),J33-(8/24),TEXT((8/24)-J33,"- [h]:mm"))) | L33: =IF(AND(E33="T",J33<(8/24)),(8/24)-J33,"") | M33: =IF(OR(WEEKDAY(C33)=1,WEEKDAY(C33)=7),1,"") | N33: {=IFERROR(IF(MATCH(C33,Feries,0),1,""),"")} | O33: EQUIPE 01 | P33: 1 _x000D_ CONGES _x000D_ _x000D_ | Q33: =WEEKNUM(C33) -> 49 | R33: =MONTH(C33) -> 12 | S33: =YEAR(C33) -> 2018
B34: =ROW(B34)-3 -> 31 | C34: 43441 | D34: ADAM Justin | F34: 08:00 | G34: 17:00 | H34: 12:00 | I34: 17:00 | J34: =IF(E34<>"T",IF(OR(N34=1,M34=1),"",E34),IF(OR(H34="",I34=""),G34-F34,(H34-F34)+(G34-I34))) -> 0 | K34: =IF(E34<>"T","",IF(J34>=(8/24),J34-(8/24),TEXT((8/24)-J34,"- [h]:mm"))) | L34: =IF(AND(E34="T",J34<(8/24)),(8/24)-J34,"") | M34: =IF(OR(WEEKDAY(C34)=1,WEEKDAY(C34)=7),1,"") | N34: {=IFERROR(IF(MATCH(C34,Feries,0),1,""),"")} | O34: EQUIPE 01 | P34: 1 _x000D_ CONGES _x000D_ _x000D_ | Q34: =WEEKNUM(C34) -> 49 | R34: =MONTH(C34) -> 12 | S34: =YEAR(C34) -> 2018
B35: =ROW(B35)-3 -> 32 | C35: 43409 | D35: ADAM Pierre-Luc | E35: T | F35: 08:00 | G35: 17:00 | H35: 12:00 | I35: 13:30 | J35: =IF(E35<>"T",IF(OR(N35=1,M35=1),"",E35),IF(OR(H35="",I35=""),G35-F35,(H35-F35)+(G35-I35))) -> 0.3125 | K35: =IF(E35<>"T","",IF(J35>=(8/24),J35-(8/24),TEXT((8/24)-J35,"- [h]:mm"))) -> - 0:30 | L35: =IF(AND(E35="T",J35<(8/24)),(8/24)-J35,"") -> 0.020833333 | M35: =IF(OR(WEEKDAY(C35)=1,WEEKDAY(C35)=7),1,"") | N35: {=IFERROR(IF(MATCH(C35,Feries,0),1,""),"")} | O35: EQUIPE 01 | P35: 10_x000D_ MARANS MARANS_x000D_ | Q35: =WEEKNUM(C35) -> 45 | R35: =MONTH(C35) -> 11 | S35: =YEAR(C35) -> 2018
B36: =ROW(B36)-3 -> 33 | C36: 43410 | D36: ADAM Pierre-Luc | E36: T | F36: 08:00 | G36: 17:00 | H36: 12:00 | I36: 13:30 | J36: =IF(E36<>"T",IF(OR(N36=1,M36=1),"",E36),IF(OR(H36="",I36=""),G36-F36,(H36-F36)+(G36-I36))) -> 0.3125 | K36: =IF(E36<>"T","",IF(J36>=(8/24),J36-(8/24),TEXT((8/24)-J36,"- [h]:mm"))) -> - 0:30 | L36: =IF(AND(E36="T",J36<(8/24)),(8/24)-J36,"") -> 0.020833333 | M36: =IF(OR(WEEKDAY(C36)=1,WEEKDAY(C36)=7),1,"") | N36: {=IFERROR(IF(MATCH(C36,Feries,0),1,""),"")} | O36: EQUIPE 01 | P36: 10_x000D_ MARANS MARANS_x000D_ | Q36: =WEEKNUM(C36) -> 45 | R36: =MONTH(C36) -> 11 | S36: =YEAR(C36) -> 2018
B37: =ROW(B37)-3 -> 34 | C37: 43411 | D37: ADAM Pierre-Luc | E37: T | F37: 08:00 | G37: 17:00 | H37: 12:00 | I37: 13:30 | J37: =IF(E37<>"T",IF(OR(N37=1,M37=1),"",E37),IF(OR(H37="",I37=""),G37-F37,(H37-F37)+(G37-I37))) -> 0.3125 | K37: =IF(E37<>"T","",IF(J37>=(8/24),J37-(8/24),TEXT((8/24)-J37,"- [h]:mm"))) -> - 0:30 | L37: =IF(AND(E37="T",J37<(8/24)),(8/24)-J37,"") -> 0.020833333 | M37: =IF(OR(WEEKDAY(C37)=1,WEEKDAY(C37)=7),1,"") | N37: {=IFERROR(IF(MATCH(C37,Feries,0),1,""),"")} | O37: EQUIPE 01 | P37: 10_x000D_ MARANS MARANS_x000D_ | Q37: =WEEKNUM(C37) -> 45 | R37: =MONTH(C37) -> 11 | S37: =YEAR(C37) -> 2018
B38: =ROW(B38)-3 -> 35 | C38: 43412 | D38: ADAM Pierre-Luc | E38: T | F38: 08:00 | G38: 17:00 | H38: 12:00 | I38: 13:30 | J38: =IF(E38<>"T",IF(OR(N38=1,M38=1),"",E38),IF(OR(H38="",I38=""),G38-F38,(H38-F38)+(G38-I38))) -> 0.3125 | K38: =IF(E38<>"T","",IF(J38>=(8/24),J38-(8/24),TEXT((8/24)-J38,"- [h]:mm"))) -> - 0:30 | L38: =IF(AND(E38="T",J38<(8/24)),(8/24)-J38,"") -> 0.020833333 | M38: =IF(OR(WEEKDAY(C38)=1,WEEKDAY(C38)=7),1,"") | N38: {=IFERROR(IF(MATCH(C38,Feries,0),1,""),"")} | O38: EQUIPE 01 | P38: 10_x000D_ MARANS MARANS_x000D_ | Q38: =WEEKNUM(C38) -> 45 | R38: =MONTH(C38) -> 11 | S38: =YEAR(C38) -> 2018
B39: =ROW(B39)-3 -> 36 | C39: 43413 | D39: ADAM Pierre-Luc | E39: T | F39: 08:00 | G39: 17:00 | H39: 12:00 | I39: 13:30 | J39: =IF(E39<>"T",IF(OR(N39=1,M39=1),"",E39),IF(OR(H39="",I39=""),G39-F39,(H39-F39)+(G39-I39))) -> 0.3125 | K39: =IF(E39<>"T","",IF(J39>=(8/24),J39-(8/24),TEXT((8/24)-J39,"- [h]:mm"))) -> - 0:30 | L39: =IF(AND(E39="T",J39<(8/24)),(8/24)-J39,"") -> 0.020833333 | M39: =IF(OR(WEEKDAY(C39)=1,WEEKDAY(C39)=7),1,"") | N39: {=IFERROR(IF(MATCH(C39,Feries,0),1,""),"")} | O39: EQUIPE 01 | P39: 10_x000D_ MARANS MARANS_x000D_ | Q39: =WEEKNUM(C39) -> 45 | R39: =MONTH(C39) -> 11 | S39: =YEAR(C39) -> 2018
B40: =ROW(B40)-3 -> 37 | C40: 43423 | D40: ADAM Pierre-Luc | E40: T | F40: 08:00 | G40: 17:00 | H40: 12:00 | I40: 13:30 | J40: =IF(E40<>"T",IF(OR(N40=1,M40=1),"",E40),IF(OR(H40="",I40=""),G40-F40,(H40-F40)+(G40-I40))) -> 0.3125 | K40: =IF(E40<>"T","",IF(J40>=(8/24),J40-(8/24),TEXT((8/24)-J40,"- [h]:mm"))) -> - 0:30 | L40: =IF(AND(E40="T",J40<(8/24)),(8/24)-J40,"") -> 0.020833333 | M40: =IF(OR(WEEKDAY(C40)=1,WEEKDAY(C40)=7),1,"") | N40: {=IFERROR(IF(MATCH(C40,Feries,0),1,""),"")} | O40: EQUIPE 01 | P40: 12_x000D_ DECHETTERIE LE LOUROUX BECONNAIS_x000D_ | Q40: =WEEKNUM(C40) -> 47 | R40: =MONTH(C40) -> 11 | S40: =YEAR(C40) -> 2018
B41: =ROW(B41)-3 -> 38 | C41: 43424 | D41: ADAM Pierre-Luc | E41: T | F41: 08:00 | G41: 17:00 | H41: 12:00 | I41: 13:30 | J41: =IF(E41<>"T",IF(OR(N41=1,M41=1),"",E41),IF(OR(H41="",I41=""),G41-F41,(H41-F41)+(G41-I41))) -> 0.3125 | K41: =IF(E41<>"T","",IF(J41>=(8/24),J41-(8/24),TEXT((8/24)-J41,"- [h]:mm"))) -> - 0:30 | L41: =IF(AND(E41="T",J41<(8/24)),(8/24)-J41,"") -> 0.020833333 | M41: =IF(OR(WEEKDAY(C41)=1,WEEKDAY(C41)=7),1,"") | N41: {=IFERROR(IF(MATCH(C41,Feries,0),1,""),"")} | O41: EQUIPE 01 | P41: 12_x000D_ DECHETTERIE LE LOUROUX BECONNAIS_x000D_ | Q41: =WEEKNUM(C41) -> 47 | R41: =MONTH(C41) -> 11 | S41: =YEAR(C41) -> 2018
B42: =ROW(B42)-3 -> 39 | C42: 43425 | D42: ADAM Pierre-Luc | E42: T | F42: 08:00 | G42: 17:00 | H42: 12:00 | I42: 13:30 | J42: =IF(E42<>"T",IF(OR(N42=1,M42=1),"",E42),IF(OR(H42="",I42=""),G42-F42,(H42-F42)+(G42-I42))) -> 0.3125 | K42: =IF(E42<>"T","",IF(J42>=(8/24),J42-(8/24),TEXT((8/24)-J42,"- [h]:mm"))) -> - 0:30 | L42: =IF(AND(E42="T",J42<(8/24)),(8/24)-J42,"") -> 0.020833333 | M42: =IF(OR(WEEKDAY(C42)=1,WEEKDAY(C42)=7),1,"") | N42: {=IFERROR(IF(MATCH(C42,Feries,0),1,""),"")} | O42: EQUIPE 01 | P42: 12_x000D_ DECHETTERIE LE LOUROUX BECONNAIS_x000D_ | Q42: =WEEKNUM(C42) -> 47 | R42: =MONTH(C42) -> 11 | S42: =YEAR(C42) -> 2018
B43: =ROW(B43)-3 -> 40 | C43: 43426 | D43: ADAM Pierre-Luc | E43: T | F43: 08:00 | G43: 17:00 | H43: 12:00 | I43: 13:30 | J43: =IF(E43<>"T",IF(OR(N43=1,M43=1),"",E43),IF(OR(H43="",I43=""),G43-F43,(H43-F43)+(G43-I43))) -> 0.3125 | K43: =IF(E43<>"T","",IF(J43>=(8/24),J43-(8/24),TEXT((8/24)-J43,"- [h]:mm"))) -> - 0:30 | L43: =IF(AND(E43="T",J43<(8/24)),(8/24)-J43,"") -> 0.020833333 | M43: =IF(OR(WEEKDAY(C43)=1,WEEKDAY(C43)=7),1,"") | N43: {=IFERROR(IF(MATCH(C43,Feries,0),1,""),"")} | O43: EQUIPE 01 | P43: 12_x000D_ DECHETTERIE LE LOUROUX BECONNAIS_x000D_ | Q43: =WEEKNUM(C43) -> 47 | R43: =MONTH(C43) -> 11 | S43: =YEAR(C43) -> 2018
B44: =ROW(B44)-3 -> 41 | C44: 43427 | D44: ADAM Pierre-Luc | E44: T | F44: 08:00 | G44: 17:00 | H44: 12:00 | I44: 13:30 | J44: =IF(E44<>"T",IF(OR(N44=1,M44=1),"",E44),IF(OR(H44="",I44=""),G44-F44,(H44-F44)+(G44-I44))) -> 0.3125 | K44: =IF(E44<>"T","",IF(J44>=(8/24),J44-(8/24),TEXT((8/24)-J44,"- [h]:mm"))) -> - 0:30 | L44: =IF(AND(E44="T",J44<(8/24)),(8/24)-J44,"") -> 0.020833333 | M44: =IF(OR(WEEKDAY(C44)=1,WEEKDAY(C44)=7),1,"") | N44: {=IFERROR(IF(MATCH(C44,Feries,0),1,""),"")} | O44: EQUIPE 01 | P44: 12_x000D_ DECHETTERIE LE LOUROUX BECONNAIS_x000D_ | Q44: =WEEKNUM(C44) -> 47 | R44: =MONTH(C44) -> 11 | S44: =YEAR(C44) -> 2018
B45: =ROW(B45)-3 -> 42 | C45: 43444 | D45: ARABI Ali | F45: 08:00 | G45: 17:00 | H45: 12:00 | I45: 17:00 | J45: =IF(E45<>"T",IF(OR(N45=1,M45=1),"",E45),IF(OR(H45="",I45=""),G45-F45,(H45-F45)+(G45-I45))) -> 0 | K45: =IF(E45<>"T","",IF(J45>=(8/24),J45-(8/24),TEXT((8/24)-J45,"- [h]:mm"))) | L45: =IF(AND(E45="T",J45<(8/24)),(8/24)-J45,"") | M45: =IF(OR(WEEKDAY(C45)=1,WEEKDAY(C45)=7),1,"") | N45: {=IFERROR(IF(MATCH(C45,Feries,0),1,""),"")} | O45: EQUIPE 02 | P45: 13 _x000D_ LOUVAINES _x000D_ _x000D_ LOUVAINES | Q45: =WEEKNUM(C45) -> 50 | R45: =MONTH(C45) -> 12 | S45: =YEAR(C45) -> 2018
B46: =ROW(B46)-3 -> 43 | C46: 43444 | D46: ATELIER Dépannage | F46: 08:00 | G46: 17:00 | H46: 12:00 | I46: 17:00 | J46: =IF(E46<>"T",IF(OR(N46=1,M46=1),"",E46),IF(OR(H46="",I46=""),G46-F46,(H46-F46)+(G46-I46))) -> 0 | K46: =IF(E46<>"T","",IF(J46>=(8/24),J46-(8/24),TEXT((8/24)-J46,"- [h]:mm"))) | L46: =IF(AND(E46="T",J46<(8/24)),(8/24)-J46,"") | M46: =IF(OR(WEEKDAY(C46)=1,WEEKDAY(C46)=7),1,"") | N46: {=IFERROR(IF(MATCH(C46,Feries,0),1,""),"")} | O46: EQUIPE 02 | P46: 13 _x000D_ LOUVAINES _x000D_ _x000D_ LOUVAINES | Q46: =WEEKNUM(C46) -> 50 | R46: =MONTH(C46) -> 12 | S46: =YEAR(C46) -> 2018
B47: =ROW(B47)-3 -> 44 | C47: 43444 | D47: ATHIMOND David | F47: 08:00 | G47: 17:00 | H47: 12:00 | I47: 17:00 | J47: =IF(E47<>"T",IF(OR(N47=1,M47=1),"",E47),IF(OR(H47="",I47=""),G47-F47,(H47-F47)+(G47-I47))) -> 0 | K47: =IF(E47<>"T","",IF(J47>=(8/24),J47-(8/24),TEXT((8/24)-J47,"- [h]:mm"))) | L47: =IF(AND(E47="T",J47<(8/24)),(8/24)-J47,"") | M47: =IF(OR(WEEKDAY(C47)=1,WEEKDAY(C47)=7),1,"") | N47: {=IFERROR(IF(MATCH(C47,Feries,0),1,""),"")} | O47: EQUIPE 02 | P47: 13 _x000D_ LOUVAINES _x000D_ _x000D_ LOUVAINES | Q47: =WEEKNUM(C47) -> 50 | R47: =MONTH(C47) -> 12 | S47: =YEAR(C47) -> 2018
B48: =ROW(B48)-3 -> 45 | C48: 43444 | D48: AUDRAN Patrick | F48: 08:00 | G48: 17:00 | H48: 12:00 | I48: 17:00 | J48: =IF(E48<>"T",IF(OR(N48=1,M48=1),"",E48),IF(OR(H48="",I48=""),G48-F48,(H48-F48)+(G48-I48))) -> 0 | K48: =IF(E48<>"T","",IF(J48>=(8/24),J48-(8/24),TEXT((8/24)-J48,"- [h]:mm"))) | L48: =IF(AND(E48="T",J48<(8/24)),(8/24)-J48,"") | M48: =IF(OR(WEEKDAY(C48)=1,WEEKDAY(C48)=7),1,"") | N48: {=IFERROR(IF(MATCH(C48,Feries,0),1,""),"")} | O48: EQUIPE 02 | P48: 13 _x000D_ LOUVAINES _x000D_ _x000D_ LOUVAINES | Q48: =WEEKNUM(C48) -> 50 | R48: =MONTH(C48) -> 12 | S48: =YEAR(C48) -> 2018
B49: =ROW(B49)-3 -> 46 | C49: 43444 | D49: AUVRAI MAXIME | F49: 08:00 | G49: 17:00 | H49: 12:00 | I49: 17:00 | J49: =IF(E49<>"T",IF(OR(N49=1,M49=1),"",E49),IF(OR(H49="",I49=""),G49-F49,(H49-F49)+(G49-I49))) -> 0 | K49: =IF(E49<>"T","",IF(J49>=(8/24),J49-(8/24),TEXT((8/24)-J49,"- [h]:mm"))) | L49: =IF(AND(E49="T",J49<(8/24)),(8/24)-J49,"") | M49: =IF(OR(WEEKDAY(C49)=1,WEEKDAY(C49)=7),1,"") | N49: {=IFERROR(IF(MATCH(C49,Feries,0),1,""),"")} | O49: EQUIPE 02 | P49: 13 _x000D_ LOUVAINES _x000D_ _x000D_ LOUVAINES | Q49: =WEEKNUM(C49) -> 50 | R49: =MONTH(C49) -> 12 | S49: =YEAR(C49) -> 2018
B50: =ROW(B50)-3 -> 47 | C50: 43445 | D50: ARABI Ali | F50: 08:00 | G50: 17:00 | H50: 12:00 | I50: 17:00 | J50: =IF(E50<>"T",IF(OR(N50=1,M50=1),"",E50),IF(OR(H50="",I50=""),G50-F50,(H50-F50)+(G50-I50))) -> 0 | K50: =IF(E50<>"T","",IF(J50>=(8/24),J50-(8/24),TEXT((8/24)-J50,"- [h]:mm"))) | L50: =IF(AND(E50="T",J50<(8/24)),(8/24)-J50,"") | M50: =IF(OR(WEEKDAY(C50)=1,WEEKDAY(C50)=7),1,"") | N50: {=IFERROR(IF(MATCH(C50,Feries,0),1,""),"")} | O50: EQUIPE 02 | P50: 13 _x000D_ LOUVAINES _x000D_ _x000D_ LOUVAINES | Q50: =WEEKNUM(C50) -> 50 | R50: =MONTH(C50) -> 12 | S50: =YEAR(C50) -> 2018
B51: =ROW(B51)-3 -> 48 | C51: 43445 | D51: ATELIER Dépannage | F51: 08:00 | G51: 17:00 | H51: 12:00 | I51: 17:00 | J51: =IF(E51<>"T",IF(OR(N51=1,M51=1),"",E51),IF(OR(H51="",I51=""),G51-F51,(H51-F51)+(G51-I51))) -> 0 | K51: =IF(E51<>"T","",IF(J51>=(8/24),J51-(8/24),TEXT((8/24)-J51,"- [h]:mm"))) | L51: =IF(AND(E51="T",J51<(8/24)),(8/24)-J51,"") | M51: =IF(OR(WEEKDAY(C51)=1,WEEKDAY(C51)=7),1,"") | N51: {=IFERROR(IF(MATCH(C51,Feries,0),1,""),"")} | O51: EQUIPE 02 | P51: 13 _x000D_ LOUVAINES _x000D_ _x000D_ LOUVAINES | Q51: =WEEKNUM(C51) -> 50 | R51: =MONTH(C51) -> 12 | S51: =YEAR(C51) -> 2018
B52: =ROW(B52)-3 -> 49 | C52: 43445 | D52: ATHIMOND David | F52: 08:00 | G52: 17:00 | H52: 12:00 | I52: 17:00 | J52: =IF(E52<>"T",IF(OR(N52=1,M52=1),"",E52),IF(OR(H52="",I52=""),G52-F52,(H52-F52)+(G52-I52))) -> 0 | K52: =IF(E52<>"T","",IF(J52>=(8/24),J52-(8/24),TEXT((8/24)-J52,"- [h]:mm"))) | L52: =IF(AND(E52="T",J52<(8/24)),(8/24)-J52,"") | M52: =IF(OR(WEEKDAY(C52)=1,WEEKDAY(C52)=7),1,"") | N52: {=IFERROR(IF(MATCH(C52,Feries,0),1,""),"")} | O52: EQUIPE 02 | P52: 13 _x000D_ LOUVAINES _x000D_ _x000D_ LOUVAINES | Q52: =WEEKNUM(C52) -> 50 | R52: =MONTH(C52) -> 12 | S52: =YEAR(C52) -> 2018
B53: =ROW(B53)-3 -> 50 | C53: 43445 | D53: AUDRAN Patrick | F53: 08:00 | G53: 17:00 | H53: 12:00 | I53: 17:00 | J53: =IF(E53<>"T",IF(OR(N53=1,M53=1),"",E53),IF(OR(H53="",I53=""),G53-F53,(H53-F53)+(G53-I53))) -> 0 | K53: =IF(E53<>"T","",IF(J53>=(8/24),J53-(8/24),TEXT((8/24)-J53,"- [h]:mm"))) | L53: =IF(AND(E53="T",J53<(8/24)),(8/24)-J53,"") | M53: =IF(OR(WEEKDAY(C53)=1,WEEKDAY(C53)=7),1,"") | N53: {=IFERROR(IF(MATCH(C53,Feries,0),1,""),"")} | O53: EQUIPE 02 | P53: 13 _x000D_ LOUVAINES _x000D_ _x000D_ LOUVAINES | Q53: =WEEKNUM(C53) -> 50 | R53: =MONTH(C53) -> 12 | S53: =YEAR(C53) -> 2018
B54: =ROW(B54)-3 -> 51 | C54: 43445 | D54: AUVRAI MAXIME | F54: 08:00 | G54: 17:00 | H54: 12:00 | I54: 17:00 | J54: =IF(E54<>"T",IF(OR(N54=1,M54=1),"",E54),IF(OR(H54="",I54=""),G54-F54,(H54-F54)+(G54-I54))) -> 0 | K54: =IF(E54<>"T","",IF(J54>=(8/24),J54-(8/24),TEXT((8/24)-J54,"- [h]:mm"))) | L54: =IF(AND(E54="T",J54<(8/24)),(8/24)-J54,"") | M54: =IF(OR(WEEKDAY(C54)=1,WEEKDAY(C54)=7),1,"") | N54: {=IFERROR(IF(MATCH(C54,Feries,0),1,""),"")} | O54: EQUIPE 02 | P54: 13 _x000D_ LOUVAINES _x000D_ _x000D_ LOUVAINES | Q54: =WEEKNUM(C54) -> 50 | R54: =MONTH(C54) -> 12 | S54: =YEAR(C54) -> 2018
B55: =ROW(B55)-3 -> 52 | C55: 43446 | D55: ARABI Ali | F55: 08:00 | G55: 17:00 | H55: 12:00 | I55: 17:00 | J55: =IF(E55<>"T",IF(OR(N55=1,M55=1),"",E55),IF(OR(H55="",I55=""),G55-F55,(H55-F55)+(G55-I55))) -> 0 | K55: =IF(E55<>"T","",IF(J55>=(8/24),J55-(8/24),TEXT((8/24)-J55,"- [h]:mm"))) | L55: =IF(AND(E55="T",J55<(8/24)),(8/24)-J55,"") | M55: =IF(OR(WEEKDAY(C55)=1,WEEKDAY(C55)=7),1,"") | N55: {=IFERROR(IF(MATCH(C55,Feries,0),1,""),"")} | O55: EQUIPE 02 | P55: 13 _x000D_ LOUVAINES _x000D_ _x000D_ LOUVAINES | Q55: =WEEKNUM(C55) -> 50 | R55: =MONTH(C55) -> 12 | S55: =YEAR(C55) -> 2018
...

Sheet PgMTL
B1: Semaine : | C1: 1 | D1: Chantier: | E1: 4 ZAC. DES CHENES AVIRÉ | L1: =IFERROR(WEEKDAY(L2),"") -> 5 | M1: =IFERROR(WEEKDAY(M2),"") -> 6
A2: ID | B2: Semaine : | C2: Chantier | D2: =(+REFERENCE!B13+((+C1-1)*7))-((WEEKDAY((+REFERENCE!B13+((+C1-1)*7)),2))-1) -> 43465 | E2: =+D2+1 -> 43466 | F2: =+E2+1 -> 43467 | G2: =+F2+1 -> 43468 | H2: =+G2+1 -> 43469 | I2: =+H2+3 -> 43472 | J2: =+I2+1 -> 43473 | K2: =+J2+1 -> 43474 | L2: =+K2+1 -> 43475 | M2: =+L2+1 -> 43476
A3: =ROW(B4)-3 -> 1 | D3: {=IFERROR(INDEX(Tableau7[Nom],SMALL(IF(AND($E$1=Tableau7[Chantier],ROW(Tableau7[Chantier])-MIN(ROW(BD!$P$4)+1),$D$2=Tableau7[Date],ROW(Tableau7[Date])-MIN(ROW(BD!$C$4))+1)," "),ROWS(D$2:D2))),"")} -> ADAM Justin | E3: {=IFERROR(INDEX(Tableau7[Nom],SMALL(IF(AND($E$1=Tableau7[Chantier],ROW(Tableau7[Chantier])-MIN(ROW(BD!$P$4)+1),$E$2=Tableau7[Date],ROW(Tableau7[Date])-MIN(ROW(BD!$C$4))+1)," "),ROWS(E$1:E1))),"")} -> ADAM Justin | F3: {=IFERROR(INDEX(Tableau7[Nom],SMALL(IF($F$2=Tableau7[Date],ROW(Tableau7[Date])-MIN(ROW(BD!$C$4))+1," "),ROWS(F$1:F1))),"")} | G3: {=IFERROR(INDEX(Tableau7[Nom],SMALL(IF($E$1=Tableau7[Chantier],ROW(Tableau7[Chantier])-MIN(ROW(BD!$P$4))+1," "),ROWS(G$1:G1))),"")} -> ANGIBAUD Eric | H3: {=IFERROR(INDEX(Tableau7[Nom],SMALL(IF($H$2=Tableau7[Date],ROW(Tableau7[Date])-MIN(ROW(BD!$C$4))+1," "),ROWS(H$3:H3))),"")} -> ADAM Justin | I3: {=IFERROR(INDEX(Tableau7[Nom],SMALL(IF(AND($E$1=Tableau7[Chantier],ROW(Tableau7[Chantier])-MIN(ROW(BD!$P$4)+1),$E$2=Tableau7[Date],ROW(Tableau7[Date])-MIN(ROW(BD!$C$4))+1)," "),ROWS(E$1:E1))),"")} -> ADAM Justin | J3: {=IFERROR(INDEX(Tableau7[Nom],SMALL(IF($E$1=Tableau7[Chantier],ROW(Tableau7[Chantier])-MIN(ROW(BD!$P$4))+1," "),ROWS(J$1:J1))),"")} -> ANGIBAUD Eric | K3: {=IFERROR(INDEX(Tableau7[Nom],SMALL(IF($K$2=Tableau7[Date],ROW(Tableau7[Date])-MIN(ROW(BD!$C$4))+1," "),ROWS(K$1:K1))),"")} -> ANGIBAUD Eric | L3: {=IFERROR(INDEX(Tableau7[Nom],SMALL(IF($L$2=Tableau7[Date],ROW(Tableau7[Date])-MIN(ROW(BD!$C$4))+1," "),ROWS(D$1:D1))),"")} -> ANGIBAUD Eric | M3: {=IFERROR(INDEX(Tableau7[Nom],SMALL(IF($M$2=Tableau7[Date],ROW(Tableau7[Date])-MIN(ROW(BD!$C$4))+1," "),ROWS(D$1:D1))),"")} -> ANGIBAUD Eric
A4: =ROW(B5)-3 -> 2 | D4: {=IFERROR(INDEX(Tableau7[Nom],SMALL(IF(AND($E$1=Tableau7[Chantier],ROW(Tableau7[Chantier])-MIN(ROW(BD!$P$4)+1),$D$2=Tableau7[Date],ROW(Tableau7[Date])-MIN(ROW(BD!$C$4))+1)," "),ROWS(D$2:D3))),"")} | E4: =IFERROR(INDEX(Tableau7[Nom],SMALL(IF($E$1=Tableau7[Chantier],ROW(Tableau7[Chantier])-MIN(ROW(BD!$P$4))+1," "),IF($E$2=Tableau7[Chantier],ROW(Tableau7[Chantier])-MIN(ROW(BD!$P$4))+1," ")),ROWS(E$3:E4)),"") | F4: {=IFERROR(INDEX(Tableau7[Nom],SMALL(IF($F$2=Tableau7[Date],ROW(Tableau7[Date])-MIN(ROW(BD!$C$4))+1," "),ROWS(F$1:F2))),"")} | G4: {=IFERROR(INDEX(Tableau7[Nom],SMALL(IF($E$1=Tableau7[Chantier],ROW(Tableau7[Chantier])-MIN(ROW(BD!$P$4))+1," "),ROWS(G$1:G2))),"")} -> Bull D6N LGP | H4: {=IFERROR(INDEX(Tableau7[Nom],SMALL(IF($H$2=Tableau7[Date],ROW(Tableau7[Date])-MIN(ROW(BD!$C$4))+1," "),ROWS(H$3:H4))),"")} -> ADAM Pierre-Luc | I4: {=IFERROR(INDEX(Tableau7[Nom],SMALL(IF(AND($E$1=Tableau7[Chantier],ROW(Tableau7[Chantier])-MIN(ROW(BD!$P$4)+1),$E$2=Tableau7[Date],ROW(Tableau7[Date])-MIN(ROW(BD!$C$4))+1)," "),ROWS(E$1:E2))),"")} | J4: {=IFERROR(INDEX(Tableau7[Nom],SMALL(IF($E$1=Tableau7[Chantier],ROW(Tableau7[Chantier])-MIN(ROW(BD!$P$4))+1," "),ROWS(J$1:J2))),"")} -> Bull D6N LGP | K4: {=IFERROR(INDEX(Tableau7[Nom],SMALL(IF($K$2=Tableau7[Date],ROW(Tableau7[Date])-MIN(ROW(BD!$C$4))+1," "),ROWS(K$1:K2))),"")} -> Bull D6N LGP | L4: {=IFERROR(INDEX(Tableau7[Nom],SMALL(IF($L$2=Tableau7[Date],ROW(Tableau7[Date])-MIN(ROW(BD!$C$4))+1," "),ROWS(D$1:D2))),"")} -> Bull D6N LGP | M4: {=IFERROR(INDEX(Tableau7[Nom],SMALL(IF($M$2=Tableau7[Date],ROW(Tableau7[Date])-MIN(ROW(BD!$C$4))+1," "),ROWS(D$1:D2))),"")} -> Bull D6N LGP
A5: =ROW(B6)-3 -> 3 | D5: {=IFERROR(INDEX(Tableau7[Nom],SMALL(IF(AND($E$1=Tableau7[Chantier],ROW(Tableau7[Chantier])-MIN(ROW(BD!$P$4)+1),$D$2=Tableau7[Date],ROW(Tableau7[Date])-MIN(ROW(BD!$C$4))+1)," "),ROWS(D$2:D4))),"")} | E5: {=IFERROR(INDEX(Tableau7[Nom],SMALL(IF($E$1=Tableau7[Chantier],ROW(Tableau7[Chantier])-MIN(ROW(BD!$P$4))+1," "),IF($E$1=Tableau7[Chantier],ROW(Tableau7[Chantier])-MIN(ROW(BD!$P$4))+1," ")),ROWS(E$3:E5)),"")} | F5: {=IFERROR(INDEX(Tableau7[Nom],SMALL(IF($F$2=Tableau7[Date],ROW(Tableau7[Date])-MIN(ROW(BD!$C$4))+1," "),ROWS(F$1:F3))),"")} | G5: {=IFERROR(INDEX(Tableau7[Nom],SMALL(IF($E$1=Tableau7[Chantier],ROW(Tableau7[Chantier])-MIN(ROW(BD!$P$4))+1," "),ROWS(G$1:G3))),"")} -> ANGIBAUD Eric | H5: {=IFERROR(INDEX(Tableau7[Nom],SMALL(IF($H$2=Tableau7[Date],ROW(Tableau7[Date])-MIN(ROW(BD!$C$4))+1," "),ROWS(D$1:D4))),"")} | I5: {=IFERROR(INDEX(Tableau7[Nom],SMALL(IF($I$2=Tableau7[Date],ROW(Tableau7[Date])-MIN(ROW(BD!$C$4))+1," "),ROWS(D$1:D3))),"")} | J5: {=IFERROR(INDEX(Tableau7[Nom],SMALL(IF($E$1=Tableau7[Chantier],ROW(Tableau7[Chantier])-MIN(ROW(BD!$P$4))+1," "),ROWS(J$1:J3))),"")} -> ANGIBAUD Eric | K5: {=IFERROR(INDEX(Tableau7[Nom],SMALL(IF($K$2=Tableau7[Date],ROW(Tableau7[Date])-MIN(ROW(BD!$C$4))+1," "),ROWS(D$1:D3))),"")} | L5: {=IFERROR(INDEX(Tableau7[Nom],SMALL(IF($L$2=Tableau7[Date],ROW(Tableau7[Date])-MIN(ROW(BD!$C$4))+1," "),ROWS(D$1:D3))),"")} | M5: {=IFERROR(INDEX(Tableau7[Nom],SMALL(IF($M$2=Tableau7[Date],ROW(Tableau7[Date])-MIN(ROW(BD!$C$4))+1," "),ROWS(D$1:D3))),"")}
A6: =ROW(B7)-3 -> 4 | D6: {=IFERROR(INDEX(Tableau7[Nom],SMALL(IF(AND($E$1=Tableau7[Chantier],ROW(Tableau7[Chantier])-MIN(ROW(BD!$P$4)+1),$D$2=Tableau7[Date],ROW(Tableau7[Date])-MIN(ROW(BD!$C$4))+1)," "),ROWS(D$1:D4))),"")} | E6: {=IFERROR(INDEX(Tableau7[Nom],SMALL(IF($E$1=Tableau7[Chantier],ROW(Tableau7[Chantier])-MIN(ROW(BD!$P$4))+1," "),IF($E$1=Tableau7[Chantier],ROW(Tableau7[Chantier])-MIN(ROW(BD!$P$4))+1," ")),ROWS(E$3:E6)),"")} | F6: {=IFERROR(INDEX(Tableau7[Nom],SMALL(IF(AND($E$1=Tableau7[Chantier],ROW(Tableau7[Chantier])-MIN(ROW(BD!$P$4)+1),$H$2=Tableau7[Date],ROW(Tableau7[Date])-MIN(ROW(BD!$C$4))+1)," "),ROWS(F$1:F4))),"")} | G6: {=IFERROR(INDEX(Tableau7[Nom],SMALL(IF($E$1=Tableau7[Chantier],ROW(Tableau7[Chantier])-MIN(ROW(BD!$P$4))+1," "),ROWS(G$1:G4))),"")} -> Bull D6N LGP | H6: {=IFERROR(INDEX(Tableau7[Nom],SMALL(IF(AND($E$1=Tableau7[Chantier],ROW(Tableau7[Chantier])-MIN(ROW(BD!$P7)+1),$H$2=Tableau7[Date],ROW(Tableau7[Date])-MIN(ROW(BD!$C7))+1)," "),ROWS(H$3:H6))),"")} | I6: {=IFERROR(INDEX(Tableau7[Nom],SMALL(IF($I$2=Tableau7[Date],ROW(Tableau7[Date])-MIN(ROW(BD!$C$4))+1," "),ROWS(D$1:D4))),"")} | J6: {=IFERROR(INDEX(Tableau7[Nom],SMALL(IF($E$1=Tableau7[Chantier],ROW(Tableau7[Chantier])-MIN(ROW(BD!$P$4))+1," "),ROWS(J$1:J4))),"")} -> Bull D6N LGP | K6: {=IFERROR(INDEX(Tableau7[Nom],SMALL(IF($K$2=Tableau7[Date],ROW(Tableau7[Date])-MIN(ROW(BD!$C$4))+1," "),ROWS(D$1:D4))),"")} | L6: {=IFERROR(INDEX(Tableau7[Nom],SMALL(IF($L$2=Tableau7[Date],ROW(Tableau7[Date])-MIN(ROW(BD!$C$4))+1," "),ROWS(D$1:D4))),"")} | M6: {=IFERROR(INDEX(Tableau7[Nom],SMALL(IF($M$2=Tableau7[Date],ROW(Tableau7[Date])-MIN(ROW(BD!$C$4))+1," "),ROWS(D$1:D4))),"")}
A7: =ROW(B8)-3 -> 5 | D7: {=IFERROR(INDEX(Tableau7[Nom],SMALL(IF(AND($E$1=Tableau7[Chantier],ROW(Tableau7[Chantier])-MIN(ROW(BD!$P$4)+1),$D$2=Tableau7[Date],ROW(Tableau7[Date])-MIN(ROW(BD!#REF!))+1)," "),ROWS(D$1:D5))),"")} | E7: {=IFERROR(INDEX(Tableau7[Nom],SMALL(IF($E$1=Tableau7[Chantier],ROW(Tableau7[Chantier])-MIN(ROW(BD!$P$4))+1," "),IF($E$1=Tableau7[Chantier],ROW(Tableau7[Chantier])-MIN(ROW(BD!$P$4))+1," ")),ROWS(E$3:E7)),"")} | F7: {=IFERROR(INDEX(Tableau7[Nom],SMALL(IF(AND($E$1=Tableau7[Chantier],ROW(Tableau7[Chantier])-MIN(ROW(BD!$P$4)+1),$H$2=Tableau7[Date],ROW(Tableau7[Date])-MIN(ROW(BD!$C$4))+1)," "),ROWS(F$1:F5))),"")} | G7: {=IFERROR(INDEX(Tableau7[Nom],SMALL(IF($E$1=Tableau7[Chantier],ROW(Tableau7[Chantier])-MIN(ROW(BD!$P$4))+1," "),ROWS(G$1:G5))),"")} -> ANGIBAUD Eric | H7: {=IFERROR(INDEX(Tableau7[Nom],SMALL(IF(AND($E$1=Tableau7[Chantier],ROW(Tableau7[Chantier])-MIN(ROW(BD!$P8)+1),$H$2=Tableau7[Date],ROW(Tableau7[Date])-MIN(ROW(BD!$C8))+1)," "),ROWS(H$3:H7))),"")} | I7: {=IFERROR(INDEX(Tableau7[Nom],SMALL(IF($I$2=Tableau7[Date],ROW(Tableau7[Date])-MIN(ROW(BD!$C$4))+1," "),ROWS(D$1:D5))),"")} | J7: {=IFERROR(INDEX(Tableau7[Nom],SMALL(IF($E$1=Tableau7[Chantier],ROW(Tableau7[Chantier])-MIN(ROW(BD!$P$4))+1," "),ROWS(J$1:J5))),"")} -> ANGIBAUD Eric | K7: {=IFERROR(INDEX(Tableau7[Nom],SMALL(IF($K$2=Tableau7[Date],ROW(Tableau7[Date])-MIN(ROW(BD!$C$4))+1," "),ROWS(D$1:D5))),"")} | L7: {=IFERROR(INDEX(Tableau7[Nom],SMALL(IF($L$2=Tableau7[Date],ROW(Tableau7[Date])-MIN(ROW(BD!$C$4))+1," "),ROWS(D$1:D5))),"")} | M7: {=IFERROR(INDEX(Tableau7[Nom],SMALL(IF($M$2=Tableau7[Date],ROW(Tableau7[Date])-MIN(ROW(BD!$C$4))+1," "),ROWS(D$1:D5))),"")}
A8: =ROW(B9)-3 -> 6 | D8: {=IFERROR(INDEX(Tableau7[Nom],SMALL(IF(AND($E$1=Tableau7[Chantier],ROW(Tableau7[Chantier])-MIN(ROW(BD!$P$4)+1),$D$2=Tableau7[Date],ROW(Tableau7[Date])-MIN(ROW(BD!$C6))+1)," "),ROWS(D$1:D6))),"")} | E8: {=IFERROR(INDEX(Tableau7[Nom],SMALL(IF($E$1=Tableau7[Chantier],ROW(Tableau7[Chantier])-MIN(ROW(BD!$P$4))+1," "),IF($E$1=Tableau7[Chantier],ROW(Tableau7[Chantier])-MIN(ROW(BD!$P$4))+1," ")),ROWS(E$3:E8)),"")} | F8: {=IFERROR(INDEX(Tableau7[Nom],SMALL(IF(AND($E$1=Tableau7[Chantier],ROW(Tableau7[Chantier])-MIN(ROW(BD!$P$4)+1),$H$2=Tableau7[Date],ROW(Tableau7[Date])-MIN(ROW(BD!$C$4))+1)," "),ROWS(F$1:F6))),"")} | G8: {=IFERROR(INDEX(Tableau7[Nom],SMALL(IF($E$1=Tableau7[Chantier],ROW(Tableau7[Chantier])-MIN(ROW(BD!$P$4))+1," "),ROWS(G$1:G6))),"")} -> Bull D6N LGP | H8: {=IFERROR(INDEX(Tableau7[Nom],SMALL(IF(AND($E$1=Tableau7[Chantier],ROW(Tableau7[Chantier])-MIN(ROW(BD!$P9)+1),$H$2=Tableau7[Date],ROW(Tableau7[Date])-MIN(ROW(BD!$C9))+1)," "),ROWS(H$3:H8))),"")} | I8: {=IFERROR(INDEX(Tableau7[Nom],SMALL(IF($I$2=Tableau7[Date],ROW(Tableau7[Date])-MIN(ROW(BD!$C$4))+1," "),ROWS(D$1:D6))),"")} | J8: {=IFERROR(INDEX(Tableau7[Nom],SMALL(IF($E$1=Tableau7[Chantier],ROW(Tableau7[Chantier])-MIN(ROW(BD!$P$4))+1," "),ROWS(J$1:J6))),"")} -> Bull D6N LGP | K8: {=IFERROR(INDEX(Tableau7[Nom],SMALL(IF($K$2=Tableau7[Date],ROW(Tableau7[Date])-MIN(ROW(BD!$C$4))+1," "),ROWS(D$1:D6))),"")} | L8: {=IFERROR(INDEX(Tableau7[Nom],SMALL(IF($L$2=Tableau7[Date],ROW(Tableau7[Date])-MIN(ROW(BD!$C$4))+1," "),ROWS(D$1:D6))),"")} | M8: {=IFERROR(INDEX(Tableau7[Nom],SMALL(IF($M$2=Tableau7[Date],ROW(Tableau7[Date])-MIN(ROW(BD!$C$4))+1," "),ROWS(D$1:D6))),"")}
A9: =ROW(B10)-3 -> 7 | D9: {=IFERROR(INDEX(Tableau7[Nom],SMALL(IF(AND($E$1=Tableau7[Chantier],ROW(Tableau7[Chantier])-MIN(ROW(BD!$P$4)+1),$D$2=Tableau7[Date],ROW(Tableau7[Date])-MIN(ROW(BD!$C7))+1)," "),ROWS(D$1:D7))),"")} | E9: {=IFERROR(INDEX(Tableau7[Nom],SMALL(IF($E$1=Tableau7[Chantier],ROW(Tableau7[Chantier])-MIN(ROW(BD!$P$4))+1," "),IF($E$1=Tableau7[Chantier],ROW(Tableau7[Chantier])-MIN(ROW(BD!$P$4))+1," ")),ROWS(E$3:E9)),"")} | F9: {=IFERROR(INDEX(Tableau7[Nom],SMALL(AND(IF($E$1=Tableau7[Chantier],ROW(Tableau7[Chantier])-MIN(ROW(BD!$P$4))+1),IF($F$2=Tableau7[Date],ROW(Tableau7[Date])-MIN(ROW(BD!$C$4))+1)," "),ROWS(E$1:E7))),"")} | G9: {=IFERROR(INDEX(Tableau7[Nom],SMALL(IF($E$1=Tableau7[Chantier],ROW(Tableau7[Chantier])-MIN(ROW(BD!$P$4))+1," "),ROWS(G$1:G7))),"")} -> ANGIBAUD Eric | H9: {=IFERROR(INDEX(Tableau7[Nom],SMALL(IF(AND($E$1=Tableau7[Chantier],ROW(Tableau7[Chantier])-MIN(ROW(BD!$P10)+1),$H$2=Tableau7[Date],ROW(Tableau7[Date])-MIN(ROW(BD!$C10))+1)," "),ROWS(H$3:H9))),"")} | I9: {=IFERROR(INDEX(Tableau7[Nom],SMALL(IF($I$2=Tableau7[Date],ROW(Tableau7[Date])-MIN(ROW(BD!$C$4))+1," "),ROWS(D$1:D7))),"")} | J9: {=IFERROR(INDEX(Tableau7[Nom],SMALL(IF($E$1=Tableau7[Chantier],ROW(Tableau7[Chantier])-MIN(ROW(BD!$P$4))+1," "),ROWS(J$1:J7))),"")} -> ANGIBAUD Eric | K9: {=IFERROR(INDEX(Tableau7[Nom],SMALL(IF($K$2=Tableau7[Date],ROW(Tableau7[Date])-MIN(ROW(BD!$C$4))+1," "),ROWS(D$1:D7))),"")} | L9: {=IFERROR(INDEX(Tableau7[Nom],SMALL(IF($L$2=Tableau7[Date],ROW(Tableau7[Date])-MIN(ROW(BD!$C$4))+1," "),ROWS(D$1:D7))),"")} | M9: {=IFERROR(INDEX(Tableau7[Nom],SMALL(IF($M$2=Tableau7[Date],ROW(Tableau7[Date])-MIN(ROW(BD!$C$4))+1," "),ROWS(D$1:D7))),"")}
A10: =ROW(B11)-3 -> 8 | D10: {=IFERROR(INDEX(Tableau7[Nom],SMALL(IF(AND($E$1=Tableau7[Chantier],ROW(Tableau7[Chantier])-MIN(ROW(BD!$P$4)+1),$D$2=Tableau7[Date],ROW(Tableau7[Date])-MIN(ROW(BD!$C8))+1)," "),ROWS(D$1:D8))),"")} | E10: {=IFERROR(INDEX(Tableau7[Nom],SMALL(IF($E$1=Tableau7[Chantier],ROW(Tableau7[Chantier])-MIN(ROW(BD!$P$4))+1," "),IF($E$1=Tableau7[Chantier],ROW(Tableau7[Chantier])-MIN(ROW(BD!$P$4))+1," ")),ROWS(E$3:E10)),"")} | F10: {=IFERROR(INDEX(Tableau7[Nom],SMALL(AND(IF($E$1=Tableau7[Chantier],ROW(Tableau7[Chantier])-MIN(ROW(BD!$P$4))+1),IF($F$2=Tableau7[Date],ROW(Tableau7[Date])-MIN(ROW(BD!$C$4))+1)," "),ROWS(E$1:E8))),"")} | G10: {=IFERROR(INDEX(Tableau7[Nom],SMALL(IF($E$1=Tableau7[Chantier],ROW(Tableau7[Chantier])-MIN(ROW(BD!$P$4))+1," "),ROWS(G$1:G8))),"")} -> Bull D6N LGP | H10: {=IFERROR(INDEX(Tableau7[Nom],SMALL(IF(AND($E$1=Tableau7[Chantier],ROW(Tableau7[Chantier])-MIN(ROW(BD!$P11)+1),$H$2=Tableau7[Date],ROW(Tableau7[Date])-MIN(ROW(BD!$C11))+1)," "),ROWS(H$3:H10))),"")} | I10: {=IFERROR(INDEX(Tableau7[Nom],SMALL(IF($I$2=Tableau7[Date],ROW(Tableau7[Date])-MIN(ROW(BD!$C$4))+1," "),ROWS(D$1:D8))),"")} | J10: {=IFERROR(INDEX(Tableau7[Nom],SMALL(IF($E$1=Tableau7[Chantier],ROW(Tableau7[Chantier])-MIN(ROW(BD!$P$4))+1," "),ROWS(J$1:J8))),"")} -> Bull D6N LGP | K10: {=IFERROR(INDEX(Tableau7[Nom],SMALL(IF($K$2=Tableau7[Date],ROW(Tableau7[Date])-MIN(ROW(BD!$C$4))+1," "),ROWS(D$1:D8))),"")} | L10: {=IFERROR(INDEX(Tableau7[Nom],SMALL(IF($L$2=Tableau7[Date],ROW(Tableau7[Date])-MIN(ROW(BD!$C$4))+1," "),ROWS(D$1:D8))),"")} | M10: {=IFERROR(INDEX(Tableau7[Nom],SMALL(IF($M$2=Tableau7[Date],ROW(Tableau7[Date])-MIN(ROW(BD!$C$4))+1," "),ROWS(D$1:D8))),"")}
A11: =ROW(B12)-3 -> 9 | D11: {=IFERROR(INDEX(Tableau7[Nom],SMALL(IF(AND($E$1=Tableau7[Chantier],ROW(Tableau7[Chantier])-MIN(ROW(BD!$P$4)+1),$D$2=Tableau7[Date],ROW(Tableau7[Date])-MIN(ROW(BD!$C9))+1)," "),ROWS(D$1:D9))),"")} | E11: {=IFERROR(INDEX(Tableau7[Nom],SMALL(IF($E$1=Tableau7[Chantier],ROW(Tableau7[Chantier])-MIN(ROW(BD!$P$4))+1," "),IF($E$1=Tableau7[Chantier],ROW(Tableau7[Chantier])-MIN(ROW(BD!$P$4))+1," ")),ROWS(E$3:E11)),"")} | F11: {=IFERROR(INDEX(Tableau7[Nom],SMALL(AND(IF($E$1=Tableau7[Chantier],ROW(Tableau7[Chantier])-MIN(ROW(BD!$P$4))+1),IF($F$2=Tableau7[Date],ROW(Tableau7[Date])-MIN(ROW(BD!$C$4))+1)," "),ROWS(E$1:E9))),"")} | G11: {=IFERROR(INDEX(Tableau7[Nom],SMALL(IF($E$1=Tableau7[Chantier],ROW(Tableau7[Chantier])-MIN(ROW(BD!$P$4))+1," "),ROWS(G$1:G9))),"")} -> ANGIBAUD Eric | H11: {=IFERROR(INDEX(Tableau7[Nom],SMALL(IF(AND($E$1=Tableau7[Chantier],ROW(Tableau7[Chantier])-MIN(ROW(BD!$P12)+1),$H$2=Tableau7[Date],ROW(Tableau7[Date])-MIN(ROW(BD!$C12))+1)," "),ROWS(H$3:H11))),"")} | I11: {=IFERROR(INDEX(Tableau7[Nom],SMALL(IF($I$2=Tableau7[Date],ROW(Tableau7[Date])-MIN(ROW(BD!$C$4))+1," "),ROWS(D$1:D9))),"")} | J11: {=IFERROR(INDEX(Tableau7[Nom],SMALL(IF($E$1=Tableau7[Chantier],ROW(Tableau7[Chantier])-MIN(ROW(BD!$P$4))+1," "),ROWS(J$1:J9))),"")} -> ANGIBAUD Eric | K11: {=IFERROR(INDEX(Tableau7[Nom],SMALL(IF($K$2=Tableau7[Date],ROW(Tableau7[Date])-MIN(ROW(BD!$C$4))+1," "),ROWS(D$1:D9))),"")} | L11: {=IFERROR(INDEX(Tableau7[Nom],SMALL(IF($L$2=Tableau7[Date],ROW(Tableau7[Date])-MIN(ROW(BD!$C$4))+1," "),ROWS(D$1:D9))),"")} | M11: {=IFERROR(INDEX(Tableau7[Nom],SMALL(IF($M$2=Tableau7[Date],ROW(Tableau7[Date])-MIN(ROW(BD!$C$4))+1," "),ROWS(D$1:D9))),"")}
A12: =ROW(B13)-3 -> 10 | D12: {=IFERROR(INDEX(Tableau7[Nom],SMALL(IF(AND($E$1=Tableau7[Chantier],ROW(Tableau7[Chantier])-MIN(ROW(BD!$P$4)+1),$D$2=Tableau7[Date],ROW(Tableau7[Date])-MIN(ROW(BD!$C10))+1)," "),ROWS(D$1:D10))),"")} | E12: {=IFERROR(INDEX(Tableau7[Nom],SMALL(IF($E$1=Tableau7[Chantier],ROW(Tableau7[Chantier])-MIN(ROW(BD!$P$4))+1," "),IF($E$1=Tableau7[Chantier],ROW(Tableau7[Chantier])-MIN(ROW(BD!$P$4))+1," ")),ROWS(E$3:E12)),"")} | F12: {=IFERROR(INDEX(Tableau7[Nom],SMALL(AND(IF($E$1=Tableau7[Chantier],ROW(Tableau7[Chantier])-MIN(ROW(BD!$P$4))+1),IF($F$2=Tableau7[Date],ROW(Tableau7[Date])-MIN(ROW(BD!$C$4))+1)," "),ROWS(E$1:E10))),"")} | G12: {=IFERROR(INDEX(Tableau7[Nom],SMALL(IF($E$1=Tableau7[Chantier],ROW(Tableau7[Chantier])-MIN(ROW(BD!$P$4))+1," "),ROWS(G$1:G10))),"")} -> Bull D6N LGP | H12: {=IFERROR(INDEX(Tableau7[Nom],SMALL(IF(AND($E$1=Tableau7[Chantier],ROW(Tableau7[Chantier])-MIN(ROW(BD!$P13)+1),$H$2=Tableau7[Date],ROW(Tableau7[Date])-MIN(ROW(BD!$C13))+1)," "),ROWS(H$3:H12))),"")} | I12: {=IFERROR(INDEX(Tableau7[Nom],SMALL(IF($I$2=Tableau7[Date],ROW(Tableau7[Date])-MIN(ROW(BD!$C$4))+1," "),ROWS(D$1:D10))),"")} | J12: {=IFERROR(INDEX(Tableau7[Nom],SMALL(IF($E$1=Tableau7[Chantier],ROW(Tableau7[Chantier])-MIN(ROW(BD!$P$4))+1," "),ROWS(J$1:J10))),"")} -> Bull D6N LGP | K12: {=IFERROR(INDEX(Tableau7[Nom],SMALL(IF($K$2=Tableau7[Date],ROW(Tableau7[Date])-MIN(ROW(BD!$C$4))+1," "),ROWS(D$1:D10))),"")} | L12: {=IFERROR(INDEX(Tableau7[Nom],SMALL(IF($L$2=Tableau7[Date],ROW(Tableau7[Date])-MIN(ROW(BD!$C$4))+1," "),ROWS(D$1:D10))),"")} | M12: {=IFERROR(INDEX(Tableau7[Nom],SMALL(IF($M$2=Tableau7[Date],ROW(Tableau7[Date])-MIN(ROW(BD!$C$4))+1," "),ROWS(D$1:D10))),"")}
A13: =ROW(B14)-3 -> 11 | D13: {=IFERROR(INDEX(Tableau7[Nom],SMALL(IF(AND($E$1=Tableau7[Chantier],ROW(Tableau7[Chantier])-MIN(ROW(BD!$P$4)+1),$D$2=Tableau7[Date],ROW(Tableau7[Date])-MIN(ROW(BD!$C11))+1)," "),ROWS(D$1:D11))),"")} | E13: {=IFERROR(INDEX(Tableau7[Nom],SMALL(IF($E$1=Tableau7[Chantier],ROW(Tableau7[Chantier])-MIN(ROW(BD!$P$4))+1," "),IF($E$1=Tableau7[Chantier],ROW(Tableau7[Chantier])-MIN(ROW(BD!$P$4))+1," ")),ROWS(E$3:E13)),"")} | F13: {=IFERROR(INDEX(Tableau7[Nom],SMALL(AND(IF($E$1=Tableau7[Chantier],ROW(Tableau7[Chantier])-MIN(ROW(BD!$P$4))+1),IF($F$2=Tableau7[Date],ROW(Tableau7[Date])-MIN(ROW(BD!$C$4))+1)," "),ROWS(E$1:E11))),"")} | G13: {=IFERROR(INDEX(Tableau7[Nom],SMALL(IF($E$1=Tableau7[Chantier],ROW(Tableau7[Chantier])-MIN(ROW(BD!$P$4))+1," "),ROWS(G$1:G11))),"")} -> ADAM Justin | H13: {=IFERROR(INDEX(Tableau7[Nom],SMALL(IF(AND($E$1=Tableau7[Chantier],ROW(Tableau7[Chantier])-MIN(ROW(BD!$P14)+1),$H$2=Tableau7[Date],ROW(Tableau7[Date])-MIN(ROW(BD!$C14))+1)," "),ROWS(H$3:H13))),"")} | I13: {=IFERROR(INDEX(Tableau7[Nom],SMALL(IF($I$2=Tableau7[Date],ROW(Tableau7[Date])-MIN(ROW(BD!$C$4))+1," "),ROWS(D$1:D11))),"")} | J13: {=IFERROR(INDEX(Tableau7[Nom],SMALL(IF($E$1=Tableau7[Chantier],ROW(Tableau7[Chantier])-MIN(ROW(BD!$P$4))+1," "),ROWS(J$1:J11))),"")} -> ADAM Justin | K13: {=IFERROR(INDEX(Tableau7[Nom],SMALL(IF($K$2=Tableau7[Date],ROW(Tableau7[Date])-MIN(ROW(BD!$C$4))+1," "),ROWS(D$1:D11))),"")} | L13: {=IFERROR(INDEX(Tableau7[Nom],SMALL(IF($L$2=Tableau7[Date],ROW(Tableau7[Date])-MIN(ROW(BD!$C$4))+1," "),ROWS(D$1:D11))),"")} | M13: {=IFERROR(INDEX(Tableau7[Nom],SMALL(IF($M$2=Tableau7[Date],ROW(Tableau7[Date])-MIN(ROW(BD!$C$4))+1," "),ROWS(D$1:D11))),"")}
A14: =ROW(B15)-3 -> 12 | D14: {=IFERROR(INDEX(Tableau7[Nom],SMALL(IF(AND($E$1=Tableau7[Chantier],ROW(Tableau7[Chantier])-MIN(ROW(BD!$P$4)+1),$D$2=Tableau7[Date],ROW(Tableau7[Date])-MIN(ROW(BD!$C12))+1)," "),ROWS(D$1:D12))),"")} | E14: {=IFERROR(INDEX(Tableau7[Nom],SMALL(IF($E$1=Tableau7[Chantier],ROW(Tableau7[Chantier])-MIN(ROW(BD!$P$4))+1," "),IF($E$1=Tableau7[Chantier],ROW(Tableau7[Chantier])-MIN(ROW(BD!$P$4))+1," ")),ROWS(E$3:E14)),"")} | F14: {=IFERROR(INDEX(Tableau7[Nom],SMALL(AND(IF($E$1=Tableau7[Chantier],ROW(Tableau7[Chantier])-MIN(ROW(BD!$P$4))+1),IF($F$2=Tableau7[Date],ROW(Tableau7[Date])-MIN(ROW(BD!$C$4))+1)," "),ROWS(E$1:E12))),"")} | G14: {=IFERROR(INDEX(Tableau7[Nom],SMALL(IF($E$1=Tableau7[Chantier],ROW(Tableau7[Chantier])-MIN(ROW(BD!$P$4))+1," "),ROWS(G$1:G12))),"")} -> ADAM Pierre-Luc | H14: {=IFERROR(INDEX(Tableau7[Nom],SMALL(IF(AND($E$1=Tableau7[Chantier],ROW(Tableau7[Chantier])-MIN(ROW(BD!$P15)+1),$H$2=Tableau7[Date],ROW(Tableau7[Date])-MIN(ROW(BD!$C15))+1)," "),ROWS(H$3:H14))),"")} | I14: {=IFERROR(INDEX(Tableau7[Nom],SMALL(IF($I$2=Tableau7[Date],ROW(Tableau7[Date])-MIN(ROW(BD!$C$4))+1," "),ROWS(D$1:D12))),"")} | J14: {=IFERROR(INDEX(Tableau7[Nom],SMALL(IF($E$1=Tableau7[Chantier],ROW(Tableau7[Chantier])-MIN(ROW(BD!$P$4))+1," "),ROWS(J$1:J12))),"")} -> ADAM Pierre-Luc | K14: {=IFERROR(INDEX(Tableau7[Nom],SMALL(IF($K$2=Tableau7[Date],ROW(Tableau7[Date])-MIN(ROW(BD!$C$4))+1," "),ROWS(D$1:D12))),"")} | L14: {=IFERROR(INDEX(Tableau7[Nom],SMALL(IF($L$2=Tableau7[Date],ROW(Tableau7[Date])-MIN(ROW(BD!$C$4))+1," "),ROWS(D$1:D12))),"")} | M14: {=IFERROR(INDEX(Tableau7[Nom],SMALL(IF($M$2=Tableau7[Date],ROW(Tableau7[Date])-MIN(ROW(BD!$C$4))+1," "),ROWS(D$1:D12))),"")}
A15: =ROW(B16)-3 -> 13 | D15: {=IFERROR(INDEX(Tableau7[Nom],SMALL(IF(AND($E$1=Tableau7[Chantier],ROW(Tableau7[Chantier])-MIN(ROW(BD!$P$4)+1),$D$2=Tableau7[Date],ROW(Tableau7[Date])-MIN(ROW(BD!$C13))+1)," "),ROWS(D$1:D13))),"")} | E15: {=IFERROR(INDEX(Tableau7[Nom],SMALL(IF($E$1=Tableau7[Chantier],ROW(Tableau7[Chantier])-MIN(ROW(BD!$P$4))+1," "),IF($E$1=Tableau7[Chantier],ROW(Tableau7[Chantier])-MIN(ROW(BD!$P$4))+1," ")),ROWS(E$3:E15)),"")} | F15: {=IFERROR(INDEX(Tableau7[Nom],SMALL(AND(IF($E$1=Tableau7[Chantier],ROW(Tableau7[Chantier])-MIN(ROW(BD!$P$4))+1),IF($F$2=Tableau7[Date],ROW(Tableau7[Date])-MIN(ROW(BD!$C$4))+1)," "),ROWS(E$1:E13))),"")} | G15: {=IFERROR(INDEX(Tableau7[Nom],SMALL(IF($E$1=Tableau7[Chantier],ROW(Tableau7[Chantier])-MIN(ROW(BD!$P$4))+1," "),ROWS(G$1:G13))),"")} -> ANGIBAUD Eric | H15: {=IFERROR(INDEX(Tableau7[Nom],SMALL(IF(AND($E$1=Tableau7[Chantier],ROW(Tableau7[Chantier])-MIN(ROW(BD!$P16)+1),$H$2=Tableau7[Date],ROW(Tableau7[Date])-MIN(ROW(BD!$C16))+1)," "),ROWS(H$3:H15))),"")} | I15: {=IFERROR(INDEX(Tableau7[Nom],SMALL(IF($I$2=Tableau7[Date],ROW(Tableau7[Date])-MIN(ROW(BD!$C$4))+1," "),ROWS(D$1:D13))),"")} | J15: {=IFERROR(INDEX(Tableau7[Nom],SMALL(IF($E$1=Tableau7[Chantier],ROW(Tableau7[Chantier])-MIN(ROW(BD!$P$4))+1," "),ROWS(J$1:J13))),"")} -> ANGIBAUD Eric | K15: {=IFERROR(INDEX(Tableau7[Nom],SMALL(IF($K$2=Tableau7[Date],ROW(Tableau7[Date])-MIN(ROW(BD!$C$4))+1," "),ROWS(D$1:D13))),"")} | L15: {=IFERROR(INDEX(Tableau7[Nom],SMALL(IF($L$2=Tableau7[Date],ROW(Tableau7[Date])-MIN(ROW(BD!$C$4))+1," "),ROWS(D$1:D13))),"")} | M15: {=IFERROR(INDEX(Tableau7[Nom],SMALL(IF($M$2=Tableau7[Date],ROW(Tableau7[Date])-MIN(ROW(BD!$C$4))+1," "),ROWS(D$1:D13))),"")}
A16: =ROW(B17)-3 -> 14 | D16: {=IFERROR(INDEX(Tableau7[Nom],SMALL(IF(AND($E$1=Tableau7[Chantier],ROW(Tableau7[Chantier])-MIN(ROW(BD!$P$4)+1),$D$2=Tableau7[Date],ROW(Tableau7[Date])-MIN(ROW(BD!$C14))+1)," "),ROWS(D$1:D14))),"")} | E16: {=IFERROR(INDEX(Tableau7[Nom],SMALL(IF($E$1=Tableau7[Chantier],ROW(Tableau7[Chantier])-MIN(ROW(BD!$P$4))+1," "),IF($E$1=Tableau7[Chantier],ROW(Tableau7[Chantier])-MIN(ROW(BD!$P$4))+1," ")),ROWS(E$3:E16)),"")} | F16: {=IFERROR(INDEX(Tableau7[Nom],SMALL(AND(IF($E$1=Tableau7[Chantier],ROW(Tableau7[Chantier])-MIN(ROW(BD!$P$4))+1),IF($F$2=Tableau7[Date],ROW(Tableau7[Date])-MIN(ROW(BD!$C$4))+1)," "),ROWS(E$1:E14))),"")} | G16: {=IFERROR(INDEX(Tableau7[Nom],SMALL(IF($E$1=Tableau7[Chantier],ROW(Tableau7[Chantier])-MIN(ROW(BD!$P$4))+1," "),ROWS(G$1:G14))),"")} -> ADAM Justin | H16: {=IFERROR(INDEX(Tableau7[Nom],SMALL(IF(AND($E$1=Tableau7[Chantier],ROW(Tableau7[Chantier])-MIN(ROW(BD!$P17)+1),$H$2=Tableau7[Date],ROW(Tableau7[Date])-MIN(ROW(BD!$C17))+1)," "),ROWS(H$3:H16))),"")} | I16: {=IFERROR(INDEX(Tableau7[Nom],SMALL(IF($I$2=Tableau7[Date],ROW(Tableau7[Date])-MIN(ROW(BD!$C$4))+1," "),ROWS(D$1:D14))),"")} | J16: {=IFERROR(INDEX(Tableau7[Nom],SMALL(IF($E$1=Tableau7[Chantier],ROW(Tableau7[Chantier])-MIN(ROW(BD!$P$4))+1," "),ROWS(J$1:J14))),"")} -> ADAM Justin | K16: {=IFERROR(INDEX(Tableau7[Nom],SMALL(IF($K$2=Tableau7[Date],ROW(Tableau7[Date])-MIN(ROW(BD!$C$4))+1," "),ROWS(D$1:D14))),"")} | L16: {=IFERROR(INDEX(Tableau7[Nom],SMALL(IF($L$2=Tableau7[Date],ROW(Tableau7[Date])-MIN(ROW(BD!$C$4))+1," "),ROWS(D$1:D14))),"")} | M16: {=IFERROR(INDEX(Tableau7[Nom],SMALL(IF($M$2=Tableau7[Date],ROW(Tableau7[Date])-MIN(ROW(BD!$C$4))+1," "),ROWS(D$1:D14))),"")}
A17: =ROW(B18)-3 -> 15 | D17: {=IFERROR(INDEX(Tableau7[Nom],SMALL(IF(AND($E$1=Tableau7[Chantier],ROW(Tableau7[Chantier])-MIN(ROW(BD!$P$4)+1),$D$2=Tableau7[Date],ROW(Tableau7[Date])-MIN(ROW(BD!$C15))+1)," "),ROWS(D$1:D15))),"")} | E17: {=IFERROR(INDEX(Tableau7[Nom],SMALL(IF($E$1=Tableau7[Chantier],ROW(Tableau7[Chantier])-MIN(ROW(BD!$P$4))+1," "),IF($E$1=Tableau7[Chantier],ROW(Tableau7[Chantier])-MIN(ROW(BD!$P$4))+1," ")),ROWS(E$3:E17)),"")} | F17: {=IFERROR(INDEX(Tableau7[Nom],SMALL(AND(IF($E$1=Tableau7[Chantier],ROW(Tableau7[Chantier])-MIN(ROW(BD!$P$4))+1),IF($F$2=Tableau7[Date],ROW(Tableau7[Date])-MIN(ROW(BD!$C$4))+1)," "),ROWS(E$1:E15))),"")} | G17: {=IFERROR(INDEX(Tableau7[Nom],SMALL(IF($E$1=Tableau7[Chantier],ROW(Tableau7[Chantier])-MIN(ROW(BD!$P$4))+1," "),ROWS(G$1:G15))),"")} -> ADAM Justin | H17: {=IFERROR(INDEX(Tableau7[Nom],SMALL(IF(AND($E$1=Tableau7[Chantier],ROW(Tableau7[Chantier])-MIN(ROW(BD!$P18)+1),$H$2=Tableau7[Date],ROW(Tableau7[Date])-MIN(ROW(BD!$C18))+1)," "),ROWS(H$3:H17))),"")} | I17: {=IFERROR(INDEX(Tableau7[Nom],SMALL(IF($I$2=Tableau7[Date],ROW(Tableau7[Date])-MIN(ROW(BD!$C$4))+1," "),ROWS(D$1:D15))),"")} | J17: {=IFERROR(INDEX(Tableau7[Nom],SMALL(IF($E$1=Tableau7[Chantier],ROW(Tableau7[Chantier])-MIN(ROW(BD!$P$4))+1," "),ROWS(J$1:J15))),"")} -> ADAM Justin | K17: {=IFERROR(INDEX(Tableau7[Nom],SMALL(IF($K$2=Tableau7[Date],ROW(Tableau7[Date])-MIN(ROW(BD!$C$4))+1," "),ROWS(D$1:D15))),"")} | L17: {=IFERROR(INDEX(Tableau7[Nom],SMALL(IF($L$2=Tableau7[Date],ROW(Tableau7[Date])-MIN(ROW(BD!$C$4))+1," "),ROWS(D$1:D15))),"")} | M17: {=IFERROR(INDEX(Tableau7[Nom],SMALL(IF($M$2=Tableau7[Date],ROW(Tableau7[Date])-MIN(ROW(BD!$C$4))+1," "),ROWS(D$1:D15))),"")}
A18: =ROW(B19)-3 -> 16 | D18: {=IFERROR(INDEX(Tableau7[Nom],SMALL(IF(AND($E$1=Tableau7[Chantier],ROW(Tableau7[Chantier])-MIN(ROW(BD!$P$4)+1),$D$2=Tableau7[Date],ROW(Tableau7[Date])-MIN(ROW(BD!$C16))+1)," "),ROWS(D$1:D16))),"")} | E18: {=IFERROR(INDEX(Tableau7[Nom],SMALL(IF($E$1=Tableau7[Chantier],ROW(Tableau7[Chantier])-MIN(ROW(BD!$P$4))+1," "),IF($E$1=Tableau7[Chantier],ROW(Tableau7[Chantier])-MIN(ROW(BD!$P$4))+1," ")),ROWS(E$3:E18)),"")} | F18: {=IFERROR(INDEX(Tableau7[Nom],SMALL(AND(IF($E$1=Tableau7[Chantier],ROW(Tableau7[Chantier])-MIN(ROW(BD!$P$4))+1),IF($F$2=Tableau7[Date],ROW(Tableau7[Date])-MIN(ROW(BD!$C$4))+1)," "),ROWS(E$1:E16))),"")} | G18: {=IFERROR(INDEX(Tableau7[Nom],SMALL(IF($E$1=Tableau7[Chantier],ROW(Tableau7[Chantier])-MIN(ROW(BD!$P$4))+1," "),ROWS(G$1:G16))),"")} -> ADAM Justin | H18: {=IFERROR(INDEX(Tableau7[Nom],SMALL(IF(AND($E$1=Tableau7[Chantier],ROW(Tableau7[Chantier])-MIN(ROW(BD!$P19)+1),$H$2=Tableau7[Date],ROW(Tableau7[Date])-MIN(ROW(BD!$C19))+1)," "),ROWS(H$3:H18))),"")} | I18: {=IFERROR(INDEX(Tableau7[Nom],SMALL(IF($I$2=Tableau7[Date],ROW(Tableau7[Date])-MIN(ROW(BD!$C$4))+1," "),ROWS(D$1:D16))),"")} | J18: {=IFERROR(INDEX(Tableau7[Nom],SMALL(IF($E$1=Tableau7[Chantier],ROW(Tableau7[Chantier])-MIN(ROW(BD!$P$4))+1," "),ROWS(J$1:J16))),"")} -> ADAM Justin | K18: {=IFERROR(INDEX(Tableau7[Nom],SMALL(IF($K$2=Tableau7[Date],ROW(Tableau7[Date])-MIN(ROW(BD!$C$4))+1," "),ROWS(D$1:D16))),"")} | L18: {=IFERROR(INDEX(Tableau7[Nom],SMALL(IF($L$2=Tableau7[Date],ROW(Tableau7[Date])-MIN(ROW(BD!$C$4))+1," "),ROWS(D$1:D16))),"")} | M18: {=IFERROR(INDEX(Tableau7[Nom],SMALL(IF($M$2=Tableau7[Date],ROW(Tableau7[Date])-MIN(ROW(BD!$C$4))+1," "),ROWS(D$1:D16))),"")}
