Workbook
Name AbsenceSalarie: OFFSET(#REF!,0,0,COUNTA(#REF!))
Name Année: OFFSET(REFERENCE!$M$16,0,0,COUNTA(REFERENCE!$M:$M))
Name Code_couleur: OFFSET(#REF!,0,0,COUNTA(#REF!))
Name CodeChantier: OFFSET([1]Chantiers!$A$2,0,0,COUNTA([1]Chantiers!$A:$A))
Name CodeFonction: OFFSET(#REF!,0,0,COUNTA(#REF!))
Name CodeMat: OFFSET(#REF!,0,0,COUNTA(#REF!))
Name CodePrestation: OFFSET(#REF!,0,0,COUNTA(#REF!))
Name Conges: OFFSET(#REF!,0,0,COUNTA(#REF!))
Name DateDebutPeriode1: OFFSET(#REF!,0,0,COUNTA(#REF!))
Name DateDebutPeriode2: OFFSET(#REF!,0,0,COUNTA(#REF!))
Name DateFinPeriode1: OFFSET(#REF!,0,0,COUNTA(#REF!))
Name DateFinPeriode2: OFFSET(#REF!,0,0,COUNTA(#REF!))
Name DebutSemaine: OFFSET(REFERENCE!$F$5,0,0,COUNTA(REFERENCE!$F:$F))
Name DesignationMateriel: OFFSET([2]Materiel!$B$3,0,0,COUNTA([2]Materiel!$B:$B))
Name EQUIPE: OFFSET(REFERENCE!$R$16,0,0,COUNTA(REFERENCE!$R:$R))
Name Feries: OFFSET(REFERENCE!$B$32,0,0,COUNTA(REFERENCE!$B:$B))
Name FinSemaine: OFFSET(REFERENCE!$G$5,0,0,COUNTA(REFERENCE!$G:$G))
Name FonctionSalarie: OFFSET(#REF!,0,0,COUNTA(#REF!))
Name IndicePresence: OFFSET(REFERENCE!$O$16,0,0,COUNTA(REFERENCE!$O:$O))
Name InfoChantier: OFFSET(#REF!,0,0,COUNTA(#REF!))
Name InfoFournisseur: OFFSET(#REF!,0,0,COUNTA(#REF!))
Name JourFerie: OFFSET(REFERENCE!$B$21,0,0,COUNTA(REFERENCE!$B:$B))
Name LocationMateriel: OFFSET(#REF!,0,0,COUNTA(#REF!))
Name MaterielInterne: OFFSET(#REF!,0,0,COUNTA(#REF!))
Name MontantPeriode1: OFFSET(#REF!,0,0,COUNTA(#REF!))
Name MontantPeriode2: OFFSET(#REF!,0,0,COUNTA(#REF!))
Name MontantTotal: OFFSET(#REF!,0,0,COUNTA(#REF!))
Name NOM: OFFSET(#REF!,0,0,COUNTA(#REF!))
Name NomChantier: OFFSET(#REF!,0,0,COUNTA(#REF!))
Name NomFournisseur: OFFSET(#REF!,0,0,COUNTA(#REF!))
Name NomSalaries: OFFSET(#REF!,0,0,COUNTA(#REF!))
Name NumeroChantier: OFFSET(#REF!,0,0,COUNTA(#REF!))
Name NumMois: OFFSET(REFERENCE!$B$16,0,0,COUNTA(REFERENCE!$B:$B,))
Name NumSemaine: OFFSET(REFERENCE!$G$5,0,0,COUNTA(REFERENCE!$G:$G))
Name PlanningHebdo: #REF!
Name PlanningMOE: #REF!
Name PlanningMTL: PgMTL!$B$3:$M$38
Name PrestationST: OFFSET(#REF!,0,0,COUNTA(#REF!))
Name RefChantier: OFFSET(#REF!,0,0,COUNTA(#REF!))
Name Resultat: OFFSET(#REF!,0,0,COUNTA(#REF!),18)
Name RTT: OFFSET(#REF!,0,0,COUNTA(#REF!))
Name Salarie: OFFSET(#REF!,0,0,COUNTA(#REF!))
Name Semaine: OFFSET(REFERENCE!$F$16,0,0,COUNTA(REFERENCE!$F:$F))
Name Tableau10: #REF!
Name Tableau10Salarie: #REF!
Name TarifInterneMat: OFFSET([2]Materiel!$C$3,0,0,COUNTA([2]Materiel!$C:$C))
Name TarifJourSalarie: OFFSET(#REF!,0,0,COUNTA(#REF!))
Name TarifLocMat: OFFSET([2]Materiel!$C$3,0,0,COUNTA([2]Materiel!$C:$C))
Name TarifMatLoc: OFFSET([2]Materiel!$A$3,0,0,COUNTA([2]Materiel!$G:$G))
Name TarifPrestation: OFFSET(#REF!,0,0,COUNTA(#REF!))
Name TotalMO: [3]Planning_Chantier!$J$18
Name VilleChantier: OFFSET([1]Chantiers!$C$2,0,0,COUNTA([1]Chantiers!$C:$C))

Sheet REFERENCE
B1: Date de début | C1: date de fin | E1: Heure_Debut | F1: Pause_Start | G1: Pause_Stop | H1: Heure_Sortie | I1: Total_Journalier
A2: horaires Hiver | B2: =B13 -> 43466 | C2: 43190 | E2: 0.33333333 | F2: 0.5 | G2: 0.5625 | H2: 0.70833333 | I2: =F2-E2+H2-G2 -> 0.3125
A3: Horaires été | B3: 43191 | C3: 43403 | E3: 07:30 | F3: 0.51041667 | G3: 0.54166667 | H3: 17:30 | I3: =F3-E3+H3-G3 -> 0.38541667
A4: horaires Hiver | B4: 43405 | C4: 43465 | D4: 08:00 | E4: 08:00 | F4: 0.5 | G4: 17:00 | H4: 17:00 | I4: =F4-E4+H4-G4 -> 0.16666667
A7: C | B7: Conges
A8: M | B8: Maladie
A9: RTT | B9: Jours Recuperation
A10: T | B10: Travail
A13: Date d'entrée | B13: =DATE(G13,1,1) -> 43466 | F13: Année: | G13: 2019
A15: Mois | B15: NumMois | C15: Début | D15: fin | F15: Semaine | G15: Début | H15: Fin | J15: Code_Activité | K15: Activité | M15: Année | O15: Indice | P15: Présence | R15: EQUIPE | T15: ID | U15: Code | V15: Désignation
A16: Janvier | B16: 1 | C16: =DATE($G$13,1,1) -> 43466 | D16: =EOMONTH(C16,0) -> 43496 | F16: 1 | G16: =(B13+((F16-1)*7))-((WEEKDAY((B13+((F16-1)*7)),2))-1) -> 43465 | H16: =+GestionSemaine[[#This Row],[Début ]]+6 -> 43471 | J16: NET | K16: Nettoyage | M16: 2017 | O16: C | P16: Conges | R16: EQUIPE 01 | T16: 1 | U16: Client | V16: Client
A17: Février | B17: 2 | C17: =DATE($G$13,2,1) -> 43497 | D17: =EOMONTH(C17,0) -> 43524 | F17: 2 | G17: =+G16+7 -> 43472 | H17: =+GestionSemaine[[#This Row],[Début ]]+6 -> 43478 | J17: DEC | K17: Décapage | M17: 2018 | O17: M | P17: Maladie | R17: EQUIPE 02 | T17: 2 | U17: MOA | V17: Maïtre d'Ouvrage
A18: Mars | B18: 3 | C18: =DATE($G$13,3,1) -> 43525 | D18: =EOMONTH(C18,0) -> 43555 | F18: 3 | G18: =+G17+7 -> 43479 | H18: =+GestionSemaine[[#This Row],[Début ]]+6 -> 43485 | J18: TER | K18: Terrassement | M18: 2019 | O18: RTT | P18: Jours Recuperation | R18: EQUIPE 03 | T18: 3 | U18: MOE | V18: Maitre d'œuvre
A19: Avril | B19: 4 | C19: =DATE($G$13,4,1) -> 43556 | D19: =EOMONTH(C19,0) -> 43585 | F19: 4 | G19: =+G18+7 -> 43486 | H19: =+GestionSemaine[[#This Row],[Début ]]+6 -> 43492 | J19: ASST | K19: Assainissement | M19: 2020 | O19: T | P19: Travail | R19: EQUIPE 04 | T19: 4 | U19: ST | V19: Sous-traitant
A20: Mai | B20: 5 | C20: =DATE($G$13,5,1) -> 43586 | D20: =EOMONTH(C20,0) -> 43616 | F20: 5 | G20: =+G19+7 -> 43493 | H20: =+GestionSemaine[[#This Row],[Début ]]+6 -> 43499 | J20: AEP | K20: AEP | M20: 2021 | R20: EQUIPE 05 | T20: 5 | U20: FO | V20: Fournisseurs
A21: Juin | B21: 6 | C21: =DATE($G$13,6,1) -> 43617 | D21: =EOMONTH(C21,0) -> 43646 | F21: 6 | G21: =+G20+7 -> 43500 | H21: =+GestionSemaine[[#This Row],[Début ]]+6 -> 43506 | J21: ENR | K21: Enrobé | M21: 2022 | R21: EQUIPE 06 | T21: 6 | U21: BE | V21: Bureau d'Etudes
A22: Juillet | B22: 7 | C22: =DATE($G$13,7,1) -> 43647 | D22: =EOMONTH(C22,0) -> 43677 | F22: 7 | G22: =+G21+7 -> 43507 | H22: =+GestionSemaine[[#This Row],[Début ]]+6 -> 43513 | J22: BI | K22: Bicouche | M22: 2023 | R22: EQUIPE 07 | T22: 7 | U22: GE | V22: Géomètre
A23: Août | B23: 8 | C23: =DATE($G$13,8,1) -> 43678 | D23: =EOMONTH(C23,0) -> 43708 | F23: 8 | G23: =+G22+7 -> 43514 | H23: =+GestionSemaine[[#This Row],[Début ]]+6 -> 43520 | M23: 2024 | R23: EQUIPE 08 | T23: 8 | U23: SPS | V23: Coordonateur Sécurité
A24: Septembre | B24: 9 | C24: =DATE($G$13,9,1) -> 43709 | D24: =EOMONTH(C24,0) -> 43738 | F24: 9 | G24: =+G23+7 -> 43521 | H24: =+GestionSemaine[[#This Row],[Début ]]+6 -> 43527 | M24: 2025 | R24: EQUIPE 09
A25: Octobre | B25: 10 | C25: =DATE($G$13,10,1) -> 43739 | D25: =EOMONTH(C25,0) -> 43769 | F25: 10 | G25: =+G24+7 -> 43528 | H25: =+GestionSemaine[[#This Row],[Début ]]+6 -> 43534 | M25: 2026 | R25: EQUIPE 10
A26: Novembre | B26: 11 | C26: =DATE($G$13,11,1) -> 43770 | D26: =EOMONTH(C26,0) -> 43799 | F26: 11 | G26: =+G25+7 -> 43535 | H26: =+GestionSemaine[[#This Row],[Début ]]+6 -> 43541 | M26: 2027 | R26: EQUIPE 11
A27: Décembre | B27: 12 | C27: =DATE($G$13,12,1) -> 43800 | D27: =EOMONTH(C27,0) -> 43830 | F27: 12 | G27: =+G26+7 -> 43542 | H27: =+GestionSemaine[[#This Row],[Début ]]+6 -> 43548 | M27: 2028 | R27: EQUIPE 12
F28: 13 | G28: =+G27+7 -> 43549 | H28: =+GestionSemaine[[#This Row],[Début ]]+6 -> 43555 | M28: 2029 | R28: EQUIPE 13
F29: 14 | G29: =+G28+7 -> 43556 | H29: =+GestionSemaine[[#This Row],[Début ]]+6 -> 43562 | M29: 2030 | R29: EQUIPE 14
F30: 15 | G30: =+G29+7 -> 43563 | H30: =+GestionSemaine[[#This Row],[Début ]]+6 -> 43569 | R30: EQUIPE 15
A31: Jour | B31: Date | F31: 16 | G31: =+G30+7 -> 43570 | H31: =+GestionSemaine[[#This Row],[Début ]]+6 -> 43576 | R31: EQUIPE 16
A32: jour de l'an | B32: =DATE(G13,1,1) -> 43466 | F32: 17 | G32: =+G31+7 -> 43577 | H32: =+GestionSemaine[[#This Row],[Début ]]+6 -> 43583 | R32: EQUIPE 17
A33: Pâques | B33: =FLOOR(DAY(MINUTE($G$13/38)/2+56)&"/5/"&$G$13,7)-34 -> 43576 | F33: 18 | G33: =+G32+7 -> 43584 | H33: =+GestionSemaine[[#This Row],[Début ]]+6 -> 43590 | R33: EQUIPE 18
A34: Lundi de Pâques | B34: =+B33+1 -> 43577 | F34: 19 | G34: =+G33+7 -> 43591 | H34: =+GestionSemaine[[#This Row],[Début ]]+6 -> 43597 | R34: EQUIPE 19
A35: Fête du travail | B35: =DATE(G13,5,1) -> 43586 | F35: 20 | G35: =+G34+7 -> 43598 | H35: =+GestionSemaine[[#This Row],[Début ]]+6 -> 43604 | R35: EQUIPE 20
A36: Armistice 39/45 | B36: =+B35+7 -> 43593 | F36: 21 | G36: =+G35+7 -> 43605 | H36: =+GestionSemaine[[#This Row],[Début ]]+6 -> 43611 | R36: EQUIPE 21
A37: Ascension | B37: =+B33+39 -> 43615 | F37: 22 | G37: =+G36+7 -> 43612 | H37: =+GestionSemaine[[#This Row],[Début ]]+6 -> 43618 | R37: EQUIPE 22
A38: pentecôte | B38: =+B33+49 -> 43625 | F38: 23 | G38: =+G37+7 -> 43619 | H38: =+GestionSemaine[[#This Row],[Début ]]+6 -> 43625 | R38: EQUIPE 23
A39: Lundi de pentecôte | B39: =+B38+1 -> 43626 | F39: 24 | G39: =+G38+7 -> 43626 | H39: =+GestionSemaine[[#This Row],[Début ]]+6 -> 43632 | R39: EQUIPE 24
A40: Assomption | B40: =DATE(G13,8,15) -> 43692 | F40: 25 | G40: =+G39+7 -> 43633 | H40: =+GestionSemaine[[#This Row],[Début ]]+6 -> 43639 | R40: EQUIPE 25
A41: Toussaint | B41: =DATE(G13,11,1) -> 43770 | F41: 26 | G41: =+G40+7 -> 43640 | H41: =+GestionSemaine[[#This Row],[Début ]]+6 -> 43646 | R41: EQUIPE 26
A42: Armistice 14/18 | B42: =DATE(G13,11,11) -> 43780 | F42: 27 | G42: =+G41+7 -> 43647 | H42: =+GestionSemaine[[#This Row],[Début ]]+6 -> 43653 | R42: EQUIPE 27
A43: Noel | B43: =DATE(G13,12,25) -> 43824 | F43: 28 | G43: =+G42+7 -> 43654 | H43: =+GestionSemaine[[#This Row],[Début ]]+6 -> 43660 | R43: EQUIPE 28
F44: 29 | G44: =+G43+7 -> 43661 | H44: =+GestionSemaine[[#This Row],[Début ]]+6 -> 43667 | R44: EQUIPE 29
F45: 30 | G45: =+G44+7 -> 43668 | H45: =+GestionSemaine[[#This Row],[Début ]]+6 -> 43674 | R45: EQUIPE 30
F46: 31 | G46: =+G45+7 -> 43675 | H46: =+GestionSemaine[[#This Row],[Début ]]+6 -> 43681 | R46: EQUIPE 31
F47: 32 | G47: =+G46+7 -> 43682 | H47: =+GestionSemaine[[#This Row],[Début ]]+6 -> 43688 | R47: EQUIPE 32
F48: 33 | G48: =+G47+7 -> 43689 | H48: =+GestionSemaine[[#This Row],[Début ]]+6 -> 43695 | R48: EQUIPE 33
F49: 34 | G49: =+G48+7 -> 43696 | H49: =+GestionSemaine[[#This Row],[Début ]]+6 -> 43702 | R49: EQUIPE 34
F50: 35 | G50: =+G49+7 -> 43703 | H50: =+GestionSemaine[[#This Row],[Début ]]+6 -> 43709 | R50: EQUIPE 35
F51: 36 | G51: =+G50+7 -> 43710 | H51: =+GestionSemaine[[#This Row],[Début ]]+6 -> 43716 | R51: EQUIPE 36
F52: 37 | G52: =+G51+7 -> 43717 | H52: =+GestionSemaine[[#This Row],[Début ]]+6 -> 43723 | R52: EQUIPE 37
F53: 38 | G53: =+G52+7 -> 43724 | H53: =+GestionSemaine[[#This Row],[Début ]]+6 -> 43730 | R53: EQUIPE 38
F54: 39 | G54: =+G53+7 -> 43731 | H54: =+GestionSemaine[[#This Row],[Début ]]+6 -> 43737 | R54: EQUIPE 39
F55: 40 | G55: =+G54+7 -> 43738 | H55: =+GestionSemaine[[#This Row],[Début ]]+6 -> 43744 | R55: EQUIPE 40
... F65: 50 | G65: =+G64+7 -> 43808 | H65: =+GestionSemaine[[#This Row],[Début ]]+6 -> 43814 | R65: EQUIPE 50
F66: 51 | G66: =+G65+7 -> 43815 | H66: =+GestionSemaine[[#This Row],[Début ]]+6 -> 43821
F67: 52 | G67: =+G66+7 -> 43822 | H67: =+GestionSemaine[[#This Row],[Début ]]+6 -> 43828

Sheet BD
B3: ID | C3: Date | D3: Nom | E3: Type | F3: Heure_Debut | G3: Heure_Fin | H3: Pause_Debut | I3: Pause_Fin | J3: Total | K3: Solde_Positif | L3: Solde_Negatif | M3: Weekend | N3: Jours_Ferie | O3: Equipe | P3: Chantier | Q3: Semaine | R3: Mois | S3: ANNEE
B4: =ROW(B4)-3 -> 1 | C4: 43437 | D4: ADAM Justin | F4: 08:00 | G4: 17:00 | H4: 12:00 | I4: 17:00 | J4: =IF(E4<>"T",IF(OR(N4=1,M4=1),"",E4),IF(OR(H4="",I4=""),G4-F4,(H4-F4)+(G4-I4))) -> 0 | K4: =IF(E4<>"T","",IF(J4>=(8/24),J4-(8/24),TEXT((8/24)-J4,"- [h]:mm"))) | L4: =IF(AND(E4="T",J4<(8/24)),(8/24)-J4,"") | M4: =IF(OR(WEEKDAY(C4)=1,WEEKDAY(C4)=7),1,"") | N4: {=IFERROR(IF(MATCH(C4,Feries,0),1,""),"")} | O4: EQUIPE 01 | P4: 1 | Q4: =WEEKNUM(C4) -> 49 | R4: =MONTH(C4) -> 12 | S4: =YEAR(C4) -> 2018
B5: =ROW(B5)-3 -> 2 | C5: 43437 | D5: ADAM Pierre-Luc | F5: 08:00 | G5: 17:00 | H5: 12:00 | I5: 17:00 | J5: =IF(E5<>"T",IF(OR(N5=1,M5=1),"",E5),IF(OR(H5="",I5=""),G5-F5,(H5-F5)+(G5-I5))) -> 0 | K5: =IF(E5<>"T","",IF(J5>=(8/24),J5-(8/24),TEXT((8/24)-J5,"- [h]:mm"))) | L5: =IF(AND(E5="T",J5<(8/24)),(8/24)-J5,"") | M5: =IF(OR(WEEKDAY(C5)=1,WEEKDAY(C5)=7),1,"") | N5: {=IFERROR(IF(MATCH(C5,Feries,0),1,""),"")} | O5: EQUIPE 01 | P5: 1 | Q5: =WEEKNUM(C5) -> 49 | R5: =MONTH(C5) -> 12 | S5: =YEAR(C5) -> 2018
B6: =ROW(B6)-3 -> 3 | C6: 43438 | D6: ADAM Justin | F6: 08:00 | G6: 17:00 | H6: 12:00 | I6: 17:00 | J6: =IF(E6<>"T",IF(OR(N6=1,M6=1),"",E6),IF(OR(H6="",I6=""),G6-F6,(H6-F6)+(G6-I6))) -> 0 | K6: =IF(E6<>"T","",IF(J6>=(8/24),J6-(8/24),TEXT((8/24)-J6,"- [h]:mm"))) | L6: =IF(AND(E6="T",J6<(8/24)),(8/24)-J6,"") | M6: =IF(OR(WEEKDAY(C6)=1,WEEKDAY(C6)=7),1,"") | N6: {=IFERROR(IF(MATCH(C6,Feries,0),1,""),"")} | O6: EQUIPE 01 | P6: 1 | Q6: =WEEKNUM(C6) -> 49 | R6: =MONTH(C6) -> 12 | S6: =YEAR(C6) -> 2018
B7: =ROW(B7)-3 -> 4 | C7: 43438 | D7: ADAM Pierre-Luc | F7: 08:00 | G7: 17:00 | H7: 12:00 | I7: 17:00 | J7: =IF(E7<>"T",IF(OR(N7=1,M7=1),"",E7),IF(OR(H7="",I7=""),G7-F7,(H7-F7)+(G7-I7))) -> 0 | K7: =IF(E7<>"T","",IF(J7>=(8/24),J7-(8/24),TEXT((8/24)-J7,"- [h]:mm"))) | L7: =IF(AND(E7="T",J7<(8/24)),(8/24)-J7,"") | M7: =IF(OR(WEEKDAY(C7)=1,WEEKDAY(C7)=7),1,"") | N7: {=IFERROR(IF(MATCH(C7,Feries,0),1,""),"")} | O7: EQUIPE 01 | P7: 1 | Q7: =WEEKNUM(C7) -> 49 | R7: =MONTH(C7) -> 12 | S7: =YEAR(C7) -> 2018
B8: =ROW(B8)-3 -> 5 | C8: 43438 | D8: ANGIBAUD Eric | F8: 08:00 | G8: 17:00 | H8: 12:00 | I8: 17:00 | J8: =IF(E8<>"T",IF(OR(N8=1,M8=1),"",E8),IF(OR(H8="",I8=""),G8-F8,(H8-F8)+(G8-I8))) -> 0 | K8: =IF(E8<>"T","",IF(J8>=(8/24),J8-(8/24),TEXT((8/24)-J8,"- [h]:mm"))) | L8: =IF(AND(E8="T",J8<(8/24)),(8/24)-J8,"") | M8: =IF(OR(WEEKDAY(C8)=1,WEEKDAY(C8)=7),1,"") | N8: {=IFERROR(IF(MATCH(C8,Feries,0),1,""),"")} | O8: EQUIPE 01 | P8: 1 | Q8: =WEEKNUM(C8) -> 49 | R8: =MONTH(C8) -> 12 | S8: =YEAR(C8) -> 2018
B9: =ROW(B9)-3 -> 6 | C9: 43439 | D9: ADAM Justin | F9: 08:00 | G9: 17:00 | H9: 12:00 | I9: 17:00 | J9: =IF(E9<>"T",IF(OR(N9=1,M9=1),"",E9),IF(OR(H9="",I9=""),G9-F9,(H9-F9)+(G9-I9))) -> 0 | K9: =IF(E9<>"T","",IF(J9>=(8/24),J9-(8/24),TEXT((8/24)-J9,"- [h]:mm"))) | L9: =IF(AND(E9="T",J9<(8/24)),(8/24)-J9,"") | M9: =IF(OR(WEEKDAY(C9)=1,WEEKDAY(C9)=7),1,"") | N9: {=IFERROR(IF(MATCH(C9,Feries,0),1,""),"")} | O9: EQUIPE 01 | P9: 1 | Q9: =WEEKNUM(C9) -> 49 | R9: =MONTH(C9) -> 12 | S9: =YEAR(C9) -> 2018
B10: =ROW(B10)-3 -> 7 | C10: 43439 | D10: ADAM Pierre-Luc | F10: 08:00 | G10: 17:00 | H10: 12:00 | I10: 17:00 | J10: =IF(E10<>"T",IF(OR(N10=1,M10=1),"",E10),IF(OR(H10="",I10=""),G10-F10,(H10-F10)+(G10-I10))) -> 0 | K10: =IF(E10<>"T","",IF(J10>=(8/24),J10-(8/24),TEXT((8/24)-J10,"- [h]:mm"))) | L10: =IF(AND(E10="T",J10<(8/24)),(8/24)-J10,"") | M10: =IF(OR(WEEKDAY(C10)=1,WEEKDAY(C10)=7),1,"") | N10: {=IFERROR(IF(MATCH(C10,Feries,0),1,""),"")} | O10: EQUIPE 01 | P10: 1 | Q10: =WEEKNUM(C10) -> 49 | R10: =MONTH(C10) -> 12 | S10: =YEAR(C10) -> 2018
B11: =ROW(B11)-3 -> 8 | C11: 43439 | D11: ANGIBAUD Eric | F11: 08:00 | G11: 17:00 | H11: 12:00 | I11: 17:00 | J11: =IF(E11<>"T",IF(OR(N11=1,M11=1),"",E11),IF(OR(H11="",I11=""),G11-F11,(H11-F11)+(G11-I11))) -> 0 | K11: =IF(E11<>"T","",IF(J11>=(8/24),J11-(8/24),TEXT((8/24)-J11,"- [h]:mm"))) | L11: =IF(AND(E11="T",J11<(8/24)),(8/24)-J11,"") | M11: =IF(OR(WEEKDAY(C11)=1,WEEKDAY(C11)=7),1,"") | N11: {=IFERROR(IF(MATCH(C11,Feries,0),1,""),"")} | O11: EQUIPE 01 | P11: 1 | Q11: =WEEKNUM(C11) -> 49 | R11: =MONTH(C11) -> 12 | S11: =YEAR(C11) -> 2018
B12: =ROW(B12)-3 -> 9 | C12: 43440 | D12: ADAM Justin | F12: 08:00 | G12: 17:00 | H12: 12:00 | I12: 17:00 | J12: =IF(E12<>"T",IF(OR(N12=1,M12=1),"",E12),IF(OR(H12="",I12=""),G12-F12,(H12-F12)+(G12-I12))) -> 0 | K12: =IF(E12<>"T","",IF(J12>=(8/24),J12-(8/24),TEXT((8/24)-J12,"- [h]:mm"))) | L12: =IF(AND(E12="T",J12<(8/24)),(8/24)-J12,"") | M12: =IF(OR(WEEKDAY(C12)=1,WEEKDAY(C12)=7),1,"") | N12: {=IFERROR(IF(MATCH(C12,Feries,0),1,""),"")} | O12: EQUIPE 01 | P12: 1 | Q12: =WEEKNUM(C12) -> 49 | R12: =MONTH(C12) -> 12 | S12: =YEAR(C12) -> 2018
B13: =ROW(B13)-3 -> 10 | C13: 43440 | D13: ADAM Pierre-Luc | F13: 08:00 | G13: 17:00 | H13: 12:00 | I13: 17:00 | J13: =IF(E13<>"T",IF(OR(N13=1,M13=1),"",E13),IF(OR(H13="",I13=""),G13-F13,(H13-F13)+(G13-I13))) -> 0 | K13: =IF(E13<>"T","",IF(J13>=(8/24),J13-(8/24),TEXT((8/24)-J13,"- [h]:mm"))) | L13: =IF(AND(E13="T",J13<(8/24)),(8/24)-J13,"") | M13: =IF(OR(WEEKDAY(C13)=1,WEEKDAY(C13)=7),1,"") | N13: {=IFERROR(IF(MATCH(C13,Feries,0),1,""),"")} | O13: EQUIPE 01 | P13: 1 | Q13: =WEEKNUM(C13) -> 49 | R13: =MONTH(C13) -> 12 | S13: =YEAR(C13) -> 2018
B14: =ROW(B14)-3 -> 11 | C14: 43440 | D14: ANGIBAUD Eric | F14: 08:00 | G14: 17:00 | H14: 12:00 | I14: 17:00 | J14: =IF(E14<>"T",IF(OR(N14=1,M14=1),"",E14),IF(OR(H14="",I14=""),G14-F14,(H14-F14)+(G14-I14))) -> 0 | K14: =IF(E14<>"T","",IF(J14>=(8/24),J14-(8/24),TEXT((8/24)-J14,"- [h]:mm"))) | L14: =IF(AND(E14="T",J14<(8/24)),(8/24)-J14,"") | M14: =IF(OR(WEEKDAY(C14)=1,WEEKDAY(C14)=7),1,"") | N14: {=IFERROR(IF(MATCH(C14,Feries,0),1,""),"")} | O14: EQUIPE 01 | P14: 1 | Q14: =WEEKNUM(C14) -> 49 | R14: =MONTH(C14) -> 12 | S14: =YEAR(C14) -> 2018
B15: =ROW(B15)-3 -> 12 | C15: 43441 | D15: ADAM Justin | F15: 08:00 | G15: 17:00 | H15: 12:00 | I15: 17:00 | J15: =IF(E15<>"T",IF(OR(N15=1,M15=1),"",E15),IF(OR(H15="",I15=""),G15-F15,(H15-F15)+(G15-I15))) -> 0 | K15: =IF(E15<>"T","",IF(J15>=(8/24),J15-(8/24),TEXT((8/24)-J15,"- [h]:mm"))) | L15: =IF(AND(E15="T",J15<(8/24)),(8/24)-J15,"") | M15: =IF(OR(WEEKDAY(C15)=1,WEEKDAY(C15)=7),1,"") | N15: {=IFERROR(IF(MATCH(C15,Feries,0),1,""),"")} | O15: EQUIPE 01 | P15: 1 | Q15: =WEEKNUM(C15) -> 49 | R15: =MONTH(C15) -> 12 | S15: =YEAR(C15) -> 2018
... B29: =ROW(B29)-3 -> 26 | C29: 43448 | D29: ADAM Justin | F29: 08:00 | G29: 17:00 | H29: 12:00 | I29: 17:00 | J29: =IF(E29<>"T",IF(OR(N29=1,M29=1),"",E29),IF(OR(H29="",I29=""),G29-F29,(H29-F29)+(G29-I29))) -> 0 | K29: =IF(E29<>"T","",IF(J29>=(8/24),J29-(8/24),TEXT((8/24)-J29,"- [h]:mm"))) | L29: =IF(AND(E29="T",J29<(8/24)),(8/24)-J29,"") | M29: =IF(OR(WEEKDAY(C29)=1,WEEKDAY(C29)=7),1,"") | N29: {=IFERROR(IF(MATCH(C29,Feries,0),1,""),"")} | O29: EQUIPE 01 | P29: 1 | Q29: =WEEKNUM(C29) -> 50 | R29: =MONTH(C29) -> 12 | S29: =YEAR(C29) -> 2018
B30: =ROW(B30)-3 -> 27 | C30: 43437 | D30: ADAM Justin | F30: 08:00 | G30: 17:00 | H30: 12:00 | I30: 17:00 | J30: =IF(E30<>"T",IF(OR(N30=1,M30=1),"",E30),IF(OR(H30="",I30=""),G30-F30,(H30-F30)+(G30-I30))) -> 0 | K30: =IF(E30<>"T","",IF(J30>=(8/24),J30-(8/24),TEXT((8/24)-J30,"- [h]:mm"))) | L30: =IF(AND(E30="T",J30<(8/24)),(8/24)-J30,"") | M30: =IF(OR(WEEKDAY(C30)=1,WEEKDAY(C30)=7),1,"") | N30: {=IFERROR(IF(MATCH(C30,Feries,0),1,""),"")} | O30: EQUIPE 01 | P30: 1 _x000D_ CONGES _x000D_ _x000D_ | Q30: =WEEKNUM(C30) -> 49 | R30: =MONTH(C30) -> 12 | S30: =YEAR(C30) -> 2018
B31: =ROW(B31)-3 -> 28 | C31: 43438 | D31: ADAM Justin | F31: 08:00 | G31: 17:00 | H31: 12:00 | I31: 17:00 | J31: =IF(E31<>"T",IF(OR(N31=1,M31=1),"",E31),IF(OR(H31="",I31=""),G31-F31,(H31-F31)+(G31-I31))) -> 0 | K31: =IF(E31<>"T","",IF(J31>=(8/24),J31-(8/24),TEXT((8/24)-J31,"- [h]:mm"))) | L31: =IF(AND(E31="T",J31<(8/24)),(8/24)-J31,"") | M31: =IF(OR(WEEKDAY(C31)=1,WEEKDAY(C31)=7),1,"") | N31: {=IFERROR(IF(MATCH(C31,Feries,0),1,""),"")} | O31: EQUIPE 01 | P31: 1 _x000D_ CONGES _x000D_ _x000D_ | Q31: =WEEKNUM(C31) -> 49 | R31: =MONTH(C31) -> 12 | S31: =YEAR(C31) -> 2018
B32: =ROW(B32)-3 -> 29 | C32: 43439 | D32: ADAM Justin | F32: 08:00 | G32: 17:00 | H32: 12:00 | I32: 17:00 | J32: =IF(E32<>"T",IF(OR(N32=1,M32=1),"",E32),IF(OR(H32="",I32=""),G32-F32,(H32-F32)+(G32-I32))) -> 0 | K32: =IF(E32<>"T","",IF(J32>=(8/24),J32-(8/24),TEXT((8/24)-J32,"- [h]:mm"))) | L32: =IF(AND(E32="T",J32<(8/24)),(8/24)-J32,"") | M32: =IF(OR(WEEKDAY(C32)=1,WEEKDAY(C32)=7),1,"") | N32: {=IFERROR(IF(MATCH(C32,Feries,0),1,""),"")} | O32: EQUIPE 01 | P32: 1 _x000D_ CONGES _x000D_ _x000D_ | Q32: =WEEKNUM(C32) -> 49 | R32: =MONTH(C32) -> 12 | S32: =YEAR(C32) -> 2018
B33: =ROW(B33)-3 -> 30 | C33: 43440 | D33: ADAM Justin | F33: 08:00 | G33: 17:00 | H33: 12:00 | I33: 17:00 | J33: =IF(E33<>"T",IF(OR(N33=1,M33=1),"",E33),IF(OR(H33="",I33=""),G33-F33,(H33-F33)+(G33-I33))) -> 0 | K33: =IF(E33<>"T","",IF(J33>=(8/24),J33-(8/24),TEXT((8/24)-J33,"- [h]:mm"))) | L33: =IF(AND(E33="T",J33<(8/24)),(8/24)-J33,"") | M33: =IF(OR(WEEKDAY(C33)=1,WEEKDAY(C33)=7),1,"") | N33: {=IFERROR(IF(MATCH(C33,Feries,0),1,""),"")} | O33: EQUIPE 01 | P33: 1 _x000D_ CONGES _x000D_ _x000D_ | Q33: =WEEKNUM(C33) -> 49 | R33: =MONTH(C33) -> 12 | S33: =YEAR(C33) -> 2018
B34: =ROW(B34)-3 -> 31 | C34: 43441 | D34: ADAM Justin | F34: 08:00 | G34: 17:00 | H34: 12:00 | I34: 17:00 | J34: =IF(E34<>"T",IF(OR(N34=1,M34=1),"",E34),IF(OR(H34="",I34=""),G34-F34,(H34-F34)+(G34-I34))) -> 0 | K34: =IF(E34<>"T","",IF(J34>=(8/24),J34-(8/24),TEXT((8/24)-J34,"- [h]:mm"))) | L34: =IF(AND(E34="T",J34<(8/24)),(8/24)-J34,"") | M34: =IF(OR(WEEKDAY(C34)=1,WEEKDAY(C34)=7),1,"") | N34: {=IFERROR(IF(MATCH(C34,Feries,0),1,""),"")} | O34: EQUIPE 01 | P34: 1 _x000D_ CONGES _x000D_ _x000D_ | Q34: =WEEKNUM(C34) -> 49 | R34: =MONTH(C34) -> 12 | S34: =YEAR(C34) -> 2018
B35: =ROW(B35)-3 -> 32 | C35: 43409 | D35: ADAM Pierre-Luc | E35: T | F35: 08:00 | G35: 17:00 | H35: 12:00 | I35: 13:30 | J35: =IF(E35<>"T",IF(OR(N35=1,M35=1),"",E35),IF(OR(H35="",I35=""),G35-F35,(H35-F35)+(G35-I35))) -> 0.3125 | K35: =IF(E35<>"T","",IF(J35>=(8/24),J35-(8/24),TEXT((8/24)-J35,"- [h]:mm"))) -> - 0:30 | L35: =IF(AND(E35="T",J35<(8/24)),(8/24)-J35,"") -> 0.020833333 | M35: =IF(OR(WEEKDAY(C35)=1,WEEKDAY(C35)=7),1,"") | N35: {=IFERROR(IF(MATCH(C35,Feries,0),1,""),"")} | O35: EQUIPE 01 | P35: 10_x000D_ MARANS MARANS_x000D_ | Q35: =WEEKNUM(C35) -> 45 | R35: =MONTH(C35) -> 11 | S35: =YEAR(C35) -> 2018
B36: =ROW(B36)-3 -> 33 | C36: 43410 | D36: ADAM Pierre-Luc | E36: T | F36: 08:00 | G36: 17:00 | H36: 12:00 | I36: 13:30 | J36: =IF(E36<>"T",IF(OR(N36=1,M36=1),"",E36),IF(OR(H36="",I36=""),G36-F36,(H36-F36)+(G36-I36))) -> 0.3125 | K36: =IF(E36<>"T","",IF(J36>=(8/24),J36-(8/24),TEXT((8/24)-J36,"- [h]:mm"))) -> - 0:30 | L36: =IF(AND(E36="T",J36<(8/24)),(8/24)-J36,"") -> 0.020833333 | M36: =IF(OR(WEEKDAY(C36)=1,WEEKDAY(C36)=7),1,"") | N36: {=IFERROR(IF(MATCH(C36,Feries,0),1,""),"")} | O36: EQUIPE 01 | P36: 10_x000D_ MARANS MARANS_x000D_ | Q36: =WEEKNUM(C36) -> 45 | R36: =MONTH(C36) -> 11 | S36: =YEAR(C36) -> 2018
B37: =ROW(B37)-3 -> 34 | C37: 43411 | D37: ADAM Pierre-Luc | E37: T | F37: 08:00 | G37: 17:00 | H37: 12:00 | I37: 13:30 | J37: =IF(E37<>"T",IF(OR(N37=1,M37=1),"",E37),IF(OR(H37="",I37=""),G37-F37,(H37-F37)+(G37-I37))) -> 0.3125 | K37: =IF(E37<>"T","",IF(J37>=(8/24),J37-(8/24),TEXT((8/24)-J37,"- [h]:mm"))) -> - 0:30 | L37: =IF(AND(E37="T",J37<(8/24)),(8/24)-J37,"") -> 0.020833333 | M37: =IF(OR(WEEKDAY(C37)=1,WEEKDAY(C37)=7),1,"") | N37: {=IFERROR(IF(MATCH(C37,Feries,0),1,""),"")} | O37: EQUIPE 01 | P37: 10_x000D_ MARANS MARANS_x000D_ | Q37: =WEEKNUM(C37) -> 45 | R37: =MONTH(C37) -> 11 | S37: =YEAR(C37) -> 2018
B38: =ROW(B38)-3 -> 35 | C38: 43412 | D38: ADAM Pierre-Luc | E38: T | F38: 08:00 | G38: 17:00 | H38: 12:00 | I38: 13:30 | J38: =IF(E38<>"T",IF(OR(N38=1,M38=1),"",E38),IF(OR(H38="",I38=""),G38-F38,(H38-F38)+(G38-I38))) -> 0.3125 | K38: =IF(E38<>"T","",IF(J38>=(8/24),J38-(8/24),TEXT((8/24)-J38,"- [h]:mm"))) -> - 0:30 | L38: =IF(AND(E38="T",J38<(8/24)),(8/24)-J38,"") -> 0.020833333 | M38: =IF(OR(WEEKDAY(C38)=1,WEEKDAY(C38)=7),1,"") | N38: {=IFERROR(IF(MATCH(C38,Feries,0),1,""),"")} | O38: EQUIPE 01 | P38: 10_x000D_ MARANS MARANS_x000D_ | Q38: =WEEKNUM(C38) -> 45 | R38: =MONTH(C38) -> 11 | S38: =YEAR(C38) -> 2018
B39: =ROW(B39)-3 -> 36 | C39: 43413 | D39: ADAM Pierre-Luc | E39: T | F39: 08:00 | G39: 17:00 | H39: 12:00 | I39: 13:30 | J39: =IF(E39<>"T",IF(OR(N39=1,M39=1),"",E39),IF(OR(H39="",I39=""),G39-F39,(H39-F39)+(G39-I39))) -> 0.3125 | K39: =IF(E39<>"T","",IF(J39>=(8/24),J39-(8/24),TEXT((8/24)-J39,"- [h]:mm"))) -> - 0:30 | L39: =IF(AND(E39="T",J39<(8/24)),(8/24)-J39,"") -> 0.020833333 | M39: =IF(OR(WEEKDAY(C39)=1,WEEKDAY(C39)=7),1,"") | N39: {=IFERROR(IF(MATCH(C39,Feries,0),1,""),"")} | O39: EQUIPE 01 | P39: 10_x000D_ MARANS MARANS_x000D_ | Q39: =WEEKNUM(C39) -> 45 | R39: =MONTH(C39) -> 11 | S39: =YEAR(C39) -> 2018
B40: =ROW(B40)-3 -> 37 | C40: 43423 | D40: ADAM Pierre-Luc | E40: T | F40: 08:00 | G40: 17:00 | H40: 12:00 | I40: 13:30 | J40: =IF(E40<>"T",IF(OR(N40=1,M40=1),"",E40),IF(OR(H40="",I40=""),G40-F40,(H40-F40)+(G40-I40))) -> 0.3125 | K40: =IF(E40<>"T","",IF(J40>=(8/24),J40-(8/24),TEXT((8/24)-J40,"- [h]:mm"))) -> - 0:30 | L40: =IF(AND(E40="T",J40<(8/24)),(8/24)-J40,"") -> 0.020833333 | M40: =IF(OR(WEEKDAY(C40)=1,WEEKDAY(C40)=7),1,"") | N40: {=IFERROR(IF(MATCH(C40,Feries,0),1,""),"")} | O40: EQUIPE 01 | P40: 12_x000D_ DECHETTERIE LE LOUROUX BECONNAIS_x000D_ | Q40: =WEEKNUM(C40) -> 47 | R40: =MONTH(C40) -> 11 | S40: =YEAR(C40) -> 2018
B41: =ROW(B41)-3 -> 38 | C41: 43424 | D41: ADAM Pierre-Luc | E41: T | F41: 08:00 | G41: 17:00 | H41: 12:00 | I41: 13:30 | J41: =IF(E41<>"T",IF(OR(N41=1,M41=1),"",E41),IF(OR(H41="",I41=""),G41-F41,(H41-F41)+(G41-I41))) -> 0.3125 | K41: =IF(E41<>"T","",IF(J41>=(8/24),J41-(8/24),TEXT((8/24)-J41,"- [h]:mm"))) -> - 0:30 | L41: =IF(AND(E41="T",J41<(8/24)),(8/24)-J41,"") -> 0.020833333 | M41: =IF(OR(WEEKDAY(C41)=1,WEEKDAY(C41)=7),1,"") | N41: {=IFERROR(IF(MATCH(C41,Feries,0),1,""),"")} | O41: EQUIPE 01 | P41: 12_x000D_ DECHETTERIE LE LOUROUX BECONNAIS_x000D_ | Q41: =WEEKNUM(C41) -> 47 | R41: =MONTH(C41) -> 11 | S41: =YEAR(C41) -> 2018
B42: =ROW(B42)-3 -> 39 | C42: 43425 | D42: ADAM Pierre-Luc | E42: T | F42: 08:00 | G42: 17:00 | H42: 12:00 | I42: 13:30 | J42: =IF(E42<>"T",IF(OR(N42=1,M42=1),"",E42),IF(OR(H42="",I42=""),G42-F42,(H42-F42)+(G42-I42))) -> 0.3125 | K42: =IF(E42<>"T","",IF(J42>=(8/24),J42-(8/24),TEXT((8/24)-J42,"- [h]:mm"))) -> - 0:30 | L42: =IF(AND(E42="T",J42<(8/24)),(8/24)-J42,"") -> 0.020833333 | M42: =IF(OR(WEEKDAY(C42)=1,WEEKDAY(C42)=7),1,"") | N42: {=IFERROR(IF(MATCH(C42,Feries,0),1,""),"")} | O42: EQUIPE 01 | P42: 12_x000D_ DECHETTERIE LE LOUROUX BECONNAIS_x000D_ | Q42: =WEEKNUM(C42) -> 47 | R42: =MONTH(C42) -> 11 | S42: =YEAR(C42) -> 2018
B43: =ROW(B43)-3 -> 40 | C43: 43426 | D43: ADAM Pierre-Luc | E43: T | F43: 08:00 | G43: 17:00 | H43: 12:00 | I43: 13:30 | J43: =IF(E43<>"T",IF(OR(N43=1,M43=1),"",E43),IF(OR(H43="",I43=""),G43-F43,(H43-F43)+(G43-I43))) -> 0.3125 | K43: =IF(E43<>"T","",IF(J43>=(8/24),J43-(8/24),TEXT((8/24)-J43,"- [h]:mm"))) -> - 0:30 | L43: =IF(AND(E43="T",J43<(8/24)),(8/24)-J43,"") -> 0.020833333 | M43: =IF(OR(WEEKDAY(C43)=1,WEEKDAY(C43)=7),1,"") | N43: {=IFERROR(IF(MATCH(C43,Feries,0),1,""),"")} | O43: EQUIPE 01 | P43: 12_x000D_ DECHETTERIE LE LOUROUX BECONNAIS_x000D_ | Q43: =WEEKNUM(C43) -> 47 | R43: =MONTH(C43) -> 11 | S43: =YEAR(C43) -> 2018
B44: =ROW(B44)-3 -> 41 | C44: 43427 | D44: ADAM Pierre-Luc | E44: T | F44: 08:00 | G44: 17:00 | H44: 12:00 | I44: 13:30 | J44: =IF(E44<>"T",IF(OR(N44=1,M44=1),"",E44),IF(OR(H44="",I44=""),G44-F44,(H44-F44)+(G44-I44))) -> 0.3125 | K44: =IF(E44<>"T","",IF(J44>=(8/24),J44-(8/24),TEXT((8/24)-J44,"- [h]:mm"))) -> - 0:30 | L44: =IF(AND(E44="T",J44<(8/24)),(8/24)-J44,"") -> 0.020833333 | M44: =IF(OR(WEEKDAY(C44)=1,WEEKDAY(C44)=7),1,"") | N44: {=IFERROR(IF(MATCH(C44,Feries,0),1,""),"")} | O44: EQUIPE 01 | P44: 12_x000D_ DECHETTERIE LE LOUROUX BECONNAIS_x000D_ | Q44: =WEEKNUM(C44) -> 47 | R44: =MONTH(C44) -> 11 | S44: =YEAR(C44) -> 2018
B45: =ROW(B45)-3 -> 42 | C45: 43444 | D45: ARABI Ali | F45: 08:00 | G45: 17:00 | H45: 12:00 | I45: 17:00 | J45: =IF(E45<>"T",IF(OR(N45=1,M45=1),"",E45),IF(OR(H45="",I45=""),G45-F45,(H45-F45)+(G45-I45))) -> 0 | K45: =IF(E45<>"T","",IF(J45>=(8/24),J45-(8/24),TEXT((8/24)-J45,"- [h]:mm"))) | L45: =IF(AND(E45="T",J45<(8/24)),(8/24)-J45,"") | M45: =IF(OR(WEEKDAY(C45)=1,WEEKDAY(C45)=7),1,"") | N45: {=IFERROR(IF(MATCH(C45,Feries,0),1,""),"")} | O45: EQUIPE 02 | P45: 13 _x000D_ LOUVAINES _x000D_ _x000D_ LOUVAINES | Q45: =WEEKNUM(C45) -> 50 | R45: =MONTH(C45) -> 12 | S45: =YEAR(C45) -> 2018
B46: =ROW(B46)-3 -> 43 | C46: 43444 | D46: ATELIER Dépannage | F46: 08:00 | G46: 17:00 | H46: 12:00 | I46: 17:00 | J46: =IF(E46<>"T",IF(OR(N46=1,M46=1),"",E46),IF(OR(H46="",I46=""),G46-F46,(H46-F46)+(G46-I46))) -> 0 | K46: =IF(E46<>"T","",IF(J46>=(8/24),J46-(8/24),TEXT((8/24)-J46,"- [h]:mm"))) | L46: =IF(AND(E46="T",J46<(8/24)),(8/24)-J46,"") | M46: =IF(OR(WEEKDAY(C46)=1,WEEKDAY(C46)=7),1,"") | N46: {=IFERROR(IF(MATCH(C46,Feries,0),1,""),"")} | O46: EQUIPE 02 | P46: 13 _x000D_ LOUVAINES _x000D_ _x000D_ LOUVAINES | Q46: =WEEKNUM(C46) -> 50 | R46: =MONTH(C46) -> 12 | S46: =YEAR(C46) -> 2018
B47: =ROW(B47)-3 -> 44 | C47: 43444 | D47: ATHIMOND David | F47: 08:00 | G47: 17:00 | H47: 12:00 | I47: 17:00 | J47: =IF(E47<>"T",IF(OR(N47=1,M47=1),"",E47),IF(OR(H47="",I47=""),G47-F47,(H47-F47)+(G47-I47))) -> 0 | K47: =IF(E47<>"T","",IF(J47>=(8/24),J47-(8/24),TEXT((8/24)-J47,"- [h]:mm"))) | L47: =IF(AND(E47="T",J47<(8/24)),(8/24)-J47,"") | M47: =IF(OR(WEEKDAY(C47)=1,WEEKDAY(C47)=7),1,"") | N47: {=IFERROR(IF(MATCH(C47,Feries,0),1,""),"")} | O47: EQUIPE 02 | P47: 13 _x000D_ LOUVAINES _x000D_ _x000D_ LOUVAINES | Q47: =WEEKNUM(C47) -> 50 | R47: =MONTH(C47) -> 12 | S47: =YEAR(C47) -> 2018
B48: =ROW(B48)-3 -> 45 | C48: 43444 | D48: AUDRAN Patrick | F48: 08:00 | G48: 17:00 | H48: 12:00 | I48: 17:00 | J48: =IF(E48<>"T",IF(OR(N48=1,M48=1),"",E48),IF(OR(H48="",I48=""),G48-F48,(H48-F48)+(G48-I48))) -> 0 | K48: =IF(E48<>"T","",IF(J48>=(8/24),J48-(8/24),TEXT((8/24)-J48,"- [h]:mm"))) | L48: =IF(AND(E48="T",J48<(8/24)),(8/24)-J48,"") | M48: =IF(OR(WEEKDAY(C48)=1,WEEKDAY(C48)=7),1,"") | N48: {=IFERROR(IF(MATCH(C48,Feries,0),1,""),"")} | O48: EQUIPE 02 | P48: 13 _x000D_ LOUVAINES _x000D_ _x000D_ LOUVAINES | Q48: =WEEKNUM(C48) -> 50 | R48: =MONTH(C48) -> 12 | S48: =YEAR(C48) -> 2018
B49: =ROW(B49)-3 -> 46 | C49: 43444 | D49: AUVRAI MAXIME | F49: 08:00 | G49: 17:00 | H49: 12:00 | I49: 17:00 | J49: =IF(E49<>"T",IF(OR(N49=1,M49=1),"",E49),IF(OR(H49="",I49=""),G49-F49,(H49-F49)+(G49-I49))) -> 0 | K49: =IF(E49<>"T","",IF(J49>=(8/24),J49-(8/24),TEXT((8/24)-J49,"- [h]:mm"))) | L49: =IF(AND(E49="T",J49<(8/24)),(8/24)-J49,"") | M49: =IF(OR(WEEKDAY(C49)=1,WEEKDAY(C49)=7),1,"") | N49: {=IFERROR(IF(MATCH(C49,Feries,0),1,""),"")} | O49: EQUIPE 02 | P49: 13 _x000D_ LOUVAINES _x000D_ _x000D_ LOUVAINES | Q49: =WEEKNUM(C49) -> 50 | R49: =MONTH(C49) -> 12 | S49: =YEAR(C49) -> 2018
B50: =ROW(B50)-3 -> 47 | C50: 43445 | D50: ARABI Ali | F50: 08:00 | G50: 17:00 | H50: 12:00 | I50: 17:00 | J50: =IF(E50<>"T",IF(OR(N50=1,M50=1),"",E50),IF(OR(H50="",I50=""),G50-F50,(H50-F50)+(G50-I50))) -> 0 | K50: =IF(E50<>"T","",IF(J50>=(8/24),J50-(8/24),TEXT((8/24)-J50,"- [h]:mm"))) | L50: =IF(AND(E50="T",J50<(8/24)),(8/24)-J50,"") | M50: =IF(OR(WEEKDAY(C50)=1,WEEKDAY(C50)=7),1,"") | N50: {=IFERROR(IF(MATCH(C50,Feries,0),1,""),"")} | O50: EQUIPE 02 | P50: 13 _x000D_ LOUVAINES _x000D_ _x000D_ LOUVAINES | Q50: =WEEKNUM(C50) -> 50 | R50: =MONTH(C50) -> 12 | S50: =YEAR(C50) -> 2018
B51: =ROW(B51)-3 -> 48 | C51: 43445 | D51: ATELIER Dépannage | F51: 08:00 | G51: 17:00 | H51: 12:00 | I51: 17:00 | J51: =IF(E51<>"T",IF(OR(N51=1,M51=1),"",E51),IF(OR(H51="",I51=""),G51-F51,(H51-F51)+(G51-I51))) -> 0 | K51: =IF(E51<>"T","",IF(J51>=(8/24),J51-(8/24),TEXT((8/24)-J51,"- [h]:mm"))) | L51: =IF(AND(E51="T",J51<(8/24)),(8/24)-J51,"") | M51: =IF(OR(WEEKDAY(C51)=1,WEEKDAY(C51)=7),1,"") | N51: {=IFERROR(IF(MATCH(C51,Feries,0),1,""),"")} | O51: EQUIPE 02 | P51: 13 _x000D_ LOUVAINES _x000D_ _x000D_ LOUVAINES | Q51: =WEEKNUM(C51) -> 50 | R51: =MONTH(C51) -> 12 | S51: =YEAR(C51) -> 2018
B52: =ROW(B52)-3 -> 49 | C52: 43445 | D52: ATHIMOND David | F52: 08:00 | G52: 17:00 | H52: 12:00 | I52: 17:00 | J52: =IF(E52<>"T",IF(OR(N52=1,M52=1),"",E52),IF(OR(H52="",I52=""),G52-F52,(H52-F52)+(G52-I52))) -> 0 | K52: =IF(E52<>"T","",IF(J52>=(8/24),J52-(8/24),TEXT((8/24)-J52,"- [h]:mm"))) | L52: =IF(AND(E52="T",J52<(8/24)),(8/24)-J52,"") | M52: =IF(OR(WEEKDAY(C52)=1,WEEKDAY(C52)=7),1,"") | N52: {=IFERROR(IF(MATCH(C52,Feries,0),1,""),"")} | O52: EQUIPE 02 | P52: 13 _x000D_ LOUVAINES _x000D_ _x000D_ LOUVAINES | Q52: =WEEKNUM(C52) -> 50 | R52: =MONTH(C52) -> 12 | S52: =YEAR(C52) -> 2018
B53: =ROW(B53)-3 -> 50 | C53: 43445 | D53: AUDRAN Patrick | F53: 08:00 | G53: 17:00 | H53: 12:00 | I53: 17:00 | J53: =IF(E53<>"T",IF(OR(N53=1,M53=1),"",E53),IF(OR(H53="",I53=""),G53-F53,(H53-F53)+(G53-I53))) -> 0 | K53: =IF(E53<>"T","",IF(J53>=(8/24),J53-(8/24),TEXT((8/24)-J53,"- [h]:mm"))) | L53: =IF(AND(E53="T",J53<(8/24)),(8/24)-J53,"") | M53: =IF(OR(WEEKDAY(C53)=1,WEEKDAY(C53)=7),1,"") | N53: {=IFERROR(IF(MATCH(C53,Feries,0),1,""),"")} | O53: EQUIPE 02 | P53: 13 _x000D_ LOUVAINES _x000D_ _x000D_ LOUVAINES | Q53: =WEEKNUM(C53) -> 50 | R53: =MONTH(C53) -> 12 | S53: =YEAR(C53) -> 2018
B54: =ROW(B54)-3 -> 51 | C54: 43445 | D54: AUVRAI MAXIME | F54: 08:00 | G54: 17:00 | H54: 12:00 | I54: 17:00 | J54: =IF(E54<>"T",IF(OR(N54=1,M54=1),"",E54),IF(OR(H54="",I54=""),G54-F54,(H54-F54)+(G54-I54))) -> 0 | K54: =IF(E54<>"T","",IF(J54>=(8/24),J54-(8/24),TEXT((8/24)-J54,"- [h]:mm"))) | L54: =IF(AND(E54="T",J54<(8/24)),(8/24)-J54,"") | M54: =IF(OR(WEEKDAY(C54)=1,WEEKDAY(C54)=7),1,"") | N54: {=IFERROR(IF(MATCH(C54,Feries,0),1,""),"")} | O54: EQUIPE 02 | P54: 13 _x000D_ LOUVAINES _x000D_ _x000D_ LOUVAINES | Q54: =WEEKNUM(C54) -> 50 | R54: =MONTH(C54) -> 12 | S54: =YEAR(C54) -> 2018
B55: =ROW(B55)-3 -> 52 | C55: 43446 | D55: ARABI Ali | F55: 08:00 | G55: 17:00 | H55: 12:00 | I55: 17:00 | J55: =IF(E55<>"T",IF(OR(N55=1,M55=1),"",E55),IF(OR(H55="",I55=""),G55-F55,(H55-F55)+(G55-I55))) -> 0 | K55: =IF(E55<>"T","",IF(J55>=(8/24),J55-(8/24),TEXT((8/24)-J55,"- [h]:mm"))) | L55: =IF(AND(E55="T",J55<(8/24)),(8/24)-J55,"") | M55: =IF(OR(WEEKDAY(C55)=1,WEEKDAY(C55)=7),1,"") | N55: {=IFERROR(IF(MATCH(C55,Feries,0),1,""),"")} | O55: EQUIPE 02 | P55: 13 _x000D_ LOUVAINES _x000D_ _x000D_ LOUVAINES | Q55: =WEEKNUM(C55) -> 50 | R55: =MONTH(C55) -> 12 | S55: =YEAR(C55) -> 2018
B56: =ROW(B56)-3 -> 53 | C56: 43446 | D56: ATELIER Dépannage | F56: 08:00 | G56: 17:00 | H56: 12:00 | I56: 17:00 | J56: =IF(E56<>"T",IF(OR(N56=1,M56=1),"",E56),IF(OR(H56="",I56=""),G56-F56,(H56-F56)+(G56-I56))) -> 0 | K56: =IF(E56<>"T","",IF(J56>=(8/24),J56-(8/24),TEXT((8/24)-J56,"- [h]:mm"))) | L56: =IF(AND(E56="T",J56<(8/24)),(8/24)-J56,"") | M56: =IF(OR(WEEKDAY(C56)=1,WEEKDAY(C56)=7),1,"") | N56: {=IFERROR(IF(MATCH(C56,Feries,0),1,""),"")} | O56: EQUIPE 02 | P56: 13 _x000D_ LOUVAINES _x000D_ _x000D_ LOUVAINES | Q56: =WEEKNUM(C56) -> 50 | R56: =MONTH(C56) -> 12 | S56: =YEAR(C56) -> 2018
... B99: =ROW(B99)-3 -> 96 | C99: 43462 | D99: DEMINGUET Eric | F99: 08:00 | G99: 17:00 | H99: 12:00 | I99: 17:00 | J99: =IF(E99<>"T",IF(OR(N99=1,M99=1),"",E99),IF(OR(H99="",I99=""),G99-F99,(H99-F99)+(G99-I99))) -> 0 | K99: =IF(E99<>"T","",IF(J99>=(8/24),J99-(8/24),TEXT((8/24)-J99,"- [h]:mm"))) | L99: =IF(AND(E99="T",J99<(8/24)),(8/24)-J99,"") | M99: =IF(OR(WEEKDAY(C99)=1,WEEKDAY(C99)=7),1,"") | N99: {=IFERROR(IF(MATCH(C99,Feries,0),1,""),"")} | O99: EQUIPE 13 | P99: 13 _x000D_ LOUVAINES _x000D_ _x000D_ LOUVAINES | Q99: =WEEKNUM(C99) -> 52 | R99: =MONTH(C99) -> 12 | S99: =YEAR(C99) -> 2018
B100: =ROW(B100)-3 -> 97 | C100: 43469 | D100: ADAM Justin | E100: T | F100: 08:00 | G100: 17:00 | H100: 12:00 | I100: 17:00 | J100: =IF(E100<>"T",IF(OR(N100=1,M100=1),"",E100),IF(OR(H100="",I100=""),G100-F100,(H100-F100)+(G100-I100))) -> 0.16666667 | K100: =IF(E100<>"T","",IF(J100>=(8/24),J100-(8/24),TEXT((8/24)-J100,"- [h]:mm"))) -> - 4:00 | L100: =IF(AND(E100="T",J100<(8/24)),(8/24)-J100,"") -> 0.16666667 | M100: =IF(OR(WEEKDAY(C100)=1,WEEKDAY(C100)=7),1,"") | N100: {=IFERROR(IF(MATCH(C100,Feries,0),1,""),"")} | O100: EQUIPE 01 | P100: 16 _x000D_ NYOISEAU _x000D_ NYOISEAU_x000D_ | Q100: =WEEKNUM(C100) -> 1 | R100: =MONTH(C100) -> 1 | S100: =YEAR(C100) -> 2019
B101: =ROW(B101)-3 -> 98 | C101: 43469 | D101: ADAM Pierre-Luc | E101: T | F101: 08:00 | G101: 17:00 | H101: 12:00 | I101: 17:00 | J101: =IF(E101<>"T",IF(OR(N101=1,M101=1),"",E101),IF(OR(H101="",I101=""),G101-F101,(H101-F101)+(G101-I101))) -> 0.16666667 | K101: =IF(E101<>"T","",IF(J101>=(8/24),J101-(8/24),TEXT((8/24)-J101,"- [h]:mm"))) -> - 4:00 | L101: =IF(AND(E101="T",J101<(8/24)),(8/24)-J101,"") -> 0.16666667 | M101: =IF(OR(WEEKDAY(C101)=1,WEEKDAY(C101)=7),1,"") | N101: {=IFERROR(IF(MATCH(C101,Feries,0),1,""),"")} | O101: EQUIPE 01 | P101: 16 _x000D_ NYOISEAU _x000D_ NYOISEAU_x000D_ | Q101: =WEEKNUM(C101) -> 1 | R101: =MONTH(C101) -> 1 | S101: =YEAR(C101) -> 2019
B102: =ROW(B102)-3 -> 99 | C102: 43469 | D102: ANGIBAUD Eric | E102: T | F102: 08:00 | G102: 17:00 | H102: 12:00 | I102: 17:00 | J102: =IF(E102<>"T",IF(OR(N102=1,M102=1),"",E102),IF(OR(H102="",I102=""),G102-F102,(H102-F102)+(G102-I102))) -> 0.16666667 | K102: =IF(E102<>"T","",IF(J102>=(8/24),J102-(8/24),TEXT((8/24)-J102,"- [h]:mm"))) -> - 4:00 | L102: =IF(AND(E102="T",J102<(8/24)),(8/24)-J102,"") -> 0.16666667 | M102: =IF(OR(WEEKDAY(C102)=1,WEEKDAY(C102)=7),1,"") | N102: {=IFERROR(IF(MATCH(C102,Feries,0),1,""),"")} | O102: EQUIPE 01 | P102: 16 _x000D_ NYOISEAU _x000D_ NYOISEAU_x000D_ | Q102: =WEEKNUM(C102) -> 1 | R102: =MONTH(C102) -> 1 | S102: =YEAR(C102) -> 2019
B103: =ROW(B103)-3 -> 100 | C103: 43458 | D103: DOMÉNÉ Alexandre | F103: 08:00 | G103: 17:00 | H103: 12:00 | I103: 17:00 | J103: =IF(E103<>"T",IF(OR(N103=1,M103=1),"",E103),IF(OR(H103="",I103=""),G103-F103,(H103-F103)+(G103-I103))) -> 0 | K103: =IF(E103<>"T","",IF(J103>=(8/24),J103-(8/24),TEXT((8/24)-J103,"- [h]:mm"))) | L103: =IF(AND(E103="T",J103<(8/24)),(8/24)-J103,"") | M103: =IF(OR(WEEKDAY(C103)=1,WEEKDAY(C103)=7),1,"") | N103: {=IFERROR(IF(MATCH(C103,Feries,0),1,""),"")} | O103: EQUIPE 15 | P103: 20 _x000D_ SEGRE CENTRE J. FERRY _x000D_ _x000D_ SEGRÉ | Q103: =WEEKNUM(C103) -> 52 | R103: =MONTH(C103) -> 12 | S103: =YEAR(C103) -> 2018
B104: =ROW(B104)-3 -> 101 | C104: 43458 | D104: DOUET Martin | F104: 08:00 | G104: 17:00 | H104: 12:00 | I104: 17:00 | J104: =IF(E104<>"T",IF(OR(N104=1,M104=1),"",E104),IF(OR(H104="",I104=""),G104-F104,(H104-F104)+(G104-I104))) -> 0 | K104: =IF(E104<>"T","",IF(J104>=(8/24),J104-(8/24),TEXT((8/24)-J104,"- [h]:mm"))) | L104: =IF(AND(E104="T",J104<(8/24)),(8/24)-J104,"") | M104: =IF(OR(WEEKDAY(C104)=1,WEEKDAY(C104)=7),1,"") | N104: {=IFERROR(IF(MATCH(C104,Feries,0),1,""),"")} | O104: EQUIPE 15 | P104: 20 _x000D_ SEGRE CENTRE J. FERRY _x000D_ _x000D_ SEGRÉ | Q104: =WEEKNUM(C104) -> 52 | R104: =MONTH(C104) -> 12 | S104: =YEAR(C104) -> 2018
B105: =ROW(B105)-3 -> 102 | C105: 43458 | D105: DOUSSIN CORENTIN | F105: 08:00 | G105: 17:00 | H105: 12:00 | I105: 17:00 | J105: =IF(E105<>"T",IF(OR(N105=1,M105=1),"",E105),IF(OR(H105="",I105=""),G105-F105,(H105-F105)+(G105-I105))) -> 0 | K105: =IF(E105<>"T","",IF(J105>=(8/24),J105-(8/24),TEXT((8/24)-J105,"- [h]:mm"))) | L105: =IF(AND(E105="T",J105<(8/24)),(8/24)-J105,"") | M105: =IF(OR(WEEKDAY(C105)=1,WEEKDAY(C105)=7),1,"") | N105: {=IFERROR(IF(MATCH(C105,Feries,0),1,""),"")} | O105: EQUIPE 15 | P105: 20 _x000D_ SEGRE CENTRE J. FERRY _x000D_ _x000D_ SEGRÉ | Q105: =WEEKNUM(C105) -> 52 | R105: =MONTH(C105) -> 12 | S105: =YEAR(C105) -> 2018
B106: =ROW(B106)-3 -> 103 | C106: 43458 | D106: DOUSSIN Corentin | F106: 08:00 | G106: 17:00 | H106: 12:00 | I106: 17:00 | J106: =IF(E106<>"T",IF(OR(N106=1,M106=1),"",E106),IF(OR(H106="",I106=""),G106-F106,(H106-F106)+(G106-I106))) -> 0 | K106: =IF(E106<>"T","",IF(J106>=(8/24),J106-(8/24),TEXT((8/24)-J106,"- [h]:mm"))) | L106: =IF(AND(E106="T",J106<(8/24)),(8/24)-J106,"") | M106: =IF(OR(WEEKDAY(C106)=1,WEEKDAY(C106)=7),1,"") | N106: {=IFERROR(IF(MATCH(C106,Feries,0),1,""),"")} | O106: EQUIPE 15 | P106: 20 _x000D_ SEGRE CENTRE J. FERRY _x000D_ _x000D_ SEGRÉ | Q106: =WEEKNUM(C106) -> 52 | R106: =MONTH(C106) -> 12 | S106: =YEAR(C106) -> 2018
B107: =ROW(B107)-3 -> 104 | C107: 43458 | D107: DUCHEMIN Thomas | F107: 08:00 | G107: 17:00 | H107: 12:00 | I107: 17:00 | J107: =IF(E107<>"T",IF(OR(N107=1,M107=1),"",E107),IF(OR(H107="",I107=""),G107-F107,(H107-F107)+(G107-I107))) -> 0 | K107: =IF(E107<>"T","",IF(J107>=(8/24),J107-(8/24),TEXT((8/24)-J107,"- [h]:mm"))) | L107: =IF(AND(E107="T",J107<(8/24)),(8/24)-J107,"") | M107: =IF(OR(WEEKDAY(C107)=1,WEEKDAY(C107)=7),1,"") | N107: {=IFERROR(IF(MATCH(C107,Feries,0),1,""),"")} | O107: EQUIPE 15 | P107: 20 _x000D_ SEGRE CENTRE J. FERRY _x000D_ _x000D_ SEGRÉ | Q107: =WEEKNUM(C107) -> 52 | R107: =MONTH(C107) -> 12 | S107: =YEAR(C107) -> 2018
B108: =ROW(B108)-3 -> 105 | C108: 43458 | D108: DUMPERS Equipe | F108: 08:00 | G108: 17:00 | H108: 12:00 | I108: 17:00 | J108: =IF(E108<>"T",IF(OR(N108=1,M108=1),"",E108),IF(OR(H108="",I108=""),G108-F108,(H108-F108)+(G108-I108))) -> 0 | K108: =IF(E108<>"T","",IF(J108>=(8/24),J108-(8/24),TEXT((8/24)-J108,"- [h]:mm"))) | L108: =IF(AND(E108="T",J108<(8/24)),(8/24)-J108,"") | M108: =IF(OR(WEEKDAY(C108)=1,WEEKDAY(C108)=7),1,"") | N108: {=IFERROR(IF(MATCH(C108,Feries,0),1,""),"")} | O108: EQUIPE 15 | P108: 20 _x000D_ SEGRE CENTRE J. FERRY _x000D_ _x000D_ SEGRÉ | Q108: =WEEKNUM(C108) -> 52 | R108: =MONTH(C108) -> 12 | S108: =YEAR(C108) -> 2018
B109: =ROW(B109)-3 -> 106 | C109: 43459 | D109: DOMÉNÉ Alexandre | F109: 08:00 | G109: 17:00 | H109: 12:00 | I109: 17:00 | J109: =IF(E109<>"T",IF(OR(N109=1,M109=1),"",E109),IF(OR(H109="",I109=""),G109-F109,(H109-F109)+(G109-I109))) -> 0 | K109: =IF(E109<>"T","",IF(J109>=(8/24),J109-(8/24),TEXT((8/24)-J109,"- [h]:mm"))) | L109: =IF(AND(E109="T",J109<(8/24)),(8/24)-J109,"") | M109: =IF(OR(WEEKDAY(C109)=1,WEEKDAY(C109)=7),1,"") | N109: {=IFERROR(IF(MATCH(C109,Feries,0),1,""),"")} | O109: EQUIPE 15 | P109: 20 _x000D_ SEGRE CENTRE J. FERRY _x000D_ _x000D_ SEGRÉ | Q109: =WEEKNUM(C109) -> 52 | R109: =MONTH(C109) -> 12 | S109: =YEAR(C109) -> 2018
B110: =ROW(B110)-3 -> 107 | C110: 43459 | D110: DOUET Martin | F110: 08:00 | G110: 17:00 | H110: 12:00 | I110: 17:00 | J110: =IF(E110<>"T",IF(OR(N110=1,M110=1),"",E110),IF(OR(H110="",I110=""),G110-F110,(H110-F110)+(G110-I110))) -> 0 | K110: =IF(E110<>"T","",IF(J110>=(8/24),J110-(8/24),TEXT((8/24)-J110,"- [h]:mm"))) | L110: =IF(AND(E110="T",J110<(8/24)),(8/24)-J110,"") | M110: =IF(OR(WEEKDAY(C110)=1,WEEKDAY(C110)=7),1,"") | N110: {=IFERROR(IF(MATCH(C110,Feries,0),1,""),"")} | O110: EQUIPE 15 | P110: 20 _x000D_ SEGRE CENTRE J. FERRY _x000D_ _x000D_ SEGRÉ | Q110: =WEEKNUM(C110) -> 52 | R110: =MONTH(C110) -> 12 | S110: =YEAR(C110) -> 2018
B111: =ROW(B111)-3 -> 108 | C111: 43459 | D111: DOUSSIN CORENTIN | F111: 08:00 | G111: 17:00 | H111: 12:00 | I111: 17:00 | J111: =IF(E111<>"T",IF(OR(N111=1,M111=1),"",E111),IF(OR(H111="",I111=""),G111-F111,(H111-F111)+(G111-I111))) -> 0 | K111: =IF(E111<>"T","",IF(J111>=(8/24),J111-(8/24),TEXT((8/24)-J111,"- [h]:mm"))) | L111: =IF(AND(E111="T",J111<(8/24)),(8/24)-J111,"") | M111: =IF(OR(WEEKDAY(C111)=1,WEEKDAY(C111)=7),1,"") | N111: {=IFERROR(IF(MATCH(C111,Feries,0),1,""),"")} | O111: EQUIPE 15 | P111: 20 _x000D_ SEGRE CENTRE J. FERRY _x000D_ _x000D_ SEGRÉ | Q111: =WEEKNUM(C111) -> 52 | R111: =MONTH(C111) -> 12 | S111: =YEAR(C111) -> 2018
B112: =ROW(B112)-3 -> 109 | C112: 43459 | D112: DOUSSIN Corentin | F112: 08:00 | G112: 17:00 | H112: 12:00 | I112: 17:00 | J112: =IF(E112<>"T",IF(OR(N112=1,M112=1),"",E112),IF(OR(H112="",I112=""),G112-F112,(H112-F112)+(G112-I112))) -> 0 | K112: =IF(E112<>"T","",IF(J112>=(8/24),J112-(8/24),TEXT((8/24)-J112,"- [h]:mm"))) | L112: =IF(AND(E112="T",J112<(8/24)),(8/24)-J112,"") | M112: =IF(OR(WEEKDAY(C112)=1,WEEKDAY(C112)=7),1,"") | N112: {=IFERROR(IF(MATCH(C112,Feries,0),1,""),"")} | O112: EQUIPE 15 | P112: 20 _x000D_ SEGRE CENTRE J. FERRY _x000D_ _x000D_ SEGRÉ | Q112: =WEEKNUM(C112) -> 52 | R112: =MONTH(C112) -> 12 | S112: =YEAR(C112) -> 2018
B113: =ROW(B113)-3 -> 110 | C113: 43459 | D113: DUCHEMIN Thomas | F113: 08:00 | G113: 17:00 | H113: 12:00 | I113: 17:00 | J113: =IF(E113<>"T",IF(OR(N113=1,M113=1),"",E113),IF(OR(H113="",I113=""),G113-F113,(H113-F113)+(G113-I113))) -> 0 | K113: =IF(E113<>"T","",IF(J113>=(8/24),J113-(8/24),TEXT((8/24)-J113,"- [h]:mm"))) | L113: =IF(AND(E113="T",J113<(8/24)),(8/24)-J113,"") | M113: =IF(OR(WEEKDAY(C113)=1,WEEKDAY(C113)=7),1,"") | N113: {=IFERROR(IF(MATCH(C113,Feries,0),1,""),"")} | O113: EQUIPE 15 | P113: 20 _x000D_ SEGRE CENTRE J. FERRY _x000D_ _x000D_ SEGRÉ | Q113: =WEEKNUM(C113) -> 52 | R113: =MONTH(C113) -> 12 | S113: =YEAR(C113) -> 2018
B114: =ROW(B114)-3 -> 111 | C114: 43459 | D114: DUMPERS Equipe | F114: 08:00 | G114: 17:00 | H114: 12:00 | I114: 17:00 | J114: =IF(E114<>"T",IF(OR(N114=1,M114=1),"",E114),IF(OR(H114="",I114=""),G114-F114,(H114-F114)+(G114-I114))) -> 0 | K114: =IF(E114<>"T","",IF(J114>=(8/24),J114-(8/24),TEXT((8/24)-J114,"- [h]:mm"))) | L114: =IF(AND(E114="T",J114<(8/24)),(8/24)-J114,"") | M114: =IF(OR(WEEKDAY(C114)=1,WEEKDAY(C114)=7),1,"") | N114: {=IFERROR(IF(MATCH(C114,Feries,0),1,""),"")} | O114: EQUIPE 15 | P114: 20 _x000D_ SEGRE CENTRE J. FERRY _x000D_ _x000D_ SEGRÉ | Q114: =WEEKNUM(C114) -> 52 | R114: =MONTH(C114) -> 12 | S114: =YEAR(C114) -> 2018
... B160: =ROW(B160)-3 -> 157 | C160: 43441 | D160: ANGIBAUD Eric | F160: 08:00 | G160: 17:00 | H160: 12:00 | I160: 13:30 | J160: =IF(E160<>"T",IF(OR(N160=1,M160=1),"",E160),IF(OR(H160="",I160=""),G160-F160,(H160-F160)+(G160-I160))) -> 0 | K160: =IF(E160<>"T","",IF(J160>=(8/24),J160-(8/24),TEXT((8/24)-J160,"- [h]:mm"))) | L160: =IF(AND(E160="T",J160<(8/24)),(8/24)-J160,"") | M160: =IF(OR(WEEKDAY(C160)=1,WEEKDAY(C160)=7),1,"") | N160: {=IFERROR(IF(MATCH(C160,Feries,0),1,""),"")} | O160: EQUIPE 01 | P160: 4 ZAC. DES CHENES AVIRÉ | Q160: =WEEKNUM(C160) -> 49 | R160: =MONTH(C160) -> 12 | S160: =YEAR(C160) -> 2018
B161: =ROW(B161)-3 -> 158 | C161: 43405 | D161: ADAM Justin | E161: T | F161: 08:00 | G161: 17:00 | H161: 12:00 | I161: 13:30 | J161: =IF(E161<>"T",IF(OR(N161=1,M161=1),"",E161),IF(OR(H161="",I161=""),G161-F161,(H161-F161)+(G161-I161))) -> 0.3125 | K161: =IF(E161<>"T","",IF(J161>=(8/24),J161-(8/24),TEXT((8/24)-J161,"- [h]:mm"))) -> - 0:30 | L161: =IF(AND(E161="T",J161<(8/24)),(8/24)-J161,"") -> 0.020833333 | M161: =IF(OR(WEEKDAY(C161)=1,WEEKDAY(C161)=7),1,"") | N161: {=IFERROR(IF(MATCH(C161,Feries,0),1,""),"")} | O161: EQUIPE 01 | P161: 4 ZAC. DES CHENES AVIRÉ | Q161: =WEEKNUM(C161) -> 44 | R161: =MONTH(C161) -> 11 | S161: =YEAR(C161) -> 2018
B162: =ROW(B162)-3 -> 159 | C162: 43406 | D162: ADAM Justin | E162: T | F162: 08:00 | G162: 17:00 | H162: 12:00 | I162: 13:30 | J162: =IF(E162<>"T",IF(OR(N162=1,M162=1),"",E162),IF(OR(H162="",I162=""),G162-F162,(H162-F162)+(G162-I162))) -> 0.3125 | K162: =IF(E162<>"T","",IF(J162>=(8/24),J162-(8/24),TEXT((8/24)-J162,"- [h]:mm"))) -> - 0:30 | L162: =IF(AND(E162="T",J162<(8/24)),(8/24)-J162,"") -> 0.020833333 | M162: =IF(OR(WEEKDAY(C162)=1,WEEKDAY(C162)=7),1,"") | N162: {=IFERROR(IF(MATCH(C162,Feries,0),1,""),"")} | O162: EQUIPE 01 | P162: 4 ZAC. DES CHENES AVIRÉ | Q162: =WEEKNUM(C162) -> 44 | R162: =MONTH(C162) -> 11 | S162: =YEAR(C162) -> 2018
B163: =ROW(B163)-3 -> 160 | C163: 43409 | D163: ADAM Justin | E163: T | F163: 08:00 | G163: 17:00 | H163: 12:00 | I163: 13:30 | J163: =IF(E163<>"T",IF(OR(N163=1,M163=1),"",E163),IF(OR(H163="",I163=""),G163-F163,(H163-F163)+(G163-I163))) -> 0.3125 | K163: =IF(E163<>"T","",IF(J163>=(8/24),J163-(8/24),TEXT((8/24)-J163,"- [h]:mm"))) -> - 0:30 | L163: =IF(AND(E163="T",J163<(8/24)),(8/24)-J163,"") -> 0.020833333 | M163: =IF(OR(WEEKDAY(C163)=1,WEEKDAY(C163)=7),1,"") | N163: {=IFERROR(IF(MATCH(C163,Feries,0),1,""),"")} | O163: EQUIPE 01 | P163: 4 ZAC. DES CHENES AVIRÉ | Q163: =WEEKNUM(C163) -> 45 | R163: =MONTH(C163) -> 11 | S163: =YEAR(C163) -> 2018
B164: =ROW(B164)-3 -> 161 | C164: 43410 | D164: ADAM Justin | E164: T | F164: 08:00 | G164: 17:00 | H164: 12:00 | I164: 13:30 | J164: =IF(E164<>"T",IF(OR(N164=1,M164=1),"",E164),IF(OR(H164="",I164=""),G164-F164,(H164-F164)+(G164-I164))) -> 0.3125 | K164: =IF(E164<>"T","",IF(J164>=(8/24),J164-(8/24),TEXT((8/24)-J164,"- [h]:mm"))) -> - 0:30 | L164: =IF(AND(E164="T",J164<(8/24)),(8/24)-J164,"") -> 0.020833333 | M164: =IF(OR(WEEKDAY(C164)=1,WEEKDAY(C164)=7),1,"") | N164: {=IFERROR(IF(MATCH(C164,Feries,0),1,""),"")} | O164: EQUIPE 01 | P164: 4 ZAC. DES CHENES AVIRÉ | Q164: =WEEKNUM(C164) -> 45 | R164: =MONTH(C164) -> 11 | S164: =YEAR(C164) -> 2018
B165: =ROW(B165)-3 -> 162 | C165: 43411 | D165: ADAM Justin | E165: T | F165: 08:00 | G165: 17:00 | H165: 12:00 | I165: 13:30 | J165: =IF(E165<>"T",IF(OR(N165=1,M165=1),"",E165),IF(OR(H165="",I165=""),G165-F165,(H165-F165)+(G165-I165))) -> 0.3125 | K165: =IF(E165<>"T","",IF(J165>=(8/24),J165-(8/24),TEXT((8/24)-J165,"- [h]:mm"))) -> - 0:30 | L165: =IF(AND(E165="T",J165<(8/24)),(8/24)-J165,"") -> 0.020833333 | M165: =IF(OR(WEEKDAY(C165)=1,WEEKDAY(C165)=7),1,"") | N165: {=IFERROR(IF(MATCH(C165,Feries,0),1,""),"")} | O165: EQUIPE 01 | P165: 4 ZAC. DES CHENES AVIRÉ | Q165: =WEEKNUM(C165) -> 45 | R165: =MONTH(C165) -> 11 | S165: =YEAR(C165) -> 2018
B166: =ROW(B166)-3 -> 163 | C166: 43412 | D166: ADAM Justin | E166: T | F166: 08:00 | G166: 17:00 | H166: 12:00 | I166: 13:30 | J166: =IF(E166<>"T",IF(OR(N166=1,M166=1),"",E166),IF(OR(H166="",I166=""),G166-F166,(H166-F166)+(G166-I166))) -> 0.3125 | K166: =IF(E166<>"T","",IF(J166>=(8/24),J166-(8/24),TEXT((8/24)-J166,"- [h]:mm"))) -> - 0:30 | L166: =IF(AND(E166="T",J166<(8/24)),(8/24)-J166,"") -> 0.020833333 | M166: =IF(OR(WEEKDAY(C166)=1,WEEKDAY(C166)=7),1,"") | N166: {=IFERROR(IF(MATCH(C166,Feries,0),1,""),"")} | O166: EQUIPE 01 | P166: 4 ZAC. DES CHENES AVIRÉ | Q166: =WEEKNUM(C166) -> 45 | R166: =MONTH(C166) -> 11 | S166: =YEAR(C166) -> 2018
B167: =ROW(B167)-3 -> 164 | C167: 43413 | D167: ADAM Justin | E167: T | F167: 08:00 | G167: 17:00 | H167: 12:00 | I167: 13:30 | J167: =IF(E167<>"T",IF(OR(N167=1,M167=1),"",E167),IF(OR(H167="",I167=""),G167-F167,(H167-F167)+(G167-I167))) -> 0.3125 | K167: =IF(E167<>"T","",IF(J167>=(8/24),J167-(8/24),TEXT((8/24)-J167,"- [h]:mm"))) -> - 0:30 | L167: =IF(AND(E167="T",J167<(8/24)),(8/24)-J167,"") -> 0.020833333 | M167: =IF(OR(WEEKDAY(C167)=1,WEEKDAY(C167)=7),1,"") | N167: {=IFERROR(IF(MATCH(C167,Feries,0),1,""),"")} | O167: EQUIPE 01 | P167: 4 ZAC. DES CHENES AVIRÉ | Q167: =WEEKNUM(C167) -> 45 | R167: =MONTH(C167) -> 11 | S167: =YEAR(C167) -> 2018
B168: =ROW(B168)-3 -> 165 | C168: 43416 | D168: ADAM Justin | E168: T | F168: 08:00 | G168: 17:00 | H168: 12:00 | I168: 13:30 | J168: =IF(E168<>"T",IF(OR(N168=1,M168=1),"",E168),IF(OR(H168="",I168=""),G168-F168,(H168-F168)+(G168-I168))) -> 0.3125 | K168: =IF(E168<>"T","",IF(J168>=(8/24),J168-(8/24),TEXT((8/24)-J168,"- [h]:mm"))) -> - 0:30 | L168: =IF(AND(E168="T",J168<(8/24)),(8/24)-J168,"") -> 0.020833333 | M168: =IF(OR(WEEKDAY(C168)=1,WEEKDAY(C168)=7),1,"") | N168: {=IFERROR(IF(MATCH(C168,Feries,0),1,""),"")} | O168: EQUIPE 01 | P168: 4 ZAC. DES CHENES AVIRÉ | Q168: =WEEKNUM(C168) -> 46 | R168: =MONTH(C168) -> 11 | S168: =YEAR(C168) -> 2018
B169: =ROW(B169)-3 -> 166 | C169: 43416 | D169: ADAM Pierre-Luc | E169: T | F169: 08:00 | G169: 17:00 | H169: 12:00 | I169: 13:30 | J169: =IF(E169<>"T",IF(OR(N169=1,M169=1),"",E169),IF(OR(H169="",I169=""),G169-F169,(H169-F169)+(G169-I169))) -> 0.3125 | K169: =IF(E169<>"T","",IF(J169>=(8/24),J169-(8/24),TEXT((8/24)-J169,"- [h]:mm"))) -> - 0:30 | L169: =IF(AND(E169="T",J169<(8/24)),(8/24)-J169,"") -> 0.020833333 | M169: =IF(OR(WEEKDAY(C169)=1,WEEKDAY(C169)=7),1,"") | N169: {=IFERROR(IF(MATCH(C169,Feries,0),1,""),"")} | O169: EQUIPE 01 | P169: 4 ZAC. DES CHENES AVIRÉ | Q169: =WEEKNUM(C169) -> 46 | R169: =MONTH(C169) -> 11 | S169: =YEAR(C169) -> 2018
B170: =ROW(B170)-3 -> 167 | C170: 43417 | D170: ADAM Justin | E170: T | F170: 08:00 | G170: 17:00 | H170: 12:00 | I170: 13:30 | J170: =IF(E170<>"T",IF(OR(N170=1,M170=1),"",E170),IF(OR(H170="",I170=""),G170-F170,(H170-F170)+(G170-I170))) -> 0.3125 | K170: =IF(E170<>"T","",IF(J170>=(8/24),J170-(8/24),TEXT((8/24)-J170,"- [h]:mm"))) -> - 0:30 | L170: =IF(AND(E170="T",J170<(8/24)),(8/24)-J170,"") -> 0.020833333 | M170: =IF(OR(WEEKDAY(C170)=1,WEEKDAY(C170)=7),1,"") | N170: {=IFERROR(IF(MATCH(C170,Feries,0),1,""),"")} | O170: EQUIPE 01 | P170: 4 ZAC. DES CHENES AVIRÉ | Q170: =WEEKNUM(C170) -> 46 | R170: =MONTH(C170) -> 11 | S170: =YEAR(C170) -> 2018
B171: =ROW(B171)-3 -> 168 | C171: 43417 | D171: ADAM Pierre-Luc | E171: T | F171: 08:00 | G171: 17:00 | H171: 12:00 | I171: 13:30 | J171: =IF(E171<>"T",IF(OR(N171=1,M171=1),"",E171),IF(OR(H171="",I171=""),G171-F171,(H171-F171)+(G171-I171))) -> 0.3125 | K171: =IF(E171<>"T","",IF(J171>=(8/24),J171-(8/24),TEXT((8/24)-J171,"- [h]:mm"))) -> - 0:30 | L171: =IF(AND(E171="T",J171<(8/24)),(8/24)-J171,"") -> 0.020833333 | M171: =IF(OR(WEEKDAY(C171)=1,WEEKDAY(C171)=7),1,"") | N171: {=IFERROR(IF(MATCH(C171,Feries,0),1,""),"")} | O171: EQUIPE 01 | P171: 4 ZAC. DES CHENES AVIRÉ | Q171: =WEEKNUM(C171) -> 46 | R171: =MONTH(C171) -> 11 | S171: =YEAR(C171) -> 2018
B172: =ROW(B172)-3 -> 169 | C172: 43418 | D172: ADAM Justin | E172: T | F172: 08:00 | G172: 17:00 | H172: 12:00 | I172: 13:30 | J172: =IF(E172<>"T",IF(OR(N172=1,M172=1),"",E172),IF(OR(H172="",I172=""),G172-F172,(H172-F172)+(G172-I172))) -> 0.3125 | K172: =IF(E172<>"T","",IF(J172>=(8/24),J172-(8/24),TEXT((8/24)-J172,"- [h]:mm"))) -> - 0:30 | L172: =IF(AND(E172="T",J172<(8/24)),(8/24)-J172,"") -> 0.020833333 | M172: =IF(OR(WEEKDAY(C172)=1,WEEKDAY(C172)=7),1,"") | N172: {=IFERROR(IF(MATCH(C172,Feries,0),1,""),"")} | O172: EQUIPE 01 | P172: 4 ZAC. DES CHENES AVIRÉ | Q172: =WEEKNUM(C172) -> 46 | R172: =MONTH(C172) -> 11 | S172: =YEAR(C172) -> 2018
... B243: =ROW(B243)-3 -> 240 | C243: 43423 | D243: AUVRAI MAXIME | E243: T | F243: 08:00 | G243: 17:00 | H243: 12:00 | I243: 13:30 | J243: =IF(E243<>"T",IF(OR(N243=1,M243=1),"",E243),IF(OR(H243="",I243=""),G243-F243,(H243-F243)+(G243-I243))) -> 0.3125 | K243: =IF(E243<>"T","",IF(J243>=(8/24),J243-(8/24),TEXT((8/24)-J243,"- [h]:mm"))) -> - 0:30 | L243: =IF(AND(E243="T",J243<(8/24)),(8/24)-J243,"") -> 0.020833333 | M243: =IF(OR(WEEKDAY(C243)=1,WEEKDAY(C243)=7),1,"") | N243: {=IFERROR(IF(MATCH(C243,Feries,0),1,""),"")} | O243: EQUIPE 02 | P243: 5 _x000D_ LOT. DES CHENES _x000D_ _x000D_ GENÉ | Q243: =WEEKNUM(C243) -> 47 | R243: =MONTH(C243) -> 11 | S243: =YEAR(C243) -> 2018
B244: =ROW(B244)-3 -> 241 | C244: 43437 | D244: ADAM Justin | F244: 08:00 | G244: 17:00 | H244: 12:00 | I244: 17:00 | J244: =IF(E244<>"T",IF(OR(N244=1,M244=1),"",E244),IF(OR(H244="",I244=""),G244-F244,(H244-F244)+(G244-I244))) -> 0 | K244: =IF(E244<>"T","",IF(J244>=(8/24),J244-(8/24),TEXT((8/24)-J244,"- [h]:mm"))) | L244: =IF(AND(E244="T",J244<(8/24)),(8/24)-J244,"") | M244: =IF(OR(WEEKDAY(C244)=1,WEEKDAY(C244)=7),1,"") | N244: {=IFERROR(IF(MATCH(C244,Feries,0),1,""),"")} | O244: EQUIPE 01 | P244: 5 _x000D_ LOT. DES CHENES _x000D_ _x000D_ GENÉ | Q244: =WEEKNUM(C244) -> 49 | R244: =MONTH(C244) -> 12 | S244: =YEAR(C244) -> 2018
B245: =ROW(B245)-3 -> 242 | C245: 43437 | D245: ARABI Ali | F245: 08:00 | G245: 17:00 | H245: 12:00 | I245: 17:00 | J245: =IF(E245<>"T",IF(OR(N245=1,M245=1),"",E245),IF(OR(H245="",I245=""),G245-F245,(H245-F245)+(G245-I245))) -> 0 | K245: =IF(E245<>"T","",IF(J245>=(8/24),J245-(8/24),TEXT((8/24)-J245,"- [h]:mm"))) | L245: =IF(AND(E245="T",J245<(8/24)),(8/24)-J245,"") | M245: =IF(OR(WEEKDAY(C245)=1,WEEKDAY(C245)=7),1,"") | N245: {=IFERROR(IF(MATCH(C245,Feries,0),1,""),"")} | O245: EQUIPE 02 | P245: 5 _x000D_ LOT. DES CHENES _x000D_ _x000D_ GENÉ | Q245: =WEEKNUM(C245) -> 49 | R245: =MONTH(C245) -> 12 | S245: =YEAR(C245) -> 2018
B246: =ROW(B246)-3 -> 243 | C246: 43437 | D246: ARABI Ali | F246: 08:00 | G246: 17:00 | H246: 12:00 | I246: 17:00 | J246: =IF(E246<>"T",IF(OR(N246=1,M246=1),"",E246),IF(OR(H246="",I246=""),G246-F246,(H246-F246)+(G246-I246))) -> 0 | K246: =IF(E246<>"T","",IF(J246>=(8/24),J246-(8/24),TEXT((8/24)-J246,"- [h]:mm"))) | L246: =IF(AND(E246="T",J246<(8/24)),(8/24)-J246,"") | M246: =IF(OR(WEEKDAY(C246)=1,WEEKDAY(C246)=7),1,"") | N246: {=IFERROR(IF(MATCH(C246,Feries,0),1,""),"")} | O246: EQUIPE 02 | P246: 5 _x000D_ LOT. DES CHENES _x000D_ _x000D_ GENÉ | Q246: =WEEKNUM(C246) -> 49 | R246: =MONTH(C246) -> 12 | S246: =YEAR(C246) -> 2018
B247: =ROW(B247)-3 -> 244 | C247: 43437 | D247: ATELIER Dépannage | F247: 08:00 | G247: 17:00 | H247: 12:00 | I247: 17:00 | J247: =IF(E247<>"T",IF(OR(N247=1,M247=1),"",E247),IF(OR(H247="",I247=""),G247-F247,(H247-F247)+(G247-I247))) -> 0 | K247: =IF(E247<>"T","",IF(J247>=(8/24),J247-(8/24),TEXT((8/24)-J247,"- [h]:mm"))) | L247: =IF(AND(E247="T",J247<(8/24)),(8/24)-J247,"") | M247: =IF(OR(WEEKDAY(C247)=1,WEEKDAY(C247)=7),1,"") | N247: {=IFERROR(IF(MATCH(C247,Feries,0),1,""),"")} | O247: EQUIPE 02 | P247: 5 _x000D_ LOT. DES CHENES _x000D_ _x000D_ GENÉ | Q247: =WEEKNUM(C247) -> 49 | R247: =MONTH(C247) -> 12 | S247: =YEAR(C247) -> 2018
B248: =ROW(B248)-3 -> 245 | C248: 43437 | D248: ATHIMOND David | F248: 08:00 | G248: 17:00 | H248: 12:00 | I248: 17:00 | J248: =IF(E248<>"T",IF(OR(N248=1,M248=1),"",E248),IF(OR(H248="",I248=""),G248-F248,(H248-F248)+(G248-I248))) -> 0 | K248: =IF(E248<>"T","",IF(J248>=(8/24),J248-(8/24),TEXT((8/24)-J248,"- [h]:mm"))) | L248: =IF(AND(E248="T",J248<(8/24)),(8/24)-J248,"") | M248: =IF(OR(WEEKDAY(C248)=1,WEEKDAY(C248)=7),1,"") | N248: {=IFERROR(IF(MATCH(C248,Feries,0),1,""),"")} | O248: EQUIPE 02 | P248: 5 _x000D_ LOT. DES CHENES _x000D_ _x000D_ GENÉ | Q248: =WEEKNUM(C248) -> 49 | R248: =MONTH(C248) -> 12 | S248: =YEAR(C248) -> 2018
B249: =ROW(B249)-3 -> 246 | C249: 43437 | D249: AUDRAN Patrick | F249: 08:00 | G249: 17:00 | H249: 12:00 | I249: 17:00 | J249: =IF(E249<>"T",IF(OR(N249=1,M249=1),"",E249),IF(OR(H249="",I249=""),G249-F249,(H249-F249)+(G249-I249))) -> 0 | K249: =IF(E249<>"T","",IF(J249>=(8/24),J249-(8/24),TEXT((8/24)-J249,"- [h]:mm"))) | L249: =IF(AND(E249="T",J249<(8/24)),(8/24)-J249,"") | M249: =IF(OR(WEEKDAY(C249)=1,WEEKDAY(C249)=7),1,"") | N249: {=IFERROR(IF(MATCH(C249,Feries,0),1,""),"")} | O249: EQUIPE 02 | P249: 5 _x000D_ LOT. DES CHENES _x000D_ _x000D_ GENÉ | Q249: =WEEKNUM(C249) -> 49 | R249: =MONTH(C249) -> 12 | S249: =YEAR(C249) -> 2018
B250: =ROW(B250)-3 -> 247 | C250: 43437 | D250: AUVRAI MAXIME | F250: 08:00 | G250: 17:00 | H250: 12:00 | I250: 17:00 | J250: =IF(E250<>"T",IF(OR(N250=1,M250=1),"",E250),IF(OR(H250="",I250=""),G250-F250,(H250-F250)+(G250-I250))) -> 0 | K250: =IF(E250<>"T","",IF(J250>=(8/24),J250-(8/24),TEXT((8/24)-J250,"- [h]:mm"))) | L250: =IF(AND(E250="T",J250<(8/24)),(8/24)-J250,"") | M250: =IF(OR(WEEKDAY(C250)=1,WEEKDAY(C250)=7),1,"") | N250: {=IFERROR(IF(MATCH(C250,Feries,0),1,""),"")} | O250: EQUIPE 02 | P250: 5 _x000D_ LOT. DES CHENES _x000D_ _x000D_ GENÉ | Q250: =WEEKNUM(C250) -> 49 | R250: =MONTH(C250) -> 12 | S250: =YEAR(C250) -> 2018
B251: =ROW(B251)-3 -> 248 | C251: 43444 | D251: ADAM Justin | F251: 08:00 | G251: 17:00 | H251: 12:00 | I251: 17:00 | J251: =IF(E251<>"T",IF(OR(N251=1,M251=1),"",E251),IF(OR(H251="",I251=""),G251-F251,(H251-F251)+(G251-I251))) -> 0 | K251: =IF(E251<>"T","",IF(J251>=(8/24),J251-(8/24),TEXT((8/24)-J251,"- [h]:mm"))) | L251: =IF(AND(E251="T",J251<(8/24)),(8/24)-J251,"") | M251: =IF(OR(WEEKDAY(C251)=1,WEEKDAY(C251)=7),1,"") | N251: {=IFERROR(IF(MATCH(C251,Feries,0),1,""),"")} | O251: EQUIPE 01 | P251: 5 _x000D_ LOT. DES CHENES _x000D_ _x000D_ GENÉ | Q251: =WEEKNUM(C251) -> 50 | R251: =MONTH(C251) -> 12 | S251: =YEAR(C251) -> 2018
B252: =ROW(B252)-3 -> 249 | C252: 43444 | D252: ADAM Pierre-Luc | F252: 08:00 | G252: 17:00 | H252: 12:00 | I252: 17:00 | J252: =IF(E252<>"T",IF(OR(N252=1,M252=1),"",E252),IF(OR(H252="",I252=""),G252-F252,(H252-F252)+(G252-I252))) -> 0 | K252: =IF(E252<>"T","",IF(J252>=(8/24),J252-(8/24),TEXT((8/24)-J252,"- [h]:mm"))) | L252: =IF(AND(E252="T",J252<(8/24)),(8/24)-J252,"") | M252: =IF(OR(WEEKDAY(C252)=1,WEEKDAY(C252)=7),1,"") | N252: {=IFERROR(IF(MATCH(C252,Feries,0),1,""),"")} | O252: EQUIPE 01 | P252: 5 _x000D_ LOT. DES CHENES _x000D_ _x000D_ GENÉ | Q252: =WEEKNUM(C252) -> 50 | R252: =MONTH(C252) -> 12 | S252: =YEAR(C252) -> 2018
B253: =ROW(B253)-3 -> 250 | C253: 43444 | D253: ADAM Pierre-Luc | F253: 08:00 | G253: 17:00 | H253: 12:00 | I253: 17:00 | J253: =IF(E253<>"T",IF(OR(N253=1,M253=1),"",E253),IF(OR(H253="",I253=""),G253-F253,(H253-F253)+(G253-I253))) -> 0 | K253: =IF(E253<>"T","",IF(J253>=(8/24),J253-(8/24),TEXT((8/24)-J253,"- [h]:mm"))) | L253: =IF(AND(E253="T",J253<(8/24)),(8/24)-J253,"") | M253: =IF(OR(WEEKDAY(C253)=1,WEEKDAY(C253)=7),1,"") | N253: {=IFERROR(IF(MATCH(C253,Feries,0),1,""),"")} | O253: EQUIPE 01 | P253: 5 _x000D_ LOT. DES CHENES _x000D_ _x000D_ GENÉ | Q253: =WEEKNUM(C253) -> 50 | R253: =MONTH(C253) -> 12 | S253: =YEAR(C253) -> 2018
B254: =ROW(B254)-3 -> 251 | C254: 43444 | D254: ANGIBAUD Eric | F254: 08:00 | G254: 17:00 | H254: 12:00 | I254: 17:00 | J254: =IF(E254<>"T",IF(OR(N254=1,M254=1),"",E254),IF(OR(H254="",I254=""),G254-F254,(H254-F254)+(G254-I254))) -> 0 | K254: =IF(E254<>"T","",IF(J254>=(8/24),J254-(8/24),TEXT((8/24)-J254,"- [h]:mm"))) | L254: =IF(AND(E254="T",J254<(8/24)),(8/24)-J254,"") | M254: =IF(OR(WEEKDAY(C254)=1,WEEKDAY(C254)=7),1,"") | N254: {=IFERROR(IF(MATCH(C254,Feries,0),1,""),"")} | O254: EQUIPE 01 | P254: 5 _x000D_ LOT. DES CHENES _x000D_ _x000D_ GENÉ | Q254: =WEEKNUM(C254) -> 50 | R254: =MONTH(C254) -> 12 | S254: =YEAR(C254) -> 2018
B255: =ROW(B255)-3 -> 252 | C255: 43444 | D255: ANGIBAUD Eric | F255: 08:00 | G255: 17:00 | H255: 12:00 | I255: 17:00 | J255: =IF(E255<>"T",IF(OR(N255=1,M255=1),"",E255),IF(OR(H255="",I255=""),G255-F255,(H255-F255)+(G255-I255))) -> 0 | K255: =IF(E255<>"T","",IF(J255>=(8/24),J255-(8/24),TEXT((8/24)-J255,"- [h]:mm"))) | L255: =IF(AND(E255="T",J255<(8/24)),(8/24)-J255,"") | M255: =IF(OR(WEEKDAY(C255)=1,WEEKDAY(C255)=7),1,"") | N255: {=IFERROR(IF(MATCH(C255,Feries,0),1,""),"")} | O255: EQUIPE 01 | P255: 5 _x000D_ LOT. DES CHENES _x000D_ _x000D_ GENÉ | Q255: =WEEKNUM(C255) -> 50 | R255: =MONTH(C255) -> 12 | S255: =YEAR(C255) -> 2018
... B269: =ROW(B269)-3 -> 266 | C269: 43448 | D269: ANGIBAUD Eric | F269: 08:00 | G269: 17:00 | H269: 12:00 | I269: 17:00 | J269: =IF(E269<>"T",IF(OR(N269=1,M269=1),"",E269),IF(OR(H269="",I269=""),G269-F269,(H269-F269)+(G269-I269))) -> 0 | K269: =IF(E269<>"T","",IF(J269>=(8/24),J269-(8/24),TEXT((8/24)-J269,"- [h]:mm"))) | L269: =IF(AND(E269="T",J269<(8/24)),(8/24)-J269,"") | M269: =IF(OR(WEEKDAY(C269)=1,WEEKDAY(C269)=7),1,"") | N269: {=IFERROR(IF(MATCH(C269,Feries,0),1,""),"")} | O269: EQUIPE 01 | P269: 5 _x000D_ LOT. DES CHENES _x000D_ _x000D_ GENÉ | Q269: =WEEKNUM(C269) -> 50 | R269: =MONTH(C269) -> 12 | S269: =YEAR(C269) -> 2018
B270: =ROW(B270)-3 -> 267 | C270: 43405 | D270: BARILLOT David | E270: T | F270: 08:00 | G270: 17:00 | H270: 12:00 | I270: 13:30 | J270: =IF(E270<>"T",IF(OR(N270=1,M270=1),"",E270),IF(OR(H270="",I270=""),G270-F270,(H270-F270)+(G270-I270))) -> 0.3125 | K270: =IF(E270<>"T","",IF(J270>=(8/24),J270-(8/24),TEXT((8/24)-J270,"- [h]:mm"))) -> - 0:30 | L270: =IF(AND(E270="T",J270<(8/24)),(8/24)-J270,"") -> 0.020833333 | M270: =IF(OR(WEEKDAY(C270)=1,WEEKDAY(C270)=7),1,"") | N270: {=IFERROR(IF(MATCH(C270,Feries,0),1,""),"")} | O270: EQUIPE 04 | P270: 5_x000D_ LOT. DES CHENES GENÉ_x000D_ | Q270: =WEEKNUM(C270) -> 44 | R270: =MONTH(C270) -> 11 | S270: =YEAR(C270) -> 2018
B271: =ROW(B271)-3 -> 268 | C271: 43405 | D271: BARRAIS Pascal | E271: T | F271: 08:00 | G271: 17:00 | H271: 12:00 | I271: 13:30 | J271: =IF(E271<>"T",IF(OR(N271=1,M271=1),"",E271),IF(OR(H271="",I271=""),G271-F271,(H271-F271)+(G271-I271))) -> 0.3125 | K271: =IF(E271<>"T","",IF(J271>=(8/24),J271-(8/24),TEXT((8/24)-J271,"- [h]:mm"))) -> - 0:30 | L271: =IF(AND(E271="T",J271<(8/24)),(8/24)-J271,"") -> 0.020833333 | M271: =IF(OR(WEEKDAY(C271)=1,WEEKDAY(C271)=7),1,"") | N271: {=IFERROR(IF(MATCH(C271,Feries,0),1,""),"")} | O271: EQUIPE 04 | P271: 5_x000D_ LOT. DES CHENES GENÉ_x000D_ | Q271: =WEEKNUM(C271) -> 44 | R271: =MONTH(C271) -> 11 | S271: =YEAR(C271) -> 2018
B272: =ROW(B272)-3 -> 269 | C272: 43405 | D272: BARRIO Alexandre | E272: T | F272: 08:00 | G272: 17:00 | H272: 12:00 | I272: 13:30 | J272: =IF(E272<>"T",IF(OR(N272=1,M272=1),"",E272),IF(OR(H272="",I272=""),G272-F272,(H272-F272)+(G272-I272))) -> 0.3125 | K272: =IF(E272<>"T","",IF(J272>=(8/24),J272-(8/24),TEXT((8/24)-J272,"- [h]:mm"))) -> - 0:30 | L272: =IF(AND(E272="T",J272<(8/24)),(8/24)-J272,"") -> 0.020833333 | M272: =IF(OR(WEEKDAY(C272)=1,WEEKDAY(C272)=7),1,"") | N272: {=IFERROR(IF(MATCH(C272,Feries,0),1,""),"")} | O272: EQUIPE 04 | P272: 5_x000D_ LOT. DES CHENES GENÉ_x000D_ | Q272: =WEEKNUM(C272) -> 44 | R272: =MONTH(C272) -> 11 | S272: =YEAR(C272) -> 2018
B273: =ROW(B273)-3 -> 270 | C273: 43405 | D273: BAUDUSSEAU Richard | E273: T | F273: 08:00 | G273: 17:00 | H273: 12:00 | I273: 13:30 | J273: =IF(E273<>"T",IF(OR(N273=1,M273=1),"",E273),IF(OR(H273="",I273=""),G273-F273,(H273-F273)+(G273-I273))) -> 0.3125 | K273: =IF(E273<>"T","",IF(J273>=(8/24),J273-(8/24),TEXT((8/24)-J273,"- [h]:mm"))) -> - 0:30 | L273: =IF(AND(E273="T",J273<(8/24)),(8/24)-J273,"") -> 0.020833333 | M273: =IF(OR(WEEKDAY(C273)=1,WEEKDAY(C273)=7),1,"") | N273: {=IFERROR(IF(MATCH(C273,Feries,0),1,""),"")} | O273: EQUIPE 04 | P273: 5_x000D_ LOT. DES CHENES GENÉ_x000D_ | Q273: =WEEKNUM(C273) -> 44 | R273: =MONTH(C273) -> 11 | S273: =YEAR(C273) -> 2018
B274: =ROW(B274)-3 -> 271 | C274: 43406 | D274: BARILLOT David | E274: T | F274: 08:00 | G274: 17:00 | H274: 12:00 | I274: 13:30 | J274: =IF(E274<>"T",IF(OR(N274=1,M274=1),"",E274),IF(OR(H274="",I274=""),G274-F274,(H274-F274)+(G274-I274))) -> 0.3125 | K274: =IF(E274<>"T","",IF(J274>=(8/24),J274-(8/24),TEXT((8/24)-J274,"- [h]:mm"))) -> - 0:30 | L274: =IF(AND(E274="T",J274<(8/24)),(8/24)-J274,"") -> 0.020833333 | M274: =IF(OR(WEEKDAY(C274)=1,WEEKDAY(C274)=7),1,"") | N274: {=IFERROR(IF(MATCH(C274,Feries,0),1,""),"")} | O274: EQUIPE 04 | P274: 5_x000D_ LOT. DES CHENES GENÉ_x000D_ | Q274: =WEEKNUM(C274) -> 44 | R274: =MONTH(C274) -> 11 | S274: =YEAR(C274) -> 2018
B275: =ROW(B275)-3 -> 272 | C275: 43406 | D275: BARRAIS Pascal | E275: T | F275: 08:00 | G275: 17:00 | H275: 12:00 | I275: 13:30 | J275: =IF(E275<>"T",IF(OR(N275=1,M275=1),"",E275),IF(OR(H275="",I275=""),G275-F275,(H275-F275)+(G275-I275))) -> 0.3125 | K275: =IF(E275<>"T","",IF(J275>=(8/24),J275-(8/24),TEXT((8/24)-J275,"- [h]:mm"))) -> - 0:30 | L275: =IF(AND(E275="T",J275<(8/24)),(8/24)-J275,"") -> 0.020833333 | M275: =IF(OR(WEEKDAY(C275)=1,WEEKDAY(C275)=7),1,"") | N275: {=IFERROR(IF(MATCH(C275,Feries,0),1,""),"")} | O275: EQUIPE 04 | P275: 5_x000D_ LOT. DES CHENES GENÉ_x000D_ | Q275: =WEEKNUM(C275) -> 44 | R275: =MONTH(C275) -> 11 | S275: =YEAR(C275) -> 2018
B276: =ROW(B276)-3 -> 273 | C276: 43406 | D276: BARRIO Alexandre | E276: T | F276: 08:00 | G276: 17:00 | H276: 12:00 | I276: 13:30 | J276: =IF(E276<>"T",IF(OR(N276=1,M276=1),"",E276),IF(OR(H276="",I276=""),G276-F276,(H276-F276)+(G276-I276))) -> 0.3125 | K276: =IF(E276<>"T","",IF(J276>=(8/24),J276-(8/24),TEXT((8/24)-J276,"- [h]:mm"))) -> - 0:30 | L276: =IF(AND(E276="T",J276<(8/24)),(8/24)-J276,"") -> 0.020833333 | M276: =IF(OR(WEEKDAY(C276)=1,WEEKDAY(C276)=7),1,"") | N276: {=IFERROR(IF(MATCH(C276,Feries,0),1,""),"")} | O276: EQUIPE 04 | P276: 5_x000D_ LOT. DES CHENES GENÉ_x000D_ | Q276: =WEEKNUM(C276) -> 44 | R276: =MONTH(C276) -> 11 | S276: =YEAR(C276) -> 2018
B277: =ROW(B277)-3 -> 274 | C277: 43406 | D277: BAUDUSSEAU Richard | E277: T | F277: 08:00 | G277: 17:00 | H277: 12:00 | I277: 13:30 | J277: =IF(E277<>"T",IF(OR(N277=1,M277=1),"",E277),IF(OR(H277="",I277=""),G277-F277,(H277-F277)+(G277-I277))) -> 0.3125 | K277: =IF(E277<>"T","",IF(J277>=(8/24),J277-(8/24),TEXT((8/24)-J277,"- [h]:mm"))) -> - 0:30 | L277: =IF(AND(E277="T",J277<(8/24)),(8/24)-J277,"") -> 0.020833333 | M277: =IF(OR(WEEKDAY(C277)=1,WEEKDAY(C277)=7),1,"") | N277: {=IFERROR(IF(MATCH(C277,Feries,0),1,""),"")} | O277: EQUIPE 04 | P277: 5_x000D_ LOT. DES CHENES GENÉ_x000D_ | Q277: =WEEKNUM(C277) -> 44 | R277: =MONTH(C277) -> 11 | S277: =YEAR(C277) -> 2018
B278: =ROW(B278)-3 -> 275 | C278: 43409 | D278: DEPANNAGE | E278: T | F278: 08:00 | G278: 17:00 | H278: 12:00 | I278: 13:30 | J278: =IF(E278<>"T",IF(OR(N278=1,M278=1),"",E278),IF(OR(H278="",I278=""),G278-F278,(H278-F278)+(G278-I278))) -> 0.3125 | K278: =IF(E278<>"T","",IF(J278>=(8/24),J278-(8/24),TEXT((8/24)-J278,"- [h]:mm"))) -> - 0:30 | L278: =IF(AND(E278="T",J278<(8/24)),(8/24)-J278,"") -> 0.020833333 | M278: =IF(OR(WEEKDAY(C278)=1,WEEKDAY(C278)=7),1,"") | N278: {=IFERROR(IF(MATCH(C278,Feries,0),1,""),"")} | O278: EQUIPE 14 | P278: 5_x000D_ LOT. DES CHENES GENÉ_x000D_ | Q278: =WEEKNUM(C278) -> 45 | R278: =MONTH(C278) -> 11 | S278: =YEAR(C278) -> 2018
B279: =ROW(B279)-3 -> 276 | C279: 43409 | D279: DEPANNAGE Entrammes | E279: T | F279: 08:00 | G279: 17:00 | H279: 12:00 | I279: 13:30 | J279: =IF(E279<>"T",IF(OR(N279=1,M279=1),"",E279),IF(OR(H279="",I279=""),G279-F279,(H279-F279)+(G279-I279))) -> 0.3125 | K279: =IF(E279<>"T","",IF(J279>=(8/24),J279-(8/24),TEXT((8/24)-J279,"- [h]:mm"))) -> - 0:30 | L279: =IF(AND(E279="T",J279<(8/24)),(8/24)-J279,"") -> 0.020833333 | M279: =IF(OR(WEEKDAY(C279)=1,WEEKDAY(C279)=7),1,"") | N279: {=IFERROR(IF(MATCH(C279,Feries,0),1,""),"")} | O279: EQUIPE 14 | P279: 5_x000D_ LOT. DES CHENES GENÉ_x000D_ | Q279: =WEEKNUM(C279) -> 45 | R279: =MONTH(C279) -> 11 | S279: =YEAR(C279) -> 2018
B280: =ROW(B280)-3 -> 277 | C280: 43409 | D280: DEPOT Alarme | E280: T | F280: 08:00 | G280: 17:00 | H280: 12:00 | I280: 13:30 | J280: =IF(E280<>"T",IF(OR(N280=1,M280=1),"",E280),IF(OR(H280="",I280=""),G280-F280,(H280-F280)+(G280-I280))) -> 0.3125 | K280: =IF(E280<>"T","",IF(J280>=(8/24),J280-(8/24),TEXT((8/24)-J280,"- [h]:mm"))) -> - 0:30 | L280: =IF(AND(E280="T",J280<(8/24)),(8/24)-J280,"") -> 0.020833333 | M280: =IF(OR(WEEKDAY(C280)=1,WEEKDAY(C280)=7),1,"") | N280: {=IFERROR(IF(MATCH(C280,Feries,0),1,""),"")} | O280: EQUIPE 14 | P280: 5_x000D_ LOT. DES CHENES GENÉ_x000D_ | Q280: =WEEKNUM(C280) -> 45 | R280: =MONTH(C280) -> 11 | S280: =YEAR(C280) -> 2018
B281: =ROW(B281)-3 -> 278 | C281: 43409 | D281: DESSIER Samuel | E281: T | F281: 08:00 | G281: 17:00 | H281: 12:00 | I281: 13:30 | J281: =IF(E281<>"T",IF(OR(N281=1,M281=1),"",E281),IF(OR(H281="",I281=""),G281-F281,(H281-F281)+(G281-I281))) -> 0.3125 | K281: =IF(E281<>"T","",IF(J281>=(8/24),J281-(8/24),TEXT((8/24)-J281,"- [h]:mm"))) -> - 0:30 | L281: =IF(AND(E281="T",J281<(8/24)),(8/24)-J281,"") -> 0.020833333 | M281: =IF(OR(WEEKDAY(C281)=1,WEEKDAY(C281)=7),1,"") | N281: {=IFERROR(IF(MATCH(C281,Feries,0),1,""),"")} | O281: EQUIPE 14 | P281: 5_x000D_ LOT. DES CHENES GENÉ_x000D_ | Q281: =WEEKNUM(C281) -> 45 | R281: =MONTH(C281) -> 11 | S281: =YEAR(C281) -> 2018
... B315: =ROW(B315)-3 -> 312 | C315: 43433 | D315: BIZEUL Alexandre | E315: T | F315: 08:00 | G315: 17:00 | H315: 12:00 | I315: 13:30 | J315: =IF(E315<>"T",IF(OR(N315=1,M315=1),"",E315),IF(OR(H315="",I315=""),G315-F315,(H315-F315)+(G315-I315))) -> 0.3125 | K315: =IF(E315<>"T","",IF(J315>=(8/24),J315-(8/24),TEXT((8/24)-J315,"- [h]:mm"))) -> - 0:30 | L315: =IF(AND(E315="T",J315<(8/24)),(8/24)-J315,"") -> 0.020833333 | M315: =IF(OR(WEEKDAY(C315)=1,WEEKDAY(C315)=7),1,"") | N315: {=IFERROR(IF(MATCH(C315,Feries,0),1,""),"")} | O315: EQUIPE 07 | P315: 6_x000D_ LA CORNUAILLE LA CORNUAILLE_x000D_ | Q315: =WEEKNUM(C315) -> 48 | R315: =MONTH(C315) -> 11 | S315: =YEAR(C315) -> 2018
B316: =ROW(B316)-3 -> 313 | C316: 43290 | D316: ARABI Ali | F316: 07:30 | G316: 17:30 | H316: 12:15 | I316: 13:00 | J316: =IF(E316<>"T",IF(OR(N316=1,M316=1),"",E316),IF(OR(H316="",I316=""),G316-F316,(H316-F316)+(G316-I316))) -> 0 | K316: =IF(E316<>"T","",IF(J316>=(8/24),J316-(8/24),TEXT((8/24)-J316,"- [h]:mm"))) | L316: =IF(AND(E316="T",J316<(8/24)),(8/24)-J316,"") | M316: =IF(OR(WEEKDAY(C316)=1,WEEKDAY(C316)=7),1,"") | N316: {=IFERROR(IF(MATCH(C316,Feries,0),1,""),"")} | O316: EQUIPE 02 | P316: 7 _x000D_ QALIAN _x000D_ _x000D_ SEGRÉ | Q316: =WEEKNUM(C316) -> 28 | R316: =MONTH(C316) -> 7 | S316: =YEAR(C316) -> 2018
B317: =ROW(B317)-3 -> 314 | C317: 43291 | D317: ARABI Ali | F317: 07:30 | G317: 17:30 | H317: 12:15 | I317: 13:00 | J317: =IF(E317<>"T",IF(OR(N317=1,M317=1),"",E317),IF(OR(H317="",I317=""),G317-F317,(H317-F317)+(G317-I317))) -> 0 | K317: =IF(E317<>"T","",IF(J317>=(8/24),J317-(8/24),TEXT((8/24)-J317,"- [h]:mm"))) | L317: =IF(AND(E317="T",J317<(8/24)),(8/24)-J317,"") | M317: =IF(OR(WEEKDAY(C317)=1,WEEKDAY(C317)=7),1,"") | N317: {=IFERROR(IF(MATCH(C317,Feries,0),1,""),"")} | O317: EQUIPE 02 | P317: 7 _x000D_ QALIAN _x000D_ _x000D_ SEGRÉ | Q317: =WEEKNUM(C317) -> 28 | R317: =MONTH(C317) -> 7 | S317: =YEAR(C317) -> 2018
B318: =ROW(B318)-3 -> 315 | C318: 43292 | D318: ARABI Ali | F318: 07:30 | G318: 17:30 | H318: 12:15 | I318: 13:00 | J318: =IF(E318<>"T",IF(OR(N318=1,M318=1),"",E318),IF(OR(H318="",I318=""),G318-F318,(H318-F318)+(G318-I318))) -> 0 | K318: =IF(E318<>"T","",IF(J318>=(8/24),J318-(8/24),TEXT((8/24)-J318,"- [h]:mm"))) | L318: =IF(AND(E318="T",J318<(8/24)),(8/24)-J318,"") | M318: =IF(OR(WEEKDAY(C318)=1,WEEKDAY(C318)=7),1,"") | N318: {=IFERROR(IF(MATCH(C318,Feries,0),1,""),"")} | O318: EQUIPE 02 | P318: 7 _x000D_ QALIAN _x000D_ _x000D_ SEGRÉ | Q318: =WEEKNUM(C318) -> 28 | R318: =MONTH(C318) -> 7 | S318: =YEAR(C318) -> 2018
...

Sheet PgMTL
B1: Semaine : | C1: 1 | D1: Chantier: | E1: 4 ZAC. DES CHENES AVIRÉ | L1: =IFERROR(WEEKDAY(L2),"") -> 5 | M1: =IFERROR(WEEKDAY(M2),"") -> 6
A2: ID | B2: Semaine : | C2: Chantier | D2: =(+REFERENCE!B13+((+C1-1)*7))-((WEEKDAY((+REFERENCE!B13+((+C1-1)*7)),2))-1) -> 43465 | E2: =+D2+1 -> 43466 | F2: =+E2+1 -> 43467 | G2: =+F2+1 -> 43468 | H2: =+G2+1 -> 43469 | I2: =+H2+3 -> 43472 | J2: =+I2+1 -> 43473 | K2: =+J2+1 -> 43474 | L2: =+K2+1 -> 43475 | M2: =+L2+1 -> 43476
A3: =ROW(B4)-3 -> 1 | D3: {=IFERROR(INDEX(Tableau7[Nom],SMALL(IF(AND($E$1=Tableau7[Chantier],ROW(Tableau7[Chantier])-MIN(ROW(BD!$P$4)+1),$D$2=Tableau7[Date],ROW(Tableau7[Date])-MIN(ROW(BD!$C$4))+1)," "),ROWS(D$2:D2))),"")} -> ADAM Justin | E3: {=IFERROR(INDEX(Tableau7[Nom],SMALL(IF(AND($E$1=Tableau7[Chantier],ROW(Tableau7[Chantier])-MIN(ROW(BD!$P$4)+1),$E$2=Tableau7[Date],ROW(Tableau7[Date])-MIN(ROW(BD!$C$4))+1)," "),ROWS(E$1:E1))),"")} -> ADAM Justin | F3: {=IFERROR(INDEX(Tableau7[Nom],SMALL(IF($F$2=Tableau7[Date],ROW(Tableau7[Date])-MIN(ROW(BD!$C$4))+1," "),ROWS(F$1:F1))),"")} | G3: {=IFERROR(INDEX(Tableau7[Nom],SMALL(IF($E$1=Tableau7[Chantier],ROW(Tableau7[Chantier])-MIN(ROW(BD!$P$4))+1," "),ROWS(G$1:G1))),"")} -> ANGIBAUD Eric | H3: {=IFERROR(INDEX(Tableau7[Nom],SMALL(IF($H$2=Tableau7[Date],ROW(Tableau7[Date])-MIN(ROW(BD!$C$4))+1," "),ROWS(H$3:H3))),"")} -> ADAM Justin | I3: {=IFERROR(INDEX(Tableau7[Nom],SMALL(IF(AND($E$1=Tableau7[Chantier],ROW(Tableau7[Chantier])-MIN(ROW(BD!$P$4)+1),$E$2=Tableau7[Date],ROW(Tableau7[Date])-MIN(ROW(BD!$C$4))+1)," "),ROWS(E$1:E1))),"")} -> ADAM Justin | J3: {=IFERROR(INDEX(Tableau7[Nom],SMALL(IF($E$1=Tableau7[Chantier],ROW(Tableau7[Chantier])-MIN(ROW(BD!$P$4))+1," "),ROWS(J$1:J1))),"")} -> ANGIBAUD Eric | K3: {=IFERROR(INDEX(Tableau7[Nom],SMALL(IF($K$2=Tableau7[Date],ROW(Tableau7[Date])-MIN(ROW(BD!$C$4))+1," "),ROWS(K$1:K1))),"")} -> ANGIBAUD Eric | L3: {=IFERROR(INDEX(Tableau7[Nom],SMALL(IF($L$2=Tableau7[Date],ROW(Tableau7[Date])-MIN(ROW(BD!$C$4))+1," "),ROWS(D$1:D1))),"")} -> ANGIBAUD Eric | M3: {=IFERROR(INDEX(Tableau7[Nom],SMALL(IF($M$2=Tableau7[Date],ROW(Tableau7[Date])-MIN(ROW(BD!$C$4))+1," "),ROWS(D$1:D1))),"")} -> ANGIBAUD Eric
A4: =ROW(B5)-3 -> 2 | D4: {=IFERROR(INDEX(Tableau7[Nom],SMALL(IF(AND($E$1=Tableau7[Chantier],ROW(Tableau7[Chantier])-MIN(ROW(BD!$P$4)+1),$D$2=Tableau7[Date],ROW(Tableau7[Date])-MIN(ROW(BD!$C$4))+1)," "),ROWS(D$2:D3))),"")} | E4: =IFERROR(INDEX(Tableau7[Nom],SMALL(IF($E$1=Tableau7[Chantier],ROW(Tableau7[Chantier])-MIN(ROW(BD!$P$4))+1," "),IF($E$2=Tableau7[Chantier],ROW(Tableau7[Chantier])-MIN(ROW(BD!$P$4))+1," ")),ROWS(E$3:E4)),"") | F4: {=IFERROR(INDEX(Tableau7[Nom],SMALL(IF($F$2=Tableau7[Date],ROW(Tableau7[Date])-MIN(ROW(BD!$C$4))+1," "),ROWS(F$1:F2))),"")} | G4: {=IFERROR(INDEX(Tableau7[Nom],SMALL(IF($E$1=Tableau7[Chantier],ROW(Tableau7[Chantier])-MIN(ROW(BD!$P$4))+1," "),ROWS(G$1:G2))),"")} -> Bull D6N LGP | H4: {=IFERROR(INDEX(Tableau7[Nom],SMALL(IF($H$2=Tableau7[Date],ROW(Tableau7[Date])-MIN(ROW(BD!$C$4))+1," "),ROWS(H$3:H4))),"")} -> ADAM Pierre-Luc | I4: {=IFERROR(INDEX(Tableau7[Nom],SMALL(IF(AND($E$1=Tableau7[Chantier],ROW(Tableau7[Chantier])-MIN(ROW(BD!$P$4)+1),$E$2=Tableau7[Date],ROW(Tableau7[Date])-MIN(ROW(BD!$C$4))+1)," "),ROWS(E$1:E2))),"")} | J4: {=IFERROR(INDEX(Tableau7[Nom],SMALL(IF($E$1=Tableau7[Chantier],ROW(Tableau7[Chantier])-MIN(ROW(BD!$P$4))+1," "),ROWS(J$1:J2))),"")} -> Bull D6N LGP | K4: {=IFERROR(INDEX(Tableau7[Nom],SMALL(IF($K$2=Tableau7[Date],ROW(Tableau7[Date])-MIN(ROW(BD!$C$4))+1," "),ROWS(K$1:K2))),"")} -> Bull D6N LGP | L4: {=IFERROR(INDEX(Tableau7[Nom],SMALL(IF($L$2=Tableau7[Date],ROW(Tableau7[Date])-MIN(ROW(BD!$C$4))+1," "),ROWS(D$1:D2))),"")} -> Bull D6N LGP | M4: {=IFERROR(INDEX(Tableau7[Nom],SMALL(IF($M$2=Tableau7[Date],ROW(Tableau7[Date])-MIN(ROW(BD!$C$4))+1," "),ROWS(D$1:D2))),"")} -> Bull D6N LGP
A5: =ROW(B6)-3 -> 3 | D5: {=IFERROR(INDEX(Tableau7[Nom],SMALL(IF(AND($E$1=Tableau7[Chantier],ROW(Tableau7[Chantier])-MIN(ROW(BD!$P$4)+1),$D$2=Tableau7[Date],ROW(Tableau7[Date])-MIN(ROW(BD!$C$4))+1)," "),ROWS(D$2:D4))),"")} | E5: {=IFERROR(INDEX(Tableau7[Nom],SMALL(IF($E$1=Tableau7[Chantier],ROW(Tableau7[Chantier])-MIN(ROW(BD!$P$4))+1," "),IF($E$1=Tableau7[Chantier],ROW(Tableau7[Chantier])-MIN(ROW(BD!$P$4))+1," ")),ROWS(E$3:E5)),"")} | F5: {=IFERROR(INDEX(Tableau7[Nom],SMALL(IF($F$2=Tableau7[Date],ROW(Tableau7[Date])-MIN(ROW(BD!$C$4))+1," "),ROWS(F$1:F3))),"")} | G5: {=IFERROR(INDEX(Tableau7[Nom],SMALL(IF($E$1=Tableau7[Chantier],ROW(Tableau7[Chantier])-MIN(ROW(BD!$P$4))+1," "),ROWS(G$1:G3))),"")} -> ANGIBAUD Eric | H5: {=IFERROR(INDEX(Tableau7[Nom],SMALL(IF($H$2=Tableau7[Date],ROW(Tableau7[Date])-MIN(ROW(BD!$C$4))+1," "),ROWS(D$1:D4))),"")} | I5: {=IFERROR(INDEX(Tableau7[Nom],SMALL(IF($I$2=Tableau7[Date],ROW(Tableau7[Date])-MIN(ROW(BD!$C$4))+1," "),ROWS(D$1:D3))),"")} | J5: {=IFERROR(INDEX(Tableau7[Nom],SMALL(IF($E$1=Tableau7[Chantier],ROW(Tableau7[Chantier])-MIN(ROW(BD!$P$4))+1," "),ROWS(J$1:J3))),"")} -> ANGIBAUD Eric | K5: {=IFERROR(INDEX(Tableau7[Nom],SMALL(IF($K$2=Tableau7[Date],ROW(Tableau7[Date])-MIN(ROW(BD!$C$4))+1," "),ROWS(D$1:D3))),"")} | L5: {=IFERROR(INDEX(Tableau7[Nom],SMALL(IF($L$2=Tableau7[Date],ROW(Tableau7[Date])-MIN(ROW(BD!$C$4))+1," "),ROWS(D$1:D3))),"")} | M5: {=IFERROR(INDEX(Tableau7[Nom],SMALL(IF($M$2=Tableau7[Date],ROW(Tableau7[Date])-MIN(ROW(BD!$C$4))+1," "),ROWS(D$1:D3))),"")}
A6: =ROW(B7)-3 -> 4 | D6: {=IFERROR(INDEX(Tableau7[Nom],SMALL(IF(AND($E$1=Tableau7[Chantier],ROW(Tableau7[Chantier])-MIN(ROW(BD!$P$4)+1),$D$2=Tableau7[Date],ROW(Tableau7[Date])-MIN(ROW(BD!$C$4))+1)," "),ROWS(D$1:D4))),"")} | E6: {=IFERROR(INDEX(Tableau7[Nom],SMALL(IF($E$1=Tableau7[Chantier],ROW(Tableau7[Chantier])-MIN(ROW(BD!$P$4))+1," "),IF($E$1=Tableau7[Chantier],ROW(Tableau7[Chantier])-MIN(ROW(BD!$P$4))+1," ")),ROWS(E$3:E6)),"")} | F6: {=IFERROR(INDEX(Tableau7[Nom],SMALL(IF(AND($E$1=Tableau7[Chantier],ROW(Tableau7[Chantier])-MIN(ROW(BD!$P$4)+1),$H$2=Tableau7[Date],ROW(Tableau7[Date])-MIN(ROW(BD!$C$4))+1)," "),ROWS(F$1:F4))),"")} | G6: {=IFERROR(INDEX(Tableau7[Nom],SMALL(IF($E$1=Tableau7[Chantier],ROW(Tableau7[Chantier])-MIN(ROW(BD!$P$4))+1," "),ROWS(G$1:G4))),"")} -> Bull D6N LGP | H6: {=IFERROR(INDEX(Tableau7[Nom],SMALL(IF(AND($E$1=Tableau7[Chantier],ROW(Tableau7[Chantier])-MIN(ROW(BD!$P7)+1),$H$2=Tableau7[Date],ROW(Tableau7[Date])-MIN(ROW(BD!$C7))+1)," "),ROWS(H$3:H6))),"")} | I6: {=IFERROR(INDEX(Tableau7[Nom],SMALL(IF($I$2=Tableau7[Date],ROW(Tableau7[Date])-MIN(ROW(BD!$C$4))+1," "),ROWS(D$1:D4))),"")} | J6: {=IFERROR(INDEX(Tableau7[Nom],SMALL(IF($E$1=Tableau7[Chantier],ROW(Tableau7[Chantier])-MIN(ROW(BD!$P$4))+1," "),ROWS(J$1:J4))),"")} -> Bull D6N LGP | K6: {=IFERROR(INDEX(Tableau7[Nom],SMALL(IF($K$2=Tableau7[Date],ROW(Tableau7[Date])-MIN(ROW(BD!$C$4))+1," "),ROWS(D$1:D4))),"")} | L6: {=IFERROR(INDEX(Tableau7[Nom],SMALL(IF($L$2=Tableau7[Date],ROW(Tableau7[Date])-MIN(ROW(BD!$C$4))+1," "),ROWS(D$1:D4))),"")} | M6: {=IFERROR(INDEX(Tableau7[Nom],SMALL(IF($M$2=Tableau7[Date],ROW(Tableau7[Date])-MIN(ROW(BD!$C$4))+1," "),ROWS(D$1:D4))),"")}
A7: =ROW(B8)-3 -> 5 | D7: {=IFERROR(INDEX(Tableau7[Nom],SMALL(IF(AND($E$1=Tableau7[Chantier],ROW(Tableau7[Chantier])-MIN(ROW(BD!$P$4)+1),$D$2=Tableau7[Date],ROW(Tableau7[Date])-MIN(ROW(BD!#REF!))+1)," "),ROWS(D$1:D5))),"")} | E7: {=IFERROR(INDEX(Tableau7[Nom],SMALL(IF($E$1=Tableau7[Chantier],ROW(Tableau7[Chantier])-MIN(ROW(BD!$P$4))+1," "),IF($E$1=Tableau7[Chantier],ROW(Tableau7[Chantier])-MIN(ROW(BD!$P$4))+1," ")),ROWS(E$3:E7)),"")} | F7: {=IFERROR(INDEX(Tableau7[Nom],SMALL(IF(AND($E$1=Tableau7[Chantier],ROW(Tableau7[Chantier])-MIN(ROW(BD!$P$4)+1),$H$2=Tableau7[Date],ROW(Tableau7[Date])-MIN(ROW(BD!$C$4))+1)," "),ROWS(F$1:F5))),"")} | G7: {=IFERROR(INDEX(Tableau7[Nom],SMALL(IF($E$1=Tableau7[Chantier],ROW(Tableau7[Chantier])-MIN(ROW(BD!$P$4))+1," "),ROWS(G$1:G5))),"")} -> ANGIBAUD Eric | H7: {=IFERROR(INDEX(Tableau7[Nom],SMALL(IF(AND($E$1=Tableau7[Chantier],ROW(Tableau7[Chantier])-MIN(ROW(BD!$P8)+1),$H$2=Tableau7[Date],ROW(Tableau7[Date])-MIN(ROW(BD!$C8))+1)," "),ROWS(H$3:H7))),"")} | I7: {=IFERROR(INDEX(Tableau7[Nom],SMALL(IF($I$2=Tableau7[Date],ROW(Tableau7[Date])-MIN(ROW(BD!$C$4))+1," "),ROWS(D$1:D5))),"")} | J7: {=IFERROR(INDEX(Tableau7[Nom],SMALL(IF($E$1=Tableau7[Chantier],ROW(Tableau7[Chantier])-MIN(ROW(BD!$P$4))+1," "),ROWS(J$1:J5))),"")} -> ANGIBAUD Eric | K7: {=IFERROR(INDEX(Tableau7[Nom],SMALL(IF($K$2=Tableau7[Date],ROW(Tableau7[Date])-MIN(ROW(BD!$C$4))+1," "),ROWS(D$1:D5))),"")} | L7: {=IFERROR(INDEX(Tableau7[Nom],SMALL(IF($L$2=Tableau7[Date],ROW(Tableau7[Date])-MIN(ROW(BD!$C$4))+1," "),ROWS(D$1:D5))),"")} | M7: {=IFERROR(INDEX(Tableau7[Nom],SMALL(IF($M$2=Tableau7[Date],ROW(Tableau7[Date])-MIN(ROW(BD!$C$4))+1," "),ROWS(D$1:D5))),"")}
A8: =ROW(B9)-3 -> 6 | D8: {=IFERROR(INDEX(Tableau7[Nom],SMALL(IF(AND($E$1=Tableau7[Chantier],ROW(Tableau7[Chantier])-MIN(ROW(BD!$P$4)+1),$D$2=Tableau7[Date],ROW(Tableau7[Date])-MIN(ROW(BD!$C6))+1)," "),ROWS(D$1:D6))),"")} | E8: {=IFERROR(INDEX(Tableau7[Nom],SMALL(IF($E$1=Tableau7[Chantier],ROW(Tableau7[Chantier])-MIN(ROW(BD!$P$4))+1," "),IF($E$1=Tableau7[Chantier],ROW(Tableau7[Chantier])-MIN(ROW(BD!$P$4))+1," ")),ROWS(E$3:E8)),"")} | F8: {=IFERROR(INDEX(Tableau7[Nom],SMALL(IF(AND($E$1=Tableau7[Chantier],ROW(Tableau7[Chantier])-MIN(ROW(BD!$P$4)+1),$H$2=Tableau7[Date],ROW(Tableau7[Date])-MIN(ROW(BD!$C$4))+1)," "),ROWS(F$1:F6))),"")} | G8: {=IFERROR(INDEX(Tableau7[Nom],SMALL(IF($E$1=Tableau7[Chantier],ROW(Tableau7[Chantier])-MIN(ROW(BD!$P$4))+1," "),ROWS(G$1:G6))),"")} -> Bull D6N LGP | H8: {=IFERROR(INDEX(Tableau7[Nom],SMALL(IF(AND($E$1=Tableau7[Chantier],ROW(Tableau7[Chantier])-MIN(ROW(BD!$P9)+1),$H$2=Tableau7[Date],ROW(Tableau7[Date])-MIN(ROW(BD!$C9))+1)," "),ROWS(H$3:H8))),"")} | I8: {=IFERROR(INDEX(Tableau7[Nom],SMALL(IF($I$2=Tableau7[Date],ROW(Tableau7[Date])-MIN(ROW(BD!$C$4))+1," "),ROWS(D$1:D6))),"")} | J8: {=IFERROR(INDEX(Tableau7[Nom],SMALL(IF($E$1=Tableau7[Chantier],ROW(Tableau7[Chantier])-MIN(ROW(BD!$P$4))+1," "),ROWS(J$1:J6))),"")} -> Bull D6N LGP | K8: {=IFERROR(INDEX(Tableau7[Nom],SMALL(IF($K$2=Tableau7[Date],ROW(Tableau7[Date])-MIN(ROW(BD!$C$4))+1," "),ROWS(D$1:D6))),"")} | L8: {=IFERROR(INDEX(Tableau7[Nom],SMALL(IF($L$2=Tableau7[Date],ROW(Tableau7[Date])-MIN(ROW(BD!$C$4))+1," "),ROWS(D$1:D6))),"")} | M8: {=IFERROR(INDEX(Tableau7[Nom],SMALL(IF($M$2=Tableau7[Date],ROW(Tableau7[Date])-MIN(ROW(BD!$C$4))+1," "),ROWS(D$1:D6))),"")}
A9: =ROW(B10)-3 -> 7 | D9: {=IFERROR(INDEX(Tableau7[Nom],SMALL(IF(AND($E$1=Tableau7[Chantier],ROW(Tableau7[Chantier])-MIN(ROW(BD!$P$4)+1),$D$2=Tableau7[Date],ROW(Tableau7[Date])-MIN(ROW(BD!$C7))+1)," "),ROWS(D$1:D7))),"")} | E9: {=IFERROR(INDEX(Tableau7[Nom],SMALL(IF($E$1=Tableau7[Chantier],ROW(Tableau7[Chantier])-MIN(ROW(BD!$P$4))+1," "),IF($E$1=Tableau7[Chantier],ROW(Tableau7[Chantier])-MIN(ROW(BD!$P$4))+1," ")),ROWS(E$3:E9)),"")} | F9: {=IFERROR(INDEX(Tableau7[Nom],SMALL(AND(IF($E$1=Tableau7[Chantier],ROW(Tableau7[Chantier])-MIN(ROW(BD!$P$4))+1),IF($F$2=Tableau7[Date],ROW(Tableau7[Date])-MIN(ROW(BD!$C$4))+1)," "),ROWS(E$1:E7))),"")} | G9: {=IFERROR(INDEX(Tableau7[Nom],SMALL(IF($E$1=Tableau7[Chantier],ROW(Tableau7[Chantier])-MIN(ROW(BD!$P$4))+1," "),ROWS(G$1:G7))),"")} -> ANGIBAUD Eric | H9: {=IFERROR(INDEX(Tableau7[Nom],SMALL(IF(AND($E$1=Tableau7[Chantier],ROW(Tableau7[Chantier])-MIN(ROW(BD!$P10)+1),$H$2=Tableau7[Date],ROW(Tableau7[Date])-MIN(ROW(BD!$C10))+1)," "),ROWS(H$3:H9))),"")} | I9: {=IFERROR(INDEX(Tableau7[Nom],SMALL(IF($I$2=Tableau7[Date],ROW(Tableau7[Date])-MIN(ROW(BD!$C$4))+1," "),ROWS(D$1:D7))),"")} | J9: {=IFERROR(INDEX(Tableau7[Nom],SMALL(IF($E$1=Tableau7[Chantier],ROW(Tableau7[Chantier])-MIN(ROW(BD!$P$4))+1," "),ROWS(J$1:J7))),"")} -> ANGIBAUD Eric | K9: {=IFERROR(INDEX(Tableau7[Nom],SMALL(IF($K$2=Tableau7[Date],ROW(Tableau7[Date])-MIN(ROW(BD!$C$4))+1," "),ROWS(D$1:D7))),"")} | L9: {=IFERROR(INDEX(Tableau7[Nom],SMALL(IF($L$2=Tableau7[Date],ROW(Tableau7[Date])-MIN(ROW(BD!$C$4))+1," "),ROWS(D$1:D7))),"")} | M9: {=IFERROR(INDEX(Tableau7[Nom],SMALL(IF($M$2=Tableau7[Date],ROW(Tableau7[Date])-MIN(ROW(BD!$C$4))+1," "),ROWS(D$1:D7))),"")}
A10: =ROW(B11)-3 -> 8 | D10: {=IFERROR(INDEX(Tableau7[Nom],SMALL(IF(AND($E$1=Tableau7[Chantier],ROW(Tableau7[Chantier])-MIN(ROW(BD!$P$4)+1),$D$2=Tableau7[Date],ROW(Tableau7[Date])-MIN(ROW(BD!$C8))+1)," "),ROWS(D$1:D8))),"")} | E10: {=IFERROR(INDEX(Tableau7[Nom],SMALL(IF($E$1=Tableau7[Chantier],ROW(Tableau7[Chantier])-MIN(ROW(BD!$P$4))+1," "),IF($E$1=Tableau7[Chantier],ROW(Tableau7[Chantier])-MIN(ROW(BD!$P$4))+1," ")),ROWS(E$3:E10)),"")} | F10: {=IFERROR(INDEX(Tableau7[Nom],SMALL(AND(IF($E$1=Tableau7[Chantier],ROW(Tableau7[Chantier])-MIN(ROW(BD!$P$4))+1),IF($F$2=Tableau7[Date],ROW(Tableau7[Date])-MIN(ROW(BD!$C$4))+1)," "),ROWS(E$1:E8))),"")} | G10: {=IFERROR(INDEX(Tableau7[Nom],SMALL(IF($E$1=Tableau7[Chantier],ROW(Tableau7[Chantier])-MIN(ROW(BD!$P$4))+1," "),ROWS(G$1:G8))),"")} -> Bull D6N LGP | H10: {=IFERROR(INDEX(Tableau7[Nom],SMALL(IF(AND($E$1=Tableau7[Chantier],ROW(Tableau7[Chantier])-MIN(ROW(BD!$P11)+1),$H$2=Tableau7[Date],ROW(Tableau7[Date])-MIN(ROW(BD!$C11))+1)," "),ROWS(H$3:H10))),"")} | I10: {=IFERROR(INDEX(Tableau7[Nom],SMALL(IF($I$2=Tableau7[Date],ROW(Tableau7[Date])-MIN(ROW(BD!$C$4))+1," "),ROWS(D$1:D8))),"")} | J10: {=IFERROR(INDEX(Tableau7[Nom],SMALL(IF($E$1=Tableau7[Chantier],ROW(Tableau7[Chantier])-MIN(ROW(BD!$P$4))+1," "),ROWS(J$1:J8))),"")} -> Bull D6N LGP | K10: {=IFERROR(INDEX(Tableau7[Nom],SMALL(IF($K$2=Tableau7[Date],ROW(Tableau7[Date])-MIN(ROW(BD!$C$4))+1," "),ROWS(D$1:D8))),"")} | L10: {=IFERROR(INDEX(Tableau7[Nom],SMALL(IF($L$2=Tableau7[Date],ROW(Tableau7[Date])-MIN(ROW(BD!$C$4))+1," "),ROWS(D$1:D8))),"")} | M10: {=IFERROR(INDEX(Tableau7[Nom],SMALL(IF($M$2=Tableau7[Date],ROW(Tableau7[Date])-MIN(ROW(BD!$C$4))+1," "),ROWS(D$1:D8))),"")}
A11: =ROW(B12)-3 -> 9 | D11: {=IFERROR(INDEX(Tableau7[Nom],SMALL(IF(AND($E$1=Tableau7[Chantier],ROW(Tableau7[Chantier])-MIN(ROW(BD!$P$4)+1),$D$2=Tableau7[Date],ROW(Tableau7[Date])-MIN(ROW(BD!$C9))+1)," "),ROWS(D$1:D9))),"")} | E11: {=IFERROR(INDEX(Tableau7[Nom],SMALL(IF($E$1=Tableau7[Chantier],ROW(Tableau7[Chantier])-MIN(ROW(BD!$P$4))+1," "),IF($E$1=Tableau7[Chantier],ROW(Tableau7[Chantier])-MIN(ROW(BD!$P$4))+1," ")),ROWS(E$3:E11)),"")} | F11: {=IFERROR(INDEX(Tableau7[Nom],SMALL(AND(IF($E$1=Tableau7[Chantier],ROW(Tableau7[Chantier])-MIN(ROW(BD!$P$4))+1),IF($F$2=Tableau7[Date],ROW(Tableau7[Date])-MIN(ROW(BD!$C$4))+1)," "),ROWS(E$1:E9))),"")} | G11: {=IFERROR(INDEX(Tableau7[Nom],SMALL(IF($E$1=Tableau7[Chantier],ROW(Tableau7[Chantier])-MIN(ROW(BD!$P$4))+1," "),ROWS(G$1:G9))),"")} -> ANGIBAUD Eric | H11: {=IFERROR(INDEX(Tableau7[Nom],SMALL(IF(AND($E$1=Tableau7[Chantier],ROW(Tableau7[Chantier])-MIN(ROW(BD!$P12)+1),$H$2=Tableau7[Date],ROW(Tableau7[Date])-MIN(ROW(BD!$C12))+1)," "),ROWS(H$3:H11))),"")} | I11: {=IFERROR(INDEX(Tableau7[Nom],SMALL(IF($I$2=Tableau7[Date],ROW(Tableau7[Date])-MIN(ROW(BD!$C$4))+1," "),ROWS(D$1:D9))),"")} | J11: {=IFERROR(INDEX(Tableau7[Nom],SMALL(IF($E$1=Tableau7[Chantier],ROW(Tableau7[Chantier])-MIN(ROW(BD!$P$4))+1," "),ROWS(J$1:J9))),"")} -> ANGIBAUD Eric | K11: {=IFERROR(INDEX(Tableau7[Nom],SMALL(IF($K$2=Tableau7[Date],ROW(Tableau7[Date])-MIN(ROW(BD!$C$4))+1," "),ROWS(D$1:D9))),"")} | L11: {=IFERROR(INDEX(Tableau7[Nom],SMALL(IF($L$2=Tableau7[Date],ROW(Tableau7[Date])-MIN(ROW(BD!$C$4))+1," "),ROWS(D$1:D9))),"")} | M11: {=IFERROR(INDEX(Tableau7[Nom],SMALL(IF($M$2=Tableau7[Date],ROW(Tableau7[Date])-MIN(ROW(BD!$C$4))+1," "),ROWS(D$1:D9))),"")}
A12: =ROW(B13)-3 -> 10 | D12: {=IFERROR(INDEX(Tableau7[Nom],SMALL(IF(AND($E$1=Tableau7[Chantier],ROW(Tableau7[Chantier])-MIN(ROW(BD!$P$4)+1),$D$2=Tableau7[Date],ROW(Tableau7[Date])-MIN(ROW(BD!$C10))+1)," "),ROWS(D$1:D10))),"")} | E12: {=IFERROR(INDEX(Tableau7[Nom],SMALL(IF($E$1=Tableau7[Chantier],ROW(Tableau7[Chantier])-MIN(ROW(BD!$P$4))+1," "),IF($E$1=Tableau7[Chantier],ROW(Tableau7[Chantier])-MIN(ROW(BD!$P$4))+1," ")),ROWS(E$3:E12)),"")} | F12: {=IFERROR(INDEX(Tableau7[Nom],SMALL(AND(IF($E$1=Tableau7[Chantier],ROW(Tableau7[Chantier])-MIN(ROW(BD!$P$4))+1),IF($F$2=Tableau7[Date],ROW(Tableau7[Date])-MIN(ROW(BD!$C$4))+1)," "),ROWS(E$1:E10))),"")} | G12: {=IFERROR(INDEX(Tableau7[Nom],SMALL(IF($E$1=Tableau7[Chantier],ROW(Tableau7[Chantier])-MIN(ROW(BD!$P$4))+1," "),ROWS(G$1:G10))),"")} -> Bull D6N LGP | H12: {=IFERROR(INDEX(Tableau7[Nom],SMALL(IF(AND($E$1=Tableau7[Chantier],ROW(Tableau7[Chantier])-MIN(ROW(BD!$P13)+1),$H$2=Tableau7[Date],ROW(Tableau7[Date])-MIN(ROW(BD!$C13))+1)," "),ROWS(H$3:H12))),"")} | I12: {=IFERROR(INDEX(Tableau7[Nom],SMALL(IF($I$2=Tableau7[Date],ROW(Tableau7[Date])-MIN(ROW(BD!$C$4))+1," "),ROWS(D$1:D10))),"")} | J12: {=IFERROR(INDEX(Tableau7[Nom],SMALL(IF($E$1=Tableau7[Chantier],ROW(Tableau7[Chantier])-MIN(ROW(BD!$P$4))+1," "),ROWS(J$1:J10))),"")} -> Bull D6N LGP | K12: {=IFERROR(INDEX(Tableau7[Nom],SMALL(IF($K$2=Tableau7[Date],ROW(Tableau7[Date])-MIN(ROW(BD!$C$4))+1," "),ROWS(D$1:D10))),"")} | L12: {=IFERROR(INDEX(Tableau7[Nom],SMALL(IF($L$2=Tableau7[Date],ROW(Tableau7[Date])-MIN(ROW(BD!$C$4))+1," "),ROWS(D$1:D10))),"")} | M12: {=IFERROR(INDEX(Tableau7[Nom],SMALL(IF($M$2=Tableau7[Date],ROW(Tableau7[Date])-MIN(ROW(BD!$C$4))+1," "),ROWS(D$1:D10))),"")}
A13: =ROW(B14)-3 -> 11 | D13: {=IFERROR(INDEX(Tableau7[Nom],SMALL(IF(AND($E$1=Tableau7[Chantier],ROW(Tableau7[Chantier])-MIN(ROW(BD!$P$4)+1),$D$2=Tableau7[Date],ROW(Tableau7[Date])-MIN(ROW(BD!$C11))+1)," "),ROWS(D$1:D11))),"")} | E13: {=IFERROR(INDEX(Tableau7[Nom],SMALL(IF($E$1=Tableau7[Chantier],ROW(Tableau7[Chantier])-MIN(ROW(BD!$P$4))+1," "),IF($E$1=Tableau7[Chantier],ROW(Tableau7[Chantier])-MIN(ROW(BD!$P$4))+1," ")),ROWS(E$3:E13)),"")} | F13: {=IFERROR(INDEX(Tableau7[Nom],SMALL(AND(IF($E$1=Tableau7[Chantier],ROW(Tableau7[Chantier])-MIN(ROW(BD!$P$4))+1),IF($F$2=Tableau7[Date],ROW(Tableau7[Date])-MIN(ROW(BD!$C$4))+1)," "),ROWS(E$1:E11))),"")} | G13: {=IFERROR(INDEX(Tableau7[Nom],SMALL(IF($E$1=Tableau7[Chantier],ROW(Tableau7[Chantier])-MIN(ROW(BD!$P$4))+1," "),ROWS(G$1:G11))),"")} -> ADAM Justin | H13: {=IFERROR(INDEX(Tableau7[Nom],SMALL(IF(AND($E$1=Tableau7[Chantier],ROW(Tableau7[Chantier])-MIN(ROW(BD!$P14)+1),$H$2=Tableau7[Date],ROW(Tableau7[Date])-MIN(ROW(BD!$C14))+1)," "),ROWS(H$3:H13))),"")} | I13: {=IFERROR(INDEX(Tableau7[Nom],SMALL(IF($I$2=Tableau7[Date],ROW(Tableau7[Date])-MIN(ROW(BD!$C$4))+1," "),ROWS(D$1:D11))),"")} | J13: {=IFERROR(INDEX(Tableau7[Nom],SMALL(IF($E$1=Tableau7[Chantier],ROW(Tableau7[Chantier])-MIN(ROW(BD!$P$4))+1," "),ROWS(J$1:J11))),"")} -> ADAM Justin | K13: {=IFERROR(INDEX(Tableau7[Nom],SMALL(IF($K$2=Tableau7[Date],ROW(Tableau7[Date])-MIN(ROW(BD!$C$4))+1," "),ROWS(D$1:D11))),"")} | L13: {=IFERROR(INDEX(Tableau7[Nom],SMALL(IF($L$2=Tableau7[Date],ROW(Tableau7[Date])-MIN(ROW(BD!$C$4))+1," "),ROWS(D$1:D11))),"")} | M13: {=IFERROR(INDEX(Tableau7[Nom],SMALL(IF($M$2=Tableau7[Date],ROW(Tableau7[Date])-MIN(ROW(BD!$C$4))+1," "),ROWS(D$1:D11))),"")}
A14: =ROW(B15)-3 -> 12 | D14: {=IFERROR(INDEX(Tableau7[Nom],SMALL(IF(AND($E$1=Tableau7[Chantier],ROW(Tableau7[Chantier])-MIN(ROW(BD!$P$4)+1),$D$2=Tableau7[Date],ROW(Tableau7[Date])-MIN(ROW(BD!$C12))+1)," "),ROWS(D$1:D12))),"")} | E14: {=IFERROR(INDEX(Tableau7[Nom],SMALL(IF($E$1=Tableau7[Chantier],ROW(Tableau7[Chantier])-MIN(ROW(BD!$P$4))+1," "),IF($E$1=Tableau7[Chantier],ROW(Tableau7[Chantier])-MIN(ROW(BD!$P$4))+1," ")),ROWS(E$3:E14)),"")} | F14: {=IFERROR(INDEX(Tableau7[Nom],SMALL(AND(IF($E$1=Tableau7[Chantier],ROW(Tableau7[Chantier])-MIN(ROW(BD!$P$4))+1),IF($F$2=Tableau7[Date],ROW(Tableau7[Date])-MIN(ROW(BD!$C$4))+1)," "),ROWS(E$1:E12))),"")} | G14: {=IFERROR(INDEX(Tableau7[Nom],SMALL(IF($E$1=Tableau7[Chantier],ROW(Tableau7[Chantier])-MIN(ROW(BD!$P$4))+1," "),ROWS(G$1:G12))),"")} -> ADAM Pierre-Luc | H14: {=IFERROR(INDEX(Tableau7[Nom],SMALL(IF(AND($E$1=Tableau7[Chantier],ROW(Tableau7[Chantier])-MIN(ROW(BD!$P15)+1),$H$2=Tableau7[Date],ROW(Tableau7[Date])-MIN(ROW(BD!$C15))+1)," "),ROWS(H$3:H14))),"")} | I14: {=IFERROR(INDEX(Tableau7[Nom],SMALL(IF($I$2=Tableau7[Date],ROW(Tableau7[Date])-MIN(ROW(BD!$C$4))+1," "),ROWS(D$1:D12))),"")} | J14: {=IFERROR(INDEX(Tableau7[Nom],SMALL(IF($E$1=Tableau7[Chantier],ROW(Tableau7[Chantier])-MIN(ROW(BD!$P$4))+1," "),ROWS(J$1:J12))),"")} -> ADAM Pierre-Luc | K14: {=IFERROR(INDEX(Tableau7[Nom],SMALL(IF($K$2=Tableau7[Date],ROW(Tableau7[Date])-MIN(ROW(BD!$C$4))+1," "),ROWS(D$1:D12))),"")} | L14: {=IFERROR(INDEX(Tableau7[Nom],SMALL(IF($L$2=Tableau7[Date],ROW(Tableau7[Date])-MIN(ROW(BD!$C$4))+1," "),ROWS(D$1:D12))),"")} | M14: {=IFERROR(INDEX(Tableau7[Nom],SMALL(IF($M$2=Tableau7[Date],ROW(Tableau7[Date])-MIN(ROW(BD!$C$4))+1," "),ROWS(D$1:D12))),"")}
A15: =ROW(B16)-3 -> 13 | D15: {=IFERROR(INDEX(Tableau7[Nom],SMALL(IF(AND($E$1=Tableau7[Chantier],ROW(Tableau7[Chantier])-MIN(ROW(BD!$P$4)+1),$D$2=Tableau7[Date],ROW(Tableau7[Date])-MIN(ROW(BD!$C13))+1)," "),ROWS(D$1:D13))),"")} | E15: {=IFERROR(INDEX(Tableau7[Nom],SMALL(IF($E$1=Tableau7[Chantier],ROW(Tableau7[Chantier])-MIN(ROW(BD!$P$4))+1," "),IF($E$1=Tableau7[Chantier],ROW(Tableau7[Chantier])-MIN(ROW(BD!$P$4))+1," ")),ROWS(E$3:E15)),"")} | F15: {=IFERROR(INDEX(Tableau7[Nom],SMALL(AND(IF($E$1=Tableau7[Chantier],ROW(Tableau7[Chantier])-MIN(ROW(BD!$P$4))+1),IF($F$2=Tableau7[Date],ROW(Tableau7[Date])-MIN(ROW(BD!$C$4))+1)," "),ROWS(E$1:E13))),"")} | G15: {=IFERROR(INDEX(Tableau7[Nom],SMALL(IF($E$1=Tableau7[Chantier],ROW(Tableau7[Chantier])-MIN(ROW(BD!$P$4))+1," "),ROWS(G$1:G13))),"")} -> ANGIBAUD Eric | H15: {=IFERROR(INDEX(Tableau7[Nom],SMALL(IF(AND($E$1=Tableau7[Chantier],ROW(Tableau7[Chantier])-MIN(ROW(BD!$P16)+1),$H$2=Tableau7[Date],ROW(Tableau7[Date])-MIN(ROW(BD!$C16))+1)," "),ROWS(H$3:H15))),"")} | I15: {=IFERROR(INDEX(Tableau7[Nom],SMALL(IF($I$2=Tableau7[Date],ROW(Tableau7[Date])-MIN(ROW(BD!$C$4))+1," "),ROWS(D$1:D13))),"")} | J15: {=IFERROR(INDEX(Tableau7[Nom],SMALL(IF($E$1=Tableau7[Chantier],ROW(Tableau7[Chantier])-MIN(ROW(BD!$P$4))+1," "),ROWS(J$1:J13))),"")} -> ANGIBAUD Eric | K15: {=IFERROR(INDEX(Tableau7[Nom],SMALL(IF($K$2=Tableau7[Date],ROW(Tableau7[Date])-MIN(ROW(BD!$C$4))+1," "),ROWS(D$1:D13))),"")} | L15: {=IFERROR(INDEX(Tableau7[Nom],SMALL(IF($L$2=Tableau7[Date],ROW(Tableau7[Date])-MIN(ROW(BD!$C$4))+1," "),ROWS(D$1:D13))),"")} | M15: {=IFERROR(INDEX(Tableau7[Nom],SMALL(IF($M$2=Tableau7[Date],ROW(Tableau7[Date])-MIN(ROW(BD!$C$4))+1," "),ROWS(D$1:D13))),"")}
A16: =ROW(B17)-3 -> 14 | D16: {=IFERROR(INDEX(Tableau7[Nom],SMALL(IF(AND($E$1=Tableau7[Chantier],ROW(Tableau7[Chantier])-MIN(ROW(BD!$P$4)+1),$D$2=Tableau7[Date],ROW(Tableau7[Date])-MIN(ROW(BD!$C14))+1)," "),ROWS(D$1:D14))),"")} | E16: {=IFERROR(INDEX(Tableau7[Nom],SMALL(IF($E$1=Tableau7[Chantier],ROW(Tableau7[Chantier])-MIN(ROW(BD!$P$4))+1," "),IF($E$1=Tableau7[Chantier],ROW(Tableau7[Chantier])-MIN(ROW(BD!$P$4))+1," ")),ROWS(E$3:E16)),"")} | F16: {=IFERROR(INDEX(Tableau7[Nom],SMALL(AND(IF($E$1=Tableau7[Chantier],ROW(Tableau7[Chantier])-MIN(ROW(BD!$P$4))+1),IF($F$2=Tableau7[Date],ROW(Tableau7[Date])-MIN(ROW(BD!$C$4))+1)," "),ROWS(E$1:E14))),"")} | G16: {=IFERROR(INDEX(Tableau7[Nom],SMALL(IF($E$1=Tableau7[Chantier],ROW(Tableau7[Chantier])-MIN(ROW(BD!$P$4))+1," "),ROWS(G$1:G14))),"")} -> ADAM Justin | H16: {=IFERROR(INDEX(Tableau7[Nom],SMALL(IF(AND($E$1=Tableau7[Chantier],ROW(Tableau7[Chantier])-MIN(ROW(BD!$P17)+1),$H$2=Tableau7[Date],ROW(Tableau7[Date])-MIN(ROW(BD!$C17))+1)," "),ROWS(H$3:H16))),"")} | I16: {=IFERROR(INDEX(Tableau7[Nom],SMALL(IF($I$2=Tableau7[Date],ROW(Tableau7[Date])-MIN(ROW(BD!$C$4))+1," "),ROWS(D$1:D14))),"")} | J16: {=IFERROR(INDEX(Tableau7[Nom],SMALL(IF($E$1=Tableau7[Chantier],ROW(Tableau7[Chantier])-MIN(ROW(BD!$P$4))+1," "),ROWS(J$1:J14))),"")} -> ADAM Justin | K16: {=IFERROR(INDEX(Tableau7[Nom],SMALL(IF($K$2=Tableau7[Date],ROW(Tableau7[Date])-MIN(ROW(BD!$C$4))+1," "),ROWS(D$1:D14))),"")} | L16: {=IFERROR(INDEX(Tableau7[Nom],SMALL(IF($L$2=Tableau7[Date],ROW(Tableau7[Date])-MIN(ROW(BD!$C$4))+1," "),ROWS(D$1:D14))),"")} | M16: {=IFERROR(INDEX(Tableau7[Nom],SMALL(IF($M$2=Tableau7[Date],ROW(Tableau7[Date])-MIN(ROW(BD!$C$4))+1," "),ROWS(D$1:D14))),"")}
A17: =ROW(B18)-3 -> 15 | D17: {=IFERROR(INDEX(Tableau7[Nom],SMALL(IF(AND($E$1=Tableau7[Chantier],ROW(Tableau7[Chantier])-MIN(ROW(BD!$P$4)+1),$D$2=Tableau7[Date],ROW(Tableau7[Date])-MIN(ROW(BD!$C15))+1)," "),ROWS(D$1:D15))),"")} | E17: {=IFERROR(INDEX(Tableau7[Nom],SMALL(IF($E$1=Tableau7[Chantier],ROW(Tableau7[Chantier])-MIN(ROW(BD!$P$4))+1," "),IF($E$1=Tableau7[Chantier],ROW(Tableau7[Chantier])-MIN(ROW(BD!$P$4))+1," ")),ROWS(E$3:E17)),"")} | F17: {=IFERROR(INDEX(Tableau7[Nom],SMALL(AND(IF($E$1=Tableau7[Chantier],ROW(Tableau7[Chantier])-MIN(ROW(BD!$P$4))+1),IF($F$2=Tableau7[Date],ROW(Tableau7[Date])-MIN(ROW(BD!$C$4))+1)," "),ROWS(E$1:E15))),"")} | G17: {=IFERROR(INDEX(Tableau7[Nom],SMALL(IF($E$1=Tableau7[Chantier],ROW(Tableau7[Chantier])-MIN(ROW(BD!$P$4))+1," "),ROWS(G$1:G15))),"")} -> ADAM Justin | H17: {=IFERROR(INDEX(Tableau7[Nom],SMALL(IF(AND($E$1=Tableau7[Chantier],ROW(Tableau7[Chantier])-MIN(ROW(BD!$P18)+1),$H$2=Tableau7[Date],ROW(Tableau7[Date])-MIN(ROW(BD!$C18))+1)," "),ROWS(H$3:H17))),"")} | I17: {=IFERROR(INDEX(Tableau7[Nom],SMALL(IF($I$2=Tableau7[Date],ROW(Tableau7[Date])-MIN(ROW(BD!$C$4))+1," "),ROWS(D$1:D15))),"")} | J17: {=IFERROR(INDEX(Tableau7[Nom],SMALL(IF($E$1=Tableau7[Chantier],ROW(Tableau7[Chantier])-MIN(ROW(BD!$P$4))+1," "),ROWS(J$1:J15))),"")} -> ADAM Justin | K17: {=IFERROR(INDEX(Tableau7[Nom],SMALL(IF($K$2=Tableau7[Date],ROW(Tableau7[Date])-MIN(ROW(BD!$C$4))+1," "),ROWS(D$1:D15))),"")} | L17: {=IFERROR(INDEX(Tableau7[Nom],SMALL(IF($L$2=Tableau7[Date],ROW(Tableau7[Date])-MIN(ROW(BD!$C$4))+1," "),ROWS(D$1:D15))),"")} | M17: {=IFERROR(INDEX(Tableau7[Nom],SMALL(IF($M$2=Tableau7[Date],ROW(Tableau7[Date])-MIN(ROW(BD!$C$4))+1," "),ROWS(D$1:D15))),"")}
A18: =ROW(B19)-3 -> 16 | D18: {=IFERROR(INDEX(Tableau7[Nom],SMALL(IF(AND($E$1=Tableau7[Chantier],ROW(Tableau7[Chantier])-MIN(ROW(BD!$P$4)+1),$D$2=Tableau7[Date],ROW(Tableau7[Date])-MIN(ROW(BD!$C16))+1)," "),ROWS(D$1:D16))),"")} | E18: {=IFERROR(INDEX(Tableau7[Nom],SMALL(IF($E$1=Tableau7[Chantier],ROW(Tableau7[Chantier])-MIN(ROW(BD!$P$4))+1," "),IF($E$1=Tableau7[Chantier],ROW(Tableau7[Chantier])-MIN(ROW(BD!$P$4))+1," ")),ROWS(E$3:E18)),"")} | F18: {=IFERROR(INDEX(Tableau7[Nom],SMALL(AND(IF($E$1=Tableau7[Chantier],ROW(Tableau7[Chantier])-MIN(ROW(BD!$P$4))+1),IF($F$2=Tableau7[Date],ROW(Tableau7[Date])-MIN(ROW(BD!$C$4))+1)," "),ROWS(E$1:E16))),"")} | G18: {=IFERROR(INDEX(Tableau7[Nom],SMALL(IF($E$1=Tableau7[Chantier],ROW(Tableau7[Chantier])-MIN(ROW(BD!$P$4))+1," "),ROWS(G$1:G16))),"")} -> ADAM Justin | H18: {=IFERROR(INDEX(Tableau7[Nom],SMALL(IF(AND($E$1=Tableau7[Chantier],ROW(Tableau7[Chantier])-MIN(ROW(BD!$P19)+1),$H$2=Tableau7[Date],ROW(Tableau7[Date])-MIN(ROW(BD!$C19))+1)," "),ROWS(H$3:H18))),"")} | I18: {=IFERROR(INDEX(Tableau7[Nom],SMALL(IF($I$2=Tableau7[Date],ROW(Tableau7[Date])-MIN(ROW(BD!$C$4))+1," "),ROWS(D$1:D16))),"")} | J18: {=IFERROR(INDEX(Tableau7[Nom],SMALL(IF($E$1=Tableau7[Chantier],ROW(Tableau7[Chantier])-MIN(ROW(BD!$P$4))+1," "),ROWS(J$1:J16))),"")} -> ADAM Justin | K18: {=IFERROR(INDEX(Tableau7[Nom],SMALL(IF($K$2=Tableau7[Date],ROW(Tableau7[Date])-MIN(ROW(BD!$C$4))+1," "),ROWS(D$1:D16))),"")} | L18: {=IFERROR(INDEX(Tableau7[Nom],SMALL(IF($L$2=Tableau7[Date],ROW(Tableau7[Date])-MIN(ROW(BD!$C$4))+1," "),ROWS(D$1:D16))),"")} | M18: {=IFERROR(INDEX(Tableau7[Nom],SMALL(IF($M$2=Tableau7[Date],ROW(Tableau7[Date])-MIN(ROW(BD!$C$4))+1," "),ROWS(D$1:D16))),"")}
A19: =ROW(B20)-3 -> 17 | D19: {=IFERROR(INDEX(Tableau7[Nom],SMALL(IF(AND($E$1=Tableau7[Chantier],ROW(Tableau7[Chantier])-MIN(ROW(BD!$P$4)+1),$D$2=Tableau7[Date],ROW(Tableau7[Date])-MIN(ROW(BD!$C17))+1)," "),ROWS(D$1:D17))),"")} | E19: {=IFERROR(INDEX(Tableau7[Nom],SMALL(IF($E$1=Tableau7[Chantier],ROW(Tableau7[Chantier])-MIN(ROW(BD!$P$4))+1," "),IF($E$1=Tableau7[Chantier],ROW(Tableau7[Chantier])-MIN(ROW(BD!$P$4))+1," ")),ROWS(E$3:E19)),"")} | F19: {=IFERROR(INDEX(Tableau7[Nom],SMALL(AND(IF($E$1=Tableau7[Chantier],ROW(Tableau7[Chantier])-MIN(ROW(BD!$P$4))+1),IF($F$2=Tableau7[Date],ROW(Tableau7[Date])-MIN(ROW(BD!$C$4))+1)," "),ROWS(E$1:E17))),"")} | G19: {=IFERROR(INDEX(Tableau7[Nom],SMALL(IF($E$1=Tableau7[Chantier],ROW(Tableau7[Chantier])-MIN(ROW(BD!$P$4))+1," "),ROWS(G$1:G17))),"")} -> ADAM Justin | H19: {=IFERROR(INDEX(Tableau7[Nom],SMALL(IF(AND($E$1=Tableau7[Chantier],ROW(Tableau7[Chantier])-MIN(ROW(BD!$P20)+1),$H$2=Tableau7[Date],ROW(Tableau7[Date])-MIN(ROW(BD!$C20))+1)," "),ROWS(H$3:H19))),"")} | I19: {=IFERROR(INDEX(Tableau7[Nom],SMALL(IF($I$2=Tableau7[Date],ROW(Tableau7[Date])-MIN(ROW(BD!$C$4))+1," "),ROWS(D$1:D17))),"")} | J19: {=IFERROR(INDEX(Tableau7[Nom],SMALL(IF($E$1=Tableau7[Chantier],ROW(Tableau7[Chantier])-MIN(ROW(BD!$P$4))+1," "),ROWS(J$1:J17))),"")} -> ADAM Justin | K19: {=IFERROR(INDEX(Tableau7[Nom],SMALL(IF($K$2=Tableau7[Date],ROW(Tableau7[Date])-MIN(ROW(BD!$C$4))+1," "),ROWS(D$1:D17))),"")} | L19: {=IFERROR(INDEX(Tableau7[Nom],SMALL(IF($L$2=Tableau7[Date],ROW(Tableau7[Date])-MIN(ROW(BD!$C$4))+1," "),ROWS(D$1:D17))),"")} | M19: {=IFERROR(INDEX(Tableau7[Nom],SMALL(IF($M$2=Tableau7[Date],ROW(Tableau7[Date])-MIN(ROW(BD!$C$4))+1," "),ROWS(D$1:D17))),"")}
A20: =ROW(B21)-3 -> 18 | D20: {=IFERROR(INDEX(Tableau7[Nom],SMALL(IF(AND($E$1=Tableau7[Chantier],ROW(Tableau7[Chantier])-MIN(ROW(BD!$D$4)+1),$I$2=Tableau7[Date],ROW(Tableau7[Date])-MIN(ROW(BD!$C$4))+1)," "),ROWS(D$1:D18))),"")} | E20: {=IFERROR(INDEX(Tableau7[Nom],SMALL(IF($E$1=Tableau7[Chantier],ROW(Tableau7[Chantier])-MIN(ROW(BD!$P$4))+1," "),IF($E$1=Tableau7[Chantier],ROW(Tableau7[Chantier])-MIN(ROW(BD!$P$4))+1," ")),ROWS(E$3:E20)),"")} | F20: {=IFERROR(INDEX(Tableau7[Nom],SMALL(AND(IF($E$1=Tableau7[Chantier],ROW(Tableau7[Chantier])-MIN(ROW(BD!$P$4))+1),IF($F$2=Tableau7[Date],ROW(Tableau7[Date])-MIN(ROW(BD!$C$4))+1)," "),ROWS(E$1:E18))),"")} | G20: {=IFERROR(INDEX(Tableau7[Nom],SMALL(IF($E$1=Tableau7[Chantier],ROW(Tableau7[Chantier])-MIN(ROW(BD!$P$4))+1," "),ROWS(G$1:G18))),"")} -> ADAM Justin | H20: {=IFERROR(INDEX(Tableau7[Nom],SMALL(IF(AND($E$1=Tableau7[Chantier],ROW(Tableau7[Chantier])-MIN(ROW(BD!$P21)+1),$H$2=Tableau7[Date],ROW(Tableau7[Date])-MIN(ROW(BD!$C21))+1)," "),ROWS(H$3:H20))),"")} | I20: {=IFERROR(INDEX(Tableau7[Nom],SMALL(IF($I$2=Tableau7[Date],ROW(Tableau7[Date])-MIN(ROW(BD!$C$4))+1," "),ROWS(D$1:D18))),"")} | J20: {=IFERROR(INDEX(Tableau7[Nom],SMALL(IF($E$1=Tableau7[Chantier],ROW(Tableau7[Chantier])-MIN(ROW(BD!$P$4))+1," "),ROWS(J$1:J18))),"")} -> ADAM Justin | K20: {=IFERROR(INDEX(Tableau7[Nom],SMALL(IF($K$2=Tableau7[Date],ROW(Tableau7[Date])-MIN(ROW(BD!$C$4))+1," "),ROWS(D$1:D18))),"")} | L20: {=IFERROR(INDEX(Tableau7[Nom],SMALL(IF($L$2=Tableau7[Date],ROW(Tableau7[Date])-MIN(ROW(BD!$C$4))+1," "),ROWS(D$1:D18))),"")} | M20: {=IFERROR(INDEX(Tableau7[Nom],SMALL(IF($M$2=Tableau7[Date],ROW(Tableau7[Date])-MIN(ROW(BD!$C$4))+1," "),ROWS(D$1:D18))),"")}
A21: =ROW(B22)-3 -> 19 | D21: {=IFERROR(INDEX(Tableau7[Nom],SMALL(IF(AND($E$1=Tableau7[Chantier],ROW(Tableau7[Chantier])-MIN(ROW(BD!$D$4)+1),$I$2=Tableau7[Date],ROW(Tableau7[Date])-MIN(ROW(BD!$C$4))+1)," "),ROWS(D$1:D19))),"")} | E21: {=IFERROR(INDEX(Tableau7[Nom],SMALL(IF($E$1=Tableau7[Chantier],ROW(Tableau7[Chantier])-MIN(ROW(BD!$P$4))+1," "),IF($E$1=Tableau7[Chantier],ROW(Tableau7[Chantier])-MIN(ROW(BD!$P$4))+1," ")),ROWS(E$3:E21)),"")} | F21: {=IFERROR(INDEX(Tableau7[Nom],SMALL(AND(IF($E$1=Tableau7[Chantier],ROW(Tableau7[Chantier])-MIN(ROW(BD!$P$4))+1),IF($F$2=Tableau7[Date],ROW(Tableau7[Date])-MIN(ROW(BD!$C$4))+1)," "),ROWS(E$1:E19))),"")} | G21: {=IFERROR(INDEX(Tableau7[Nom],SMALL(IF($E$1=Tableau7[Chantier],ROW(Tableau7[Chantier])-MIN(ROW(BD!$P$4))+1," "),ROWS(G$1:G19))),"")} -> ADAM Justin | H21: {=IFERROR(INDEX(Tableau7[Nom],SMALL(IF(AND($E$1=Tableau7[Chantier],ROW(Tableau7[Chantier])-MIN(ROW(BD!$P22)+1),$H$2=Tableau7[Date],ROW(Tableau7[Date])-MIN(ROW(BD!$C22))+1)," "),ROWS(H$3:H21))),"")} | I21: {=IFERROR(INDEX(Tableau7[Nom],SMALL(IF($I$2=Tableau7[Date],ROW(Tableau7[Date])-MIN(ROW(BD!$C$4))+1," "),ROWS(D$1:D19))),"")} | J21: {=IFERROR(INDEX(Tableau7[Nom],SMALL(IF($E$1=Tableau7[Chantier],ROW(Tableau7[Chantier])-MIN(ROW(BD!$P$4))+1," "),ROWS(J$1:J19))),"")} -> ADAM Justin | K21: {=IFERROR(INDEX(Tableau7[Nom],SMALL(IF($K$2=Tableau7[Date],ROW(Tableau7[Date])-MIN(ROW(BD!$C$4))+1," "),ROWS(D$1:D19))),"")} | L21: {=IFERROR(INDEX(Tableau7[Nom],SMALL(IF($L$2=Tableau7[Date],ROW(Tableau7[Date])-MIN(ROW(BD!$C$4))+1," "),ROWS(D$1:D19))),"")} | M21: {=IFERROR(INDEX(Tableau7[Nom],SMALL(IF($M$2=Tableau7[Date],ROW(Tableau7[Date])-MIN(ROW(BD!$C$4))+1," "),ROWS(D$1:D19))),"")}
A22: =ROW(B23)-3 -> 20 | D22: {=IFERROR(INDEX(Tableau7[Nom],SMALL(IF(AND($E$1=Tableau7[Chantier],ROW(Tableau7[Chantier])-MIN(ROW(BD!$D$4)+1),$I$2=Tableau7[Date],ROW(Tableau7[Date])-MIN(ROW(BD!$C$4))+1)," "),ROWS(D$1:D20))),"")} | E22: {=IFERROR(INDEX(Tableau7[Nom],SMALL(IF($E$1=Tableau7[Chantier],ROW(Tableau7[Chantier])-MIN(ROW(BD!$P$4))+1," "),IF($E$1=Tableau7[Chantier],ROW(Tableau7[Chantier])-MIN(ROW(BD!$P$4))+1," ")),ROWS(E$3:E22)),"")} | F22: {=IFERROR(INDEX(Tableau7[Nom],SMALL(IF($F$2=Tableau7[Date],ROW(Tableau7[Date])-MIN(ROW(BD!$C$4))+1," "),ROWS(D$1:D20))),"")} | G22: {=IFERROR(INDEX(Tableau7[Nom],SMALL(IF($E$1=Tableau7[Chantier],ROW(Tableau7[Chantier])-MIN(ROW(BD!$P$4))+1," "),ROWS(G$1:G20))),"")} -> ADAM Justin | H22: {=IFERROR(INDEX(Tableau7[Nom],SMALL(IF(AND($E$1=Tableau7[Chantier],ROW(Tableau7[Chantier])-MIN(ROW(BD!$P23)+1),$H$2=Tableau7[Date],ROW(Tableau7[Date])-MIN(ROW(BD!$C23))+1)," "),ROWS(H$3:H22))),"")} | I22: {=IFERROR(INDEX(Tableau7[Nom],SMALL(IF($I$2=Tableau7[Date],ROW(Tableau7[Date])-MIN(ROW(BD!$C$4))+1," "),ROWS(D$1:D20))),"")} | J22: {=IFERROR(INDEX(Tableau7[Nom],SMALL(IF($E$1=Tableau7[Chantier],ROW(Tableau7[Chantier])-MIN(ROW(BD!$P$4))+1," "),ROWS(J$1:J20))),"")} -> ADAM Justin | K22: {=IFERROR(INDEX(Tableau7[Nom],SMALL(IF($K$2=Tableau7[Date],ROW(Tableau7[Date])-MIN(ROW(BD!$C$4))+1," "),ROWS(D$1:D20))),"")} | L22: {=IFERROR(INDEX(Tableau7[Nom],SMALL(IF($L$2=Tableau7[Date],ROW(Tableau7[Date])-MIN(ROW(BD!$C$4))+1," "),ROWS(D$1:D20))),"")} | M22: {=IFERROR(INDEX(Tableau7[Nom],SMALL(IF($M$2=Tableau7[Date],ROW(Tableau7[Date])-MIN(ROW(BD!$C$4))+1," "),ROWS(D$1:D20))),"")}
A23: =ROW(B24)-3 -> 21 | D23: {=IFERROR(INDEX(Tableau7[Nom],SMALL(IF(AND($E$1=Tableau7[Chantier],ROW(Tableau7[Chantier])-MIN(ROW(BD!$D$4)+1),$I$2=Tableau7[Date],ROW(Tableau7[Date])-MIN(ROW(BD!$C$4))+1)," "),ROWS(D$1:D21))),"")} | E23: {=IFERROR(INDEX(Tableau7[Nom],SMALL(IF($E$1=Tableau7[Chantier],ROW(Tableau7[Chantier])-MIN(ROW(BD!$P$4))+1," "),IF($E$1=Tableau7[Chantier],ROW(Tableau7[Chantier])-MIN(ROW(BD!$P$4))+1," ")),ROWS(E$3:E23)),"")} | F23: {=IFERROR(INDEX(Tableau7[Nom],SMALL(IF($F$2=Tableau7[Date],ROW(Tableau7[Date])-MIN(ROW(BD!$C$4))+1," "),ROWS(D$1:D21))),"")} | G23: {=IFERROR(INDEX(Tableau7[Nom],SMALL(IF($E$1=Tableau7[Chantier],ROW(Tableau7[Chantier])-MIN(ROW(BD!$P$4))+1," "),ROWS(G$1:G21))),"")} -> ADAM Justin | H23: {=IFERROR(INDEX(Tableau7[Nom],SMALL(IF(AND($E$1=Tableau7[Chantier],ROW(Tableau7[Chantier])-MIN(ROW(BD!$P24)+1),$H$2=Tableau7[Date],ROW(Tableau7[Date])-MIN(ROW(BD!$C24))+1)," "),ROWS(H$3:H23))),"")} | I23: {=IFERROR(INDEX(Tableau7[Nom],SMALL(IF($I$2=Tableau7[Date],ROW(Tableau7[Date])-MIN(ROW(BD!$C$4))+1," "),ROWS(D$1:D21))),"")} | J23: {=IFERROR(INDEX(Tableau7[Nom],SMALL(IF($E$1=Tableau7[Chantier],ROW(Tableau7[Chantier])-MIN(ROW(BD!$P$4))+1," "),ROWS(J$1:J21))),"")} -> ADAM Justin | K23: {=IFERROR(INDEX(Tableau7[Nom],SMALL(IF($K$2=Tableau7[Date],ROW(Tableau7[Date])-MIN(ROW(BD!$C$4))+1," "),ROWS(D$1:D21))),"")} | L23: {=IFERROR(INDEX(Tableau7[Nom],SMALL(IF($L$2=Tableau7[Date],ROW(Tableau7[Date])-MIN(ROW(BD!$C$4))+1," "),ROWS(D$1:D21))),"")} | M23: {=IFERROR(INDEX(Tableau7[Nom],SMALL(IF($M$2=Tableau7[Date],ROW(Tableau7[Date])-MIN(ROW(BD!$C$4))+1," "),ROWS(D$1:D21))),"")}
A24: =ROW(B25)-3 -> 22 | D24: {=IFERROR(INDEX(Tableau7[Nom],SMALL(IF(AND($E$1=Tableau7[Chantier],ROW(Tableau7[Chantier])-MIN(ROW(BD!$D$4)+1),$I$2=Tableau7[Date],ROW(Tableau7[Date])-MIN(ROW(BD!$C$4))+1)," "),ROWS(D$1:D22))),"")} | E24: {=IFERROR(INDEX(Tableau7[Nom],SMALL(IF($E$1=Tableau7[Chantier],ROW(Tableau7[Chantier])-MIN(ROW(BD!$P$4))+1," "),IF($E$1=Tableau7[Chantier],ROW(Tableau7[Chantier])-MIN(ROW(BD!$P$4))+1," ")),ROWS(E$3:E24)),"")} | F24: {=IFERROR(INDEX(Tableau7[Nom],SMALL(IF($F$2=Tableau7[Date],ROW(Tableau7[Date])-MIN(ROW(BD!$C$4))+1," "),ROWS(D$1:D22))),"")} | G24: {=IFERROR(INDEX(Tableau7[Nom],SMALL(IF($E$1=Tableau7[Chantier],ROW(Tableau7[Chantier])-MIN(ROW(BD!$P$4))+1," "),ROWS(G$1:G22))),"")} -> ADAM Pierre-Luc | H24: {=IFERROR(INDEX(Tableau7[Nom],SMALL(IF(AND($E$1=Tableau7[Chantier],ROW(Tableau7[Chantier])-MIN(ROW(BD!$P25)+1),$H$2=Tableau7[Date],ROW(Tableau7[Date])-MIN(ROW(BD!$C25))+1)," "),ROWS(H$3:H24))),"")} | I24: {=IFERROR(INDEX(Tableau7[Nom],SMALL(IF($I$2=Tableau7[Date],ROW(Tableau7[Date])-MIN(ROW(BD!$C$4))+1," "),ROWS(D$1:D22))),"")} | J24: {=IFERROR(INDEX(Tableau7[Nom],SMALL(IF($E$1=Tableau7[Chantier],ROW(Tableau7[Chantier])-MIN(ROW(BD!$P$4))+1," "),ROWS(J$1:J22))),"")} -> ADAM Pierre-Luc | K24: {=IFERROR(INDEX(Tableau7[Chantier],MATCH(1,(Tableau7[Nom]=PgMTL!$B24)*(PgMTL!K$2=Tableau7[Date]),0)),"")} | L24: {=IFERROR(INDEX(Tableau7[Nom],SMALL(IF($L$2=Tableau7[Date],ROW(Tableau7[Date])-MIN(ROW(BD!$C$4))+1," "),ROWS(D$1:D22))),"")} | M24: {=IFERROR(INDEX(Tableau7[Nom],SMALL(IF($M$2=Tableau7[Date],ROW(Tableau7[Date])-MIN(ROW(BD!$C$4))+1," "),ROWS(D$1:D22))),"")}
A25: =ROW(B26)-3 -> 23 | D25: {=IFERROR(INDEX(Tableau7[Nom],SMALL(IF(AND($E$1=Tableau7[Chantier],ROW(Tableau7[Chantier])-MIN(ROW(BD!$D$4)+1),$I$2=Tableau7[Date],ROW(Tableau7[Date])-MIN(ROW(BD!$C$4))+1)," "),ROWS(D$1:D23))),"")} | E25: {=IFERROR(INDEX(Tableau7[Nom],SMALL(IF($E$1=Tableau7[Chantier],ROW(Tableau7[Chantier])-MIN(ROW(BD!$P$4))+1," "),IF($E$1=Tableau7[Chantier],ROW(Tableau7[Chantier])-MIN(ROW(BD!$P$4))+1," ")),ROWS(E$3:E25)),"")} | F25: {=IFERROR(INDEX(Tableau7[Nom],SMALL(IF($F$2=Tableau7[Date],ROW(Tableau7[Date])-MIN(ROW(BD!$C$4))+1," "),ROWS(D$1:D23))),"")} | G25: {=IFERROR(INDEX(Tableau7[Nom],SMALL(IF($E$1=Tableau7[Chantier],ROW(Tableau7[Chantier])-MIN(ROW(BD!$P$4))+1," "),ROWS(G$1:G23))),"")} -> ADAM Justin | H25: {=IFERROR(INDEX(Tableau7[Nom],SMALL(IF(AND($E$1=Tableau7[Chantier],ROW(Tableau7[Chantier])-MIN(ROW(BD!$P26)+1),$H$2=Tableau7[Date],ROW(Tableau7[Date])-MIN(ROW(BD!$C26))+1)," "),ROWS(H$3:H25))),"")} | I25: {=IFERROR(INDEX(Tableau7[Nom],SMALL(IF($I$2=Tableau7[Date],ROW(Tableau7[Date])-MIN(ROW(BD!$C$4))+1," "),ROWS(D$1:D23))),"")} | J25: {=IFERROR(INDEX(Tableau7[Nom],SMALL(IF($E$1=Tableau7[Chantier],ROW(Tableau7[Chantier])-MIN(ROW(BD!$P$4))+1," "),ROWS(J$1:J23))),"")} -> ADAM Justin | K25: {=IFERROR(INDEX(Tableau7[Chantier],MATCH(1,(Tableau7[Nom]=PgMTL!$B25)*(PgMTL!K$2=Tableau7[Date]),0)),"")} | L25: {=IFERROR(INDEX(Tableau7[Nom],SMALL(IF($L$2=Tableau7[Date],ROW(Tableau7[Date])-MIN(ROW(BD!$C$4))+1," "),ROWS(D$1:D23))),"")} | M25: {=IFERROR(INDEX(Tableau7[Nom],SMALL(IF($M$2=Tableau7[Date],ROW(Tableau7[Date])-MIN(ROW(BD!$C$4))+1," "),ROWS(D$1:D23))),"")}
A26: =ROW(B27)-3 -> 24 | D26: {=IFERROR(INDEX(Tableau7[Nom],SMALL(IF(AND($E$1=Tableau7[Chantier],ROW(Tableau7[Chantier])-MIN(ROW(BD!$D$4)+1),$I$2=Tableau7[Date],ROW(Tableau7[Date])-MIN(ROW(BD!$C$4))+1)," "),ROWS(D$1:D24))),"")} | E26: {=IFERROR(INDEX(Tableau7[Nom],SMALL(IF($E$1=Tableau7[Chantier],ROW(Tableau7[Chantier])-MIN(ROW(BD!$P$4))+1," "),IF($E$1=Tableau7[Chantier],ROW(Tableau7[Chantier])-MIN(ROW(BD!$P$4))+1," ")),ROWS(E$3:E26)),"")} | F26: {=IFERROR(INDEX(Tableau7[Nom],SMALL(IF($F$2=Tableau7[Date],ROW(Tableau7[Date])-MIN(ROW(BD!$C$4))+1," "),ROWS(D$1:D24))),"")} | G26: {=IFERROR(INDEX(Tableau7[Nom],SMALL(IF($E$1=Tableau7[Chantier],ROW(Tableau7[Chantier])-MIN(ROW(BD!$P$4))+1," "),ROWS(G$1:G24))),"")} -> ADAM Pierre-Luc | H26: {=IFERROR(INDEX(Tableau7[Nom],SMALL(IF(AND($E$1=Tableau7[Chantier],ROW(Tableau7[Chantier])-MIN(ROW(BD!$P27)+1),$H$2=Tableau7[Date],ROW(Tableau7[Date])-MIN(ROW(BD!$C27))+1)," "),ROWS(H$3:H26))),"")} | I26: {=IFERROR(INDEX(Tableau7[Nom],SMALL(IF($I$2=Tableau7[Date],ROW(Tableau7[Date])-MIN(ROW(BD!$C$4))+1," "),ROWS(D$1:D24))),"")} | J26: {=IFERROR(INDEX(Tableau7[Nom],SMALL(IF($E$1=Tableau7[Chantier],ROW(Tableau7[Chantier])-MIN(ROW(BD!$P$4))+1," "),ROWS(J$1:J24))),"")} -> ADAM Pierre-Luc | K26: {=IFERROR(INDEX(Tableau7[Chantier],MATCH(1,(Tableau7[Nom]=PgMTL!$B26)*(PgMTL!K$2=Tableau7[Date]),0)),"")} | L26: {=IFERROR(INDEX(Tableau7[Nom],SMALL(IF($L$2=Tableau7[Date],ROW(Tableau7[Date])-MIN(ROW(BD!$C$4))+1," "),ROWS(D$1:D24))),"")} | M26: {=IFERROR(INDEX(Tableau7[Nom],SMALL(IF($M$2=Tableau7[Date],ROW(Tableau7[Date])-MIN(ROW(BD!$C$4))+1," "),ROWS(D$1:D24))),"")}
A27: =ROW(B28)-3 -> 25 | D27: {=IFERROR(INDEX(Tableau7[Nom],SMALL(IF(AND($E$1=Tableau7[Chantier],ROW(Tableau7[Chantier])-MIN(ROW(BD!$D$4)+1),$I$2=Tableau7[Date],ROW(Tableau7[Date])-MIN(ROW(BD!$C$4))+1)," "),ROWS(D$1:D25))),"")} | E27: {=IFERROR(INDEX(Tableau7[Nom],SMALL(IF($E$1=Tableau7[Chantier],ROW(Tableau7[Chantier])-MIN(ROW(BD!$P$4))+1," "),IF($E$1=Tableau7[Chantier],ROW(Tableau7[Chantier])-MIN(ROW(BD!$P$4))+1," ")),ROWS(E$3:E27)),"")} | F27: {=IFERROR(INDEX(Tableau7[Nom],SMALL(IF($F$2=Tableau7[Date],ROW(Tableau7[Date])-MIN(ROW(BD!$C$4))+1," "),ROWS(D$1:D25))),"")} | G27: {=IFERROR(INDEX(Tableau7[Nom],SMALL(IF($E$1=Tableau7[Chantier],ROW(Tableau7[Chantier])-MIN(ROW(BD!$P$4))+1," "),ROWS(G$1:G25))),"")} -> ADAM Justin | H27: {=IFERROR(INDEX(Tableau7[Nom],SMALL(IF(AND($E$1=Tableau7[Chantier],ROW(Tableau7[Chantier])-MIN(ROW(BD!$P28)+1),$H$2=Tableau7[Date],ROW(Tableau7[Date])-MIN(ROW(BD!$C28))+1)," "),ROWS(H$3:H27))),"")} | I27: {=IFERROR(INDEX(Tableau7[Nom],SMALL(IF($I$2=Tableau7[Date],ROW(Tableau7[Date])-MIN(ROW(BD!$C$4))+1," "),ROWS(D$1:D25))),"")} | J27: {=IFERROR(INDEX(Tableau7[Nom],SMALL(IF($E$1=Tableau7[Chantier],ROW(Tableau7[Chantier])-MIN(ROW(BD!$P$4))+1," "),ROWS(J$1:J25))),"")} -> ADAM Justin | K27: {=IFERROR(INDEX(Tableau7[Chantier],MATCH(1,(Tableau7[Nom]=PgMTL!$B27)*(PgMTL!K$2=Tableau7[Date]),0)),"")} | L27: {=IFERROR(INDEX(Tableau7[Chantier],MATCH(1,(Tableau7[Nom]=PgMTL!$B27)*(PgMTL!L$2=Tableau7[Date]),0)),"")} | M27: {=IFERROR(INDEX(Tableau7[Chantier],MATCH(1,(Tableau7[Nom]=PgMTL!$B27)*(PgMTL!M$2=Tableau7[Date]),0)),"")}
A28: =ROW(B29)-3 -> 26 | D28: {=IFERROR(INDEX(Tableau7[Nom],SMALL(IF($I$2=Tableau7[Date],ROW(Tableau7[Date])-MIN(ROW(BD!$C$4))+1," "),ROWS(D$1:D26))),"")} | E28: {=IFERROR(INDEX(Tableau7[Nom],SMALL(IF($E$1=Tableau7[Chantier],ROW(Tableau7[Chantier])-MIN(ROW(BD!$P$4))+1," "),IF($E$1=Tableau7[Chantier],ROW(Tableau7[Chantier])-MIN(ROW(BD!$P$4))+1," ")),ROWS(E$3:E28)),"")} | F28: {=IFERROR(INDEX(Tableau7[Nom],SMALL(IF($F$2=Tableau7[Date],ROW(Tableau7[Date])-MIN(ROW(BD!$C$4))+1," "),ROWS(D$1:D26))),"")} | G28: {=IFERROR(INDEX(Tableau7[Nom],SMALL(IF($E$1=Tableau7[Chantier],ROW(Tableau7[Chantier])-MIN(ROW(BD!$P$4))+1," "),ROWS(G$1:G26))),"")} -> ADAM Pierre-Luc | H28: {=IFERROR(INDEX(Tableau7[Nom],SMALL(IF(AND($E$1=Tableau7[Chantier],ROW(Tableau7[Chantier])-MIN(ROW(BD!$P29)+1),$H$2=Tableau7[Date],ROW(Tableau7[Date])-MIN(ROW(BD!$C29))+1)," "),ROWS(H$3:H28))),"")} | I28: {=IFERROR(INDEX(Tableau7[Nom],SMALL(IF($I$2=Tableau7[Date],ROW(Tableau7[Date])-MIN(ROW(BD!$C$4))+1," "),ROWS(D$1:D26))),"")} | J28: {=IFERROR(INDEX(Tableau7[Nom],SMALL(IF($E$1=Tableau7[Chantier],ROW(Tableau7[Chantier])-MIN(ROW(BD!$P$4))+1," "),ROWS(J$1:J26))),"")} -> ADAM Pierre-Luc | K28: {=IFERROR(INDEX(Tableau7[Chantier],MATCH(1,(Tableau7[Nom]=PgMTL!$B28)*(PgMTL!K$2=Tableau7[Date]),0)),"")} | L28: {=IFERROR(INDEX(Tableau7[Chantier],MATCH(1,(Tableau7[Nom]=PgMTL!$B28)*(PgMTL!L$2=Tableau7[Date]),0)),"")} | M28: {=IFERROR(INDEX(Tableau7[Chantier],MATCH(1,(Tableau7[Nom]=PgMTL!$B28)*(PgMTL!M$2=Tableau7[Date]),0)),"")}
A29: =ROW(B30)-3 -> 27 | D29: {=IFERROR(INDEX(Tableau7[Nom],SMALL(IF(AND($E$1=Tableau7[Chantier],$D$2=Tableau7[Date]),ROW(Tableau7[Date])-MIN(ROW(BD!$C$4))+1," "),ROWS(D$1:D27))),"")} | E29: {=IFERROR(INDEX(Tableau7[Nom],SMALL(IF($E$1=Tableau7[Chantier],ROW(Tableau7[Chantier])-MIN(ROW(BD!$P$4))+1," "),IF($E$1=Tableau7[Chantier],ROW(Tableau7[Chantier])-MIN(ROW(BD!$P$4))+1," ")),ROWS(E$3:E29)),"")} | F29: {=IFERROR(INDEX(Tableau7[Nom],SMALL(IF($F$2=Tableau7[Date],ROW(Tableau7[Date])-MIN(ROW(BD!$C$4))+1," "),ROWS(D$1:D27))),"")} | G29: {=IFERROR(INDEX(Tableau7[Nom],SMALL(IF($E$1=Tableau7[Chantier],ROW(Tableau7[Chantier])-MIN(ROW(BD!$P$4))+1," "),ROWS(G$1:G27))),"")} -> ADAM Justin | H29: {=IFERROR(INDEX(Tableau7[Nom],SMALL(IF(AND($E$1=Tableau7[Chantier],ROW(Tableau7[Chantier])-MIN(ROW(BD!$P30)+1),$H$2=Tableau7[Date],ROW(Tableau7[Date])-MIN(ROW(BD!$C30))+1)," "),ROWS(H$3:H29))),"")} | I29: {=IFERROR(INDEX(Tableau7[Nom],SMALL(IF($I$2=Tableau7[Date],ROW(Tableau7[Date])-MIN(ROW(BD!$C$4))+1," "),ROWS(D$1:D27))),"")} | J29: {=IFERROR(INDEX(Tableau7[Nom],SMALL(IF($E$1=Tableau7[Chantier],ROW(Tableau7[Chantier])-MIN(ROW(BD!$P$4))+1," "),ROWS(J$1:J27))),"")} -> ADAM Justin | K29: {=IFERROR(INDEX(Tableau7[Chantier],MATCH(1,(Tableau7[Nom]=PgMTL!$B29)*(PgMTL!K$2=Tableau7[Date]),0)),"")} | L29: {=IFERROR(INDEX(Tableau7[Chantier],MATCH(1,(Tableau7[Nom]=PgMTL!$B29)*(PgMTL!L$2=Tableau7[Date]),0)),"")} | M29: {=IFERROR(INDEX(Tableau7[Chantier],MATCH(1,(Tableau7[Nom]=PgMTL!$B29)*(PgMTL!M$2=Tableau7[Date]),0)),"")}
A30: =ROW(B31)-3 -> 28 | D30: {=IFERROR(INDEX(Tableau7[Chantier],MATCH(1,(Tableau7[Nom]=PgMTL!$B30)*(PgMTL!D$2=Tableau7[Date]),0)),"")} | E30: {=IFERROR(INDEX(Tableau7[Nom],SMALL(IF($E$1=Tableau7[Chantier],ROW(Tableau7[Chantier])-MIN(ROW(BD!$P$4))+1," "),IF($E$1=Tableau7[Chantier],ROW(Tableau7[Chantier])-MIN(ROW(BD!$P$4))+1," ")),ROWS(E$3:E30)),"")} | F30: {=IFERROR(INDEX(Tableau7[Nom],SMALL(IF($F$2=Tableau7[Date],ROW(Tableau7[Date])-MIN(ROW(BD!$C$4))+1," "),ROWS(D$1:D28))),"")} | G30: {=IFERROR(INDEX(Tableau7[Nom],SMALL(IF($E$1=Tableau7[Chantier],ROW(Tableau7[Chantier])-MIN(ROW(BD!$P$4))+1," "),ROWS(G$1:G28))),"")} -> ADAM Pierre-Luc | H30: {=IFERROR(INDEX(Tableau7[Nom],SMALL(IF(AND($E$1=Tableau7[Chantier],ROW(Tableau7[Chantier])-MIN(ROW(BD!$P31)+1),$H$2=Tableau7[Date],ROW(Tableau7[Date])-MIN(ROW(BD!$C31))+1)," "),ROWS(H$3:H30))),"")} | I30: {=IFERROR(INDEX(Tableau7[Nom],SMALL(IF($I$2=Tableau7[Date],ROW(Tableau7[Date])-MIN(ROW(BD!$C$4))+1," "),ROWS(D$1:D28))),"")} | J30: {=IFERROR(INDEX(Tableau7[Nom],SMALL(IF($E$1=Tableau7[Chantier],ROW(Tableau7[Chantier])-MIN(ROW(BD!$P$4))+1," "),ROWS(J$1:J28))),"")} -> ADAM Pierre-Luc | K30: {=IFERROR(INDEX(Tableau7[Chantier],MATCH(1,(Tableau7[Nom]=PgMTL!$B30)*(PgMTL!K$2=Tableau7[Date]),0)),"")} | L30: {=IFERROR(INDEX(Tableau7[Chantier],MATCH(1,(Tableau7[Nom]=PgMTL!$B30)*(PgMTL!L$2=Tableau7[Date]),0)),"")} | M30: {=IFERROR(INDEX(Tableau7[Chantier],MATCH(1,(Tableau7[Nom]=PgMTL!$B30)*(PgMTL!M$2=Tableau7[Date]),0)),"")}
A31: =ROW(B32)-3 -> 29 | D31: {=IFERROR(INDEX(Tableau7[Chantier],MATCH(1,(Tableau7[Nom]=PgMTL!$B31)*(PgMTL!D$2=Tableau7[Date]),0)),"")} | E31: {=IFERROR(INDEX(Tableau7[Nom],SMALL(IF($E$1=Tableau7[Chantier],ROW(Tableau7[Chantier])-MIN(ROW(BD!$P$4))+1," "),IF($E$1=Tableau7[Chantier],ROW(Tableau7[Chantier])-MIN(ROW(BD!$P$4))+1," ")),ROWS(E$3:E31)),"")} | F31: {=IFERROR(INDEX(Tableau7[Nom],SMALL(IF($F$2=Tableau7[Date],ROW(Tableau7[Date])-MIN(ROW(BD!$C$4))+1," "),ROWS(D$1:D29))),"")} | G31: {=IFERROR(INDEX(Tableau7[Nom],SMALL(IF($E$1=Tableau7[Chantier],ROW(Tableau7[Chantier])-MIN(ROW(BD!$P$4))+1," "),ROWS(G$1:G29))),"")} -> ADAM Justin | H31: {=IFERROR(INDEX(Tableau7[Nom],SMALL(IF(AND($E$1=Tableau7[Chantier],ROW(Tableau7[Chantier])-MIN(ROW(BD!$P32)+1),$H$2=Tableau7[Date],ROW(Tableau7[Date])-MIN(ROW(BD!$C32))+1)," "),ROWS(H$3:H31))),"")} | I31: {=IFERROR(INDEX(Tableau7[Chantier],MATCH(1,(Tableau7[Nom]=PgMTL!$B31)*(PgMTL!I$2=Tableau7[Date]),0)),"")} | J31: {=IFERROR(INDEX(Tableau7[Nom],SMALL(IF($E$1=Tableau7[Chantier],ROW(Tableau7[Chantier])-MIN(ROW(BD!$P$4))+1," "),ROWS(J$1:J29))),"")} -> ADAM Justin | K31: {=IFERROR(INDEX(Tableau7[Chantier],MATCH(1,(Tableau7[Nom]=PgMTL!$B31)*(PgMTL!K$2=Tableau7[Date]),0)),"")} | L31: {=IFERROR(INDEX(Tableau7[Chantier],MATCH(1,(Tableau7[Nom]=PgMTL!$B31)*(PgMTL!L$2=Tableau7[Date]),0)),"")} | M31: {=IFERROR(INDEX(Tableau7[Chantier],MATCH(1,(Tableau7[Nom]=PgMTL!$B31)*(PgMTL!M$2=Tableau7[Date]),0)),"")}
A32: =ROW(B33)-3 -> 30 | D32: {=IFERROR(INDEX(Tableau7[Chantier],MATCH(1,(Tableau7[Nom]=PgMTL!$B32)*(PgMTL!D$2=Tableau7[Date]),0)),"")} | E32: {=IFERROR(INDEX(Tableau7[Nom],SMALL(IF($E$1=Tableau7[Chantier],ROW(Tableau7[Chantier])-MIN(ROW(BD!$P$4))+1," "),IF($E$1=Tableau7[Chantier],ROW(Tableau7[Chantier])-MIN(ROW(BD!$P$4))+1," ")),ROWS(E$3:E32)),"")} | F32: {=IFERROR(INDEX(Tableau7[Chantier],MATCH(1,(Tableau7[Nom]=PgMTL!$B32)*(PgMTL!F$2=Tableau7[Date]),0)),"")} | G32: {=IFERROR(INDEX(Tableau7[Nom],SMALL(IF($E$1=Tableau7[Chantier],ROW(Tableau7[Chantier])-MIN(ROW(BD!$P$4))+1," "),ROWS(G$1:G30))),"")} -> ADAM Pierre-Luc | H32: {=IFERROR(INDEX(Tableau7[Nom],SMALL(IF(AND($E$1=Tableau7[Chantier],ROW(Tableau7[Chantier])-MIN(ROW(BD!$P33)+1),$H$2=Tableau7[Date],ROW(Tableau7[Date])-MIN(ROW(BD!$C33))+1)," "),ROWS(H$3:H32))),"")} | I32: {=IFERROR(INDEX(Tableau7[Chantier],MATCH(1,(Tableau7[Nom]=PgMTL!$B32)*(PgMTL!I$2=Tableau7[Date]),0)),"")} | J32: {=IFERROR(INDEX(Tableau7[Nom],SMALL(IF($E$1=Tableau7[Chantier],ROW(Tableau7[Chantier])-MIN(ROW(BD!$P$4))+1," "),ROWS(J$1:J30))),"")} -> ADAM Pierre-Luc | K32: {=IFERROR(INDEX(Tableau7[Chantier],MATCH(1,(Tableau7[Nom]=PgMTL!$B32)*(PgMTL!K$2=Tableau7[Date]),0)),"")} | L32: {=IFERROR(INDEX(Tableau7[Chantier],MATCH(1,(Tableau7[Nom]=PgMTL!$B32)*(PgMTL!L$2=Tableau7[Date]),0)),"")} | M32: {=IFERROR(INDEX(Tableau7[Chantier],MATCH(1,(Tableau7[Nom]=PgMTL!$B32)*(PgMTL!M$2=Tableau7[Date]),0)),"")}
A33: =ROW(B34)-3 -> 31 | D33: {=IFERROR(INDEX(Tableau7[Chantier],MATCH(1,(Tableau7[Nom]=PgMTL!$B33)*(PgMTL!D$2=Tableau7[Date]),0)),"")} | E33: {=IFERROR(INDEX(Tableau7[Nom],SMALL(IF($E$1=Tableau7[Chantier],ROW(Tableau7[Chantier])-MIN(ROW(BD!$P$4))+1," "),IF($E$1=Tableau7[Chantier],ROW(Tableau7[Chantier])-MIN(ROW(BD!$P$4))+1," ")),ROWS(E$3:E33)),"")} | F33: {=IFERROR(INDEX(Tableau7[Chantier],MATCH(1,(Tableau7[Nom]=PgMTL!$B33)*(PgMTL!F$2=Tableau7[Date]),0)),"")} | G33: {=IFERROR(INDEX(Tableau7[Nom],SMALL(IF($E$1=Tableau7[Chantier],ROW(Tableau7[Chantier])-MIN(ROW(BD!$P$4))+1," "),ROWS(G$1:G31))),"")} -> ADAM Justin | H33: {=IFERROR(INDEX(Tableau7[Nom],SMALL(IF(AND($E$1=Tableau7[Chantier],ROW(Tableau7[Chantier])-MIN(ROW(BD!$P34)+1),$H$2=Tableau7[Date],ROW(Tableau7[Date])-MIN(ROW(BD!$C34))+1)," "),ROWS(H$3:H33))),"")} | I33: {=IFERROR(INDEX(Tableau7[Chantier],MATCH(1,(Tableau7[Nom]=PgMTL!$B33)*(PgMTL!I$2=Tableau7[Date]),0)),"")} | J33: {=IFERROR(INDEX(Tableau7[Nom],SMALL(IF($E$1=Tableau7[Chantier],ROW(Tableau7[Chantier])-MIN(ROW(BD!$P$4))+1," "),ROWS(J$1:J31))),"")} -> ADAM Justin | K33: {=IFERROR(INDEX(Tableau7[Chantier],MATCH(1,(Tableau7[Nom]=PgMTL!$B33)*(PgMTL!K$2=Tableau7[Date]),0)),"")} | L33: {=IFERROR(INDEX(Tableau7[Chantier],MATCH(1,(Tableau7[Nom]=PgMTL!$B33)*(PgMTL!L$2=Tableau7[Date]),0)),"")} | M33: {=IFERROR(INDEX(Tableau7[Chantier],MATCH(1,(Tableau7[Nom]=PgMTL!$B33)*(PgMTL!M$2=Tableau7[Date]),0)),"")}
A34: =ROW(B35)-3 -> 32 | D34: {=IFERROR(INDEX(Tableau7[Chantier],MATCH(1,(Tableau7[Nom]=PgMTL!$B34)*(PgMTL!D$2=Tableau7[Date]),0)),"")} | E34: {=IFERROR(INDEX(Tableau7[Nom],SMALL(IF($E$1=Tableau7[Chantier],ROW(Tableau7[Chantier])-MIN(ROW(BD!$P$4))+1," "),IF($E$1=Tableau7[Chantier],ROW(Tableau7[Chantier])-MIN(ROW(BD!$P$4))+1," ")),ROWS(E$3:E34)),"")} | F34: {=IFERROR(INDEX(Tableau7[Chantier],MATCH(1,(Tableau7[Nom]=PgMTL!$B34)*(PgMTL!F$2=Tableau7[Date]),0)),"")} | G34: {=IFERROR(INDEX(Tableau7[Nom],SMALL(IF($E$1=Tableau7[Chantier],ROW(Tableau7[Chantier])-MIN(ROW(BD!$P$4))+1," "),ROWS(G$1:G32))),"")} -> ADAM Justin | H34: {=IFERROR(INDEX(Tableau7[Nom],SMALL(IF(AND($E$1=Tableau7[Chantier],ROW(Tableau7[Chantier])-MIN(ROW(BD!$P35)+1),$H$2=Tableau7[Date],ROW(Tableau7[Date])-MIN(ROW(BD!$C35))+1)," "),ROWS(H$3:H34))),"")} | I34: {=IFERROR(INDEX(Tableau7[Chantier],MATCH(1,(Tableau7[Nom]=PgMTL!$B34)*(PgMTL!I$2=Tableau7[Date]),0)),"")} | J34: {=IFERROR(INDEX(Tableau7[Nom],SMALL(IF($E$1=Tableau7[Chantier],ROW(Tableau7[Chantier])-MIN(ROW(BD!$P$4))+1," "),ROWS(J$1:J32))),"")} -> ADAM Justin | K34: {=IFERROR(INDEX(Tableau7[Chantier],MATCH(1,(Tableau7[Nom]=PgMTL!$B34)*(PgMTL!K$2=Tableau7[Date]),0)),"")} | L34: {=IFERROR(INDEX(Tableau7[Chantier],MATCH(1,(Tableau7[Nom]=PgMTL!$B34)*(PgMTL!L$2=Tableau7[Date]),0)),"")} | M34: {=IFERROR(INDEX(Tableau7[Chantier],MATCH(1,(Tableau7[Nom]=PgMTL!$B34)*(PgMTL!M$2=Tableau7[Date]),0)),"")}
A35: =ROW(B36)-3 -> 33 | D35: {=IFERROR(INDEX(Tableau7[Chantier],MATCH(1,(Tableau7[Nom]=PgMTL!$B35)*(PgMTL!D$2=Tableau7[Date]),0)),"")} | E35: {=IFERROR(INDEX(Tableau7[Nom],SMALL(IF($E$1=Tableau7[Chantier],ROW(Tableau7[Chantier])-MIN(ROW(BD!$P$4))+1," "),IF($E$1=Tableau7[Chantier],ROW(Tableau7[Chantier])-MIN(ROW(BD!$P$4))+1," ")),ROWS(E$3:E35)),"")} | G35: {=IFERROR(INDEX(Tableau7[Nom],SMALL(IF($E$1=Tableau7[Chantier],ROW(Tableau7[Chantier])-MIN(ROW(BD!$P$4))+1," "),ROWS(G$1:G33))),"")} -> ADAM Justin | H35: {=IFERROR(INDEX(Tableau7[Nom],SMALL(IF(AND($E$1=Tableau7[Chantier],ROW(Tableau7[Chantier])-MIN(ROW(BD!$P36)+1),$H$2=Tableau7[Date],ROW(Tableau7[Date])-MIN(ROW(BD!$C36))+1)," "),ROWS(H$3:H35))),"")} | I35: {=IFERROR(INDEX(Tableau7[Chantier],MATCH(1,(Tableau7[Nom]=PgMTL!$B35)*(PgMTL!I$2=Tableau7[Date]),0)),"")} | J35: {=IFERROR(INDEX(Tableau7[Nom],SMALL(IF($E$1=Tableau7[Chantier],ROW(Tableau7[Chantier])-MIN(ROW(BD!$P$4))+1," "),ROWS(J$1:J33))),"")} -> ADAM Justin | K35: {=IFERROR(INDEX(Tableau7[Chantier],MATCH(1,(Tableau7[Nom]=PgMTL!$B35)*(PgMTL!K$2=Tableau7[Date]),0)),"")} | L35: {=IFERROR(INDEX(Tableau7[Chantier],MATCH(1,(Tableau7[Nom]=PgMTL!$B35)*(PgMTL!L$2=Tableau7[Date]),0)),"")} | M35: {=IFERROR(INDEX(Tableau7[Chantier],MATCH(1,(Tableau7[Nom]=PgMTL!$B35)*(PgMTL!M$2=Tableau7[Date]),0)),"")}
A36: =ROW(B37)-3 -> 34 | D36: {=IFERROR(INDEX(Tableau7[Chantier],MATCH(1,(Tableau7[Nom]=PgMTL!$B36)*(PgMTL!D$2=Tableau7[Date]),0)),"")} | E36: {=IFERROR(INDEX(Tableau7[Nom],SMALL(IF($E$1=Tableau7[Chantier],ROW(Tableau7[Chantier])-MIN(ROW(BD!$P$4))+1," "),IF($E$1=Tableau7[Chantier],ROW(Tableau7[Chantier])-MIN(ROW(BD!$P$4))+1," ")),ROWS(E$3:E36)),"")} | G36: {=IFERROR(INDEX(Tableau7[Nom],SMALL(IF($E$1=Tableau7[Chantier],ROW(Tableau7[Chantier])-MIN(ROW(BD!$P$4))+1," "),ROWS(G$1:G34))),"")} -> ADAM Justin | J36: {=IFERROR(INDEX(Tableau7[Nom],SMALL(IF($E$1=Tableau7[Chantier],ROW(Tableau7[Chantier])-MIN(ROW(BD!$P$4))+1," "),ROWS(J$1:J34))),"")} -> ADAM Justin | M36: {=IFERROR(INDEX(Tableau7[Chantier],MATCH(1,(Tableau7[Nom]=PgMTL!$B36)*(PgMTL!M$2=Tableau7[Date]),0)),"")}
A37: =ROW(B38)-3 -> 35 | D37: {=IFERROR(INDEX(Tableau7[Chantier],MATCH(1,(Tableau7[Nom]=PgMTL!$B37)*(PgMTL!D$2=Tableau7[Date]),0)),"")} | E37: {=IFERROR(INDEX(Tableau7[Nom],SMALL(IF($E$1=Tableau7[Chantier],ROW(Tableau7[Chantier])-MIN(ROW(BD!$P$4))+1," "),IF($E$1=Tableau7[Chantier],ROW(Tableau7[Chantier])-MIN(ROW(BD!$P$4))+1," ")),ROWS(E$3:E37)),"")} | F37: {=IFERROR(INDEX(Tableau7[Chantier],MATCH(1,(Tableau7[Nom]=PgMTL!$B37)*(PgMTL!F$2=Tableau7[Date]),0)),"")} | G37: {=IFERROR(INDEX(Tableau7[Nom],SMALL(IF($E$1=Tableau7[Chantier],ROW(Tableau7[Chantier])-MIN(ROW(BD!$P$4))+1," "),ROWS(G$1:G35))),"")} -> ADAM Justin | H37: {=IFERROR(INDEX(Tableau7[Nom],SMALL(IF(AND($E$1=Tableau7[Chantier],ROW(Tableau7[Chantier])-MIN(ROW(BD!$P38)+1),$H$2=Tableau7[Date],ROW(Tableau7[Date])-MIN(ROW(BD!$C38))+1)," "),ROWS(H$3:H37))),"")} | I37: {=IFERROR(INDEX(Tableau7[Chantier],MATCH(1,(Tableau7[Nom]=PgMTL!$B37)*(PgMTL!I$2=Tableau7[Date]),0)),"")} | J37: {=IFERROR(INDEX(Tableau7[Nom],SMALL(IF($E$1=Tableau7[Chantier],ROW(Tableau7[Chantier])-MIN(ROW(BD!$P$4))+1," "),ROWS(J$1:J35))),"")} -> ADAM Justin | K37: {=IFERROR(INDEX(Tableau7[Chantier],MATCH(1,(Tableau7[Nom]=PgMTL!$B37)*(PgMTL!K$2=Tableau7[Date]),0)),"")} | L37: {=IFERROR(INDEX(Tableau7[Chantier],MATCH(1,(Tableau7[Nom]=PgMTL!$B37)*(PgMTL!L$2=Tableau7[Date]),0)),"")} | M37: {=IFERROR(INDEX(Tableau7[Chantier],MATCH(1,(Tableau7[Nom]=PgMTL!$B37)*(PgMTL!M$2=Tableau7[Date]),0)),"")}
A38: =ROW(B39)-3 -> 36 | D38: {=IFERROR(INDEX(Tableau7[Chantier],MATCH(1,(Tableau7[Nom]=PgMTL!$B38)*(PgMTL!D$2=Tableau7[Date]),0)),"")} | E38: {=IFERROR(INDEX(Tableau7[Nom],SMALL(IF($E$1=Tableau7[Chantier],ROW(Tableau7[Chantier])-MIN(ROW(BD!$P$4))+1," "),ROWS(E$3:E38))),"")} -> ADAM Justin | F38: {=IFERROR(INDEX(Tableau7[Chantier],MATCH(1,(Tableau7[Nom]=PgMTL!$B38)*(PgMTL!F$2=Tableau7[Date]),0)),"")} | G38: {=IFERROR(INDEX(Tableau7[Nom],SMALL(IF($E$1=Tableau7[Chantier],ROW(Tableau7[Chantier])-MIN(ROW(BD!$P$4))+1," "),ROWS(G$1:G36))),"")} -> ADAM Justin | H38: {=IFERROR(INDEX(Tableau7[Nom],SMALL(IF(AND($E$1=Tableau7[Chantier],ROW(Tableau7[Chantier])-MIN(ROW(BD!$P39)+1),$H$2=Tableau7[Date],ROW(Tableau7[Date])-MIN(ROW(BD!$C39))+1)," "),ROWS(H$3:H38))),"")} | I38: {=IFERROR(INDEX(Tableau7[Chantier],MATCH(1,(Tableau7[Nom]=PgMTL!$B38)*(PgMTL!I$2=Tableau7[Date]),0)),"")} | J38: {=IFERROR(INDEX(Tableau7[Nom],SMALL(IF($E$1=Tableau7[Chantier],ROW(Tableau7[Chantier])-MIN(ROW(BD!$P$4))+1," "),ROWS(J$1:J36))),"")} -> ADAM Justin | K38: {=IFERROR(INDEX(Tableau7[Chantier],MATCH(1,(Tableau7[Nom]=PgMTL!$B38)*(PgMTL!K$2=Tableau7[Date]),0)),"")} | L38: {=IFERROR(INDEX(Tableau7[Chantier],MATCH(1,(Tableau7[Nom]=PgMTL!$B38)*(PgMTL!L$2=Tableau7[Date]),0)),"")} | M38: {=IFERROR(INDEX(Tableau7[Chantier],MATCH(1,(Tableau7[Nom]=PgMTL!$B38)*(PgMTL!M$2=Tableau7[Date]),0)),"")}
E39: {=IFERROR(INDEX(Tableau7[Nom],SMALL(IF($E$1=Tableau7[Chantier],ROW(Tableau7[Chantier])-MIN(ROW(BD!$P$4))+1," "),ROWS(E$3:E39))),"")} -> ADAM Pierre-Luc | G39: {=IFERROR(INDEX(Tableau7[Nom],SMALL(IF($E$1=Tableau7[Chantier],ROW(Tableau7[Chantier])-MIN(ROW(BD!$P$4))+1," "),ROWS(G$1:G37))),"")} -> ADAM Pierre-Luc | H39: {=IFERROR(INDEX(Tableau7[Nom],SMALL(IF(AND($E$1=Tableau7[Chantier],ROW(Tableau7[Chantier])-MIN(ROW(BD!$P40)+1),$H$2=Tableau7[Date],ROW(Tableau7[Date])-MIN(ROW(BD!$C40))+1)," "),ROWS(H$3:H39))),"")} | J39: {=IFERROR(INDEX(Tableau7[Nom],SMALL(IF($E$1=Tableau7[Chantier],ROW(Tableau7[Chantier])-MIN(ROW(BD!$P$4))+1," "),ROWS(J$1:J37))),"")} -> ADAM Pierre-Luc
E40: {=IFERROR(INDEX(Tableau7[Nom],SMALL(IF($E$1=Tableau7[Chantier],ROW(Tableau7[Chantier])-MIN(ROW(BD!$P$4))+1," "),ROWS(E$3:E40))),"")} -> ADAM Justin | G40: {=IFERROR(INDEX(Tableau7[Nom],SMALL(IF($E$1=Tableau7[Chantier],ROW(Tableau7[Chantier])-MIN(ROW(BD!$P$4))+1," "),ROWS(G$1:G38))),"")} -> ADAM Justin | H40: {=IFERROR(INDEX(Tableau7[Nom],SMALL(IF(AND($E$1=Tableau7[Chantier],ROW(Tableau7[Chantier])-MIN(ROW(BD!$P41)+1),$H$2=Tableau7[Date],ROW(Tableau7[Date])-MIN(ROW(BD!$C41))+1)," "),ROWS(H$3:H40))),"")} | J40: {=IFERROR(INDEX(Tableau7[Nom],SMALL(IF($E$1=Tableau7[Chantier],ROW(Tableau7[Chantier])-MIN(ROW(BD!$P$4))+1," "),ROWS(J$1:J38))),"")} -> ADAM Justin
E41: {=IFERROR(INDEX(Tableau7[Nom],SMALL(IF($E$1=Tableau7[Chantier],ROW(Tableau7[Chantier])-MIN(ROW(BD!$P$4))+1," "),ROWS(E$3:E41))),"")} -> ADAM Pierre-Luc | G41: {=IFERROR(INDEX(Tableau7[Nom],SMALL(IF($E$1=Tableau7[Chantier],ROW(Tableau7[Chantier])-MIN(ROW(BD!$P$4))+1," "),ROWS(G$1:G39))),"")} -> ADAM Pierre-Luc | H41: {=IFERROR(INDEX(Tableau7[Nom],SMALL(IF(AND($E$1=Tableau7[Chantier],ROW(Tableau7[Chantier])-MIN(ROW(BD!$P42)+1),$H$2=Tableau7[Date],ROW(Tableau7[Date])-MIN(ROW(BD!$C42))+1)," "),ROWS(H$3:H41))),"")} | J41: {=IFERROR(INDEX(Tableau7[Nom],SMALL(IF($E$1=Tableau7[Chantier],ROW(Tableau7[Chantier])-MIN(ROW(BD!$P$4))+1," "),ROWS(J$1:J39))),"")} -> ADAM Pierre-Luc
E42: {=IFERROR(INDEX(Tableau7[Nom],SMALL(IF($E$1=Tableau7[Chantier],ROW(Tableau7[Chantier])-MIN(ROW(BD!$P$4))+1," "),ROWS(E$3:E42))),"")} -> ADAM Justin | G42: {=IFERROR(INDEX(Tableau7[Nom],SMALL(IF($E$1=Tableau7[Chantier],ROW(Tableau7[Chantier])-MIN(ROW(BD!$P$4))+1," "),ROWS(G$1:G40))),"")} -> ADAM Justin | H42: {=IFERROR(INDEX(Tableau7[Nom],SMALL(IF(AND($E$1=Tableau7[Chantier],ROW(Tableau7[Chantier])-MIN(ROW(BD!$P43)+1),$H$2=Tableau7[Date],ROW(Tableau7[Date])-MIN(ROW(BD!$C43))+1)," "),ROWS(H$3:H42))),"")} | J42: {=IFERROR(INDEX(Tableau7[Nom],SMALL(IF($E$1=Tableau7[Chantier],ROW(Tableau7[Chantier])-MIN(ROW(BD!$P$4))+1," "),ROWS(J$1:J40))),"")} -> ADAM Justin
G43: {=IFERROR(INDEX(Tableau7[Nom],SMALL(IF($E$1=Tableau7[Chantier],ROW(Tableau7[Chantier])-MIN(ROW(BD!$P$4))+1," "),ROWS(G$1:G41))),"")} -> ADAM Pierre-Luc | H43: {=IFERROR(INDEX(Tableau7[Nom],SMALL(IF(AND($E$1=Tableau7[Chantier],ROW(Tableau7[Chantier])-MIN(ROW(BD!$P44)+1),$H$2=Tableau7[Date],ROW(Tableau7[Date])-MIN(ROW(BD!$C44))+1)," "),ROWS(H$3:H43))),"")} | J43: {=IFERROR(INDEX(Tableau7[Nom],SMALL(IF($E$1=Tableau7[Chantier],ROW(Tableau7[Chantier])-MIN(ROW(BD!$P$4))+1," "),ROWS(J$1:J41))),"")} -> ADAM Pierre-Luc
G44: {=IFERROR(INDEX(Tableau7[Nom],SMALL(IF($E$1=Tableau7[Chantier],ROW(Tableau7[Chantier])-MIN(ROW(BD!$P$4))+1," "),ROWS(G$1:G42))),"")} -> ADAM Justin | H44: {=IFERROR(INDEX(Tableau7[Nom],SMALL(IF(AND($E$1=Tableau7[Chantier],ROW(Tableau7[Chantier])-MIN(ROW(BD!$P45)+1),$H$2=Tableau7[Date],ROW(Tableau7[Date])-MIN(ROW(BD!$C45))+1)," "),ROWS(H$3:H44))),"")} | J44: {=IFERROR(INDEX(Tableau7[Nom],SMALL(IF($E$1=Tableau7[Chantier],ROW(Tableau7[Chantier])-MIN(ROW(BD!$P$4))+1," "),ROWS(J$1:J42))),"")} -> ADAM Justin
G45: {=IFERROR(INDEX(Tableau7[Nom],SMALL(IF($E$1=Tableau7[Chantier],ROW(Tableau7[Chantier])-MIN(ROW(BD!$P$4))+1," "),ROWS(G$1:G43))),"")} -> ADAM Pierre-Luc | H45: {=IFERROR(INDEX(Tableau7[Nom],SMALL(IF(AND($E$1=Tableau7[Chantier],ROW(Tableau7[Chantier])-MIN(ROW(BD!$P46)+1),$H$2=Tableau7[Date],ROW(Tableau7[Date])-MIN(ROW(BD!$C46))+1)," "),ROWS(H$3:H45))),"")} | J45: {=IFERROR(INDEX(Tableau7[Nom],SMALL(IF($E$1=Tableau7[Chantier],ROW(Tableau7[Chantier])-MIN(ROW(BD!$P$4))+1," "),ROWS(J$1:J43))),"")} -> ADAM Pierre-Luc
G46: {=IFERROR(INDEX(Tableau7[Nom],SMALL(IF($E$1=Tableau7[Chantier],ROW(Tableau7[Chantier])-MIN(ROW(BD!$P$4))+1," "),ROWS(G$1:G44))),"")} -> ADAM Justin | H46: {=IFERROR(INDEX(Tableau7[Nom],SMALL(IF(AND($E$1=Tableau7[Chantier],ROW(Tableau7[Chantier])-MIN(ROW(BD!$P47)+1),$H$2=Tableau7[Date],ROW(Tableau7[Date])-MIN(ROW(BD!$C47))+1)," "),ROWS(H$3:H46))),"")} | J46: {=IFERROR(INDEX(Tableau7[Nom],SMALL(IF($E$1=Tableau7[Chantier],ROW(Tableau7[Chantier])-MIN(ROW(BD!$P$4))+1," "),ROWS(J$1:J44))),"")} -> ADAM Justin
G47: {=IFERROR(INDEX(Tableau7[Nom],SMALL(IF($E$1=Tableau7[Chantier],ROW(Tableau7[Chantier])-MIN(ROW(BD!$P$4))+1," "),ROWS(G$1:G45))),"")} -> ADAM Pierre-Luc | H47: {=IFERROR(INDEX(Tableau7[Nom],SMALL(IF(AND($E$1=Tableau7[Chantier],ROW(Tableau7[Chantier])-MIN(ROW(BD!$P48)+1),$H$2=Tableau7[Date],ROW(Tableau7[Date])-MIN(ROW(BD!$C48))+1)," "),ROWS(H$3:H47))),"")} | J47: {=IFERROR(INDEX(Tableau7[Nom],SMALL(IF($E$1=Tableau7[Chantier],ROW(Tableau7[Chantier])-MIN(ROW(BD!$P$4))+1," "),ROWS(J$1:J45))),"")} -> ADAM Pierre-Luc
G48: {=IFERROR(INDEX(Tableau7[Nom],SMALL(IF($E$1=Tableau7[Chantier],ROW(Tableau7[Chantier])-MIN(ROW(BD!$P$4))+1," "),ROWS(G$1:G46))),"")} | H48: {=IFERROR(INDEX(Tableau7[Nom],SMALL(IF(AND($E$1=Tableau7[Chantier],ROW(Tableau7[Chantier])-MIN(ROW(BD!$P49)+1),$H$2=Tableau7[Date],ROW(Tableau7[Date])-MIN(ROW(BD!$C49))+1)," "),ROWS(H$3:H48))),"")} | J48: {=IFERROR(INDEX(Tableau7[Nom],SMALL(IF($E$1=Tableau7[Chantier],ROW(Tableau7[Chantier])-MIN(ROW(BD!$P$4))+1," "),ROWS(J$1:J46))),"")}
G49: {=IFERROR(INDEX(Tableau7[Nom],SMALL(IF($E$1=Tableau7[Chantier],ROW(Tableau7[Chantier])-MIN(ROW(BD!$P$4))+1," "),ROWS(G$1:G47))),"")} | H49: {=IFERROR(INDEX(Tableau7[Nom],SMALL(IF(AND($E$1=Tableau7[Chantier],ROW(Tableau7[Chantier])-MIN(ROW(BD!$P50)+1),$H$2=Tableau7[Date],ROW(Tableau7[Date])-MIN(ROW(BD!$C50))+1)," "),ROWS(H$3:H49))),"")}
G50: {=IFERROR(INDEX(Tableau7[Nom],SMALL(IF($E$1=Tableau7[Chantier],ROW(Tableau7[Chantier])-MIN(ROW(BD!$P$4))+1," "),ROWS(G$1:G48))),"")} | H50: {=IFERROR(INDEX(Tableau7[Nom],SMALL(IF(AND($E$1=Tableau7[Chantier],ROW(Tableau7[Chantier])-MIN(ROW(BD!$P51)+1),$H$2=Tableau7[Date],ROW(Tableau7[Date])-MIN(ROW(BD!$C51))+1)," "),ROWS(H$3:H50))),"")}
G51: {=IFERROR(INDEX(Tableau7[Nom],SMALL(IF($E$1=Tableau7[Chantier],ROW(Tableau7[Chantier])-MIN(ROW(BD!$P$4))+1," "),ROWS(G$1:G49))),"")} | H51: {=IFERROR(INDEX(Tableau7[Nom],SMALL(IF(AND($E$1=Tableau7[Chantier],ROW(Tableau7[Chantier])-MIN(ROW(BD!$P52)+1),$H$2=Tableau7[Date],ROW(Tableau7[Date])-MIN(ROW(BD!$C52))+1)," "),ROWS(H$3:H51))),"")}
G52: {=IFERROR(INDEX(Tableau7[Nom],SMALL(IF($E$1=Tableau7[Chantier],ROW(Tableau7[Chantier])-MIN(ROW(BD!$P$4))+1," "),ROWS(G$1:G50))),"")} | H52: {=IFERROR(INDEX(Tableau7[Nom],SMALL(IF(AND($E$1=Tableau7[Chantier],ROW(Tableau7[Chantier])-MIN(ROW(BD!$P53)+1),$H$2=Tableau7[Date],ROW(Tableau7[Date])-MIN(ROW(BD!$C53))+1)," "),ROWS(H$3:H52))),"")}
G53: {=IFERROR(INDEX(Tableau7[Nom],SMALL(IF($E$1=Tableau7[Chantier],ROW(Tableau7[Chantier])-MIN(ROW(BD!$P$4))+1," "),ROWS(G$1:G51))),"")} | H53: {=IFERROR(INDEX(Tableau7[Nom],SMALL(IF(AND($E$1=Tableau7[Chantier],ROW(Tableau7[Chantier])-MIN(ROW(BD!$P54)+1),$H$2=Tableau7[Date],ROW(Tableau7[Date])-MIN(ROW(BD!$C54))+1)," "),ROWS(H$3:H53))),"")}
G54: {=IFERROR(INDEX(Tableau7[Nom],SMALL(IF($E$1=Tableau7[Chantier],ROW(Tableau7[Chantier])-MIN(ROW(BD!$P$4))+1," "),ROWS(G$1:G52))),"")} | H54: {=IFERROR(INDEX(Tableau7[Nom],SMALL(IF(AND($E$1=Tableau7[Chantier],ROW(Tableau7[Chantier])-MIN(ROW(BD!$P55)+1),$H$2=Tableau7[Date],ROW(Tableau7[Date])-MIN(ROW(BD!$C55))+1)," "),ROWS(H$3:H54))),"")}
G55: {=IFERROR(INDEX(Tableau7[Nom],SMALL(IF($E$1=Tableau7[Chantier],ROW(Tableau7[Chantier])-MIN(ROW(BD!$P$4))+1," "),ROWS(G$1:G53))),"")} | H55: {=IFERROR(INDEX(Tableau7[Nom],SMALL(IF(AND($E$1=Tableau7[Chantier],ROW(Tableau7[Chantier])-MIN(ROW(BD!$P56)+1),$H$2=Tableau7[Date],ROW(Tableau7[Date])-MIN(ROW(BD!$C56))+1)," "),ROWS(H$3:H55))),"")}
G56: {=IFERROR(INDEX(Tableau7[Nom],SMALL(IF($E$1=Tableau7[Chantier],ROW(Tableau7[Chantier])-MIN(ROW(BD!$P$4))+1," "),ROWS(G$1:G54))),"")} | H56: {=IFERROR(INDEX(Tableau7[Nom],SMALL(IF(AND($E$1=Tableau7[Chantier],ROW(Tableau7[Chantier])-MIN(ROW(BD!$P57)+1),$H$2=Tableau7[Date],ROW(Tableau7[Date])-MIN(ROW(BD!$C57))+1)," "),ROWS(H$3:H56))),"")}
G57: {=IFERROR(INDEX(Tableau7[Nom],SMALL(IF($E$1=Tableau7[Chantier],ROW(Tableau7[Chantier])-MIN(ROW(BD!$P$4))+1," "),ROWS(G$1:G55))),"")} | H57: {=IFERROR(INDEX(Tableau7[Nom],SMALL(IF(AND($E$1=Tableau7[Chantier],ROW(Tableau7[Chantier])-MIN(ROW(BD!$P58)+1),$H$2=Tableau7[Date],ROW(Tableau7[Date])-MIN(ROW(BD!$C58))+1)," "),ROWS(H$3:H57))),"")}
G58: {=IFERROR(INDEX(Tableau7[Nom],SMALL(IF($E$1=Tableau7[Chantier],ROW(Tableau7[Chantier])-MIN(ROW(BD!$P$4))+1," "),ROWS(G$1:G56))),"")} | H58: {=IFERROR(INDEX(Tableau7[Nom],SMALL(IF(AND($E$1=Tableau7[Chantier],ROW(Tableau7[Chantier])-MIN(ROW(BD!$P59)+1),$H$2=Tableau7[Date],ROW(Tableau7[Date])-MIN(ROW(BD!$C59))+1)," "),ROWS(H$3:H58))),"")}
G59: {=IFERROR(INDEX(Tableau7[Nom],SMALL(IF($E$1=Tableau7[Chantier],ROW(Tableau7[Chantier])-MIN(ROW(BD!$P$4))+1," "),ROWS(G$1:G57))),"")} | H59: {=IFERROR(INDEX(Tableau7[Nom],SMALL(IF(AND($E$1=Tableau7[Chantier],ROW(Tableau7[Chantier])-MIN(ROW(BD!$P60)+1),$H$2=Tableau7[Date],ROW(Tableau7[Date])-MIN(ROW(BD!$C60))+1)," "),ROWS(H$3:H59))),"")}
G60: {=IFERROR(INDEX(Tableau7[Nom],SMALL(IF($E$1=Tableau7[Chantier],ROW(Tableau7[Chantier])-MIN(ROW(BD!$P$4))+1," "),ROWS(G$1:G58))),"")} | H60: {=IFERROR(INDEX(Tableau7[Nom],SMALL(IF(AND($E$1=Tableau7[Chantier],ROW(Tableau7[Chantier])-MIN(ROW(BD!$P61)+1),$H$2=Tableau7[Date],ROW(Tableau7[Date])-MIN(ROW(BD!$C61))+1)," "),ROWS(H$3:H60))),"")}
... G156: {=IFERROR(INDEX(Tableau7[Nom],SMALL(IF($E$1=Tableau7[Chantier],ROW(Tableau7[Chantier])-MIN(ROW(BD!$P$4))+1," "),ROWS(G$1:G154))),"")} | H156: {=IFERROR(INDEX(Tableau7[Nom],SMALL(IF(AND($E$1=Tableau7[Chantier],ROW(Tableau7[Chantier])-MIN(ROW(BD!$P157)+1),$H$2=Tableau7[Date],ROW(Tableau7[Date])-MIN(ROW(BD!$C157))+1)," "),ROWS(H$3:H156))),"")}
H157: {=IFERROR(INDEX(Tableau7[Nom],SMALL(IF(AND($E$1=Tableau7[Chantier],ROW(Tableau7[Chantier])-MIN(ROW(BD!$P158)+1),$H$2=Tableau7[Date],ROW(Tableau7[Date])-MIN(ROW(BD!$C158))+1)," "),ROWS(H$3:H157))),"")}
H158: {=IFERROR(INDEX(Tableau7[Nom],SMALL(IF(AND($E$1=Tableau7[Chantier],ROW(Tableau7[Chantier])-MIN(ROW(BD!$P159)+1),$H$2=Tableau7[Date],ROW(Tableau7[Date])-MIN(ROW(BD!$C159))+1)," "),ROWS(H$3:H158))),"")}
H159: {=IFERROR(INDEX(Tableau7[Nom],SMALL(IF(AND($E$1=Tableau7[Chantier],ROW(Tableau7[Chantier])-MIN(ROW(BD!$P160)+1),$H$2=Tableau7[Date],ROW(Tableau7[Date])-MIN(ROW(BD!$C160))+1)," "),ROWS(H$3:H159))),"")}
H160: {=IFERROR(INDEX(Tableau7[Nom],SMALL(IF(AND($E$1=Tableau7[Chantier],ROW(Tableau7[Chantier])-MIN(ROW(BD!$P161)+1),$H$2=Tableau7[Date],ROW(Tableau7[Date])-MIN(ROW(BD!$C161))+1)," "),ROWS(H$3:H160))),"")}
H161: {=IFERROR(INDEX(Tableau7[Nom],SMALL(IF(AND($E$1=Tableau7[Chantier],ROW(Tableau7[Chantier])-MIN(ROW(BD!$P162)+1),$H$2=Tableau7[Date],ROW(Tableau7[Date])-MIN(ROW(BD!$C162))+1)," "),ROWS(H$3:H161))),"")}
H162: {=IFERROR(INDEX(Tableau7[Nom],SMALL(IF(AND($E$1=Tableau7[Chantier],ROW(Tableau7[Chantier])-MIN(ROW(BD!$P163)+1),$H$2=Tableau7[Date],ROW(Tableau7[Date])-MIN(ROW(BD!$C163))+1)," "),ROWS(H$3:H162))),"")}
H163: {=IFERROR(INDEX(Tableau7[Nom],SMALL(IF(AND($E$1=Tableau7[Chantier],ROW(Tableau7[Chantier])-MIN(ROW(BD!$P164)+1),$H$2=Tableau7[Date],ROW(Tableau7[Date])-MIN(ROW(BD!$C164))+1)," "),ROWS(H$3:H163))),"")}
H164: {=IFERROR(INDEX(Tableau7[Nom],SMALL(IF(AND($E$1=Tableau7[Chantier],ROW(Tableau7[Chantier])-MIN(ROW(BD!$P165)+1),$H$2=Tableau7[Date],ROW(Tableau7[Date])-MIN(ROW(BD!$C165))+1)," "),ROWS(H$3:H164))),"")}
H165: {=IFERROR(INDEX(Tableau7[Nom],SMALL(IF(AND($E$1=Tableau7[Chantier],ROW(Tableau7[Chantier])-MIN(ROW(BD!$P166)+1),$H$2=Tableau7[Date],ROW(Tableau7[Date])-MIN(ROW(BD!$C166))+1)," "),ROWS(H$3:H165))),"")}
H166: {=IFERROR(INDEX(Tableau7[Nom],SMALL(IF(AND($E$1=Tableau7[Chantier],ROW(Tableau7[Chantier])-MIN(ROW(BD!$P167)+1),$H$2=Tableau7[Date],ROW(Tableau7[Date])-MIN(ROW(BD!$C167))+1)," "),ROWS(H$3:H166))),"")}
H167: {=IFERROR(INDEX(Tableau7[Nom],SMALL(IF(AND($E$1=Tableau7[Chantier],ROW(Tableau7[Chantier])-MIN(ROW(BD!$P168)+1),$H$2=Tableau7[Date],ROW(Tableau7[Date])-MIN(ROW(BD!$C168))+1)," "),ROWS(H$3:H167))),"")}
H168: {=IFERROR(INDEX(Tableau7[Nom],SMALL(IF(AND($E$1=Tableau7[Chantier],ROW(Tableau7[Chantier])-MIN(ROW(BD!$P169)+1),$H$2=Tableau7[Date],ROW(Tableau7[Date])-MIN(ROW(BD!$C169))+1)," "),ROWS(H$3:H168))),"")}
... H1000: {=IFERROR(INDEX(Tableau7[Nom],SMALL(IF(AND($E$1=Tableau7[Chantier],ROW(Tableau7[Chantier])-MIN(ROW(BD!$P1001)+1),$H$2=Tableau7[Date],ROW(Tableau7[Date])-MIN(ROW(BD!$C1001))+1)," "),ROWS(H$3:H1000))),"")}
